{"text_format":"1","workbook":"xlsx","n_sheets":3,"sheets":["Analysis (2)","Synthesis","Analysis"],"not_rendered":{"charts":3,"images":5,"macros":1,"external_links":1,"defined_names":2,"comments":2,"pivot_tables":0},"unopened":[],"bounds":{"document_bytes":16777216,"sheet_cells":100000,"rows_first":2000,"rows_last":500,"rows_between":2000,"halvings":0,"cell_chars":16384,"cell_head_chars":4096},"cells_cut":0,"cells_raw":0,"read":"whole","date_system":"1900"}

{"sheet":"Analysis (2)","index":0,"n_rows":27,"n_cols":21,"rows_kept":27,"cut":false,"hidden":false,"merged":[]}
[null,null,null,null,null,null,null,null,null,null,null,null,{"$f":"PI()/180","v":1.7453292519943295E-2}]
["b2","-Z1",null,"R1",null,"-Z2",null,"R2"]
[{"$f":"A4*0.5","v":273},{"$f":"VLOOKUP(A3,Synthesis!$A$8:$L$728,5)","v":-63.020293968845046},{"$f":"VLOOKUP(A3,Synthesis!$A$8:$L$728,6)","v":185.68766557589029},{"$f":"VLOOKUP($A$3,Synthesis!$A$8:$L$728,7)","v":195.04672482329929},{"$f":"VLOOKUP($A$3,Synthesis!$A$8:$L$728,8)","v":230.30965304779406},{"$f":"VLOOKUP($A$3,Synthesis!$A$8:$L$728,9)","v":136.96544621548631},{"$f":"VLOOKUP($A$3,Synthesis!$A$8:$L$728,10)","v":-219.86374220466462},{"$f":"VLOOKUP($A$3,Synthesis!$A$8:$L$728,11)","v":395.03246500763066},{"$f":"VLOOKUP($A$3,Synthesis!$A$8:$L$728,12)","v":-175.24175473276085}]
[546,1,null,null,null,null,null,null,null,null,null,null,null,null,null,null,null,null,50,1]
[{"$f":"A6*0.5","v":72},{"$f":"VLOOKUP(A5,Synthesis!$A$8:$L$728,5)","v":390.3441402911352},{"$f":"VLOOKUP(A5,Synthesis!$A$8:$L$728,6)","v":-238.04512691387202},{"$f":"VLOOKUP($A$5,Synthesis!$A$8:$L$728,7)","v":283.88685222045916},{"$f":"VLOOKUP($A$5,Synthesis!$A$8:$L$728,8)","v":49.593065133245318},{"$f":"VLOOKUP($A$5,Synthesis!$A$8:$L$728,9)","v":-59.898497281735963},{"$f":"VLOOKUP($A$5,Synthesis!$A$8:$L$728,10)","v":-152.89403506758694},{"$f":"VLOOKUP($A$5,Synthesis!$A$8:$L$728,11)","v":-166.355785352412},{"$f":"VLOOKUP($A$5,Synthesis!$A$8:$L$728,12)","v":134.7441569795304},null,null,null,null,null,"f-pi()/2",{"$f":"P6*180/PI()-90","v":18.746631391339662},null,null,null,0,{"$f":"+S4","v":50}]
[144,2,null,null,null,null,null,null,null,null,null,null,{"$f":"360+M9","v":554.81168197417105},null,"f",{"$f":"ATAN2(H12,I12)","v":1.8979867682314993},null,null,null,0,0]
[null,null,null,"Selected Values",null,"Z",null,"R",null,null,"g3",{"$f":"ACOS((L13^2+L9^2-L8^2)/(2*L9*L13))","v":0.31797048589299082},{"$f":"L7/D_R","v":18.218366851392453},null,null,null,null,null,null,{"$f":"+S4","v":50},0]
[null,-60.953650056469662,null,null,null,{"$f":"IF($B$4=1,B3,F3)","v":-63.020293968845046},{"$f":"IF($B$4=1,C3,G3)","v":185.68766557589029},195.04672482329929,230.30965304779406,null,"c3",{"$f":"SQRT(H13^2+I13^2)","v":164.20845269308958},null,null,null,{"$f":"SQRT(O12^2+O12^2)","v":94.539673053336529}]
[null,null,null,null,null,{"$f":"IF($B$6=1,B5,F5)","v":-59.898497281735963},{"$f":"IF($B$6=1,C5,G5)","v":-152.89403506758694},-166.355785352412,134.7441569795304,null,"b3",{"$f":"SQRT(H12^2+I12^2)","v":196.09045514492365},{"$f":"360+M10","v":194.81168197417108},null,null,null,null,null,null,2]
[null,null,null,null,null,null,null,"X","Y",null,"alpha",{"$f":"ATAN2(H14-H11,I14-I11)","v":-2.8830800353822141},{"$f":"M11/D_R","v":-165.18831802582892},null,"X","Y",null,null,null,{"$f":"+T11-S4*SIN([1]Synthesis!E8)","v":75},{"$f":"+U11+S4*COS([1]Synthesis!E8)","v":243.30127018922195}]
[null,null,null,null,null,null,"A0",{"$f":"H8","v":195.04672482329929},{"$f":"I8","v":230.30965304779406},null,"a1",{"$f":"SQRT((H11-H14)^2+(I11-I14)^2)","v":373.8242078839711},{"$f":"ATAN2((H14-H11),(I14-I11))","v":-2.8830800353822141},"A0",{"$f":"H11","v":195.04672482329929},{"$f":"I11","v":230.30965304779406},null,null,null,{"$f":"+[1]Synthesis!B8","v":100},{"$f":"+[1]Synthesis!C8","v":200}]
[null,null,null,null,null,null,"A",{"$f":"F8","v":-63.020293968845046},{"$f":"G8","v":185.68766557589029},null,"a2",{"$f":"SQRT((H12-H11)^2+(I12-I11)^2)","v":261.89636873047266},null,"A",{"$f":"O11+L12*COS(B17+L10)","v":-66.849643907173373},{"$f":"P11+L12*SIN(B17+L10)","v":230.30965304779409},null,null,null,{"$f":"+T11+S4*COS([1]Synthesis!E8)","v":143.30127018922195},{"$f":"+U11+S4*SIN([1]Synthesis!E8)","v":225}]
[null,null,null,null,null,null,"B",{"$f":"F9","v":-59.898497281735963},{"$f":"G9","v":-152.89403506758694},null,"a3",{"$f":"SQRT((H12-H13)^2+(I12-I13)^2)","v":338.59609215876202},null,"B",{"$f":"O14+L14*COS(I17)","v":42.022348944567824},{"$f":"P14+L14*SIN(I17)","v":-90.305697173737315},{"$f":"O13","v":42.022348944567824},{"$f":"P13","v":-90.305697173737315}]
[null,null,null,null,null,null,"B0",{"$f":"H9","v":-166.355785352412},{"$f":"I9","v":134.7441569795304},null,"a4",{"$f":"SQRT((H13-H14)^2+(I13-I14)^2)","v":306.70651070281707},{"$f":"ATAN2((H13-H14),(I13-I14))","v":-1.2163211342655262},"B0",{"$f":"H14","v":-166.355785352412},{"$f":"I14","v":134.7441569795304},{"$f":"O15","v":51.09059603953142},{"$f":"P15","v":73.65217189781194},null,3]
[null,null,null,null,null,null,null,null,null,"q13",null,null,{"$f":"M14/D_R","v":-69.690067525979785},"P",{"$f":"O12+L9*COS(J16+L7)","v":51.09059603953142},{"$f":"P12+L9*SIN(J16+L7)","v":73.65217189781194},{"$f":"O12","v":-66.849643907173373},{"$f":"P12","v":230.30965304779409},null,{"$f":"+T16-S4*SIN([1]Synthesis!E7)","v":200},{"$f":"+U16+S4*COS([1]Synthesis!E7)","v":350}]
["q12(degrees)","radians","Xa","Ya","s","f","m","y","q14",{"$f":"I17-G17","v":-7.5266268352595453},null,null,null,"C",{"$f":"O15+S4*COS(J21*PI()/180-P5*PI()/180-PI())","v":35.450818961426613},{"$f":"P15+S4*SIN(J21*PI()/180-P5*PI()/180-PI())","v":121.14319602813774},null,null,null,{"$f":"+[1]Synthesis!B7","v":200},{"$f":"+[1]Synthesis!C7","v":300}]
[{"$f":"MOD(A18*0.01,360)","v":180},{"$f":"A17*PI()/180-$L$10","v":6.0246726889720073},{"$f":"-L11+L12*COS(B17)","v":-120.63031870043727},{"$f":"L12*SIN(B17)","v":-66.951941228944975},{"$f":"SQRT(C17^2+D17^2)","v":137.96461946489458},{"$f":"ATAN2(C17,D17)","v":-2.6349053777339333},{"$f":"ACOS((L13^2+L14^2-E17^2)/(2*L13*L14))","v":0.41959752032267295},{"$f":"ACOS((L14^2+E17^2-L13^2)/(2*L14*E17))","v":1.5890439018207243},{"$f":"F17-H17+L10","v":-7.107029314936872},{"$f":"J16*180/PI()","v":-431.24395163027947},null,null,null,"E",{"$f":"O18+50*COS(J21*PI()/180-P5*PI()/180-PI())","v":59.196331026589512},{"$f":"P18+50*SIN(J21*PI()/180-P5*PI()/180-PI())","v":128.96308456719015},null,null,null,{"$f":"+T16+S4*COS([1]Synthesis!E7)","v":250},{"$f":"+U16+S4*SIN([1]Synthesis!E7)","v":300}]
[18000,null,null,null,null,null,null,null,null,{"$f":"J17+360","v":-71.243951630279469},null,null,null,"D",{"$f":"O15+25*COS(J21*PI()/180-P6-PI())","v":74.836108104694318},{"$f":"P15+25*SIN(J21*PI()/180-P6-PI())","v":81.472060436864339}]
[null,null,null,null,null,null,null,null,null,{"$f":"J18+360","v":288.75604836972053},null,null,null,"P",{"$f":"O15","v":51.09059603953142},{"$f":"P15","v":73.65217189781194},null,null,null,4]
[null,null,null,null,null,null,null,null,null,null,null,null,null,null,{"$f":"J21*PI()/180-P6-PI()","v":0.31813484317132623},null,null,null,null,{"$f":"+T21-S4*SIN([1]Synthesis!E9)","v":343.30127018922195},{"$f":"+U21+S4*COS([1]Synthesis!E9)","v":225}]
[null,null,null,null,null,null,null,null,null,{"$f":"J19+L7*180/PI()","v":306.97441522111296},null,null,null,"alpha234",{"$f":"O20*180/PI()","v":18.22778382977333},null,null,null,null,{"$f":"+[1]Synthesis!B9","v":300},{"$f":"+[1]Synthesis!C9","v":200}]
[null,null,null,null,null,null,null,null,null,null,null,null,null,null,null,null,null,null,null,{"$f":"+T21+S4*COS([1]Synthesis!E9)","v":325},{"$f":"+U21+S4*SIN([1]Synthesis!E9)","v":156.69872981077808}]
[]
[null,null,null,null,null,null,null,null,null,null,null,null,"obstacle",120,0]
[null,null,null,null,null,null,null,null,null,null,null,null,null,120,200]
[null,null,null,null,null,null,null,null,null,null,null,null,null,270,200]
[null,null,null,null,null,null,null,null,null,null,null,null,null,270,0]

{"sheet":"Synthesis","index":1,"n_rows":728,"n_cols":22,"rows_kept":728,"cut":false,"hidden":false,"merged":[]}
[]
[null,null,null,null,null,null,null,null,null,null,"b2","(radians)","b41","b42","-Z1x","-Z1y","R1x","R1y","-Z2x","-Z2y","R2x","R12y"]
["d3",200,300,"a3",0,0,null,null,null,null,15,{"$f":"K3*PI()/180","v":0.26179938779914941},{"$f":"Burmester(B3:C3,B4:C4,B5:C5,E3,E4,E5,L3)","v":5.4369034902695876},0.21663777125204298,{"$f":"ThreePosition_Basic2(E3,E5,B3:C3,B5:C5,L3,M3)","v":1247.3964286397029},-817.42819182766232,208.03331173092965,92.147219444852681,{"$f":"ThreePosition_Basic2(E3,E5,B3:C3,B5:C5,L3,N3)","v":25.707448341579557},-133.86443325253501,-1013.6556685671936,775.71097801997996]
["d2",100,200,"a2",0.52359877600000004,30]
["d4",300,200,"a4",-1.047197551,60]
[]
["b2",null,"b41","b42","-Z1",null,"R1",null,"-Z2",null,"R2"]
[0,{"$f":"A8*PI()/180","v":0},{"$f":"Burmester($B$3:$C$3,$B$4:$C$4,$B$5:$C$5,$E$3,$E$4,$E$5,B8)","v":5.2359877561795862},6.3180372721346664E-16,{"$f":"ThreePosition_Basic2($E$3,$E$5,$B$3:$C$3,$B$5:$C$5,B8,C8)","v":{"$error":"#VALUE!"}},{"$error":"#VALUE!"},{"$error":"#VALUE!"},{"$error":"#VALUE!"},{"$f":"ThreePosition_Basic2($E$3,$E$5,$B$3:$C$3,$B$5:$C$5,B8,D8)","v":-8374471.4511781354},-12561707.176767202,-2.1420194314296859E+22,-1.0591140122101253E+22]
[0.5,{"$f":"A9*PI()/180","v":8.7266462599716477E-3},{"$f":"Burmester($B$3:$C$3,$B$4:$C$4,$B$5:$C$5,$E$3,$E$4,$E$5,B9)","v":5.2433487235420611},6.5554831685672877E-3,{"$f":"ThreePosition_Basic2($E$3,$E$5,$B$3:$C$3,$B$5:$C$5,B9,C9)","v":34465.842205779474},-22955.256737204672,188.59266436294274,112.90962373934235,{"$f":"ThreePosition_Basic2($E$3,$E$5,$B$3:$C$3,$B$5:$C$5,B9,D9)","v":52.935212390315563},-142.08245957128776,-34224.314329026216,22926.083901372727]
[1,1.7453292519943295E-2,{"$f":"Burmester($B$3:$C$3,$B$4:$C$4,$B$5:$C$5,$E$3,$E$4,$E$5,B10)","v":5.2506634306873021},1.3156170890675065E-2,{"$f":"ThreePosition_Basic2($E$3,$E$5,$B$3:$C$3,$B$5:$C$5,B10,C10)","v":17277.504754538168},-11496.716910803874,189.20723514161364,112.14810212706652,{"$f":"ThreePosition_Basic2($E$3,$E$5,$B$3:$C$3,$B$5:$C$5,B10,D10)","v":52.02131265175003},-141.73300022690555,-17036.276206744806,11467.132012704034]
[1.5,2.6179938779914941E-2,{"$f":"Burmester($B$3:$C$3,$B$4:$C$4,$B$5:$C$5,$E$3,$E$4,$E$5,B11)","v":5.2579318496995793},1.9802219091760925E-2,{"$f":"ThreePosition_Basic2($E$3,$E$5,$B$3:$C$3,$B$5:$C$5,B11,C11)","v":11548.328245607958},-7677.6118099409441,189.82684893749683,111.38912117264408,{"$f":"ThreePosition_Basic2($E$3,$E$5,$B$3:$C$3,$B$5:$C$5,B11,D11)","v":51.104564942991679},-141.38755504556664,-11307.396831727468,7647.6133760680214]
[2,3.4906585039886591E-2,{"$f":"Burmester($B$3:$C$3,$B$4:$C$4,$B$5:$C$5,$E$3,$E$4,$E$5,B12)","v":5.2651539642237157},2.6493772070240215E-2,{"$f":"ThreePosition_Basic2($E$3,$E$5,$B$3:$C$3,$B$5:$C$5,B12,C12)","v":8683.945638197245},-5768.3633977279233,190.45139358331471,110.63276534804663,{"$f":"ThreePosition_Basic2($E$3,$E$5,$B$3:$C$3,$B$5:$C$5,B12,D12)","v":50.185081028962209},-141.04620679811023,-8443.3091635849687,5737.9499562778601]
[2.5,4.3633231299858237E-2,{"$f":"Burmester($B$3:$C$3,$B$4:$C$4,$B$5:$C$5,$E$3,$E$4,$E$5,B13)","v":5.2723297695742755},3.323096239748688E-2,{"$f":"ThreePosition_Basic2($E$3,$E$5,$B$3:$C$3,$B$5:$C$5,B13,C13)","v":6965.4834318177172},-4623.0559987931319,191.08075564499904,109.8791186553135,{"$f":"ThreePosition_Basic2($E$3,$E$5,$B$3:$C$3,$B$5:$C$5,B13,D13)","v":49.262974091542951},-140.7090379014283,-6725.1397020811755,4592.2260795470174]
[3,5.2359877559829883E-2,{"$f":"Burmester($B$3:$C$3,$B$4:$C$4,$B$5:$C$5,$E$3,$E$4,$E$5,B14)","v":5.2794592728298486},4.0013910832708562E-2,{"$f":"ThreePosition_Basic2($E$3,$E$5,$B$3:$C$3,$B$5:$C$5,B14,C14)","v":5819.9837150584735},-3859.7176651404689,191.71482050462055,109.12826456209086,{"$f":"ThreePosition_Basic2($E$3,$E$5,$B$3:$C$3,$B$5:$C$5,B14,D14)","v":48.338358647803005},-140.37613035220849,-5579.93053590605,3828.4697993503514]
[3.5,6.1086523819801536E-2,{"$f":"Burmester($B$3:$C$3,$B$4:$C$4,$B$5:$C$5,$E$3,$E$4,$E$5,B15)","v":5.2865424929121518},4.6842726253006478E-2,{"$f":"ThreePosition_Basic2($E$3,$E$5,$B$3:$C$3,$B$5:$C$5,B15,C15)","v":5001.8930297702282},-3314.6460856123344,192.35347244553577,108.38028593745321,{"$f":"ThreePosition_Basic2($E$3,$E$5,$B$3:$C$3,$B$5:$C$5,B15,D15)","v":47.411350465961497},-140.04756566098433,-4762.1282068587307,3282.9788058888034]
[4,6.9813170079773182E-2,{"$f":"Burmester($B$3:$C$3,$B$4:$C$4,$B$5:$C$5,$E$3,$E$4,$E$5,B16)","v":5.2935794606497248},5.3717505598835515E-2,{"$f":"ThreePosition_Basic2($E$3,$E$5,$B$3:$C$3,$B$5:$C$5,B16,C16)","v":4388.4345871768564},-2905.9900633033603,192.99659473951488,107.63526498819647,{"$f":"ThreePosition_Basic2($E$3,$E$5,$B$3:$C$3,$B$5:$C$5,B16,D16)","v":46.482066479394035},-139.72342478664581,-4148.9559259579473,2873.9019035049109]
[4.5,7.8539816339744828E-2,{"$f":"Burmester($B$3:$C$3,$B$4:$C$4,$B$5:$C$5,$E$3,$E$4,$E$5,B17)","v":5.3005702188260466},6.0638333835044356E-2,{"$f":"ThreePosition_Basic2($E$3,$E$5,$B$3:$C$3,$B$5:$C$5,B17,C17)","v":3911.3990066392325},-2588.2766747399455,193.64406973567111,106.89328319576452,{"$f":"ThreePosition_Basic2($E$3,$E$5,$B$3:$C$3,$B$5:$C$5,B17,D17)","v":45.550624698863096},-139.40378807157245,-3672.2043122046985,2555.7661698641377]
[5,8.7266462599716474E-2,{"$f":"Burmester($B$3:$C$3,$B$4:$C$4,$B$5:$C$5,$E$3,$E$4,$E$5,B18)","v":5.3075148222119166},6.7605283927645185E-2,{"$f":"ThreePosition_Basic2($E$3,$E$5,$B$3:$C$3,$B$5:$C$5,B18,C18)","v":3529.860611215714},-2334.2221335892596,194.2957789510333,106.15442125386426,{"$f":"ThreePosition_Basic2($E$3,$E$5,$B$3:$C$3,$B$5:$C$5,B18,D18)","v":44.617144123088494},-139.08873517752417,-3290.9476881415922,2301.2878196655997]
[5.5,9.599310885968812E-2,{"$f":"Burmester($B$3:$C$3,$B$4:$C$4,$B$5:$C$5,$E$3,$E$4,$E$5,B19)","v":5.3144133375820442},7.4618416836383539E-2,{"$f":"ThreePosition_Basic2($E$3,$E$5,$B$3:$C$3,$B$5:$C$5,B19,C19)","v":3217.7757438767144},-2126.4640014690881,194.95160316248666,105.41875900706236,{"$f":"ThreePosition_Basic2($E$3,$E$5,$B$3:$C$3,$B$5:$C$5,B19,D19)","v":43.681744647956485},-138.77834502244866,-2979.1423960662714,2093.1044154537017]
[6,0.10471975511965977,{"$f":"Burmester($B$3:$C$3,$B$4:$C$4,$B$5:$C$5,$E$3,$E$4,$E$5,B20)","v":5.3212658437157847},8.1677781523151152E-2,{"$f":"ThreePosition_Basic2($E$3,$E$5,$B$3:$C$3,$B$5:$C$5,B20,C20)","v":2957.7819256591742},-1953.427293382442,195.61142249994236,104.6863753903815,{"$f":"ThreePosition_Basic2($E$3,$E$5,$B$3:$C$3,$B$5:$C$5,B20,D20)","v":42.744546974541173},-138.47269571833996,-2719.4259561846907,1919.6409730544835]
[6.5,0.11344640137963143,{"$f":"Burmester($B$3:$C$3,$B$4:$C$4,$B$5:$C$5,$E$3,$E$4,$E$5,B21)","v":5.328072431382048},8.8783414976231989E-2,{"$f":"ThreePosition_Basic2($E$3,$E$5,$B$3:$C$3,$B$5:$C$5,B21,C21)","v":2737.8589408705866},-1807.0985345166598,196.27511654045702,103.95734837009354,{"$f":"ThreePosition_Basic2($E$3,$E$5,$B$3:$C$3,$B$5:$C$5,B21,D21)","v":41.805672516147169},-138.17186451029474,-2499.7781518139823,1772.8840183764587]
[7,0.12217304763960307,{"$f":"Burmester($B$3:$C$3,$B$4:$C$4,$B$5:$C$5,$E$3,$E$4,$E$5,B22)","v":5.3348332033084338},9.5935342250320341E-2,{"$f":"ThreePosition_Basic2($E$3,$E$5,$B$3:$C$3,$B$5:$C$5,B22,C22)","v":2549.4208858181009},-1681.7537927241174,196.9425644031503,103.23175488585025,{"$f":"ThreePosition_Basic2($E$3,$E$5,$B$3:$C$3,$B$5:$C$5,B22,D22)","v":40.865243304596241},-137.87592771689998,-2311.6130781103543,1647.1096198930677]
[7.5,0.1308996938995747,{"$f":"Burmester($B$3:$C$3,$B$4:$C$4,$B$5:$C$5,$E$3,$E$4,$E$5,B23)","v":5.3415482741347127},0.10313357652220104,{"$f":"ThreePosition_Basic2($E$3,$E$5,$B$3:$C$3,$B$5:$C$5,B23,C23)","v":2386.1713980844575},-1573.1954980322666,197.61364484462638,102.50967079428551,{"$f":"ThreePosition_Basic2($E$3,$E$5,$B$3:$C$3,$B$5:$C$5,B23,D23)","v":39.923381895981933},-137.58496067209333,-2148.6343713438491,1538.1202081544589]
[8,0.13962634015954636,{"$f":"Burmester($B$3:$C$3,$B$4:$C$4,$B$5:$C$5,$E$3,$E$4,$E$5,B24)","v":5.3482177703507965},0.1103781191619311,{"$f":"ThreePosition_Basic2($E$3,$E$5,$B$3:$C$3,$B$5:$C$5,B24,C24)","v":2243.3881748615468},-1478.2754548570072,198.28823635475533,101.79117081418667,{"$f":"ThreePosition_Basic2($E$3,$E$5,$B$3:$C$3,$B$5:$C$5,B24,D24)","v":38.980211276121366},-137.29903766861096,-2006.1197272306702,1442.7675880025829]
[8.5,0.14835298641951802,{"$f":"Burmester($B$3:$C$3,$B$4:$C$4,$B$5:$C$5,$E$3,$E$4,$E$5,B25)","v":5.3548418302194118},0.11766895981933011,{"$f":"ThreePosition_Basic2($E$3,$E$5,$B$3:$C$3,$B$5:$C$5,B25,C25)","v":2117.4600142589384},-1394.5862028642068,198.96621725253954,101.0763284733921,{"$f":"ThreePosition_Basic2($E$3,$E$5,$B$3:$C$3,$B$5:$C$5,B25,D25)","v":38.035854765892893},-137.01823190315804,-1880.4579422405059,1358.6442994344409]
[9,0.15707963267948966,{"$f":"Burmester($B$3:$C$3,$B$4:$C$4,$B$5:$C$5,$E$3,$E$4,$E$5,B26)","v":5.3614206036837286},0.12500607652551513,{"$f":"ThreePosition_Basic2($E$3,$E$5,$B$3:$C$3,$B$5:$C$5,B26,C26)","v":2005.5781762080771},-1320.2552575599484,199.64746578187078,100.36521605752273,{"$f":"ThreePosition_Basic2($E$3,$E$5,$B$3:$C$3,$B$5:$C$5,B26,D26)","v":37.090435926719941},-136.74261542341142,-1768.8402744994864,1283.8778581940596]
[9.5,0.16580627893946129,{"$f":"Burmester($B$3:$C$3,$B$4:$C$4,$B$5:$C$5,$E$3,$E$4,$E$5,B27)","v":5.3679542522602315},0.13238943580919599,{"$f":"ThreePosition_Basic2($E$3,$E$5,$B$3:$C$3,$B$5:$C$5,B27,C27)","v":1905.5252083739538},-1253.8043275506811,200.33186020694893,99.657904560654742,{"$f":"ThreePosition_Basic2($E$3,$E$5,$B$3:$C$3,$B$5:$C$5,B27,D27)","v":36.144078466391584},-136.47225907696273,-1669.0492697006132,1216.9899730343732]
[10,0.17453292519943295,{"$f":"Burmester($B$3:$C$3,$B$4:$C$4,$B$5:$C$5,$E$3,$E$4,$E$5,B28)","v":5.3744429489171672},0.13981899282739721,{"$f":"ThreePosition_Basic2($E$3,$E$5,$B$3:$C$3,$B$5:$C$5,B28,C28)","v":1815.5271243213735},-1194.0507666381227,201.01927890717275,98.954463638011703,{"$f":"ThreePosition_Basic2($E$3,$E$5,$B$3:$C$3,$B$5:$C$5,B28,D28)","v":35.19690614542543},-136.20723246231319,-1579.3109392687754,1156.7979978138212]
[10.5,0.18325957145940461,{"$f":"Burmester($B$3:$C$3,$B$4:$C$4,$B$5:$C$5,$E$3,$E$4,$E$5,B29)","v":5.3808868779389787},0.14729469151020314,{"$f":"ThreePosition_Basic2($E$3,$E$5,$B$3:$C$3,$B$5:$C$5,B29,C29)","v":1734.1478165171679},-1140.0371824697647,201.70960047124026,98.254961560852735,{"$f":"ThreePosition_Basic2($E$3,$E$5,$B$3:$C$3,$B$5:$C$5,B29,D29)","v":34.249042684244245},-135.94760388200504,-1498.1891733616835,1102.3445401486124]
[11,0.19198621771937624,{"$f":"Burmester($B$3:$C$3,$B$4:$C$4,$B$5:$C$5,$E$3,$E$4,$E$5,B30)","v":5.3872862347770907},0.15481646471915242,{"$f":"ThreePosition_Basic2($E$3,$E$5,$B$3:$C$3,$B$5:$C$5,B30,C30)","v":1660.2122658110425},-1090.980242840285,202.4027037903179,97.559465173530953,{"$f":"ThreePosition_Basic2($E$3,$E$5,$B$3:$C$3,$B$5:$C$5,B30,D30)","v":33.300611671271533},-135.69344029798609,-1424.508950349453,1052.8462677158298]
[11.5,0.20071286397934787,{"$f":"Burmester($B$3:$C$3,$B$4:$C$4,$B$5:$C$5,$E$3,$E$4,$E$5,B31)","v":5.3936412258875537},0.16238423441877889,{"$f":"ThreePosition_Basic2($E$3,$E$5,$B$3:$C$3,$B$5:$C$5,B31,C31)","v":1592.7497832488996},-1046.2328368796832,203.09846815002265,96.868039852901802,{"$f":"ThreePosition_Basic2($E$3,$E$5,$B$3:$C$3,$B$5:$C$5,B31,D31)","v":32.351736472256732},-135.4448072892819,-1357.2995786266201,1007.6560694433031]
[12,0.20943951023931953,{"$f":"Burmester($B$3:$C$3,$B$4:$C$4,$B$5:$C$5,$E$3,$E$4,$E$5,B32)","v":5.3999520685560025},0.16999791186084623,{"$f":"ThreePosition_Basic2($E$3,$E$5,$B$3:$C$3,$B$5:$C$5,B32,C32)","v":1530.9514414544456},-1005.2556959521633,203.79677332105621,96.180749470095861,{"$f":"ThreePosition_Basic2($E$3,$E$5,$B$3:$C$3,$B$5:$C$5,B32,D32)","v":31.40254014094301},-135.20176901205107,-1295.7521279924463,966.23467641020807]
[12.5,0.21816615649929119,{"$f":"Burmester($B$3:$C$3,$B$4:$C$4,$B$5:$C$5,$E$3,$E$4,$E$5,B33)","v":5.4062189907104683},0.17765739778073675,{"$f":"ThreePosition_Basic2($E$3,$E$5,$B$3:$C$3,$B$5:$C$5,B33,C33)","v":1474.137722499388},-967.59582554598796,204.49749964828425,95.497656354747505,{"$f":"ThreePosition_Basic2($E$3,$E$5,$B$3:$C$3,$B$5:$C$5,B33,D33)","v":30.453145331307674},-134.96438816208089,-1239.187077519796,928.12909373865455]
[13,0.22689280275926285,{"$f":"Burmester($B$3:$C$3,$B$4:$C$4,$B$5:$C$5,$E$3,$E$4,$E$5,B34)","v":5.4124422307225801},0.18536258260545307,{"$f":"ThreePosition_Basic2($E$3,$E$5,$B$3:$C$3,$B$5:$C$5,B34,C34)","v":1421.7336316685928},-932.86991442528267,205.20052813809843,94.818821261713197,{"$f":"ThreePosition_Basic2($E$3,$E$5,$B$3:$C$3,$B$5:$C$5,B34,D34)","v":29.503674211536303},-134.7327259397882,-1187.0294293189581,892.95600974720764]
[13.5,0.23561944901923448,{"$f":"Burmester($B$3:$C$3,$B$4:$C$4,$B$5:$C$5,$E$3,$E$4,$E$5,B35)","v":5.4186220371977551},0.19311334667264465,{"$f":"ThreePosition_Basic2($E$3,$E$5,$B$3:$C$3,$B$5:$C$5,B35,C35)","v":1373.249341517107},-900.75143064180565,205.90574054386684,94.144303340354782,{"$f":"ThreePosition_Basic2($E$3,$E$5,$B$3:$C$3,$B$5:$C$5,B35,D35)","v":28.554248379922182},-134.50684201775763,-1138.789352593318,860.38889196440277]
[14,0.24434609527920614,{"$f":"Burmester($B$3:$C$3,$B$4:$C$4,$B$5:$C$5,$E$3,$E$4,$E$5,B36)","v":5.424758668754956},0.2009095604600733,{"$f":"ThreePosition_Basic2($E$3,$E$5,$B$3:$C$3,$B$5:$C$5,B36,C36)","v":1328.2649836455209},-870.96048269106302,206.6130194493312,93.474160106396653,{"$f":"ThreePosition_Basic2($E$3,$E$5,$B$3:$C$3,$B$5:$C$5,B36,D36)","v":27.60498878282862},-134.28679451086884,-1094.0469754133612,830.14784828659083]
[14.5,0.2530727415391778,{"$f":"Burmester($B$3:$C$3,$B$4:$C$4,$B$5:$C$5,$E$3,$E$4,$E$5,B37)","v":5.430852393796644},0.20875108482488305,{"$f":"ThreePosition_Basic2($E$3,$E$5,$B$3:$C$3,$B$5:$C$5,B37,C37)","v":1286.4185870195724},-843.25577836345997,207.32224834979388,92.808447416392596,{"$f":"ThreePosition_Basic2($E$3,$E$5,$B$3:$C$3,$B$5:$C$5,B37,D37)","v":26.656015634889396},-134.07263994902823,-1052.4403230348892,801.99158583082431]
[15,0.26179938779914941,{"$f":"Burmester($B$3:$C$3,$B$4:$C$4,$B$5:$C$5,$E$3,$E$4,$E$5,B38)","v":5.4369034902695876},0.21663777125204298,{"$f":"ThreePosition_Basic2($E$3,$E$5,$B$3:$C$3,$B$5:$C$5,B38,C38)","v":1247.3964286397029},-817.42819182766232,208.03331173092965,92.147219444852681,{"$f":"ThreePosition_Basic2($E$3,$E$5,$B$3:$C$3,$B$5:$C$5,B38,D38)","v":25.707448341579557},-133.86443325253501,-1013.6556685671936,775.71097801997996]
[15.5,0.27052603405912107,{"$f":"Burmester($B$3:$C$3,$B$4:$C$4,$B$5:$C$5,$E$3,$E$4,$E$5,B39)","v":5.442912245417145},0.2245694621113026,{"$f":"ThreePosition_Basic2($E$3,$E$5,$B$3:$C$3,$B$5:$C$5,B39,C39)","v":1210.9252518357048},-793.29557579639823,208.74609514512417,91.490528663989608,{"$f":"ThreePosition_Basic2($E$3,$E$5,$B$3:$C$3,$B$5:$C$5,B39,D39)","v":24.759405424297377},-133.66222771008549,-977.41975126628324,751.12387675030232]
[16,0.27925268031909273,{"$f":"Burmester($B$3:$C$3,$B$4:$C$4,$B$5:$C$5,$E$3,$E$4,$E$5,B40)","v":5.4488789555237185},0.23254599092200362,{"$f":"ThreePosition_Basic2($E$3,$E$5,$B$3:$C$3,$B$5:$C$5,B40,C40)","v":1176.7659436428207},-770.69854641228915,209.46048528518895,90.838425826131925,{"$f":"ThreePosition_Basic2($E$3,$E$5,$B$3:$C$3,$B$5:$C$5,B40,D40)","v":23.812004448067547},-133.46607495942484,-943.49345390956421,728.0708972789962]
[16.5,0.28797932657906439,{"$f":"Burmester($B$3:$C$3,$B$4:$C$4,$B$5:$C$5,$E$3,$E$4,$E$5,B41)","v":5.4548039256520431},0.24056718262505677,{"$f":"ThreePosition_Basic2($E$3,$E$5,$B$3:$C$3,$B$5:$C$5,B41,C41)","v":1144.7083617564683},-749.49703451862877,210.17637005534914,90.19095994878387,{"$f":"ThreePosition_Basic2($E$3,$E$5,$B$3:$C$3,$B$5:$C$5,B41,D41)","v":22.865361952000576},-133.2760249706327,-911.66662974911856,706.41196949677988]
[17,0.29670597283903605,{"$f":"Burmester($B$3:$C$3,$B$4:$C$4,$B$5:$C$5,$E$3,$E$4,$E$5,B42)","v":5.460687469373986},0.24863285386142475,{"$f":"ThreePosition_Basic2($E$3,$E$5,$B$3:$C$3,$B$5:$C$5,B42,C42)","v":1114.5670743870216},-729.56744552943167,210.89363863941003,89.548178302308884,{"$f":"ThreePosition_Basic2($E$3,$E$5,$B$3:$C$3,$B$5:$C$5,B42,D42)","v":21.919593382578608},-133.09212603203824,-881.75384236503305,686.02349779970234]
[17.5,0.30543261909900765,{"$f":"Burmester($B$3:$C$3,$B$4:$C$4,$B$5:$C$5,$E$3,$E$4,$E$5,B43)","v":5.4665299084955548},0.25674281325640341,{"$f":"ThreePosition_Basic2($E$3,$E$5,$B$3:$C$3,$B$5:$C$5,B43,C43)","v":1086.1778304339405},-710.8003061783902,211.61218156600205,88.910126400235299,{"$f":"ThreePosition_Basic2($E$3,$E$5,$B$3:$C$3,$B$5:$C$5,B43,D43)","v":20.974813029890445},-132.91442473873587,-853.59083583804795,666.79600783988963]
[18,0.31415926535897931,{"$f":"Burmester($B$3:$C$3,$B$4:$C$4,$B$5:$C$5,$E$3,$E$4,$E$5,B44)","v":5.4723315727767874},0.26489686170903692,{"$f":"ThreePosition_Basic2($E$3,$E$5,$B$3:$C$3,$B$5:$C$5,B44,C44)","v":1059.3946179720904},-693.09830347536069,212.33189077083387,88.276847992143416,{"$f":"ThreePosition_Basic2($E$3,$E$5,$B$3:$C$3,$B$5:$C$5,B44,D44)","v":20.031133966868115},-132.74296598367602,-827.03159323438842,648.63218548382815]
[18.5,0.32288591161895097,{"$f":"Burmester($B$3:$C$3,$B$4:$C$4,$B$5:$C$5,$E$3,$E$4,$E$5,B45)","v":5.4780927996472073},0.2730947926859752,{"$f":"ThreePosition_Basic2($E$3,$E$5,$B$3:$C$3,$B$5:$C$5,B45,C45)","v":1034.0871997473041},-676.37464166851544,213.05265965588455,87.64838505909745,{"$f":"ThreePosition_Basic2($E$3,$E$5,$B$3:$C$3,$B$5:$C$5,B45,D45)","v":19.088667991604634},-132.57779295129527,-801.94587209981489,631.44523377631765]
[19,0.33161255787892258,{"$f":"Burmester($B$3:$C$3,$B$4:$C$4,$B$5:$C$5,$E$3,$E$4,$E$5,B46)","v":5.4838139339175349},0.2813363925190942,{"$f":"ThreePosition_Basic2($E$3,$E$5,$B$3:$C$3,$B$5:$C$5,B46,C46)","v":1010.1390378104287},-660.55165863171112,213.77438314546873,87.024777811595527,{"$f":"ThreePosition_Basic2($E$3,$E$5,$B$3:$C$3,$B$5:$C$5,B46,D46)","v":18.147525572813205},-132.41894711364125,-778.21712909214682,615.1574893296654]
[19.5,0.34033920413889424,{"$f":"Burmester($B$3:$C$3,$B$4:$C$4,$B$5:$C$5,$E$3,$E$4,$E$5,B47)","v":5.4894953274882905},0.28962144070622597,{"$f":"ThreePosition_Basic2($E$3,$E$5,$B$3:$C$3,$B$5:$C$5,B47,C47)","v":987.4455374439151},-645.55965511321199,214.49695773915562,86.406064689960544,{"$f":"ThreePosition_Basic2($E$3,$E$5,$B$3:$C$3,$B$5:$C$5,B47,D47)","v":17.207815798455705},-132.26646822894489,-755.74076390630375,599.69925157422767]
[20,0.3490658503988659,{"$f":"Burmester($B$3:$C$3,$B$4:$C$4,$B$5:$C$5,$E$3,$E$4,$E$5,B48)","v":5.4951373390560061},0.29794971021431021,{"$f":"ThreePosition_Basic2($E$3,$E$5,$B$3:$C$3,$B$5:$C$5,B48,C48)","v":965.91255450412461},-631.33589959460903,215.22028156146814,85.792282367161874,{"$f":"ThreePosition_Basic2($E$3,$E$5,$B$3:$C$3,$B$5:$C$5,B48,D48)","v":16.269646327604384},-132.12039434258256,-734.42262661505208,585.00778761918832]
[20.5,0.3577924966588375,{"$f":"Burmester($B$3:$C$3,$B$4:$C$4,$B$5:$C$5,$E$3,$E$4,$E$5,B49)","v":5.500740333817622},0.30632096778435813,{"$f":"ThreePosition_Basic2($E$3,$E$5,$B$3:$C$3,$B$5:$C$5,B49,C49)","v":945.45512120541343},-617.82377877740089,215.94425440838097,85.183465753954238,{"$f":"ThreePosition_Basic2($E$3,$E$5,$B$3:$C$3,$B$5:$C$5,B49,D49)","v":15.333123345523473},-131.98076179036968,-714.17774345150895,571.02648274098544]
[21,0.36651914291880922,{"$f":"Burmester($B$3:$C$3,$B$4:$C$4,$B$5:$C$5,$E$3,$E$4,$E$5,B50)","v":5.5063046831737577},0.31473497423756297,{"$f":"ThreePosition_Basic2($E$3,$E$5,$B$3:$C$3,$B$5:$C$5,B50,C50)","v":925.99635393844414},-604.97206942560661,216.66877779057359,84.579648006307252,{"$f":"ThreePosition_Basic2($E$3,$E$5,$B$3:$C$3,$B$5:$C$5,B50,D50)","v":14.398351522016844},-131.84760520411723,-694.92922462585375,557.7041122277966]
[21.5,0.37524578917878082,{"$f":"Burmester($B$3:$C$3,$B$4:$C$4,$B$5:$C$5,$E$3,$E$4,$E$5,B51)","v":5.5118307644314557},0.32319148478195714,{"$f":"ThreePosition_Basic2($E$3,$E$5,$B$3:$C$3,$B$5:$C$5,B51,C51)","v":907.46651348873718},-592.73431180847615,217.39375497344554,83.980860535051306,{"$f":"ThreePosition_Basic2($E$3,$E$5,$B$3:$C$3,$B$5:$C$5,B51,D51)","v":13.465433973028807},-131.72095751938161,-676.60732454226286,544.99421482414584]
[22,0.38397243543875248,{"$f":"Burmester($B$3:$C$3,$B$4:$C$4,$B$5:$C$5,$E$3,$E$4,$E$5,B52)","v":5.5173189605069783},0.33169024931901775,{"$f":"ThreePosition_Basic2($E$3,$E$5,$B$3:$C$3,$B$5:$C$5,B52,C52)","v":889.80219340945348},-581.06826857939166,218.11909101390688,83.387133017639144,{"$f":"ThreePosition_Basic2($E$3,$E$5,$B$3:$C$3,$B$5:$C$5,B52,D52)","v":12.534472225492184},-131.60084998533188,-659.14863017005439,532.85455161169898]
[22.5,0.39269908169872414,{"$f":"Burmester($B$3:$C$3,$B$4:$C$4,$B$5:$C$5,$E$3,$E$4,$E$5,B53)","v":5.5227696596292688},0.34023101274963757,{"$f":"ThreePosition_Basic2($E$3,$E$5,$B$3:$C$3,$B$5:$C$5,B53,C53)","v":872.9456166128241},-569.93545580060334,218.84469279394682,82.798493411981326,{"$f":"ThreePosition_Basic2($E$3,$E$5,$B$3:$C$3,$B$5:$C$5,B53,D53)","v":11.60556618541222},-131.48731217665753,-642.49535763346501,521.24663703592717]
[23,0.40142572795869574,{"$f":"Burmester($B$3:$C$3,$B$4:$C$4,$B$5:$C$5,$E$3,$E$4,$E$5,B54)","v":5.5281832550446142},0.34881351527889926,{"$f":"ThreePosition_Basic2($E$3,$E$5,$B$3:$C$3,$B$5:$C$5,B54,C54)","v":856.84402371169426},-559.30073513487332,219.57046905101322,82.214967972247223,{"$f":"ThreePosition_Basic2($E$3,$E$5,$B$3:$C$3,$B$5:$C$5,B54,D54)","v":10.678814109165224},-131.38037200742926,-626.59474055151577,510.13533109969126]
[23.5,0.41015237421866746,{"$f":"Burmester($B$3:$C$3,$B$4:$C$4,$B$5:$C$5,$E$3,$E$4,$E$5,B55)","v":5.5335601447230438},0.35743749271913183,{"$f":"ThreePosition_Basic2($E$3,$E$5,$B$3:$C$3,$B$5:$C$5,B55,C55)","v":841.44913944584528},-549.1319580938507,220.29633040523652,81.636581266555027,{"$f":"ThreePosition_Basic2($E$3,$E$5,$B$3:$C$3,$B$5:$C$5,B55,D55)","v":9.7543125779671431},-131.28005574683286,-611.39849646264156,499.48848361357284]
[24,0.41887902047863906,{"$f":"Burmester($B$3:$C$3,$B$4:$C$4,$B$5:$C$5,$E$3,$E$4,$E$5,B56)","v":5.53890073106699},0.36610267679072583,{"$f":"ThreePosition_Basic2($E$3,$E$5,$B$3:$C$3,$B$5:$C$5,B56,C56)","v":826.71670580530338},-539.39965475137672,221.02218938353519,81.063356196468703,{"$f":"ThreePosition_Basic2($E$3,$E$5,$B$3:$C$3,$B$5:$C$5,B56,D56)","v":8.8321564754806214},-131.18638803668611,-596.8623599462876,489.27662291115928]
[24.5,0.42760566673861072,{"$f":"Burmester($B$3:$C$3,$B$4:$C$4,$B$5:$C$5,$E$3,$E$4,$E$5,B57)","v":5.5442054206226867},0.37480879542021556,{"$f":"ThreePosition_Basic2($E$3,$E$5,$B$3:$C$3,$B$5:$C$5,B57,C57)","v":812.60607232209247},-530.07676056942205,221.74796044065158,80.495314018205249,{"$f":"ThreePosition_Basic2($E$3,$E$5,$B$3:$C$3,$B$5:$C$5,B57,D57)","v":7.9124389685172751},-131.09939191064515,-582.94567291292367,479.47268267698212]
[25,0.43633231299858238,{"$f":"Burmester($B$3:$C$3,$B$4:$C$4,$B$5:$C$5,$E$3,$E$4,$E$5,B58)","v":5.549474623794775},0.38355557303518534,{"$f":"ThreePosition_Basic2($E$3,$E$5,$B$3:$C$3,$B$5:$C$5,B58,C58)","v":799.07983552648557},-521.13837600073862,222.47355997717682,79.932474365466987,{"$f":"ThreePosition_Basic2($E$3,$E$5,$B$3:$C$3,$B$5:$C$5,B58,D58)","v":6.9952514907615972},-131.01908881501592,-569.61102405854717,470.05176155118966]
[25.5,0.44505895925855399,{"$f":"Burmester($B$3:$C$3,$B$4:$C$4,$B$5:$C$5,$E$3,$E$4,$E$5,B59)","v":5.5547087545645439},0.39234273085553961,{"$f":"ThreePosition_Basic2($E$3,$E$5,$B$3:$C$3,$B$5:$C$5,B59,C59)","v":786.1035208193274},-512.56155436933523,223.1989063546248,79.374855273799653,{"$f":"ThreePosition_Basic2($E$3,$E$5,$B$3:$C$3,$B$5:$C$5,B59,D59)","v":6.0806837294760632},-130.94549863107,-556.82393073522655,460.99091101206488]
[26,0.4537856055185257,{"$f":"Burmester($B$3:$C$3,$B$4:$C$4,$B$5:$C$5,$E$3,$E$4,$E$5,B60)","v":5.5599082302122333},0.40116998718074792,{"$f":"ThreePosition_Basic2($E$3,$E$5,$B$3:$C$3,$B$5:$C$5,B60,C60)","v":773.64530105024244},-504.32511422201816,223.92391990761882,78.822473206397433,{"$f":"ThreePosition_Basic2($E$3,$E$5,$B$3:$C$3,$B$5:$C$5,B60,D60)","v":5.1688236151024221},-130.87863969877651,-544.55255752752123,452.26894772963908]
[26.5,0.46251225177849731,{"$f":"Burmester($B$3:$C$3,$B$4:$C$4,$B$5:$C$5,$E$3,$E$4,$E$5,B61)","v":5.5650734710437639},0.41003705767265974,{"$f":"ThreePosition_Basic2($E$3,$E$5,$B$3:$C$3,$B$5:$C$5,B61,C61)","v":761.67574695347798},-496.40947291889381,224.64852295327285,78.275343081242795,{"$f":"ThreePosition_Basic2($E$3,$E$5,$B$3:$C$3,$B$5:$C$5,B61,D61)","v":4.2597573137011997},-130.81852884185292,-532.76746668650389,443.86628715828368]
[27,0.47123889803846897,{"$f":"Burmester($B$3:$C$3,$B$4:$C$4,$B$5:$C$5,$E$3,$E$4,$E$5,B62)","v":5.5702049001222633},0.41894365563355285,{"$f":"ThreePosition_Basic2($E$3,$E$5,$B$3:$C$3,$B$5:$C$5,B62,C62)","v":750.16760531139983},-488.79649870953995,225.37263979783722,77.73347829950194,{"$f":"ThreePosition_Basic2($E$3,$E$5,$B$3:$C$3,$B$5:$C$5,B62,D62)","v":3.3535692221379145},-130.76518139404183,-521.44139629142467,435.76479561500003]
[27.5,0.47996554429844063,{"$f":"Burmester($B$3:$C$3,$B$4:$C$4,$B$5:$C$5,$E$3,$E$4,$E$5,B63)","v":5.5753029430047176},0.42788949227907064,{"$f":"ThreePosition_Basic2($E$3,$E$5,$B$3:$C$3,$B$5:$C$5,B63,C63)","v":739.09560131640058},-481.46937894205649,226.09619674069552,77.196890775080135,{"$f":"ThreePosition_Basic2($E$3,$E$5,$B$3:$C$3,$B$5:$C$5,B63,D63)","v":2.4503419659432359},-130.71861122651831,-510.54906260976185,427.94765849061832]
[28,0.48869219055841229,{"$f":"Burmester($B$3:$C$3,$B$4:$C$4,$B$5:$C$5,$E$3,$E$4,$E$5,B64)","v":5.5803680274840453},0.43687427700575082,{"$f":"ThreePosition_Basic2($E$3,$E$5,$B$3:$C$3,$B$5:$C$5,B64,C64)","v":728.43626210617379},-474.41250238834664,226.819122075797,76.665590965237811,{"$f":"ThreePosition_Basic2($E$3,$E$5,$B$3:$C$3,$B$5:$C$5,B64,D64)","v":1.5501563997563632},-130.67883077633579,-500.06698363062043,420.39926257724869]
[28.5,0.49741883681838389,{"$f":"Burmester($B$3:$C$3,$B$4:$C$4,$B$5:$C$5,$E$3,$E$4,$E$5,B65)","v":5.5854005833368765},0.44589771765286862,{"$f":"ThreePosition_Basic2($E$3,$E$5,$B$3:$C$3,$B$5:$C$5,B65,C65)","v":718.16775887189624},-467.61135395200529,227.5413460906172,76.139587902180779,{"$f":"ThreePosition_Basic2($E$3,$E$5,$B$3:$C$3,$B$5:$C$5,B65,D65)","v":0.65309161026331941},-130.64585107581658,-489.9733211710157,413.10509077836946]
[29,0.50614548307835561,{"$f":"Burmester($B$3:$C$3,$B$4:$C$4,$B$5:$C$5,$E$3,$E$4,$E$5,B66)","v":5.5904010420772954},0.45495952075833795,{"$f":"ThreePosition_Basic2($E$3,$E$5,$B$3:$C$3,$B$5:$C$5,B66,C66)","v":708.26976529754177},-461.05242026433115,228.26280106273111,75.618889225542546,{"$f":"ThreePosition_Basic2($E$3,$E$5,$B$3:$C$3,$B$5:$C$5,B66,D66)","v":-0.24077507845899357},-130.61968178279704,-480.24773931326962,406.05162770707665]
[29.5,0.51487212933832716,{"$f":"Burmester($B$3:$C$3,$B$4:$C$4,$B$5:$C$5,$E$3,$E$4,$E$5,B67)","v":5.5953698367167481},0.46405939180845313,{"$f":"ThreePosition_Basic2($E$3,$E$5,$B$3:$C$3,$B$5:$C$5,B67,C67)","v":698.72333039256387},-454.72310487665726,228.9834212541067,75.103501215647555,{"$f":"ThreePosition_Basic2($E$3,$E$5,$B$3:$C$3,$B$5:$C$5,B67,D67)","v":-1.1313680972937448},-130.60033121163511,-470.87127723575088,399.22627488066973]
[30,0.52359877559829882,{"$f":"Burmester($B$3:$C$3,$B$4:$C$4,$B$5:$C$5,$E$3,$E$4,$E$5,B68)","v":5.6003074015303458},0.47319703548126923,{"$f":"ThreePosition_Basic2($E$3,$E$5,$B$3:$C$3,$B$5:$C$5,B68,C68)","v":689.51076403853267},-448.61165192939421,229.70314290320096,74.593428827493597,{"$f":"ThreePosition_Basic2($E$3,$E$5,$B$3:$C$3,$B$5:$C$5,B68,D68)","v":-2.0186136222233761},-130.58780636489536,-461.82623475755508,392.61727439199245]
[30.5,0.53232542185827048,{"$f":"Burmester($B$3:$C$3,$B$4:$C$4,$B$5:$C$5,$E$3,$E$4,$E$5,B69)","v":5.6052141718297106},0.48237215588344029,{"$f":"ThreePosition_Basic2($E$3,$E$5,$B$3:$C$3,$B$5:$C$5,B69,C69)","v":680.61553379060956},-442.70707732507799,230.42190421496849,74.088675725349503,{"$f":"ThreePosition_Basic2($E$3,$E$5,$B$3:$C$3,$B$5:$C$5,B69,D69)","v":-2.9024395623526607},-130.5821129656216,-453.09606913799371,386.21364008480589]
[31,0.54105206811824214,{"$f":"Burmester($B$3:$C$3,$B$4:$C$4,$B$5:$C$5,$E$3,$E$4,$E$5,B70)","v":5.610090583742541},0.49158445678036744,{"$f":"ThreePosition_Basic2($E$3,$E$5,$B$3:$C$3,$B$5:$C$5,B70,C70)","v":672.02217166300386},-436.99910655819087,231.1396453488727,73.5892443178966,{"$f":"ThreePosition_Basic2($E$3,$E$5,$B$3:$C$3,$B$5:$C$5,B70,D70)","v":-3.7827755459175378},-130.58325549011522,-444.66530186004871,380.00509538597225]
[31.5,0.5497787143782138,{"$f":"Burmester($B$3:$C$3,$B$4:$C$4,$B$5:$C$5,$E$3,$E$4,$E$5,B71)","v":5.6149370739990001},0.5008336418195366,{"$f":"ThreePosition_Basic2($E$3,$E$5,$B$3:$C$3,$B$5:$C$5,B71,C71)","v":663.71618978896674},-431.47811846214881,231.85630840500676,73.095135793824568,{"$f":"ThreePosition_Basic2($E$3,$E$5,$B$3:$C$3,$B$5:$C$5,B71,D71)","v":-4.6595529043824033},-130.59123720113797,-436.51943428834238,373.98201705483541]
[32,0.55850536063818546,{"$f":"Burmester($B$3:$C$3,$B$4:$C$4,$B$5:$C$5,$E$3,$E$4,$E$5,B72)","v":5.6197540797250491},0.51011941474692513,{"$f":"ThreePosition_Basic2($E$3,$E$5,$B$3:$C$3,$B$5:$C$5,B72,C72)","v":655.68400398455617},-426.13509422628198,232.57183740841992,72.606350157808834,{"$f":"ThreePosition_Basic2($E$3,$E$5,$B$3:$C$3,$B$5:$C$5,B72,D72)","v":-5.5327046547181808},-130.6060601814562,-428.64487123085445,368.13538420263461]
[32.5,{"$f":"A73*PI()/180","v":0.56723200689815712},{"$f":"Burmester($B$3:$C$3,$B$4:$C$4,$B$5:$C$5,$E$3,$E$4,$E$5,B73)","v":5.6245420382428115},0.51944147961640486,{"$f":"ThreePosition_Basic2($E$3,$E$5,$B$3:$C$3,$B$5:$C$5,B73,C73)","v":647.91286436490782},-420.96157111531039,233.2861782917476,72.122886266796513,{"$f":"ThreePosition_Basic2($E$3,$E$5,$B$3:$C$3,$B$5:$C$5,B73,D73)","v":-6.4021654799674819},-130.6277253676551,-421.02885155312771,362.4567320144518]
[33,0.57595865315812877,{"$f":"Burmester($B$3:$C$3,$B$4:$C$4,$B$5:$C$5,$E$3,$E$4,$E$5,B74)","v":5.6293013868780104},0.52879954099207438,{"$f":"ThreePosition_Basic2($E$3,$E$5,$B$3:$C$3,$B$5:$C$5,B74,C74)","v":640.39079226493823},-415.94960039260872,233.99927887625125,71.644741866515858,{"$f":"ThreePosition_Basic2($E$3,$E$5,$B$3:$C$3,$B$5:$C$5,B74,D74)","v":-7.2678717081935185},-130.656232584143,-413.6593850968805,356.93810967498155]
[33.5,0.58468529941810032,{"$f":"Burmester($B$3:$C$3,$B$4:$C$4,$B$5:$C$5,$E$3,$E$4,$E$5,B75)","v":5.6340325627745544},0.53819330414347488,{"$f":"ThreePosition_Basic2($E$3,$E$5,$B$3:$C$3,$B$5:$C$5,B75,C75)","v":633.10652280573743},-411.09170900809534,234.71108885135777,71.171913628157768,{"$f":"ThreePosition_Basic2($E$3,$E$5,$B$3:$C$3,$B$5:$C$5,B75,D75)","v":-8.1297612899110536},-130.69158057728001,-406.52519524429073,351.57204205897312]
[34,0.59341194567807209,{"$f":"Burmester($B$3:$C$3,$B$4:$C$4,$B$5:$C$5,$E$3,$E$4,$E$5,B76)","v":5.6387360027162607},0.54762247523367136,{"$f":"ThreePosition_Basic2($E$3,$E$5,$B$3:$C$3,$B$5:$C$5,B76,C76)","v":626.0494525254262},-406.38086466327377,235.42155975280502,70.704397185140181,{"$f":"ThreePosition_Basic2($E$3,$E$5,$B$3:$C$3,$B$5:$C$5,B76,D76)","v":-8.9877737741000061},-130.73376704955922,-399.61566654672117,346.35149479885473]
[34.5,0.60213859193804364,{"$f":"Burmester($B$3:$C$3,$B$4:$C$4,$B$5:$C$5,$E$3,$E$4,$E$5,B77)","v":5.6434121429557589},0.55708676150017866,{"$f":"ThreePosition_Basic2($E$3,$E$5,$B$3:$C$3,$B$5:$C$5,B77,C77)","v":619.20959156063941},-401.81044391085618,236.13064493948116,70.242187169916008,{"$f":"ThreePosition_Basic2($E$3,$E$5,$B$3:$C$3,$B$5:$C$5,B77,D77)","v":-9.8418502828918424},-130.78278869377607,-392.92079690405012,341.26984238699612]
[35,0.6108652381980153,{"$f":"Burmester($B$3:$C$3,$B$4:$C$4,$B$5:$C$5,$E$3,$E$4,$E$5,B78)","v":5.6480614190505314},0.5665858714287646,{"$f":"ThreePosition_Basic2($E$3,$E$5,$B$3:$C$3,$B$5:$C$5,B78,C78)","v":612.57751992354201},-397.37420298558294,236.83829956906004,69.785277250738375,{"$f":"ThreePosition_Basic2($E$3,$E$5,$B$3:$C$3,$B$5:$C$5,B78,D78)","v":-10.69193348503247},-130.83864122712421,-386.43115383951442,336.32083900919713]
[35.5,0.61959188445798696,{"$f":"Burmester($B$3:$C$3,$B$4:$C$4,$B$5:$C$5,$E$3,$E$4,$E$5,B79)","v":5.6526842657060934},0.5761195149201247,{"$f":"ThreePosition_Basic2($E$3,$E$5,$B$3:$C$3,$B$5:$C$5,B79,C79)","v":606.1443474705635},-393.06625109701616,237.54448057251813,69.333660168347365,{"$f":"ThreePosition_Basic2($E$3,$E$5,$B$3:$C$3,$B$5:$C$5,B79,D79)","v":-11.537967568202419},-130.90131942515748,-380.1378344662478,331.49859184020602]
[36,0.62831853071795862,{"$f":"Burmester($B$3:$C$3,$B$4:$C$4,$B$5:$C$5,$E$3,$E$4,$E$5,B80)","v":5.6572811166262493},0.58568740344950287,{"$f":"ThreePosition_Basic2($E$3,$E$5,$B$3:$C$3,$B$5:$C$5,B80,C80)","v":599.90167720391867},-388.88102594501845,238.24914662763058,68.887327772506808,{"$f":"ThreePosition_Basic2($E$3,$E$5,$B$3:$C$3,$B$5:$C$5,B80,D80)","v":-12.379898210299062},-130.97081715556345,-374.03242878658716,326.79753656196181]
[36.5,0.63704517697793028,{"$f":"Burmester($B$3:$C$3,$B$4:$C$4,$B$5:$C$5,$E$3,$E$4,$E$5,B81)","v":5.6618524043703866},0.59528925021928458,{"$f":"ThreePosition_Basic2($E$3,$E$5,$B$3:$C$3,$B$5:$C$5,B81,C81)","v":593.84157158631922},-384.81327124484193,238.95225813152928,68.446271058351329,{"$f":"ThreePosition_Basic2($E$3,$E$5,$B$3:$C$3,$B$5:$C$5,B81,D81)","v":-13.217672549757108},-131.04712741169357,-368.10698600454703,322.21241489149969]
[37,0.64577182323790194,{"$f":"Burmester($B$3:$C$3,$B$4:$C$4,$B$5:$C$5,$E$3,$E$4,$E$5,B82)","v":5.66639856021773},0.60492477030464187,{"$f":"ThreePosition_Basic2($E$3,$E$5,$B$3:$C$3,$B$5:$C$5,B82,C82)","v":587.95652158384621},-380.85801607180446,239.65377717241222,68.010480202484871,{"$f":"ThreePosition_Basic2($E$3,$E$5,$B$3:$C$3,$B$5:$C$5,B82,D82)","v":-14.051239154999861},-131.1302423458007,-362.35398356643384,317.73825392848863]
[37.5,0.6544984694978736,{"$f":"Burmester($B$3:$C$3,$B$4:$C$4,$B$5:$C$5,$E$3,$E$4,$E$5,B83)","v":5.6709200140384759},0.6145936807923198,{"$f":"ThreePosition_Basic2($E$3,$E$5,$B$3:$C$3,$B$5:$C$5,B83,C83)","v":582.23941818235858},-377.01055585578723,240.35366750049047,67.579944598791428,{"$f":"ThreePosition_Basic2($E$3,$E$5,$B$3:$C$3,$B$5:$C$5,B83,D83)","v":-14.880547993109813},-131.22015330193932,-356.76629867497792,313.37034715263934]
[38,0.66322511575784515,{"$f":"Burmester($B$3:$C$3,$B$4:$C$4,$B$5:$C$5,$E$3,$E$4,$E$5,B84)","v":5.6754171941717342},0.62429570091262143,{"$f":"ThreePosition_Basic2($E$3,$E$5,$B$3:$C$3,$B$5:$C$5,B84,C84)","v":576.68352614961691},-373.26643487366329,241.05189449824343,67.154652893919035,{"$f":"ThreePosition_Basic2($E$3,$E$5,$B$3:$C$3,$B$5:$C$5,B84,D84)","v":-15.705550397784181},-131.31685084847854,-351.33718204915766,309.10423691910376]
[38.5,0.67195176201781692,{"$f":"Burmester($B$3:$C$3,$B$4:$C$4,$B$5:$C$5,$E$3,$E$4,$E$5,B85)","v":5.679890527310147},0.63403055216473114,{"$f":"ThreePosition_Basic2($E$3,$E$5,$B$3:$C$3,$B$5:$C$5,B85,C85)","v":571.28245983899251},-369.62143010356141,241.74842515007515,66.734593022383535,{"$f":"ThreePosition_Basic2($E$3,$E$5,$B$3:$C$3,$B$5:$C$5,B85,D85)","v":-16.526199036672477},-131.42032481019407,-346.06023372558985,304.93569831575087]
[39,0.68067840827778847,{"$f":"Burmester($B$3:$C$3,$B$4:$C$4,$B$5:$C$5,$E$3,$E$4,$E$5,B86)","v":5.6843404383911027},0.64379795843545617,{"$f":"ThreePosition_Basic2($E$3,$E$5,$B$3:$C$3,$B$5:$C$5,B86,C86)","v":566.03016085155548},-366.07153631880846,242.44322801143528,66.319752241271658,{"$f":"ThreePosition_Basic2($E$3,$E$5,$B$3:$C$3,$B$5:$C$5,B86,D86)","v":-17.342447878159781},-131.53056429989573,-340.92938071827996,300.86072426018438]
[39.5,0.68940505453776013,{"$f":"Burmester($B$3:$C$3,$B$4:$C$4,$B$5:$C$5,$E$3,$E$4,$E$5,B87)","v":5.6887673504944116},0.6535976461115155,{"$f":"ThreePosition_Basic2($E$3,$E$5,$B$3:$C$3,$B$5:$C$5,B87,C87)","v":560.92087739190379},-362.61295231178167,243.13627317748416,65.91011716449799,{"$f":"ThreePosition_Basic2($E$3,$E$5,$B$3:$C$3,$B$5:$C$5,B87,D87)","v":-18.15425215767209},-131.64755774955714,-335.93885637209172,296.87551172672249]
[40,0.69813170079773179,{"$f":"Burmester($B$3:$C$3,$B$4:$C$4,$B$5:$C$5,$E$3,$E$4,$E$5,B88)","v":5.6931716847463187},0.66342934418550137,{"$f":"ThreePosition_Basic2($E$3,$E$5,$B$3:$C$3,$B$5:$C$5,B88,C88)","v":555.94914516956362},-359.24206814887356,243.82753225137031,65.505673796588667,{"$f":"ThreePosition_Basic2($E$3,$E$5,$B$3:$C$3,$B$5:$C$5,B88,D88)","v":-18.961568343576246},-131.77129294091574,-331.08318126176954,292.97644900454645]
[40.5,0.70685834705770345,{"$f":"Burmester($B$3:$C$3,$B$4:$C$4,$B$5:$C$5,$E$3,$E$4,$E$5,B89)","v":5.6975538602297364},0.67329278435563722,{"$f":"ThreePosition_Basic2($E$3,$E$5,$B$3:$C$3,$B$5:$C$5,B89,C89)","v":551.10976971241803},-355.95545336752173,244.51697831218218,65.106407565968823,{"$f":"ThreePosition_Basic2($E$3,$E$5,$B$3:$C$3,$B$5:$C$5,B89,D89)","v":-19.764354102735897},-131.90175703551185,-326.35714550297178,289.16010389797873]
[41,0.715584993317675,{"$f":"Burmester($B$3:$C$3,$B$4:$C$4,$B$5:$C$5,$E$3,$E$4,$E$5,B90)","v":5.7019142939005372},0.6831877011194758,{"$f":"ThreePosition_Basic2($E$3,$E$5,$B$3:$C$3,$B$5:$C$5,B90,C90)","v":546.39780997167338},-352.74984603496671,245.20458588264978,64.712303357715712,{"$f":"ThreePosition_Basic2($E$3,$E$5,$B$3:$C$3,$B$5:$C$5,B90,D90)","v":-20.562568265794184},-132.03893660414047,-321.7557923548178,285.42321278854195]
[41.5,0.72431163957764677,{"$f":"Burmester($B$3:$C$3,$B$4:$C$4,$B$5:$C$5,$E$3,$E$4,$E$5,B91)","v":5.7062534005097811},0.6931138318616763,{"$f":"ThreePosition_Basic2($E$3,$E$5,$B$3:$C$3,$B$5:$C$5,B91,C91)","v":541.80856310946592},-349.62214259611471,245.89033089664298,64.323345545767211,{"$f":"ThreePosition_Basic2($E$3,$E$5,$B$3:$C$3,$B$5:$C$5,B91,D91)","v":-21.35617079223892},-132.1828176556912,-317.27440300506186,281.7626704861907]
[42,0.73303828583761843,{"$f":"Burmester($B$3:$C$3,$B$4:$C$4,$B$5:$C$5,$E$3,$E$4,$E$5,B92)","v":5.7105715925317275},0.70307091693600221,{"$f":"ThreePosition_Basic2($E$3,$E$5,$B$3:$C$3,$B$5:$C$5,B92,C92)","v":537.33755037060462},-346.56938844482181,246.57419066653438,63.939518024558311,{"$f":"ThreePosition_Basic2($E$3,$E$5,$B$3:$C$3,$B$5:$C$5,B92,D92)","v":-22.145122735311652},-132.33338566535303,-312.90848243938188,278.17552080402709]
[42.5,0.74176493209759009,{"$f":"Burmester($B$3:$C$3,$B$4:$C$4,$B$5:$C$5,$E$3,$E$4,$E$5,B93)","v":5.7148692800974716},0.71305869974170211,{"$f":"ThreePosition_Basic2($E$3,$E$5,$B$3:$C$3,$B$5:$C$5,B93,C93)","v":532.98050394920892},-343.58876915908741,247.25614385047902,63.560804240065806,{"$f":"ThreePosition_Basic2($E$3,$E$5,$B$3:$C$3,$B$5:$C$5,B93,D93)","v":-22.929386206816954},-132.49062560216606,-308.65374630554686,274.65894779698715]
[43,0.75049157835756164,{"$f":"Burmester($B$3:$C$3,$B$4:$C$4,$B$5:$C$5,$E$3,$E$4,$E$5,B94)","v":5.7191468709340709},0.72307692679440549,{"$f":"ThreePosition_Basic2($E$3,$E$5,$B$3:$C$3,$B$5:$C$5,B94,C94)","v":528.73335476930527},-340.67760234617674,247.93617041965911,63.187187220253975,{"$f":"ThreePosition_Basic2($E$3,$E$5,$B$3:$C$3,$B$5:$C$5,B94,D94)","v":-23.708924341878213},-132.65452195589972,-304.50610869152439,271.21026761053099]
[43.5,0.7592182246175333,{"$f":"Burmester($B$3:$C$3,$B$4:$C$4,$B$5:$C$5,$E$3,$E$4,$E$5,B95)","v":5.7234047703089796},0.73312534779171212,{"$f":"ThreePosition_Basic2($E$3,$E$5,$B$3:$C$3,$B$5:$C$5,B95,C95)","v":524.59222110589826},-337.83333004867148,248.61425162555173,62.818649604892869,{"$f":"ThreePosition_Basic2($E$3,$E$5,$B$3:$C$3,$B$5:$C$5,B95,D95)","v":-24.483701263700496},-132.82505876324578,-300.46167074404701,267.82692089031855]
[44,0.76794487087750496,{"$f":"Burmester($B$3:$C$3,$B$4:$C$4,$B$5:$C$5,$E$3,$E$4,$E$5,B96)","v":5.727643380979667},0.74320371567360122,{"$f":"ThreePosition_Basic2($E$3,$E$5,$B$3:$C$3,$B$5:$C$5,B96,C96)","v":520.55339797969862},-335.05351166687404,249.29036996725421,62.455173674755486,{"$f":"ThreePosition_Basic2($E$3,$E$5,$B$3:$C$3,$B$5:$C$5,B96,D96)","v":-25.253682048371338},-133.00221963330793,-296.51671006081574,264.50646570832157]
[44.5,0.77667151713747673,{"$f":"Burmester($B$3:$C$3,$B$4:$C$4,$B$5:$C$5,$E$3,$E$4,$E$5,B97)","v":5.731863103148223},0.7533117866778597,{"$f":"ThreePosition_Basic2($E$3,$E$5,$B$3:$C$3,$B$5:$C$5,B97,C97)","v":516.61334726471648},-332.3358173570295,249.96450915892245,62.09674138016652,{"$f":"ThreePosition_Basic2($E$3,$E$5,$B$3:$C$3,$B$5:$C$5,B97,D97)","v":-26.018832689765318},-133.18598777238194,-292.66767079555933,261.24657096481405]
[45,0.78539816339744828,{"$f":"Burmester($B$3:$C$3,$B$4:$C$4,$B$5:$C$5,$E$3,$E$4,$E$5,B98)","v":5.7360643344208357},0.76344932039063174,{"$f":"ThreePosition_Basic2($E$3,$E$5,$B$3:$C$3,$B$5:$C$5,B98,C98)","v":512.76868845331649},-329.67802186839896,250.63665409735216,61.743334368910553,{"$f":"ThreePosition_Basic2($E$3,$E$5,$B$3:$C$3,$B$5:$C$5,B98,D98)","v":-26.779120064566406},-133.37634600801064,-288.91115442053075,258.0450102292989]
[45.5,0.79412480965741994,{"$f":"Burmester($B$3:$C$3,$B$4:$C$4,$B$5:$C$5,$E$3,$E$4,$E$5,B99)","v":5.7402474697719263},0.77361607979231195,{"$f":"ThreePosition_Basic2($E$3,$E$5,$B$3:$C$3,$B$5:$C$5,B99,C99)","v":509.01619002821707},-327.0779987855006,251.306790829752,61.394934013476018,{"$f":"ThreePosition_Basic2($E$3,$E$5,$B$3:$C$3,$B$5:$C$5,B99,D99)","v":-27.534511897476918},-133.57327681231371,-285.243911095942,254.89965598666291]
[46,0.80285145591739149,{"$f":"Burmester($B$3:$C$3,$B$4:$C$4,$B$5:$C$5,$E$3,$E$4,$E$5,B100)","v":5.7444129015128498},0.78381183129887477,{"$f":"ThreePosition_Basic2($E$3,$E$5,$B$3:$C$3,$B$5:$C$5,B100,C100)","v":505.3527613952952},-324.53371514472161,251.97490652173218,61.051521437653719,{"$f":"ThreePosition_Basic2($E$3,$E$5,$B$3:$C$3,$B$5:$C$5,B100,D100)","v":-28.284976726619803},-133.77676232457654,-281.66283160018281,251.80847425779879]
[46.5,0.81157810217736315,{"$f":"Burmester($B$3:$C$3,$B$4:$C$4,$B$5:$C$5,$E$3,$E$4,$E$5,B101)","v":5.748561019264935},0.79403634479885288,{"$f":"ThreePosition_Basic2($E$3,$E$5,$B$3:$C$3,$B$5:$C$5,B101,C101)","v":501.77544533504187},-322.04322639719766,252.64098942555253,60.713077542461917,{"$f":"ThreePosition_Basic2($E$3,$E$5,$B$3:$C$3,$B$5:$C$5,B101,D101)","v":-29.030483869191247},-133.98678437310227,-278.1649397786806,248.76951956655731]
[47,0.82030474843733492,{"$f":"Burmester($B$3:$C$3,$B$4:$C$4,$B$5:$C$5,$E$3,$E$4,$E$5,B102)","v":5.7526922099367548},0.80428939368608754,{"$f":"ThreePosition_Basic2($E$3,$E$5,$B$3:$C$3,$B$5:$C$5,B102,C102)","v":498.28141093409266},-319.60467169220976,253.30502884865413,60.379583031415848,{"$f":"ThreePosition_Basic2($E$3,$E$5,$B$3:$C$3,$B$5:$C$5,B102,D102)","v":-29.771003387382891},-134.20332449631948,-274.74738547282141,245.78093022730613]
[47.5,0.82903139469730658,{"$f":"Burmester($B$3:$C$3,$B$4:$C$4,$B$5:$C$5,$E$3,$E$4,$E$5,B103)","v":5.7568068577054499},0.81457075488840769,{"$f":"ThreePosition_Basic2($E$3,$E$5,$B$3:$C$3,$B$5:$C$5,B103,C103)","v":494.86794696150463},-317.21626945753525,253.96701512250254,60.051018435132846,{"$f":"ThreePosition_Basic2($E$3,$E$5,$B$3:$C$3,$B$5:$C$5,B103,D103)","v":-30.506506054601278},-134.42636396314347,-271.40743789360334,242.84092392952462]
[48,0.83775804095727813,{"$f":"Burmester($B$3:$C$3,$B$4:$C$4,$B$5:$C$5,$E$3,$E$4,$E$5,B104)","v":5.7609053440019542},0.82488020889241065,{"$f":"ThreePosition_Basic2($E$3,$E$5,$B$3:$C$3,$B$5:$C$5,B104,C104)","v":491.53245565740508},-314.8763132551457,254.62693957177265,59.727364135275934,{"$f":"ThreePosition_Basic2($E$3,$E$5,$B$3:$C$3,$B$5:$C$5,B104,D104)","v":-31.236963322019363},-134.65588379259239,-268.14247940765176,239.94779359782925]
[48.5,0.84648468721724979,{"$f":"Burmester($B$3:$C$3,$B$4:$C$4,$B$5:$C$5,$E$3,$E$4,$E$5,B105)","v":5.76498804749997},0.83521753976447288,{"$f":"ThreePosition_Basic2($E$3,$E$5,$B$3:$C$3,$B$5:$C$5,B105,C105)","v":488.27244690429688},-312.58316789242855,255.2847944838939,59.408600387840067,{"$f":"ThreePosition_Basic2($E$3,$E$5,$B$3:$C$3,$B$5:$C$5,B105,D105)","v":-31.962347285478067},-134.89186477265932,-264.94999970588105,237.0999035076093]
[49,0.85521133347722145,{"$f":"Burmester($B$3:$C$3,$B$4:$C$4,$B$5:$C$5,$E$3,$E$4,$E$5,B106)","v":5.7690553441085459},0.84558253516814719,{"$f":"ThreePosition_Basic2($E$3,$E$5,$B$3:$C$3,$B$5:$C$5,B106,C106)","v":485.08553275373606},-310.33526577071945,255.94057307898032,59.094707345784343,{"$f":"ThreePosition_Basic2($E$3,$E$5,$B$3:$C$3,$B$5:$C$5,B106,D106)","v":-32.682630652759144},-135.13428747843906,-261.82759032751488,234.29568563806473]
[49.5,0.86393797973719322,{"$f":"Burmester($B$3:$C$3,$B$4:$C$4,$B$5:$C$5,$E$3,$E$4,$E$5,B107)","v":5.7731076069681029},0.85597498637809988,{"$f":"ThreePosition_Basic2($E$3,$E$5,$B$3:$C$3,$B$5:$C$5,B107,C107)","v":481.96942228330141},-308.13110345441225,256.59426948016369,58.78566508101278,{"$f":"ThreePosition_Basic2($E$3,$E$5,$B$3:$C$3,$B$5:$C$5,B107,D107)","v":-33.397786711257453},-135.3831322895166,-258.77293951439515,231.53363624590844]
[50,0.87266462599716477,{"$f":"Burmester($B$3:$C$3,$B$4:$C$4,$B$5:$C$5,$E$3,$E$4,$E$5,B108)","v":5.7771452064497657},0.86639468829071808,{"$f":"ThreePosition_Basic2($E$3,$E$5,$B$3:$C$3,$B$5:$C$5,B108,C108)","v":478.92191676078289},-305.96923844524366,257.24587868434912,58.481453605712204,{"$f":"ThreePosition_Basic2($E$3,$E$5,$B$3:$C$3,$B$5:$C$5,B108,D108)","v":-34.107789296060986},-135.63837940661799,-255.78382737249478,228.81231264433788]
[50.5,0.88139127225713643,{"$f":"Burmester($B$3:$C$3,$B$4:$C$4,$B$5:$C$5,$E$3,$E$4,$E$5,B109)","v":5.7811685101578698},0.87684143943153436,{"$f":"ThreePosition_Basic2($E$3,$E$5,$B$3:$C$3,$B$5:$C$5,B109,C109)","v":475.94090509433397},-303.84828614756566,257.89539653340205,58.182052893055527,{"$f":"ThreePosition_Basic2($E$3,$E$5,$B$3:$C$3,$B$5:$C$5,B109,D109)","v":-34.81261275846223},-135.90000886752927,-252.85812131939417,226.13033017309192]
[51,0.89011791851710798,{"$f":"Burmester($B$3:$C$3,$B$4:$C$4,$B$5:$C$5,$E$3,$E$4,$E$5,B110)","v":5.7851778829354741},0.88731504195960864,{"$f":"ThreePosition_Basic2($E$3,$E$5,$B$3:$C$3,$B$5:$C$5,B110,C110)","v":473.02435954901887},-301.76691701154664,258.54281968579267,57.88744289727083,{"$f":"ThreePosition_Basic2($E$3,$E$5,$B$3:$C$3,$B$5:$C$5,B110,D110)","v":-35.512231934913657},-136.16800056229044,-249.99377179813985,223.48635934652702]
[51.5,0.89884456477707964,{"$f":"Burmester($B$3:$C$3,$B$4:$C$4,$B$5:$C$5,$E$3,$E$4,$E$5,B111)","v":5.7891736868727852},0.89781530166898971,{"$f":"ThreePosition_Basic2($E$3,$E$5,$B$3:$C$3,$B$5:$C$5,B111,C111)","v":470.17033171167861},-299.72385384222719,259.18814558869451,57.597603573095512,{"$f":"ThreePosition_Basic2($E$3,$E$5,$B$3:$C$3,$B$5:$C$5,B111,D111)","v":-36.206622116437792},-136.44233424766688,-247.18880823942192,220.87912316765582]
[52,0.90757121103705141,{"$f":"Burmester($B$3:$C$3,$B$4:$C$4,$B$5:$C$5,$E$3,$E$4,$E$5,B112)","v":5.7931562813183151},0.90834202798740371,{"$f":"ThreePosition_Basic2($E$3,$E$5,$B$3:$C$3,$B$5:$C$5,B112,C112)","v":467.37694868745689},-297.71786926331771,259.83137245056241,57.312514894611866,{"$f":"ThreePosition_Basic2($E$3,$E$5,$B$3:$C$3,$B$5:$C$5,B112,D112)","v":-36.895759018509253},-136.72298956091049,-244.44133525540371,218.30739459701908]
[52.5,0.91629785729702307,{"$f":"Burmester($B$3:$C$3,$B$4:$C$4,$B$5:$C$5,$E$3,$E$4,$E$5,B113)","v":5.7971260228926811},0.91889503397227934,{"$f":"ThreePosition_Basic2($E$3,$E$5,$B$3:$C$3,$B$5:$C$5,B113,C113)","v":464.64240951257085},-295.74778332543713,260.47249921418711,57.032156873485405,{"$f":"ThreePosition_Basic2($E$3,$E$5,$B$3:$C$3,$B$5:$C$5,B113,D113)","v":-37.579618751411815},-137.00994603281211,-241.74952904979557,215.76999416611042]
[53,0.92502450355699462,{"$f":"Burmester($B$3:$C$3,$B$4:$C$4,$B$5:$C$5,$E$3,$E$4,$E$5,B114)","v":5.8010832655049001},0.92947413630424613,{"$f":"ThreePosition_Basic2($E$3,$E$5,$B$3:$C$3,$B$5:$C$5,B114,C114)","v":461.9649817690933},-293.81246124929294,261.11152553024033,56.756509576609062,{"$f":"ThreePosition_Basic2($E$3,$E$5,$B$3:$C$3,$B$5:$C$5,B114,D114)","v":-38.258177791085011},-137.30318310005836,-239.11163402993802,213.26578772584364]
[53.5,0.93375114981696627,{"$f":"Burmester($B$3:$C$3,$B$4:$C$4,$B$5:$C$5,$E$3,$E$4,$E$5,B115)","v":5.8050283603710584},0.94007915527821728,{"$f":"ThreePosition_Basic2($E$3,$E$5,$B$3:$C$3,$B$5:$C$5,B115,C115)","v":459.34299838856492},-291.91081129500139,261.74845173131467,56.485553143165419,{"$f":"ThreePosition_Basic2($E$3,$E$5,$B$3:$C$3,$B$5:$C$5,B115,D115)","v":-38.931412950463518},-137.60268011689737,-236.52595960771376,210.79368432126944]
[54,0.94247779607693793,{"$f":"Burmester($B$3:$C$3,$B$4:$C$4,$B$5:$C$5,$E$3,$E$4,$E$5,B116)","v":5.8089616560352457},0.95070991479217926,{"$f":"ThreePosition_Basic2($E$3,$E$5,$B$3:$C$3,$B$5:$C$5,B116,C116)","v":456.77485463223547},-290.04178274939528,262.38327880646284,56.21926780111977,{"$f":"ThreePosition_Basic2($E$3,$E$5,$B$3:$C$3,$B$5:$C$5,B116,D116)","v":-39.599301351317834},-137.90841636612458,-233.99087717709045,208.35263418439047]
[54.5,0.95120444233690948,{"$f":"Burmester($B$3:$C$3,$B$4:$C$4,$B$5:$C$5,$E$3,$E$4,$E$5,B117)","v":5.8128834983926208},0.96136624233379575,{"$f":"ThreePosition_Basic2($E$3,$E$5,$B$3:$C$3,$B$5:$C$5,B117,C117)","v":454.25900523662642},-288.20436402377248,263.01600837624039,55.957633883151516,{"$f":"ThreePosition_Basic2($E$3,$E$5,$B$3:$C$3,$B$5:$C$5,B117,D117)","v":-40.26182039660037},-138.22037106939709,-231.50481725698637,205.94162683752691]
[55,0.95993108859688125,{"$f":"Burmester($B$3:$C$3,$B$4:$C$4,$B$5:$C$5,$E$3,$E$4,$E$5,B118)","v":5.8167942307145246},0.97204796896493928,{"$f":"ThreePosition_Basic2($E$3,$E$5,$B$3:$C$3,$B$5:$C$5,B118,C118)","v":451.79396171392671},-286.39758085507322,263.64664266825179,55.700631842043322,{"$f":"ThreePosition_Basic2($E$3,$E$5,$B$3:$C$3,$B$5:$C$5,B118,D118)","v":-40.918947743300045},-138.53852339688578,-229.06626678897496,203.55968930023076]
[55.5,0.96865773485685291,{"$f":"Burmester($B$3:$C$3,$B$4:$C$4,$B$5:$C$5,$E$3,$E$4,$E$5,B119)","v":5.8206941936754957},0.98275492930425279,{"$f":"ThreePosition_Basic2($E$3,$E$5,$B$3:$C$3,$B$5:$C$5,B119,C119)","v":449.37828979749548},-284.62049460399669,264.27518449320644,55.448242265529359,{"$f":"ThreePosition_Basic2($E$3,$E$5,$B$3:$C$3,$B$5:$C$5,B119,D119)","v":-41.570661275810245},-138.86285247627467,-226.67376658009931,201.20588439325138]
[56,0.97738438111682457,{"$f":"Burmester($B$3:$C$3,$B$4:$C$4,$B$5:$C$5,$E$3,$E$4,$E$5,B120)","v":5.8245837253821229},0.99348696150783888,{"$f":"ThreePosition_Basic2($E$3,$E$5,$B$3:$C$3,$B$5:$C$5,B120,C120)","v":447.0106070234271},-282.87220064400844,264.90163722147724,55.200445890624678,{"$f":"ThreePosition_Basic2($E$3,$E$5,$B$3:$C$3,$B$5:$C$5,B120,D120)","v":-42.216939079808128},-139.19333740111892,-224.32590888175795,198.8793091335142]
[56.5,0.98611102737679612,{"$f":"Burmester($B$3:$C$3,$B$4:$C$4,$B$5:$C$5,$E$3,$E$4,$E$5,B121)","v":5.8284631614035991},1.0042439072481839,{"$f":"ThreePosition_Basic2($E$3,$E$5,$B$3:$C$3,$B$5:$C$5,B121,C121)","v":444.68958043978813},-281.1518268356358,265.52600476016971,54.957223617443162,{"$f":"ThreePosition_Basic2($E$3,$E$5,$B$3:$C$3,$B$5:$C$5,B121,D121)","v":-42.857759416650964},-139.52995723856881,-222.02133509626941,196.57909321451015]
[57,0.99483767363676778,{"$f":"Burmester($B$3:$C$3,$B$4:$C$4,$B$5:$C$5,$E$3,$E$4,$E$5,B122)","v":5.832332834803907},1.0150256116914034,{"$f":"ThreePosition_Basic2($E$3,$E$5,$B$3:$C$3,$B$5:$C$5,B122,C122)","v":442.41392443570987},-279.45853208082718,266.14829153069115,54.718556522518668,{"$f":"ThreePosition_Basic2($E$3,$E$5,$B$3:$C$3,$B$5:$C$5,B122,D122)","v":-43.493100698286185},-139.87269103647353,-219.75873360330488,194.30439756687232]
[57.5,1.0035643198967394,{"$f":"Burmester($B$3:$C$3,$B$4:$C$4,$B$5:$C$5,$E$3,$E$4,$E$5,B123)","v":5.8361930761755163},1.0258319234728963,{"$f":"ThreePosition_Basic2($E$3,$E$5,$B$3:$C$3,$B$5:$C$5,B123,C123)","v":440.18239868307455},-277.79150495252742,266.76850244682646,54.484425871637939,{"$f":"ThreePosition_Basic2($E$3,$E$5,$B$3:$C$3,$B$5:$C$5,B123,D123)","v":-44.122941462675698},-140.22151782987092,-217.53683769892376,192.05441299429444]
[58,1.0122909661567112,{"$f":"Burmester($B$3:$C$3,$B$4:$C$4,$B$5:$C$5,$E$3,$E$4,$E$5,B124)","v":5.8400442136745294},1.0366626946715076,{"$f":"ThreePosition_Basic2($E$3,$E$5,$B$3:$C$3,$B$5:$C$5,B124,C124)","v":437.99380618402188},-276.14996239493541,267.38664289330825,54.254813132206891,{"$f":"ThreePosition_Basic2($E$3,$E$5,$B$3:$C$3,$B$5:$C$5,B124,D124)","v":-44.747260349733999},-140.57641664687728,-215.35442364044761,189.82835888026503]
[58.5,1.0210176124166828,{"$f":"Burmester($B$3:$C$3,$B$4:$C$4,$B$5:$C$5,$E$3,$E$4,$E$5,B125)","v":5.8438865730571647},1.0475177807822627,{"$f":"ThreePosition_Basic2($E$3,$E$5,$B$3:$C$3,$B$5:$C$5,B125,C125)","v":435.84699141797608},-274.53314849024116,268.00271870488496,54.029699985152945,{"$f":"ThreePosition_Basic2($E$3,$E$5,$B$3:$C$3,$B$5:$C$5,B125,D125)","v":-45.36603607777603},-140.9373665139847,-213.2103087908672,187.62548196140941]
[59,1.0297442586766543,{"$f":"Burmester($B$3:$C$3,$B$4:$C$4,$B$5:$C$5,$E$3,$E$4,$E$5,B126)","v":5.8477204777175089},1.0583970406877721,{"$f":"ThreePosition_Basic2($E$3,$E$5,$B$3:$C$3,$B$5:$C$5,B126,C126)","v":433.74083858231205},-272.94033328790579,268.61673614587835,53.809068336383291,{"$f":"ThreePosition_Basic2($E$3,$E$5,$B$3:$C$3,$B$5:$C$5,B126,D126)","v":-45.979247420473399},-141.30434646077768,-211.10334985690707,185.4450551635114]
[59.5,1.0384709049366261,{"$f":"Burmester($B$3:$C$3,$B$4:$C$4,$B$5:$C$5,$E$3,$E$4,$E$5,B127)","v":5.8515462487264509},1.0693003366283729,{"$f":"ThreePosition_Basic2($E$3,$E$5,$B$3:$C$3,$B$5:$C$5,B127,C127)","v":431.67426992117538},-271.37081169282277,269.22870189022672,53.592900327809616,{"$f":"ThreePosition_Basic2($E$3,$E$5,$B$3:$C$3,$B$5:$C$5,B127,D127)","v":-46.586873184318989},-141.67733552408015,-209.03244121526765,183.28637649655224]
[60,1.0471975511965976,{"$f":"Burmester($B$3:$C$3,$B$4:$C$4,$B$5:$C$5,$E$3,$E$4,$E$5,B128)","v":5.8553642048717247},1.0802275341710736,{"$f":"ThreePosition_Basic2($E$3,$E$5,$B$3:$C$3,$B$5:$C$5,B128,C128)","v":429.64624413733821},-269.82390240893596,269.83862300200656,53.381178347951789,{"$f":"ThreePosition_Basic2($E$3,$E$5,$B$3:$C$3,$B$5:$C$5,B128,D128)","v":-47.188892186589328},-142.05631275153951,-206.99651332192099,181.14876800534824]
[60.5,1.0559241974565694,{"$f":"Burmester($B$3:$C$3,$B$4:$C$4,$B$5:$C$5,$E$3,$E$4,$E$5,B129)","v":5.859174662698984},1.0911785021773861,{"$f":"ThreePosition_Basic2($E$3,$E$5,$B$3:$C$3,$B$5:$C$5,B129,C129)","v":427.65575488230689},-268.29894693511818,270.4465069164288,53.173885042133747,{"$f":"ThreePosition_Basic2($E$3,$E$5,$B$3:$C$3,$B$5:$C$5,B129,D129)","v":-47.785283233807981},-142.44125720466232,-204.99453119968604,179.03157477258961]
[61,1.064650843716541,{"$f":"Burmester($B$3:$C$3,$B$4:$C$4,$B$5:$C$5,$E$3,$E$4,$E$5,B130)","v":5.862977936553837},1.1021531127700983,{"$f":"ThreePosition_Basic2($E$3,$E$5,$B$3:$C$3,$B$5:$C$5,B130,C130)","v":425.70182932021498},-266.7953086103247,271.05236142130161,52.971003322284162,{"$f":"ThreePosition_Basic2($E$3,$E$5,$B$3:$C$3,$B$5:$C$5,B130,D130)","v":-48.376025100702648},-142.83214796130926,-203.02549299961601,176.9341639712996]
[61.5,1.0733774899765127,{"$f":"Burmester($B$3:$C$3,$B$4:$C$4,$B$5:$C$5,$E$3,$E$4,$E$5,B131)","v":5.8667743386247846},1.1131512412990521,{"$f":"ThreePosition_Basic2($E$3,$E$5,$B$3:$C$3,$B$5:$C$5,B131,C131)","v":423.78352676131686},-265.31237170522161,271.65619463895177,52.7725163763551,{"$f":"ThreePosition_Basic2($E$3,$E$5,$B$3:$C$3,$B$5:$C$5,B131,D131)","v":-48.961096509649437},-143.22896411765757,-201.08842863201448,174.85592396391914]
[62,1.0821041362364843,{"$f":"Burmester($B$3:$C$3,$B$4:$C$4,$B$5:$C$5,$E$3,$E$4,$E$5,B132)","v":5.870564178986978},1.1241727663059935,{"$f":"ThreePosition_Basic2($E$3,$E$5,$B$3:$C$3,$B$5:$C$5,B132,C132)","v":421.89993736117674},-263.84954055768247,272.25801500859905,52.578407677369341,{"$f":"ThreePosition_Basic2($E$3,$E$5,$B$3:$C$3,$B$5:$C$5,B132,D132)","v":-49.540476110604708},-143.63168478964567,-199.18239846318244,172.79626344540614]
[62.5,1.0908307824964558,{"$f":"Burmester($B$3:$C$3,$B$4:$C$4,$B$5:$C$5,$E$3,$E$4,$E$5,B133)","v":5.874347765646756},1.1352175694885369,{"$f":"ThreePosition_Basic2($E$3,$E$5,$B$3:$C$3,$B$5:$C$5,B133,C133)","v":420.05018088188848},-262.40623874969759,272.85783126917511,52.388660992111284,{"$f":"ThreePosition_Basic2($E$3,$E$5,$B$3:$C$3,$B$5:$C$5,B133,D133)","v":-50.114142461512841},-144.04028911390344,-197.30649207422621,170.75461062790544]
[63,1.0995574287564276,{"$f":"Burmester($B$3:$C$3,$B$4:$C$4,$B$5:$C$5,$E$3,$E$4,$E$5,B134)","v":5.8781254045868865},1.1462855356633113,{"$f":"ThreePosition_Basic2($E$3,$E$5,$B$3:$C$3,$B$5:$C$5,B134,C134)","v":418.23340551189676},-260.98190832340777,273.4556524425783,52.203260389471154,{"$f":"ThreePosition_Basic2($E$3,$E$5,$B$3:$C$3,$B$5:$C$5,B134,D134)","v":-50.682074009191034},-144.45475624818204,-195.45982707850948,168.73041246469688]
[63.5,1.1082840750163994,{"$f":"Burmester($B$3:$C$3,$B$4:$C$4,$B$5:$C$5,$E$3,$E$4,$E$5,B135)","v":5.8818973998124635},1.1573765527283297,{"$f":"ThreePosition_Basic2($E$3,$E$5,$B$3:$C$3,$B$5:$C$5,B135,C135)","v":416.44878674120667},-259.57600903411213,274.05148781735625,52.02219024845482,{"$f":"ThreePosition_Basic2($E$3,$E$5,$B$3:$C$3,$B$5:$C$5,B135,D135)","v":-51.244249070680802},-144.87506537129107,-193.64154799453124,166.72313391127588]
[64,1.1170107212763709,{"$f":"Burmester($B$3:$C$3,$B$4:$C$4,$B$5:$C$5,$E$3,$E$4,$E$5,B136)","v":5.8856640533974067},1.1684905116246298,{"$f":"ThreePosition_Basic2($E$3,$E$5,$B$3:$C$3,$B$5:$C$5,B136,C136)","v":414.69552628896645},-258.18801763823245,274.64534693280882,51.845435265872595,{"$f":"ThreePosition_Basic2($E$3,$E$5,$B$3:$C$3,$B$5:$C$5,B136,D136)","v":-51.800645815063049},-145.30119568255088,-191.85082517122066,164.73225722155416]
[64.5,{"$f":"A137*PI()/180","v":1.1257373675363425},{"$f":"Burmester($B$3:$C$3,$B$4:$C$4,$B$5:$C$5,$E$3,$E$4,$E$5,B137)","v":5.8894256655315145},1.1796273062972322,{"$f":"ThreePosition_Basic2($E$3,$E$5,$B$3:$C$3,$B$5:$C$5,B137,C137)","v":412.97285108059322},-256.81742721434443,275.2372395634992,51.672980463718204,{"$f":"ThreePosition_Basic2($E$3,$E$5,$B$3:$C$3,$B$5:$C$5,B137,D137)","v":-52.351242245730404},-145.73312640076972,-190.08685376282443,162.75728127729292]
[65,1.1344640137963142,{"$f":"Burmester($B$3:$C$3,$B$4:$C$4,$B$5:$C$5,$E$3,$E$4,$E$5,B138)","v":5.8931825345680178},1.1907868336554577,{"$f":"ThreePosition_Basic2($E$3,$E$5,$B$3:$C$3,$B$5:$C$5,B138,C138)","v":411.28001227179254},-255.46374651550158,275.82717570416901,51.504811196247459,{"$f":"ThreePosition_Basic2($E$3,$E$5,$B$3:$C$3,$B$5:$C$5,B138,D138)","v":-52.896016183110675},-146.17083676275479,-188.34885275073421,160.79772094899425]
[65.5,1.143190660056286,{"$f":"Burmester($B$3:$C$3,$B$4:$C$4,$B$5:$C$5,$E$3,$E$4,$E$5,B139)","v":5.8969349570715845},1.2019689935326427,{"$f":"ThreePosition_Basic2($E$3,$E$5,$B$3:$C$3,$B$5:$C$5,B139,C139)","v":409.61628431697386},-254.12649935118441,276.41516555504575,51.34091315676767,{"$f":"ThreePosition_Basic2($E$3,$E$5,$B$3:$C$3,$B$5:$C$5,B139,D139)","v":-53.434945247837646},-146.61430602136554,-186.63606400976579,158.85310648658654]
[66,1.1519173063162575,{"$f":"Burmester($B$3:$C$3,$B$4:$C$4,$B$5:$C$5,$E$3,$E$4,$E$5,B140)","v":5.9006832278667538},1.2131736886452849,{"$f":"ThreePosition_Basic2($E$3,$E$5,$B$3:$C$3,$B$5:$C$5,B140,C140)","v":407.98096407971792},-252.80522399730378,277.00121950753055,51.181272384154425,{"$f":"ThreePosition_Basic2($E$3,$E$5,$B$3:$C$3,$B$5:$C$5,B140,D140)","v":-53.968006844359124},-147.06351344311454,-184.94775141654651,156.92298293834367]
[66.5,1.1606439525762291,{"$f":"Burmester($B$3:$C$3,$B$4:$C$4,$B$5:$C$5,$E$3,$E$4,$E$5,B141)","v":5.9044276400867277},1.2244008245516615,{"$f":"ThreePosition_Basic2($E$3,$E$5,$B$3:$C$3,$B$5:$C$5,B141,C141)","v":406.37336998309905},-251.49947263279293,277.5853481302633,51.025875269097611,{"$f":"ThreePosition_Basic2($E$3,$E$5,$B$3:$C$3,$B$5:$C$5,B141,D141)","v":-54.495178144982319},-147.51843830532778,-183.28319999781809,155.00690959656276]
[67,1.1693705988362006,{"$f":"Burmester($B$3:$C$3,$B$4:$C$4,$B$5:$C$5,$E$3,$E$4,$E$5,B142)","v":5.9081684852225047},1.2356503096099432,{"$f":"ThreePosition_Basic2($E$3,$E$5,$B$3:$C$3,$B$5:$C$5,B142,C142)","v":404.79284119778544},-250.20881080139745,278.16756215555017,50.874708560092728,{"$f":"ThreePosition_Basic2($E$3,$E$5,$B$3:$C$3,$B$5:$C$5,B142,D142)","v":-55.016436074345485},-147.97905989286934,-181.64171511658071,153.10445946862083]
[67.5,1.1780972450961724,{"$f":"Burmester($B$3:$C$3,$B$4:$C$4,$B$5:$C$5,$E$3,$E$4,$E$5,B143)","v":5.9119060531723164},1.246922054935838,{"$f":"ThreePosition_Basic2($E$3,$E$5,$B$3:$C$3,$B$5:$C$5,B143,C143)","v":403.23873686596892},-248.93281689735875,278.74787246614557,50.72775936919021,{"$f":"ThreePosition_Basic2($E$3,$E$5,$B$3:$C$3,$B$5:$C$5,B143,D143)","v":-55.531757294313778},-148.44535749443838,-180.02262169413714,151.21521877211057]
[68,1.1868238913561442,{"$f":"Burmester($B$3:$C$3,$B$4:$C$4,$B$5:$C$5,$E$3,$E$4,$E$5,B144)","v":5.9156406322913107},1.2582159743597887,{"$f":"ThreePosition_Basic2($E$3,$E$5,$B$3:$C$3,$B$5:$C$5,B144,C144)","v":401.71043535929266},-247.67108167377216,279.32629008238166,50.585015177501873,{"$f":"ThreePosition_Basic2($E$3,$E$5,$B$3:$C$3,$B$5:$C$5,B144,D144)","v":-56.041118189291822},-148.91731039844575,-178.42526346620286,149.33878645282829]
[68.5,1.1955505376161157,{"$f":"Burmester($B$3:$C$3,$B$4:$C$4,$B$5:$C$5,$E$3,$E$4,$E$5,B145)","v":5.9193725094414908},1.269531984383748,{"$f":"ThreePosition_Basic2($E$3,$E$5,$B$3:$C$3,$B$5:$C$5,B145,C145)","v":400.20733356903884},-246.42320777244854,279.90282614962962,50.446463840490907,{"$f":"ThreePosition_Basic2($E$3,$E$5,$B$3:$C$3,$B$5:$C$5,B145,D145)","v":-56.544494851947576},-149.39489788847607,-176.8490022713568,147.47477372446338]
[69,1.2042771838760873,{"$f":"Burmester($B$3:$C$3,$B$4:$C$4,$B$5:$C$5,$E$3,$E$4,$E$5,B146)","v":5.9231019700418246},1.2808700041375658,{"$f":"ThreePosition_Basic2($E$3,$E$5,$B$3:$C$3,$B$5:$C$5,B146,C146)","v":398.72884622695966},-245.18880927420963,280.47749192609285,50.312093593034888,{"$f":"ThreePosition_Basic2($E$3,$E$5,$B$3:$C$3,$B$5:$C$5,B146,D146)","v":-57.041863069345901},-149.87809923834487,-175.29321737021269,145.62280362889965]
[69.5,1.2130038301360591,{"$f":"Burmester($B$3:$C$3,$B$4:$C$4,$B$5:$C$5,$E$3,$E$4,$E$5,B147)","v":5.9268292981185553},1.2922299553349834,{"$f":"ThreePosition_Basic2($E$3,$E$5,$B$3:$C$3,$B$5:$C$5,B147,C147)","v":397.2744052552012},-243.96751126856893,281.05029877090954,50.181893054292146,{"$f":"ThreePosition_Basic2($E$3,$E$5,$B$3:$C$3,$B$5:$C$5,B147,D147)","v":-57.533198309478777},-150.36689370675145,-173.75730479377043,143.78251061610962]
[70,1.2217304763960306,{"$f":"Burmester($B$3:$C$3,$B$4:$C$4,$B$5:$C$5,$E$3,$E$4,$E$5,B148)","v":5.9305547763556303},1.3036117622292822,{"$f":"ThreePosition_Basic2($E$3,$E$5,$B$3:$C$3,$B$5:$C$5,B148,C148)","v":395.84345914388649},-242.75894944184984,281.62125813256932,50.055851232361647,{"$f":"ThreePosition_Basic2($E$3,$E$5,$B$3:$C$3,$B$5:$C$5,B148,D148)","v":-58.018475708196647},-150.86126053154086,-172.24067671951383,141.95354014267062]
[70.5,1.2304571226560022,{"$f":"Burmester($B$3:$C$3,$B$4:$C$4,$B$5:$C$5,$E$3,$E$4,$E$5,B149)","v":5.9342786861452659},1.3150153515685827,{"$f":"ThreePosition_Basic2($E$3,$E$5,$B$3:$C$3,$B$5:$C$5,B149,C149)","v":394.43547235497635},-241.56276968281136,282.1903815376221,49.933957528758157,{"$f":"ThreePosition_Basic2($E$3,$E$5,$B$3:$C$3,$B$5:$C$5,B149,D149)","v":-58.497670056528968},-151.3611789235739,-170.74276087388324,140.13554828799562]
[71,1.2391837689159739,{"$f":"Burmester($B$3:$C$3,$B$4:$C$4,$B$5:$C$5,$E$3,$E$4,$E$5,B150)","v":5.938001307638598},1.3264406525508166,{"$f":"ThreePosition_Basic2($E$3,$E$5,$B$3:$C$3,$B$5:$C$5,B150,C150)","v":393.04992475112743},-240.37862770492848,282.75768057967707,49.816201742705118,{"$f":"ThreePosition_Basic2($E$3,$E$5,$B$3:$C$3,$B$5:$C$5,B150,D150)","v":-58.970755788391891},-151.86662806021511,-169.26299995984229,138.32820138741849]
[71.5,1.2479104151759457,{"$f":"Burmester($B$3:$C$3,$B$4:$C$4,$B$5:$C$5,$E$3,$E$4,$E$5,B151)","v":5.9417229197964101},1.3378875967783839,{"$f":"ThreePosition_Basic2($E$3,$E$5,$B$3:$C$3,$B$5:$C$5,B151,C151)","v":391.68631104832446},-239.20618868450774,283.32316690867998,49.702574075255285,{"$f":"ThreePosition_Basic2($E$3,$E$5,$B$3:$C$3,$B$5:$C$5,B151,D151)","v":-59.437706968680082},-152.37758707844304,-167.80085110832454,136.53117568131998]
[72,1.2566370614359172,{"$f":"Burmester($B$3:$C$3,$B$4:$C$4,$B$5:$C$5,$E$3,$E$4,$E$5,B152)","v":5.9454438004399046},1.349356118212508,{"$f":"ThreePosition_Basic2($E$3,$E$5,$B$3:$C$3,$B$5:$C$5,B152,C152)","v":390.3441402911352},-238.04512691387202,283.88685222045916,49.593065133245318,{"$f":"ThreePosition_Basic2($E$3,$E$5,$B$3:$C$3,$B$5:$C$5,B152,D152)","v":-59.898497281735963},-152.89403506758694,-166.355785352412,134.7441569795304]
[72.5,1.2653637076958888,{"$f":"Burmester($B$3:$C$3,$B$4:$C$4,$B$5:$C$5,$E$3,$E$4,$E$5,B153)","v":5.9491642263015176},1.3608461531272948,{"$f":"ThreePosition_Basic2($E$3,$E$5,$B$3:$C$3,$B$5:$C$5,B153,C153)","v":389.0229353495007},-236.89512546888363,284.44874824653158,49.487665933095741,{"$f":"ThreePosition_Basic2($E$3,$E$5,$B$3:$C$3,$B$5:$C$5,B153,D153)","v":-60.353100020194383},-153.4159510616964,-164.92728712316352,132.96684034028297]
[73,1.2740903539558606,{"$f":"Burmester($B$3:$C$3,$B$4:$C$4,$B$5:$C$5,$E$3,$E$4,$E$5,B154)","v":5.9528844730757342},1.3723576400635025,{"$f":"ThreePosition_Basic2($E$3,$E$5,$B$3:$C$3,$B$5:$C$5,B154,C154)","v":387.72223243603077},-235.75587589012201,285.00886674415949,49.386367904458837,{"$f":"ThreePosition_Basic2($E$3,$E$5,$B$3:$C$3,$B$5:$C$5,B154,D154)","v":-60.801488074197664},-153.94331403154689,-163.51485376606891,131.19892976303396]
[73.5,1.2828170002158323,{"$f":"Burmester($B$3:$C$3,$B$4:$C$4,$B$5:$C$5,$E$3,$E$4,$E$5,B155)","v":5.9566048154699107},1.3838905197820355,{"$f":"ThreePosition_Basic2($E$3,$E$5,$B$3:$C$3,$B$5:$C$5,B155,C155)","v":386.44158064282959},-234.62707787706148,285.56721948664733,49.289162893726655,{"$f":"ThreePosition_Basic2($E$3,$E$5,$B$3:$C$3,$B$5:$C$5,B155,D155)","v":-61.243633920978873},-154.47610287628723,-162.11799507716117,129.44013789450091]
[74,1.2915436464758039,{"$f":"Burmester($B$3:$C$3,$B$4:$C$4,$B$5:$C$5,$E$3,$E$4,$E$5,B156)","v":5.9603255272550708},1.3954447352171564,{"$f":"ThreePosition_Basic2($E$3,$E$5,$B$3:$C$3,$B$5:$C$5,B156,C156)","v":385.18054149693313},-233.5084389946386,286.1238182538716,49.196043167402422,{"$f":"ThreePosition_Basic2($E$3,$E$5,$B$3:$C$3,$B$5:$C$5,B156,D156)","v":-61.679509614809021},-155.01429641473149,-160.7362328578705,127.69018574730953]
[74.5,1.3002702927357754,{"$f":"Burmester($B$3:$C$3,$B$4:$C$4,$B$5:$C$5,$E$3,$E$4,$E$5,B157)","v":5.9640468813166718},1.4070202314294338,{"$f":"ThreePosition_Basic2($E$3,$E$5,$B$3:$C$3,$B$5:$C$5,B157,C157)","v":383.93868853348346},-232.39967439162163,286.67867482303507,49.107001415343944,{"$f":"ThreePosition_Basic2($E$3,$E$5,$B$3:$C$3,$B$5:$C$5,B157,D157)","v":-62.109086777306793},-155.55787337630156,-159.36910048775519,125.94880243066402]
[75,1.3089969389957472,{"$f":"Burmester($B$3:$C$3,$B$4:$C$4,$B$5:$C$5,$E$3,$E$4,$E$5,B158)","v":5.9677691497053198},1.4186169555584121,{"$f":"ThreePosition_Basic2($E$3,$E$5,$B$3:$C$3,$B$5:$C$5,B158,C158)","v":382.7156068858136},-231.30050653023559,287.23180095963272,49.022030753884934,{"$f":"ThreePosition_Basic2($E$3,$E$5,$B$3:$C$3,$B$5:$C$5,B158,D158)","v":-62.532336588106212},-156.10681239162247,-158.01614251428708,124.21572489249806]
[75.5,1.3177235852557188,{"$f":"Burmester($B$3:$C$3,$B$4:$C$4,$B$5:$C$5,$E$3,$E$4,$E$5,B159)","v":5.9714926036874267},1.4302348567750121,{"$f":"ThreePosition_Basic2($E$3,$E$5,$B$3:$C$3,$B$5:$C$5,B159,C159)","v":381.5108928916618},-230.21066492651678,287.78320840862546,48.941124728840776,{"$f":"ThreePosition_Basic2($E$3,$E$5,$B$3:$C$3,$B$5:$C$5,B159,D159)","v":-62.949229775882003},-156.66109198277445,-156.67691425891837,122.49069767258311]
[76,1.3264502315156903,{"$f":"Burmester($B$3:$C$3,$B$4:$C$4,$B$5:$C$5,$E$3,$E$4,$E$5,B160)","v":5.9752175137957941},1.4418738862336669,{"$f":"ThreePosition_Basic2($E$3,$E$5,$B$3:$C$3,$B$5:$C$5,B160,C160)","v":380.32415371477077},-229.12988590090364,288.33290888580893,48.864277318404305,{"$f":"ThreePosition_Basic2($E$3,$E$5,$B$3:$C$3,$B$5:$C$5,B160,D160)","v":-63.359736609729744},-157.22069055320569,-155.3509814386916,120.77347266610226]
[76.5,1.3351768777756621,{"$f":"Burmester($B$3:$C$3,$B$4:$C$4,$B$5:$C$5,$E$3,$E$4,$E$5,B161)","v":5.9789441498801157},1.453533997024179,{"$f":"ThreePosition_Basic2($E$3,$E$5,$B$3:$C$3,$B$5:$C$5,B161,C161)","v":379.15500698117035},-228.0579123385937,288.88091406937167,48.791482935938774,{"$f":"ThreePosition_Basic2($E$3,$E$5,$B$3:$C$3,$B$5:$C$5,B161,D161)","v":-63.763826890898727},-157.78558637730882,-154.03791980269739,119.06380889722365]
[77,1.3439035240356338,{"$f":"Burmester($B$3:$C$3,$B$4:$C$4,$B$5:$C$5,$E$3,$E$4,$E$5,B162)","v":5.9826727811573832},1.4652151441233034,{"$f":"ThreePosition_Basic2($E$3,$E$5,$B$3:$C$3,$B$5:$C$5,B162,C162)","v":378.00308042947637},-226.99449345922474,289.42723559163318,48.7227364326707,{"$f":"ThreePosition_Basic2($E$3,$E$5,$B$3:$C$3,$B$5:$C$5,B162,D162)","v":-64.16146994487751},-158.35575758966456,-152.73731478272072,117.36147230223088]
[77.5,1.3526301702956054,{"$f":"Burmester($B$3:$C$3,$B$4:$C$4,$B$5:$C$5,$E$3,$E$4,$E$5,B163)","v":5.9864036762621966},1.4769172843460501,{"$f":"ThreePosition_Basic2($E$3,$E$5,$B$3:$C$3,$B$5:$C$5,B163,C163)","v":376.86801157456841},-225.93938459545285,289.97188503095106,48.658033100292016,{"$f":"ThreePosition_Basic2($E$3,$E$5,$B$3:$C$3,$B$5:$C$5,B163,D163)","v":-64.552634613829113},-158.93118217395372,-151.44876115744648,115.66623552179115]
[78,1.3613568165555769,{"$f":"Burmester($B$3:$C$3,$B$4:$C$4,$B$5:$C$5,$E$3,$E$4,$E$5,B164)","v":5.990137103296961},1.4886403762967029,{"$f":"ThreePosition_Basic2($E$3,$E$5,$B$3:$C$3,$B$5:$C$5,B164,C164)","v":375.74944738405139},-224.89234698003185,290.51487390379367,48.597368673473284,{"$f":"ThreePosition_Basic2($E$3,$E$5,$B$3:$C$3,$B$5:$C$5,B164,D164)","v":-64.937289249378111},-159.5118379515439,-150.17186272963585,113.97787770196123]
[78.5,1.3700834628155485,{"$f":"Burmester($B$3:$C$3,$B$4:$C$4,$B$5:$C$5,$E$3,$E$4,$E$5,B165)","v":5.9938733298819615},1.5003843803195456,{"$f":"ThreePosition_Basic2($E$3,$E$5,$B$3:$C$3,$B$5:$C$5,B165,C165)","v":374.64704396692582},-223.85314754101316,291.05621365696663,48.540739332292986,{"$f":"ThreePosition_Basic2($E$3,$E$5,$B$3:$C$3,$B$5:$C$5,B165,D165)","v":-65.315401705746169},-160.09770256974994,-148.90623201570537,112.2961843035562]
[79,1.3788101090755203,{"$f":"Burmester($B$3:$C$3,$B$4:$C$4,$B$5:$C$5,$E$3,$E$4,$E$5,B166)","v":5.9976126232053204},1.5121492584492884,{"$f":"ThreePosition_Basic2($E$3,$E$5,$B$3:$C$3,$B$5:$C$5,B166,C166)","v":373.56046627392533},-222.8215587047024,291.59591565998539,48.488141704590873,{"$f":"ThreePosition_Basic2($E$3,$E$5,$B$3:$C$3,$B$5:$C$5,B166,D166)","v":-65.686939333238755},-160.68875348977264,-147.65148994717867,110.62094691952063]
[79.5,1.387536755335492,{"$f":"Burmester($B$3:$C$3,$B$4:$C$4,$B$5:$C$5,$E$3,$E$4,$E$5,B167)","v":6.0013552500728196},1.5239349743611827,{"$f":"ThreePosition_Basic2($E$3,$E$5,$B$3:$C$3,$B$5:$C$5,B167,C167)","v":372.48938780900761},-221.79735820603338,292.13399119758765,48.439572868246557,{"$f":"ThreePosition_Basic2($E$3,$E$5,$B$3:$C$3,$B$5:$C$5,B167,D167)","v":-66.0518689720802},-161.28496797431768,-146.40726558350016,108.95196309996226]
[80,1.3962634015954636,{"$f":"Burmester($B$3:$C$3,$B$4:$C$4,$B$5:$C$5,$E$3,$E$4,$E$5,B168)","v":6.0051014769575826},1.5357414933208269,{"$f":"ThreePosition_Basic2($E$3,$E$5,$B$3:$C$3,$B$5:$C$5,B168,C168)","v":371.43349035150788},-220.78032890603345,292.67045146237638,48.395030353387483,{"$f":"ThreePosition_Basic2($E$3,$E$5,$B$3:$C$3,$B$5:$C$5,B168,D168)","v":-66.410156946602442},-161.88632307489763,-145.17319583573396,107.2890361845233]
[80.5,1.4049900478554351,{"$f":"Burmester($B$3:$C$3,$B$4:$C$4,$B$5:$C$5,$E$3,$E$4,$E$5,B169)","v":6.0088515700496217},1.5475687821336352,{"$f":"ThreePosition_Basic2($E$3,$E$5,$B$3:$C$3,$B$5:$C$5,B169,C169)","v":370.39246368848876},-219.77025861606833,293.20530754758596,48.354512144533516,{"$f":"ThreePosition_Basic2($E$3,$E$5,$B$3:$C$3,$B$5:$C$5,B169,D169)","v":-66.761769059782736},-162.49279561881718,-143.94892520068555,105.63197514178466]
[81,1.4137166941154069,{"$f":"Burmester($B$3:$C$3,$B$4:$C$4,$B$5:$C$5,$E$3,$E$4,$E$5,B170)","v":6.0126057953052285},1.5594168090939766,{"$f":"ThreePosition_Basic2($E$3,$E$5,$B$3:$C$3,$B$5:$C$5,B170,C170)","v":369.36600535684403},-218.76693992857565,293.73857043996315,48.318016682678262,{"$f":"ThreePosition_Basic2($E$3,$E$5,$B$3:$C$3,$B$5:$C$5,B170,D170)","v":-67.106670588137831},-163.10436219584773,-142.73410550501873,103.98059441540619]
[81.5,1.4224433403753785,{"$f":"Burmester($B$3:$C$3,$B$4:$C$4,$B$5:$C$5,$E$3,$E$4,$E$5,B171)","v":6.0163644184962148},1.5712855439339541,{"$f":"ThreePosition_Basic2($E$3,$E$5,$B$3:$C$3,$B$5:$C$5,B171,C171)","v":368.35382039473734},-217.77017005400643,294.27025101275888,48.285542867312529,{"$f":"ThreePosition_Basic2($E$3,$E$5,$B$3:$C$3,$B$5:$C$5,B171,D171)","v":-67.444826276970787},-163.72099914458818,-141.52839565894928,102.33471377673078]
[82,1.43116998663535,{"$f":"Burmester($B$3:$C$3,$B$4:$C$4,$B$5:$C$5,$E$3,$E$4,$E$5,B172)","v":6.0201277052590081},1.5831749577718253,{"$f":"ThreePosition_Basic2($E$3,$E$5,$B$3:$C$3,$B$5:$C$5,B172,C172)","v":367.35562110196793},-216.7797506637053,294.80036001881643,48.257090058395676,{"$f":"ThreePosition_Basic2($E$3,$E$5,$B$3:$C$3,$B$5:$C$5,B172,D172)","v":-67.776200335976441},-164.34268253851843,-140.33146141912792,100.69415818358254]
[82.5,1.4398966328953218,{"$f":"Burmester($B$3:$C$3,$B$4:$C$4,$B$5:$C$5,$E$3,$E$4,$E$5,B173)","v":6.0238959211435681},1.5950850230600471,{"$f":"ThreePosition_Basic2($E$3,$E$5,$B$3:$C$3,$B$5:$C$5,B173,C173)","v":366.3711268088893},-215.79548773848325,295.32890808375703,48.232658078271584,{"$f":"ThreePosition_Basic2($E$3,$E$5,$B$3:$C$3,$B$5:$C$5,B173,D173)","v":-68.100756435207089},-164.96938817174561,-139.1429751603394,99.058757645009223]
[83,1.4486232791552935,{"$f":"Burmester($B$3:$C$3,$B$4:$C$4,$B$5:$C$5,$E$3,$E$4,$E$5,B174)","v":6.027669331662155},1.6070157135329208,{"$f":"ThreePosition_Basic2($E$3,$E$5,$B$3:$C$3,$B$5:$C$5,B174,C174)","v":365.40006365351184},-214.8171914226358,295.85590569924886,48.212247213539456,{"$f":"ThreePosition_Basic2($E$3,$E$5,$B$3:$C$3,$B$5:$C$5,B174,D174)","v":-68.418457701399007},-165.60109154444353,-137.96261565566195,97.428347091731723]
[83.5,1.4573499254152653,{"$f":"Burmester($B$3:$C$3,$B$4:$C$4,$B$5:$C$5,$E$3,$E$4,$E$5,B175)","v":6.0314482023379252},1.6189670041538395,{"$f":"ThreePosition_Basic2($E$3,$E$5,$B$3:$C$3,$B$5:$C$5,B175,C175)","v":364.44216436644376},-213.84467588318023,296.3813632163567,48.195858216877753,{"$f":"ThreePosition_Basic2($E$3,$E$5,$B$3:$C$3,$B$5:$C$5,B175,D175)","v":-68.729266714667787},-166.23776784799085,-136.79006786475486,95.80276625206713]
[84,1.4660765716752369,{"$f":"Burmester($B$3:$C$3,$B$4:$C$4,$B$5:$C$5,$E$3,$E$4,$E$5,B176)","v":6.0352327987533565},1.6309388710621076,{"$f":"ThreePosition_Basic2($E$3,$E$5,$B$3:$C$3,$B$5:$C$5,B176,C176)","v":363.49716806334243},-212.87775917409354,296.90529083896354,48.18349230882572,{"$f":"ThreePosition_Basic2($E$3,$E$5,$B$3:$C$3,$B$5:$C$5,B176,D176)","v":-69.033145505570673},-166.87939194980586,-135.62502272994959,94.181859533113396]
[84.5,1.4748032179352084,{"$f":"Burmester($B$3:$C$3,$B$4:$C$4,$B$5:$C$5,$E$3,$E$4,$E$5,B177)","v":6.0390233865985037},1.6429312915193226,{"$f":"ThreePosition_Basic2($E$3,$E$5,$B$3:$C$3,$B$5:$C$5,B177,C177)","v":362.56482004455546},-211.91626310534281,297.42769861725549,48.17515117952388,{"$f":"ThreePosition_Basic2($E$3,$E$5,$B$3:$C$3,$B$5:$C$5,B177,D177)","v":-69.330055552544152},-167.52593837788262,-134.46717697984417,92.565475906984062]
[85,1.4835298641951802,{"$f":"Burmester($B$3:$C$3,$B$4:$C$4,$B$5:$C$5,$E$3,$E$4,$E$5,B178)","v":6.042820231719082},1.6549442438552981,{"$f":"ThreePosition_Basic2($E$3,$E$5,$B$3:$C$3,$B$5:$C$5,B178,C178)","v":361.64487160165822},-210.96001311650929,297.94859644126751,48.170836990417797,{"$f":"ThreePosition_Basic2($E$3,$E$5,$B$3:$C$3,$B$5:$C$5,B178,D178)","v":-69.619957779718462},-168.17738130502786,-133.31623294010916,90.95346880189922]
[85.5,1.4922565104551517,{"$f":"Burmester($B$3:$C$3,$B$4:$C$4,$B$5:$C$5,$E$3,$E$4,$E$5,B179)","v":6.0466236001643638},1.6669777074135186,{"$f":"ThreePosition_Basic2($E$3,$E$5,$B$3:$C$3,$B$5:$C$5,B179,C179)","v":360.73707983059626},-210.00883815482049,298.46799403447966,48.170552375923904,{"$f":"ThreePosition_Basic2($E$3,$E$5,$B$3:$C$3,$B$5:$C$5,B179,D179)","v":-69.902812555115702},-168.83369453280383,-132.1718983512323,89.345695997940567]
[86,1.5009831567151233,{"$f":"Burmester($B$3:$C$3,$B$4:$C$4,$B$5:$C$5,$E$3,$E$4,$E$5,B180)","v":6.050433758234905},1.6790316624960953,{"$f":"ThreePosition_Basic2($E$3,$E$5,$B$3:$C$3,$B$5:$C$5,B180,C180)","v":359.8412074511607},-209.06257055740633,298.98590094745828,48.174300445061931,{"$f":"ThreePosition_Basic2($E$3,$E$5,$B$3:$C$3,$B$5:$C$5,B180,D180)","v":-70.178579689235136},-169.49485147517407,-131.03388619293753,87.74201952729419]
[86.5,1.509709802975095,{"$f":"Burmester($B$3:$C$3,$B$4:$C$4,$B$5:$C$5,$E$3,$E$4,$E$5,B181)","v":6.0542509725300864},1.6911060903082182,{"$f":"ThreePosition_Basic2($E$3,$E$5,$B$3:$C$3,$B$5:$C$5,B181,C181)","v":358.95702263253497},-208.12104593761117,299.50232655153548,48.18208478305516,{"$f":"ThreePosition_Basic2($E$3,$E$5,$B$3:$C$3,$B$5:$C$5,B181,D181)","v":-70.447218434032422},-170.16082514186013,-129.90191451503193,86.142305578806202]
[87,1.5184364492350666,{"$f":"Burmester($B$3:$C$3,$B$4:$C$4,$B$5:$C$5,$E$3,$E$4,$E$5,B182)","v":6.0580755099954686},1.7032009729020721,{"$f":"ThreePosition_Basic2($E$3,$E$5,$B$3:$C$3,$B$5:$C$5,B182,C182)","v":358.08429882466578},-207.18410307519756,300.01728003252146,48.19390945289868,{"$f":"ThreePosition_Basic2($E$3,$E$5,$B$3:$C$3,$B$5:$C$5,B182,D182)","v":-70.708687482297947},-170.83158812140547,-128.77570627444229,84.546424406690761]
[87.5,1.5271630954950381,{"$f":"Burmester($B$3:$C$3,$B$4:$C$4,$B$5:$C$5,$E$3,$E$4,$E$5,B183)","v":6.0619076379699699},1.7153162931202051,{"$f":"ThreePosition_Basic2($E$3,$E$5,$B$3:$C$3,$B$5:$C$5,B183,C183)","v":357.22281459521611},-206.25158381028336,300.53077038444121,48.209778996899871,{"$f":"ThreePosition_Basic2($E$3,$E$5,$B$3:$C$3,$B$5:$C$5,B183,D183)","v":-70.962944967439924},-171.50711256395186,-127.65498917821479,82.954250243231371]
[88,1.5358897417550099,{"$f":"Burmester($B$3:$C$3,$B$4:$C$4,$B$5:$C$5,$E$3,$E$4,$E$5,B184)","v":6.0657476242328352},1.7274520345383295,{"$f":"ThreePosition_Basic2($E$3,$E$5,$B$3:$C$3,$B$5:$C$5,B184,C184)","v":356.37235347187857},-205.32333294087118,301.04280640329313,48.229698438185778,{"$f":"ThreePosition_Basic2($E$3,$E$5,$B$3:$C$3,$B$5:$C$5,B184,D184)","v":-71.209948463681528},-172.18737016373066,-126.53949553226698,81.365661215326298]
[88.5,1.5446163880149817,{"$f":"Burmester($B$3:$C$3,$B$4:$C$4,$B$5:$C$5,$E$3,$E$4,$E$5,B185)","v":6.0695957370504425},1.739608181407527,{"$f":"ThreePosition_Basic2($E$3,$E$5,$B$3:$C$3,$B$5:$C$5,B185,C185)","v":355.53270378982489},-204.39919812381632,301.55339668081666,48.253673282189141,{"$f":"ThreePosition_Basic2($E$3,$E$5,$B$3:$C$3,$B$5:$C$5,B185,D185)","v":-71.449654986675682},-172.87233214126911,-125.42896209568391,79.780539264736348]
[89,1.5533430342749535,{"$f":"Burmester($B$3:$C$3,$B$4:$C$4,$B$5:$C$5,$E$3,$E$4,$E$5,B186)","v":6.0734522452228905},1.7517847185958451,{"$f":"ThreePosition_Basic2($E$3,$E$5,$B$3:$C$3,$B$5:$C$5,B186,C186)","v":354.70365854409056},-203.47902977911053,302.0625495982718,48.281709518101934,{"$f":"ThreePosition_Basic2($E$3,$E$5,$B$3:$C$3,$B$5:$C$5,B186,D186)","v":-71.682020994546804},-173.56196922531598,-124.32312994036558,78.19877007189649]
[89.5,1.562069680534925,{"$f":"Burmester($B$3:$C$3,$B$4:$C$4,$B$5:$C$5,$E$3,$E$4,$E$5,B187)","v":6.0773174181304057},1.7639816315292602,{"$f":"ThreePosition_Basic2($E$3,$E$5,$B$3:$C$3,$B$5:$C$5,B187,C187)","v":353.88501524669044},-202.56268099734402,302.57027332021607,48.313813620305524,{"$f":"ThreePosition_Basic2($E$3,$E$5,$B$3:$C$3,$B$5:$C$5,B187,D187)","v":-71.907002389367946},-174.25625163448785,-123.2217443158423,76.620242983161688]
[90,1.5707963267948966,{"$f":"Burmester($B$3:$C$3,$B$4:$C$4,$B$5:$C$5,$E$3,$E$4,$E$5,B188)","v":6.0811915257795466},1.7761989061319858,{"$f":"ThreePosition_Basic2($E$3,$E$5,$B$3:$C$3,$B$5:$C$5,B188,C188)","v":353.07657578827769},-201.65000745022559,303.07657578827769,48.349992549774441,{"$f":"ThreePosition_Basic2($E$3,$E$5,$B$3:$C$3,$B$5:$C$5,B188,D188)","v":-72.124554519079737},-174.95514905863988,-122.12455451907974,75.044850941360153]
[90.5,1.5795229730548681,{"$f":"Burmester($B$3:$C$3,$B$4:$C$4,$B$5:$C$5,$E$3,$E$4,$E$5,B189)","v":6.0850748388492049},1.7884365287661004,{"$f":"ThreePosition_Basic2($E$3,$E$5,$B$3:$C$3,$B$5:$C$5,B189,C189)","v":352.27814630416566},-200.74086730404443,303.58146471491892,48.390253755453358,{"$f":"ThreePosition_Basic2($E$3,$E$5,$B$3:$C$3,$B$5:$C$5,B189,D189)","v":-72.334632179860563},-175.65863063996261,-121.03131376910733,73.472490419535177]
[91,1.5882496193148399,{"$f":"Burmester($B$3:$C$3,$B$4:$C$4,$B$5:$C$5,$E$3,$E$4,$E$5,B190)","v":6.0889676287364036},1.8006944861704797,{"$f":"ThreePosition_Basic2($E$3,$E$5,$B$3:$C$3,$B$5:$C$5,B190,C190)","v":351.48953704453447},-199.83512113595972,304.08494757718097,48.434605175609221,{"$f":"ThreePosition_Basic2($E$3,$E$5,$B$3:$C$3,$B$5:$C$5,B190,D190)","v":-72.537189618958067},-176.3666649538095,-119.94177908631158,71.903061357759441]
[91.5,1.5969762655748114,{"$f":"Burmester($B$3:$C$3,$B$4:$C$4,$B$5:$C$5,$E$3,$E$4,$E$5,B191)","v":6.092870167601891},1.812972765399,{"$f":"ThreePosition_Basic2($E$3,$E$5,$B$3:$C$3,$B$5:$C$5,B191,C191)","v":350.71056224866038},-198.93263185300981,304.58703161040819,48.48305523915829,{"$f":"ThreePosition_Basic2($E$3,$E$5,$B$3:$C$3,$B$5:$C$5,B191,D191)","v":-72.732180537987986},-177.07921998925545,-118.85571117624016,70.33646710291265]
[92,1.605702911834783,{"$f":"Burmester($B$3:$C$3,$B$4:$C$4,$B$5:$C$5,$E$3,$E$4,$E$5,B192)","v":6.0967827284155183},1.8252713537580074,{"$f":"ThreePosition_Basic2($E$3,$E$5,$B$3:$C$3,$B$5:$C$5,B192,C192)","v":349.94104002300327},-198.03326461374269,305.0877238019421,48.535612866964726,{"$f":"ThreePosition_Basic2($E$3,$E$5,$B$3:$C$3,$B$5:$C$5,B192,D192)","v":-72.919558096714994},-177.79626312939513,-117.77287431777614,68.772614351312285]
[92.5,1.6144295580947547,{"$f":"Burmester($B$3:$C$3,$B$4:$C$4,$B$5:$C$5,$E$3,$E$4,$E$5,B193)","v":6.1007055850014051},1.837590238743003,{"$f":"ThreePosition_Basic2($E$3,$E$5,$B$3:$C$3,$B$5:$C$5,B193,C193)","v":349.18079222300582},-197.13688675236639,305.58703088478461,48.592287473114396,{"$f":"ThreePosition_Basic2($E$3,$E$5,$B$3:$C$3,$B$5:$C$5,B193,D193)","v":-73.099274917320031},-178.51776113137771,-116.69303625554124,67.211413094103079]
[93,1.6231562043547263,{"$f":"Burmester($B$3:$C$3,$B$4:$C$4,$B$5:$C$5,$E$3,$E$4,$E$5,B194)","v":6.1046390120828855},1.8499294079745492,{"$f":"ThreePosition_Basic2($E$3,$E$5,$B$3:$C$3,$B$5:$C$5,B194,C194)","v":348.4296443384502},-196.24336770532733,306.08495933121822,48.653088966160652,{"$f":"ThreePosition_Basic2($E$3,$E$5,$B$3:$C$3,$B$5:$C$5,B194,D194)","v":-73.271283089169557},-179.24368010618909,-115.61596809640156,65.652776565298893]
[93.5,1.6318828506146983,{"$f":"Burmester($B$3:$C$3,$B$4:$C$4,$B$5:$C$5,$E$3,$E$4,$E$5,B195)","v":6.1085832853272333},1.8622888491333498,{"$f":"ThreePosition_Basic2($E$3,$E$5,$B$3:$C$3,$B$5:$C$5,B195,C195)","v":347.68742538223887},-195.35257894022769,306.58151534638466,48.718027750341804,{"$f":"ThreePosition_Basic2($E$3,$E$5,$B$3:$C$3,$B$5:$C$5,B195,D195)","v":-73.435534174092965},-179.97398549818007,-114.54144420994717,64.096621192389421]
[94,1.6406094968746698,{"$f":"Burmester($B$3:$C$3,$B$4:$C$4,$B$5:$C$5,$E$3,$E$4,$E$5,B196)","v":6.1125386813901548},1.8746685498944984,{"$f":"ThreePosition_Basic2($E$3,$E$5,$B$3:$C$3,$B$5:$C$5,B196,C196)","v":346.95396778246027},-194.4643938869973,307.07670486181104,48.787114726768834,{"$f":"ThreePosition_Basic2($E$3,$E$5,$B$3:$C$3,$B$5:$C$5,B196,D196)","v":-73.591979212184455},-180.70864206434948,-113.4692421328337,62.542866549416658]
[94.5,1.6493361431346414,{"$f":"Burmester($B$3:$C$3,$B$4:$C$4,$B$5:$C$5,$E$3,$E$4,$E$5,B197)","v":6.1165054779600476},1.8870684978608567,{"$f":"ThreePosition_Basic2($E$3,$E$5,$B$3:$C$3,$B$5:$C$5,B197,C197)","v":346.22910727761314},-193.57868787123866,307.57053352888209,48.86036129458202,{"$f":"ThreePosition_Basic2($E$3,$E$5,$B$3:$C$3,$B$5:$C$5,B197,D197)","v":-73.740568728134718},-181.44761385338353,-112.39914247686579,60.991435312437147]
[95,1.6580627893946132,{"$f":"Burmester($B$3:$C$3,$B$4:$C$4,$B$5:$C$5,$E$3,$E$4,$E$5,B198)","v":6.1204839538020286},1.8994886804955491,{"$f":"ThreePosition_Basic2($E$3,$E$5,$B$3:$C$3,$B$5:$C$5,B198,C198)","v":345.51268281486273},-192.69533804966485,308.06300671224921,48.937779352077428,{"$f":"ThreePosition_Basic2($E$3,$E$5,$B$3:$C$3,$B$5:$C$5,B198,D198)","v":-73.881252738110007},-182.19086418445934,-111.33092884072352,59.442253217282939]
[95.5,1.6667894356545847,{"$f":"Burmester($B$3:$C$3,$B$4:$C$4,$B$5:$C$5,$E$3,$E$4,$E$5,B199)","v":6.1244743888017057},1.9119290850535438,{"$f":"ThreePosition_Basic2($E$3,$E$5,$B$3:$C$3,$B$5:$C$5,B199,C199)","v":344.80453645121355},-191.8142233475622,308.55412948317513,49.019381297796713,{"$f":"ThreePosition_Basic2($E$3,$E$5,$B$3:$C$3,$B$5:$C$5,B199,D199)","v":-74.013980757186943},-182.93835562581657,-110.26438772522538,57.895249019542348]
[96,1.6755160819145563,{"$f":"Burmester($B$3:$C$3,$B$4:$C$4,$B$5:$C$5,$E$3,$E$4,$E$5,B200)","v":6.1284770640087052},1.9243896985122988,{"$f":"ThreePosition_Basic2($E$3,$E$5,$B$3:$C$3,$B$5:$C$5,B200,C200)","v":344.1045132574817},-190.93522439820109,309.0439066128057,49.105180031582961,{"$f":"ThreePosition_Basic2($E$3,$E$5,$B$3:$C$3,$B$5:$C$5,B200,D200)","v":-74.138701807357947},-183.69004997310438,-109.19930845203397,56.350354456679668]
[96.5,{"$f":"A201*PI()/180","v":1.684242728174528},{"$f":"Burmester($B$3:$C$3,$B$4:$C$4,$B$5:$C$5,$E$3,$E$4,$E$5,B201)","v":6.13249226167994},1.9368705075014445,{"$f":"ThreePosition_Basic2($E$3,$E$5,$B$3:$C$3,$B$5:$C$5,B201,C201)","v":343.4124612249592},-190.05822348413039,309.53234256536575,49.195188955598553,{"$f":"ThreePosition_Basic2($E$3,$E$5,$B$3:$C$3,$B$5:$C$5,B201,D201)","v":-74.255364426116913},-184.4459082275072,-108.13548308571036,54.807504212221744]
[97,1.6929693744344996,{"$f":"Burmester($B$3:$C$3,$B$4:$C$4,$B$5:$C$5,$E$3,$E$4,$E$5,B202)","v":6.1365202653226065},1.9493714982314887,{"$f":"ThreePosition_Basic2($E$3,$E$5,$B$3:$C$3,$B$5:$C$5,B202,C202)","v":342.72823117466413},-189.18310448029155,310.01944149127252,49.289421975302844,{"$f":"ThreePosition_Basic2($E$3,$E$5,$B$3:$C$3,$B$5:$C$5,B202,D202)","v":-74.36391667564304},-185.20589057366146,-107.07270635903464,53.266635881932928]
[97.5,1.7016960206944711,{"$f":"Burmester($B$3:$C$3,$B$4:$C$4,$B$5:$C$5,$E$3,$E$4,$E$5,B203)","v":6.1405613597369104},1.9618926564215102,{"$f":"ThreePosition_Basic2($E$3,$E$5,$B$3:$C$3,$B$5:$C$5,B203,C203)","v":342.05167666907596},-188.30975279888955,310.50520722016239,49.387893500386099,{"$f":"ThreePosition_Basic2($E$3,$E$5,$B$3:$C$3,$B$5:$C$5,B203,D203)","v":-74.464306152592769},-185.96995635736434,-106.01077560150634,51.727689941911308]
[98,1.7104226669544429,{"$f":"Burmester($B$3:$C$3,$B$4:$C$4,$B$5:$C$5,$E$3,$E$4,$E$5,B204)","v":6.1446158310585117},1.974433967225816,{"$f":"ThreePosition_Basic2($E$3,$E$5,$B$3:$C$3,$B$5:$C$5,B204,C204)","v":341.38265392625959},-187.43805533596188,310.98964325382559,49.490618445660772,{"$f":"ThreePosition_Basic2($E$3,$E$5,$B$3:$C$3,$B$5:$C$5,B204,D204)","v":-74.55647999851233},-186.738064063086,-104.94949067094635,50.190609718536649]
[98.5,1.7191493132144144,{"$f":"Burmester($B$3:$C$3,$B$4:$C$4,$B$5:$C$5,$E$3,$E$4,$E$5,B205)","v":6.1486839668006699},1.9869954151595524,{"$f":"ThreePosition_Basic2($E$3,$E$5,$B$3:$C$3,$B$5:$C$5,B205,C205)","v":340.72102173628332},-186.56790041959164,311.47275275904315,49.597612231901792,{"$f":"ThreePosition_Basic2($E$3,$E$5,$B$3:$C$3,$B$5:$C$5,B205,D205)","v":-74.640384910891001},-187.5101712912934,-103.88865388813116,48.655341360200026]
[99,1.7278759594743864,{"$f":"Burmester($B$3:$C$3,$B$4:$C$4,$B$5:$C$5,$E$3,$E$4,$E$5,B206)","v":6.1527660558960946},1.9995769840232283,{"$f":"ThreePosition_Basic2($E$3,$E$5,$B$3:$C$3,$B$5:$C$5,B206,C206)","v":340.06664137984336},-185.69917775970833,311.95453856032339,49.708890786638278,{"$f":"ThreePosition_Basic2($E$3,$E$5,$B$3:$C$3,$B$5:$C$5,B206,D206)","v":-74.715967154861545},-188.28623473559139,-102.82806997438152,47.12183381075522]
[99.5,1.736602605734358,{"$f":"Burmester($B$3:$C$3,$B$4:$C$4,$B$5:$C$5,$E$3,$E$4,$E$5,B207)","v":6.1568623887384755},2.0121786568261388,{"$f":"ThreePosition_Basic2($E$3,$E$5,$B$3:$C$3,$B$5:$C$5,B207,C207)","v":339.41937654900727},-184.83177839942954,312.43500313253037,49.824470544888413,{"$f":"ThreePosition_Basic2($E$3,$E$5,$B$3:$C$3,$B$5:$C$5,B207,D207)","v":-74.783172575568756},-189.06621015969412,-101.76754599204568,45.590038784623829]
[100,1.7453292519943295,{"$f":"Burmester($B$3:$C$3,$B$4:$C$4,$B$5:$C$5,$E$3,$E$4,$E$5,B208)","v":6.1609732572236897},2.0248004157086705,{"$f":"ThreePosition_Basic2($E$3,$E$5,$B$3:$C$3,$B$5:$C$5,B208,C208)","v":338.7790932699935},-183.96559466789117,312.91414859340148,49.944368449836844,{"$f":"ThreePosition_Basic2($E$3,$E$5,$B$3:$C$3,$B$5:$C$5,B208,D208)","v":-74.841946611218248},-189.85005237423493,-100.70689128781025,44.059910743493077]
[100.5,1.7540558982543013,{"$f":"Burmester($B$3:$C$3,$B$4:$C$4,$B$5:$C$5,$E$3,$E$4,$E$5,B209)","v":6.1650989547906763},2.0374422418634435,{"$f":"ThreePosition_Basic2($E$3,$E$5,$B$3:$C$3,$B$5:$C$5,B209,C209)","v":338.14565982790742},-183.10052013452147,313.39197669594779,50.068601953451605,{"$f":"ThreePosition_Basic2($E$3,$E$5,$B$3:$C$3,$B$5:$C$5,B209,D209)","v":-74.892234306818935},-190.6377152134223,-99.645917438778582,42.531406874550783]
[101,1.7627825445142729,{"$f":"Burmester($B$3:$C$3,$B$4:$C$4,$B$5:$C$5,$E$3,$E$4,$E$5,B210)","v":6.1692397764619527},2.0501041154552984,{"$f":"ThreePosition_Basic2($E$3,$E$5,$B$3:$C$3,$B$5:$C$5,B210,C210)","v":337.51894669335854},-182.23644956471651,313.86848882073417,50.197189017033054,{"$f":"ThreePosition_Basic2($E$3,$E$5,$B$3:$C$3,$B$5:$C$5,B210,D210)","v":-74.933980328639521},-191.42915151155819,-98.584438201263879,41.004487070191374]
[101.5,1.7715091907742444,{"$f":"Burmester($B$3:$C$3,$B$4:$C$4,$B$5:$C$5,$E$3,$E$4,$E$5,B211)","v":6.1733960188837749},2.0627860155400786,{"$f":"ThreePosition_Basic2($E$3,$E$5,$B$3:$C$3,$B$5:$C$5,B211,C211)","v":336.89882645088187},-181.37327887687229,314.3436859680325,50.330148111693887,{"$f":"ThreePosition_Basic2($E$3,$E$5,$B$3:$C$3,$B$5:$C$5,B211,D211)","v":-74.96712897938788},-192.22431307942512,-97.522269462237233,39.479113909141063]
[102,1.780235837034216,{"$f":"Burmester($B$3:$C$3,$B$4:$C$4,$B$5:$C$5,$E$3,$E$4,$E$5,B212)","v":6.1775679803659145},2.0754879199822081,{"$f":"ThreePosition_Basic2($E$3,$E$5,$B$3:$C$3,$B$5:$C$5,B212,C212)","v":336.28517372909749},-180.51090510073678,314.81756874984637,50.46749821876395,{"$f":"ThreePosition_Basic2($E$3,$E$5,$B$3:$C$3,$B$5:$C$5,B212,D212)","v":-74.9916242141353},-193.0231506805589,-96.459229193386406,37.955252638941829]
[102.5,1.7889624832941877,{"$f":"Burmester($B$3:$C$3,$B$4:$C$4,$B$5:$C$5,$E$3,$E$4,$E$5,B213)","v":6.1817559609210431},2.0882098053710272,{"$f":"ThreePosition_Basic2($E$3,$E$5,$B$3:$C$3,$B$5:$C$5,B213,C213)","v":335.6778651325339},-179.6492263370416,315.2901373817985,50.609258830115323,{"$f":"ThreePosition_Basic2($E$3,$E$5,$B$3:$C$3,$B$5:$C$5,B213,D213)","v":-75.007409656996415},-193.82561400741434,-95.395137407731838,36.432871159742575]
[103,1.7976891295541593,{"$f":"Burmester($B$3:$C$3,$B$4:$C$4,$B$5:$C$5,$E$3,$E$4,$E$5,B214)","v":6.1859602623037082},2.1009516469358758,{"$f":"ThreePosition_Basic2($E$3,$E$5,$B$3:$C$3,$B$5:$C$5,B214,C214)","v":335.07677917505407},-178.78814171837831,315.76139167487975,50.755449948404504,{"$f":"ThreePosition_Basic2($E$3,$E$5,$B$3:$C$3,$B$5:$C$5,B214,D214)","v":-75.014428618585157},-194.63165165744348,-94.329816118759453,34.911940009339332]
[103.5,1.8064157758141308,{"$f":"Burmester($B$3:$C$3,$B$4:$C$4,$B$5:$C$5,$E$3,$E$4,$E$5,B215)","v":6.1901811880488795},2.1137134184599011,{"$f":"ThreePosition_Basic2($E$3,$E$5,$B$3:$C$3,$B$5:$C$5,B215,C215)","v":334.48179621481921},-177.92755137128657,316.23133102705532,50.906092087222703,{"$f":"ThreePosition_Basic2($E$3,$E$5,$B$3:$C$3,$B$5:$C$5,B215,D215)","v":-75.0126241142585},-195.44121110909612,-93.263089302022422,33.392432349413156]
[104,1.8151424220741028,{"$f":"Burmester($B$3:$C$3,$B$4:$C$4,$B$5:$C$5,$E$3,$E$4,$E$5,B216)","v":6.1944190435100532},2.1264950921925707,{"$f":"ThreePosition_Basic2($E$3,$E$5,$B$3:$C$3,$B$5:$C$5,B216,C216)","v":333.89279839072805},-177.06735637951871,316.69995441472042,51.061206271153054,{"$f":"ThreePosition_Basic2($E$3,$E$5,$B$3:$C$3,$B$5:$C$5,B216,D216)","v":-75.001938883167881},-196.25423869775932,-92.19478285917549,31.874323952912448]
[104.5,1.8238690683340744,{"$f":"Burmester($B$3:$C$3,$B$4:$C$4,$B$5:$C$5,$E$3,$E$4,$E$5,B217)","v":6.1986741358968818},2.1392966387608698,{"$f":"ThreePosition_Basic2($E$3,$E$5,$B$3:$C$3,$B$5:$C$5,B217,C217)","v":333.30966956027487},-176.20745874845497,317.1672603840056,51.220814035724544,{"$f":"ThreePosition_Basic2($E$3,$E$5,$B$3:$C$3,$B$5:$C$5,B217,D217)","v":-74.982315408132706},-197.07067959165269,-91.124724584401974,30.357593192526821]
[105,1.8325957145940461,{"$f":"Burmester($B$3:$C$3,$B$4:$C$4,$B$5:$C$5,$E$3,$E$4,$E$5,B218)","v":6.2029467743123368},2.1521180270791733,{"$f":"ThreePosition_Basic2($E$3,$E$5,$B$3:$C$3,$B$5:$C$5,B218,C218)","v":332.73229523876716},-175.3477613706338,317.63324704192314,51.384937427262173,{"$f":"ThreePosition_Basic2($E$3,$E$5,$B$3:$C$3,$B$5:$C$5,B218,D218)","v":-74.953695936352958},-197.89047776769377,-90.05274413319701,28.842221030202211]
[105.5,1.8413223608540177,{"$f":"Burmester($B$3:$C$3,$B$4:$C$4,$B$5:$C$5,$E$3,$E$4,$E$5,B219)","v":6.2072372697893448},2.1649592242577662,{"$f":"ThreePosition_Basic2($E$3,$E$5,$B$3:$C$3,$B$5:$C$5,B219,C219)","v":332.16056253985198},-174.4881679923777,318.09791204735518,51.55359900262016,{"$f":"ThreePosition_Basic2($E$3,$E$5,$B$3:$C$3,$B$5:$C$5,B219,D219)","v":-74.916022500976638},-198.71357598735369,-88.978672993473467,27.328191007644165]
[106,1.8500490071139892,{"$f":"Burmester($B$3:$C$3,$B$4:$C$4,$B$5:$C$5,$E$3,$E$4,$E$5,B220)","v":6.2115459353269111},2.1778201955099985,{"$f":"ThreePosition_Basic2($E$3,$E$5,$B$3:$C$3,$B$5:$C$5,B220,C220)","v":331.59436011729281},-173.62858318148128,318.56125260187366,51.726821828798109,{"$f":"ThreePosition_Basic2($E$3,$E$5,$B$3:$C$3,$B$5:$C$5,B220,D220)","v":-74.869236943539079},-199.53991577251759,-87.902344458958225,25.815489237761795]
[106.5,1.858775653373961,{"$f":"Burmester($B$3:$C$3,$B$4:$C$4,$B$5:$C$5,$E$3,$E$4,$E$5,B221)","v":6.2158730859256837},2.1907009040580681,{"$f":"ThreePosition_Basic2($E$3,$E$5,$B$3:$C$3,$B$5:$C$5,B221,C221)","v":331.03357810795239},-172.76891229594335,319.02326544039414,51.90462948242876,{"$f":"ThreePosition_Basic2($E$3,$E$5,$B$3:$C$3,$B$5:$C$5,B221,D221)","v":-74.813280937290941},-200.36943738137384,-86.823593604849194,24.30410439699827]
[107,1.8675022996339325,{"$f":"Burmester($B$3:$C$3,$B$4:$C$4,$B$5:$C$5,$E$3,$E$4,$E$5,B222)","v":6.2202190386229397},2.2036013110374055,{"$f":"ThreePosition_Basic2($E$3,$E$5,$B$3:$C$3,$B$5:$C$5,B222,C222)","v":330.47810807592805},-171.90906145371667,319.48394682165485,52.087046049132027,{"$f":"ThreePosition_Basic2($E$3,$E$5,$B$3:$C$3,$B$5:$C$5,B222,D222)","v":-74.748096011429652},-201.20207978434769,-85.742257265702818,22.794027718501013]
[107.5,1.8762289458939041,{"$f":"Burmester($B$3:$C$3,$B$4:$C$4,$B$5:$C$5,$E$3,$E$4,$E$5,B223)","v":6.2245841125269727},2.216521375399656,{"$f":"ThreePosition_Basic2($E$3,$E$5,$B$3:$C$3,$B$5:$C$5,B223,C223)","v":329.92784295779461},-171.04893750345516,319.94329251852054,52.27409612272757,{"$f":"ThreePosition_Basic2($E$3,$E$5,$B$3:$C$3,$B$5:$C$5,B223,D223)","v":-74.673623576251657},-202.0377806401026,-84.658174015525759,21.285252986080138]
[108,1.8849555921538759,{"$f":"Burmester($B$3:$C$3,$B$4:$C$4,$B$5:$C$5,$E$3,$E$4,$E$5,B224)","v":6.2289686288508523},2.2294610538142452,{"$f":"ThreePosition_Basic2($E$3,$E$5,$B$3:$C$3,$B$5:$C$5,B224,C224)","v":329.38267700890776},-170.18844799623758,320.40129780810361,52.4658048042985,{"$f":"ThreePosition_Basic2($E$3,$E$5,$B$3:$C$3,$B$5:$C$5,B224,D224)","v":-74.589804949241639},-202.87647627163045,-83.571184150045781,19.777776528905633]
[108.5,1.8936822384138474,{"$f":"Burmester($B$3:$C$3,$B$4:$C$4,$B$5:$C$5,$E$3,$E$4,$E$5,B225)","v":6.2333729109455183},2.2424203005685164,{"$f":"ThreePosition_Basic2($E$3,$E$5,$B$3:$C$3,$B$5:$C$5,B225,C225)","v":328.8425057507269},-169.32750115825201,320.85795746170436,52.662197701096346,{"$f":"ThreePosition_Basic2($E$3,$E$5,$B$3:$C$3,$B$5:$C$5,B225,D225)","v":-74.496581382114314},-203.71810164245437,-82.48112967113687,18.27159721689398]
[109,1.902408884673819,{"$f":"Burmester($B$3:$C$3,$B$4:$C$4,$B$5:$C$5,$E$3,$E$4,$E$5,B226)","v":6.2377972843321983},2.2553990674664313,{"$f":"ThreePosition_Basic2($E$3,$E$5,$B$3:$C$3,$B$5:$C$5,B226,C226)","v":328.30722591911189},-168.46600586441855,321.31326573456101,52.863300925282005,{"$f":"ThreePosition_Basic2($E$3,$E$5,$B$3:$C$3,$B$5:$C$5,B226,D226)","v":-74.393894088823373},-204.56259033296533,-81.387854273374217,16.766716456735224]
[109.5,1.911135530933791,{"$f":"Burmester($B$3:$C$3,$B$4:$C$4,$B$5:$C$5,$E$3,$E$4,$E$5,B227)","v":6.2422420767340956},2.2683973037258314,{"$f":"ThreePosition_Basic2($E$3,$E$5,$B$3:$C$3,$B$5:$C$5,B227,C227)","v":327.77673541355574},-167.60387161294022,321.76721635541088,53.069141092489673,{"$f":"ThreePosition_Basic2($E$3,$E$5,$B$3:$C$3,$B$5:$C$5,B227,D227)","v":-74.281684274555985},-205.409874516922,-80.291203332700817,15.263138188507895]
[110,1.9198621771937625,{"$f":"Burmester($B$3:$C$3,$B$4:$C$4,$B$5:$C$5,$E$3,$E$4,$E$5,B228)","v":6.2467076181073349},2.2814149558742454,{"$f":"ThreePosition_Basic2($E$3,$E$5,$B$3:$C$3,$B$5:$C$5,B228,C228)","v":327.25093324731262},-166.74100850076192,322.21980251585614,53.279745320209003,{"$f":"ThreePosition_Basic2($E$3,$E$5,$B$3:$C$3,$B$5:$C$5,B228,D228)","v":-74.159893165724228},-206.25988493813475,-79.191023897180713,13.760868882836178]
[110.5,1.9285888234537343,{"$f":"Burmester($B$3:$C$3,$B$4:$C$4,$B$5:$C$5,$E$3,$E$4,$E$5,B229)","v":6.2511942406711203},2.2944519676432469,{"$f":"ThreePosition_Basic2($E$3,$E$5,$B$3:$C$3,$B$5:$C$5,B229,C229)","v":326.72971949838382},-165.87732719992755,322.67101685953361,53.495141225972617,{"$f":"ThreePosition_Basic2($E$3,$E$5,$B$3:$C$3,$B$5:$C$5,B229,D229)","v":-74.028462040971732},-207.11255088736388,-78.087164679821967,12.259917538536286]
[111,1.9373154697137058,{"$f":"Burmester($B$3:$C$3,$B$4:$C$4,$B$5:$C$5,$E$3,$E$4,$E$5,B230)","v":6.2557022789370755},2.3075082798613509,{"$f":"ThreePosition_Basic2($E$3,$E$5,$B$3:$C$3,$B$5:$C$5,B230,C230)","v":326.21299526132464},-165.01273893481931,323.12085147108263,53.715356925342007,{"$f":"ThreePosition_Basic2($E$3,$E$5,$B$3:$C$3,$B$5:$C$5,B230,D230)","v":-73.887332263207},-207.96780017945878,-76.979476053448991,10.760295680702541]
[111.5,1.9460421159736774,{"$f":"Burmester($B$3:$C$3,$B$4:$C$4,$B$5:$C$5,$E$3,$E$4,$E$5,B231)","v":6.2602320697377287},2.3205838303454587,{"$f":"ThreePosition_Basic2($E$3,$E$5,$B$3:$C$3,$B$5:$C$5,B231,C231)","v":325.70066259983957},-164.14715546027253,323.56929786491304,53.940421029678475,{"$f":"ThreePosition_Basic2($E$3,$E$5,$B$3:$C$3,$B$5:$C$5,B231,D231)","v":-73.736445312680189},-208.82555913076791,-75.86781004760671,9.2620173591830905]
[112,1.9547687622336491,{"$f":"Burmester($B$3:$C$3,$B$4:$C$4,$B$5:$C$5,$E$3,$E$4,$E$5,B232)","v":6.2647839522540991},2.3336785537908455,{"$f":"ThreePosition_Basic2($E$3,$E$5,$B$3:$C$3,$B$5:$C$5,B232,C232)","v":325.19262450012849},-163.28048904055092,324.01634697376448,54.170362643691703,{"$f":"ThreePosition_Basic2($E$3,$E$5,$B$3:$C$3,$B$5:$C$5,B232,D232)","v":-73.575742821114616},-209.68575253684912,-74.75202034747862,7.7650991473934994]
[112.5,1.9634954084936207,{"$f":"Burmester($B$3:$C$3,$B$4:$C$4,$B$5:$C$5,$E$3,$E$4,$E$5,B233)","v":6.269358268042355},2.3467923816596894,{"$f":"ThreePosition_Basic2($E$3,$E$5,$B$3:$C$3,$B$5:$C$5,B233,C233)","v":324.68878482495444},-162.41265242917618,324.46198913705956,54.405211362753704,{"$f":"ThreePosition_Basic2($E$3,$E$5,$B$3:$C$3,$B$5:$C$5,B233,D233)","v":-73.405166606907102},-210.54830365051018,-73.631962294801951,6.2695601414197029]
[113,1.9722220547535922,{"$f":"Burmester($B$3:$C$3,$B$4:$C$4,$B$5:$C$5,$E$3,$E$4,$E$5,B234)","v":6.2739553610594951},2.3599252420681625,{"$f":"ThreePosition_Basic2($E$3,$E$5,$B$3:$C$3,$B$5:$C$5,B234,C234)","v":324.18904826840094},-161.54355884960378,324.90621408904718,54.644997269965359,{"$f":"ThreePosition_Basic2($E$3,$E$5,$B$3:$C$3,$B$5:$C$5,B234,D234)","v":-73.224658711409319},-211.41313416021666,-72.507492890763061,4.7754219593524851]
[113.5,1.9809487010135638,{"$f":"Burmester($B$3:$C$3,$B$4:$C$4,$B$5:$C$5,$E$3,$E$4,$E$5,B235)","v":6.2785755776880166},2.3730770596720734,{"$f":"ThreePosition_Basic2($E$3,$E$5,$B$3:$C$3,$B$5:$C$5,B235,C235)","v":323.6933203112871},-160.67312197673502,325.34901094673137,54.889750932968781,{"$f":"ThreePosition_Basic2($E$3,$E$5,$B$3:$C$3,$B$5:$C$5,B235,D235)","v":-73.034161436302128},-212.28016416889361,-71.378470800857841,3.2827087408101931]
[114,1.9896753472735356,{"$f":"Burmester($B$3:$C$3,$B$4:$C$4,$B$5:$C$5,$E$3,$E$4,$E$5,B236)","v":3.3959579922216617E-5},2.3862477555510884,{"$f":"ThreePosition_Basic2($E$3,$E$5,$B$3:$C$3,$B$5:$C$5,B236,C236)","v":323.20150717721594},-159.80125591926523,325.79036819758932,55.139503400485808,{"$f":"ThreePosition_Basic2($E$3,$E$5,$B$3:$C$3,$B$5:$C$5,B236,D236)","v":-72.833617382073285},-213.14931217316337,-70.244756361699899,1.7914471465876716]
[114.5,1.9984019935335071,{"$f":"Burmester($B$3:$C$3,$B$4:$C$4,$B$5:$C$5,$E$3,$E$4,$E$5,B237)","v":4.7014723975695068E-3},2.3994372470915204,{"$f":"ThreePosition_Basic2($E$3,$E$5,$B$3:$C$3,$B$5:$C$5,B237,C237)","v":322.71351578922338},-158.92787520285631,326.23027368707056,55.394286198578868,{"$f":"ThreePosition_Basic2($E$3,$E$5,$B$3:$C$3,$B$5:$C$5,B237,D237)","v":-72.622969487609325},-214.02049504304787,-69.10621158976214,0.30166635838730826]
[115,2.0071286397934789,{"$f":"Burmester($B$3:$C$3,$B$4:$C$4,$B$5:$C$5,$E$3,$E$4,$E$5,B238)","v":9.3931627574865735E-3},2.4126454478677335,{"$f":"ThreePosition_Basic2($E$3,$E$5,$B$3:$C$3,$B$5:$C$5,B238,C238)","v":322.22925372700485},-158.05289475413483,326.66871460588084,55.654131326614475,{"$f":"ThreePosition_Basic2($E$3,$E$5,$B$3:$C$3,$B$5:$C$5,B238,D238)","v":-72.402161070911148},-214.89362800217972,-67.962700192035143,-1.1866019214304231]
[115.5,2.0158552860534509,{"$f":"Burmester($B$3:$C$3,$B$4:$C$4,$B$5:$C$5,$E$3,$E$4,$E$5,B239)","v":1.4109386968853149E-2},2.4258722675221422,{"$f":"ThreePosition_Basic2($E$3,$E$5,$B$3:$C$3,$B$5:$C$5,B239,C239)","v":321.74862918469336},-157.17622988551034,327.10567747704744,55.919071252920219,{"$f":"ThreePosition_Basic2($E$3,$E$5,$B$3:$C$3,$B$5:$C$5,B239,D239)","v":-72.171135870941001},-215.76862460855315,-66.814087578586921,-2.6733234701225967]
[116,2.0245819323134224,{"$f":"Burmester($B$3:$C$3,$B$4:$C$4,$B$5:$C$5,$E$3,$E$4,$E$5,B240)","v":1.8850503872791097E-2},2.4391176116438595,{"$f":"ThreePosition_Basic2($E$3,$E$5,$B$3:$C$3,$B$5:$C$5,B240,C240)","v":321.27155092916428},-156.29779628081295,327.54114814276517,56.189138910119823,{"$f":"ThreePosition_Basic2($E$3,$E$5,$B$3:$C$3,$B$5:$C$5,B240,D240)","v":-71.929838090609778},-216.64539673586086,-65.660240877008889,-4.1584615449280875]
[116.5,2.033308578573394,{"$f":"Burmester($B$3:$C$3,$B$4:$C$4,$B$5:$C$5,$E$3,$E$4,$E$5,B241)","v":2.3616874859931358E-2},2.4523813816459987,{"$f":"ThreePosition_Basic2($E$3,$E$5,$B$3:$C$3,$B$5:$C$5,B241,C241)","v":320.79792825884368},-155.4175099817482,327.97511175102272,56.464367690132406,{"$f":"ThreePosition_Basic2($E$3,$E$5,$B$3:$C$3,$B$5:$C$5,B241,D241)","v":-71.678212440909718},-217.5238545554524,-64.501028948730692,-5.6419768835718003]
[117,2.0420352248333655,{"$f":"Burmester($B$3:$C$3,$B$4:$C$4,$B$5:$C$5,$E$3,$E$4,$E$5,B242)","v":2.8408863886620162E-2},2.4656634746416533,{"$f":"ThreePosition_Basic2($E$3,$E$5,$B$3:$C$3,$B$5:$C$5,B242,C242)","v":320.32767096299949},-154.53528737516993,328.40755274200967,56.744791438823228,{"$f":"ThreePosition_Basic2($E$3,$E$5,$B$3:$C$3,$B$5:$C$5,B242,D242)","v":-71.416204186198897},-218.40390651895774,-63.336322407188703,-7.1238277049645831]
[117.5,2.0507618710933371,{"$f":"Burmester($B$3:$C$3,$B$4:$C$4,$B$5:$C$5,$E$3,$E$4,$E$5,B243)","v":3.3226837489701885E-2},2.478963783318596,{"$f":"ThreePosition_Basic2($E$3,$E$5,$B$3:$C$3,$B$5:$C$5,B243,C243)","v":319.86068928149177},-153.65104518117082,328.83845483430235,57.030444450288797,{"$f":"ThreePosition_Basic2($E$3,$E$5,$B$3:$C$3,$B$5:$C$5,B243,D243)","v":-71.143759190641049},-219.28545934161872,-62.165993637830482,-8.6039697101591059]
[118,2.0594885173533086,{"$f":"Burmester($B$3:$C$3,$B$4:$C$4,$B$5:$C$5,$E$3,$E$4,$E$5,B244)","v":3.8071164799819826E-2},2.4922821958127246,{"$f":"ThreePosition_Basic2($E$3,$E$5,$B$3:$C$3,$B$5:$C$5,B244,C244)","v":319.39689386496605},-152.76470044199448,329.26780101083193,57.321361460761608,{"$f":"ThreePosition_Basic2($E$3,$E$5,$B$3:$C$3,$B$5:$C$5,B244,D244)","v":-70.860823965804315},-220.16841798637316,-60.989916819938401,-10.082356083617071]
[118.5,2.0682151636132806,{"$f":"Burmester($B$3:$C$3,$B$4:$C$4,$B$5:$C$5,$E$3,$E$4,$E$5,B245)","v":4.2942217553182907E-2},2.5056185955802825,{"$f":"ThreePosition_Basic2($E$3,$E$5,$B$3:$C$3,$B$5:$C$5,B245,C245)","v":318.93619573546619},-151.87617051176846,329.69557350463219,57.617577642120864,{"$f":"ThreePosition_Basic2($E$3,$E$5,$B$3:$C$3,$B$5:$C$5,B245,D245)","v":-70.567345719420032},-221.05268564873498,-59.807967950254032,-11.558937494845651]
[119,2.0769418098732522,{"$f":"Burmester($B$3:$C$3,$B$4:$C$4,$B$5:$C$5,$E$3,$E$4,$E$5,B246)","v":4.7840370101725746E-2},2.5189728612689084,{"$f":"ThreePosition_Basic2($E$3,$E$5,$B$3:$C$3,$B$5:$C$5,B246,C246)","v":318.47850624745348},-150.9853730470648,330.12175378437081,57.919128594990298,{"$f":"ThreePosition_Basic2($E$3,$E$5,$B$3:$C$3,$B$5:$C$5,B246,D246)","v":-70.263272405301763},-221.93816374251844,-58.620024868384426,-13.033662100463346]
[119.5,2.0856684561332237,{"$f":"Burmester($B$3:$C$3,$B$4:$C$4,$B$5:$C$5,$E$3,$E$4,$E$5,B247)","v":5.2765999421604523E-2},2.5323448665875476,{"$f":"ThreePosition_Basic2($E$3,$E$5,$B$3:$C$3,$B$5:$C$5,B247,C247)","v":318.02373704921126},-150.09222599828979,330.54632253966417,58.226050341408239,{"$f":"ThreePosition_Basic2($E$3,$E$5,$B$3:$C$3,$B$5:$C$5,B247,D247)","v":-69.948552774423362},-222.82475188645304,-57.425967283970458,-14.506475546755013]
[120,2.0943951023931953,{"$f":"Burmester($B$3:$C$3,$B$4:$C$4,$B$5:$C$5,$E$3,$E$4,$E$5,B248)","v":5.7719485119959404E-2},2.5457344801752742,{"$f":"ThreePosition_Basic2($E$3,$E$5,$B$3:$C$3,$B$5:$C$5,B248,C248)","v":317.57180004462163},-149.19664760190986,330.96925966617772,58.538379317052744,{"$f":"ThreePosition_Basic2($E$3,$E$5,$B$3:$C$3,$B$5:$C$5,B248,D248)","v":-69.623136427153256},-223.71234789173769,-56.225676805597132,-15.97732097277509]
[120.5,2.1031217486531673,{"$f":"Burmester($B$3:$C$3,$B$4:$C$4,$B$5:$C$5,$E$3,$E$4,$E$5,B249)","v":6.2701209439877087E-2},2.5591415654690799,{"$f":"ThreePosition_Basic2($E$3,$E$5,$B$3:$C$3,$B$5:$C$5,B249,C249)","v":317.12260735529838},-148.29855637351798,331.39054425051506,58.856152363004213,{"$f":"ThreePosition_Basic2($E$3,$E$5,$B$3:$C$3,$B$5:$C$5,B249,D249)","v":-69.286973866640011},-224.6008477505838,-55.01903697142334,-17.4461390140616]
[121,2.1118483949131388,{"$f":"Burmester($B$3:$C$3,$B$4:$C$4,$B$5:$C$5,$E$3,$E$4,$E$5,B250)","v":6.7711557263479161E-2},2.5725659805706762,{"$f":"ThreePosition_Basic2($E$3,$E$5,$B$3:$C$3,$B$5:$C$5,B250,C250)","v":316.67607128306378},-147.39787110174942,331.81015455489825,59.179406717027575,{"$f":"ThreePosition_Basic2($E$3,$E$5,$B$3:$C$3,$B$5:$C$5,B250,D250)","v":-68.940016553343057},-225.49014562579782,-53.80593328150858,-18.912867807020831]
[121.5,2.1205750411731104,{"$f":"Burmester($B$3:$C$3,$B$4:$C$4,$B$5:$C$5,$E$3,$E$4,$E$5,B251)","v":7.2750916113074576E-2},2.5860075781123815,{"$f":"ThreePosition_Basic2($E$3,$E$5,$B$3:$C$3,$B$5:$C$5,B251,C251)","v":316.23210427275365},-146.49451084305093,332.2280680016421,59.508180004356774,{"$f":"ThreePosition_Basic2($E$3,$E$5,$B$3:$C$3,$B$5:$C$5,B251,D251)","v":-68.582216960700194},-226.38013384145583,-52.586253231811753,-20.377442994048124]
[122,2.1293016874330819,{"$f":"Burmester($B$3:$C$3,$B$4:$C$4,$B$5:$C$5,$E$3,$E$4,$E$5,B252)","v":7.7819676150288966E-2},2.5994662051221433,{"$f":"ThreePosition_Basic2($E$3,$E$5,$B$3:$C$3,$B$5:$C$5,B252,C252)","v":315.79061887534209},-145.58839491731538,332.64426115742674,59.842510227961526,{"$f":"ThreePosition_Basic2($E$3,$E$5,$B$3:$C$3,$B$5:$C$5,B252,D252)","v":-68.213528631921733},-227.27070287472046,-51.359886349837097,-21.839797729443546]
[122.5,2.1380283336930535,{"$f":"Burmester($B$3:$C$3,$B$4:$C$4,$B$5:$C$5,$E$3,$E$4,$E$5,B253)","v":8.2918230173102042E-2},2.6129417028877748,{"$f":"ThreePosition_Basic2($E$3,$E$5,$B$3:$C$3,$B$5:$C$5,B253,C253)","v":315.35152771137405},-144.67944290438842,333.05870971737392,60.182435758278302,{"$f":"ThreePosition_Basic2($E$3,$E$5,$B$3:$C$3,$B$5:$C$5,B253,D253)","v":-67.833906237899015},-228.16174134885651,-50.126724231899168,-23.299862686189783]
[123,2.1467549799530254,{"$f":"Burmester($B$3:$C$3,$B$4:$C$4,$B$5:$C$5,$E$3,$E$4,$E$5,B254)","v":8.8046973610719337E-2},2.6264339068204716,{"$f":"ThreePosition_Basic2($E$3,$E$5,$B$3:$C$3,$B$5:$C$5,B254,C254)","v":314.91474343469503},-143.76757464145692,333.47138848892951,60.527995322386772,{"$f":"ThreePosition_Basic2($E$3,$E$5,$B$3:$C$3,$B$5:$C$5,B254,D254)","v":-67.443305636213267},-229.05313602749686,-48.886660581978788,-24.757566063653172]
[123.5,2.155481626212997,{"$f":"Burmester($B$3:$C$3,$B$4:$C$4,$B$5:$C$5,$E$3,$E$4,$E$5,B255)","v":9.3206304516183558E-2},2.6399426463176923,{"$f":"ThreePosition_Basic2($E$3,$E$5,$B$3:$C$3,$B$5:$C$5,B255,C255)","v":314.48017869647174},-142.85271022133168,333.88227137556078,60.879227992608946,{"$f":"ThreePosition_Basic2($E$3,$E$5,$B$3:$C$3,$B$5:$C$5,B255,D255)","v":-67.041683931227311},-229.94477181021654,-47.639591252138288,-26.212833596275914]
[124,2.1642082724729685,{"$f":"Burmester($B$3:$C$3,$B$4:$C$4,$B$5:$C$5,$E$3,$E$4,$E$5,B256)","v":9.8396623556664606E-2},2.6534677446254826,{"$f":"ThreePosition_Basic2($E$3,$E$5,$B$3:$C$3,$B$5:$C$5,B256,C256)","v":314.04774610949414},-141.93476999163258,334.2913313602723,61.236173174515301,{"$f":"ThreePosition_Basic2($E$3,$E$5,$B$3:$C$3,$B$5:$C$5,B256,D256)","v":-66.628999535242812},-230.83653172946913,-46.385414284464645,-27.665588563321251]
[124.5,2.1729349187329401,{"$f":"Burmester($B$3:$C$3,$B$4:$C$4,$B$5:$C$5,$E$3,$E$4,$E$5,B257)","v":0.1036183340013247},2.6670090187003277,{"$f":"ThreePosition_Basic2($E$3,$E$5,$B$3:$C$3,$B$5:$C$5,B257,C257)","v":313.61735821275329},-141.01367455488989,334.69854048894814,61.598870594313524,{"$f":"ThreePosition_Basic2($E$3,$E$5,$B$3:$C$3,$B$5:$C$5,B257,D257)","v":-66.205212230699672},-231.72829694894185,-45.124029954504806,-29.115751799738433]
[125,2.1816615649929116,{"$f":"Burmester($B$3:$C$3,$B$4:$C$4,$B$5:$C$5,$E$3,$E$4,$E$5,B258)","v":0.10887184170668657},2.6805662790706331,{"$f":"ThreePosition_Basic2($E$3,$E$5,$B$3:$C$3,$B$5:$C$5,B258,C258)","v":313.18892743629038},-140.08934476957387,335.10386985352841,61.96736028560079,{"$f":"ThreePosition_Basic2($E$3,$E$5,$B$3:$C$3,$B$5:$C$5,B258,D258)","v":-65.770283233395858},-232.61994676338836,-43.855340816157849,-30.563241708213695]
[125.5,2.1903882112528836,{"$f":"Burmester($B$3:$C$3,$B$4:$C$4,$B$5:$C$5,$E$3,$E$4,$E$5,B259)","v":0.11415755509940835},2.6941393296979288,{"$f":"ThreePosition_Basic2($E$3,$E$5,$B$3:$C$3,$B$5:$C$5,B259,C259)","v":312.76236606631164},-139.1617017520656,335.5072895750273,62.34168257545727,{"$f":"ThreePosition_Basic2($E$3,$E$5,$B$3:$C$3,$B$5:$C$5,B259,D259)","v":-65.324175256699874},-233.51135859999624,-42.579251747984195,-32.007974272473376]
[126,2.1991148575128552,{"$f":"Burmester($B$3:$C$3,$B$4:$C$4,$B$5:$C$5,$E$3,$E$4,$E$5,B260)","v":0.11947588515638301},2.7077279678378905,{"$f":"ThreePosition_Basic2($E$3,$E$5,$B$3:$C$3,$B$5:$C$5,B260,C260)","v":312.33758621056802},-138.23066687958206,335.9087687864037,62.72187806986085,{"$f":"ThreePosition_Basic2($E$3,$E$5,$B$3:$C$3,$B$5:$C$5,B260,D260)","v":-64.866852576727041},-234.40240802134574,-41.295670000891377,-33.449863071902826]
[126.5,2.2078415037728267,{"$f":"Burmester($B$3:$C$3,$B$4:$C$4,$B$5:$C$5,$E$3,$E$4,$E$5,B261)","v":0.12482724538206488},2.7213319839013144,{"$f":"ThreePosition_Basic2($E$3,$E$5,$B$3:$C$3,$B$5:$C$5,B261,C261)","v":311.91449976399429},-137.29616179407054,336.30827561529031,63.107987638398754,{"$f":"ThreePosition_Basic2($E$3,$E$5,$B$3:$C$3,$B$5:$C$5,B261,D261)","v":-64.398281098448194},-235.29296873002161,-40.004505247152167,-34.888819297552317]
[127,2.2165681500327987,{"$f":"Burmester($B$3:$C$3,$B$4:$C$4,$B$5:$C$5,$E$3,$E$4,$E$5,B262)","v":0.1302120517829341},2.7349511613151267,{"$f":"ThreePosition_Basic2($E$3,$E$5,$B$3:$C$3,$B$5:$C$5,B262,C262)","v":311.49301837461161},-136.35810840708749,336.70577716659687,63.500052398255662,{"$f":"ThreePosition_Basic2($E$3,$E$5,$B$3:$C$3,$B$5:$C$5,B262,D262)","v":-63.91842842269584},-236.18291257493502,-38.705669630710545,-36.32475176959187]
[127.5,2.2252947962927703,{"$f":"Burmester($B$3:$C$3,$B$4:$C$4,$B$5:$C$5,$E$3,$E$4,$E$5,B263)","v":0.13563072283900382},2.7485852763835696,{"$f":"ThreePosition_Basic2($E$3,$E$5,$B$3:$C$3,$B$5:$C$5,B263,C263)","v":311.07305340969015},-135.41642890567448,337.10123950499451,63.898113697455898,{"$f":"ThreePosition_Basic2($E$3,$E$5,$B$3:$C$3,$B$5:$C$5,B263,D263)","v":-63.427263914029467},-237.07210955941352,-37.39907781872509,-37.757566956283142]
[128,2.2340214425527418,{"$f":"Burmester($B$3:$C$3,$B$4:$C$4,$B$5:$C$5,$E$3,$E$4,$E$5,B264)","v":0.14108367947227302},2.7622340981496927,{"$f":"ThreePosition_Basic2($E$3,$E$5,$B$3:$C$3,$B$5:$C$5,B264,C264)","v":310.65451592217539},-134.47104575925107,337.49462763729616,64.302213097335056,{"$f":"ThreePosition_Basic2($E$3,$E$5,$B$3:$C$3,$B$5:$C$5,B264,D264)","v":-62.924758769419981},-237.96042785112206,-36.084647054299211,-39.187168994535938]
[128.5,{"$f":"A265*PI()/180","v":2.2427480888127134},{"$f":"Burmester($B$3:$C$3,$B$4:$C$4,$B$5:$C$5,$E$3,$E$4,$E$5,B265)","v":0.14657134501202657},2.7758973882572633,{"$f":"ThreePosition_Basic2($E$3,$E$5,$B$3:$C$3,$B$5:$C$5,B265,C265)","v":310.23731661738145},-133.5218817275377,337.88590549474588,64.712392354219332,{"$f":"ThreePosition_Basic2($E$3,$E$5,$B$3:$C$3,$B$5:$C$5,B265,D265)","v":-62.410886087709294},-238.84773379386931,-34.762297210344883,-40.613459712112274]
[129,2.2514747350726849,{"$f":"Burmester($B$3:$C$3,$B$4:$C$4,$B$5:$C$5,$E$3,$E$4,$E$5,B266)","v":0.15209414515688363},2.7895749008132604,{"$f":"ThreePosition_Basic2($E$3,$E$5,$B$3:$C$3,$B$5:$C$5,B266,C266)","v":309.82136581995388},-132.56885986952597,338.27503591522981,65.128693400290018,{"$f":"ThreePosition_Basic2($E$3,$E$5,$B$3:$C$3,$B$5:$C$5,B266,D266)","v":-61.885620939797789},-239.73389192136341,-33.43195084452185,-42.036338651547425]
[129.5,2.2602013813326565,{"$f":"Burmester($B$3:$C$3,$B$4:$C$4,$B$5:$C$5,$E$3,$E$4,$E$5,B267)","v":0.15765250793349897},2.8032663822510662,{"$f":"ThreePosition_Basic2($E$3,$E$5,$B$3:$C$3,$B$5:$C$5,B267,C267)","v":309.40657344110929},-131.61190355351366,338.66198062542605,65.551158323608433,{"$f":"ThreePosition_Basic2($E$3,$E$5,$B$3:$C$3,$B$5:$C$5,B267,D267)","v":-61.3489404395092},-240.61876497296959,-32.093533255192405,-43.455703095847497]
[130,2.2689280275926285,{"$f":"Burmester($B$3:$C$3,$B$4:$C$4,$B$5:$C$5,$E$3,$E$4,$E$5,B268)","v":0.16324686365179958},2.8169715711945438,{"$f":"ThreePosition_Basic2($E$3,$E$5,$B$3:$C$3,$B$5:$C$5,B268,C268)","v":308.9928489461584},-130.65093646822277,339.04670022290861,65.979829347277047,{"$f":"ThreePosition_Basic2($E$3,$E$5,$B$3:$C$3,$B$5:$C$5,B268,D268)","v":-60.800823815079269},-241.50221391153619,-30.746972538329054,-44.871448096036374]
[130.5,2.2776546738526,{"$f":"Burmester($B$3:$C$3,$B$4:$C$4,$B$5:$C$5,$E$3,$E$4,$E$5,B269)","v":0.16887764485667672},2.8306901983231172,{"$f":"ThreePosition_Basic2($E$3,$E$5,$B$3:$C$3,$B$5:$C$5,B269,C269)","v":308.58010132231976},-129.68588263501539,339.42915415822205,66.414748807716393,{"$f":"ThreePosition_Basic2($E$3,$E$5,$B$3:$C$3,$B$5:$C$5,B269,D269)","v":-60.241252481211099},-242.38409794333674,-29.392199645308839,-46.283466500604959]
[131,2.286381320112572,{"$f":"Burmester($B$3:$C$3,$B$4:$C$4,$B$5:$C$5,$E$3,$E$4,$E$5,B270)","v":0.17454528627600499},2.8444219862380602,{"$f":"ThreePosition_Basic2($E$3,$E$5,$B$3:$C$3,$B$5:$C$5,B270,C270)","v":308.16823904683434},-128.71666642122833,339.80930071694667,66.855959132030108,{"$f":"ThreePosition_Basic2($E$3,$E$5,$B$3:$C$3,$B$5:$C$5,B270,D270)","v":-59.670210111636194},-243.26427454019509,-28.029148441523869,-47.691648986936656]
[131.5,2.2951079663725436,{"$f":"Burmester($B$3:$C$3,$B$4:$C$4,$B$5:$C$5,$E$3,$E$4,$E$5,B271)","v":0.18025022476489919},2.8581666493301223,{"$f":"ThreePosition_Basic2($E$3,$E$5,$B$3:$C$3,$B$5:$C$5,B271,C271)","v":307.75717005539286},-127.74321255464341,340.18709700177305,67.303502814436484,{"$f":"ThreePosition_Basic2($E$3,$E$5,$B$3:$C$3,$B$5:$C$5,B271,D271)","v":-59.087682712117996},-244.14259946384178,-26.657755765737825,-49.095884094761885]
[132,2.3038346126325151,{"$f":"Burmester($B$3:$C$3,$B$4:$C$4,$B$5:$C$5,$E$3,$E$4,$E$5,B272)","v":0.18599289924610049},2.8719238936487046,{"$f":"ThreePosition_Basic2($E$3,$E$5,$B$3:$C$3,$B$5:$C$5,B272,C272)","v":307.34680171088615},-126.76544613911011,340.56249891460573,67.757422391743489,{"$f":"ThreePosition_Basic2($E$3,$E$5,$B$3:$C$3,$B$5:$C$5,B272,D272)","v":-58.493658693827932},-245.01892679256093,-25.27796149010836,-50.496058261707333]
[132.5,2.3125612588924866,{"$f":"Burmester($B$3:$C$3,$B$4:$C$4,$B$5:$C$5,$E$3,$E$4,$E$5,B273)","v":0.19177375064637464},2.8856934167727442,{"$f":"ThreePosition_Basic2($E$3,$E$5,$B$3:$C$3,$B$5:$C$5,B273,C273)","v":306.9370407724951},-125.78329267134247,340.93546113872003,68.217760417840864,{"$f":"ThreePosition_Basic2($E$3,$E$5,$B$3:$C$3,$B$5:$C$5,B273,D273)","v":-57.888128947024647},-245.89310895018036,-23.889708580799692,-51.892055860997033]
[133,2.3212879051524582,{"$f":"Burmester($B$3:$C$3,$B$4:$C$4,$B$5:$C$5,$E$3,$E$4,$E$5,B274)","v":0.19759322182882794},2.8994749076835098,{"$f":"ThreePosition_Basic2($E$3,$E$5,$B$3:$C$3,$B$5:$C$5,B274,C274)","v":306.52779336513305},-124.79667805890527,341.30593712099301,68.684559437188071,{"$f":"ThreePosition_Basic2($E$3,$E$5,$B$3:$C$3,$B$5:$C$5,B274,D274)","v":-57.27108691496062},-246.76499673745724,-22.492943159100655,-53.283759241363896]
[133.5,2.3300145514124297,{"$f":"Burmester($B$3:$C$3,$B$4:$C$4,$B$5:$C$5,$E$3,$E$4,$E$5,B275)","v":0.20345175752102668},2.913268046639498,{"$f":"ThreePosition_Basic2($E$3,$E$5,$B$3:$C$3,$B$5:$C$5,B275,C275)","v":306.11896494925907},-123.80552863940865,341.67387905423362,69.15786195727496,{"$f":"ThreePosition_Basic2($E$3,$E$5,$B$3:$C$3,$B$5:$C$5,B275,D275)","v":-56.642528667935579},-247.6344393659094,-21.087614562961015,-54.671048769225791]
[134,2.3387411976724013,{"$f":"Burmester($B$3:$C$3,$B$4:$C$4,$B$5:$C$5,$E$3,$E$4,$E$5,B276)","v":0.20934980423880789},2.9270725050536384,{"$f":"ThreePosition_Basic2($E$3,$E$5,$B$3:$C$3,$B$5:$C$5,B276,C276)","v":305.71046029108061},-122.80977120093235,342.03923785963985,69.637710420028128,{"$f":"ThreePosition_Basic2($E$3,$E$5,$B$3:$C$3,$B$5:$C$5,B276,D276)","v":-56.002452977417008},-248.50128449414407,-19.673675408857761,-56.053802873183599]
[134.5,2.3474678439323733,{"$f":"Burmester($B$3:$C$3,$B$4:$C$4,$B$5:$C$5,$E$3,$E$4,$E$5,B277)","v":0.21528781020568821},2.9408879453730106,{"$f":"ThreePosition_Basic2($E$3,$E$5,$B$3:$C$3,$B$5:$C$5,B277,C277)","v":305.30218343316324},-121.80933300369186,342.40196316940518,70.124147172146834,{"$f":"ThreePosition_Basic2($E$3,$E$5,$B$3:$C$3,$B$5:$C$5,B277,D277)","v":-55.350861390138107},-249.36537826672642,-18.251081653896151,-57.431898090887728]
[135,2.3561944901923448,{"$f":"Burmester($B$3:$C$3,$B$4:$C$4,$B$5:$C$5,$E$3,$E$4,$E$5,B278)","v":0.22126622526773998},2.9547140209612897,{"$f":"ThreePosition_Basic2($E$3,$E$5,$B$3:$C$3,$B$5:$C$5,B278,C278)","v":304.89403766547326},-120.8041418029713,342.762003309509,70.617214434338209,{"$f":"ThreePosition_Basic2($E$3,$E$5,$B$3:$C$3,$B$5:$C$5,B278,D278)","v":-54.687758302085925},-250.22656535563829,-16.819792658050183,-58.805209118328776]
[135.5,2.3649211364523164,{"$f":"Burmester($B$3:$C$3,$B$4:$C$4,$B$5:$C$5,$E$3,$E$4,$E$5,B279)","v":0.22728550080385096},2.9685503759841518,{"$f":"ThreePosition_Basic2($E$3,$E$5,$B$3:$C$3,$B$5:$C$5,B279,C279)","v":304.48592549687191},-119.79412587333496,343.11930528271546,71.116954269436036,{"$f":"ThreePosition_Basic2($E$3,$E$5,$B$3:$C$3,$B$5:$C$5,B279,D279)","v":-54.01315103228216},-251.08468900436534,-15.379771246438622,-60.173608861594346]
[136,2.3736477827122884,{"$f":"Burmester($B$3:$C$3,$B$4:$C$4,$B$5:$C$5,$E$3,$E$4,$E$5,B280)","v":0.23334608963124556},2.9823966452978481,{"$f":"ThreePosition_Basic2($E$3,$E$5,$B$3:$C$3,$B$5:$C$5,B280,C280)","v":304.0777486270884},-118.77921403413747,343.47381475181487,71.623408549378198,{"$f":"ThreePosition_Basic2($E$3,$E$5,$B$3:$C$3,$B$5:$C$5,B280,D280)","v":-53.327049896262359},-251.939591074655,-13.930983771535892,-61.536968491139334]
[136.5,2.3823744289722599,{"$f":"Burmester($B$3:$C$3,$B$4:$C$4,$B$5:$C$5,$E$3,$E$4,$E$5,B281)","v":0.23944844590616376},2.9962524543411946,{"$f":"ThreePosition_Basic2($E$3,$E$5,$B$3:$C$3,$B$5:$C$5,B281,C281)","v":303.6694079191987},-117.75933567635053,343.82547602314082,72.136618921021352,{"$f":"ThreePosition_Basic2($E$3,$E$5,$B$3:$C$3,$B$5:$C$5,B281,D281)","v":-52.629468279150068},-252.79111209598125,-12.473400175207978,-62.895157498609365]
[137,2.3911010752322315,{"$f":"Burmester($B$3:$C$3,$B$4:$C$4,$B$5:$C$5,$E$3,$E$4,$E$5,B282)","v":0.24559302501960276},3.0101174190312183,{"$f":"ThreePosition_Basic2($E$3,$E$5,$B$3:$C$3,$B$5:$C$5,B282,C282)","v":303.26080337263613},-116.73442079071816,344.17423203039476,72.656626770776057,{"$f":"ThreePosition_Basic2($E$3,$E$5,$B$3:$C$3,$B$5:$C$5,B282,D282)","v":-51.920422708219718},-253.63909131775071,-11.006994050461074,-64.248043756256493]
[137.5,2.399827721492203,{"$f":"Burmester($B$3:$C$3,$B$4:$C$4,$B$5:$C$5,$E$3,$E$4,$E$5,B283)","v":0.25178028348800202},3.0239911456626984,{"$f":"ThreePosition_Basic2($E$3,$E$5,$B$3:$C$3,$B$5:$C$5,B283,C283)","v":302.85183409676569},-115.70439999726194,344.52002431881721,73.183473188037013,{"$f":"ThreePosition_Basic2($E$3,$E$5,$B$3:$C$3,$B$5:$C$5,B283,D283)","v":-51.199932924841896},-254.48336676428136,-9.5317427027903747,-65.595493578982399]
[138,2.4085543677521746,{"$f":"Burmester($B$3:$C$3,$B$4:$C$4,$B$5:$C$5,$E$3,$E$4,$E$5,B284)","v":0.25801067883878415},3.037873230811853,{"$f":"ThreePosition_Basic2($E$3,$E$5,$B$3:$C$3,$B$5:$C$5,B284,C284)","v":302.4423982850526},-114.66920457614619,344.8627930297402,73.717198927395415,{"$f":"ThreePosition_Basic2($E$3,$E$5,$B$3:$C$3,$B$5:$C$5,B284,D284)","v":-50.468021955696692},-255.32377529258051,-8.0476272110090932,-66.937371789038906]
[138.5,2.4172810140121466,{"$f":"Burmester($B$3:$C$3,$B$4:$C$4,$B$5:$C$5,$E$3,$E$4,$E$5,B285)","v":0.26428466949064661},3.051763261244433,{"$f":"ThreePosition_Basic2($E$3,$E$5,$B$3:$C$3,$B$5:$C$5,B285,C285)","v":302.03239318985914},-113.62876649991954,345.20247688556202,74.257844369611846,{"$f":"ThreePosition_Basic2($E$3,$E$5,$B$3:$C$3,$B$5:$C$5,B285,D285)","v":-49.724716183138199},-256.1601526529455,-6.5546324874353132,-68.273541783414117]
[139,2.4260076602721181,{"$f":"Burmester($B$3:$C$3,$B$4:$C$4,$B$5:$C$5,$E$3,$E$4,$E$5,B286)","v":0.27060271462850644},3.0656608138284773,{"$f":"ThreePosition_Basic2($E$3,$E$5,$B$3:$C$3,$B$5:$C$5,B286,C286)","v":301.6217150979034},-112.58301846714626,345.53901317518267,74.805449481334179,{"$f":"ThreePosition_Basic2($E$3,$E$5,$B$3:$C$3,$B$5:$C$5,B286,D286)","v":-48.970045414594637},-256.9923335524075,-5.0527473373153526,-69.603865603927062]
[139.5,2.4347343065320897,{"$f":"Burmester($B$3:$C$3,$B$4:$C$4,$B$5:$C$5,$E$3,$E$4,$E$5,B287)","v":0.27696527407300237},3.0795654554520064,{"$f":"ThreePosition_Basic2($E$3,$E$5,$B$3:$C$3,$B$5:$C$5,B287,C287)","v":301.21025930641946},-111.5318939374386,345.87233773994535,75.360053773544095,{"$f":"ThreePosition_Basic2($E$3,$E$5,$B$3:$C$3,$B$5:$C$5,B287,D287)","v":-48.204042950875817},-257.82015172103462,-3.5419645173499106,-70.928204010051928]
[140,2.4434609527920612,{"$f":"Burmester($B$3:$C$3,$B$4:$C$4,$B$5:$C$5,$E$3,$E$4,$E$5,B288)","v":0.28337280814446864},3.0934767429459105,{"$f":"ThreePosition_Basic2($E$3,$E$5,$B$3:$C$3,$B$5:$C$5,B288,C288)","v":300.79792010005417},-110.47532716790174,346.20238496012377,75.921696258718484,{"$f":"ThreePosition_Basic2($E$3,$E$5,$B$3:$C$3,$B$5:$C$5,B288,D288)","v":-47.426745653266018},-258.64343998110252,-2.0222807931964155,-72.246416554482295]
[140.5,2.4521875990520328,{"$f":"Burmester($B$3:$C$3,$B$4:$C$4,$B$5:$C$5,$E$3,$E$4,$E$5,B289)","v":0.28982577752128641},3.107394223012315,{"$f":"ThreePosition_Basic2($E$3,$E$5,$B$3:$C$3,$B$5:$C$5,B289,C289)","v":300.38459072854494},-109.41325325100108,346.52908774200517,76.490415406692094,{"$f":"ThreePosition_Basic2($E$3,$E$5,$B$3:$C$3,$B$5:$C$5,B289,D289)","v":-46.638194009272283},-259.46203031914246,-0.4936969958120585,-73.558361661449283]
[141,2.4609142453120043,{"$f":"Burmester($B$3:$C$3,$B$4:$C$4,$B$5:$C$5,$E$3,$E$4,$E$5,B290)","v":0.29632464309253126},3.1213174321586994,{"$f":"ThreePosition_Basic2($E$3,$E$5,$B$3:$C$3,$B$5:$C$5,B290,C290)","v":299.9701633852161},-108.34560815385956,346.85237750561134,77.066249099210239,{"$f":"ThreePosition_Basic2($E$3,$E$5,$B$3:$C$3,$B$5:$C$5,B290,D290)","v":-45.838432196894999},-260.27575396086468,1.0437819235002408,-74.863896707794879]
[141.5,2.4696408915719763,{"$f":"Burmester($B$3:$C$3,$B$4:$C$4,$B$5:$C$5,$E$3,$E$4,$E$5,B291)","v":0.30286986580483666},3.1352458966380543,{"$f":"ThreePosition_Basic2($E$3,$E$5,$B$3:$C$3,$B$5:$C$5,B291,C291)","v":299.55452918634211},-107.27232875899379,347.17218417311108,77.649234583160208,{"$f":"ThreePosition_Basic2($E$3,$E$5,$B$3:$C$3,$B$5:$C$5,B291,D291)","v":-45.027508147287584},-261.08444144895697,2.590146839481406,-76.162878106802964]
[142,2.4783675378319479,{"$f":"Burmester($B$3:$C$3,$B$4:$C$4,$B$5:$C$5,$E$3,$E$4,$E$5,B292)","v":0.30946190650339561},3.1491791323953562,{"$f":"ThreePosition_Basic2($E$3,$E$5,$B$3:$C$3,$B$5:$C$5,B292,C292)","v":299.13757815142043},-106.19335290649181,347.48843615797063,78.239408422474725,{"$f":"ThreePosition_Basic2($E$3,$E$5,$B$3:$C$3,$B$5:$C$5,B292,D292)","v":-44.20547360566659},-261.88792272374621,4.1453844008836072,-77.45516139477968]
[142.5,2.4870941840919198,{"$f":"Burmester($B$3:$C$3,$B$4:$C$4,$B$5:$C$5,$E$3,$E$4,$E$5,B293)","v":0.31610122576703642},3.163116645020648,{"$f":"ThreePosition_Basic2($E$3,$E$5,$B$3:$C$3,$B$5:$C$5,B293,C293)","v":298.71919918440358},-105.10861943763842,347.80106035489723,78.836806448699122,{"$f":"ThreePosition_Basic2($E$3,$E$5,$B$3:$C$3,$B$5:$C$5,B293,D293)","v":-43.372384190333499},-262.68602720670998,5.7094769801601402,-78.740601320372434]
[143,2.4958208303518914,{"$f":"Burmester($B$3:$C$3,$B$4:$C$4,$B$5:$C$5,$E$3,$E$4,$E$5,B294)","v":0.32278828373729646},3.1770579297090182,{"$f":"ThreePosition_Basic2($E$3,$E$5,$B$3:$C$3,$B$5:$C$5,B294,C294)","v":298.29928005593649},-104.01806823998855,348.1099821306255,79.441463710218741,{"$f":"ThreePosition_Basic2($E$3,$E$5,$B$3:$C$3,$B$5:$C$5,B294,D294)","v":-42.528299449667301},-263.47858388681732,7.2824026250217173,-80.019051936610026]
[143.5,2.5045474766118629,{"$f":"Burmester($B$3:$C$3,$B$4:$C$4,$B$5:$C$5,$E$3,$E$4,$E$5,B295)","v":0.32952353994144912},3.1910024712277663,{"$f":"ThreePosition_Basic2($E$3,$E$5,$B$3:$C$3,$B$5:$C$5,B295,C295)","v":297.87770738665347},-102.92164029388738,348.41512531560596,80.053414420144264,{"$f":"ThreePosition_Basic2($E$3,$E$5,$B$3:$C$3,$B$5:$C$5,B295,D295)","v":-41.673282916941638},-264.26542140967121,8.8641350120108768,-81.290366695639563]
[144,2.5132741228718345,{"$f":"Burmester($B$3:$C$3,$B$4:$C$4,$B$5:$C$5,$E$3,$E$4,$E$5,B296)","v":0.33630745310941706},3.2049497438910457,{"$f":"ThreePosition_Basic2($E$3,$E$5,$B$3:$C$3,$B$5:$C$5,B296,C296)","v":297.45436663158569},-101.81927772043758,348.71641219664974,80.672691902853046,{"$f":"ThreePosition_Basic2($E$3,$E$5,$B$3:$C$3,$B$5:$C$5,B296,D296)","v":-40.807402162823287},-265.04636816942138,10.454643402240777,-82.554398546130756]
[144.5,2.522000769131806,{"$f":"Burmester($B$3:$C$3,$B$4:$C$4,$B$5:$C$5,$E$3,$E$4,$E$5,B297)","v":0.3431404809845342},3.2188992115422757,{"$f":"ThreePosition_Basic2($E$3,$E$5,$B$3:$C$3,$B$5:$C$5,B297,C297)","v":297.02914206573223},-100.71092383090625,349.01376351058764,81.299328539190142,{"$f":"ThreePosition_Basic2($E$3,$E$5,$B$3:$C$3,$B$5:$C$5,B297,D297)","v":-39.930728845406172},-265.82125240340639,12.053892599449242,-83.811000033309995]
[145,2.5307274153917776,{"$f":"Burmester($B$3:$C$3,$B$4:$C$4,$B$5:$C$5,$E$3,$E$4,$E$5,B298)","v":0.35002308012811872},3.2328503275446154,{"$f":"ThreePosition_Basic2($E$3,$E$5,$B$3:$C$3,$B$5:$C$5,B298,C298)","v":296.60191677085311},-99.59652317756543,349.30709843900559,81.933355710332918,{"$f":"ThreePosition_Basic2($E$3,$E$5,$B$3:$C$3,$B$5:$C$5,B298,D298)","v":-39.043338757630281},-266.58990228948079,13.661842910522168,-85.060023401582441]
[145.5,2.5394540616517491,{"$f":"Burmester($B$3:$C$3,$B$4:$C$4,$B$5:$C$5,$E$3,$E$4,$E$5,B299)","v":0.35695570571781909},3.2468025347797926,{"$f":"ThreePosition_Basic2($E$3,$E$5,$B$3:$C$3,$B$5:$C$5,B299,C299)","v":296.17257262353934},-98.476021605956589,349.59633460411465,82.574803740326558,{"$f":"ThreePosition_Basic2($E$3,$E$5,$B$3:$C$3,$B$5:$C$5,B299,D299)","v":-38.145311871939818},-267.35214604597235,15.278450108635482,-86.3013206996892]
[146,2.5481807079117211,{"$f":"Burmester($B$3:$C$3,$B$4:$C$4,$B$5:$C$5,$E$3,$E$4,$E$5,B300)","v":0.363938811339718},3.2607552656555718,{"$f":"ThreePosition_Basic2($E$3,$E$5,$B$3:$C$3,$B$5:$C$5,B300,C300)","v":295.74099028461853},-97.349366308565791,349.88138806581946,83.223701837300254,{"$f":"ThreePosition_Basic2($E$3,$E$5,$B$3:$C$3,$B$5:$C$5,B300,D300)","v":-37.236732382030794},-268.10781203421243,16.90366539917013,-87.534743888346384]
[146.5,2.5569073541716927,{"$f":"Burmester($B$3:$C$3,$B$4:$C$4,$B$5:$C$5,$E$3,$E$4,$E$5,B301)","v":0.37097284877417713},3.2747079421221472,{"$f":"ThreePosition_Basic2($E$3,$E$5,$B$3:$C$3,$B$5:$C$5,B301,C301)","v":295.30704918995832},-96.216505879894868,350.16217332004908,83.880078033377913,{"$f":"ThreePosition_Basic2($E$3,$E$5,$B$3:$C$3,$B$5:$C$5,B301,D301)","v":-36.317688741539136},-268.85672886356826,18.53743538855165,-88.760144950295484]
[147,2.5656340004316647,{"$f":"Burmester($B$3:$C$3,$B$4:$C$4,$B$5:$C$5,$E$3,$E$4,$E$5,B302)","v":0.37805826777542051},3.288659975697755,{"$f":"ThreePosition_Basic2($E$3,$E$5,$B$3:$C$3,$B$5:$C$5,B302,C302)","v":294.87062754272722},-95.077390372909534,350.43860329841516,84.54395912329845,{"$f":"ThreePosition_Basic2($E$3,$E$5,$B$3:$C$3,$B$5:$C$5,B302,D302)","v":-35.388273699520816},-269.59872549890747,20.179702056167145,-89.977376002699486]
[147.5,2.5743606466916362,{"$f":"Burmester($B$3:$C$3,$B$4:$C$4,$B$5:$C$5,$E$3,$E$4,$E$5,B303)","v":0.3851955158448559},3.3026107675037695,{"$f":"ThreePosition_Basic2($E$3,$E$5,$B$3:$C$3,$B$5:$C$5,B303,C303)","v":294.43160230717677},-93.931971356844201,350.71058936926363,85.215370601764533,{"$f":"ThreePosition_Basic2($E$3,$E$5,$B$3:$C$3,$B$5:$C$5,B303,D303)","v":-34.448584332576388},-270.33363137041022,21.830402729510489,-91.186289411801482]
[148,2.5830872929516078,{"$f":"Burmester($B$3:$C$3,$B$4:$C$4,$B$5:$C$5,$E$3,$E$4,$E$5,B304)","v":0.39238503799816266},3.3165597083095744,{"$f":"ThreePosition_Basic2($E$3,$E$5,$B$3:$C$3,$B$5:$C$5,B304,C304)","v":293.98984920400636},-92.780201976334638,350.97804134018514,85.894336599546136,{"$f":"ThreePosition_Basic2($E$3,$E$5,$B$3:$C$3,$B$5:$C$5,B304,D304)","v":-33.498722073473473},-271.06127648563955,23.48947006270533,-92.386737909758779]
[148.5,2.5918139392115793,{"$f":"Burmester($B$3:$C$3,$B$4:$C$4,$B$5:$C$5,$E$3,$E$4,$E$5,B305)","v":0.3996272765261612},3.3305061785874579,{"$f":"ThreePosition_Basic2($E$3,$E$5,$B$3:$C$3,$B$5:$C$5,B305,C305)","v":293.54524270737971},-91.622037011856165,351.24086746205671,86.580879818359122,{"$f":"ThreePosition_Basic2($E$3,$E$5,$B$3:$C$3,$B$5:$C$5,B305,D305)","v":-32.538792736121387},-271.78149154377411,25.156832018555626,-93.578574713558822]
[149,2.6005405854715509,{"$f":"Burmester($B$3:$C$3,$B$4:$C$4,$B$5:$C$5,$E$3,$E$4,$E$5,B306)","v":0.40692267074950611},3.3444495485778232,{"$f":"ThreePosition_Basic2($E$3,$E$5,$B$3:$C$3,$B$5:$C$5,B306,C306)","v":293.09765604365492},-90.457432941428692,351.4989744346791,87.275021464555152,{"$f":"ThreePosition_Basic2($E$3,$E$5,$B$3:$C$3,$B$5:$C$5,B306,D306)","v":-31.568906536754618},-272.49410805189927,26.832411854269587,-94.76165364591543]
[149.5,2.6092672317315224,{"$f":"Burmester($B$3:$C$3,$B$4:$C$4,$B$5:$C$5,$E$3,$E$4,$E$5,B307)","v":0.41427165676725852},3.3583891783649404,{"$f":"ThreePosition_Basic2($E$3,$E$5,$B$3:$C$3,$B$5:$C$5,B307,C307)","v":292.64696119189733},-89.286348003558032,351.75226741408306,87.976781181651461,{"$f":"ThreePosition_Basic2($E$3,$E$5,$B$3:$C$3,$B$5:$C$5,B307,D307)","v":-30.58917811118523},-273.19895844324196,28.516128111000494,-95.93582925803247]
[150,2.6179938779914944,{"$f":"Burmester($B$3:$C$3,$B$4:$C$4,$B$5:$C$5,$E$3,$E$4,$E$5,B308)","v":0.42167466719939606},3.3723244179635121,{"$f":"ThreePosition_Basic2($E$3,$E$5,$B$3:$C$3,$B$5:$C$5,B308,C308)","v":292.19302888624009},-88.108742261368533,352.00065002157169,88.686176981743742,{"$f":"ThreePosition_Basic2($E$3,$E$5,$B$3:$C$3,$B$5:$C$5,B308,D308)","v":-29.599726527985617},-273.8958761972313,30.20789460734597,-97.100956954119027]
[150.5,2.626720524251466,{"$f":"Burmester($B$3:$C$3,$B$4:$C$4,$B$5:$C$5,$E$3,$E$4,$E$5,B309)","v":0.42913213092333413},3.3862546074162707,{"$f":"ThreePosition_Basic2($E$3,$E$5,$B$3:$C$3,$B$5:$C$5,B309,C309)","v":291.73572862016289},-86.924577667888727,352.24402435457301,89.403225175837846,{"$f":"ThreePosition_Basic2($E$3,$E$5,$B$3:$C$3,$B$5:$C$5,B309,D309)","v":-28.600675297467021},-274.58469596125593,31.907620436943091,-98.256893117529359]
[151,2.6354471705114375,{"$f":"Burmester($B$3:$C$3,$B$4:$C$4,$B$5:$C$5,$E$3,$E$4,$E$5,B310)","v":0.4366444728045577},3.4001790769028597,{"$f":"ThreePosition_Basic2($E$3,$E$5,$B$3:$C$3,$B$5:$C$5,B310,C310)","v":291.2749286527544},-85.733818132435701,352.48229099937083,90.127940303153323,{"$f":"ThreePosition_Basic2($E$3,$E$5,$B$3:$C$3,$B$5:$C$5,B310,D310)","v":-27.592152376322108},-275.26525367398409,33.615209970294302,-99.403495238395067]
[151.5,2.6441738167714091,{"$f":"Burmester($B$3:$C$3,$B$4:$C$4,$B$5:$C$5,$E$3,$E$4,$E$5,B311)","v":0.44421211342145889},3.4140971468601862,{"$f":"ThreePosition_Basic2($E$3,$E$5,$B$3:$C$3,$B$5:$C$5,B311,C311)","v":290.81049601702949},-84.536429588050737,352.71534904578789,90.860335059443599,{"$f":"ThreePosition_Basic2($E$3,$E$5,$B$3:$C$3,$B$5:$C$5,B311,D311)","v":-26.574290167807337},-275.93738669009991,35.330562860951076,-100.54062204260558]
[152,2.6529004630313806,{"$f":"Burmester($B$3:$C$3,$B$4:$C$4,$B$5:$C$5,$E$3,$E$4,$E$5,B312)","v":0.45183546878450037},3.428008128114481,{"$f":"ThreePosition_Basic2($E$3,$E$5,$B$3:$C$3,$B$5:$C$5,B312,C312)","v":290.34229653036607},-83.332380059925512,352.94309610388893,91.60042022439255,{"$f":"ThreePosition_Basic2($E$3,$E$5,$B$3:$C$3,$B$5:$C$5,B312,D312)","v":-25.547225517341221},-276.60093390631016,37.053574056181645,-101.6681336219921]
[152.5,2.6616271092913526,{"$f":"Burmester($B$3:$C$3,$B$4:$C$4,$B$5:$C$5,$E$3,$E$4,$E$5,B313)","v":0.45951495004984433},3.441911322025236,{"$f":"ThreePosition_Basic2($E$3,$E$5,$B$3:$C$3,$B$5:$C$5,B313,C313)","v":289.87019480713343},-82.121639734759071,353.16542832277827,92.348204588144341,{"$f":"ThreePosition_Basic2($E$3,$E$5,$B$3:$C$3,$B$5:$C$5,B313,D313)","v":-24.511099703402831},-277.25573588845845,38.784133812242018,-102.78589156555503]
[153,2.6703537555513241,{"$f":"Burmester($B$3:$C$3,$B$4:$C$4,$B$5:$C$5,$E$3,$E$4,$E$5,B314)","v":0.46725096322758514},3.4558060206412038,{"$f":"ThreePosition_Basic2($E$3,$E$5,$B$3:$C$3,$B$5:$C$5,B314,C314)","v":289.39405427357764},-80.904181030978847,353.38224041156019,93.103694877032794,{"$f":"ThreePosition_Basic2($E$3,$E$5,$B$3:$C$3,$B$5:$C$5,B314,D314)","v":-23.466058423620307},-277.90163499958447,40.52212771436227,-103.89375909157283]
[153.5,2.6790804018112957,{"$f":"Burmester($B$3:$C$3,$B$4:$C$4,$B$5:$C$5,$E$3,$E$4,$E$5,B315)","v":0.4750439088847665},3.4696915068686294,{"$f":"ThreePosition_Basic2($E$3,$E$5,$B$3:$C$3,$B$5:$C$5,B315,C315)","v":288.91373718503149},-79.679978669752956,353.59342566253247,93.866895678579709,{"$f":"ThreePosition_Basic2($E$3,$E$5,$B$3:$C$3,$B$5:$C$5,B315,D315)","v":-22.412251775944892},-278.53847552875396,42.267436701556065,-104.9916011804213]
[154,2.6878070480712677,{"$f":"Burmester($B$3:$C$3,$B$4:$C$4,$B$5:$C$5,$E$3,$E$4,$E$5,B316)","v":0.48289418184334743},3.48356705465185,{"$f":"ThreePosition_Basic2($E$3,$E$5,$B$3:$C$3,$B$5:$C$5,B316,C316)","v":288.42910464551619},-78.449009746719526,353.79887597668176,94.637809365836773,{"$f":"ThreePosition_Basic2($E$3,$E$5,$B$3:$C$3,$B$5:$C$5,B316,D316)","v":-21.349834234812413},-279.16610382048111,44.019937096353139,-106.07928470792481]
[154.5,2.6965336943312392,{"$f":"Burmester($B$3:$C$3,$B$4:$C$4,$B$5:$C$5,$E$3,$E$4,$E$5,B317)","v":0.49080217087332717},3.4974319291663933,{"$f":"ThreePosition_Basic2($E$3,$E$5,$B$3:$C$3,$B$5:$C$5,B317,C317)","v":287.94001662979912},-77.21125380435079,353.99848189154898,95.416436021149266,{"$f":"ThreePosition_Basic2($E$3,$E$5,$B$3:$C$3,$B$5:$C$5,B317,D317)","v":-20.278964622203535},-279.78436840455606,45.779500639546328,-107.15667857905601]
[155,2.7052603405912108,{"$f":"Burmester($B$3:$C$3,$B$4:$C$4,$B$5:$C$5,$E$3,$E$4,$E$5,B318)","v":0.49876825838124117},3.5112853870247007,{"$f":"ThreePosition_Basic2($E$3,$E$5,$B$3:$C$3,$B$5:$C$5,B318,C318)","v":287.44633200797313},-75.966692904865198,354.19213261153214,96.202773359428789,{"$f":"ThreePosition_Basic2($E$3,$E$5,$B$3:$C$3,$B$5:$C$5,B318,D318)","v":-19.199806073518978},-280.39312012608531,47.545994530040041,-108.22365386179132]
[155.5,2.7139869868511823,{"$f":"Burmester($B$3:$C$3,$B$4:$C$4,$B$5:$C$5,$E$3,$E$4,$E$5,B319)","v":0.50679282009426063},3.5251266764945433,{"$f":"ThreePosition_Basic2($E$3,$E$5,$B$3:$C$3,$B$5:$C$5,B319,C319)","v":286.94790857261779},-74.715311703596399,354.37971604068838,96.996816651023181,{"$f":"ThreePosition_Basic2($E$3,$E$5,$B$3:$C$3,$B$5:$C$5,B319,D319)","v":-18.112525998197185},-280.9922122755475,49.319281469873388,-109.28008392092792]
[156,2.7227136331111539,{"$f":"Burmester($B$3:$C$3,$B$4:$C$4,$B$5:$C$5,$E$3,$E$4,$E$5,B320)","v":0.51487622474014583},3.5389550377302212,{"$f":"ThreePosition_Basic2($E$3,$E$5,$B$3:$C$3,$B$5:$C$5,B320,C320)","v":286.44460306860611},-73.457097522722407,354.56111881810278,97.798558644279794,{"$f":"ThreePosition_Basic2($E$3,$E$5,$B$3:$C$3,$B$5:$C$5,B320,D320)","v":-17.017296035008677},-281.58150071865668,51.099219714487994,-110.32584455165448]
[156.5,2.7314402793711254,{"$f":"Burmester($B$3:$C$3,$B$4:$C$4,$B$5:$C$5,$E$3,$E$4,$E$5,B321)","v":0.52301883372332036},3.5527697030165912,{"$f":"ThreePosition_Basic2($E$3,$E$5,$B$3:$C$3,$B$5:$C$5,B321,C321)","v":285.93627122561196},-72.192040425253538,354.73622635588026,98.60798948790088,{"$f":"ThreePosition_Basic2($E$3,$E$5,$B$3:$C$3,$B$5:$C$5,B321,D321)","v":-15.914292001971214},-282.16084402582885,52.885663128297104,-111.36081411267443]
[157,2.740166925631097,{"$f":"Burmester($B$3:$C$3,$B$4:$C$4,$B$5:$C$5,$E$3,$E$4,$E$5,B322)","v":0.53122100079736023},3.5665698970259436,{"$f":"ThreePosition_Basic2($E$3,$E$5,$B$3:$C$3,$B$5:$C$5,B322,C322)","v":285.42276779337777},-70.920133289169527,354.90492287982283,99.425096653200441,{"$f":"ThreePosition_Basic2($E$3,$E$5,$B$3:$C$3,$B$5:$C$5,B322,D322)","v":-14.803693840841355},-282.73010360102973,54.678461245603721,-112.38487365865976]
[157.5,2.748893571891069,{"$f":"Burmester($B$3:$C$3,$B$4:$C$4,$B$5:$C$5,$E$3,$E$4,$E$5,B323)","v":0.53948307173419285},3.58035483708775,{"$f":"ThreePosition_Basic2($E$3,$E$5,$B$3:$C$3,$B$5:$C$5,B323,C323)","v":284.90394657979306},-69.641371881596228,355.06709147284431,100.24986485636956,{"$f":"ThreePosition_Basic2($E$3,$E$5,$B$3:$C$3,$B$5:$C$5,B323,D323)","v":-13.685685556143339},-283.28914380979222,56.477459336907927,-113.39790707182644]
[158,2.7576202181510405,{"$f":"Burmester($B$3:$C$3,$B$4:$C$4,$B$5:$C$5,$E$3,$E$4,$E$5,B324)","v":0.54780538399033274},3.5941237334712435,{"$f":"ThreePosition_Basic2($E$3,$E$5,$B$3:$C$3,$B$5:$C$5,B324,C324)","v":284.37966049183717},-68.355754932902798,355.22261412117939,101.08227598086906,{"$f":"ThreePosition_Basic2($E$3,$E$5,$B$3:$C$3,$B$5:$C$5,B324,D324)","v":-12.56045514871554},-283.83783210617366,58.282498480626678,-114.39980119240181]
[158.5,2.7663468644110125,{"$f":"Burmester($B$3:$C$3,$B$4:$C$4,$B$5:$C$5,$E$3,$E$4,$E$5,B325)","v":0.55618826637050511},3.6078757896808078,{"$f":"ThreePosition_Basic2($E$3,$E$5,$B$3:$C$3,$B$5:$C$5,B325,C325)","v":283.84976157942992},-67.063284210594702,355.37137176343106,101.92230900007118,{"$f":"ThreePosition_Basic2($E$3,$E$5,$B$3:$C$3,$B$5:$C$5,B325,D325)","v":-11.428194543754438},-284.37603915843039,60.093415640246711,-115.3904459477645]
[159,2.7750735106709841,{"$f":"Burmester($B$3:$C$3,$B$4:$C$4,$B$5:$C$5,$E$3,$E$4,$E$5,B326)","v":0.56463203868899736},3.6216102027640837,{"$f":"ThreePosition_Basic2($E$3,$E$5,$B$3:$C$3,$B$5:$C$5,B326,C326)","v":283.3141010822377},-65.763964592878679,355.51324434250751,102.76993990027474,{"$f":"ThreePosition_Basic2($E$3,$E$5,$B$3:$C$3,$B$5:$C$5,B326,D326)","v":-10.289099513358984},-284.90363897317621,61.910043746910851,-116.3697344800228]
[159.5,2.7838001569309556,{"$f":"Burmester($B$3:$C$3,$B$4:$C$4,$B$5:$C$5,$E$3,$E$4,$E$5,B327)","v":0.57313701142914064},3.635326163632723,{"$f":"ThreePosition_Basic2($E$3,$E$5,$B$3:$C$3,$B$5:$C$5,B327,C327)","v":282.7725294794717},-64.457804141761315,355.64811086048644,103.62514160422886,{"$f":"ThreePosition_Basic2($E$3,$E$5,$B$3:$C$3,$B$5:$C$5,B327,D327)","v":-9.143369593581097},-285.42050901779646,63.732211787433656,-117.33756327180629]
[160,2.7925268031909272,{"$f":"Burmester($B$3:$C$3,$B$4:$C$4,$B$5:$C$5,$E$3,$E$4,$E$5,B328)","v":0.58170348540129657},3.6490228573956465,{"$f":"ThreePosition_Basic2($E$3,$E$5,$B$3:$C$3,$B$5:$C$5,B328,C328)","v":282.22489654271436},-63.144814175547538,355.77584943644462,104.48788389529898,{"$f":"ThreePosition_Basic2($E$3,$E$5,$B$3:$C$3,$B$5:$C$5,B328,D328)","v":-7.9912079960044062},-285.92653034087948,65.559744897725835,-118.29383227003296]
[160.5,{"$f":"A329*PI()/180","v":2.8012534494508987},{"$f":"Burmester($B$3:$C$3,$B$4:$C$4,$B$5:$C$5,$E$3,$E$4,$E$5,B329)","v":0.59033175139978211},3.6626994637046604,{"$f":"ThreePosition_Basic2($E$3,$E$5,$B$3:$C$3,$B$5:$C$5,B329,C329)","v":281.67105139180592},-61.82500934059302,355.89633736728712,105.35813334241945,{"$f":"ThreePosition_Basic2($E$3,$E$5,$B$3:$C$3,$B$5:$C$5,B329,D329)","v":-6.8328215138880442},-286.42158769043255,67.392464461593136,-119.23844500742007]
[161,2.8099800957108703,{"$f":"Burmester($B$3:$C$3,$B$4:$C$4,$B$5:$C$5,$E$3,$E$4,$E$5,B330)","v":0.59902208985914818},3.676355157112265,{"$f":"ThreePosition_Basic2($E$3,$E$5,$B$3:$C$3,$B$5:$C$5,B330,C330)","v":281.11084255381633},-60.498407682165137,356.00945119160338,106.23585322597681,{"$f":"ThreePosition_Basic2($E$3,$E$5,$B$3:$C$3,$B$5:$C$5,B330,D330)","v":-5.668420422915375},-286.90556962964627,69.23018821487166,-120.17130872150432]
[161.5,2.8187067419708423,{"$f":"Burmester($B$3:$C$3,$B$4:$C$4,$B$5:$C$5,$E$3,$E$4,$E$5,B331)","v":0.60777477051027851},3.6899891074414306,{"$f":"ThreePosition_Basic2($E$3,$E$5,$B$3:$C$3,$B$5:$C$5,B331,C331)","v":280.54411802511993},-59.165030714257476,356.11506675656847,107.12100346477681,{"$f":"ThreePosition_Basic2($E$3,$E$5,$B$3:$C$3,$B$5:$C$5,B331,D331)","v":-4.4982183766154114},-287.37836864996967,71.072730354833098,-121.09233447093538]
[162,2.8274333882308138,{"$f":"Burmester($B$3:$C$3,$B$4:$C$4,$B$5:$C$5,$E$3,$E$4,$E$5,B332)","v":0.61659005203675876},3.7036004801671134,{"$f":"ThreePosition_Basic2($E$3,$E$5,$B$3:$C$3,$B$5:$C$5,B332,C332)","v":279.97072533659457},-57.82490348820567,356.21305928791412,108.01354054424792,{"$f":"ThreePosition_Basic2($E$3,$E$5,$B$3:$C$3,$B$5:$C$5,B332,D332)","v":-3.3224322965223814},-287.83988128126322,72.919901654797144,-122.00143724880962]
[162.5,2.8361600344907854,{"$f":"Burmester($B$3:$C$3,$B$4:$C$4,$B$5:$C$5,$E$3,$E$4,$E$5,B333)","v":0.62546818173201046},3.7171884368092494,{"$f":"ThreePosition_Basic2($E$3,$E$5,$B$3:$C$3,$B$5:$C$5,B333,C333)","v":279.39051162194795},-56.478054659939836,356.30330346297359,108.9134174460431,{"$f":"ThreePosition_Basic2($E$3,$E$5,$B$3:$C$3,$B$5:$C$5,B333,D333)","v":-2.1412822571618824},-288.29000819879536,74.771509583863747,-122.89853609281244]
[163,2.8448866807507569,{"$f":"Burmester($B$3:$C$3,$B$4:$C$4,$B$5:$C$5,$E$3,$E$4,$E$5,B334)","v":0.63440939515768757},3.7307521353369193,{"$f":"ThreePosition_Basic2($E$3,$E$5,$B$3:$C$3,$B$5:$C$5,B334,C334)","v":278.80332368917504},-55.124516555711466,356.38567348680584,109.82058357920135,{"$f":"ThreePosition_Basic2($E$3,$E$5,$B$3:$C$3,$B$5:$C$5,B334,D334)","v":-0.95499136596428313},-288.7286543268504,76.627358431666508,-123.78355419193758]
[163.5,2.8536133270107289,{"$f":"Burmester($B$3:$C$3,$B$4:$C$4,$B$5:$C$5,$E$3,$E$4,$E$5,B335)","v":0.64341391580383722},3.744290730583371,{"$f":"ThreePosition_Basic2($E$3,$E$5,$B$3:$C$3,$B$5:$C$5,B335,C335)","v":278.20900809514643},-53.764325236127867,356.46004317140114,110.73498471303566,{"$f":"ThreePosition_Basic2($E$3,$E$5,$B$3:$C$3,$B$5:$C$5,B335,D335)","v":0.23621436178673597},-289.15572893872093,78.487249438041431,-124.65641898955741]
[164,2.8623399732707,{"$f":"Burmester($B$3:$C$3,$B$4:$C$4,$B$5:$C$5,$E$3,$E$4,$E$5,B336)","v":0.65248195475137183},3.7578033746715258,{"$f":"ThreePosition_Basic2($E$3,$E$5,$B$3:$C$3,$B$5:$C$5,B336,C336)","v":277.60741122331126},-52.397520558320892,356.52628601795254,111.65656291191827,{"$f":"ThreePosition_Basic2($E$3,$E$5,$B$3:$C$3,$B$5:$C$5,B336,D336)","v":1.4321061328395273},-289.57114575285857,80.350980927480776,-125.51706228261941]
[164.5,2.871066619530672,{"$f":"Burmester($B$3:$C$3,$B$4:$C$4,$B$5:$C$5,$E$3,$E$4,$E$5,B337)","v":0.66161371033738192},3.7712892174496151,{"$f":"ThreePosition_Basic2($E$3,$E$5,$B$3:$C$3,$B$5:$C$5,B337,C337)","v":276.99837936450086},-51.024146236076938,356.58427530218228,112.5852564721354,{"$f":"ThreePosition_Basic2($E$3,$E$5,$B$3:$C$3,$B$5:$C$5,B337,D337)","v":2.6324525105606633},-289.974823024964,82.218348448242097,-126.36542031675165]
[165,2.8797932657906435,{"$f":"Burmester($B$3:$C$3,$B$4:$C$4,$B$5:$C$5,$E$3,$E$4,$E$5,B338)","v":0.67080936782383649},3.7847474069364884,{"$f":"ThreePosition_Basic2($E$3,$E$5,$B$3:$C$3,$B$5:$C$5,B338,C338)","v":276.38175880080576},-49.644249897754889,356.63388416269635,113.52099986098469,{"$f":"ThreePosition_Basic2($E$3,$E$5,$B$3:$C$3,$B$5:$C$5,B338,D338)","v":3.8370195540639758},-290.36668363580191,84.089144915954549,-127.20143387706233]
[165.5,2.8885199120506155,{"$f":"Burmester($B$3:$C$3,$B$4:$C$4,$B$5:$C$5,$E$3,$E$4,$E$5,B339)","v":0.68006909907026514},3.7981770897761882,{"$f":"ThreePosition_Basic2($E$3,$E$5,$B$3:$C$3,$B$5:$C$5,B339,C339)","v":275.75739589249173},-48.2578831418069,356.6749856923347,114.46372365829777,{"$f":"ThreePosition_Basic2($E$3,$E$5,$B$3:$C$3,$B$5:$C$5,B339,D339)","v":5.0455709617221434},-290.74665517452871,85.963160761565106,-128.02504837442405]
[166,2.8972465583105871,{"$f":"Burmester($B$3:$C$3,$B$4:$C$4,$B$5:$C$5,$E$3,$E$4,$E$5,B340)","v":0.68939306221096042},3.8115774117012942,{"$f":"ThreePosition_Basic2($E$3,$E$5,$B$3:$C$3,$B$5:$C$5,B340,C340)","v":275.12513716791614},-46.865101589730322,356.70745303248043,115.4133545005601,{"$f":"ThreePosition_Basic2($E$3,$E$5,$B$3:$C$3,$B$5:$C$5,B340,D340)","v":6.2578682188805415},-291.11467001733615,87.840184083444868,-128.83621392704572]
[166.5,2.9059732045705586,{"$f":"Burmester($B$3:$C$3,$B$4:$C$4,$B$5:$C$5,$E$3,$E$4,$E$5,B341)","v":0.69878140133732003},3.8249475180045405,{"$f":"ThreePosition_Basic2($E$3,$E$5,$B$3:$C$3,$B$5:$C$5,B341,C341)","v":274.48482941639185},-45.465964936261884,356.73115947027662,116.36981502781489,{"$f":"ThreePosition_Basic2($E$3,$E$5,$B$3:$C$3,$B$5:$C$5,B341,D341)","v":7.4736707495826948},-291.47066540121051,89.720000803467485,-129.63488543713373]
[167,2.9146998508305306,{"$f":"Burmester($B$3:$C$3,$B$4:$C$4,$B$5:$C$5,$E$3,$E$4,$E$5,B342)","v":0.70823424618589814},3.8382865540181768,{"$f":"ThreePosition_Basic2($E$3,$E$5,$B$3:$C$3,$B$5:$C$5,B342,C342)","v":273.83631978394197},-44.060536996637865,356.74597853869517,117.33302383352665,{"$f":"ThreePosition_Basic2($E$3,$E$5,$B$3:$C$3,$B$5:$C$5,B342,D342)","v":8.6927360721058697},-291.81458349262527,91.602394826859069,-130.42102266246076]
[167.5,2.9234264970905017,{"$f":"Burmester($B$3:$C$3,$B$4:$C$4,$B$5:$C$5,$E$3,$E$4,$E$5,B343)","v":0.71775171183277986},3.8515936656005083,{"$f":"ThreePosition_Basic2($E$3,$E$5,$B$3:$C$3,$B$5:$C$5,B343,C343)","v":273.1794558718783},-42.648885750735182,356.75178411939203,118.30289541758896,{"$f":"ThreePosition_Basic2($E$3,$E$5,$B$3:$C$3,$B$5:$C$5,B343,D343)","v":9.9148199580912788},-292.14637145098698,93.487148205605024,-131.19459028266283]
[168,2.9321531433504737,{"$f":"Burmester($B$3:$C$3,$B$4:$C$4,$B$5:$C$5,$E$3,$E$4,$E$5,B344)","v":0.72733389839488538},3.8648679996290456,{"$f":"ThreePosition_Basic2($E$3,$E$5,$B$3:$C$3,$B$5:$C$5,B344,C344)","v":272.51408583812611},-41.231083383910914,356.7484505482746,119.27934014265671,{"$f":"ThreePosition_Basic2($E$3,$E$5,$B$3:$C$3,$B$5:$C$5,B344,D344)","v":11.139676595043404},-292.465981486668,95.374041305191923,-131.95555796010038]
[168.5,2.9408797896104448,{"$f":"Burmester($B$3:$C$3,$B$4:$C$4,$B$5:$C$5,$E$3,$E$4,$E$5,B345)","v":0.73698089073879536},3.878108704499629,{"$f":"ThreePosition_Basic2($E$3,$E$5,$B$3:$C$3,$B$5:$C$5,B345,C345)","v":271.84005850121235},-39.807206324363392,356.73585272369684,120.26226419398029,{"$f":"ThreePosition_Basic2($E$3,$E$5,$B$3:$C$3,$B$5:$C$5,B345,D345)","v":12.367058751960558},-292.77337091346868,97.262852974445053,-132.703900395125]
[169,2.9496064358704168,{"$f":"Burmester($B$3:$C$3,$B$4:$C$4,$B$5:$C$5,$E$3,$E$4,$E$5,B346)","v":0.74669275819774228},3.891314930630922,{"$f":"ThreePosition_Basic2($E$3,$E$5,$B$3:$C$3,$B$5:$C$5,B346,C346)","v":271.15722344682013},-38.377335276829108,356.71386621718926,121.25156954292473,{"$f":"ThreePosition_Basic2($E$3,$E$5,$B$3:$C$3,$B$5:$C$5,B346,D346)","v":13.596717947850838},-293.06850219536034,99.153360718219986,-133.4395973756065]
[169.5,2.9583330821303884,{"$f":"Burmester($B$3:$C$3,$B$4:$C$4,$B$5:$C$5,$E$3,$E$4,$E$5,B347)","v":0.75646955429734208},3.9044858309735861,{"$f":"ThreePosition_Basic2($E$3,$E$5,$B$3:$C$3,$B$5:$C$5,B347,C347)","v":270.46543113680843},-36.941555252444722,356.68236738662296,122.24715391434555,{"$f":"ThreePosition_Basic2($E$3,$E$5,$B$3:$C$3,$B$5:$C$5,B347,D347)","v":14.828404622873812},-293.35134298737825,101.04534087268834,-134.16263382058798]
[170,2.9670597283903604,{"$f":"Burmester($B$3:$C$3,$B$4:$C$4,$B$5:$C$5,$E$3,$E$4,$E$5,B348)","v":0.76631131649071194},3.9176205615234827,{"$f":"ThreePosition_Basic2($E$3,$E$5,$B$3:$C$3,$B$5:$C$5,B348,C348)","v":269.76453302058172},-35.499955594592883,356.64123349169313,123.24891075799954,{"$f":"ThreePosition_Basic2($E$3,$E$5,$B$3:$C$3,$B$5:$C$5,B348,D348)","v":16.061868311843309},-293.62186617053709,102.93856878295472,-134.87299981794467]
[170.5,2.9757863746503315,{"$f":"Burmester($B$3:$C$3,$B$4:$C$4,$B$5:$C$5,$E$3,$E$4,$E$5,B349)","v":0.77621806590356046},3.9307182818381792,{"$f":"ThreePosition_Basic2($E$3,$E$5,$B$3:$C$3,$B$5:$C$5,B349,C349)","v":269.05438164868826},-34.052630000565713,356.59034281160382,124.25672922415724,{"$f":"ThreePosition_Basic2($E$3,$E$5,$B$3:$C$3,$B$5:$C$5,B349,D349)","v":17.296857819815379},-293.88004988066285,104.83281898273091,-135.5706906559399]
[171,2.9845130209103035,{"$f":"Burmester($B$3:$C$3,$B$4:$C$4,$B$5:$C$5,$E$3,$E$4,$E$5,B350)","v":0.78618980708986574},3.9437781555560658,{"$f":"ThreePosition_Basic2($E$3,$E$5,$B$3:$C$3,$B$5:$C$5,B350,C350)","v":268.33483078851492},-32.59967653887513,356.52957476482214,125.2704941435867,{"$f":"ThreePosition_Basic2($E$3,$E$5,$B$3:$C$3,$B$5:$C$5,B350,D350)","v":18.533121399479285},-294.12587753104407,106.72786537578651,-136.25570684858224]
[171.5,2.9932396671702755,{"$f":"Burmester($B$3:$C$3,$B$4:$C$4,$B$5:$C$5,$E$3,$E$4,$E$5,B351)","v":0.7962265277987346},3.9567993509173043,{"$f":"ThreePosition_Basic2($E$3,$E$5,$B$3:$C$3,$B$5:$C$5,B351,C351)","v":267.60573554193627},-31.14119766204773,356.45881003076084,126.29008601206921,{"$f":"ThreePosition_Basic2($E$3,$E$5,$B$3:$C$3,$B$5:$C$5,B351,D351)","v":19.770406930057977},-294.35933782881625,108.62348141888256,-136.92805415469931]
[172,3.0019663134302466,{"$f":"Burmester($B$3:$C$3,$B$4:$C$4,$B$5:$C$5,$E$3,$E$4,$E$5,B352)","v":0.80632819875303541},3.9697810412859025,{"$f":"ThreePosition_Basic2($E$3,$E$5,$B$3:$C$3,$B$5:$C$5,B352,C352)","v":266.86695246476899},-29.677300214747369,356.37793067324242,127.31538097960367,{"$f":"ThreePosition_Basic2($E$3,$E$5,$B$3:$C$3,$B$5:$C$5,B352,D352)","v":21.008462097427365},-294.58042478501613,110.51944030590077,-137.5877435906651]
[172.5,3.0106929596902186,{"$f":"Burmester($B$3:$C$3,$B$4:$C$4,$B$5:$C$5,$E$3,$E$4,$E$5,B353)","v":0.81649477344039134},3.9827224056721189,{"$f":"ThreePosition_Basic2($E$3,$E$5,$B$3:$C$3,$B$5:$C$5,B353,C353)","v":266.1183396878688},-28.208095437071712,356.28682026558306,128.3462508444521,{"$f":"ThreePosition_Basic2($E$3,$E$5,$B$3:$C$3,$B$5:$C$5,B353,D353)","v":22.24703457514773},-294.78913771824739,112.41551515286199,-138.23479143672358]
[173,3.0194196059501901,{"$f":"Burmester($B$3:$C$3,$B$4:$C$4,$B$5:$C$5,$E$3,$E$4,$E$5,B354)","v":0.82672618791708175},3.9956226292544121,{"$f":"ThreePosition_Basic2($E$3,$E$5,$B$3:$C$3,$B$5:$C$5,B354,C354)","v":265.35975703970405},-26.733698962879981,356.18536401713141,129.38256305216845,{"$f":"ThreePosition_Basic2($E$3,$E$5,$B$3:$C$3,$B$5:$C$5,B354,D354)","v":23.485872206101991},-294.98548125192082,114.31147918352931,-138.8692192368724]
[173.5,3.0281462522101616,{"$f":"Burmester($B$3:$C$3,$B$4:$C$4,$B$5:$C$5,$E$3,$E$4,$E$5,B355)","v":0.8370223606254299},4.0084809039001765,{"$f":"ThreePosition_Basic2($E$3,$E$5,$B$3:$C$3,$B$5:$C$5,B355,C355)","v":264.59106617022763},-25.254230813011926,356.07344890108578,130.42418069974929,{"$f":"ThreePosition_Basic2($E$3,$E$5,$B$3:$C$3,$B$5:$C$5,B355,D355)","v":24.724723184432627},-295.16946530504453,116.20710591529078,-139.49105379228331]
[174,3.0368728984701332,{"$f":"Burmester($B$3:$C$3,$B$4:$C$4,$B$5:$C$5,$E$3,$E$4,$E$5,B356)","v":0.84738319222520064},4.0212964286844306,{"$f":"ThreePosition_Basic2($E$3,$E$5,$B$3:$C$3,$B$5:$C$5,B356,C356)","v":263.8121306758577},-23.76981538326822,355.95096378340151,131.47096254503592,{"$f":"ThreePosition_Basic2($E$3,$E$5,$B$3:$C$3,$B$5:$C$5,B356,D356)","v":25.963336237461398},-295.34110507655549,118.10216934500519,-140.10032714825135]
[174.5,3.0455995447301052,{"$f":"Burmester($B$3:$C$3,$B$4:$C$4,$B$5:$C$5,$E$3,$E$4,$E$5,B357)","v":0.85780856543953421},4.034068410405685,{"$f":"ThreePosition_Basic2($E$3,$E$5,$B$3:$C$3,$B$5:$C$5,B357,C357)","v":263.02281622537691},-22.280581427031763,355.81779955259879,132.52276302148698,{"$f":"ThreePosition_Basic2($E$3,$E$5,$B$3:$C$3,$B$5:$C$5,B357,D357)","v":27.20146080727962},-295.50042102319907,119.99644413450149,-140.69707657468032]
[175,3.0543261909900763,{"$f":"Burmester($B$3:$C$3,$B$4:$C$4,$B$5:$C$5,$E$3,$E$4,$E$5,B358)","v":0.86829834491591051},4.0467960640981557,{"$f":"ThreePosition_Basic2($E$3,$E$5,$B$3:$C$3,$B$5:$C$5,B358,C358)","v":262.22299068654456},-20.78666203241745,355.67384925026772,133.57943225843377,{"$f":"ThreePosition_Basic2($E$3,$E$5,$B$3:$C$3,$B$5:$C$5,B358,D358)","v":28.43884723169073},-295.64743883097952,121.88970579541387,-141.28134454012832]
[175.5,3.0630528372500483,{"$f":"Burmester($B$3:$C$3,$B$4:$C$4,$B$5:$C$5,$E$3,$E$4,$E$5,B359)","v":0.87885237710263797},4.0594786135395458,{"$f":"ThreePosition_Basic2($E$3,$E$5,$B$3:$C$3,$B$5:$C$5,B359,C359)","v":261.41252425321278},-19.288194593845947,355.51900820206231,134.64081610692099,{"$f":"ThreePosition_Basic2($E$3,$E$5,$B$3:$C$3,$B$5:$C$5,B359,D359)","v":29.675246924193807},-295.7821893802199,123.78173087304336,-141.85317867945295]
[176,3.0717794835100198,{"$f":"Burmester($B$3:$C$3,$B$4:$C$4,$B$5:$C$5,$E$3,$E$4,$E$5,B360)","v":0.88947049014130086},4.0721152917535477,{"$f":"ThreePosition_Basic2($E$3,$E$5,$B$3:$C$3,$B$5:$C$5,B360,C360)","v":260.59128957272804},-17.785320777953348,355.35317414896588,135.7067561712214,{"$f":"ThreePosition_Basic2($E$3,$E$5,$B$3:$C$3,$B$5:$C$5,B360,D360)","v":30.910412552687227},-295.90470870428237,125.67229712892504,-142.41263175510761]
[176.5,3.0805061297699914,{"$f":"Burmester($B$3:$C$3,$B$4:$C$4,$B$5:$C$5,$E$3,$E$4,$E$5,B361)","v":0.9001524937756169},4.0847053415063055,{"$f":"ThreePosition_Basic2($E$3,$E$5,$B$3:$C$3,$B$5:$C$5,B361,C361)","v":259.75916187339556},-16.278186483752883,355.17624737860717,136.77708984610598,{"$f":"ThreePosition_Basic2($E$3,$E$5,$B$3:$C$3,$B$5:$C$5,B361,D361)","v":32.144098216587764},-296.01503794202421,127.56118372179938,-142.95976161216535]
[177,3.0892327760299634,{"$f":"Burmester($B$3:$C$3,$B$4:$C$4,$B$5:$C$5,$E$3,$E$4,$E$5,B362)","v":0.91089817927709615},4.0972480157960049,{"$f":"ThreePosition_Basic2($E$3,$E$5,$B$3:$C$3,$B$5:$C$5,B362,C362)","v":258.91601909177427},-14.766941796980557,354.9881308563962,137.85165035993811,{"$f":"ThreePosition_Basic2($E$3,$E$5,$B$3:$C$3,$B$5:$C$5,B362,D362)","v":33.376059622049127},-296.11322328406698,129.44817138667108,-143.49463112714832]
[177.5,3.0979594222899349,{"$f":"Burmester($B$3:$C$3,$B$4:$C$4,$B$5:$C$5,$E$3,$E$4,$E$5,B363)","v":0.92170731938787731},4.10974257833481,{"$f":"ThreePosition_Basic2($E$3,$E$5,$B$3:$C$3,$B$5:$C$5,B363,C363)","v":258.06174199956746},-13.251740938567947,354.78873035624497,138.93026682364703,{"$f":"ThreePosition_Basic2($E$3,$E$5,$B$3:$C$3,$B$5:$C$5,B363,D363)","v":34.606054254978773},-296.19931591298337,131.33304261165631,-144.0173081507684]
[178,3.1066860685499069,{"$f":"Burmester($B$3:$C$3,$B$4:$C$4,$B$5:$C$5,$E$3,$E$4,$E$5,B364)","v":0.93257966828109096},4.1221883040223757,{"$f":"ThreePosition_Basic2($E$3,$E$5,$B$3:$C$3,$B$5:$C$5,B364,C364)","v":257.1962143298677},-11.732742207197873,354.57795459063504,140.01276428562386,{"$f":"ThreePosition_Basic2($E$3,$E$5,$B$3:$C$3,$B$5:$C$5,B364,D364)","v":35.833841551550471},-296.27337193751458,133.21558181231785,-144.52786544469285]
[178.5,3.115412714809878,{"$f":"Burmester($B$3:$C$3,$B$4:$C$4,$B$5:$C$5,$E$3,$E$4,$E$5,B365)","v":0.94351496153905567},4.1345844794101509,{"$f":"ThreePosition_Basic2($E$3,$E$5,$B$3:$C$3,$B$5:$C$5,B365,C365)","v":256.31932290251058},-10.21010791591234,354.35571533978526,141.09896379257114,{"$f":"ThreePosition_Basic2($E$3,$E$5,$B$3:$C$3,$B$5:$C$5,B365,D365)","v":37.059183065920863},-296.33545232094849,135.09557550319556,-145.026380612465]
[179,3.12413936106985,{"$f":"Burmester($B$3:$C$3,$B$4:$C$4,$B$5:$C$5,$E$3,$E$4,$E$5,B366)","v":0.95451291614959455},4.1469304031557339,{"$f":"ThreePosition_Basic2($E$3,$E$5,$B$3:$C$3,$B$5:$C$5,B366,C366)","v":255.43095774828635},-8.6840043227527701,354.1219275796725,142.18868245632311,{"$f":"ThreePosition_Basic2($E$3,$E$5,$B$3:$C$3,$B$5:$C$5,B366,D366)","v":38.281842634859231},-296.38562280379892,136.97281246624541,-145.51293602472305]
[179.5,3.1328660073298211,{"$f":"Burmester($B$3:$C$3,$B$4:$C$4,$B$5:$C$5,$E$3,$E$4,$E$5,B367)","v":0.96557323052069899},4.1592253864665283,{"$f":"ThreePosition_Basic2($E$3,$E$5,$B$3:$C$3,$B$5:$C$5,B367,C367)","v":254.53101223175923},-7.1546015554347067,353.87650960865398,143.28173352663543,{"$f":"ThreePosition_Basic2($E$3,$E$5,$B$3:$C$3,$B$5:$C$5,B367,D367)","v":39.501586539013289},-296.42395382094776,138.847083915908,-145.98761873887761]
[180,3.1415926535897931,{"$f":"Burmester($B$3:$C$3,$B$4:$C$4,$B$5:$C$5,$E$3,$E$4,$E$5,B368)","v":0.97669558451377414},4.1714687535320065,{"$f":"ThreePosition_Basic2($E$3,$E$5,$B$3:$C$3,$B$5:$C$5,B368,C368)","v":253.61938317243755},-5.6220735300603595,353.61938317243755,144.37792646993961,{"$f":"ThreePosition_Basic2($E$3,$E$5,$B$3:$C$3,$B$5:$C$5,B368,D368)","v":40.718183660540213},-296.45052041341449,140.71818366054021,-146.45052041341452]
[180.5,3.1503192998497647,{"$f":"Burmester($B$3:$C$3,$B$4:$C$4,$B$5:$C$5,$E$3,$E$4,$E$5,B369)","v":0.98787963949560587},4.1836598419438458,{"$f":"ThreePosition_Basic2($E$3,$E$5,$B$3:$C$3,$B$5:$C$5,B369,C369)","v":252.69597096403885},-4.0865978639021971,353.35047358714405,145.47706705402763,{"$f":"ThreePosition_Basic2($E$3,$E$5,$B$3:$C$3,$B$5:$C$5,B369,D369)","v":41.931405636838228},-296.46540213494012,142.58590825994344,-146.90173721701029]
[181,3.1590459461097362,{"$f":"Burmester($B$3:$C$3,$B$4:$C$4,$B$5:$C$5,$E$3,$E$4,$E$5,B370)","v":0.99912503840921052},4.1957980031033149,{"$f":"ThreePosition_Basic2($E$3,$E$5,$B$3:$C$3,$B$5:$C$5,B370,C370)","v":251.76067969159186},-2.5483557822913085,353.06970986020565,146.57895743863278,{"$f":"ThreePosition_Basic2($E$3,$E$5,$B$3:$C$3,$B$5:$C$5,B370,D370)","v":43.141027010131772},-296.46868295357592,144.45005717874557,-147.34136973265183]
[181.5,3.1677725923697082,{"$f":"Burmester($B$3:$C$3,$B$4:$C$4,$B$5:$C$5,$E$3,$E$4,$E$5,B371)","v":1.0104314058636359},4.2078826026152205,{"$f":"ThreePosition_Basic2($E$3,$E$5,$B$3:$C$3,$B$5:$C$5,B371,C371)","v":250.81341724611909},-1.00753201967162,352.77702480884432,147.68339627184486,{"$f":"ThreePosition_Basic2($E$3,$E$5,$B$3:$C$3,$B$5:$C$5,B371,D371)","v":44.3468253726668},-296.46045114848721,146.31043293539204,-147.76952285697072]
[182,3.1764992386296798,{"$f":"Burmester($B$3:$C$3,$B$4:$C$4,$B$5:$C$5,$E$3,$E$4,$E$5,B372)","v":1.021798348242783},4.2199130206678248,{"$f":"ThreePosition_Basic2($E$3,$E$5,$B$3:$C$3,$B$5:$C$5,B372,C372)","v":249.85409543664164},0.53568528511357094,352.47235517587427,148.79017879229181,{"$f":"ThreePosition_Basic2($E$3,$E$5,$B$3:$C$3,$B$5:$C$5,B372,D372)","v":45.548581507289335},-296.44079920218439,148.16684124652195,-148.18630569500615]
[182.5,3.1852258848896517,{"$f":"Burmester($B$3:$C$3,$B$4:$C$4,$B$5:$C$5,$E$3,$E$4,$E$5,B373)","v":1.0332254538332539},4.2318886523981316,{"$f":"ThreePosition_Basic2($E$3,$E$5,$B$3:$C$3,$B$5:$C$5,B373,C373)","v":248.88263009925157},2.0811046992142042,352.15564174257401,149.8990969369992,{"$f":"ThreePosition_Basic2($E$3,$E$5,$B$3:$C$3,$B$5:$C$5,B373,D373)","v":46.746079523190431},-296.40982368840986,150.01909116651288,-148.59183145062485]
[183,3.1939525311496229,{"$f":"Burmester($B$3:$C$3,$B$4:$C$4,$B$5:$C$5,$E$3,$E$4,$E$5,B374)","v":1.0447122929711921},4.2438089082419861,{"$f":"ThreePosition_Basic2($E$3,$E$5,$B$3:$C$3,$B$5:$C$5,B374,C374)","v":247.89894120300008},3.6285316117448718,351.82682943837807,151.00993945482617,{"$f":"ThreePosition_Basic2($E$3,$E$5,$B$3:$C$3,$B$5:$C$5,B374,D374)","v":47.939106986615641},-296.36762515591414,151.86699522199365,-148.98621731283285]
[183.5,3.2026791774095948,{"$f":"Burmester($B$3:$C$3,$B$4:$C$4,$B$5:$C$5,$E$3,$E$4,$E$5,B375)","v":1.0562584182080621},4.2556732142684686,{"$f":"ThreePosition_Basic2($E$3,$E$5,$B$3:$C$3,$B$5:$C$5,B375,C375)","v":246.9029529523504},5.1777683552186877,351.48586744713873,152.12249202535978,{"$f":"ThreePosition_Basic2($E$3,$E$5,$B$3:$C$3,$B$5:$C$5,B375,D375)","v":49.127455046348132},-296.31430800836694,153.71036954113646,-149.36958433822585]
[184,3.211405823669566,{"$f":"Burmester($B$3:$C$3,$B$4:$C$4,$B$5:$C$5,$E$3,$E$4,$E$5,B376)","v":1.0678633644952229},4.2674810124980809,{"$f":"ThreePosition_Basic2($E$3,$E$5,$B$3:$C$3,$B$5:$C$5,B376,C376)","v":245.89459388595151},6.7286143323109995,351.13270930971362,153.23653738313627,{"$f":"ThreePosition_Basic2($E$3,$E$5,$B$3:$C$3,$B$5:$C$5,B376,D376)","v":50.310918553790003},-296.24998038065092,155.54903397755209,-149.74205732982566]
[184.5,3.2201324699295379,{"$f":"Burmester($B$3:$C$3,$B$4:$C$4,$B$5:$C$5,$E$3,$E$4,$E$5,B377)","v":1.0795266493871873},4.2792317612042901,{"$f":"ThreePosition_Basic2($E$3,$E$5,$B$3:$C$3,$B$5:$C$5,B377,C377)","v":244.87379697149066},8.2808661478089984,350.76731302264108,154.35185544704203,{"$f":"ThreePosition_Basic2($E$3,$E$5,$B$3:$C$3,$B$5:$C$5,B377,D377)","v":51.489296177483141},-296.17475401179752,157.38281222863355,-150.1037647125645]
[185,3.2288591161895095,{"$f":"Burmester($B$3:$C$3,$B$4:$C$4,$B$5:$C$5,$E$3,$E$4,$E$5,B378)","v":1.0912477732633188},4.2909249351979915,{"$f":"ThreePosition_Basic2($E$3,$E$5,$B$3:$C$3,$B$5:$C$5,B378,C378)","v":243.84049969639338},9.8343177455810515,350.38964113267014,155.46822345472981,{"$f":"ThreePosition_Basic2($E$3,$E$5,$B$3:$C$3,$B$5:$C$5,B378,D378)","v":52.662390511921238},-296.08874411482702,159.21153194819803,-150.45483840567826]
[185.5,3.2375857624494815,{"$f":"Burmester($B$3:$C$3,$B$4:$C$4,$B$5:$C$5,$E$3,$E$4,$E$5,B379)","v":1.1030262195677774},4.3025600260945271,{"$f":"ThreePosition_Basic2($E$3,$E$5,$B$3:$C$3,$B$5:$C$5,B379,C379)","v":242.79464415413918},11.388760550396421,349.99966082691731,156.58541610187766,{"$f":"ThreePosition_Basic2($E$3,$E$5,$B$3:$C$3,$B$5:$C$5,B379,D379)","v":53.830008180522334},-295.99206924376011,161.03502485330046,-150.79541369227888]
[186,3.2463124087094526,{"$f":"Burmester($B$3:$C$3,$B$4:$C$4,$B$5:$C$5,$E$3,$E$4,$E$5,B380)","v":1.1148614550673976},4.3141365425629141,{"$f":"ThreePosition_Basic2($E$3,$E$5,$B$3:$C$3,$B$5:$C$5,B380,C380)","v":241.7361771259761},12.943983614400196,349.59734401843224,157.70320568609608,{"$f":"ThreePosition_Basic2($E$3,$E$5,$B$3:$C$3,$B$5:$C$5,B380,D380)","v":54.99195993264744},-295.88485115807174,162.85312682510357,-151.12562908637585]
[186.5,3.2550390549694246,{"$f":"Burmester($B$3:$C$3,$B$4:$C$4,$B$5:$C$5,$E$3,$E$4,$E$5,B381)","v":1.1267529301272083},4.3256540105569892,{"$f":"ThreePosition_Basic2($E$3,$E$5,$B$3:$C$3,$B$5:$C$5,B381,C381)","v":240.66505015782036},14.499773768043907,349.18266742696215,158.82136225528268,{"$f":"ThreePosition_Basic2($E$3,$E$5,$B$3:$C$3,$B$5:$C$5,B381,D381)","v":56.148060734565199},-295.76721468486255,164.665678003707,-151.44562619762377]
[187,3.2637657012293966,{"$f":"Burmester($B$3:$C$3,$B$4:$C$4,$B$5:$C$5,$E$3,$E$4,$E$5,B382)","v":1.1387000790032122},4.3371119735281951,{"$f":"ThreePosition_Basic2($E$3,$E$5,$B$3:$C$3,$B$5:$C$5,B382,C382)","v":239.58121963214009},16.055915775252444,348.75561265471276,159.93965376020401,{"$f":"ThreePosition_Basic2($E$3,$E$5,$B$3:$C$3,$B$5:$C$5,B382,D382)","v":57.298129854277306},-295.63928757902397,166.47252287684998,-151.75554959407242]
[187.5,3.2724923474893677,{"$f":"Burmester($B$3:$C$3,$B$4:$C$4,$B$5:$C$5,$E$3,$E$4,$E$5,B383)","v":1.1507023201520437},4.3485099926198174,{"$f":"ThreePosition_Basic2($E$3,$E$5,$B$3:$C$3,$B$5:$C$5,B383,C383)","v":238.48464683462873},17.612192492600535,348.31616625691441,161.05784621107674,{"$f":"ThreePosition_Basic2($E$3,$E$5,$B$3:$C$3,$B$5:$C$5,B383,D383)","v":58.441990940138233},-295.5012003816729,168.27351036242393,-152.05554666319671]
[188,3.2812189937493397,{"$f":"Burmester($B$3:$C$3,$B$4:$C$4,$B$5:$C$5,$E$3,$E$4,$E$5,B384)","v":1.16275905655707},4.3598476468424732,{"$f":"ThreePosition_Basic2($E$3,$E$5,$B$3:$C$3,$B$5:$C$5,B384,C384)","v":237.37529801548629},19.168385032257735,347.86431980701286,162.17570383790667,{"$f":"ThreePosition_Basic2($E$3,$E$5,$B$3:$C$3,$B$5:$C$5,B384,D384)","v":59.579472093214925},-295.35308627713425,170.06849388474149,-152.34576747148532]
[188.5,3.2899456400093112,{"$f":"Burmester($B$3:$C$3,$B$4:$C$4,$B$5:$C$5,$E$3,$E$4,$E$5,B385)","v":1.1748696760704505},4.3711245332307236,{"$f":"ThreePosition_Basic2($E$3,$E$5,$B$3:$C$3,$B$5:$C$5,B385,C385)","v":236.25314444513921},20.724272928447522,347.40006995631467,163.29298925433059,{"$f":"ThreePosition_Basic2($E$3,$E$5,$B$3:$C$3,$B$5:$C$5,B385,D385)","v":60.710405933350494},-295.1950809487488,171.85733144452593,-152.62636462286574]
[189,3.2986722862692828,{"$f":"Burmester($B$3:$C$3,$B$4:$C$4,$B$5:$C$5,$E$3,$E$4,$E$5,B386)","v":1.1870335517706598},4.3823402669807274,{"$f":"ThreePosition_Basic2($E$3,$E$5,$B$3:$C$3,$B$5:$C$5,B386,C386)","v":235.11816246423712},22.279634307160311,346.92341848792989,164.40946362469845,{"$f":"ThreePosition_Basic2($E$3,$E$5,$B$3:$C$3,$B$5:$C$5,B386,D386)","v":61.83462965891021},-295.02732243377841,173.63988568260297,-152.89749311624027]
[189.5,3.3073989325292543,{"$f":"Burmester($B$3:$C$3,$B$4:$C$4,$B$5:$C$5,$E$3,$E$4,$E$5,B387)","v":1.1992500423349348},4.3934944815688688,{"$f":"ThreePosition_Basic2($E$3,$E$5,$B$3:$C$3,$B$5:$C$5,B387,C387)","v":233.97033352778351},23.834246058846603,346.4343723648679,165.52488683412366,{"$f":"ThreePosition_Basic2($E$3,$E$5,$B$3:$C$3,$B$5:$C$5,B387,D387)","v":62.951985100203757},-294.84995097768547,175.41602393728814,-153.15931020240839]
[190,3.3161255787892263,{"$f":"Burmester($B$3:$C$3,$B$4:$C$4,$B$5:$C$5,$E$3,$E$4,$E$5,B388)","v":1.211518492426058},4.4045868288513716,{"$f":"ThreePosition_Basic2($E$3,$E$5,$B$3:$C$3,$B$5:$C$5,B388,C388)","v":232.80964424326424},25.387884013806978,345.93294377215284,166.63901766121458,{"$f":"ThreePosition_Basic2($E$3,$E$5,$B$3:$C$3,$B$5:$C$5,B388,D388)","v":64.062318766593961},-294.66310888805231,177.18561829548258,-153.41197524064469]
[190.5,3.3248522250491974,{"$f":"Burmester($B$3:$C$3,$B$4:$C$4,$B$5:$C$5,$E$3,$E$4,$E$5,B389)","v":1.2238382330928952},4.4156169791448994,{"$f":"ThreePosition_Basic2($E$3,$E$5,$B$3:$C$3,$B$5:$C$5,B389,C389)","v":231.63608640265622},26.940323119993188,345.41915015284161,167.75161395320296,{"$f":"ThreePosition_Basic2($E$3,$E$5,$B$3:$C$3,$B$5:$C$5,B389,D389)","v":65.165481887312836},-294.46694038840661,178.94854563749823,-153.65564955519685]
[191,3.3335788713091694,{"$f":"Burmester($B$3:$C$3,$B$4:$C$4,$B$5:$C$5,$E$3,$E$4,$E$5,B390)","v":1.2362085821840398},4.4265846212882618,{"$f":"ThreePosition_Basic2($E$3,$E$5,$B$3:$C$3,$B$5:$C$5,B390,C390)","v":230.44965700821001},28.491337622918245,344.89301423784082,168.86243280316438,{"$f":"ThreePosition_Basic2($E$3,$E$5,$B$3:$C$3,$B$5:$C$5,B390,D390)","v":66.261330446028282},-294.261591472215,180.70468767565904,-153.89049629196887]
[191.5,3.3423055175691405,{"$f":"Burmester($B$3:$C$3,$B$4:$C$4,$B$5:$C$5,$E$3,$E$4,$E$5,B391)","v":1.2486288447739051},4.4374894626852823,{"$f":"ThreePosition_Basic2($E$3,$E$5,$B$3:$C$3,$B$5:$C$5,B391,C391)","v":229.25035829191719},30.040701247374955,344.35456406943263,169.97123072903133,{"$f":"ThreePosition_Basic2($E$3,$E$5,$B$3:$C$3,$B$5:$C$5,B391,D391)","v":67.349725209208259},-294.04720975729811,182.45393098672369,-154.11668027564173]
[192,3.3510321638291125,{"$f":"Burmester($B$3:$C$3,$B$4:$C$4,$B$5:$C$5,$E$3,$E$4,$E$5,B392)","v":1.2610983136005995},4.4483312293290247,{"$f":"ThreePosition_Basic2($E$3,$E$5,$B$3:$C$3,$B$5:$C$5,B392,C392)","v":228.03819772858307},31.588187380654492,343.80383301843449,171.07776385408684,{"$f":"ThreePosition_Basic2($E$3,$E$5,$B$3:$C$3,$B$5:$C$5,B392,D392)","v":68.430531748352095},-293.82394434091435,184.19616703820355,-154.334367867482]
[192.5,{"$f":"A393*PI()/180","v":3.3597588100890845},{"$f":"Burmester($B$3:$C$3,$B$4:$C$4,$B$5:$C$5,$E$3,$E$4,$E$5,B393)","v":1.2736162695148474},4.459109665807544,{"$f":"ThreePosition_Basic2($E$3,$E$5,$B$3:$C$3,$B$5:$C$5,B393,C393)","v":226.81318804244816},33.133569256947645,343.24085979493435,172.18178808862348,{"$f":"ThreePosition_Basic2($E$3,$E$5,$B$3:$C$3,$B$5:$C$5,B393,D393)","v":69.503620456166956},-293.59194565575802,185.93129220865313,-154.5437268240822]
[193,3.3684854563490561,{"$f":"Burmester($B$3:$C$3,$B$4:$C$4,$B$5:$C$5,$E$3,$E$4,$E$5,B394)","v":1.2861819819392606},4.4698245352913926,{"$f":"ThreePosition_Basic2($E$3,$E$5,$B$3:$C$3,$B$5:$C$5,B394,C394)","v":225.5753472073109},34.676620142616528,342.66568845255773,173.283059312452,{"$f":"ThreePosition_Basic2($E$3,$E$5,$B$3:$C$3,$B$5:$C$5,B394,D394)","v":70.568866556780989},-293.35136532710254,187.65920780202782,-154.74492615726709]
[193.5,3.377212102609028,{"$f":"Burmester($B$3:$C$3,$B$4:$C$4,$B$5:$C$5,$E$3,$E$4,$E$5,B395)","v":1.2987947093371985},4.4804756195031397,{"$f":"ThreePosition_Basic2($E$3,$E$5,$B$3:$C$3,$B$5:$C$5,B395,C395)","v":224.32469844012002},36.217113522014429,342.07836838623518,174.38133355793764,{"$f":"ThreePosition_Basic2($E$3,$E$5,$B$3:$C$3,$B$5:$C$5,B395,D395)","v":71.626150110095139},-293.10235603131554,189.37982005621029,-154.93813599539234]
[194,3.3859387488689991,{"$f":"Burmester($B$3:$C$3,$B$4:$C$4,$B$5:$C$5,$E$3,$E$4,$E$5,B396)","v":1.3114536996904502},4.4910627186692107,{"$f":"ThreePosition_Basic2($E$3,$E$5,$B$3:$C$3,$B$5:$C$5,B396,C396)","v":223.06127018802792},37.754823283532296,341.4789543234636,175.4763671932418,{"$f":"ThreePosition_Basic2($E$3,$E$5,$B$3:$C$3,$B$5:$C$5,B396,D396)","v":72.675356010392875},-292.84507135596664,191.09304014582852,-155.12352744625713]
[194.5,3.3946653951289711,{"$f":"Burmester($B$3:$C$3,$B$4:$C$4,$B$5:$C$5,$E$3,$E$4,$E$5,B397)","v":1.324158190984988},4.501585651454354,{"$f":"ThreePosition_Basic2($E$3,$E$5,$B$3:$C$3,$B$5:$C$5,B397,C397)","v":221.78509610889995},39.289523905554191,340.86750630905698,176.56791710544945,{"$f":"ThreePosition_Basic2($E$3,$E$5,$B$3:$C$3,$B$5:$C$5,B397,D397)","v":73.716373979326846},-292.5796656617303,192.79878417948385,-155.30127246183503]
[195,3.4033920413889422,{"$f":"Burmester($B$3:$C$3,$B$4:$C$4,$B$5:$C$5,$E$3,$E$4,$E$5,B398)","v":1.3369074117039719},4.5120442548791155,{"$f":"ThreePosition_Basic2($E$3,$E$5,$B$3:$C$3,$B$5:$C$5,B398,C398)","v":220.49621504530279},40.820990641994825,340.24408968341214,177.65574088325522,{"$f":"ThreePosition_Basic2($E$3,$E$5,$B$3:$C$3,$B$5:$C$5,B398,D398)","v":74.74909855342446},-292.30629394629085,194.49697319153381,-155.47154370503046]
[195.5,3.4121186876489142,{"$f":"Burmester($B$3:$C$3,$B$4:$C$4,$B$5:$C$5,$E$3,$E$4,$E$5,B399)","v":1.3497005813272489},4.5224383842206972,{"$f":"ThreePosition_Basic2($E$3,$E$5,$B$3:$C$3,$B$5:$C$5,B399,C399)","v":219.19467099199991},42.348999707107176,339.60877505431841,178.73959699889483,{"$f":"ThreePosition_Basic2($E$3,$E$5,$B$3:$C$3,$B$5:$C$5,B399,D399)","v":75.773429066253215},-292.02511171043068,196.18753312857172,-155.63451441864302]
[196,3.4208453339088858,{"$f":"Burmester($B$3:$C$3,$B$4:$C$4,$B$5:$C$5,$E$3,$E$4,$E$5,B400)","v":1.3625369108365026},4.5327679128976177,{"$f":"ThreePosition_Basic2($E$3,$E$5,$B$3:$C$3,$B$5:$C$5,B400,C400)","v":217.88051305700779},43.87332845923607,338.96163826236648,179.8192449889969,{"$f":"ThreePosition_Basic2($E$3,$E$5,$B$3:$C$3,$B$5:$C$5,B400,D400)","v":76.78926962540119},-291.73627482648874,197.87039483075989,-155.7903582967279]
[196.5,3.4295719801688573,{"$f":"Burmester($B$3:$C$3,$B$4:$C$4,$B$5:$C$5,$E$3,$E$4,$E$5,B401)","v":1.3754156032252924},4.5430327323386237,{"$f":"ThreePosition_Basic2($E$3,$E$5,$B$3:$C$3,$B$5:$C$5,B401,C401)","v":216.55379541627048},45.393755583210869,338.30276034001571,180.89444563404734,{"$f":"ThreePosition_Basic2($E$3,$E$5,$B$3:$C$3,$B$5:$C$5,B401,D401)","v":77.796529084434397},-291.43993940935206,199.54549400817965,-155.93924935851558]
[197,3.4382986264288289,{"$f":"Burmester($B$3:$C$3,$B$4:$C$4,$B$5:$C$5,$E$3,$E$4,$E$5,B402)","v":1.3883358540131296},4.5532327518363163,{"$f":"ThreePosition_Basic2($E$3,$E$5,$B$3:$C$3,$B$5:$C$5,B402,C402)","v":215.21457726203704},46.910061271064173,337.63222746440613,181.9649611361514,{"$f":"ThreePosition_Basic2($E$3,$E$5,$B$3:$C$3,$B$5:$C$5,B402,D402)","v":78.795121009999065},-291.13626169014236,201.21277121236818,-156.08136182505513]
[197.5,3.4470252726888009,{"$f":"Burmester($B$3:$C$3,$B$4:$C$4,$B$5:$C$5,$E$3,$E$4,$E$5,B403)","v":1.4012968517628177},4.5633678983859784,{"$f":"ThreePosition_Basic2($E$3,$E$5,$B$3:$C$3,$B$5:$C$5,B403,C403)","v":213.86292274503091},48.422027400775526,336.95013090400528,183.03055529479261,{"$f":"ThreePosition_Basic2($E$3,$E$5,$B$3:$C$3,$B$5:$C$5,B403,D403)","v":79.784963644245366},-290.82539789274347,202.87217180321971,-156.21686999872639]
[198,3.4557519189487729,{"$f":"Burmester($B$3:$C$3,$B$4:$C$4,$B$5:$C$5,$E$3,$E$4,$E$5,B404)","v":1.4142977786002286},4.5734381165101183,{"$f":"ThreePosition_Basic2($E$3,$E$5,$B$3:$C$3,$B$5:$C$5,B404,C404)","v":212.49890091052092},49.929437712742263,336.25656695920134,184.09099368028862,{"$f":"ThreePosition_Basic2($E$3,$E$5,$B$3:$C$3,$B$5:$C$5,B404,D404)","v":80.765979862752275},-290.50750411330654,204.52364591143271,-156.34594814576019]
[198.5,3.464478565208744,{"$f":"Burmester($B$3:$C$3,$B$4:$C$4,$B$5:$C$5,$E$3,$E$4,$E$5,B405)","v":1.427337810735724},4.5834433680692612,{"$f":"ThreePosition_Basic2($E$3,$E$5,$B$3:$C$3,$B$5:$C$5,B405,C405)","v":211.12258562841555},51.432077983688401,335.55163689696701,185.14604380465408,{"$f":"ThreePosition_Basic2($E$3,$E$5,$B$3:$C$3,$B$5:$C$5,B405,D405)","v":81.738097128141973},-290.18273620285964,206.16714839669339,-156.46877038189396]
[199,3.473205211468716,{"$f":"Burmester($B$3:$C$3,$B$4:$C$4,$B$5:$C$5,$E$3,$E$4,$E$5,B406)","v":1.4404161189864328},4.5933836320595312,{"$f":"ThreePosition_Basic2($E$3,$E$5,$B$3:$C$3,$B$5:$C$5,B406,C406)","v":209.73405551751318},52.929736197730158,334.83544687972613,186.19547528958822,{"$f":"ThreePosition_Basic2($E$3,$E$5,$B$3:$C$3,$B$5:$C$5,B406,D406)","v":82.701247439573237},-289.85124965313389,207.80263880178617,-156.58551056127584]
[199.5,3.4819318577286871,{"$f":"Burmester($B$3:$C$3,$B$4:$C$4,$B$5:$C$5,$E$3,$E$4,$E$5,B407)","v":1.4535318692985788},4.6032589043975767,{"$f":"ThreePosition_Basic2($E$3,$E$5,$B$3:$C$3,$B$5:$C$5,B407,C407)","v":208.33339386405945},54.422202714322978,334.10810788857816,187.23906003131043,{"$f":"ThreePosition_Basic2($E$3,$E$5,$B$3:$C$3,$B$5:$C$5,B407,D407)","v":83.655367278307025},-289.51319948571359,209.43008130282576,-156.69634216872612]
[200,3.4906585039886591,{"$f":"Burmester($B$3:$C$3,$B$4:$C$4,$B$5:$C$5,$E$3,$E$4,$E$5,B408)","v":1.4666842232691162},4.6130691976934379,{"$f":"ThreePosition_Basic2($E$3,$E$5,$B$3:$C$3,$B$5:$C$5,B408,C408)","v":206.92068853476812},55.909270432832052,333.36973564103783,188.27657236198553,{"$f":"ThreePosition_Basic2($E$3,$E$5,$B$3:$C$3,$B$5:$C$5,B408,D408)","v":84.60039754954424},-289.16874014459796,211.04944465581397,-156.80143821544448]
[200.5,3.4993851502486306,{"$f":"Burmester($B$3:$C$3,$B$4:$C$4,$B$5:$C$5,$E$3,$E$4,$E$5,B409)","v":1.4798723386658772},4.6228145410119073,{"$f":"ThreePosition_Basic2($E$3,$E$5,$B$3:$C$3,$B$5:$C$5,B409,C409)","v":205.49603188448003},57.390734953466421,332.62045050346524,189.30778920747628,{"$f":"ThreePosition_Basic2($E$3,$E$5,$B$3:$C$3,$B$5:$C$5,B409,D409)","v":85.536283520732553},-288.81802539226271,212.66070213971778,-156.90097113825286]
[201,3.5081117965086026,{"$f":"Burmester($B$3:$C$3,$B$4:$C$4,$B$5:$C$5,$E$3,$E$4,$E$5,B410)","v":1.4930953699455205},4.632494979623015,{"$f":"ThreePosition_Basic2($E$3,$E$5,$B$3:$C$3,$B$5:$C$5,B410,C410)","v":204.05952065864048},58.86639473434176,331.86037739837064,190.33249024118831,{"$f":"ThreePosition_Basic2($E$3,$E$5,$B$3:$C$3,$B$5:$C$5,B410,D410)","v":86.462974756546288},-288.4612082092861,214.26383149627645,-156.99511270243954]
[201.5,3.5168384427685737,{"$f":"Burmester($B$3:$C$3,$B$4:$C$4,$B$5:$C$5,$E$3,$E$4,$E$5,B411)","v":1.5063524687685188},4.642110574742202,{"$f":"ThreePosition_Basic2($E$3,$E$5,$B$3:$C$3,$B$5:$C$5,B411,C411)","v":202.61125589078966},60.336051244436646,331.08964570678847,191.35045803377074,{"$f":"ThreePosition_Basic2($E$3,$E$5,$B$3:$C$3,$B$5:$C$5,B411,D411)","v":87.380425050736505},-288.0984406976043,215.85881486673532,-157.08403390827021]
[202,3.5255650890285457,{"$f":"Burmester($B$3:$C$3,$B$4:$C$4,$B$5:$C$5,$E$3,$E$4,$E$5,B412)","v":1.5196427845105076},4.6516614032608246,{"$f":"ThreePosition_Basic2($E$3,$E$5,$B$3:$C$3,$B$5:$C$5,B412,C412)","v":201.15134279526657},61.799509112227277,330.30838916592432,192.36147819845542,{"$f":"ThreePosition_Basic2($E$3,$E$5,$B$3:$C$3,$B$5:$C$5,B412,D412)","v":88.288592355060942},-287.72987398744561,217.44563872571871,-157.16790490121747]
[202.5,3.5342917352885168,{"$f":"Burmester($B$3:$C$3,$B$4:$C$4,$B$5:$C$5,$E$3,$E$4,$E$5,B413)","v":1.532965464769263},4.6611475574675714,{"$f":"ThreePosition_Basic2($E$3,$E$5,$B$3:$C$3,$B$5:$C$5,B413,C413)","v":199.67989065534158},63.256576269791736,329.51674576229021,193.36533953182595,{"$f":"ThreePosition_Basic2($E$3,$E$5,$B$3:$C$3,$B$5:$C$5,B413,D413)","v":89.187438705488461},-287.35565814798281,219.02429381243709,-157.24689488594859]
[203,3.5430183815484888,{"$f":"Burmester($B$3:$C$3,$B$4:$C$4,$B$5:$C$5,$E$3,$E$4,$E$5,B414)","v":1.546319655866689},4.6705691447614246,{"$f":"ThreePosition_Basic2($E$3,$E$5,$B$3:$C$3,$B$5:$C$5,B414,C414)","v":198.19701270699085},64.707064092196077,328.71485762054573,194.36183414982617,{"$f":"ThreePosition_Basic2($E$3,$E$5,$B$3:$C$3,$B$5:$C$5,B414,D414)","v":90.076930145884077},-286.97594210173366,220.59477505943897,-157.32117204410358]
[203.5,3.5517450278084608,{"$f":"Burmester($B$3:$C$3,$B$4:$C$4,$B$5:$C$5,$E$3,$E$4,$E$5,B415)","v":1.5597045033451145},4.679926287356766,{"$f":"ThreePosition_Basic2($E$3,$E$5,$B$3:$C$3,$B$5:$C$5,B415,C415)","v":196.70282601854677},66.150787531978679,327.90287088827836,195.35075761882422,{"$f":"ThreePosition_Basic2($E$3,$E$5,$B$3:$C$3,$B$5:$C$5,B415,D415)","v":90.957036649372455},-286.59087354273225,222.15708151910405,-157.3909034558867]
[204,3.5604716740684319,{"$f":"Burmester($B$3:$C$3,$B$4:$C$4,$B$5:$C$5,$E$3,$E$4,$E$5,B416)","v":1.5731191524573205},4.6892191219812487,{"$f":"ThreePosition_Basic2($E$3,$E$5,$B$3:$C$3,$B$5:$C$5,B416,C416)","v":195.19745136645113},67.587565248569874,327.08093561695443,196.33190908156769,{"$f":"ThreePosition_Basic2($E$3,$E$5,$B$3:$C$3,$B$5:$C$5,B416,D416)","v":91.827732037578741},-286.2005988584815,223.71121628808203,-157.4562550254837]
[204.5,3.5691983203284039,{"$f":"Burmester($B$3:$C$3,$B$4:$C$4,$B$5:$C$5,$E$3,$E$4,$E$5,B417)","v":1.5865627486496809},4.6984477995670364,{"$f":"ThreePosition_Basic2($E$3,$E$5,$B$3:$C$3,$B$5:$C$5,B417,C417)","v":193.68101310735233},69.017219732497153,326.24920563928174,197.30509137787752,{"$f":"ThreePosition_Basic2($E$3,$E$5,$B$3:$C$3,$B$5:$C$5,B417,D417)","v":92.688993897940946},-285.80526305568827,225.25718642987036,-157.51739141030791]
[205,3.5779249665883754,{"$f":"Burmester($B$3:$C$3,$B$4:$C$4,$B$5:$C$5,$E$3,$E$4,$E$5,B418)","v":1.6000344380378297},4.7076124849360088,{"$f":"ThreePosition_Basic2($E$3,$E$5,$B$3:$C$3,$B$5:$C$5,B418,C418)","v":192.15363904679293},70.439577424234443,325.40783844323391,198.27011115994048,{"$f":"ThreePosition_Basic2($E$3,$E$5,$B$3:$C$3,$B$5:$C$5,B418,D418)","v":93.540803499286412},-285.40500968977773,226.79500289572741,-157.57447595407172]
[205.5,3.5866516128483474,{"$f":"Burmester($B$3:$C$3,$B$4:$C$4,$B$5:$C$5,$E$3,$E$4,$E$5,B419)","v":1.6135333678743462},4.7167133564795485,{"$f":"ThreePosition_Basic2($E$3,$E$5,$B$3:$C$3,$B$5:$C$5,B419,C419)","v":190.61546030472957},71.854468827578472,324.55699504297968,199.22677900207836,{"$f":"ThreePosition_Basic2($E$3,$E$5,$B$3:$C$3,$B$5:$C$5,B419,D419)","v":94.383145705863868},-284.99998079817152,228.32468044411399,-157.62767062367163]
[206,3.5953782591083185,{"$f":"Burmester($B$3:$C$3,$B$4:$C$4,$B$5:$C$5,$E$3,$E$4,$E$5,B420)","v":1.627058687007902},4.7257506058334755,{"$f":"ThreePosition_Basic2($E$3,$E$5,$B$3:$C$3,$B$5:$C$5,B420,C420)","v":189.06661117814244},73.261728617439928,323.6968398469769,200.1749095048836,{"$f":"ThreePosition_Basic2($E$3,$E$5,$B$3:$C$3,$B$5:$C$5,B420,D420)","v":95.216008890013114},-284.59031683730683,229.84623755884755,-157.67713594986316]
[206.5,3.6041049053682905,{"$f":"Burmester($B$3:$C$3,$B$4:$C$4,$B$5:$C$5,$E$3,$E$4,$E$5,B421)","v":1.6406095463334196},4.7347244375487314,{"$f":"ThreePosition_Basic2($E$3,$E$5,$B$3:$C$3,$B$5:$C$5,B421,C421)","v":187.50722900098066},74.661195741959702,322.82754052347968,201.11432139362699,{"$f":"ThreePosition_Basic2($E$3,$E$5,$B$3:$C$3,$B$5:$C$5,B421,D421)","v":96.03938484365581},-284.17615662336857,231.35969636615482,-157.72303097170126]
[207,3.6128315516282616,{"$f":"Burmester($B$3:$C$3,$B$4:$C$4,$B$5:$C$5,$E$3,$E$4,$E$5,B422)","v":1.654185099232734},4.7436350687583682,{"$f":"ThreePosition_Basic2($E$3,$E$5,$B$3:$C$3,$B$5:$C$5,B422,C422)","v":185.93745400170792},76.05271351886573,321.94926786372525,202.04483761085413,{"$f":"ThreePosition_Basic2($E$3,$E$5,$B$3:$C$3,$B$5:$C$5,B422,D422)","v":96.85326868878434},-283.75763727669903,232.8650825508017,-157.76551318471064]
[207.5,3.6215581978882336,{"$f":"Burmester($B$3:$C$3,$B$4:$C$4,$B$5:$C$5,$E$3,$E$4,$E$5,B423)","v":1.6677845020053872},4.7524827288414233,{"$f":"ThreePosition_Basic2($E$3,$E$5,$B$3:$C$3,$B$5:$C$5,B423,C423)","v":184.35742915869258},77.436129726014272,321.06219564304774,202.96628540311082,{"$f":"ThreePosition_Basic2($E$3,$E$5,$B$3:$C$3,$B$5:$C$5,B423,D423)","v":97.65765878712007},-283.33489416983883,234.36242527147522,-157.80473849274227]
[208,3.6302848441482056,{"$f":"Burmester($B$3:$C$3,$B$4:$C$4,$B$5:$C$5,$E$3,$E$4,$E$5,B424)","v":1.6814069142890911},4.7612676590841927,{"$f":"ThreePosition_Basic2($E$3,$E$5,$B$3:$C$3,$B$5:$C$5,B424,C424)","v":182.76730005370996},78.81129668605584,320.1665004801871,203.87849640173775,{"$f":"ThreePosition_Basic2($E$3,$E$5,$B$3:$C$3,$B$5:$C$5,B424,D424)","v":98.452556649107578},-282.90806087915388,235.85175707558469,-157.84086116347197]
[208.5,3.6390114904081772,{"$f":"Burmester($B$3:$C$3,$B$4:$C$4,$B$5:$C$5,$E$3,$E$4,$E$5,B425)","v":1.6950514994695425},4.7699901123394834,{"$f":"ThreePosition_Basic2($E$3,$E$5,$B$3:$C$3,$B$5:$C$5,B425,C425)","v":181.16721472380155},80.178071345198575,319.26236169504307,204.78130669770417,{"$f":"ThreePosition_Basic2($E$3,$E$5,$B$3:$C$3,$B$5:$C$5,B425,D425)","v":99.237966842408497},-282.47726913999037,237.33311381364999,-157.87403378748476]
[209,3.6477381366681487,{"$f":"Burmester($B$3:$C$3,$B$4:$C$4,$B$5:$C$5,$E$3,$E$4,$E$5,B426)","v":1.7087174250792132},4.7786503526843322,{"$f":"ThreePosition_Basic2($E$3,$E$5,$B$3:$C$3,$B$5:$C$5,B426,C426)","v":179.55732351175212},81.536315346041036,318.3499611651356,205.674556910452,{"$f":"ThreePosition_Basic2($E$3,$E$5,$B$3:$C$3,$B$5:$C$5,B426,D426)","v":100.01389690005053},-282.0426488053007,238.80653455343403,-157.90440724088975]
[209.5,3.6564647829281203,{"$f":"Burmester($B$3:$C$3,$B$4:$C$4,$B$5:$C$5,$E$3,$E$4,$E$5,B427)","v":1.7224038631848184},4.7872486550767022,{"$f":"ThreePosition_Basic2($E$3,$E$5,$B$3:$C$3,$B$5:$C$5,B427,C427)","v":177.93777891543257},82.885895094469049,317.42948318102242,206.55809225074245,{"$f":"ThreePosition_Basic2($E$3,$E$5,$B$3:$C$3,$B$5:$C$5,B427,D427)","v":100.78035722837994},-281.60432780767019,240.27206149396977,-157.93213065139679]
[210,3.6651914291880923,{"$f":"Burmester($B$3:$C$3,$B$4:$C$4,$B$5:$C$5,$E$3,$E$4,$E$5,B428)","v":1.7361099907631807},4.7957853050116723,{"$f":"ThreePosition_Basic2($E$3,$E$5,$B$3:$C$3,$B$5:$C$5,B428,C428)","v":176.30873543625887},84.226681820619845,316.50111430092727,207.43176257750753,{"$f":"ThreePosition_Basic2($E$3,$E$5,$B$3:$C$3,$B$5:$C$5,B428,D428)","v":101.53736101496827},-281.1624321246822,241.72973987963667,-157.9573513677945]
[210.5,3.6739180754480634,{"$f":"Burmester($B$3:$C$3,$B$4:$C$4,$B$5:$C$5,$E$3,$E$4,$E$5,B429)","v":1.7498349900652344},4.8042605981775548,{"$f":"ThreePosition_Basic2($E$3,$E$5,$B$3:$C$3,$B$5:$C$5,B429,C429)","v":174.67034942701159},85.558551633933703,315.56504320482577,208.2954224487242,{"$f":"ThreePosition_Basic2($E$3,$E$5,$B$3:$C$3,$B$5:$C$5,B429,D429)","v":102.28492413660464},-280.71708574753973,243.17961791441883,-157.98021493274922]
[211,3.6826447217080354,{"$f":"Burmester($B$3:$C$3,$B$4:$C$4,$B$5:$C$5,$E$3,$E$4,$E$5,B430)","v":1.7635780489679571},4.8126748401124404,{"$f":"ThreePosition_Basic2($E$3,$E$5,$B$3:$C$3,$B$5:$C$5,B430,C430)","v":173.0227789392556},86.881385572321776,314.62146054823137,209.14893116633792,{"$f":"ThreePosition_Basic2($E$3,$E$5,$B$3:$C$3,$B$5:$C$5,B430,D430)","v":103.02306506751279},-280.26841065287266,244.62174667648856,-158.0008650588565]
[211.5,3.6913713679680069,{"$f":"Burmester($B$3:$C$3,$B$4:$C$4,$B$5:$C$5,$E$3,$E$4,$E$5,B431)","v":1.7773383613140166},4.8210283458615812,{"$f":"ThreePosition_Basic2($E$3,$E$5,$B$3:$C$3,$B$5:$C$5,B431,C431)","v":171.36618357060135},88.195069645493732,313.67055881592432,209.99215281527842,{"$f":"ThreePosition_Basic2($E$3,$E$5,$B$3:$C$3,$B$5:$C$5,B431,D431)","v":103.75180478791624},-279.8165267776447,246.05618003323917,-158.01944360786001]
[212,3.7000980142279785,{"$f":"Burmester($B$3:$C$3,$B$4:$C$4,$B$5:$C$5,$E$3,$E$4,$E$5,B432)","v":1.7911151272389954},4.8293214396360487,{"$f":"ThreePosition_Basic2($E$3,$E$5,$B$3:$C$3,$B$5:$C$5,B432,C432)","v":169.70072431203175},89.499494872501302,312.71253217585291,210.82495629662054,{"$f":"ThreePosition_Basic2($E$3,$E$5,$B$3:$C$3,$B$5:$C$5,B432,D432)","v":104.47116669307238},-279.36155199708003,247.48297455689354,-158.0360905729608]
[212.5,3.70882466048795,{"$f":"Burmester($B$3:$C$3,$B$4:$C$4,$B$5:$C$5,$E$3,$E$4,$E$5,B433)","v":1.8049075534860255},4.8375544544730769,{"$f":"ThreePosition_Basic2($E$3,$E$5,$B$3:$C$3,$B$5:$C$5,B433,C433)","v":168.02656339552732},90.794557313561043,311.74757633344041,211.64721535495227,{"$f":"ThreePosition_Basic2($E$3,$E$5,$B$3:$C$3,$B$5:$C$5,B433,D433)","v":105.18117650289193},-278.90360210552132,248.90218944080505,-158.05094406413008]
[213,3.717551306747922,{"$f":"Burmester($B$3:$C$3,$B$4:$C$4,$B$5:$C$5,$E$3,$E$4,$E$5,B434)","v":1.818714853707754},4.8457277318984628,{"$f":"ThreePosition_Basic2($E$3,$E$5,$B$3:$C$3,$B$5:$C$5,B434,C434)","v":166.34386414220202},92.080158096236104,310.775888386514,212.45880860002805,{"$f":"ThreePosition_Basic2($E$3,$E$5,$B$3:$C$3,$B$5:$C$5,B434,D434)","v":105.88186217224818},-278.44279080012927,250.31388641656019,-158.06414029633731]
[213.5,3.726277953007894,{"$f":"Burmester($B$3:$C$3,$B$4:$C$4,$B$5:$C$5,$E$3,$E$4,$E$5,B435)","v":1.8325362487555275},4.8538416215914184,{"$f":"ThreePosition_Basic2($E$3,$E$5,$B$3:$C$3,$B$5:$C$5,B435,C435)","v":164.65279081116856},93.356203436062245,309.79766668107777,213.25961952278939,{"$f":"ThreePosition_Basic2($E$3,$E$5,$B$3:$C$3,$B$5:$C$5,B435,D435)","v":106.57325380208293},-277.97922966733665,251.71812967199219,-158.07581358060952]
[214,3.7350045992678651,{"$f":"Burmester($B$3:$C$3,$B$4:$C$4,$B$5:$C$5,$E$3,$E$4,$E$5,B436)","v":1.8463709669557646},4.8618964810521925,{"$f":"ThreePosition_Basic2($E$3,$E$5,$B$3:$C$3,$B$5:$C$5,B436,C436)","v":162.95350844933347},94.6226046517166,308.81311066813248,214.04953650585057,{"$f":"ThreePosition_Basic2($E$3,$E$5,$B$3:$C$3,$B$5:$C$5,B436,D436)","v":107.25538355139912},-277.51302817196131,253.11498577019813,-158.08609631782736]
[214.5,3.7437312455278371,{"$f":"Burmester($B$3:$C$3,$B$4:$C$4,$B$5:$C$5,$E$3,$E$4,$E$5,B437)","v":1.8602182443734736},4.8698926752728298,{"$f":"ThreePosition_Basic2($E$3,$E$5,$B$3:$C$3,$B$5:$C$5,B437,C437)","v":161.24618274232154},95.879278174834113,307.82242076174617,214.82845282855101,{"$f":"ThreePosition_Basic2($E$3,$E$5,$B$3:$C$3,$B$5:$C$5,B437,D437)","v":107.92828555023509},-277.04429364888688,254.50452356965974,-158.09511899517]
[215,3.7524578917878082,{"$f":"Burmester($B$3:$C$3,$B$4:$C$4,$B$5:$C$5,$E$3,$E$4,$E$5,B438)","v":1.874077325062897},4.8778305764113554,{"$f":"ThreePosition_Basic2($E$3,$E$5,$B$3:$C$3,$B$5:$C$5,B438,C438)","v":159.53097986672185},97.126145554587254,306.82579819856932,215.5962666666889,{"$f":"ThreePosition_Basic2($E$3,$E$5,$B$3:$C$3,$B$5:$C$5,B438,D438)","v":108.59199581370095},-276.57313129721689,255.88681414554841,-158.10301018511524]
[215.5,3.7611845380477802,{"$f":"Burmester($B$3:$C$3,$B$4:$C$4,$B$5:$C$5,$E$3,$E$4,$E$5,B439)","v":1.8879474613053306},4.8857105634696962,{"$f":"ThreePosition_Basic2($E$3,$E$5,$B$3:$C$3,$B$5:$C$5,B439,C439)","v":157.80806634383293},98.363133457152969,305.82344489897747,216.35288108705657,{"$f":"ThreePosition_Basic2($E$3,$E$5,$B$3:$C$3,$B$5:$C$5,B439,D439)","v":109.24655215715572},-276.09964417680641,257.26193071230023,-158.1098965469028]
[216,3.7699111843077517,{"$f":"Burmester($B$3:$C$3,$B$4:$C$4,$B$5:$C$5,$E$3,$E$4,$E$5,B440)","v":1.9018279138341123},4.8935330219756086,{"$f":"ThreePosition_Basic2($E$3,$E$5,$B$3:$C$3,$B$5:$C$5,B440,C440)","v":156.07760889508506},99.590173660194537,304.81556333002095,217.09820403690389,{"$f":"ThreePosition_Basic2($E$3,$E$5,$B$3:$C$3,$B$5:$C$5,B440,D440)","v":109.8919941125973},-275.62393320707741,258.62994854753322,-158.11590283036804]
[216.5,3.7786378305677237,{"$f":"Burmester($B$3:$C$3,$B$4:$C$4,$B$5:$C$5,$E$3,$E$4,$E$5,B441)","v":1.9157179520468908},4.9012983436688771,{"$f":"ThreePosition_Basic2($E$3,$E$5,$B$3:$C$3,$B$5:$C$5,B441,C441)","v":154.33977429930152},100.80720304249965,303.802356370349,217.83214832846795,{"$f":"ThreePosition_Basic2($E$3,$E$5,$B$3:$C$3,$B$5:$C$5,B441,D441)","v":110.52836284633193},-275.14609716802261,259.99094491737947,-158.12115188205431]
[217,3.7873644768276948,{"$f":"Burmester($B$3:$C$3,$B$4:$C$4,$B$5:$C$5,$E$3,$E$4,$E$5,B442)","v":1.9296168542052128},4.9090069261920215,{"$f":"ThreePosition_Basic2($E$3,$E$5,$B$3:$C$3,$B$5:$C$5,B442,C442)","v":152.59472925195658},102.01416356891541,302.78402717726755,218.55463161870807,{"$f":"ThreePosition_Basic2($E$3,$E$5,$B$3:$C$3,$B$5:$C$5,B442,D442)","v":111.1557010779815},-274.66623270330155,261.34499900329246,-158.12576465350887]
[217.5,3.7960911230876668,{"$f":"Burmester($B$3:$C$3,$B$4:$C$4,$B$5:$C$5,$E$3,$E$4,$E$5,B443)","v":1.9435239076215622},4.9166591727857485,{"$f":"ThreePosition_Basic2($E$3,$E$5,$B$3:$C$3,$B$5:$C$5,B443,C443)","v":150.84264022657598},103.21100227073138,301.76077905608236,219.2655763843938,{"$f":"ThreePosition_Basic2($E$3,$E$5,$B$3:$C$3,$B$5:$C$5,B443,D443)","v":111.77405300088773},-274.18443432533667,262.69219183039411,-158.12986021167427]
[218,3.8048177693476379,{"$f":"Burmester($B$3:$C$3,$B$4:$C$4,$B$5:$C$5,$E$3,$E$4,$E$5,B444)","v":1.9574384088339418},4.9242554919893315,{"$f":"ThreePosition_Basic2($E$3,$E$5,$B$3:$C$3,$B$5:$C$5,B444,C444)","v":149.08367333842219},104.39767122166516,300.7328153318719,219.96490989269867,{"$f":"ThreePosition_Basic2($E$3,$E$5,$B$3:$C$3,$B$5:$C$5,B444,D444)","v":112.38346420395926},-273.70079442231361,264.032606197409,-158.13355575128008]
[218.5,3.8135444156076099,{"$f":"Burmester($B$3:$C$3,$B$4:$C$4,$B$5:$C$5,$E$3,$E$4,$E$5,B445)","v":1.971359663768171},4.9317962973461391,{"$f":"ThreePosition_Basic2($E$3,$E$5,$B$3:$C$3,$B$5:$C$5,B445,C445)","v":147.31799421058608},105.57412750960961,299.70033922381702,220.65256416745564,{"$f":"ThreePosition_Basic2($E$3,$E$5,$B$3:$C$3,$B$5:$C$5,B445,D445)","v":112.98398159500857},-273.21540326699306,265.36632660823955,-158.13696660914707]
[219,3.8222710618675819,{"$f":"Burmester($B$3:$C$3,$B$4:$C$4,$B$5:$C$5,$E$3,$E$4,$E$5,B446)","v":1.9852869878880146},4.939282007114457,{"$f":"ThreePosition_Basic2($E$3,$E$5,$B$3:$C$3,$B$5:$C$5,B446,C446)","v":145.54576784261491},106.74033320430543,298.6635537222196,221.32847595123559,{"$f":"ThreePosition_Basic2($E$3,$E$5,$B$3:$C$3,$B$5:$C$5,B446,D446)","v":113.57565332561815},-272.72834902724418,266.69343920522283,-158.14020628031403]
[219.5,3.830997708127553,{"$f":"Burmester($B$3:$C$3,$B$4:$C$4,$B$5:$C$5,$E$3,$E$4,$E$5,B447)","v":1.9992197063333466},4.9467130439837792,{"$f":"ThreePosition_Basic2($E$3,$E$5,$B$3:$C$3,$B$5:$C$5,B447,C447)","v":143.76715848177767},107.8962553211059,297.62266146831735,221.99258666341274,{"$f":"ThreePosition_Basic2($E$3,$E$5,$B$3:$C$3,$B$5:$C$5,B447,D447)","v":114.15852871756938},-272.23971777820577,268.01403170410907,-158.14338643589895]
[220,3.839724354387525,{"$f":"Burmester($B$3:$C$3,$B$4:$C$4,$B$5:$C$5,$E$3,$E$4,$E$5,B448)","v":2.0131571540465201},4.9540898347967106,{"$f":"ThreePosition_Basic2($E$3,$E$5,$B$3:$C$3,$B$5:$C$5,B448,C448)","v":141.98232949707585},109.04186578100382,296.5778646370062,222.64484235438357,{"$f":"ThreePosition_Basic2($E$3,$E$5,$B$3:$C$3,$B$5:$C$5,B448,D448)","v":114.73265819086819},-271.74959351598829,269.32819333079851,-158.14661694260855]
[220.5,3.8484510006474966,{"$f":"Burmester($B$3:$C$3,$B$4:$C$4,$B$5:$C$5,$E$3,$E$4,$E$5,B449)","v":2.027098675887129},4.96141281027659,{"$f":"ThreePosition_Basic2($E$3,$E$5,$B$3:$C$3,$B$5:$C$5,B449,C449)","v":140.19144325609128},110.1771413670921,295.5293648225653,223.28519365610939,{"$f":"ThreePosition_Basic2($E$3,$E$5,$B$3:$C$3,$B$5:$C$5,B449,D449)","v":115.29809319338837},-271.25805817282833,270.63601475986235,-158.15000588381105]
[221,3.8571776469074686,{"$f":"Burmester($B$3:$C$3,$B$4:$C$4,$B$5:$C$5,$E$3,$E$4,$E$5,B450)","v":2.0410436267354046},4.9686824047609663,{"$f":"ThreePosition_Basic2($E$3,$E$5,$B$3:$C$3,$B$5:$C$5,B450,C450)","v":138.3946610047505},111.30206367763418,294.47736292747123,223.91359572915371,{"$f":"ThreePosition_Basic2($E$3,$E$5,$B$3:$C$3,$B$5:$C$5,B450,D450)","v":115.85488613215766},-270.76519163360871,271.9375880548784,-158.15365958208918]
[221.5,3.8659042931674397,{"$f":"Burmester($B$3:$C$3,$B$4:$C$4,$B$5:$C$5,$E$3,$E$4,$E$5,B451)","v":2.0549913715844306},4.9758990559410066,{"$f":"ThreePosition_Basic2($E$3,$E$5,$B$3:$C$3,$B$5:$C$5,B451,C451)","v":136.59214275008776},112.41661907591643,293.42205905438482,224.53000820638505,{"$f":"ThreePosition_Basic2($E$3,$E$5,$B$3:$C$3,$B$5:$C$5,B451,D451)","v":116.40309030630307},-270.27107175366046,273.23300661060011,-158.15768262319185]
[222,3.8746309394274117,{"$f":"Burmester($B$3:$C$3,$B$4:$C$4,$B$5:$C$5,$E$3,$E$4,$E$5,B452)","v":2.0689412856214551},4.9830632046069372,{"$f":"ThreePosition_Basic2($E$3,$E$5,$B$3:$C$3,$B$5:$C$5,B452,C452)","v":134.78404714606302},113.52079863706284,292.36365240137536,225.13439513352125,{"$f":"ThreePosition_Basic2($E$3,$E$5,$B$3:$C$3,$B$5:$C$5,B452,D452)","v":116.94275984166912},-269.77577437776495,274.52236509698145,-158.16217788130652]
[222.5,3.8833575856873828,{"$f":"Burmester($B$3:$C$3,$B$4:$C$4,$B$5:$C$5,$E$3,$E$4,$E$5,B453)","v":2.0828927542984896},4.9901752943995694,{"$f":"ThreePosition_Basic2($E$3,$E$5,$B$3:$C$3,$B$5:$C$5,B453,C453)","v":132.97053138250098},114.61459809198587,291.30234116044937,225.72672490668691,{"$f":"ThreePosition_Basic2($E$3,$E$5,$B$3:$C$3,$B$5:$C$5,B453,D453)","v":117.47394962711817},-269.27937336027378,275.80575940506657,-158.16724654557274]
[223,3.8920842319473548,{"$f":"Burmester($B$3:$C$3,$B$4:$C$4,$B$5:$C$5,$E$3,$E$4,$E$5,B454)","v":2.0968451733925049},4.9972357715679854,{"$f":"ThreePosition_Basic2($E$3,$E$5,$B$3:$C$3,$B$5:$C$5,B454,C454)","v":131.15175107719367},115.69801776865229,290.23832241943501,226.30697020715806,{"$f":"ThreePosition_Basic2($E$3,$E$5,$B$3:$C$3,$B$5:$C$5,B454,D454)","v":117.99671525252106},-268.78194058627025,277.0832865947624,-158.1729881477645]
[223.5,3.9008108782073263,{"$f":"Burmester($B$3:$C$3,$B$4:$C$4,$B$5:$C$5,$E$3,$E$4,$E$5,B455)","v":2.1107979490554278},5.0042450847334043,{"$f":"ThreePosition_Basic2($E$3,$E$5,$B$3:$C$3,$B$5:$C$5,B455,C455)","v":129.32786017120944},116.77106253083861,289.17179206726729,226.87510793346667,{"$f":"ThreePosition_Basic2($E$3,$E$5,$B$3:$C$3,$B$5:$C$5,B455,D455)","v":118.51111294843737},-268.28354599369374,278.35504484449524,-158.17950059106568]
[224,3.9095375244672983,{"$f":"Burmester($B$3:$C$3,$B$4:$C$4,$B$5:$C$5,$E$3,$E$4,$E$5,B456)","v":2.12475049785425},5.0112036846593,{"$f":"ThreePosition_Basic2($E$3,$E$5,$B$3:$C$3,$B$5:$C$5,B456,C456)","v":127.49901082744026},117.83374171455431,288.10294470271378,227.43111913103863,{"$f":"ThreePosition_Basic2($E$3,$E$5,$B$3:$C$3,$B$5:$C$5,B456,D456)","v":119.01719952749146},-267.78425759635644,279.62113340276494,-158.18688017987211]
[224.5,{"$f":"A457*PI()/180","v":3.9182641707272698},{"$f":"Burmester($B$3:$C$3,$B$4:$C$4,$B$5:$C$5,$E$3,$E$4,$E$5,B457)","v":2.1387022468014925},5.0181120240277401,{"$f":"ThreePosition_Basic2($E$3,$E$5,$B$3:$C$3,$B$5:$C$5,B457,C457)","v":125.66535333241075},118.88606906230403,287.0319735465672,227.97498891953308,{"$f":"ThreePosition_Basic2($E$3,$E$5,$B$3:$C$3,$B$5:$C$5,B457,D457)","v":119.51503232743258},-267.2841415077761,280.88165254158901,-158.19522165054707]
[225,3.9269908169872414,{"$f":"Burmester($B$3:$C$3,$B$4:$C$4,$B$5:$C$5,$E$3,$E$4,$E$5,B458)","v":2.1526526333763205},5.0249705572220122,{"$f":"ThreePosition_Basic2($E$3,$E$5,$B$3:$C$3,$B$5:$C$5,B458,C458)","v":123.82703600136584},119.9280626553651,285.95907035733006,228.50670641805561,{"$f":"ThreePosition_Basic2($E$3,$E$5,$B$3:$C$3,$B$5:$C$5,B458,D458)","v":120.00466915588157},-266.7832619657587,282.13670351184578,-158.20461820306821]
[225.5,3.9357174632472134,{"$f":"Burmester($B$3:$C$3,$B$4:$C$4,$B$5:$C$5,$E$3,$E$4,$E$5,B459)","v":2.1666011055365768},5.0317797401155007,{"$f":"ThreePosition_Basic2($E$3,$E$5,$B$3:$C$3,$B$5:$C$5,B459,C459)","v":121.98420508664691},120.95974484424775,284.88442535040497,229.02626466840906,{"$f":"ThreePosition_Basic2($E$3,$E$5,$B$3:$C$3,$B$5:$C$5,B459,D459)","v":120.48616823675057},-266.28168135766333,283.38638850050859,-158.215161533502]
[226,3.9444441095071845,{"$f":"Burmester($B$3:$C$3,$B$4:$C$4,$B$5:$C$5,$E$3,$E$4,$E$5,B460)","v":2.1805471217220274},5.038540029866807,{"$f":"ThreePosition_Basic2($E$3,$E$5,$B$3:$C$3,$B$5:$C$5,B460,C460)","v":120.13700468935721},121.98114217750977,283.80822712079782,229.53366055654931,{"$f":"ThreePosition_Basic2($E$3,$E$5,$B$3:$C$3,$B$5:$C$5,B460,D460)","v":120.959588158324},-265.77946024628238,284.63081058976462,-158.22694186724286]
[226.5,3.9531707557671565,{"$f":"Burmester($B$3:$C$3,$B$4:$C$4,$B$5:$C$5,$E$3,$E$4,$E$5,B461)","v":2.194490150849115},5.0452518847211252,{"$f":"ThreePosition_Basic2($E$3,$E$5,$B$3:$C$3,$B$5:$C$5,B461,C461)","v":118.28557667431107},122.99228532908974,282.73066256933646,230.02889473240612,{"$f":"ThreePosition_Basic2($E$3,$E$5,$B$3:$C$3,$B$5:$C$5,B461,D461)","v":121.42498782299221},-265.27665739627685,285.87007371801758,-158.24004799296046]
[227,3.9618974020271276,{"$f":"Burmester($B$3:$C$3,$B$4:$C$4,$B$5:$C$5,$E$3,$E$4,$E$5,B462)","v":2.2084296722974797},5.05191576381781,{"$f":"ThreePosition_Basic2($E$3,$E$5,$B$3:$C$3,$B$5:$C$5,B462,C462)","v":116.43006058825837},123.99320902432247,281.65191683239834,230.51197152822914,{"$f":"ThreePosition_Basic2($E$3,$E$5,$B$3:$C$3,$B$5:$C$5,B462,D462)","v":121.88242639861762},-264.773329801106,287.1042826427576,-158.25456729719934]
[227.5,3.9706240482870996,{"$f":"Burmester($B$3:$C$3,$B$4:$C$4,$B$5:$C$5,$E$3,$E$4,$E$5,B463)","v":2.2223651758885841},5.0585321270041312,{"$f":"ThreePosition_Basic2($E$3,$E$5,$B$3:$C$3,$B$5:$C$5,B463,C463)","v":114.57059358136107},124.98395196479871,280.57217321513599,230.98289887561538,{"$f":"ThreePosition_Basic2($E$3,$E$5,$B$3:$C$3,$B$5:$C$5,B463,D463)","v":122.33196327151886},-264.26953271039133,288.33354290529383,-158.27058579957469]
[228,3.9793506945470711,{"$f":"Burmester($B$3:$C$3,$B$4:$C$4,$B$5:$C$5,$E$3,$E$4,$E$5,B464)","v":2.236296161856691},5.0651014346551424,{"$f":"ThreePosition_Basic2($E$3,$E$5,$B$3:$C$3,$B$5:$C$5,B464,C464)","v":112.70731033190233},125.96455675222268,279.49161312818273,231.44168822136905,{"$f":"ThreePosition_Basic2($E$3,$E$5,$B$3:$C$3,$B$5:$C$5,B464,D464)","v":122.77365800105053},-263.76531965766407,289.55796079733091,-158.28818818851769]
[228.5,3.9880773408070431,{"$f":"Burmester($B$3:$C$3,$B$4:$C$4,$B$5:$C$5,$E$3,$E$4,$E$5,B465)","v":2.2502221408125136},5.071624147499656,{"$f":"ThreePosition_Basic2($E$3,$E$5,$B$3:$C$3,$B$5:$C$5,B465,C465)","v":110.84034297419606},126.93506981142491,278.41041602781593,231.88835444234502,{"$f":"ThreePosition_Basic2($E$3,$E$5,$B$3:$C$3,$B$5:$C$5,B465,D465)","v":123.20757027576286},-263.2607424884369,290.77764332938273,-158.30745785751679]
[229,3.9968039870670142,{"$f":"Burmester($B$3:$C$3,$B$4:$C$4,$B$5:$C$5,$E$3,$E$4,$E$5,B466)","v":2.2641426336998154},5.078100726452222,{"$f":"ThreePosition_Basic2($E$3,$E$5,$B$3:$C$3,$B$5:$C$5,B466,C466)","v":108.96982102966112},127.89554131267687,277.32875935954877,232.32291575941838,{"$f":"ThreePosition_Basic2($E$3,$E$5,$B$3:$C$3,$B$5:$C$5,B466,D466)","v":123.63375987111225},-262.75585138855536,291.99269820099988,-158.32847694181385]
[229.5,4.0055306333269858,{"$f":"Burmester($B$3:$C$3,$B$4:$C$4,$B$5:$C$5,$E$3,$E$4,$E$5,B467)","v":2.2780571717452602},5.0845316324510899,{"$f":"ThreePosition_Basic2($E$3,$E$5,$B$3:$C$3,$B$5:$C$5,B467,C467)","v":107.09587134101986},128.84602509345567,276.24681850511752,232.74539365072386,{"$f":"ThreePosition_Basic2($E$3,$E$5,$B$3:$C$3,$B$5:$C$5,B467,D467)","v":124.05228660870436},-262.25069491277526,293.20323377280198,-158.35132635550707]
[230,4.0142572795869578,{"$f":"Burmester($B$3:$C$3,$B$4:$C$4,$B$5:$C$5,$E$3,$E$4,$E$5,B468)","v":2.2919652964017887},5.0909173263020513,{"$f":"ThreePosition_Basic2($E$3,$E$5,$B$3:$C$3,$B$5:$C$5,B468,C468)","v":105.21861800957564},129.78657857979957,275.1647667328254,233.1558127642997,{"$f":"ThreePosition_Basic2($E$3,$E$5,$B$3:$C$3,$B$5:$C$5,B468,D468)","v":124.46321031704129},-261.74532001352281,294.40935904029106,-158.37608582902266]
[230.5,4.0229839258469298,{"$f":"Burmester($B$3:$C$3,$B$4:$C$4,$B$5:$C$5,$E$3,$E$4,$E$5,B469)","v":2.3058665592858119},5.0972582685281216,{"$f":"ThreePosition_Basic2($E$3,$E$5,$B$3:$C$3,$B$5:$C$5,B469,C469)","v":103.33818233551962},130.71726270739225,274.08277515120272,233.55420083027013,{"$f":"ThreePosition_Basic2($E$3,$E$5,$B$3:$C$3,$B$5:$C$5,B469,D469)","v":124.86659079374937},-261.23977206979191,295.61118360943249,-158.40283394691403]
[231,4.0317105721069018,{"$f":"Burmester($B$3:$C$3,$B$4:$C$4,$B$5:$C$5,$E$3,$E$4,$E$5,B470)","v":2.3197605221085134},5.1035549192249539,{"$f":"ThreePosition_Basic2($E$3,$E$5,$B$3:$C$3,$B$5:$C$5,B470,C470)","v":101.45468276120909},131.63814184251089,273.00101266593316,233.94058857269482,{"$f":"ThreePosition_Basic2($E$3,$E$5,$B$3:$C$3,$B$5:$C$5,B470,D470)","v":125.26248776925627},-260.73409491613779,296.80881767398034,-158.43164818595386]
[231.5,4.0404372183668729,{"$f":"Burmester($B$3:$C$3,$B$4:$C$4,$B$5:$C$5,$E$3,$E$4,$E$5,B471)","v":2.3336467566015258},5.109807737921928,{"$f":"ThreePosition_Basic2($E$3,$E$5,$B$3:$C$3,$B$5:$C$5,B471,C471)","v":99.56823481736221},132.54928370296511,271.91964593999779,234.31500962120805,{"$f":"ThreePosition_Basic2($E$3,$E$5,$B$3:$C$3,$B$5:$C$5,B471,D471)","v":125.65096087189471},-260.22833087172631,298.00237199453028,-158.46260495348338]
[232,4.0491638646268449,{"$f":"Burmester($B$3:$C$3,$B$4:$C$4,$B$5:$C$5,$E$3,$E$4,$E$5,B472)","v":2.3475248444372725},5.1160171834488137,{"$f":"ThreePosition_Basic2($E$3,$E$5,$B$3:$C$3,$B$5:$C$5,B472,C472)","v":97.678951072103658},133.45075927915457,270.83883935698287,234.67750042256841,{"$f":"ThreePosition_Basic2($E$3,$E$5,$B$3:$C$3,$B$5:$C$5,B472,D472)","v":126.03206959439912},-259.72252076940117,299.19195787927833,-158.49577962598732]
[232.5,4.057890510886816,{"$f":"Burmester($B$3:$C$3,$B$4:$C$4,$B$5:$C$5,$E$3,$E$4,$E$5,B473)","v":2.3613943771442263},5.1221837138079183,{"$f":"ThreePosition_Basic2($E$3,$E$5,$B$3:$C$3,$B$5:$C$5,B473,C473)","v":95.786941082797156},134.34264275536259,269.75875498749275,235.02810015223218,{"$f":"ThreePosition_Basic2($E$3,$E$5,$B$3:$C$3,$B$5:$C$5,B473,D473)","v":126.40587326176846},-259.21670398473447,300.37768716646406,-158.53124658786487]
[233,4.066617157146788,{"$f":"Burmester($B$3:$C$3,$B$4:$C$4,$B$5:$C$5,$E$3,$E$4,$E$5,B474)","v":2.375254956017387},5.1283077860516348,{"$f":"ThreePosition_Basic2($E$3,$E$5,$B$3:$C$3,$B$5:$C$5,B474,C474)","v":93.892311350592664},135.22501143140533,268.67955255860738,235.36685062606216,{"$f":"ThreePosition_Basic2($E$3,$E$5,$B$3:$C$3,$B$5:$C$5,B474,D474)","v":126.77243100046417},-258.71091846502577,301.5596722084789,-158.56907927036895]
[233.5,4.0753438034067591,{"$f":"Burmester($B$3:$C$3,$B$4:$C$4,$B$5:$C$5,$E$3,$E$4,$E$5,B475)","v":2.3891061920241943},5.134389856165285,{"$f":"ThreePosition_Basic2($E$3,$E$5,$B$3:$C$3,$B$5:$C$5,B475,C475)","v":91.99516527761962},136.09794564474478,267.60138942632352,235.69379621227549,{"$f":"ThreePosition_Basic2($E$3,$E$5,$B$3:$C$3,$B$5:$C$5,B475,D475)","v":127.13180170891245},-258.20520075821906,302.73802585761632,-158.60935019068836]
[234,4.0840704496667311,{"$f":"Burmester($B$3:$C$3,$B$4:$C$4,$B$5:$C$5,$E$3,$E$4,$E$5,B476)","v":2.4029477057061905},5.1404303789551697,{"$f":"ThreePosition_Basic2($E$3,$E$5,$B$3:$C$3,$B$5:$C$5,B476,C476)","v":90.095603126745786},136.96152869317629,266.52442055091012,236.00898374373341,{"$f":"ThreePosition_Basic2($E$3,$E$5,$B$3:$C$3,$B$5:$C$5,B476,D476)","v":127.48404402928116},-257.69958604170648,303.91286145344549,-158.65213099114936]
[234.5,4.0927970959267022,{"$f":"Burmester($B$3:$C$3,$B$4:$C$4,$B$5:$C$5,$E$3,$E$4,$E$5,B477)","v":2.4167791270766292},5.1464298079417095,{"$f":"ThreePosition_Basic2($E$3,$E$5,$B$3:$C$3,$B$5:$C$5,B477,C477)","v":88.193721983829519},137.81584675818908,265.44879847511379,236.31246243066624,{"$f":"ThreePosition_Basic2($E$3,$E$5,$B$3:$C$3,$B$5:$C$5,B477,D477)","v":127.82921632049776},-257.19410815099218,305.08429281178201,-158.69749247851502]
[235,4.1015237421866741,{"$f":"Burmester($B$3:$C$3,$B$4:$C$4,$B$5:$C$5,$E$3,$E$4,$E$5,B478)","v":2.4306000955143348},5.1523885952575963,{"$f":"ThreePosition_Basic2($E$3,$E$5,$B$3:$C$3,$B$5:$C$5,B478,C478)","v":86.289615722379622},138.66098882910222,264.37467330514153,236.60428377392762,{"$f":"ThreePosition_Basic2($E$3,$E$5,$B$3:$C$3,$B$5:$C$5,B478,D478)","v":128.16737663248037},-256.68879960818947,306.25243421524226,-158.74550466336407]
[235.5,4.1102503884466461,{"$f":"Burmester($B$3:$C$3,$B$4:$C$4,$B$5:$C$5,$E$3,$E$4,$E$5,B479)","v":2.4444102596539938},5.1583071915508283,{"$f":"ThreePosition_Basic2($E$3,$E$5,$B$3:$C$3,$B$5:$C$5,B479,C479)","v":84.383374970547038},139.49704662806681,263.30219269435213,236.8845014788634,{"$f":"ThreePosition_Basic2($E$3,$E$5,$B$3:$C$3,$B$5:$C$5,B479,D479)","v":128.49858268154674},-256.18369165032675,307.41740040535183,-158.79623679953016]
[236,4.1189770347066172,{"$f":"Burmester($B$3:$C$3,$B$4:$C$4,$B$5:$C$5,$E$3,$E$4,$E$5,B480)","v":2.4582092772731747},5.1641860458925368,{"$f":"ThreePosition_Basic2($E$3,$E$5,$B$3:$C$3,$B$5:$C$5,B480,C480)","v":82.475087080358222},140.32411453602441,262.23150182958,237.15317136987656,{"$f":"ThreePosition_Basic2($E$3,$E$5,$B$3:$C$3,$B$5:$C$5,B480,D480)","v":128.82289182697113},-255.67881425744011,308.57930657619289,-158.84975742358796]
[236.5,4.1277036809665892,{"$f":"Burmester($B$3:$C$3,$B$4:$C$4,$B$5:$C$5,$E$3,$E$4,$E$5,B481)","v":2.4719968151762739},5.170025605689502,{"$f":"ThreePosition_Basic2($E$3,$E$5,$B$3:$C$3,$B$5:$C$5,B481,C481)","v":80.56483609910704},141.14228951970802,261.16274342001799,237.41035130576739,{"$f":"ThreePosition_Basic2($E$3,$E$5,$B$3:$C$3,$B$5:$C$5,B481,D481)","v":129.14036104865858},-255.1741961804299,309.73826836956948,-158.90613439437055]
[237,4.1364303272265612,{"$f":"Burmester($B$3:$C$3,$B$4:$C$4,$B$5:$C$5,$E$3,$E$4,$E$5,B482)","v":2.4857725490756022},5.1758263166012304,{"$f":"ThreePosition_Basic2($E$3,$E$5,$B$3:$C$3,$B$5:$C$5,B482,C482)","v":78.652702742821987},141.95167105976438,260.09605768858751,237.65610109592066,{"$f":"ThreePosition_Basic2($E$3,$E$5,$B$3:$C$3,$B$5:$C$5,B482,D482)","v":129.45104692590206},-254.66986496866389,310.89440187166758,-158.96543493250761]
[237.5,4.1451569734865323,{"$f":"Burmester($B$3:$C$3,$B$4:$C$4,$B$5:$C$5,$E$3,$E$4,$E$5,B483)","v":2.499536163469867},5.1815886224615122,{"$f":"ThreePosition_Basic2($E$3,$E$5,$B$3:$C$3,$B$5:$C$5,B483,C483)","v":76.738764371712563},142.75236108007562,259.03158236571267,237.89048241740889,{"$f":"ThreePosition_Basic2($E$3,$E$5,$B$3:$C$3,$B$5:$C$5,B483,D483)","v":129.75500561719431},-254.16584699730694,312.04782361119442,-159.02772565997367]
[238,4.1538836197465043,{"$f":"Burmester($B$3:$C$3,$B$4:$C$4,$B$5:$C$5,$E$3,$E$4,$E$5,B484)","v":2.5132873515202334},5.1873129652043355,{"$f":"ThreePosition_Basic2($E$3,$E$5,$B$3:$C$3,$B$5:$C$5,B484,C484)","v":74.823094967513185},143.5444638783525,257.96945268542851,238.11355873307559,{"$f":"ThreePosition_Basic2($E$3,$E$5,$B$3:$C$3,$B$5:$C$5,B484,D484)","v":130.05229284106102},-253.66216749436114,313.19865055897634,-159.09307263963802]
[238.5,4.1626102660064763,{"$f":"Burmester($B$3:$C$3,$B$4:$C$4,$B$5:$C$5,$E$3,$E$4,$E$5,B485)","v":2.5270258149241727},5.192999784794047,{"$f":"ThreePosition_Basic2($E$3,$E$5,$B$3:$C$3,$B$5:$C$5,B485,C485)","v":72.905765112630135},144.32808605806667,256.90980138374169,238.32539521065894,{"$f":"ThreePosition_Basic2($E$3,$E$5,$B$3:$C$3,$B$5:$C$5,B485,D485)","v":130.3429638578844},-253.15885056740203,314.347000128996,-159.16154141480976]
[239,4.1713369122664474,{"$f":"Burmester($B$3:$C$3,$B$4:$C$4,$B$5:$C$5,$E$3,$E$4,$E$5,B486)","v":2.5407512637873118},5.1986495191596607,{"$f":"ThreePosition_Basic2($E$3,$E$5,$B$3:$C$3,$B$5:$C$5,B486,C486)","v":70.986841971002519},145.10333646178734,255.85275869916799,238.52605864301034,{"$f":"ThreePosition_Basic2($E$3,$E$5,$B$3:$C$3,$B$5:$C$5,B486,D486)","v":130.62707345268723},-252.65591922999559,315.4929901808527,-159.23319704877258]
[239.5,4.1800635585264194,{"$f":"Burmester($B$3:$C$3,$B$4:$C$4,$B$5:$C$5,$E$3,$E$4,$E$5,B487)","v":2.5544634164934701},5.2042626041332021,{"$f":"ThreePosition_Basic2($E$3,$E$5,$B$3:$C$3,$B$5:$C$5,B487,C487)","v":69.06638927058421},145.87032610598376,254.7984523753675,238.71561736946148,{"$f":"ThreePosition_Basic2($E$3,$E$5,$B$3:$C$3,$B$5:$C$5,B487,D487)","v":130.90467591884604},-252.15339542778338,316.63673902362933,-159.30810416430563]
[240,4.1887902047863905,{"$f":"Burmester($B$3:$C$3,$B$4:$C$4,$B$5:$C$5,$E$3,$E$4,$E$5,B488)","v":2.5681619995730527},5.2098394733919795,{"$f":"ThreePosition_Basic2($E$3,$E$5,$B$3:$C$3,$B$5:$C$5,B488,C488)","v":67.144467287358651},146.62916811734826,253.74700766580244,238.89414119838568,{"$f":"ThreePosition_Basic2($E$3,$E$5,$B$3:$C$3,$B$5:$C$5,B488,D488)","v":131.17582504270402},-251.65130006422623,317.77836542114778,-159.38632698318878]
[240.5,4.1975168510463625,{"$f":"Burmester($B$3:$C$3,$B$4:$C$4,$B$5:$C$5,$E$3,$E$4,$E$5,B489)","v":2.5818467475700206},5.2153805584046786,{"$f":"ThreePosition_Basic2($E$3,$E$5,$B$3:$C$3,$B$5:$C$5,B489,C489)","v":65.221132830789031},147.37997767069555,252.69854734033606,239.06170133099749,{"$f":"ThreePosition_Basic2($E$3,$E$5,$B$3:$C$3,$B$5:$C$5,B489,D489)","v":131.44057408905309},-251.14965302599288,318.91798859860012,-159.46792936569094]
[241,4.2062434973063345,{"$f":"Burmester($B$3:$C$3,$B$4:$C$4,$B$5:$C$5,$E$3,$E$4,$E$5,B490)","v":2.5955174029075589},5.2208862883811724,{"$f":"ThreePosition_Basic2($E$3,$E$5,$B$3:$C$3,$B$5:$C$5,B490,C490)","v":63.296439230618752},148.12287192848649,251.65319169370142,239.21837028643137,{"$f":"ThreePosition_Basic2($E$3,$E$5,$B$3:$C$3,$B$5:$C$5,B490,D490)","v":131.6989757874567},-250.6484732079881,320.05572825053935,-159.55297485004323]
[241.5,4.2149701435663056,{"$f":"Burmester($B$3:$C$3,$B$4:$C$4,$B$5:$C$5,$E$3,$E$4,$E$5,B491)","v":2.60917371575266},5.2263570902259433,{"$f":"ThreePosition_Basic2($E$3,$E$5,$B$3:$C$3,$B$5:$C$5,B491,C491)","v":61.370436324923375},148.85796998202363,250.61105855575727,239.3642218281343,{"$f":"ThreePosition_Basic2($E$3,$E$5,$B$3:$C$3,$B$5:$C$5,B491,D491)","v":131.95108231938394},-250.14777853800925,321.19170455021788,-159.6415266918986]
[242,4.2236967898262776,{"$f":"Burmester($B$3:$C$3,$B$4:$C$4,$B$5:$C$5,$E$3,$E$4,$E$5,B492)","v":2.6228154438797535},5.2317933884950119,{"$f":"ThreePosition_Basic2($E$3,$E$5,$B$3:$C$3,$B$5:$C$5,B492,C492)","v":59.443170449325017},149.58539279436275,249.57226330345907,239.49933089160669,{"$f":"ThreePosition_Basic2($E$3,$E$5,$B$3:$C$3,$B$5:$C$5,B492,D492)","v":132.19694530612531},-249.64758600102471,322.32603816025937,-159.73364790378076]
[242.5,4.2324234360862487,{"$f":"Burmester($B$3:$C$3,$B$4:$C$4,$B$5:$C$5,$E$3,$E$4,$E$5,B493)","v":2.6364423525335337},5.2371956053562698,{"$f":"ThreePosition_Basic2($E$3,$E$5,$B$3:$C$3,$B$5:$C$5,B493,C493)","v":57.514684427280805},150.30526314497791,248.53691887447013,239.62377351351833,{"$f":"ThreePosition_Basic2($E$3,$E$5,$B$3:$C$3,$B$5:$C$5,B493,D493)","v":132.43661579746589},-249.14791166307023,323.4588502446552,-159.82940129452982]
[243,4.2411500823462207,{"$f":"Burmester($B$3:$C$3,$B$4:$C$4,$B$5:$C$5,$E$3,$E$4,$E$5,B494)","v":2.6500542142911643},5.2425641605531172,{"$f":"ThreePosition_Basic2($E$3,$E$5,$B$3:$C$3,$B$5:$C$5,B494,C494)","v":55.585017561345879},151.01770557622041,247.50513578233563,239.73762676222719,{"$f":"ThreePosition_Basic2($E$3,$E$5,$B$3:$C$3,$B$5:$C$5,B494,D494)","v":132.67014426108318},-248.64877069475378,324.59026248207294,-159.92884950874696]
[243.5,4.2498767286061918,{"$f":"Burmester($B$3:$C$3,$B$4:$C$4,$B$5:$C$5,$E$3,$E$4,$E$5,B495)","v":2.6636508089239568},5.2478994713713005,{"$f":"ThreePosition_Basic2($E$3,$E$5,$B$3:$C$3,$B$5:$C$5,B495,C495)","v":53.654205625328864},151.72284634160394,246.47702213314977,239.84096866972334,{"$f":"ThreePosition_Basic2($E$3,$E$5,$B$3:$C$3,$B$5:$C$5,B495,D495)","v":132.89758057264768},-248.15017739436897,325.72039708046862,-160.0320550662496]
[244,4.2586033748661638,{"$f":"Burmester($B$3:$C$3,$B$4:$C$4,$B$5:$C$5,$E$3,$E$4,$E$5,B496)","v":2.6772319232587085},5.2532019526088609,{"$f":"ThreePosition_Basic2($E$3,$E$5,$B$3:$C$3,$B$5:$C$5,B496,C496)","v":51.722280857240385},152.42081335594867,245.45268364363946,239.93387816501593,{"$f":"ThreePosition_Basic2($E$3,$E$5,$B$3:$C$3,$B$5:$C$5,B496,D496)","v":133.11897400659652},-247.65214521061017,326.8493767929956,-160.13908040154291]
[244.5,4.2673300211261358,{"$f":"Burmester($B$3:$C$3,$B$4:$C$4,$B$5:$C$5,$E$3,$E$4,$E$5,B497)","v":2.6907973510387801},5.2584720165490779,{"$f":"ThreePosition_Basic2($E$3,$E$5,$B$3:$C$3,$B$5:$C$5,B497,C497)","v":49.78927195295352},153.11173614741315,244.43222366059945,240.01643500898254,{"$f":"ThreePosition_Basic2($E$3,$E$5,$B$3:$C$3,$B$5:$C$5,B497,D497)","v":133.33437322755563},-247.15468676488751,327.97732493520152,-160.24998790331813]
[245,4.2760566673861069,{"$f":"Burmester($B$3:$C$3,$B$4:$C$4,$B$5:$C$5,$E$3,$E$4,$E$5,B498)","v":2.7043468927850762},5.2637100729363393,{"$f":"ThreePosition_Basic2($E$3,$E$5,$B$3:$C$3,$B$5:$C$5,B498,C498)","v":47.855204060478478},153.79574581144041,243.41574318160241,240.08871973069114,{"$f":"ThreePosition_Basic2($E$3,$E$5,$B$3:$C$3,$B$5:$C$5,B498,D498)","v":133.54382628238551},-246.65781387324125,329.10436540350941,-160.36483995399053]
[245.5,4.2847833136460789,{"$f":"Burmester($B$3:$C$3,$B$4:$C$4,$B$5:$C$5,$E$3,$E$4,$E$5,B499)","v":2.7178803556570319},5.2689165289548185,{"$f":"ThreePosition_Basic2($E$3,$E$5,$B$3:$C$3,$B$5:$C$5,B499,C499)","v":45.920098774766068},154.47297496664427,242.4033408769188,240.15081356520909,{"$f":"ThreePosition_Basic2($E$3,$E$5,$B$3:$C$3,$B$5:$C$5,B499,D499)","v":133.74738059282444},-246.16153756785027,330.23062269497717,-160.48369896928546]
[246,4.2935099599060509,{"$f":"Burmester($B$3:$C$3,$B$4:$C$4,$B$5:$C$5,$E$3,$E$4,$E$5,B500)","v":2.7313975533137023},5.2740917892098826,{"$f":"ThreePosition_Basic2($E$3,$E$5,$B$3:$C$3,$B$5:$C$5,B500,C500)","v":43.98397413295433},155.14355771265571,241.39511311258093,240.20279839290464,{"$f":"ThreePosition_Basic2($E$3,$E$5,$B$3:$C$3,$B$5:$C$5,B500,D500)","v":133.94508294870778},-245.66586811813923,331.35622192833438,-160.6066274378903]
[246.5,4.3022366061660229,{"$f":"Burmester($B$3:$C$3,$B$4:$C$4,$B$5:$C$5,$E$3,$E$4,$E$5,B501)","v":2.7448983057750933},5.2792362557121324,{"$f":"ThreePosition_Basic2($E$3,$E$5,$B$3:$C$3,$B$5:$C$5,B501,C501)","v":42.046844609963124},155.80762958995194,240.39115397451883,240.24475668024812,{"$f":"ThreePosition_Basic2($E$3,$E$5,$B$3:$C$3,$B$5:$C$5,B501,D501)","v":134.13697950173488},-245.17081505147857,332.48128886629058,-160.7336879611824]
[247,4.310963252425994,{"$f":"Burmester($B$3:$C$3,$B$4:$C$4,$B$5:$C$5,$E$3,$E$4,$E$5,B502)","v":2.7583824392838081},5.2843503278639927,{"$f":"ThreePosition_Basic2($E$3,$E$5,$B$3:$C$3,$B$5:$C$5,B502,C502)","v":40.108721114358588},156.46532754168567,239.39155529371226,240.2767714221165,{"$f":"ThreePosition_Basic2($E$3,$E$5,$B$3:$C$3,$B$5:$C$5,B502,D502)","v":134.32311575976789},-244.67638717348279,333.60594993912156,-160.86494329305197]
[247.5,4.319689898685966,{"$f":"Burmester($B$3:$C$3,$B$4:$C$4,$B$5:$C$5,$E$3,$E$4,$E$5,B503)","v":2.7718497861671221},5.2894344024487623,{"$f":"ThreePosition_Basic2($E$3,$E$5,$B$3:$C$3,$B$5:$C$5,B503,C503)","v":38.169610984392293},157.11678987753149,238.39640667228707,240.29892608560158,{"$f":"ThreePosition_Basic2($E$3,$E$5,$B$3:$C$3,$B$5:$C$5,B503,D503)","v":134.50353658163243},-244.18259258790451,334.73033226952725,-161.00045637983442]
[248,4.3284165449459371,{"$f":"Burmester($B$3:$C$3,$B$4:$C$4,$B$5:$C$5,$E$3,$E$4,$E$5,B504)","v":2.785300184699556},5.2944888736220364,{"$f":"ThreePosition_Basic2($E$3,$E$5,$B$3:$C$3,$B$5:$C$5,B504,C504)","v":36.229517984137878},157.76215623956415,237.40579551050186,240.3113045553215,{"$f":"ThreePosition_Basic2($E$3,$E$5,$B$3:$C$3,$B$5:$C$5,B504,D504)","v":134.67828617240463},-243.68943871612689,335.85456369876863,-161.14029040036954]
[248.5,4.3371431912059091,{"$f":"Burmester($B$3:$C$3,$B$4:$C$4,$B$5:$C$5,$E$3,$E$4,$E$5,B505)","v":2.7987334789660641},5.2995141329054265,{"$f":"ThreePosition_Basic2($E$3,$E$5,$B$3:$C$3,$B$5:$C$5,B505,C505)","v":34.288442299632614},158.40156757018397,236.41980703455911,240.31399108023297,{"$f":"ThreePosition_Basic2($E$3,$E$5,$B$3:$C$3,$B$5:$C$5,B505,D505)","v":134.8474080791587},-243.1969323162576,336.97877281408523,-161.28450880620861]
[249,4.3458698374658802,{"$f":"Burmester($B$3:$C$3,$B$4:$C$4,$B$5:$C$5,$E$3,$E$4,$E$5,B506)","v":2.8121495187258816},5.3045105691824865,{"$f":"ThreePosition_Basic2($E$3,$E$5,$B$3:$C$3,$B$5:$C$5,B506,C506)","v":32.346380534945844},159.03516608209887,235.43852432518779,240.30707022193758,{"$f":"ThreePosition_Basic2($E$3,$E$5,$B$3:$C$3,$B$5:$C$5,B506,D506)","v":135.01094518715826},-242.70507950182471,338.1030889774002,-161.433175361986]
[249.5,4.3545964837258522,{"$f":"Burmester($B$3:$C$3,$B$4:$C$4,$B$5:$C$5,$E$3,$E$4,$E$5,B507)","v":2.825548159277143},5.3094785686967771,{"$f":"ThreePosition_Basic2($E$3,$E$5,$B$3:$C$3,$B$5:$C$5,B507,C507)","v":30.403325708085131},159.66309523037853,234.46202834693531,240.29062680447834,{"$f":"ThreePosition_Basic2($E$3,$E$5,$B$3:$C$3,$B$5:$C$5,B507,D507)","v":135.16893971646843},-242.21388576007772,339.22764235531861,-161.58635418597788]
[250,4.3633231299858233,{"$f":"Burmester($B$3:$C$3,$B$4:$C$4,$B$5:$C$5,$E$3,$E$4,$E$5,B508)","v":2.8389292613223041},5.3144185150519831,{"$f":"ThreePosition_Basic2($E$3,$E$5,$B$3:$C$3,$B$5:$C$5,B508,C508)","v":28.459267246662463},160.28549968658666,233.49039797811884,240.26474586561571,{"$f":"ThreePosition_Basic2($E$3,$E$5,$B$3:$C$3,$B$5:$C$5,B508,D508)","v":135.32143321897172},-241.72335596989876,340.35256395042808,-161.74410979086971]
[250.5,4.3720497762457953,{"$f":"Burmester($B$3:$C$3,$B$4:$C$4,$B$5:$C$5,$E$3,$E$4,$E$5,B509)","v":2.8522926908344743},5.3193307892140114,{"$f":"ThreePosition_Basic2($E$3,$E$5,$B$3:$C$3,$B$5:$C$5,B509,C509)","v":26.514190983233547},160.90252531500337,232.52371004137831,240.2295126095735,{"$f":"ThreePosition_Basic2($E$3,$E$5,$B$3:$C$3,$B$5:$C$5,B509,D509)","v":135.46846657576637},-241.23349441932447,341.47798563391115,-161.90650712475434]
[251,4.3807764225057673,{"$f":"Burmester($B$3:$C$3,$B$4:$C$4,$B$5:$C$5,$E$3,$E$4,$E$5,B510)","v":2.8656383189246819},5.3242157695149945,{"$f":"ThreePosition_Basic2($E$3,$E$5,$B$3:$C$3,$B$5:$C$5,B510,C510)","v":24.568079150231746},161.51431915094534,231.5620393347825,240.18501236124479,{"$f":"ThreePosition_Basic2($E$3,$E$5,$B$3:$C$3,$B$5:$C$5,B510,D510)","v":135.6100799949306},-240.74430482268474,342.60404017948133,-162.07361161238529]
[251.5,4.3895030687657384,{"$f":"Burmester($B$3:$C$3,$B$4:$C$4,$B$5:$C$5,$E$3,$E$4,$E$5,B511)","v":2.87896602171016},5.3290738316591382,{"$f":"ThreePosition_Basic2($E$3,$E$5,$B$3:$C$3,$B$5:$C$5,B511,C511)","v":22.620910374414432},162.12102938119148,230.60545866343688,240.13133052184315,{"$f":"ThreePosition_Basic2($E$3,$E$5,$B$3:$C$3,$B$5:$C$5,B511,D511)","v":135.74631300963676},-240.25579033736216,343.73086129865919,-162.24548919671048]
[252,4.3982297150257104,{"$f":"Burmester($B$3:$C$3,$B$4:$C$4,$B$5:$C$5,$E$3,$E$4,$E$5,B512)","v":2.8922756801836931},5.3339053487303305,{"$f":"ThreePosition_Basic2($E$3,$E$5,$B$3:$C$3,$B$5:$C$5,B512,C512)","v":20.672659670738934},162.7228053265224,229.65403887154301,240.06855252598629,{"$f":"ThreePosition_Basic2($E$3,$E$5,$B$3:$C$3,$B$5:$C$5,B512,D512)","v":135.87720447659331},-239.76795358017418,344.85858367739741,-162.42220638071029]
[252.5,4.4069563612856815,{"$f":"Burmester($B$3:$C$3,$B$4:$C$4,$B$5:$C$5,$E$3,$E$4,$E$5,B513)","v":2.9055671800840663},5.3387106912014453,{"$f":"ThreePosition_Basic2($E$3,$E$5,$B$3:$C$3,$B$5:$C$5,B513,C513)","v":18.723298435591982},163.31979742637853,228.7078488748659,239.99676380019588,{"$f":"ThreePosition_Basic2($E$3,$E$5,$B$3:$C$3,$B$5:$C$5,B513,D513)","v":136.0027925748015},-239.28079664338685,345.98734301407546,-162.60383026956953]
[253,4.4156830075456535,{"$f":"Burmester($B$3:$C$3,$B$4:$C$4,$B$5:$C$5,$E$3,$E$4,$E$5,B514)","v":2.918840411767686},5.3434902269453008,{"$f":"ThreePosition_Basic2($E$3,$E$5,$B$3:$C$3,$B$5:$C$5,B514,C514)","v":16.772794439289068},163.9121572256465,227.76695569356212,239.91604972279777,{"$f":"ThreePosition_Basic2($E$3,$E$5,$B$3:$C$3,$B$5:$C$5,B514,D514)","v":136.12311480461403},-238.79432111036107,347.11727605888711,-162.79042861320983]
[253.5,4.4244096538056255,{"$f":"Burmester($B$3:$C$3,$B$4:$C$4,$B$5:$C$5,$E$3,$E$4,$E$5,B515)","v":2.9320952700813829},5.3482443212471624,{"$f":"ThreePosition_Basic2($E$3,$E$5,$B$3:$C$3,$B$5:$C$5,B515,C515)","v":14.821111817765292},164.50003736357806,226.83142448532354,239.82649558520589,{"$f":"ThreePosition_Basic2($E$3,$E$5,$B$3:$C$3,$B$5:$C$5,B515,D515)","v":136.23820798706939},-238.30852807083838,348.24852065462767,-162.98206984921055]
[254,4.4331363000655974,{"$f":"Burmester($B$3:$C$3,$B$4:$C$4,$B$5:$C$5,$E$3,$E$4,$E$5,B516)","v":2.9453316542364605},5.3529733368187813,{"$f":"ThreePosition_Basic2($E$3,$E$5,$B$3:$C$3,$B$5:$C$5,B516,C516)","v":12.868211063380921},165.08359156484829,225.90131857880004,239.72818655456882,{"$f":"ThreePosition_Basic2($E$3,$E$5,$B$3:$C$3,$B$5:$C$5,B516,D516)","v":136.34810826350156},-237.82341813587192,349.3812157789207,-163.17882314615139]
[254.5,4.4418629463255686,{"$f":"Burmester($B$3:$C$3,$B$4:$C$4,$B$5:$C$5,$E$3,$E$4,$E$5,B517)","v":2.9585494676840121},5.3576776338138679,{"$f":"ThreePosition_Basic2($E$3,$E$5,$B$3:$C$3,$B$5:$C$5,B517,C517)","v":10.914049014757554},165.66297463276169,224.9766995072543,239.6212076377638,{"$f":"ThreePosition_Basic2($E$3,$E$5,$B$3:$C$3,$B$5:$C$5,B517,D517)","v":136.45285109539805},-237.33899145240679,350.51550158789479,-163.38075844740467]
[255,4.4505895925855405,{"$f":"Burmester($B$3:$C$3,$B$4:$C$4,$B$5:$C$5,$E$3,$E$4,$E$5,B518)","v":2.971748617991544},5.3623575698449635,{"$f":"ThreePosition_Basic2($E$3,$E$5,$B$3:$C$3,$B$5:$C$5,B518,C518)","v":8.9585788455690647},166.23834244461,224.05762704241309,239.50564364671393,{"$f":"ThreePosition_Basic2($E$3,$E$5,$B$3:$C$3,$B$5:$C$5,B518,D518)","v":136.55247126449802},-236.85524771751571,351.65151946134205,-163.58794651541177]
[255.5,4.4593162388455116,{"$f":"Burmester($B$3:$C$3,$B$4:$C$4,$B$5:$C$5,$E$3,$E$4,$E$5,B519)","v":2.9849290167209128},5.3670135000016499,{"$f":"ThreePosition_Basic2($E$3,$E$5,$B$3:$C$3,$B$5:$C$5,B519,C519)","v":7.0017500522106921},166.80985194919117,223.14415922847991,239.38157916501169,{"$f":"ThreePosition_Basic2($E$3,$E$5,$B$3:$C$3,$B$5:$C$5,B519,D519)","v":136.64700287311882},-236.37218619229677,352.78941204938803,-163.80045897647625]
[256,4.4680428851054836,{"$f":"Burmester($B$3:$C$3,$B$4:$C$4,$B$5:$C$5,$E$3,$E$4,$E$5,B520)","v":2.9980905793076378},5.371645776870043,{"$f":"ThreePosition_Basic2($E$3,$E$5,$B$3:$C$3,$B$5:$C$5,B520,C520)","v":5.0435084402602897},167.37766116649615,222.23635241626789,239.24909851582441,{"$f":"ThreePosition_Basic2($E$3,$E$5,$B$3:$C$3,$B$5:$C$5,B520,D520)","v":136.73647934469267},-235.88980571543772,353.92932332070029,-164.01836836610946]
[256.5,{"$f":"A521*PI()/180","v":4.4767695313654556},{"$f":"Burmester($B$3:$C$3,$B$4:$C$4,$B$5:$C$5,$E$3,$E$4,$E$5,B521)","v":3.0112332249415701},5.3762547505535139,{"$f":"ThreePosition_Basic2($E$3,$E$5,$B$3:$C$3,$B$5:$C$5,B521,C521)","v":3.083796109660407},167.94192918957182,221.33426129742423,239.10828573106255,{"$f":"ThreePosition_Basic2($E$3,$E$5,$B$3:$C$3,$B$5:$C$5,B521,D521)","v":136.82093342450622},-235.40810471645392,355.07139861227006,-164.24174817496319]
[257,4.4854961776254267,{"$f":"Burmester($B$3:$C$3,$B$4:$C$4,$B$5:$C$5,$E$3,$E$4,$E$5,B522)","v":3.0243568764489668},5.3808407686945969,{"$f":"ThreePosition_Basic2($E$3,$E$5,$B$3:$C$3,$B$5:$C$5,B522,C522)","v":1.1225514385358086},168.50281618856911,220.43793893871006,238.95922452178627,{"$f":"ThreePosition_Basic2($E$3,$E$5,$B$3:$C$3,$B$5:$C$5,B522,D522)","v":136.90039718062789},-234.92708122860589,356.21578468080213,-164.47067289538873]
[257.5,4.4942228238853987,{"$f":"Burmester($B$3:$C$3,$B$4:$C$4,$B$5:$C$5,$E$3,$E$4,$E$5,B523)","v":3.0374614601759808},5.3854041764980245,{"$f":"ThreePosition_Basic2($E$3,$E$5,$B$3:$C$3,$B$5:$C$5,B523,C523)","v":-0.84029093443190095},169.06048341698536,219.5474368163035,238.80199824982844,{"$f":"ThreePosition_Basic2($E$3,$E$5,$B$3:$C$3,$B$5:$C$5,B523,D523)","v":136.97490200501173},-234.44673290150041,357.36262975574709,-164.70521806865736]
[258,4.5029494701453698,{"$f":"Burmester($B$3:$C$3,$B$4:$C$4,$B$5:$C$5,$E$3,$E$4,$E$5,B524)","v":3.050546905873555},5.389945316754849,{"$f":"ThreePosition_Basic2($E$3,$E$5,$B$3:$C$3,$B$5:$C$5,B524,C524)","v":-2.8048001291492826},169.61509322011219,218.66280485010171,238.63668990061149,{"$f":"ThreePosition_Basic2($E$3,$E$5,$B$3:$C$3,$B$5:$C$5,B524,D524)","v":137.04447861476822},-233.96705701338584,358.5120835940192,-164.94546033288654]
[258.5,4.5116761164053418,{"$f":"Burmester($B$3:$C$3,$B$4:$C$4,$B$5:$C$5,$E$3,$E$4,$E$5,B525)","v":3.0636131465837777},5.3944645298676086,{"$f":"ThreePosition_Basic2($E$3,$E$5,$B$3:$C$3,$B$5:$C$5,B525,C525)","v":-4.7710490448626315},170.16680904570029,217.78409143798669,238.46338205713408,{"$f":"ThreePosition_Basic2($E$3,$E$5,$B$3:$C$3,$B$5:$C$5,B525,D525)","v":137.10915705359164},-233.48805048314378,359.66429753644093,-165.19147747171002]
[259,4.5204027626653129,{"$f":"Burmester($B$3:$C$3,$B$4:$C$4,$B$5:$C$5,$E$3,$E$4,$E$5,B526)","v":3.0766601185276587},5.3989621538764805,{"$f":"ThreePosition_Basic2($E$3,$E$5,$B$3:$C$3,$B$5:$C$5,B526,C526)","v":-6.7391143825929625},170.71579545685253,216.91134349003127,238.282156875103,{"$f":"ThreePosition_Basic2($E$3,$E$5,$B$3:$C$3,$B$5:$C$5,B526,D526)","v":137.16896669332962},-233.0097098819852,360.81942456595385,-165.44334846373471]
[259.5,4.5291294089252849,{"$f":"Burmester($B$3:$C$3,$B$4:$C$4,$B$5:$C$5,$E$3,$E$4,$E$5,B527)","v":3.0896877609943747},5.4034385244864023,{"$f":"ThreePosition_Basic2($E$3,$E$5,$B$3:$C$3,$B$5:$C$5,B527,C527)","v":-8.7090766693397832},171.2622181471632,216.04460646261978,238.09309605919009,{"$f":"ThreePosition_Basic2($E$3,$E$5,$B$3:$C$3,$B$5:$C$5,B527,D527)","v":137.22393623569238},-232.53203144485786,361.97761936765198,-165.70115353283097]
[260,4.5378560551852569,{"$f":"Burmester($B$3:$C$3,$B$4:$C$4,$B$5:$C$5,$E$3,$E$4,$E$5,B528)","v":3.1026960162319548},5.4078939750950887,{"$f":"ThreePosition_Basic2($E$3,$E$5,$B$3:$C$3,$B$5:$C$5,B528,C528)","v":-10.681020284135009},171.80624395811202,215.18392439245702,237.89628084038401,{"$f":"ThreePosition_Basic2($E$3,$E$5,$B$3:$C$3,$B$5:$C$5,B528,D528)","v":137.27409371408362},-232.05501108156986,363.13903839067564,-165.96497419929787]
[260.5,4.546582701445228,{"$f":"Burmester($B$3:$C$3,$B$4:$C$4,$B$5:$C$5,$E$3,$E$4,$E$5,B529)","v":3.1156848293394299},5.4123288368219455,{"$f":"ThreePosition_Basic2($E$3,$E$5,$B$3:$C$3,$B$5:$C$5,B529,C529)","v":-12.655033486032778},172.34804089873745,214.32933993044406,237.69179195441953,{"$f":"ThreePosition_Basic2($E$3,$E$5,$B$3:$C$3,$B$5:$C$5,B529,D529)","v":137.31946649555371},-231.57864438763718,364.30383991203053,-166.23489333195511]
[261,4.5553093477052,{"$f":"Burmester($B$3:$C$3,$B$4:$C$4,$B$5:$C$5,$E$3,$E$4,$E$5,B530)","v":3.1286541481604409},5.4167434385378046,{"$f":"ThreePosition_Basic2($E$3,$E$5,$B$3:$C$3,$B$5:$C$5,B530,C530)","v":-14.631208444121784},172.88777816760307,213.48089437539818,237.47970962125643,{"$f":"ThreePosition_Basic2($E$3,$E$5,$B$3:$C$3,$B$5:$C$5,B530,D530)","v":137.36008128285732},-231.10292665486136,365.4721841023773,-166.510995201208]
[261.5,4.564035993965172,{"$f":"Burmester($B$3:$C$3,$B$4:$C$4,$B$5:$C$5,$E$3,$E$4,$E$5,B531)","v":3.1416039231782942},5.4211381068954667,{"$f":"ThreePosition_Basic2($E$3,$E$5,$B$3:$C$3,$B$5:$C$5,B531,C531)","v":-16.60964126964479},173.42562617707577,212.63862770759533,237.26011352558231,{"$f":"ThreePosition_Basic2($E$3,$E$5,$B$3:$C$3,$B$5:$C$5,B531,D531)","v":137.39596411661441},-230.62785288164312,366.6442330938545,-166.79336553313658]
[262,4.572762640225144,{"$f":"Burmester($B$3:$C$3,$B$4:$C$4,$B$5:$C$5,$E$3,$E$4,$E$5,B532)","v":3.154534107412478},5.4255131663610134,{"$f":"ThreePosition_Basic2($E$3,$E$5,$B$3:$C$3,$B$5:$C$5,B532,C532)","v":-18.590432050316807},173.96175657994331,211.80257862211721,237.03308279832058,{"$f":"ThreePosition_Basic2($E$3,$E$5,$B$3:$C$3,$B$5:$C$5,B532,D532)","v":137.42714037756252},-230.15341778303892,367.82015104999653,-167.08209156466165]
[262.5,4.5814892864851151,{"$f":"Burmester($B$3:$C$3,$B$4:$C$4,$B$5:$C$5,$E$3,$E$4,$E$5,B533)","v":3.1674446563166159},5.4298689392458517,{"$f":"ThreePosition_Basic2($E$3,$E$5,$B$3:$C$3,$B$5:$C$5,B533,C533)","v":-20.573684886930405},174.49634229839054,210.9727845619831,236.79869599911484,{"$f":"ThreePosition_Basic2($E$3,$E$5,$B$3:$C$3,$B$5:$C$5,B533,D533)","v":137.45363478889504},-229.67961580056667,369.00010423780856,-167.37726209984237]
[263,4.5902159327450871,{"$f":"Burmester($B$3:$C$3,$B$4:$C$4,$B$5:$C$5,$E$3,$E$4,$E$5,B534)","v":3.1803355276778729},5.4342057457394644,{"$f":"ThreePosition_Basic2($E$3,$E$5,$B$3:$C$3,$B$5:$C$5,B534,C534)","v":-22.559507932342854},175.02955755536115,210.14928175104873,236.55703109976673,{"$f":"ThreePosition_Basic2($E$3,$E$5,$B$3:$C$3,$B$5:$C$5,B534,D534)","v":137.4754714186779},-229.20644111176719,370.18426110206951,-167.67896756736161]
[263.5,4.5989425790050582,{"$f":"Burmester($B$3:$C$3,$B$4:$C$4,$B$5:$C$5,$E$3,$E$4,$E$5,B535)","v":3.1932066815177764},5.4385239039428281,{"$f":"ThreePosition_Basic2($E$3,$E$5,$B$3:$C$3,$B$5:$C$5,B535,C535)","v":-24.54801343293531},175.56157790833473,209.33210522665811,236.30816546860578,{"$f":"ThreePosition_Basic2($E$3,$E$5,$B$3:$C$3,$B$5:$C$5,B535,D535)","v":137.49267368233788},-228.73388763952789,371.3727923419313,-167.98730007925684]
[264,4.6076692252650302,{"$f":"Burmester($B$3:$C$3,$B$4:$C$4,$B$5:$C$5,$E$3,$E$4,$E$5,B536)","v":3.2060580799944791},5.4428237299024804,{"$f":"ThreePosition_Basic2($E$3,$E$5,$B$3:$C$3,$B$5:$C$5,B536,C536)","v":-26.539317772646633},176.09258028554788,208.52128887202932,236.05217585576386,{"$f":"ThreePosition_Basic2($E$3,$E$5,$B$3:$C$3,$B$5:$C$5,B536,D536)","v":137.50526434521495},-228.26194906117462,372.56587098989087,-168.30235349095864]
[264.5,4.6163958715250013,{"$f":"Burmester($B$3:$C$3,$B$4:$C$4,$B$5:$C$5,$E$3,$E$4,$E$5,B537)","v":3.2188896873064112},5.4471055376452009,{"$f":"ThreePosition_Basic2($E$3,$E$5,$B$3:$C$3,$B$5:$C$5,B537,C537)","v":-28.533541519674735},176.62274302469405,207.71686544836359,235.78913837933516,{"$f":"ThreePosition_Basic2($E$3,$E$5,$B$3:$C$3,$B$5:$C$5,B537,D537)","v":137.513265525176},-227.79061881733867,373.76367249321436,-168.62422346269756]
[265,4.6251225177849733,{"$f":"Burmester($B$3:$C$3,$B$4:$C$4,$B$5:$C$5,$E$3,$E$4,$E$5,B538)","v":3.2317014695973549},5.451369639213282,{"$f":"ThreePosition_Basic2($E$3,$E$5,$B$3:$C$3,$B$5:$C$5,B538,C538)","v":-30.530809475952896},177.15224591413607,206.91886662666059,235.51912851239373,{"$f":"ThreePosition_Basic2($E$3,$E$5,$B$3:$C$3,$B$5:$C$5,B538,D538)","v":137.51669869527944},-227.31989012060438,374.96637479789297,-168.95300752234672]
[265.5,4.6338491640449444,{"$f":"Burmester($B$3:$C$3,$B$4:$C$4,$B$5:$C$5,$E$3,$E$4,$E$5,B539)","v":3.2444933948628822},5.4556163447003643,{"$f":"ThreePosition_Basic2($E$3,$E$5,$B$3:$C$3,$B$5:$C$5,B539,C539)","v":-32.53125072949954},177.68127023667074,206.1273230192314,235.24222107085009,{"$f":"ThreePosition_Basic2($E$3,$E$5,$B$3:$C$3,$B$5:$C$5,B539,D539)","v":137.51558468649012},-226.84975596394511,376.17415843522105,-169.28880512976576]
[266,4.6425758103049164,{"$f":"Burmester($B$3:$C$3,$B$4:$C$4,$B$5:$C$5,$E$3,$E$4,$E$5,B540)","v":3.2572654328581852},5.4598459622878153,{"$f":"ThreePosition_Basic2($E$3,$E$5,$B$3:$C$3,$B$5:$C$5,B540,C540)","v":-34.534998709755868},178.20999881588676,205.34226421089335,234.95849020212063,{"$f":"ThreePosition_Basic2($E$3,$E$5,$B$3:$C$3,$B$5:$C$5,B540,D540)","v":137.50994369043531},-226.38020912895195,377.38720661108454,-169.63171774271808]
[266.5,4.6513024565648875,{"$f":"Burmester($B$3:$C$3,$B$4:$C$4,$B$5:$C$5,$E$3,$E$4,$E$5,B541)","v":3.2700175550072412},5.4640587982816191,{"$f":"ThreePosition_Basic2($E$3,$E$5,$B$3:$C$3,$B$5:$C$5,B541,C541)","v":-36.542191246015079},178.73861606515953,204.56371878983904,234.6680093745901,{"$f":"ThreePosition_Basic2($E$3,$E$5,$B$3:$C$3,$B$5:$C$5,B541,D541)","v":137.49979526219997},-225.91124219386299,378.60570529805409,-169.9818488844324]
[267,4.6600291028248595,{"$f":"Burmester($B$3:$C$3,$B$4:$C$4,$B$5:$C$5,$E$3,$E$4,$E$5,B542)","v":3.2827497343133398},5.4682551571497697,{"$f":"ThreePosition_Basic2($E$3,$E$5,$B$3:$C$3,$B$5:$C$5,B542,C542)","v":-38.552970629064248},179.26730803933091,203.79171437816765,234.37085136784299,{"$f":"ThreePosition_Basic2($E$3,$E$5,$B$3:$C$3,$B$5:$C$5,B542,D542)","v":137.48515832315442},-225.44284754139881,379.82984333038632,-170.33930421288673]
[267.5,4.6687557490848315,{"$f":"Burmester($B$3:$C$3,$B$4:$C$4,$B$5:$C$5,$E$3,$E$4,$E$5,B543)","v":3.2954619452709131},5.4724353415601303,{"$f":"ThreePosition_Basic2($E$3,$E$5,$B$3:$C$3,$B$5:$C$5,B543,C543)","v":-40.567483676151099},179.79626248912413,203.02627766207002,234.06708826364337,{"$f":"ThreePosition_Basic2($E$3,$E$5,$B$3:$C$3,$B$5:$C$5,B543,D543)","v":137.46605116381167},-224.97501736640962,381.0598125020328,-170.70419159189038]
[268,4.6774823953448026,{"$f":"Burmester($B$3:$C$3,$B$4:$C$4,$B$5:$C$5,$E$3,$E$4,$E$5,B544)","v":3.3081541637786751},5.4765996524187628,{"$f":"ThreePosition_Basic2($E$3,$E$5,$B$3:$C$3,$B$5:$C$5,B544,C544)","v":-42.585881799400553},180.32566891834989,202.26743442166043,233.75679143764253,{"$f":"ThreePosition_Basic2($E$3,$E$5,$B$3:$C$3,$B$5:$C$5,B544,D544)","v":137.44249144671241},-224.50774368334228,382.29580766777337,-171.07662116404964]
[268.5,4.6862090416047746,{"$f":"Burmester($B$3:$C$3,$B$4:$C$4,$B$5:$C$5,$E$3,$E$4,$E$5,B545)","v":3.3208263670540612},5.4807483889086726,{"$f":"ThreePosition_Basic2($E$3,$E$5,$B$3:$C$3,$B$5:$C$5,B545,C545)","v":-44.608321077809443},180.85571864395723,201.5152095604426,233.44003155178916,{"$f":"ThreePosition_Basic2($E$3,$E$5,$B$3:$C$3,$B$5:$C$5,B545,D545)","v":137.41449620932602},-224.04101833352925,383.53802684757807,-171.45670542569732]
[269,4.6949356878647466,{"$f":"Burmester($B$3:$C$3,$B$4:$C$4,$B$5:$C$5,$E$3,$E$4,$E$5,B546)","v":3.3334785335489094},5.4848818485289925,{"$f":"ThreePosition_Basic2($E$3,$E$5,$B$3:$C$3,$B$5:$C$5,B546,C546)","v":-46.634962332945001},181.38660485899737,200.76962713440852,233.11687854742837,{"$f":"ThreePosition_Basic2($E$3,$E$5,$B$3:$C$3,$B$5:$C$5,B546,D546)","v":137.38208186697599},-223.57483299231109,384.78667133432953,-171.84455930388009]
[269.5,4.7036623341247186,{"$f":"Burmester($B$3:$C$3,$B$4:$C$4,$B$5:$C$5,$E$3,$E$4,$E$5,B547)","v":3.3461106428664036},5.4890003271345584,{"$f":"ThreePosition_Basic2($E$3,$E$5,$B$3:$C$3,$B$5:$C$5,B547,C547)","v":-48.665971208486475},181.91852269855954,200.0307103807603,232.7874016390617,{"$f":"ThreePosition_Basic2($E$3,$E$5,$B$3:$C$3,$B$5:$C$5,B547,D547)","v":137.34526421577655},-223.10917917599301,386.04194580502332,-172.24030023549085]
[270,4.7123889803846897,{"$f":"Burmester($B$3:$C$3,$B$4:$C$4,$B$5:$C$5,$E$3,$E$4,$E$5,B548)","v":3.3587226756792399},5.4931041189758689,{"$f":"ThreePosition_Basic2($E$3,$E$5,$B$3:$C$3,$B$5:$C$5,B548,C548)","v":-50.701518253750862},182.45166930875442,199.29848174624914,232.45166930875442,{"$f":"ThreePosition_Basic2($E$3,$E$5,$B$3:$C$3,$B$5:$C$5,B548,D548)","v":137.30405843558179},-222.64404824864542,387.30405843558179,-172.64404824864542]
[270.5,4.7211156266446617,{"$f":"Burmester($B$3:$C$3,$B$4:$C$4,$B$5:$C$5,$E$3,$E$4,$E$5,B549)","v":3.3713146136489951},5.4971935167394248,{"$f":"ThreePosition_Basic2($E$3,$E$5,$B$3:$C$3,$B$5:$C$5,B549,C549)","v":-52.741779011347433},182.98624391881597,198.57296291512691,232.10974930116637,{"$f":"ThreePosition_Basic2($E$3,$E$5,$B$3:$C$3,$B$5:$C$5,B549,D549)","v":137.25847909294492},-222.17943142875146,388.57322101941929,-173.05592604640105]
[271,4.7298422729046328,{"$f":"Burmester($B$3:$C$3,$B$4:$C$4,$B$5:$C$5,$E$3,$E$4,$E$5,B550)","v":3.3838864393466692},5.5012688115884192,{"$f":"ThreePosition_Basic2($E$3,$E$5,$B$3:$C$3,$B$5:$C$5,B550,C550)","v":-54.78693410911216},183.52244791640283,197.85417483670651,231.76170861919036,{"$f":"ThreePosition_Basic2($E$3,$E$5,$B$3:$C$3,$B$5:$C$5,B550,D550)","v":137.20854014408488},-221.71531979571009,389.84964908990355,-173.47605909292255]
[271.5,4.7385689191646048,{"$f":"Burmester($B$3:$C$3,$B$4:$C$4,$B$5:$C$5,$E$3,$E$4,$E$5,B551)","v":3.3964381361744049},5.5053302932037749,{"$f":"ThreePosition_Basic2($E$3,$E$5,$B$3:$C$3,$B$5:$C$5,B551,C551)","v":-56.837169356484289},184.06048492618189,197.14213775252389,231.4076135201764,{"$f":"ThreePosition_Basic2($E$3,$E$5,$B$3:$C$3,$B$5:$C$5,B551,D551)","v":137.15425493785628},-221.25170429619808,391.13356204686443,-173.90457570220357]
[272,4.7472955654245768,{"$f":"Burmester($B$3:$C$3,$B$4:$C$4,$B$5:$C$5,$E$3,$E$4,$E$5,B552)","v":3.4089696882883267},5.5093782498255059,{"$f":"ThreePosition_Basic2($E$3,$E$5,$B$3:$C$3,$B$5:$C$5,B552,C552)","v":-58.892675845484341},184.60056089178337,196.43687122310106,231.04752951272638,{"$f":"ThreePosition_Basic2($E$3,$E$5,$B$3:$C$3,$B$5:$C$5,B552,D552)","v":137.09563621872232},-220.78857575039768,392.42518328730773,-174.34160712945464]
[272.5,4.7560222116845479,{"$f":"Burmester($B$3:$C$3,$B$4:$C$4,$B$5:$C$5,$E$3,$E$4,$E$5,B553)","v":3.4214810805225029},5.5134129682944124,{"$f":"ThreePosition_Basic2($E$3,$E$5,$B$3:$C$3,$B$5:$C$5,B553,C553)","v":-60.953650056469662},185.14288416122332,195.73839415430507,230.68152135404011,{"$f":"ThreePosition_Basic2($E$3,$E$5,$B$3:$C$3,$B$5:$C$5,B553,D553)","v":137.03269612973105},-220.32592485809673,393.72474034050578,-174.78728766527991]
[273,4.7647488579445199,{"$f":"Burmester($B$3:$C$3,$B$4:$C$4,$B$5:$C$5,$E$3,$E$4,$E$5,B554)","v":3.4339722983140066},5.5174347340940653,{"$f":"ThreePosition_Basic2($E$3,$E$5,$B$3:$C$3,$B$5:$C$5,B554,C554)","v":-63.020293968845046},185.68766557589029,195.04672482329929,230.30965304779406,{"$f":"ThreePosition_Basic2($E$3,$E$5,$B$3:$C$3,$B$5:$C$5,B554,D554)","v":136.96544621548631},-219.86374220466462,395.03246500763066,-175.24175473276085]
[273.5,4.773475504204491,{"$f":"Burmester($B$3:$C$3,$B$4:$C$4,$B$5:$C$5,$E$3,$E$4,$E$5,B555)","v":3.4464433276290225},5.5214438313931069,{"$f":"ThreePosition_Basic2($E$3,$E$5,$B$3:$C$3,$B$5:$C$5,B555,C555)","v":-65.092815176911174},186.23511856320565,194.36188090408825,229.93198784253931,{"$f":"ThreePosition_Basic2($E$3,$E$5,$B$3:$C$3,$B$5:$C$5,B555,D555)","v":136.8938974251229},-219.40201826691182,396.34859350612237,-175.70514898757816]
[274,4.782202150464463,{"$f":"Burmester($B$3:$C$3,$B$4:$C$4,$B$5:$C$5,$E$3,$E$4,$E$5,B556)","v":3.4588941548900221},5.525440543087826,{"$f":"ThreePosition_Basic2($E$3,$E$5,$B$3:$C$3,$B$5:$C$5,B556,C556)","v":-67.171427011053339},186.78545923306731,193.68387949264897,229.54858823059908,{"$f":"ThreePosition_Basic2($E$3,$E$5,$B$3:$C$3,$B$5:$C$5,B556,D556)","v":136.818060115273},-218.94074341883714,397.67336661897531,-176.17761442130538]
[274.5,4.7909287967244341,{"$f":"Burmester($B$3:$C$3,$B$4:$C$4,$B$5:$C$5,$E$3,$E$4,$E$5,B557)","v":3.4713247669039418},5.5294251508450198,{"$f":"ThreePosition_Basic2($E$3,$E$5,$B$3:$C$3,$B$5:$C$5,B557,C557)","v":-69.256348664466643},187.3389064781941,193.01273713164977,229.15951594744979,{"$f":"ThreePosition_Basic2($E$3,$E$5,$B$3:$C$3,$B$5:$C$5,B557,D557)","v":136.73794405303349},-218.47990793726925,399.00702984914994,-176.65929846801356]
[275,4.7996554429844061,{"$f":"Burmester($B$3:$C$3,$B$4:$C$4,$B$5:$C$5,$E$3,$E$4,$E$5,B558)","v":3.483735150791369},5.5333979351451239,{"$f":"ThreePosition_Basic2($E$3,$E$5,$B$3:$C$3,$B$5:$C$5,B558,C558)","v":-71.34780532563363},187.89568207850084,192.34846983475697,228.7648319715737,{"$f":"ThreePosition_Basic2($E$3,$E$5,$B$3:$C$3,$B$5:$C$5,B558,D558)","v":136.65355841892543},-218.0195020074072,400.34983357931605,-177.15035211433434]
[275.5,4.8083820892443772,{"$f":"Burmester($B$3:$C$3,$B$4:$C$4,$B$5:$C$5,$E$3,$E$4,$E$5,B559)","v":3.4961252939166885},5.5373591753256024,{"$f":"ThreePosition_Basic2($E$3,$E$5,$B$3:$C$3,$B$5:$C$5,B559,C559)","v":-73.446028316776591},188.45601080963033,191.69109311052327,228.36459652476375,{"$f":"ThreePosition_Basic2($E$3,$E$5,$B$3:$C$3,$B$5:$C$5,B559,D559)","v":136.56491180985006},-217.55951572826606,401.70203323714992,-177.65093001313264]
[276,4.8171087355043491,{"$f":"Burmester($B$3:$C$3,$B$4:$C$4,$B$5:$C$5,$E$3,$E$4,$E$5,B560)","v":3.5084951838191945},5.5413091496246007,{"$f":"ThreePosition_Basic2($E$3,$E$5,$B$3:$C$3,$B$5:$C$5,B560,C560)","v":-75.551255238516859},189.02012055578703,191.04062198586197,227.9588690728678,{"$f":"ThreePosition_Basic2($E$3,$E$5,$B$3:$C$3,$B$5:$C$5,B560,D560)","v":136.47201224204062},-217.09993911803255,403.06388946641948,-178.16119060095178]
[276.5,4.8258353817643211,{"$f":"Burmester($B$3:$C$3,$B$4:$C$4,$B$5:$C$5,$E$3,$E$4,$E$5,B561)","v":3.5208448081451067},5.5452481352248357,{"$f":"ThreePosition_Basic2($E$3,$E$5,$B$3:$C$3,$B$5:$C$5,B561,C561)","v":-77.663730120982905},189.58824242701635,190.3970710291041,227.54770832695829,{"$f":"ThreePosition_Basic2($E$3,$E$5,$B$3:$C$3,$B$5:$C$5,B561,D561)","v":136.3748671540057},-216.64076211933636,404.4356683040927,-178.68129621939443]
[277,4.8345620280242931,{"$f":"Burmester($B$3:$C$3,$B$4:$C$4,$B$5:$C$5,$E$3,$E$4,$E$5,B562)","v":3.5331741545804998},5.5491764082977424,{"$f":"ThreePosition_Basic2($E$3,$E$5,$B$3:$C$3,$B$5:$C$5,B562,C562)","v":-79.783703581624309},190.16061088108978,189.76045437263861,227.13117224491447,{"$f":"ThreePosition_Basic2($E$3,$E$5,$B$3:$C$3,$B$5:$C$5,B562,D562)","v":136.2734834094725},-216.1819746044433,405.81764136373545,-179.21141324061864]
[277.5,4.8432886742842651,{"$f":"Burmester($B$3:$C$3,$B$4:$C$4,$B$5:$C$5,$E$3,$E$4,$E$5,B563)","v":3.5454832107851093},5.5530942440478412,{"$f":"ThreePosition_Basic2($E$3,$E$5,$B$3:$C$3,$B$5:$C$5,B563,C563)","v":-81.911432989997735},190.73746385015383,189.13078573513465,226.70931803339892,{"$f":"ThreePosition_Basic2($E$3,$E$5,$B$3:$C$3,$B$5:$C$5,B563,D563)","v":136.1678673003195},-215.72356638037294,407.21008602545191,-179.75171219712786]
[278,4.8520153205442362,{"$f":"Burmester($B$3:$C$3,$B$4:$C$4,$B$5:$C$5,$E$3,$E$4,$E$5,B564)","v":3.5577719643269807},5.5570019167573488,{"$f":"ThreePosition_Basic2($E$3,$E$5,$B$3:$C$3,$B$5:$C$5,B564,C564)","v":-84.047182639803879},191.31904287232442,188.5080784433475,226.28220215022344,{"$f":"ThreePosition_Basic2($E$3,$E$5,$B$3:$C$3,$B$5:$C$5,B564,D564)","v":136.0580245495095},-215.26552719395031,408.6132856326609,-180.30236791605128]
[278.5,4.8607419668042082,{"$f":"Burmester($B$3:$C$3,$B$4:$C$4,$B$5:$C$5,$E$3,$E$4,$E$5,B565)","v":3.5700404026179573},5.5608996998310074,{"$f":"ThreePosition_Basic2($E$3,$E$5,$B$3:$C$3,$B$5:$C$5,B565,C565)","v":-86.191223928470009},191.90559322840454,187.89234545350851,225.84988030708553,{"$f":"ThreePosition_Basic2($E$3,$E$5,$B$3:$C$3,$B$5:$C$5,B565,D565)","v":135.94396031401695},-214.80784673679264,410.02752969599544,-180.86355965811168]
[279,4.8694686130641793,{"$f":"Burmester($B$3:$C$3,$B$4:$C$4,$B$5:$C$5,$E$3,$E$4,$E$5,B566)","v":3.5822885128499609},5.56478786584114,{"$f":"ThreePosition_Basic2($E$3,$E$5,$B$3:$C$3,$B$5:$C$5,B566,C566)","v":-88.343835544583911},192.4973640839188,187.28359937229692,225.41240747266491,{"$f":"ThreePosition_Basic2($E$3,$E$5,$B$3:$C$3,$B$5:$C$5,B566,D566)","v":135.82567918775388},-214.35051465023997,411.45311410463466,-181.43547126149386]
[279.5,4.8781952593241513,{"$f":"Burmester($B$3:$C$3,$B$4:$C$4,$B$5:$C$5,$E$3,$E$4,$E$5,B567)","v":3.5945162819320693},5.5686666865729153,{"$f":"ThreePosition_Basic2($E$3,$E$5,$B$3:$C$3,$B$5:$C$5,B567,C567)","v":-90.505303663505998},193.09460863667272,186.6818524773968,224.96983787607084,{"$f":"ThreePosition_Basic2($E$3,$E$5,$B$3:$C$3,$B$5:$C$5,B567,D567)","v":135.70318520449189},-213.89352053023168,412.89034134539469,-182.01829129083356]
[280,4.8869219055841224,{"$f":"Burmester($B$3:$C$3,$B$4:$C$4,$B$5:$C$5,$E$3,$E$4,$E$5,B568)","v":3.6067236964283307},5.5725364330698381,{"$f":"ThreePosition_Basic2($E$3,$E$5,$B$3:$C$3,$B$5:$C$5,B568,C568)","v":-92.675922151491903},193.69758427004749,186.08711673763949,224.52222501062653,{"$f":"ThreePosition_Basic2($E$3,$E$5,$B$3:$C$3,$B$5:$C$5,B568,D568)","v":135.57648184078914},-213.43685393213721,414.33952072992054,-182.61221319155817]
[280.5,4.8956485518440944,{"$f":"Burmester($B$3:$C$3,$B$4:$C$4,$B$5:$C$5,$E$3,$E$4,$E$5,B569)","v":3.6189107424963352},5.5763973756794334,{"$f":"ThreePosition_Basic2($E$3,$E$5,$B$3:$C$3,$B$5:$C$5,B569,C569)","v":-94.855992778689355},194.30655271226109,185.49940383273054,224.06962163798113,{"$f":"ThreePosition_Basic2($E$3,$E$5,$B$3:$C$3,$B$5:$C$5,B569,D569)","v":135.44557201891195},-212.98050437554389,415.80096863033185,-183.21743544982385]
[281,4.9043751981040655,{"$f":"Burmester($B$3:$C$3,$B$4:$C$4,$B$5:$C$5,$E$3,$E$4,$E$5,B570)","v":3.6310774058264785},5.5802497840991476,{"$f":"ThreePosition_Basic2($E$3,$E$5,$B$3:$C$3,$B$5:$C$5,B570,C570)","v":-97.045825441376778},194.9217802018313,184.91872517256297,223.61207979253811,{"$f":"ThreePosition_Basic2($E$3,$E$5,$B$3:$C$3,$B$5:$C$5,B570,D570)","v":135.31045810976511},-212.5244613490085,417.2750087237049,-183.83416175830172]
[281.5,4.9131018443640375,{"$f":"Burmester($B$3:$C$3,$B$4:$C$4,$B$5:$C$5,$E$3,$E$4,$E$5,B571)","v":3.6432236715819282},5.5840939274224519,{"$f":"ThreePosition_Basic2($E$3,$E$5,$B$3:$C$3,$B$5:$C$5,B571,C571)","v":-99.245738393839929},195.54353765949901,184.3450919161192,223.14965078619292,{"$f":"ThreePosition_Basic2($E$3,$E$5,$B$3:$C$3,$B$5:$C$5,B571,D571)","v":135.1711419358252},-212.06871431477688,418.76197224578436,-184.46260118808297]
[282,4.9218284906240086,{"$f":"Burmester($B$3:$C$3,$B$4:$C$4,$B$5:$C$5,$E$3,$E$4,$E$5,B572)","v":3.6553495243392464},5.5879300741851381,{"$f":"ThreePosition_Basic2($E$3,$E$5,$B$3:$C$3,$B$5:$C$5,B572,C572)","v":-101.45605849029855},196.17210086687095,183.77851498995895,222.68238521336588,{"$f":"ThreePosition_Basic2($E$3,$E$5,$B$3:$C$3,$B$5:$C$5,B572,D572)","v":135.02762477407961},-211.61325271347687,420.26219825433714,-185.10296836698194]
[282.5,4.9305551368839806,{"$f":"Burmester($B$3:$C$3,$B$4:$C$4,$B$5:$C$5,$E$3,$E$4,$E$5,B573)","v":3.6674549480296679},5.5917584924118193,{"$f":"ThreePosition_Basic2($E$3,$E$5,$B$3:$C$3,$B$5:$C$5,B573,C573)","v":-103.67712143731849},196.80775065207109,183.21900510629877,222.2103329563262,{"$f":"ThreePosition_Basic2($E$3,$E$5,$B$3:$C$3,$B$5:$C$5,B573,D573)","v":134.87990735897702},-211.15806596879074,421.77603390259424,-185.75548366453563]
[283,4.9392817831439526,{"$f":"Burmester($B$3:$C$3,$B$4:$C$4,$B$5:$C$5,$E$3,$E$4,$E$5,B574)","v":3.6795399258809875},5.5955794496626208,{"$f":"ThreePosition_Basic2($E$3,$E$5,$B$3:$C$3,$B$5:$C$5,B574,C574)","v":-105.90927205716365},197.4507730826906,182.66657278067953,221.73354319079516,{"$f":"ThreePosition_Basic2($E$3,$E$5,$B$3:$C$3,$B$5:$C$5,B574,D574)","v":134.72798988538926},-210.70314349211108,423.30383472323246,-186.42037338400652]
[283.5,4.9480084294039237,{"$f":"Burmester($B$3:$C$3,$B$4:$C$4,$B$5:$C$5,$E$3,$E$4,$E$5,B575)","v":3.6916044403600603},5.5993932130800648,{"$f":"ThreePosition_Basic2($E$3,$E$5,$B$3:$C$3,$B$5:$C$5,B575,C575)","v":-108.1528645625725},198.1014596663542,182.12122834922599,221.25206439182185,{"$f":"ThreePosition_Basic2($E$3,$E$5,$B$3:$C$3,$B$5:$C$5,B575,D575)","v":134.57187201158649},-210.24847468718573,424.845964923385,-187.09786996171809]
[284,4.9567350756638957,{"$f":"Burmester($B$3:$C$3,$B$4:$C$4,$B$5:$C$5,$E$3,$E$4,$E$5,B576)","v":3.7036484731158832},5.6032000494361434,{"$f":"ThreePosition_Basic2($E$3,$E$5,$B$3:$C$3,$B$5:$C$5,B576,C576)","v":-110.4082628434642},198.76010755923085,181.58298198549753,220.76594433992301,{"$f":"ThreePosition_Basic2($E$3,$E$5,$B$3:$C$3,$B$5:$C$5,B576,D576)","v":134.41155286223059},-209.79404895475693,426.40279769119229,-187.78821217406477]
[284.5,4.9654617219238677,{"$f":"Burmester($B$3:$C$3,$B$4:$C$4,$B$5:$C$5,$E$3,$E$4,$E$5,B577)","v":3.7156720049232241},5.607000225179581,{"$f":"ThreePosition_Basic2($E$3,$E$5,$B$3:$C$3,$B$5:$C$5,B577,C577)","v":-112.67584076610363},199.42701978283782,181.05184371693269,220.27523012748023,{"$f":"ThreePosition_Basic2($E$3,$E$5,$B$3:$C$3,$B$5:$C$5,B577,D577)","v":134.24703103139007},-209.33985569720056,427.97471551442641,-188.49164535255815]
[285,4.9741883681838397,{"$f":"Burmester($B$3:$C$3,$B$4:$C$4,$B$5:$C$5,$E$3,$E$4,$E$5,B578)","v":3.7276750156268053},5.6107940064832817,{"$f":"ThreePosition_Basic2($E$3,$E$5,$B$3:$C$3,$B$5:$C$5,B578,C578)","v":-114.95598248529463},200.10250544950756,180.52782344088632,219.77996816538692,{"$f":"ThreePosition_Basic2($E$3,$E$5,$B$3:$C$3,$B$5:$C$5,B578,D578)","v":134.07830458557771},-208.88588432316939,429.56211051175865,-189.20842160729003]
[285.5,4.9829150144438108,{"$f":"Burmester($B$3:$C$3,$B$4:$C$4,$B$5:$C$5,$E$3,$E$4,$E$5,B579)","v":3.7396574840859964},5.6145816592919573,{"$f":"ThreePosition_Basic2($E$3,$E$5,$B$3:$C$3,$B$5:$C$5,B579,C579)","v":-117.2490827701872},200.78687999690533,180.01093094026106,219.28020418993978,{"$f":"ThreePosition_Basic2($E$3,$E$5,$B$3:$C$3,$B$5:$C$5,B579,D579)","v":133.90537106681452},-208.4321242522461,431.16538477726283,-189.93880005921164]
[286,4.9916416607037828,{"$f":"Burmester($B$3:$C$3,$B$4:$C$4,$B$5:$C$5,$E$3,$E$4,$E$5,B580)","v":3.7516193881200239},5.6183634493699381,{"$f":"ThreePosition_Basic2($E$3,$E$5,$B$3:$C$3,$B$5:$C$5,B580,C580)","v":-119.55554734432731},201.48046543200661,179.50117589873423,218.77598326996556,{"$f":"ThreePosition_Basic2($E$3,$E$5,$B$3:$C$3,$B$5:$C$5,B580,D580)","v":133.7282274957262},-207.9785649196117,432.78495073878776,-190.68304708165275]
[286.5,5.0003683069637539,{"$f":"Burmester($B$3:$C$3,$B$4:$C$4,$B$5:$C$5,$E$3,$E$4,$E$5,B581)","v":3.763560704453643},5.6221396423491603,{"$f":"ThreePosition_Basic2($E$3,$E$5,$B$3:$C$3,$B$5:$C$5,B581,C581)","v":-121.87579324060238},202.1835905849689,178.99856791557988,218.26734981418073,{"$f":"ThreePosition_Basic2($E$3,$E$5,$B$3:$C$3,$B$5:$C$5,B581,D581)","v":133.5468703746738},-207.52519578073418,434.42123153085606,-191.44143655152234]
[287,5.0090949532237259,{"$f":"Burmester($B$3:$C$3,$B$4:$C$4,$B$5:$C$5,$E$3,$E$4,$E$5,B582)","v":3.7754814086632944},5.6259105037773356,{"$f":"ThreePosition_Basic2($E$3,$E$5,$B$3:$C$3,$B$5:$C$5,B582,C582)","v":-124.2102491717843},202.89659137335804,178.50311652008691,217.75434757877719,{"$f":"ThreePosition_Basic2($E$3,$E$5,$B$3:$C$3,$B$5:$C$5,B582,D582)","v":133.36129569092432},-207.07200631608239,436.07466138279551,-192.21425011066324]
[287.5,5.017821599483697,{"$f":"Burmester($B$3:$C$3,$B$4:$C$4,$B$5:$C$5,$E$3,$E$4,$E$5,B583)","v":3.7873814751236945},5.6296762991662836,{"$f":"ThreePosition_Basic2($E$3,$E$5,$B$3:$C$3,$B$5:$C$5,B583,C583)","v":-126.55935591739566},203.61981107720757,178.01483118557329,217.23701967522823,{"$f":"ThreePosition_Basic2($E$3,$E$5,$B$3:$C$3,$B$5:$C$5,B583,D583)","v":133.1714989198625},-206.61898603587082,437.74568602283148,-193.00177743785017]
[288,5.026548245743669,{"$f":"Burmester($B$3:$C$3,$B$4:$C$4,$B$5:$C$5,$E$3,$E$4,$E$5,B584)","v":3.7992608769548699},5.6334372940404451,{"$f":"ThreePosition_Basic2($E$3,$E$5,$B$3:$C$3,$B$5:$C$5,B584,C584)","v":-128.92356672767937},204.35360062542753,177.53372134299656,216.71540857831022,{"$f":"ThreePosition_Basic2($E$3,$E$5,$B$3:$C$3,$B$5:$C$5,B584,D584)","v":132.97747502825214},-206.16612448484003,439.4347630989281,-193.80431653195734]
[288.5,{"$f":"A585*PI()/180","v":5.035274892003641},{"$f":"Burmester($B$3:$C$3,$B$4:$C$4,$B$5:$C$5,$E$3,$E$4,$E$5,B585)","v":3.8111195859695908},5.6371937539855592,{"$f":"ThreePosition_Basic2($E$3,$E$5,$B$3:$C$3,$B$5:$C$5,B585,C585)","v":-131.30334774548336},205.09831889410083,177.05979639416111,216.18955613433781,{"$f":"ThreePosition_Basic2($E$3,$E$5,$B$3:$C$3,$B$5:$C$5,B585,D585)","v":132.77921847755007},-205.71341124707911,441.14236261719452,-194.62217400684213]
[289,5.0440015382636121,{"$f":"Burmester($B$3:$C$3,$B$4:$C$4,$B$5:$C$5,$E$3,$E$4,$E$5,B586)","v":3.8229575726212186},5.6409459446975037,{"$f":"ThreePosition_Basic2($E$3,$E$5,$B$3:$C$3,$B$5:$C$5,B586,C586)","v":-133.69917844692878},205.85433301723839,176.59306572452152,215.65950356960485,{"$f":"ThreePosition_Basic2($E$3,$E$5,$B$3:$C$3,$B$5:$C$5,B586,D586)","v":132.57672322727674},-205.26083595089369,442.86896739872702,-195.45566539852723]
[289.5,5.0527281845235841,{"$f":"Burmester($B$3:$C$3,$B$4:$C$4,$B$5:$C$5,$E$3,$E$4,$E$5,B587)","v":3.8347748059519331},5.6446941320313035,{"$f":"ThreePosition_Basic2($E$3,$E$5,$B$3:$C$3,$B$5:$C$5,B587,C587)","v":-136.1115521017723},206.62201871059992,176.13353871558195,215.12529149903042,{"$f":"ThreePosition_Basic2($E$3,$E$5,$B$3:$C$3,$B$5:$C$5,B587,D587)","v":132.36998273845055},-204.80838827372619,444.61507355580477,-196.30511548529569]
[290,5.0614548307835552,{"$f":"Burmester($B$3:$C$3,$B$4:$C$4,$B$5:$C$5,$E$3,$E$4,$E$5,B588)","v":3.8465712535413252},5.6484385820502876,{"$f":"ThreePosition_Basic2($E$3,$E$5,$B$3:$C$3,$B$5:$C$5,B588,C588)","v":-138.54097625442594},207.4017606092165,175.68122475689105,214.58695993500515,{"$f":"ThreePosition_Basic2($E$3,$E$5,$B$3:$C$3,$B$5:$C$5,B588,D588)","v":132.15898997708888},-204.35605794713402,446.38119098840588,-197.17085862134536]
[290.5,5.0701814770435272,{"$f":"Burmester($B$3:$C$3,$B$4:$C$4,$B$5:$C$5,$E$3,$E$4,$E$5,B589)","v":3.8583468814553576},5.6521795610754122,{"$f":"ThreePosition_Basic2($E$3,$E$5,$B$3:$C$3,$B$5:$C$5,B589,C589)","v":-140.98797322666002},208.19395261929614,175.23613325763154,214.04454829643507,{"$f":"ThreePosition_Basic2($E$3,$E$5,$B$3:$C$3,$B$5:$C$5,B589,D589)","v":131.94373741778602},-203.90383476182916,448.16784390207761,-198.05323908469023]
[291,5.0789081233034983,{"$f":"Burmester($B$3:$C$3,$B$4:$C$4,$B$5:$C$5,$E$3,$E$4,$E$5,B590)","v":3.870101654195659},5.6559173357347223,{"$f":"ThreePosition_Basic2($E$3,$E$5,$B$3:$C$3,$B$5:$C$5,B590,C590)","v":-143.45308064306266},208.99899828522513,174.79827365780386,213.49809541798075,{"$f":"ThreePosition_Basic2($E$3,$E$5,$B$3:$C$3,$B$5:$C$5,B590,D590)","v":131.72421704736806},-203.45170857278697,449.97557134823455,-198.95261144003135]
[291.5,5.0876347695634703,{"$f":"Burmester($B$3:$C$3,$B$4:$C$4,$B$5:$C$5,$E$3,$E$4,$E$5,B591)","v":3.8818355346491615},5.659652173012967,{"$f":"ThreePosition_Basic2($E$3,$E$5,$B$3:$C$3,$B$5:$C$5,B591,C591)","v":-145.93685198040697},209.81731117242873,174.36765543900208,212.94763955948932,{"$f":"ThreePosition_Basic2($E$3,$E$5,$B$3:$C$3,$B$5:$C$5,B591,D591)","v":131.50042036863448},-202.99966930442685,451.80492778804353,-199.86934091736626]
[292,5.0963614158234423,{"$f":"Burmester($B$3:$C$3,$B$4:$C$4,$B$5:$C$5,$E$3,$E$4,$E$5,B592)","v":3.893548484038055},5.6633843403013486,{"$f":"ThreePosition_Basic2($E$3,$E$5,$B$3:$C$3,$B$5:$C$5,B592,C592)","v":-148.43985714212815},210.6493152668881,173.94428813478285,212.39321841561406,{"$f":"ThreePosition_Basic2($E$3,$E$5,$B$3:$C$3,$B$5:$C$5,B592,D592)","v":131.27233840419345},-202.54770695587379,453.65648368110442,-200.80380380714783]
[292.5,5.1050880620834143,{"$f":"Burmester($B$3:$C$3,$B$4:$C$4,$B$5:$C$5,$E$3,$E$4,$E$5,B593)","v":3.9052404618700542},5.667114105447415,{"$f":"ThreePosition_Basic2($E$3,$E$5,$B$3:$C$3,$B$5:$C$5,B593,C593)","v":-150.96268305920205},211.49544539217638,173.52818134062136,211.83486912562745,{"$f":"ThreePosition_Basic2($E$3,$E$5,$B$3:$C$3,$B$5:$C$5,B593,D593)","v":131.03996170039568},-202.09581160630248,455.53082610021909,-201.75638787285141]
[293,5.1138147083433854,{"$f":"Burmester($B$3:$C$3,$B$4:$C$4,$B$5:$C$5,$E$3,$E$4,$E$5,B594)","v":3.9169114258889728},5.6708417368050679,{"$f":"ThreePosition_Basic2($E$3,$E$5,$B$3:$C$3,$B$5:$C$5,B594,C594)","v":-153.50593431877667},212.35614764490657,173.11934472345843,211.27262828341654,{"$f":"ThreePosition_Basic2($E$3,$E$5,$B$3:$C$3,$B$5:$C$5,B594,D594)","v":130.80328033137303},-201.64397342037279,457.4285593736081,-202.72749278186282]
[293.5,5.1225413546033574,{"$f":"Burmester($B$3:$C$3,$B$4:$C$4,$B$5:$C$5,$E$3,$E$4,$E$5,B595)","v":3.9285613320255943},5.6745675032847034,{"$f":"ThreePosition_Basic2($E$3,$E$5,$B$3:$C$3,$B$5:$C$5,B595,C595)","v":-156.07023382200475},213.23187984955754,172.71778803083095,210.70653194766706,{"$f":"ThreePosition_Basic2($E$3,$E$5,$B$3:$C$3,$B$5:$C$5,B595,D595)","v":130.5622839031906},-201.19218265375901,459.35030575602627,-203.71753055564949]
[294,5.1312680008633293,{"$f":"Burmester($B$3:$C$3,$B$4:$C$4,$B$5:$C$5,$E$3,$E$4,$E$5,B596)","v":3.9401901343488221},5.6782916744034662,{"$f":"ThreePosition_Basic2($E$3,$E$5,$B$3:$C$3,$B$5:$C$5,B596,C596)","v":-158.65622347259935},214.12311203369009,172.32352109958808,210.13661565223174,{"$f":"ThreePosition_Basic2($E$3,$E$5,$B$3:$C$3,$B$5:$C$5,B596,D596)","v":130.31696155812361},-200.74042965878203,461.29670613031101,-204.72692604024039]
[294.5,5.1399946471233005,{"$f":"Burmester($B$3:$C$3,$B$4:$C$4,$B$5:$C$5,$E$3,$E$4,$E$5,B597)","v":3.9517977850171211},5.6820145203355974,{"$f":"ThreePosition_Basic2($E$3,$E$5,$B$3:$C$3,$B$5:$C$5,B597,C597)","v":-161.26456489774131},215.03032692463512,171.93655386418681,209.56291441668301,{"$f":"ThreePosition_Basic2($E$3,$E$5,$B$3:$C$3,$B$5:$C$5,B597,D597)","v":130.06730197905415},-200.2887048901469,463.26842074098226,-205.75611739809901]
[295,5.1487212933832724,{"$f":"Burmester($B$3:$C$3,$B$4:$C$4,$B$5:$C$5,$E$3,$E$4,$E$5,B598)","v":3.9633842342302423},5.6857363119629012,{"$f":"ThreePosition_Basic2($E$3,$E$5,$B$3:$C$3,$B$5:$C$5,B598,C598)","v":-163.89594020305825},215.95402046879764,171.55689636456529,208.98546275704854,{"$f":"ThreePosition_Basic2($E$3,$E$5,$B$3:$C$3,$B$5:$C$5,B598,D598)","v":129.8132933940129},-199.83699891079254,465.26612996163647,-206.80555662254164]
[295.5,5.1574479396432436,{"$f":"Burmester($B$3:$C$3,$B$4:$C$4,$B$5:$C$5,$E$3,$E$4,$E$5,B599)","v":3.9749494301812009},5.6894573209252783,{"$f":"ThreePosition_Basic2($E$3,$E$5,$B$3:$C$3,$B$5:$C$5,B599,C599)","v":-166.55105276350017},216.8947023747958,171.18455875359362,208.40429469673322,{"$f":"ThreePosition_Basic2($E$3,$E$5,$B$3:$C$3,$B$5:$C$5,B599,D599)","v":129.55492358086042},-199.38530239786047,467.2905350979542,-207.87571007592305]
[296,5.1661745859032155,{"$f":"Burmester($B$3:$C$3,$B$4:$C$4,$B$5:$C$5,$E$3,$E$4,$E$5,B600)","v":3.9864933190085541},5.6931778196713507,{"$f":"ThreePosition_Basic2($E$3,$E$5,$B$3:$C$3,$B$5:$C$5,B600,C600)","v":-169.2306280520651},217.85289668172589,170.81955130409241,207.81944377762088,{"$f":"ThreePosition_Basic2($E$3,$E$5,$B$3:$C$3,$B$5:$C$5,B600,D600)","v":129.29217987212118},-198.93360614878588,469.34235922827872,-208.9670590528909]
[296.5,5.1749012321631866,{"$f":"Burmester($B$3:$C$3,$B$4:$C$4,$B$5:$C$5,$E$3,$E$4,$E$5,B601)","v":3.9980158447489194},5.6968980815091488,{"$f":"ThreePosition_Basic2($E$3,$E$5,$B$3:$C$3,$B$5:$C$5,B601,C601)","v":-171.93541450842875},218.82914235393238,170.46188441542145,207.23094307136554,{"$f":"ThreePosition_Basic2($E$3,$E$5,$B$3:$C$3,$B$5:$C$5,B601,D601)","v":129.02504915998361},-198.48190108751891,471.42234808383381,-210.08010037008574]
[297,5.1836278784231586,{"$f":"Burmester($B$3:$C$3,$B$4:$C$4,$B$5:$C$5,$E$3,$E$4,$E$5,B602)","v":4.0095169492897922},5.7006183806568522,{"$f":"ThreePosition_Basic2($E$3,$E$5,$B$3:$C$3,$B$5:$C$5,B602,C602)","v":-174.66618444968785},219.82399390374178,170.11156861963056,206.63882519086283,{"$f":"ThreePosition_Basic2($E$3,$E$5,$B$3:$C$3,$B$5:$C$5,B602,D602)","v":128.75351790146618},-198.03017827088084,473.53127097078459,-211.21534698375979]
[297.5,5.1923545246831297,{"$f":"Burmester($B$3:$C$3,$B$4:$C$4,$B$5:$C$5,$E$3,$E$4,$E$5,B603)","v":4.02099657232261},5.7043389922935717,{"$f":"ThreePosition_Basic2($E$3,$E$5,$B$3:$C$3,$B$5:$C$5,B603,C603)","v":-177.42373502554329},220.83802204371776,169.76861458716974,206.04312230190899,{"$f":"ThreePosition_Basic2($E$3,$E$5,$B$3:$C$3,$B$5:$C$5,B603,D603)","v":128.47757212376717},-197.57842889506091,475.66992173648021,-212.37332863686967]
[298,5.2010811709431017,{"$f":"Burmester($B$3:$C$3,$B$4:$C$4,$B$5:$C$5,$E$3,$E$4,$E$5,B604)","v":4.0324546512961081},5.7080601926101595,{"$f":"ThreePosition_Basic2($E$3,$E$5,$B$3:$C$3,$B$5:$C$5,B604,C604)","v":-180.20888922042386},221.87181437009983,169.43303313215372,205.4438661350481,{"$f":"ThreePosition_Basic2($E$3,$E$5,$B$3:$C$3,$B$5:$C$5,B604,D604)","v":128.19719742980169},-197.12664430225942,477.83911978237927,-213.55459253731115]
[298.5,5.2098078172030728,{"$f":"Burmester($B$3:$C$3,$B$4:$C$4,$B$5:$C$5,$E$3,$E$4,$E$5,B605)","v":4.0438911213699384},5.7117822588600307,{"$f":"ThreePosition_Basic2($E$3,$E$5,$B$3:$C$3,$B$5:$C$5,B605,C605)","v":-183.02249690518934},222.92597607918134,169.10483521717541,204.8410879976048,{"$f":"ThreePosition_Basic2($E$3,$E$5,$B$3:$C$3,$B$5:$C$5,B605,D605)","v":127.91237900394164},-196.67481598748458,480.03971112630637,-214.75970406906112]
[299,5.2185344634630448,{"$f":"Burmester($B$3:$C$3,$B$4:$C$4,$B$5:$C$5,$E$3,$E$4,$E$5,B606)","v":4.0553059153685895},5.7155054694099832,{"$f":"ThreePosition_Basic2($E$3,$E$5,$B$3:$C$3,$B$5:$C$5,B606,C606)","v":-185.86543594125069},224.00113071851612,168.78403195766245,204.23481878590735,{"$f":"ThreePosition_Basic2($E$3,$E$5,$B$3:$C$3,$B$5:$C$5,B606,D606)","v":127.62310161796357},-196.222935605506,482.27256951687673,-215.98924753811477]
[299.5,5.2272611097230168,{"$f":"Burmester($B$3:$C$3,$B$4:$C$4,$B$5:$C$5,$E$3,$E$4,$E$5,B607)","v":4.066698963735579},5.7192301037909878,{"$f":"ThreePosition_Basic2($E$3,$E$5,$B$3:$C$3,$B$5:$C$5,B607,C607)","v":-188.73861334010536},225.09792097495486,168.47063462577273,203.62508899770282,{"$f":"ThreePosition_Basic2($E$3,$E$5,$B$3:$C$3,$B$5:$C$5,B607,D607)","v":127.32934963721719},-195.77099497797298,484.5385976030953,-217.24382695522502]
[300,5.2359877559829888,{"$f":"Burmester($B$3:$C$3,$B$4:$C$4,$B$5:$C$5,$E$3,$E$4,$E$5,B608)","v":4.0780701944879549},5.7229564427489485,{"$f":"ThreePosition_Basic2($E$3,$E$5,$B$3:$C$3,$B$5:$C$5,B608,C608)","v":-191.64296648151063},226.21700950165166,168.16465465382092,203.01192874476391,{"$f":"ThreePosition_Basic2($E$3,$E$5,$B$3:$C$3,$B$5:$C$5,B608,D608)","v":127.03110702702789},-195.31898610070303,486.83872816235942,-218.52406685759075]
[300.5,5.2447144022429608,{"$f":"Burmester($B$3:$C$3,$B$4:$C$4,$B$5:$C$5,$E$3,$E$4,$E$5,B609)","v":4.0894195331711067},5.7266847682953887,{"$f":"ThreePosition_Basic2($E$3,$E$5,$B$3:$C$3,$B$5:$C$5,B609,C609)","v":-194.5794643937181},227.35907978632369,167.86610363723062,202.39536776569116,{"$f":"ThreePosition_Basic2($E$3,$E$5,$B$3:$C$3,$B$5:$C$5,B609,D609)","v":126.72835735933741},-194.86690115114484,489.17392539028612,-219.83061317177737]
[301,5.2534410485029319,{"$f":"Burmester($B$3:$C$3,$B$4:$C$4,$B$5:$C$5,$E$3,$E$4,$E$5,B610)","v":4.100746902813893},5.7304153637580679,{"$f":"ThreePosition_Basic2($E$3,$E$5,$B$3:$C$3,$B$5:$C$5,B610,C610)","v":-197.54910909942896},228.52483706320106,167.57499333700468,201.77543543891196,{"$f":"ThreePosition_Basic2($E$3,$E$5,$B$3:$C$3,$B$5:$C$5,B610,D610)","v":126.42108381960445},-194.41473249602464,491.54518625603811,-221.16413412031375]
[301.5,5.2621676947629039,{"$f":"Burmester($B$3:$C$3,$B$4:$C$4,$B$5:$C$5,$E$3,$E$4,$E$5,B611)","v":4.1120522238841088},5.7341485138314816,{"$f":"ThreePosition_Basic2($E$3,$E$5,$B$3:$C$3,$B$5:$C$5,B611,C611)","v":-200.55293703138403},229.71500927127397,167.2913356817071,201.15216079587987,{"$f":"ThreePosition_Basic2($E$3,$E$5,$B$3:$C$3,$B$5:$C$5,B611,D611)","v":126.10926921396543},-193.96247269917748,493.95354192705656,-222.52532117457159]
[302,5.270894341022875,{"$f":"Burmester($B$3:$C$3,$B$4:$C$4,$B$5:$C$5,$E$3,$E$4,$E$5,B612)","v":4.1233354142442948},5.7378845046272371,{"$f":"ThreePosition_Basic2($E$3,$E$5,$B$3:$C$3,$B$5:$C$5,B612,C612)","v":-203.59202052176417},230.93034806161654,167.01514276894923,200.52557253447421,{"$f":"ThreePosition_Basic2($E$3,$E$5,$B$3:$C$3,$B$5:$C$5,B612,D612)","v":125.79289597667791},-193.51011452957374,496.40005926739133,-223.91489005671608]
[302.5,5.279620987282847,{"$f":"Burmester($B$3:$C$3,$B$4:$C$4,$B$5:$C$5,$E$3,$E$4,$E$5,B613)","v":4.13459638910793},5.7416236237242684,{"$f":"ThreePosition_Basic2($E$3,$E$5,$B$3:$C$3,$B$5:$C$5,B613,C613)","v":-206.66746936987744},232.17162985677032,166.7464268663706,199.89569903260497,{"$f":"ThreePosition_Basic2($E$3,$E$5,$B$3:$C$3,$B$5:$C$5,B613,D613)","v":125.4719461778504},-193.05765096954289,498.88584241409842,-225.33358179370828]
[303,5.2883476335428181,{"$f":"Burmester($B$3:$C$3,$B$4:$C$4,$B$5:$C$5,$E$3,$E$4,$E$5,B614)","v":4.1458350609959895},5.7453661602188699,{"$f":"ThreePosition_Basic2($E$3,$E$5,$B$3:$C$3,$B$5:$C$5,B614,C614)","v":-209.78043249290988},233.43965696537083,166.48520041210867,199.26256836202509,{"$f":"ThreePosition_Basic2($E$3,$E$5,$B$3:$C$3,$B$5:$C$5,B614,D614)","v":125.14640153147874},-192.60507522320293,501.41203443649727,-226.78216382654864]
[303.5,5.2970742798027901,{"$f":"Burmester($B$3:$C$3,$B$4:$C$4,$B$5:$C$5,$E$3,$E$4,$E$5,B615)","v":4.1570513396939335},5.7491124047745146,{"$f":"ThreePosition_Basic2($E$3,$E$5,$B$3:$C$3,$B$5:$C$5,B615,C615)","v":-212.93209966487063},234.73525875543032,166.23147601474767,198.62620830235142,{"$f":"ThreePosition_Basic2($E$3,$E$5,$B$3:$C$3,$B$5:$C$5,B615,D615)","v":124.81624340379612},-192.15238072509885,503.97981908341444,-228.26143117817776]
[304,5.3058009260627612,{"$f":"Burmester($B$3:$C$3,$B$4:$C$4,$B$5:$C$5,$E$3,$E$4,$E$5,B616)","v":4.1682451322091092},5.7528626496714175,{"$f":"ThreePosition_Basic2($E$3,$E$5,$B$3:$C$3,$B$5:$C$5,B616,C616)","v":-216.12370334921255},236.05929288993187,165.98526645273697,197.98664635529883,{"$f":"ThreePosition_Basic2($E$3,$E$5,$B$3:$C$3,$B$5:$C$5,B616,D616)","v":124.48145282195085},-191.69956114905793,506.59042262390039,-229.77220768369097]
[304.5,5.3145275723227332,{"$f":"Burmester($B$3:$C$3,$B$4:$C$4,$B$5:$C$5,$E$3,$E$4,$E$5,B617)","v":4.1794163427286293},5.756617188855838,{"$f":"ThreePosition_Basic2($E$3,$E$5,$B$3:$C$3,$B$5:$C$5,B617,C617)","v":-219.35652063101858},237.41264662865484,165.74658467327035,197.34390975912891,{"$f":"ThreePosition_Basic2($E$3,$E$5,$B$3:$C$3,$B$5:$C$5,B617,D617)","v":124.14201048303184},-191.24661041726557,509.24511578732074,-231.31534728679151]
[305,5.3232542185827052,{"$f":"Burmester($B$3:$C$3,$B$4:$C$4,$B$5:$C$5,$E$3,$E$4,$E$5,B618)","v":4.1905648725777134},5.7603763179890448,{"$f":"ThreePosition_Basic2($E$3,$E$5,$B$3:$C$3,$B$5:$C$5,B618,C618)","v":-222.63187525505697},238.79623820043616,165.51544379061795,196.69802550331957,{"$f":"ThreePosition_Basic2($E$3,$E$5,$B$3:$C$3,$B$5:$C$5,B618,D618)","v":123.79789676344434},-190.79352270956795,511.94521580911925,-232.89173540668452]
[305.5,5.3319808648426763,{"$f":"Burmester($B$3:$C$3,$B$4:$C$4,$B$5:$C$5,$E$3,$E$4,$E$5,B619)","v":4.2016906201785673},5.7641403344959441,{"$f":"ThreePosition_Basic2($E$3,$E$5,$B$3:$C$3,$B$5:$C$5,B619,C619)","v":-225.95113977648754},240.21101825037573,165.29185708389815,196.0490203434519,{"$f":"ThreePosition_Basic2($E$3,$E$5,$B$3:$C$3,$B$5:$C$5,B619,D619)","v":123.44909172866116},-190.34029247300765,514.69208858904688,-234.50229037993148]
[306,5.3407075111026483,{"$f":"Burmester($B$3:$C$3,$B$4:$C$4,$B$5:$C$5,$E$3,$E$4,$E$5,B620)","v":4.2127934810097987},5.767909537613308,{"$f":"ThreePosition_Basic2($E$3,$E$5,$B$3:$C$3,$B$5:$C$5,B620,C620)","v":-229.31573783149153},241.6579713668406,165.07583799428093,195.39692081632558,{"$f":"ThreePosition_Basic2($E$3,$E$5,$B$3:$C$3,$B$5:$C$5,B620,D620)","v":123.09557514335543},-189.88691443159541,517.48715096912792,-236.14796498211044]
[306.5,5.3494341573626194,{"$f":"Burmester($B$3:$C$3,$B$4:$C$4,$B$5:$C$5,$E$3,$E$4,$E$5,B621)","v":4.2238733475664132},5.7716842284375716,{"$f":"ThreePosition_Basic2($E$3,$E$5,$B$3:$C$3,$B$5:$C$5,B621,C621)","v":-232.72714653563702},243.13811769346572,164.86740012161283,194.74175325529905,{"$f":"ThreePosition_Basic2($E$3,$E$5,$B$3:$C$3,$B$5:$C$5,B621,D621)","v":122.73732648193659},-189.43338359632537,520.33187313918643,-237.82974803449204]
[307,5.3581608036225914,{"$f":"Burmester($B$3:$C$3,$B$4:$C$4,$B$5:$C$5,$E$3,$E$4,$E$5,B622)","v":4.2349301093204472},5.7754647099721428,{"$f":"ThreePosition_Basic2($E$3,$E$5,$B$3:$C$3,$B$5:$C$5,B622,C622)","v":-236.18689901840295},244.65251463176162,164.66655722044985,194.0835438058597,{"$f":"ThreePosition_Basic2($E$3,$E$5,$B$3:$C$3,$B$5:$C$5,B622,D622)","v":122.37432493949534},-188.97969527543734,523.2277811783481,-239.54866610133925]
[307.5,5.3668874498825634,{"$f":"Burmester($B$3:$C$3,$B$4:$C$4,$B$5:$C$5,$E$3,$E$4,$E$5,B623)","v":4.2459636526822422},5.7792512871741977,{"$f":"ThreePosition_Basic2($E$3,$E$5,$B$3:$C$3,$B$5:$C$5,B623,C623)","v":-239.6965871028936},246.20225864035211,164.47332319549008,193.42231844142958,{"$f":"ThreePosition_Basic2($E$3,$E$5,$B$3:$C$3,$B$5:$C$5,B623,D623)","v":122.00654944318347},-188.52584508493143,526.17645974156721,-241.30578528385394]
[308,5.3756140961425354,{"$f":"Burmester($B$3:$C$3,$B$4:$C$4,$B$5:$C$5,$E$3,$E$4,$E$5,B624)","v":4.256973860962435},5.7830442670008964,{"$f":"ThreePosition_Basic2($E$3,$E$5,$B$3:$C$3,$B$5:$C$5,B624,C624)","v":-243.25786414050162},247.7884871373353,164.28771209639291,192.75810297940561,{"$f":"ThreePosition_Basic2($E$3,$E$5,$B$3:$C$3,$B$5:$C$5,B624,D624)","v":121.6339786640372},-188.07182895934056,529.17955490093175,-243.10221311727025]
[308.5,5.3843407424025065,{"$f":"Burmester($B$3:$C$3,$B$4:$C$4,$B$5:$C$5,$E$3,$E$4,$E$5,B625)","v":4.2679606143347009},5.7868439584549636,{"$f":"ThreePosition_Basic2($E$3,$E$5,$B$3:$C$3,$B$5:$C$5,B625,C625)","v":-246.87244801101033},249.41238051275931,164.10973811197354,192.0909230974367,{"$f":"ThreePosition_Basic2($E$3,$E$5,$B$3:$C$3,$B$5:$C$5,B625,D625)","v":121.2565910292568},-187.61764316276302,532.23877715224069,-244.93910057808563]
[309,5.3930673886624785,{"$f":"Burmester($B$3:$C$3,$B$4:$C$4,$B$5:$C$5,$E$3,$E$4,$E$5,B626)","v":4.2789237897992907},5.7906506726296012,{"$f":"ThreePosition_Basic2($E$3,$E$5,$B$3:$C$3,$B$5:$C$5,B626,C626)","v":-250.54212429946571},251.07516425876221,163.93941556376043,191.42080434994472,{"$f":"ThreePosition_Basic2($E$3,$E$5,$B$3:$C$3,$B$5:$C$5,B626,D626)","v":120.87436473496797},-187.1632843001623,535.35590459819412,-246.8176442089798]
[309.5,5.4017940349224505,{"$f":"Burmester($B$3:$C$3,$B$4:$C$4,$B$5:$C$5,$E$3,$E$4,$E$5,B627)","v":4.2898632611474055},5.7944647227526547,{"$f":"ThreePosition_Basic2($E$3,$E$5,$B$3:$C$3,$B$5:$C$5,B627,C627)","v":-254.26874966202811},252.77811122551347,163.77675889890381,190.74777218489209,{"$f":"ThreePosition_Basic2($E$3,$E$5,$B$3:$C$3,$B$5:$C$5,B627,D627)","v":120.48727775947255},-186.70874932893551,538.53278632040451,-248.7390883695569]
[310,5.4105206811824216,{"$f":"Burmester($B$3:$C$3,$B$4:$C$4,$B$5:$C$5,$E$3,$E$4,$E$5,B628)","v":4.3007788989265032},5.7982864242299792,{"$f":"ThreePosition_Basic2($E$3,$E$5,$B$3:$C$3,$B$5:$C$5,B628,C628)","v":-258.05425539401011},254.52254401174244,163.62178268242354,190.0718519607866,{"$f":"ThreePosition_Basic2($E$3,$E$5,$B$3:$C$3,$B$5:$C$5,B628,D628)","v":120.09530787700673},-186.25403557075757,541.77134595344035,-250.7047276217134]
[310.5,5.4192473274423936,{"$f":"Burmester($B$3:$C$3,$B$4:$C$4,$B$5:$C$5,$E$3,$E$4,$E$5,B629)","v":4.3116705704065454},5.8021160946879524,{"$f":"ThreePosition_Basic2($E$3,$E$5,$B$3:$C$3,$B$5:$C$5,B629,C629)","v":-261.90065121435686},256.30983749936962,163.47450158878087,189.39306896394442,{"$f":"ThreePosition_Basic2($E$3,$E$5,$B$3:$C$3,$B$5:$C$5,B629,D629)","v":119.69843267202552},-185.79914072369968,545.07358547516321,-252.71590925912489]
[311,5.4279739737023647,{"$f":"Burmester($B$3:$C$3,$B$4:$C$4,$B$5:$C$5,$E$3,$E$4,$E$5,B630)","v":4.3225381395472695},5.8059540540150474,{"$f":"ThreePosition_Basic2($E$3,$E$5,$B$3:$C$3,$B$5:$C$5,B630,C630)","v":-265.81002928198967},258.1414215425014,163.33493039276578,188.7114484259977,{"$f":"ThreePosition_Basic2($E$3,$E$5,$B$3:$C$3,$B$5:$C$5,B630,D630)","v":119.29662955402497},-185.34406287463045,548.44158922878046,-254.77403599113416]
[311.5,5.4367006199623367,{"$f":"Burmester($B$3:$C$3,$B$4:$C$4,$B$5:$C$5,$E$3,$E$4,$E$5,B631)","v":4.3333814669665625},5.8098006244024223,{"$f":"ThreePosition_Basic2($E$3,$E$5,$B$3:$C$3,$B$5:$C$5,B631,C631)","v":-269.7845684607201},260.01878382192353,163.20308395968283,188.02701554165483,{"$f":"ThreePosition_Basic2($E$3,$E$5,$B$3:$C$3,$B$5:$C$5,B631,D631)","v":118.8898757729243},-184.88880051189977,551.87752819332718,-256.88056879216845]
[312,5.4454272662223078,{"$f":"Burmester($B$3:$C$3,$B$4:$C$4,$B$5:$C$5,$E$3,$E$4,$E$5,B632)","v":4.3442004099099627},5.8136561303834329,{"$f":"ThreePosition_Basic2($E$3,$E$5,$B$3:$C$3,$B$5:$C$5,B632,C632)","v":-273.82653885080805},261.94347287713873,163.07897723482415,187.33979548671726,{"$f":"ThreePosition_Basic2($E$3,$E$5,$B$3:$C$3,$B$5:$C$5,B632,D632)","v":118.47814843502105},-184.43335253830847,555.38366452065327,-259.03702992872991]
[312.5,5.4541539124822798,{"$f":"Burmester($B$3:$C$3,$B$4:$C$4,$B$5:$C$5,$E$3,$E$4,$E$5,B633)","v":4.3549948222214212},5.8175208988720026,{"$f":"ThreePosition_Basic2($E$3,$E$5,$B$3:$C$3,$B$5:$C$5,B633,C633)","v":-277.93830660678498},263.91710132901142,162.96262523221685,186.64981343634346,{"$f":"ThreePosition_Basic2($E$3,$E$5,$B$3:$C$3,$B$5:$C$5,B633,D633)","v":118.06142451953193},-183.9777182843651,558.96235635853373,-261.24500617703302]
[313,5.4628805587422509,{"$f":"Burmester($B$3:$C$3,$B$4:$C$4,$B$5:$C$5,$E$3,$E$4,$E$5,B634)","v":4.3657645543153221},5.8213952591997726,{"$f":"ThreePosition_Basic2($E$3,$E$5,$B$3:$C$3,$B$5:$C$5,B634,C634)","v":-282.12233906280682},265.94134930720338,162.8540430226314,185.95709458357794,{"$f":"ThreePosition_Basic2($E$3,$E$5,$B$3:$C$3,$B$5:$C$5,B634,D634)","v":117.63968089574635},-183.52189752183475,562.61606298118454,-263.50615224546016]
[313.5,5.4716072050022229,{"$f":"Burmester($B$3:$C$3,$B$4:$C$4,$B$5:$C$5,$E$3,$E$4,$E$5,B635)","v":4.3765094531499127},5.8252795431519475,{"$f":"ThreePosition_Basic2($E$3,$E$5,$B$3:$C$3,$B$5:$C$5,B635,C635)","v":-286.38121018865291},268.01796809778693,162.75324572083628,185.26166415812753,{"$f":"ThreePosition_Basic2($E$3,$E$5,$B$3:$C$3,$B$5:$C$5,B635,D635)","v":117.21289434079777},-183.065890477576,566.34735025028692,-265.82219441723544]
[314,5.480333851262194,{"$f":"Burmester($B$3:$C$3,$B$4:$C$4,$B$5:$C$5,$E$3,$E$4,$E$5,B636)","v":4.3872293622021701},5.8291740850017497,{"$f":"ThreePosition_Basic2($E$3,$E$5,$B$3:$C$3,$B$5:$C$5,B636,C636)","v":-290.71760640147335},270.148784027771,162.66024847208911,184.56354744539604,{"$f":"ThreePosition_Basic2($E$3,$E$5,$B$3:$C$3,$B$5:$C$5,B636,D636)","v":116.78104155807647},-182.60969784767192,570.15889643163894,-268.19493443004689]
[314.5,5.489060497522166,{"$f":"Burmester($B$3:$C$3,$B$4:$C$4,$B$5:$C$5,$E$3,$E$4,$E$5,B637)","v":4.3979241214442206},5.8330792215433966,{"$f":"ThreePosition_Basic2($E$3,$E$5,$B$3:$C$3,$B$5:$C$5,B637,C637)","v":-295.13433276061778},272.33570260475199,162.57506643784694,183.86276980577551,{"$f":"ThreePosition_Basic2($E$3,$E$5,$B$3:$C$3,$B$5:$C$5,B637,D637)","v":116.34409919629516},-182.15332081185187,574.05349839475991,-270.62625361082837]
[315,5.497787143782138,{"$f":"Burmester($B$3:$C$3,$B$4:$C$4,$B$5:$C$5,$E$3,$E$4,$E$5,B638)","v":4.4085935673213816},5.8369952921235084,{"$f":"ThreePosition_Basic2($E$3,$E$5,$B$3:$C$3,$B$5:$C$5,B638,C638)","v":-299.63431957527689},274.58071293149692,162.4977147806872,183.15935669418747,{"$f":"ThreePosition_Basic2($E$3,$E$5,$B$3:$C$3,$B$5:$C$5,B638,D638)","v":115.90204386922855},-181.69676104820601,578.03407822519262,-273.11811728551544]
[315.5,5.5065137900421099,{"$f":"Burmester($B$3:$C$3,$B$4:$C$4,$B$5:$C$5,$E$3,$E$4,$E$5,B639)","v":4.4192375327319304},5.8409226386708504,{"$f":"ThreePosition_Basic2($E$3,$E$5,$B$3:$C$3,$B$5:$C$5,B639,C639)","v":-304.22062945737167},276.88589241707678,162.42820864842236,182.45333367988076,{"$f":"ThreePosition_Basic2($E$3,$E$5,$B$3:$C$3,$B$5:$C$5,B639,D639)","v":115.45485217613781},-181.24002074819015,582.10369028193179,-275.67257948538617]
[316,5.5152404363020811,{"$f":"Burmester($B$3:$C$3,$B$4:$C$4,$B$5:$C$5,$E$3,$E$4,$E$5,B640)","v":4.4298558470086906},5.8448616057243052,{"$f":"ThreePosition_Basic2($E$3,$E$5,$B$3:$C$3,$B$5:$C$5,B640,C640)","v":-308.89646485504522},279.25341180810364,162.36656315739873,181.74472646647422,{"$f":"ThreePosition_Basic2($E$3,$E$5,$B$3:$C$3,$B$5:$C$5,B640,D640)","v":115.00250072289626},-180.78310263192006,586.26552873534024,-278.2917879735495]
[316.5,5.523967082562053,{"$f":"Burmester($B$3:$C$3,$B$4:$C$4,$B$5:$C$5,$E$3,$E$4,$E$5,B641)","v":4.4404483359025324},5.8488125404589884,{"$f":"ThreePosition_Basic2($E$3,$E$5,$B$3:$C$3,$B$5:$C$5,B641,C641)","v":-313.6651761053796},281.68554056581848,162.31279337496693,181.03356091225413,{"$f":"ThreePosition_Basic2($E$3,$E$5,$B$3:$C$3,$B$5:$C$5,B641,D641)","v":114.54496614383537},-180.32600996375328,590.52293562418186,-280.97798961731763]
[317,5.532693728822025,{"$f":"Burmester($B$3:$C$3,$B$4:$C$4,$B$5:$C$5,$E$3,$E$4,$E$5,B642)","v":4.4510148215678935},5.8527757927103723,{"$f":"ThreePosition_Basic2($E$3,$E$5,$B$3:$C$3,$B$5:$C$5,B642,C642)","v":-318.53027004853629},284.18465261713862,162.26691430110992,180.31986305070774,{"$f":"ThreePosition_Basic2($E$3,$E$5,$B$3:$C$3,$B$5:$C$5,B642,D642)","v":114.08222512431873},-179.86874656815499,594.87940947396498,-283.73353613458585]
[317.5,5.5414203750819961,{"$f":"Burmester($B$3:$C$3,$B$4:$C$4,$B$5:$C$5,$E$3,$E$4,$E$5,B643)","v":4.4615551225504273},5.8567517149963422,{"$f":"ThreePosition_Basic2($E$3,$E$5,$B$3:$C$3,$B$5:$C$5,B643,C643)","v":-323.49541924951006},286.75323251045637,162.2289408492195,179.60365911130327,{"$f":"ThreePosition_Basic2($E$3,$E$5,$B$3:$C$3,$B$5:$C$5,B643,D643)","v":113.61425442406632},-179.4113168458455,599.33861452279587,-286.56089024499863]
[318,5.5501470213419681,{"$f":"Burmester($B$3:$C$3,$B$4:$C$4,$B$5:$C$5,$E$3,$E$4,$E$5,B644)","v":4.4720690537768988},5.8607406625370473,{"$f":"ThreePosition_Basic2($E$3,$E$5,$B$3:$C$3,$B$5:$C$5,B644,C644)","v":-328.56447187805998},289.39388200987753,162.19888782601032,178.88497554049735,{"$f":"ThreePosition_Basic2($E$3,$E$5,$B$3:$C$3,$B$5:$C$5,B644,D644)","v":113.14103090123568},-178.95372579022231,603.90439060530593,-289.46263225960251]
[318.5,5.5588736676019392,{"$f":"Burmester($B$3:$C$3,$B$4:$C$4,$B$5:$C$5,$E$3,$E$4,$E$5,B645)","v":4.4825564265474043},5.864742993272432,{"$f":"ThreePosition_Basic2($E$3,$E$5,$B$3:$C$3,$B$5:$C$5,B645,C645)","v":-333.74146230226415},292.10932716486474,162.17676991055851,178.16383902298293,{"$f":"ThreePosition_Basic2($E$3,$E$5,$B$3:$C$3,$B$5:$C$5,B645,D645)","v":112.6625315372771},-178.49597900405485,608.58076375009978,-292.44146714593666]
[319,5.5676003138619112,{"$f":"Burmester($B$3:$C$3,$B$4:$C$4,$B$5:$C$5,$E$3,$E$4,$E$5,B646)","v":4.4930170485300964},5.8687590678773391,{"$f":"ThreePosition_Basic2($E$3,$E$5,$B$3:$C$3,$B$5:$C$5,B646,C646)","v":-339.03062245656571},294.90242589583016,162.16260163245772,177.44027650314786,{"$f":"ThreePosition_Basic2($E$3,$E$5,$B$3:$C$3,$B$5:$C$5,B646,D646)","v":112.17873346257328},-178.0380827164428,613.37195755159667,-295.50023210912508]
[319.5,5.5763269601218823,{"$f":"Burmester($B$3:$C$3,$B$4:$C$4,$B$5:$C$5,$E$3,$E$4,$E$5,B647)","v":4.5034507237584709},5.8727892497740459,{"$f":"ThreePosition_Basic2($E$3,$E$5,$B$3:$C$3,$B$5:$C$5,B647,C647)","v":-344.43639405115164},297.77617614024655,162.1563973490837,176.71431520675628,{"$f":"ThreePosition_Basic2($E$3,$E$5,$B$3:$C$3,$B$5:$C$5,B647,D647)","v":111.68961398287681},-177.58004380003229,618.28240538311218,-298.64190473352255]
[320,5.5850536063818543,{"$f":"Burmester($B$3:$C$3,$B$4:$C$4,$B$5:$C$5,$E$3,$E$4,$E$5,B648)","v":4.5138572526313929},5.8768339051421137,{"$f":"ThreePosition_Basic2($E$3,$E$5,$B$3:$C$3,$B$5:$C$5,B648,C648)","v":-349.96344169623683},300.7337246082954,162.15817122195631,175.98598266283335,{"$f":"ThreePosition_Basic2($E$3,$E$5,$B$3:$C$3,$B$5:$C$5,B648,D648)","v":111.19515060655347},-177.12186978848152,623.31676352474665,-301.86961173394354]
[320.5,{"$f":"A649*PI()/180","v":5.5937802526418263},{"$f":"Burmester($B$3:$C$3,$B$4:$C$4,$B$5:$C$5,$E$3,$E$4,$E$5,B649)","v":4.5242364319159458},5.8808934029254196,{"$f":"ThreePosition_Basic2($E$3,$E$5,$B$3:$C$3,$B$5:$C$5,B649,C649)","v":-355.61666702222533},303.7783762020299,162.16793719219413,175.25530672575024,{"$f":"ThreePosition_Basic2($E$3,$E$5,$B$3:$C$3,$B$5:$C$5,B649,D649)","v":110.69532107264513},-176.66356889416667,628.47992528706459,-305.1866383704463]
[321,5.6025068989017974,{"$f":"Burmester($B$3:$C$3,$B$4:$C$4,$B$5:$C$5,$E$3,$E$4,$E$5,B650)","v":4.5345880547532733},5.8849681148362327,{"$f":"ThreePosition_Basic2($E$3,$E$5,$B$3:$C$3,$B$5:$C$5,B650,C650)","v":-361.40122388506421},306.91360415757464,162.18570895505542,174.52231559749481,{"$f":"ThreePosition_Basic2($E$3,$E$5,$B$3:$C$3,$B$5:$C$5,B650,D650)","v":110.19010337975821},-176.20515002611776,633.7770362198778,-308.59643858619756]
[321.5,5.6112335451617694,{"$f":"Burmester($B$3:$C$3,$B$4:$C$4,$B$5:$C$5,$E$3,$E$4,$E$5,B651)","v":4.5449119106675342},5.889058415356196,{"$f":"ThreePosition_Basic2($E$3,$E$5,$B$3:$C$3,$B$5:$C$5,B651,C651)","v":-367.32253475535839},310.1430609760601,162.21149993355885,173.78703785011521,{"$f":"ThreePosition_Basic2($E$3,$E$5,$B$3:$C$3,$B$5:$C$5,B651,D651)","v":109.67947581578275},-175.74662280817188,639.21351050470003,-312.10264593411677]
[322,5.6199601914217405,{"$f":"Burmester($B$3:$C$3,$B$4:$C$4,$B$5:$C$5,$E$3,$E$4,$E$5,B652)","v":4.5552077855780988},5.8931646817340759,{"$f":"ThreePosition_Basic2($E$3,$E$5,$B$3:$C$3,$B$5:$C$5,B652,C652)","v":-373.38630840019289},313.47059021591031,162.24532325117991,173.0495024483283,{"$f":"ThreePosition_Basic2($E$3,$E$5,$B$3:$C$3,$B$5:$C$5,B652,D652)","v":109.16341698845554},-175.28799759733351,644.79504863982834,-315.7090853649155]
[322.5,5.6286868376817125,{"$f":"Burmester($B$3:$C$3,$B$4:$C$4,$B$5:$C$5,$E$3,$E$4,$E$5,B653)","v":4.5654754618151427},5.8972872939801437,{"$f":"ThreePosition_Basic2($E$3,$E$5,$B$3:$C$3,$B$5:$C$5,B653,C653)","v":-379.59855897824593},316.90023922685725,162.28719170362183,172.30973877227868,{"$f":"ThreePosition_Basic2($E$3,$E$5,$B$3:$C$3,$B$5:$C$5,B653,D653)","v":108.64190585676857},-174.8292855023266,650.52765653863639,-319.41978595690517]
[323,5.6374134839416845,{"$f":"Burmester($B$3:$C$3,$B$4:$C$4,$B$5:$C$5,$E$3,$E$4,$E$5,B654)","v":4.5757147181387818},5.9014266348570148,{"$f":"ThreePosition_Basic2($E$3,$E$5,$B$3:$C$3,$B$5:$C$5,B654,C654)","v":-385.96562668177643},320.43627291471432,162.33711772965745,171.567776640425,{"$f":"ThreePosition_Basic2($E$3,$E$5,$B$3:$C$3,$B$5:$C$5,B654,D654)","v":108.11492176322022},-174.37049840232137,656.41766617465407,-323.23899467661067]
[323.5,5.6461401302016565,{"$f":"Burmester($B$3:$C$3,$B$4:$C$4,$B$5:$C$5,$E$3,$E$4,$E$5,B655)","v":4.5859253297618841},5.9055830898668376,{"$f":"ThreePosition_Basic2($E$3,$E$5,$B$3:$C$3,$B$5:$C$5,B655,C655)","v":-392.49420007374579},324.08318863574306,162.39511338104433,170.8236463325496,{"$f":"ThreePosition_Basic2($E$3,$E$5,$B$3:$C$3,$B$5:$C$5,B655,D655)","v":107.58244446692605},-173.91164896582384,662.47175792171618,-327.1711912690173]
[324,5.6548667764616276,{"$f":"Burmester($B$3:$C$3,$B$4:$C$4,$B$5:$C$5,$E$3,$E$4,$E$5,B656)","v":4.5961070683767229},5.909757047234641,{"$f":"ThreePosition_Basic2($E$3,$E$5,$B$3:$C$3,$B$5:$C$5,B656,C656)","v":-399.19134028477418},327.84573233038594,162.46119029151356,170.07737861286074,{"$f":"ThreePosition_Basic2($E$3,$E$5,$B$3:$C$3,$B$5:$C$5,B656,D656)","v":107.04445417757262},-173.4527506697049,668.69698475386031,-331.22110438723007]
[324.5,5.6635934227215996,{"$f":"Burmester($B$3:$C$3,$B$4:$C$4,$B$5:$C$5,$E$3,$E$4,$E$5,B657)","v":4.6062597021856106},5.9139488978877202,{"$f":"ThreePosition_Basic2($E$3,$E$5,$B$3:$C$3,$B$5:$C$5,B657,C657)","v":-406.06450725321122},331.72891601854263,162.5353596448341,169.32900475317902,{"$f":"ThreePosition_Basic2($E$3,$E$5,$B$3:$C$3,$B$5:$C$5,B657,D657)","v":106.50093159022856},-172.99381781835385,675.10079848827388,-335.39372908371746]
[325,5.6723200689815707,{"$f":"Burmester($B$3:$C$3,$B$4:$C$4,$B$5:$C$5,$E$3,$E$4,$E$5,B658)","v":4.6163829959356697},5.9181590354308717,{"$f":"ThreePosition_Basic2($E$3,$E$5,$B$3:$C$3,$B$5:$C$5,B658,C658)","v":-413.12158821251882},335.73803679250085,162.6176321419627,168.57855655617982,{"$f":"ThreePosition_Basic2($E$3,$E$5,$B$3:$C$3,$B$5:$C$5,B658,D658)","v":105.95185792099463},-172.53486556293174,681.69107827547612,-339.6943457992528]
[325.5,5.6810467152415427,{"$f":"Burmester($B$3:$C$3,$B$4:$C$4,$B$5:$C$5,$E$3,$E$4,$E$5,B659)","v":4.6264767109579088},5.9223878561173589,{"$f":"ThreePosition_Basic2($E$3,$E$5,$B$3:$C$3,$B$5:$C$5,B659,C659)","v":-420.37092865387575},339.87869745944226,162.70801796728216,167.82606637867022,{"$f":"ThreePosition_Basic2($E$3,$E$5,$B$3:$C$3,$B$5:$C$5,B659,D659)","v":105.39721494350162},-172.0759099207053,688.47616156465949,-344.12854100147734]
[326,5.6897733615015138,{"$f":"Burmester($B$3:$C$3,$B$4:$C$4,$B$5:$C$5,$E$3,$E$4,$E$5,B660)","v":4.636540605210735},5.9266357588154097,{"$f":"ThreePosition_Basic2($E$3,$E$5,$B$3:$C$3,$B$5:$C$5,B660,C660)","v":-427.82136601868064},344.1568290032933,162.80652675393986,167.0715671548796,{"$f":"ThreePosition_Basic2($E$3,$E$5,$B$3:$C$3,$B$5:$C$5,B660,D660)","v":104.83698502623616},-171.61696779443426,695.46487779885661,-348.70222964284795]
[326.5,5.6985000077614867,{"$f":"Burmester($B$3:$C$3,$B$4:$C$4,$B$5:$C$5,$E$3,$E$4,$E$5,B661)","v":4.6465744333280892},5.9309031449701326,{"$f":"ThreePosition_Basic2($E$3,$E$5,$B$3:$C$3,$B$5:$C$5,B661,C661)","v":-435.48226640608374},348.57871505599024,162.91316754829626,166.31509241973691,{"$f":"ThreePosition_Basic2($E$3,$E$5,$B$3:$C$3,$B$5:$C$5,B661,D661)","v":104.27115117069766},-171.15805699179015,702.66658512507763,-353.42167962804348]
[327,5.7072266540214578,{"$f":"Burmester($B$3:$C$3,$B$4:$C$4,$B$5:$C$5,$E$3,$E$4,$E$5,B662)","v":4.6565779466723285},5.9351904185606346,{"$f":"ThreePosition_Basic2($E$3,$E$5,$B$3:$C$3,$B$5:$C$5,B662,C662)","v":-443.36356461518642},353.15101859123121,163.02794877350061,165.55667633210652,{"$f":"ThreePosition_Basic2($E$3,$E$5,$B$3:$C$3,$B$5:$C$5,B662,D662)","v":103.69969705035612},-170.69919624477336,710.09121043904315,-358.29353850389805]
[327.5,5.7159533002814289,{"$f":"Burmester($B$3:$C$3,$B$4:$C$4,$B$5:$C$5,$E$3,$E$4,$E$5,B663)","v":4.6665508933920599},5.9394979860522499,{"$f":"ThreePosition_Basic2($E$3,$E$5,$B$3:$C$3,$B$5:$C$5,B663,C663)","v":-451.47580788095212},357.88081108005701,163.15087819220736,164.79635369795059,{"$f":"ThreePosition_Basic2($E$3,$E$5,$B$3:$C$3,$B$5:$C$5,B663,D663)","v":103.12260705042006},-170.24040522910599,717.74929312357949,-363.32486261121244]
[328,5.7246799465414,{"$f":"Burmester($B$3:$C$3,$B$4:$C$4,$B$5:$C$5,$E$3,$E$4,$E$5,B664)","v":4.676493018485032},5.9438262563436517,{"$f":"ThreePosition_Basic2($E$3,$E$5,$B$3:$C$3,$B$5:$C$5,B664,C664)","v":-459.83020370768077},362.77560437748582,163.28196286845446,164.03415999339569,{"$f":"ThreePosition_Basic2($E$3,$E$5,$B$3:$C$3,$B$5:$C$5,B664,D664)","v":102.5398663083698},-169.78170458356436,725.65203288450505,-368.52314896765449]
[328.5,5.7334065928013729,{"$f":"Burmester($B$3:$C$3,$B$4:$C$4,$B$5:$C$5,$E$3,$E$4,$E$5,B665)","v":4.6864040638662745},5.9481756407087474,{"$f":"ThreePosition_Basic2($E$3,$E$5,$B$3:$C$3,$B$5:$C$5,B665,C665)","v":-468.43867225523655},367.8433856436381,163.42120912872332,163.27013138766478,{"$f":"ThreePosition_Basic2($E$3,$E$5,$B$3:$C$3,$B$5:$C$5,B665,D665)","v":101.95146075526236},-169.32311592922017,733.81134213922223,-373.89637018519352]
[329,5.742133239061344,{"$f":"Burmester($B$3:$C$3,$B$4:$C$4,$B$5:$C$5,$E$3,$E$4,$E$5,B666)","v":4.6962837684416332},5.9525465527331543,{"$f":"ThreePosition_Basic2($E$3,$E$5,$B$3:$C$3,$B$5:$C$5,B666,C666)","v":-477.31390379192061},373.09265564192219,163.56862252221009,162.50430476583506,{"$f":"ThreePosition_Basic2($E$3,$E$5,$B$3:$C$3,$B$5:$C$5,B666,D666)","v":101.35737715776379},-168.86466188855798,742.23990347189454,-379.45301276464511]
[329.5,5.7508598853213151,{"$f":"Burmester($B$3:$C$3,$B$4:$C$4,$B$5:$C$5,$E$3,$E$4,$E$5,B667)","v":4.7061318681868496},5.9569394082451446,{"$f":"ThreePosition_Basic2($E$3,$E$5,$B$3:$C$3,$B$5:$C$5,B667,C667)","v":-486.46942179531061},378.53247080183269,163.72420778032927,161.73671775140599,{"$f":"ThreePosition_Basic2($E$3,$E$5,$B$3:$C$3,$B$5:$C$5,B667,D667)","v":100.75760316089803},-168.40636610442823,750.95123273653792,-385.20211915485493]
[330,5.7595865315812871,{"$f":"Burmester($B$3:$C$3,$B$4:$C$4,$B$5:$C$5,$E$3,$E$4,$E$5,B668)","v":4.7159480962323466},5.9613546252408609,{"$f":"ThreePosition_Basic2($E$3,$E$5,$B$3:$C$3,$B$5:$C$5,B668,C668)","v":-495.91965235984367},384.17248948549553,163.88796877548725,160.96740872860823,{"$f":"ThreePosition_Basic2($E$3,$E$5,$B$3:$C$3,$B$5:$C$5,B668,D668)","v":100.15212733146716},-167.94825325880129,759.95974846679803,-391.15333401568859]
[330.5,5.7683131778412591,{"$f":"Burmester($B$3:$C$3,$B$4:$C$4,$B$5:$C$5,$E$3,$E$4,$E$5,B669)","v":4.7257321829538483},5.9657926238036927,{"$f":"ThreePosition_Basic2($E$3,$E$5,$B$3:$C$3,$B$5:$C$5,B669,C669)","v":-505.68000065929948},390.02302295674849,164.05990847915746,160.19641686444385,{"$f":"ThreePosition_Basic2($E$3,$E$5,$B$3:$C$3,$B$5:$C$5,B669,D669)","v":99.540939202126225},-167.49034909128054,769.28084834058313,-397.31695518358515]
[331,5.7770398241012311,{"$f":"Burmester($B$3:$C$3,$B$4:$C$4,$B$5:$C$5,$E$3,$E$4,$E$5,B670)","v":4.7354838560689974},5.9702538260176548,{"$f":"ThreePosition_Basic2($E$3,$E$5,$B$3:$C$3,$B$5:$C$5,B670,C670)","v":-515.76693531551837},396.09509162027388,164.24002891929251,159.42378213039999,{"$f":"ThreePosition_Basic2($E$3,$E$5,$B$3:$C$3,$B$5:$C$5,B670,D670)","v":98.924029316069621},-167.0326804173344,778.93099355088054,-403.70398990720832]
[331.5,5.7857664703612022,{"$f":"Burmester($B$3:$C$3,$B$4:$C$4,$B$5:$C$5,$E$3,$E$4,$E$5,B671)","v":4.7452028407401015},5.9747386558746181,{"$f":"ThreePosition_Basic2($E$3,$E$5,$B$3:$C$3,$B$5:$C$5,B671,C671)","v":-526.19808164415826},402.40048717797902,164.42833113712015,158.64954532379343,{"$f":"ThreePosition_Basic2($E$3,$E$5,$B$3:$C$3,$B$5:$C$5,B671,D671)","v":98.301389272282677},-166.57527514620045,788.92780205356109,-410.32621700038601]
[332,5.7944931166211742,{"$f":"Burmester($B$3:$C$3,$B$4:$C$4,$B$5:$C$5,$E$3,$E$4,$E$5,B672)","v":4.7548888596831453},5.9792475391752742,{"$f":"ThreePosition_Basic2($E$3,$E$5,$B$3:$C$3,$B$5:$C$5,B672,C672)","v":-536.99232488701227},408.95184144229017,164.62481514336412,157.8737480887057,{"$f":"ThreePosition_Basic2($E$3,$E$5,$B$3:$C$3,$B$5:$C$5,B672,D672)","v":97.673011771326046},-166.11816229841946,799.29015180170245,-417.19625565200397]
[332.5,5.8032197628811462,{"$f":"Burmester($B$3:$C$3,$B$4:$C$4,$B$5:$C$5,$E$3,$E$4,$E$5,B673)","v":4.7645416332831871},5.9837809034236926,{"$f":"ThreePosition_Basic2($E$3,$E$5,$B$3:$C$3,$B$5:$C$5,B673,C673)","v":-548.16992470176683},415.76270265359483,164.82947987393834,157.09643293645786,{"$f":"ThreePosition_Basic2($E$3,$E$5,$B$3:$C$3,$B$5:$C$5,B673,D673)","v":97.038890661599382},-165.66137202295033,810.03829523730451,-424.3276417400873]
[333,5.8119464091411173,{"$f":"Burmester($B$3:$C$3,$B$4:$C$4,$B$5:$C$5,$E$3,$E$4,$E$5,B674)","v":4.7741608797162716},5.9883391777153596,{"$f":"ThreePosition_Basic2($E$3,$E$5,$B$3:$C$3,$B$5:$C$5,B674,C674)","v":-559.75264236839189},422.84762027462102,165.04232314517014,156.31764326557948,{"$f":"ThreePosition_Basic2($E$3,$E$5,$B$3:$C$3,$B$5:$C$5,B674,D674)","v":96.399020986036021},-165.20493561381534,821.19398649959805,-431.73491262285688]
[333.5,5.8206730554010884,{"$f":"Burmester($B$3:$C$3,$B$4:$C$4,$B$5:$C$5,$E$3,$E$4,$E$5,B675)","v":4.7837463150779715},5.9929227926185726,{"$f":"ThreePosition_Basic2($E$3,$E$5,$B$3:$C$3,$B$5:$C$5,B675,C675)","v":-571.76388239159803},430.22223938135301,165.26334160860574,155.53742338121725,{"$f":"ThreePosition_Basic2($E$3,$E$5,$B$3:$C$3,$B$5:$C$5,B675,D675)","v":95.753399029167738},-164.74888552622906,832.78062302937155,-439.43370152636481]
[334,5.8293997016610613,{"$f":"Burmester($B$3:$C$3,$B$4:$C$4,$B$5:$C$5,$E$3,$E$4,$E$5,B676)","v":4.7932976535186578},5.9975321800490962,{"$f":"ThreePosition_Basic2($E$3,$E$5,$B$3:$C$3,$B$5:$C$5,B676,C676)","v":-584.22885043716315},437.90340594234817,165.49253070546081,154.75581851393213,{"$f":"ThreePosition_Basic2($E$3,$E$5,$B$3:$C$3,$B$5:$C$5,B676,D676)","v":95.102022364508827},-164.2932553921525,844.82340350713275,-447.44084282056855]
[334.5,5.8381263479210324,{"$f":"Burmester($B$3:$C$3,$B$4:$C$4,$B$5:$C$5,$E$3,$E$4,$E$5,B677)","v":4.8028146073855842},6.002167773137975,{"$f":"ThreePosition_Basic2($E$3,$E$5,$B$3:$C$3,$B$5:$C$5,B677,C677)","v":-597.17472984392361},445.90928448097196,165.72988462077853,153.97287483783708,{"$f":"ThreePosition_Basic2($E$3,$E$5,$B$3:$C$3,$B$5:$C$5,B677,D677)","v":94.44488990219304},-163.83808003522444,857.34950436689519,-455.77448967835932]
[335,5.8468529941810035,{"$f":"Burmester($B$3:$C$3,$B$4:$C$4,$B$5:$C$5,$E$3,$E$4,$E$5,B678)","v":4.8122968873719003},6.0068300060924313,{"$f":"ThreePosition_Basic2($E$3,$E$5,$B$3:$C$3,$B$5:$C$5,B678,C678)","v":-610.63087931194173},454.25948985421604,165.97539623736566,153.18863948801112,{"$f":"ThreePosition_Basic2($E$3,$E$5,$B$3:$C$3,$B$5:$C$5,B678,D678)","v":93.782001936793151},-163.38339548500932,870.38827748610049,-464.45424585121424]
[335.5,5.8555796404409746,{"$f":"Burmester($B$3:$C$3,$B$4:$C$4,$B$5:$C$5,$E$3,$E$4,$E$5,B679)","v":4.8217442026726394},6.0115193140497523,{"$f":"ThreePosition_Basic2($E$3,$E$5,$B$3:$C$3,$B$5:$C$5,B679,C679)","v":-624.62905479185952},462.97523516476042,166.22905708957899,152.40316057713449,{"$f":"ThreePosition_Basic2($E$3,$E$5,$B$3:$C$3,$B$5:$C$5,B679,D679)","v":93.11336019525335},-162.92923899050689,883.97147207669184,-473.50131357813279]
[336,5.8643062867009474,{"$f":"Burmester($B$3:$C$3,$B$4:$C$4,$B$5:$C$5,$E$3,$E$4,$E$5,B680)","v":4.8311562611477461},6.0162361329241261,{"$f":"ThreePosition_Basic2($E$3,$E$5,$B$3:$C$3,$B$5:$C$5,B680,C680)","v":-639.20365910473049},472.07949815914361,166.49085731703747,151.61648721129814,{"$f":"ThreePosition_Basic2($E$3,$E$5,$B$3:$C$3,$B$5:$C$5,B680,D680)","v":92.438967884861029},-162.47564903286522,898.13348430662904,-482.93865998071067]
[336.5,5.8730329329609186,{"$f":"Burmester($B$3:$C$3,$B$4:$C$4,$B$5:$C$5,$E$3,$E$4,$E$5,B681)","v":4.840532769492194},6.0209808992463723,{"$f":"ThreePosition_Basic2($E$3,$E$5,$B$3:$C$3,$B$5:$C$5,B681,C681)","v":-654.39202342226554},481.5972088653175,166.7607856183422,150.8286695049124,{"$f":"ThreePosition_Basic2($E$3,$E$5,$B$3:$C$3,$B$5:$C$5,B681,D681)","v":91.758829741183078},-162.0226653372375,912.91163878179077,-492.79120469764257]
[337,5.8817595792208897,{"$f":"Burmester($B$3:$C$3,$B$4:$C$4,$B$5:$C$5,$E$3,$E$4,$E$5,B682)","v":4.8498734334132525},6.0257540499965181,{"$f":"ThreePosition_Basic2($E$3,$E$5,$B$3:$C$3,$B$5:$C$5,B682,C682)","v":-670.23472545578625},491.55546170177831,167.03882920489241,150.03975859465919,{"$f":"ThreePosition_Basic2($E$3,$E$5,$B$3:$C$3,$B$5:$C$5,B682,D682)","v":91.072952075856094},-161.57032888371819,928.34650673653471,-503.08603199083734]
[337.5,5.8904862254808625,{"$f":"Burmester($B$3:$C$3,$B$4:$C$4,$B$5:$C$5,$E$3,$E$4,$E$5,B683)","v":4.8591779578148691},6.0305560224292378,{"$f":"ThreePosition_Basic2($E$3,$E$5,$B$3:$C$3,$B$5:$C$5,B683,C683)","v":-686.77595006399667},501.98375586502033,167.32497375488094,149.24980665243515,{"$f":"ThreePosition_Basic2($E$3,$E$5,$B$3:$C$3,$B$5:$C$5,B683,D683)","v":90.381342824190597},-161.11868191730437,944.48226664306821,-513.85263112988957]
[338,5.8992128717408336,{"$f":"Burmester($B$3:$C$3,$B$4:$C$4,$B$5:$C$5,$E$3,$E$4,$E$5,B684)","v":4.868446046989197},6.0353872538921065,{"$f":"ThreePosition_Basic2($E$3,$E$5,$B$3:$C$3,$B$5:$C$5,B684,C684)","v":-704.06389902798117},512.91426849425125,167.6192033675643,148.45886689722073,{"$f":"ThreePosition_Basic2($E$3,$E$5,$B$3:$C$3,$B$5:$C$5,B684,D684)","v":89.684011592447888},-160.66776795681182,961.36711398799332,-525.12316955384233]
[338.5,5.9079395180008056,{"$f":"Burmester($B$3:$C$3,$B$4:$C$4,$B$5:$C$5,$E$3,$E$4,$E$5,B685)","v":4.8776774048152856},6.0402481816367235,{"$f":"ThreePosition_Basic2($E$3,$E$5,$B$3:$C$3,$B$5:$C$5,B685,C685)","v":-722.15125799737916},524.3821659493193,167.92150051791168,147.66699360579179,{"$f":"ThreePosition_Basic2($E$3,$E$5,$B$3:$C$3,$B$5:$C$5,B685,D685)","v":88.980969704719413},-160.21763180268667,979.05372822001027,-536.93280414621415]
[339,5.9166661642607767,{"$f":"Burmester($B$3:$C$3,$B$4:$C$4,$B$5:$C$5,$E$3,$E$4,$E$5,B686)","v":4.8868717349648207},6.0451392426227208,{"$f":"ThreePosition_Basic2($E$3,$E$5,$B$3:$C$3,$B$5:$C$5,B686,C686)","v":-741.09573013614818},536.42595955416266,168.23184601172125,146.87424212224971,{"$f":"ThreePosition_Basic2($E$3,$E$5,$B$3:$C$3,$B$5:$C$5,B686,D686)","v":88.272230249313822},-159.76831954365028,997.59980639718322,-549.3200369755632]
[339.5,5.9253928105207487,{"$f":"Burmester($B$3:$C$3,$B$4:$C$4,$B$5:$C$5,$E$3,$E$4,$E$5,B687)","v":4.8960287411149466},6.0500608733147034,{"$f":"ThreePosition_Basic2($E$3,$E$5,$B$3:$C$3,$B$5:$C$5,B687,C687)","v":-760.96064785571139},549.08791339762297,168.5502189413204,146.08066886626835,{"$f":"ThreePosition_Basic2($E$3,$E$5,$B$3:$C$3,$B$5:$C$5,B687,D687)","v":87.557808124518743},-159.31987856210816,1017.0686749215505,-562.32712309346277]
[340,5.9341194567807207,{"$f":"Burmester($B$3:$C$3,$B$4:$C$4,$B$5:$C$5,$E$3,$E$4,$E$5,B688)","v":4.9051481271680304},6.0550135094722206,{"$f":"ThreePosition_Basic2($E$3,$E$5,$B$3:$C$3,$B$5:$C$5,B688,C688)","v":-781.81567630070469},562.41451330178916,168.87659664195189,145.28633134001802,{"$f":"ThreePosition_Basic2($E$3,$E$5,$B$3:$C$3,$B$5:$C$5,B688,D688)","v":86.83772008367508},-158.87235753826783,1037.5299930263316,-576.00053950003894]
[340.5,5.9428461030406918,{"$f":"Burmester($B$3:$C$3,$B$4:$C$4,$B$5:$C$5,$E$3,$E$4,$E$5,B689)","v":4.9142295974783181},6.0599975859328188,{"$f":"ThreePosition_Basic2($E$3,$E$5,$B$3:$C$3,$B$5:$C$5,B689,C689)","v":-803.73762505579714},576.45700793686535,169.21095464896041,144.4912881336931,{"$f":"ThreePosition_Basic2($E$3,$E$5,$B$3:$C$3,$B$5:$C$5,B689,D689)","v":86.111984779394717},-158.42580645289087,1059.0605644841523,-590.39152625606312]
[341,5.9515727493006629,{"$f":"Burmester($B$3:$C$3,$B$4:$C$4,$B$5:$C$5,$E$3,$E$4,$E$5,B690)","v":4.9232728570853368},6.0650135363883528,{"$f":"ThreePosition_Basic2($E$3,$E$5,$B$3:$C$3,$B$5:$C$5,B690,C690)","v":-826.81138800906706},591.27203537289677,169.55326665588984,143.69559892959182,{"$f":"ThreePosition_Basic2($E$3,$E$5,$B$3:$C$3,$B$5:$C$5,B690,D690)","v":85.380622806875351},-157.98027658862779,1081.7452774718322,-605.55671303193276]
[341.5,5.9602993955606358,{"$f":"Burmester($B$3:$C$3,$B$4:$C$4,$B$5:$C$5,$E$3,$E$4,$E$5,B691)","v":4.9322776119539293},6.0700617931546272,{"$f":"ThreePosition_Basic2($E$3,$E$5,$B$3:$C$3,$B$5:$C$5,B691,C691)","v":-851.13103561780042},606.92235123227817,169.90350447361948,142.89932450466472,{"$f":"ThreePosition_Basic2($E$3,$E$5,$B$3:$C$3,$B$5:$C$5,B691,D691)","v":84.64365674612695},-157.53582052986263,1105.6781968375469,-621.55884725747615]
[342,5.9690260418206069,{"$f":"Burmester($B$3:$C$3,$B$4:$C$4,$B$5:$C$5,$E$3,$E$4,$E$5,B692)","v":4.9412435692207248},6.0751427869345864,{"$f":"ThreePosition_Basic2($E$3,$E$5,$B$3:$C$3,$B$5:$C$5,B692,C692)","v":-876.80108921060878},623.47767819900116,170.26163799064648,142.10252673149745,{"$f":"ThreePosition_Basic2($E$3,$E$5,$B$3:$C$3,$B$5:$C$5,B692,D692)","v":83.901111203051329},-157.09249216101608,1130.9638384043067,-638.4676436285198]
[342.5,5.977752688080578,{"$f":"Burmester($B$3:$C$3,$B$4:$C$4,$B$5:$C$5,$E$3,$E$4,$E$5,B693)","v":4.9501704374469053},6.0802569465752114,{"$f":"ThreePosition_Basic2($E$3,$E$5,$B$3:$C$3,$B$5:$C$5,B693,C693)","v":-903.93801373328665},641.01570115626976,170.62763513464847,141.30526857764613,{"$f":"ThreePosition_Basic2($E$3,$E$5,$B$3:$C$3,$B$5:$C$5,B693,D693)","v":83.153012849206377},-156.65034666323675,1157.7186617171415,-656.36077924186043]
[343,5.9864793343405509,{"$f":"Burmester($B$3:$C$3,$B$4:$C$4,$B$5:$C$5,$E$3,$E$4,$E$5,B694)","v":4.9590579268770076},6.0854046988183379,{"$f":"ThreePosition_Basic2($E$3,$E$5,$B$3:$C$3,$B$5:$C$5,B694,C694)","v":-932.67197391216791},659.62323793502617,171.00146183544462,140.50761410328414,{"$f":"ThreePosition_Basic2($E$3,$E$5,$B$3:$C$3,$B$5:$C$5,B694,D694)","v":82.39939046015526},-156.20944050943089,1186.0728262077678,-675.32506434117295]
[343.5,5.995205980600522,{"$f":"Burmester($B$3:$C$3,$B$4:$C$4,$B$5:$C$5,$E$3,$E$4,$E$5,B695)","v":4.9679057497035499},6.0905864680456441,{"$f":"ThreePosition_Basic2($E$3,$E$5,$B$3:$C$3,$B$5:$C$5,B695,C695)","v":-963.148909711633},679.39762292449996,171.38308198948516,139.70962845708732,{"$f":"ThreePosition_Basic2($E$3,$E$5,$B$3:$C$3,$B$5:$C$5,B695,D695)","v":81.64027495227846},-155.7698314575704,1216.1722666533967,-695.45782592498301]
[344,6.0039326268604931,{"$f":"Burmester($B$3:$C$3,$B$4:$C$4,$B$5:$C$5,$E$3,$E$4,$E$5,B696)","v":4.9767136203372253},6.0958026760180601,{"$f":"ThreePosition_Basic2($E$3,$E$5,$B$3:$C$3,$B$5:$C$5,B696,C696)","v":-995.53300093163068},700.44835010874192,171.77245742599791,138.91137787032289,{"$f":"ThreePosition_Basic2($E$3,$E$5,$B$3:$C$3,$B$5:$C$5,B696,D696)","v":80.875699417892818},-155.33157854222142,1248.1811577755213,-716.86855078064048]
[344.5,6.0126592731204642,{"$f":"Burmester($B$3:$C$3,$B$4:$C$4,$B$5:$C$5,$E$3,$E$4,$E$5,B697)","v":4.9854812556823438},6.1010537416098991,{"$f":"ThreePosition_Basic2($E$3,$E$5,$B$3:$C$3,$B$5:$C$5,B697,C697)","v":-1030.0096088156636},722.89903410946113,172.16954787491181,138.11292964907739,{"$f":"ThreePosition_Basic2($E$3,$E$5,$B$3:$C$3,$B$5:$C$5,B697,D697)","v":80.105699158590426},-154.89474206424902,1282.2848558491658,-739.68084652463278]
[345,6.0213859193804371,{"$f":"Burmester($B$3:$C$3,$B$4:$C$4,$B$5:$C$5,$E$3,$E$4,$E$5,B698)","v":4.9942083754172417},6.1063400805380201,{"$f":"ThreePosition_Basic2($E$3,$E$5,$B$3:$C$3,$B$5:$C$5,B698,C698)","v":-1066.7888059720697},746.88976343708737,172.57431093670266,137.31435216457226,{"$f":"ThreePosition_Basic2($E$3,$E$5,$B$3:$C$3,$B$5:$C$5,B698,D698)","v":79.330311716638136},-154.45938357864401,1318.6934286254104,-764.03479485115918]
[345.5,6.0301125656404082,{"$f":"Burmester($B$3:$C$3,$B$4:$C$4,$B$5:$C$5,$E$3,$E$4,$E$5,B699)","v":5.0028947022792778},6.1116621050863564,{"$f":"ThreePosition_Basic2($E$3,$E$5,$B$3:$C$3,$B$5:$C$5,B699,C699)","v":-1106.1096366155009},772.57994062138982,172.98670205427493,136.51571484153931,{"$f":"ThreePosition_Basic2($E$3,$E$5,$B$3:$C$3,$B$5:$C$5,B699,D699)","v":78.549576904313497},-154.02556588042461,1357.6459155740893,-790.08979166027507]
[346,6.0388392119003802,{"$f":"Burmester($B$3:$C$3,$B$4:$C$4,$B$5:$C$5,$E$3,$E$4,$E$5,B700)","v":5.0115399623540906},6.1170202238262155,{"$f":"ThreePosition_Basic2($E$3,$E$5,$B$3:$C$3,$B$5:$C$5,B700,C700)","v":-1148.2452897091712},800.15173094205409,173.40667448701674,135.71708814459521,{"$f":"ThreePosition_Basic2($E$3,$E$5,$B$3:$C$3,$B$5:$C$5,B700,D700)","v":77.76353683107213},-153.59335298857818,1399.41550102726,-818.02799578603708]
[346.5,6.0475658581603513,{"$f":"Burmester($B$3:$C$3,$B$4:$C$4,$B$5:$C$5,$E$3,$E$4,$E$5,B701)","v":5.0201438853686682},6.1224148413326986,{"$f":"ThreePosition_Basic2($E$3,$E$5,$B$3:$C$3,$B$5:$C$5,B701,C701)","v":-1193.5094216860882},829.81427754475078,173.83417928714766,134.91854356259307,{"$f":"ThreePosition_Basic2($E$3,$E$5,$B$3:$C$3,$B$5:$C$5,B701,D701)","v":76.972235928392678},-153.16281012799732,1444.3158369016285,-848.05854411015503]
[347,6.0562925044203233,{"$f":"Burmester($B$3:$C$3,$B$4:$C$4,$B$5:$C$5,$E$3,$E$4,$E$5,B702)","v":5.0287062049878628},6.1278463578976963,{"$f":"ThreePosition_Basic2($E$3,$E$5,$B$3:$C$3,$B$5:$C$5,B702,C702)","v":-1242.2639382519908},861.80888927788908,174.2691652785004,134.12015359089492,{"$f":"ThreePosition_Basic2($E$3,$E$5,$B$3:$C$3,$B$5:$C$5,B702,D702)","v":76.175720972177459},-152.73400370937748,1492.7088245026687,-880.42273939637164]
[347.5,6.0650191506802953,{"$f":"Burmester($B$3:$C$3,$B$4:$C$4,$B$5:$C$5,$E$3,$E$4,$E$5,B703)","v":5.0372266591138448},6.1333151692399062,{"$f":"ThreePosition_Basic2($E$3,$E$5,$B$3:$C$3,$B$5:$C$5,B703,C703)","v":-1294.9286438132679},896.41547361231051,174.71157903783524,133.3219917115747,{"$f":"ThreePosition_Basic2($E$3,$E$5,$B$3:$C$3,$B$5:$C$5,B703,D703)","v":75.374041102620211},-152.30700130705353,1545.0142639537232,-915.40048320778931]
[348,6.0737457969402664,{"$f":"Burmester($B$3:$C$3,$B$4:$C$4,$B$5:$C$5,$E$3,$E$4,$E$5,B704)","v":5.0457049901880691},6.1388216662123298,{"$f":"ThreePosition_Basic2($E$3,$E$5,$B$3:$C$3,$B$5:$C$5,B704,C704)","v":-1351.9933032545484},933.96057779374382,175.16136487883455,132.52413237148824,{"$f":"ThreePosition_Basic2($E$3,$E$5,$B$3:$C$3,$B$5:$C$5,B704,D704)","v":74.567247841365571},-151.88187163474038,1601.7219159747485,-953.31831705699597]
[348.5,6.0824724432002393,{"$f":"Burmester($B$3:$C$3,$B$4:$C$4,$B$5:$C$5,$E$3,$E$4,$E$5,B705)","v":5.0541409454952344},6.1443662345077739,{"$f":"ThreePosition_Basic2($E$3,$E$5,$B$3:$C$3,$B$5:$C$5,B705,C705)","v":-1414.0328502600066},974.82752769079002,175.6184648388753,131.72665095820253,{"$f":"ThreePosition_Basic2($E$3,$E$5,$B$3:$C$3,$B$5:$C$5,B705,D705)","v":73.755395105893598},-151.45868451916755,1663.4067102047754,-994.55956125175499]
[349,6.0911990894602104,{"$f":"Burmester($B$3:$C$3,$B$4:$C$4,$B$5:$C$5,$E$3,$E$4,$E$5,B706)","v":5.0625342774686946},6.1499492543628511,{"$f":"ThreePosition_Basic2($E$3,$E$5,$B$3:$C$3,$B$5:$C$5,B706,C706)","v":-1481.7267433520256},1019.469331787615,176.08281866869856,130.92962377379831,{"$f":"ThreePosition_Basic2($E$3,$E$5,$B$3:$C$3,$B$5:$C$5,B706,D706)","v":72.938539220989611},-151.03751087158633,1730.7481012417138,-1039.577218885403]
[349.5,6.0999257357201815,{"$f":"Burmester($B$3:$C$3,$B$4:$C$4,$B$5:$C$5,$E$3,$E$4,$E$5,B707)","v":5.070884743996821},6.1555711002610565,{"$f":"ThreePosition_Basic2($E$3,$E$5,$B$3:$C$3,$B$5:$C$5,B707,C707)","v":-1555.8838522208334},1068.4252720371062,176.55436382508924,130.13312800649123,{"$f":"ThreePosition_Basic2($E$3,$E$5,$B$3:$C$3,$B$5:$C$5,B707,D707)","v":72.116738927195001},-150.61842265714907,1804.5549549731177,-1088.910566687764]
[350,6.1086523819801526,{"$f":"Burmester($B$3:$C$3,$B$4:$C$4,$B$5:$C$5,$E$3,$E$4,$E$5,B708)","v":5.0791921087296954},6.1612321406354678,{"$f":"ThreePosition_Basic2($E$3,$E$5,$B$3:$C$3,$B$5:$C$5,B708,C708)","v":-1637.4748099475298},1122.342471976244,177.03303546666143,129.33724170011624,{"$f":"ThreePosition_Basic2($E$3,$E$5,$B$3:$C$3,$B$5:$C$5,B708,D708)","v":71.29005538615742},-150.20149286215295,1885.7979008003488,-1143.2067231382807]
[350.5,6.1173790282401255,{"$f":"Burmester($B$3:$C$3,$B$4:$C$4,$B$5:$C$5,$E$3,$E$4,$E$5,B709)","v":5.0874561413855872},6.1669327375716563,{"$f":"ThreePosition_Basic2($E$3,$E$5,$B$3:$C$3,$B$5:$C$5,B709,C709)","v":-1727.6745817141577},1182.0042758327832,177.51876645284938,128.54204372144522,{"$f":"ThreePosition_Basic2($E$3,$E$5,$B$3:$C$3,$B$5:$C$5,B709,D709)","v":70.458552182736199},-149.78679545915452,1975.6519003497433,-1203.2490275704924]
[351,6.1261056745000966,{"$f":"Burmester($B$3:$C$3,$B$4:$C$4,$B$5:$C$5,$E$3,$E$4,$E$5,B710)","v":5.095676618056574},6.1726732465114367,{"$f":"ThreePosition_Basic2($E$3,$E$5,$B$3:$C$3,$B$5:$C$5,B710,C710)","v":-1827.9192230800045},1248.3680873428464,178.01148734619778,127.74761372537728,{"$f":"ThreePosition_Basic2($E$3,$E$5,$B$3:$C$3,$B$5:$C$5,B710,D710)","v":69.622295323845421},-149.37440536997033,2075.5530057500478,-1269.9948789874395]
[351.5,6.1348323207600677,{"$f":"Burmester($B$3:$C$3,$B$4:$C$4,$B$5:$C$5,$E$3,$E$4,$E$5,B711)","v":5.1038533215127222},6.1784540159580592,{"$f":"ThreePosition_Basic2($E$3,$E$5,$B$3:$C$3,$B$5:$C$5,B711,C711)","v":-1939.9826705883552},1322.6165634555839,178.51112641803138,126.95403211799135,{"$f":"ThreePosition_Basic2($E$3,$E$5,$B$3:$C$3,$B$5:$C$5,B711,D711)","v":68.781353233869098},-148.96439842657188,2187.2751502402557,-1344.6269297641645]
[352,6.1435589670200397,{"$f":"Burmester($B$3:$C$3,$B$4:$C$4,$B$5:$C$5,$E$3,$E$4,$E$5,B712)","v":5.1119860415041405},6.1842753871834972,{"$f":"ThreePosition_Basic2($E$3,$E$5,$B$3:$C$3,$B$5:$C$5,B712,C712)","v":-2066.0823288491997},1406.2280056887048,179.01760965758149,126.16138001751642,{"$f":"ThreePosition_Basic2($E$3,$E$5,$B$3:$C$3,$B$5:$C$5,B712,D712)","v":67.935796746648563},-148.55685132991414,2313.0357352534297,-1428.6234770011024]
[352.5,{"$f":"A713*PI()/180","v":6.1522856132800117},{"$f":"Burmester($B$3:$C$3,$B$4:$C$4,$B$5:$C$5,$E$3,$E$4,$E$5,B713)","v":5.1200745750602845},6.1901376939384711,{"$f":"ThreePosition_Basic2($E$3,$E$5,$B$3:$C$3,$B$5:$C$5,B713,C713)","v":-2209.0268924552015},1501.0749080397848,179.53086078462684,125.36973921323124,{"$f":"ThreePosition_Basic2($E$3,$E$5,$B$3:$C$3,$B$5:$C$5,B713,D713)","v":67.085699093917967},-148.15184160671569,2455.6434523337462,-1523.8570104332691]
[353,6.1610122595399828,{"$f":"Burmester($B$3:$C$3,$B$4:$C$4,$B$5:$C$5,$E$3,$E$4,$E$5,B714)","v":5.1281187267858419},6.1960412621658891,{"$f":"ThreePosition_Basic2($E$3,$E$5,$B$3:$C$3,$B$5:$C$5,B714,C714)","v":-2372.4275201492064},1609.5647397323066,180.05080126572921,124.57919212234833,{"$f":"ThreePosition_Basic2($E$3,$E$5,$B$3:$C$3,$B$5:$C$5,B714,D714)","v":66.231135890167764},-147.74944756423878,2618.7094573051036,-1632.7349951741971]
[353.5,6.1697389057999548,{"$f":"Burmester($B$3:$C$3,$B$4:$C$4,$B$5:$C$5,$E$3,$E$4,$E$5,B715)","v":5.1361183091525247},6.2019864097183746,{"$f":"ThreePosition_Basic2($E$3,$E$5,$B$3:$C$3,$B$5:$C$5,B715,C715)","v":-2561.0064739960312},1734.845704631653,180.57735033408881,123.78982174490602,{"$f":"ThreePosition_Basic2($E$3,$E$5,$B$3:$C$3,$B$5:$C$5,B715,D715)","v":65.372185113888065},-147.34974824311774,2806.956009444008,-1758.4056311298648]
[354,6.1784655520599268,{"$f":"Burmester($B$3:$C$3,$B$4:$C$4,$B$5:$C$5,$E$3,$E$4,$E$5,B716)","v":5.1440731427860769},6.2079734460805334,{"$f":"ThreePosition_Basic2($E$3,$E$5,$B$3:$C$3,$B$5:$C$5,B716,C716)","v":-2781.0600781461681},1881.1153803895886,181.11042501306383,123.00171161676667,{"$f":"ThreePosition_Basic2($E$3,$E$5,$B$3:$C$3,$B$5:$C$5,B716,D716)","v":64.50892708509393},-146.95282336827864,3026.6794302443259,-1905.0664921411005]
[354.5,6.1871921983198979,{"$f":"Burmester($B$3:$C$3,$B$4:$C$4,$B$5:$C$5,$E$3,$E$4,$E$5,B717)","v":5.1519830567478397},6.2140026720966928,{"$f":"ThreePosition_Basic2($E$3,$E$5,$B$3:$C$3,$B$5:$C$5,B717,C717)","v":-3041.1742005708047},2054.097706236862,181.64994014340255,122.21494576072337,{"$f":"ThreePosition_Basic2($E$3,$E$5,$B$3:$C$3,$B$5:$C$5,B717,D717)","v":63.641444439209693},-146.55875329802754,3286.4655851534171,-2078.4415137741662]
[355,6.1959188445798699,{"$f":"Burmester($B$3:$C$3,$B$4:$C$4,$B$5:$C$5,$E$3,$E$4,$E$5,B718)","v":5.1598478888101669},6.2200743797047586,{"$f":"ThreePosition_Basic2($E$3,$E$5,$B$3:$C$3,$B$5:$C$5,B718,C718)","v":-3353.3690238504946},2261.8061634789633,182.19580841417428,121.42960863585085,{"$f":"ThreePosition_Basic2($E$3,$E$5,$B$3:$C$3,$B$5:$C$5,B718,D718)","v":62.769822097203054},-146.16761897136763,3598.3346543618718,-2286.54417381448]
[355.5,6.204645490839841,{"$f":"Burmester($B$3:$C$3,$B$4:$C$4,$B$5:$C$5,$E$3,$E$4,$E$5,B719)","v":5.1676674857250111},6.2261888516768824,{"$f":"ThreePosition_Basic2($E$3,$E$5,$B$3:$C$3,$B$5:$C$5,B719,C719)","v":-3735.0069965061043},2515.8157430208125,182.74794039741846,120.64578508512386,{"$f":"ThreePosition_Basic2($E$3,$E$5,$B$3:$C$3,$B$5:$C$5,B719,D719)","v":61.894147232006539},-145.77950185361996,3979.6490841355294,-2540.9494597893085]
[356,6.2133721370998138,{"$f":"Burmester($B$3:$C$3,$B$4:$C$4,$B$5:$C$5,$E$3,$E$4,$E$5,B720)","v":5.1754417034850224},6.2323463613676324,{"$f":"ThreePosition_Basic2($E$3,$E$5,$B$3:$C$3,$B$5:$C$5,B720,C720)","v":-4212.131747850849},2833.4888885730061,183.30624458651801,119.86356028142427,{"$f":"ThreePosition_Basic2($E$3,$E$5,$B$3:$C$3,$B$5:$C$5,B720,D720)","v":61.014509231229304},-145.39448388044087,4456.4525016685966,-2859.0198121720227]
[356.5,6.2220987833597849,{"$f":"Burmester($B$3:$C$3,$B$4:$C$4,$B$5:$C$5,$E$3,$E$4,$E$5,B721)","v":5.1831704075764566},6.2385471724703123,{"$f":"ThreePosition_Basic2($E$3,$E$5,$B$3:$C$3,$B$5:$C$5,B721,C721)","v":-4825.6689298864148},3242.1093912217761,183.87062743827391,119.0830196719794,{"$f":"ThreePosition_Basic2($E$3,$E$5,$B$3:$C$3,$B$5:$C$5,B721,D721)","v":60.130999656156057},-145.01264740031576,5069.6705569808446,-3268.0390189501127]
[357,6.2308254296197561,{"$f":"Burmester($B$3:$C$3,$B$4:$C$4,$B$5:$C$5,$E$3,$E$4,$E$5,B722)","v":5.1908534732232585},6.2447915387821276,{"$f":"ThreePosition_Basic2($E$3,$E$5,$B$3:$C$3,$B$5:$C$5,B722,C722)","v":-5643.8279011351769},3787.1501786239651,184.44099341859874,118.30424892144083,{"$f":"ThreePosition_Basic2($E$3,$E$5,$B$3:$C$3,$B$5:$C$5,B722,D722)","v":59.243712197116224},-144.6340751156385,5887.5126067508918,-3813.4800048181628]
[357.5,6.2395520758797289,{"$f":"Burmester($B$3:$C$3,$B$4:$C$4,$B$5:$C$5,$E$3,$E$4,$E$5,B723)","v":5.1984907856216678},6.2510797039788057,{"$f":"ThreePosition_Basic2($E$3,$E$5,$B$3:$C$3,$B$5:$C$5,B723,C723)","v":-6789.3854311208543},4550.4624513020444,185.01724505192396,117.5273338535153,{"$f":"ThreePosition_Basic2($E$3,$E$5,$B$3:$C$3,$B$5:$C$5,B723,D723)","v":58.352742625193194},-144.25885002247668,7032.7554187979713,-4577.1939674710056]
[358,6.2482787221397,{"$f":"Burmester($B$3:$C$3,$B$4:$C$4,$B$5:$C$5,$E$3,$E$4,$E$5,B724)","v":5.2060822401646885},6.2574119013993252,{"$f":"ThreePosition_Basic2($E$3,$E$5,$B$3:$C$3,$B$5:$C$5,B724,C724)","v":-8507.8949616398604},5695.748523467475,185.59928297406077,116.75236039151332,{"$f":"ThreePosition_Basic2($E$3,$E$5,$B$3:$C$3,$B$5:$C$5,B724,D724)","v":57.458188740387008},-143.88705534912799,8750.9524333543086,-5722.8832184250896]
[358.5,6.2570053683996711,{"$f":"Burmester($B$3:$C$3,$B$4:$C$4,$B$5:$C$5,$E$3,$E$4,$E$5,B725)","v":5.2136277426558699},6.2637883538413721,{"$f":"ThreePosition_Basic2($E$3,$E$5,$B$3:$C$3,$B$5:$C$5,B725,C725)","v":-11372.31439068154},7604.9803456111431,186.18700598867144,115.97941449767313,{"$f":"ThreePosition_Basic2($E$3,$E$5,$B$3:$C$3,$B$5:$C$5,B725,D725)","v":56.560150316276214},-143.51877449359355,11615.061546986488,-7632.5197056070638]
[359,6.2657320146596422,{"$f":"Burmester($B$3:$C$3,$B$4:$C$4,$B$5:$C$5,$E$3,$E$4,$E$5,B726)","v":5.2211272095117423},6.2702092733680894,{"$f":"ThreePosition_Basic2($E$3,$E$5,$B$3:$C$3,$B$5:$C$5,B726,C726)","v":-17101.517208268288},11424.073595041878,186.78031112709868,115.20858211156883,{"$f":"ThreePosition_Basic2($E$3,$E$5,$B$3:$C$3,$B$5:$C$5,B726,D726)","v":55.658729041239475},-143.15409096008042,17343.956248436625,-11452.01910389039]
[359.5,6.2744586609196151,{"$f":"Burmester($B$3:$C$3,$B$4:$C$4,$B$5:$C$5,$E$3,$E$4,$E$5,B727)","v":5.2285805679523865},6.2766748611267094,{"$f":"ThreePosition_Basic2($E$3,$E$5,$B$3:$C$3,$B$5:$C$5,B727,C727)","v":-34289.870447705303},22882.606310032254,187.37909371150454,114.43994908770401,{"$f":"ThreePosition_Basic2($E$3,$E$5,$B$3:$C$3,$B$5:$C$5,B727,D727)","v":54.754028456369376},-142.79308829468638,34532.003569873181,-22910.959449239235]
[360,6.2831853071795862,{"$f":"Burmester($B$3:$C$3,$B$4:$C$4,$B$5:$C$5,$E$3,$E$4,$E$5,B728)","v":5.2359877561795862},6.2831853071795862,{"$f":"ThreePosition_Basic2($E$3,$E$5,$B$3:$C$3,$B$5:$C$5,B728,C728)","v":-1.1714716165919685E+18},7.491568637104247E+17,0,256,{"$f":"ThreePosition_Basic2($E$3,$E$5,$B$3:$C$3,$B$5:$C$5,B728,D728)","v":-32.115500845035008},-129.6717325689836,1.1714704739445824E+18,-7.4920022932209126E+17]

{"sheet":"Analysis","index":2,"n_rows":27,"n_cols":21,"rows_kept":27,"cut":false,"hidden":false,"merged":[]}
[null,null,null,null,null,null,null,null,null,null,null,null,{"$f":"PI()/180","v":1.7453292519943295E-2}]
["b2","-Z1",null,"R1",null,"-Z2",null,"R2"]
[{"$f":"A4*0.5","v":273},{"$f":"VLOOKUP(A3,Synthesis!$A$8:$L$728,5)","v":-63.020293968845046},{"$f":"VLOOKUP(A3,Synthesis!$A$8:$L$728,6)","v":185.68766557589029},{"$f":"VLOOKUP($A$3,Synthesis!$A$8:$L$728,7)","v":195.04672482329929},{"$f":"VLOOKUP($A$3,Synthesis!$A$8:$L$728,8)","v":230.30965304779406},{"$f":"VLOOKUP($A$3,Synthesis!$A$8:$L$728,9)","v":136.96544621548631},{"$f":"VLOOKUP($A$3,Synthesis!$A$8:$L$728,10)","v":-219.86374220466462},{"$f":"VLOOKUP($A$3,Synthesis!$A$8:$L$728,11)","v":395.03246500763066},{"$f":"VLOOKUP($A$3,Synthesis!$A$8:$L$728,12)","v":-175.24175473276085}]
[546,1,null,null,null,null,null,null,null,null,null,null,null,null,null,null,null,null,50,1]
[{"$f":"A6*0.5","v":72},{"$f":"VLOOKUP(A5,Synthesis!$A$8:$L$728,5)","v":390.3441402911352},{"$f":"VLOOKUP(A5,Synthesis!$A$8:$L$728,6)","v":-238.04512691387202},{"$f":"VLOOKUP($A$5,Synthesis!$A$8:$L$728,7)","v":283.88685222045916},{"$f":"VLOOKUP($A$5,Synthesis!$A$8:$L$728,8)","v":49.593065133245318},{"$f":"VLOOKUP($A$5,Synthesis!$A$8:$L$728,9)","v":-59.898497281735963},{"$f":"VLOOKUP($A$5,Synthesis!$A$8:$L$728,10)","v":-152.89403506758694},{"$f":"VLOOKUP($A$5,Synthesis!$A$8:$L$728,11)","v":-166.355785352412},{"$f":"VLOOKUP($A$5,Synthesis!$A$8:$L$728,12)","v":134.7441569795304},null,null,null,null,null,"f-pi()/2",{"$f":"P6*180/PI()-90","v":18.746631391339662},null,null,null,0,{"$f":"+S4","v":50}]
[144,2,null,null,null,null,null,null,null,null,null,null,{"$f":"360+M9","v":554.81168197417105},null,"f",{"$f":"ATAN2(H12,I12)","v":1.8979867682314993},null,null,null,0,0]
[null,null,null,"Selected Values",null,"Z",null,"R",null,null,"g3",{"$f":"ACOS((L13^2+L9^2-L8^2)/(2*L9*L13))","v":0.31797048589299082},{"$f":"L7/D_R","v":18.218366851392453},null,null,null,null,null,null,{"$f":"+S4","v":50},0]
[null,-60.953650056469662,null,null,null,{"$f":"IF($B$4=1,B3,F3)","v":-63.020293968845046},{"$f":"IF($B$4=1,C3,G3)","v":185.68766557589029},195.04672482329929,230.30965304779406,null,"c3",{"$f":"SQRT(H13^2+I13^2)","v":164.20845269308958},null,null,null,{"$f":"SQRT(O12^2+O12^2)","v":118.13869800767063}]
[null,null,null,null,null,{"$f":"IF($B$6=1,B5,F5)","v":-59.898497281735963},{"$f":"IF($B$6=1,C5,G5)","v":-152.89403506758694},-166.355785352412,134.7441569795304,null,"b3",{"$f":"SQRT(H12^2+I12^2)","v":196.09045514492365},{"$f":"360+M10","v":194.81168197417108},null,null,null,null,null,null,2]
[null,null,null,null,null,null,null,"X","Y",null,"alpha",{"$f":"ATAN2(H14-H11,I14-I11)","v":-2.8830800353822141},{"$f":"M11/D_R","v":-165.18831802582892},null,"X","Y",null,null,null,{"$f":"+T11-S4*SIN([1]Synthesis!E8)","v":75},{"$f":"+U11+S4*COS([1]Synthesis!E8)","v":243.30127018922195}]
[null,null,null,null,null,null,"A0",{"$f":"H8","v":195.04672482329929},{"$f":"I8","v":230.30965304779406},null,"a1",{"$f":"SQRT((H11-H14)^2+(I11-I14)^2)","v":373.8242078839711},{"$f":"ATAN2((H14-H11),(I14-I11))","v":-2.8830800353822141},"A0",{"$f":"H11","v":195.04672482329929},{"$f":"I11","v":230.30965304779406},null,null,null,{"$f":"+[1]Synthesis!B8","v":100},{"$f":"+[1]Synthesis!C8","v":200}]
[null,null,null,null,null,null,"A",{"$f":"F8","v":-63.020293968845046},{"$f":"G8","v":185.68766557589029},null,"a2",{"$f":"SQRT((H12-H11)^2+(I12-I11)^2)","v":261.89636873047266},null,"A",{"$f":"O11+L12*COS(B17+L10)","v":83.536674481773574},{"$f":"P11+L12*SIN(B17+L10)","v":467.28057241774138},null,null,null,{"$f":"+T11+S4*COS([1]Synthesis!E8)","v":143.30127018922195},{"$f":"+U11+S4*SIN([1]Synthesis!E8)","v":225}]
[null,null,null,null,null,null,"B",{"$f":"F9","v":-59.898497281735963},{"$f":"G9","v":-152.89403506758694},null,"a3",{"$f":"SQRT((H12-H13)^2+(I12-I13)^2)","v":338.59609215876202},null,"B",{"$f":"O14+L14*COS(I17)","v":140.34813889455853},{"$f":"P14+L14*SIN(I17)","v":133.48457014021298},{"$f":"O13","v":140.34813889455853},{"$f":"P13","v":133.48457014021298}]
[null,null,null,null,null,null,"B0",{"$f":"H9","v":-166.355785352412},{"$f":"I9","v":134.7441569795304},null,"a4",{"$f":"SQRT((H13-H14)^2+(I13-I14)^2)","v":306.70651070281707},{"$f":"ATAN2((H13-H14),(I13-I14))","v":-1.2163211342655262},"B0",{"$f":"H14","v":-166.355785352412},{"$f":"I14","v":134.7441569795304},{"$f":"O15","v":175.22502174205962},{"$f":"P15","v":293.94646274621562},null,3]
[null,null,null,null,null,null,null,null,null,"q13",null,null,{"$f":"M14/D_R","v":-69.690067525979785},"P",{"$f":"O12+L9*COS(J16+L7)","v":175.22502174205962},{"$f":"P12+L9*SIN(J16+L7)","v":293.94646274621562},{"$f":"O12","v":83.536674481773574},{"$f":"P12","v":467.28057241774138},null,{"$f":"+T16-S4*SIN([1]Synthesis!E7)","v":200},{"$f":"+U16+S4*COS([1]Synthesis!E7)","v":350}]
["q12(degrees)","radians","Xa","Ya","s","f","m","y","q14",{"$f":"I17-G17","v":-7.6853988919853728},null,null,null,"C",{"$f":"O15+S4*COS(J21*PI()/180-P5*PI()/180-PI())","v":167.2905667567793},{"$f":"P15+S4*SIN(J21*PI()/180-P5*PI()/180-PI())","v":343.31289287931884},null,null,null,{"$f":"+[1]Synthesis!B7","v":200},{"$f":"+[1]Synthesis!C7","v":300}]
[{"$f":"MOD(A18*0.01,360)","v":115.2},{"$f":"A17*PI()/180-$L$10","v":4.8936993336796819},{"$f":"-L11+L12*COS(B17)","v":-326.59942075786495},{"$f":"L12*SIN(B17)","v":-257.60343055771142},{"$f":"SQRT(C17^2+D17^2)","v":415.9647930708494},{"$f":"ATAN2(C17,D17)","v":-2.4737527265147703},{"$f":"ACOS((L13^2+L14^2-E17^2)/(2*L13*L14))","v":1.3981067584552749},{"$f":"ACOS((L14^2+E17^2-L13^2)/(2*L14*E17))","v":0.93045937163311299},{"$f":"F17-H17+L10","v":-6.287292133530098},{"$f":"J16*180/PI()","v":-440.34092038528109},null,null,null,"E",{"$f":"O18+50*COS(J21*PI()/180-P5*PI()/180-PI())","v":191.97378182333091},{"$f":"P18+50*SIN(J21*PI()/180-P5*PI()/180-PI())","v":347.28012037195901},null,null,null,{"$f":"+T16+S4*COS([1]Synthesis!E7)","v":250},{"$f":"+U16+S4*SIN([1]Synthesis!E7)","v":300}]
[11520,null,null,null,null,null,null,null,null,{"$f":"J17+360","v":-80.340920385281095},null,null,null,"D",{"$f":"O15+25*COS(J21*PI()/180-P6-PI())","v":199.90823680861124},{"$f":"P15+25*SIN(J21*PI()/180-P6-PI())","v":297.91369023885579}]
[null,null,null,null,null,null,null,null,null,{"$f":"J18+360","v":279.65907961471891},null,null,null,"P",{"$f":"O15","v":175.22502174205962},{"$f":"P15","v":293.94646274621562},null,null,null,4]
[null,null,null,null,null,null,null,null,null,null,null,null,null,null,{"$f":"J21*PI()/180-P6-PI()","v":0.15936278644549784},null,null,null,null,{"$f":"+T21-S4*SIN([1]Synthesis!E9)","v":343.30127018922195},{"$f":"+U21+S4*COS([1]Synthesis!E9)","v":225}]
[null,null,null,null,null,null,null,null,null,{"$f":"J19+L7*180/PI()","v":297.87744646611134},null,null,null,"alpha234",{"$f":"O20*180/PI()","v":9.1308150747716681},null,null,null,null,{"$f":"+[1]Synthesis!B9","v":300},{"$f":"+[1]Synthesis!C9","v":200}]
[null,null,null,null,null,null,null,null,null,null,null,null,null,null,null,null,null,null,null,{"$f":"+T21+S4*COS([1]Synthesis!E9)","v":325},{"$f":"+U21+S4*SIN([1]Synthesis!E9)","v":156.69872981077808}]
[]
[null,null,null,null,null,null,null,null,null,null,null,null,"obstacle",120,0]
[null,null,null,null,null,null,null,null,null,null,null,null,null,120,200]
[null,null,null,null,null,null,null,null,null,null,null,null,null,270,200]
[null,null,null,null,null,null,null,null,null,null,null,null,null,270,0]