{"text_format":"1","workbook":"xlsx","n_sheets":3,"sheets":["1234","1235"," 12345 Circle"],"not_rendered":{"charts":3,"images":1,"macros":1,"external_links":0,"defined_names":28,"comments":1,"pivot_tables":0},"unopened":[],"bounds":{"document_bytes":16777216,"sheet_cells":100000,"rows_first":2000,"rows_last":500,"rows_between":2000,"halvings":0,"cell_chars":16384,"cell_head_chars":4096},"cells_cut":0,"cells_raw":0,"read":"whole","date_system":"1900"}

{"sheet":"1234","index":0,"n_rows":772,"n_cols":22,"rows_kept":772,"cut":false,"hidden":false,"merged":[]}
[]
[null,null,null,null,null,null,null,null,null,null,"b2","(radians)","b41","b42","-Z1x","-Z1y","R1x","R1y","-Z2x","-Z2y","R2x","R12y"]
["d2",1.5,0.9,"a2",{"$f":"F3*PI()/180","v":0.17453292519943295},10,null,null,null,null,0,{"$f":"K3*PI()/180","v":0},{"$f":"Burmester(B3:C3,B4:C4,B5:C5,E3,E4,E5,L3)","v":1.3683482609981219},5.896775921361303E-16,{"$f":"ThreePosition_Basic2(E3,E5,B3:C3,B5:C5,L3,M3)","v":-4.3935235362426051},9.0225392270710092,-2.9429146278537717,4.1470440994798805,{"$f":"ThreePosition_Basic2(E3,E5,B3:C3,B5:C5,L3,N3)","v":-4.2749066317972284},8.2295004644302843,8475236477337089,-5450197813944790]
["d3",1.6,1.5,"a3",{"$f":"F4*PI()/180","v":0.3490658503988659},20]
["d4",2,3,"a4",{"$f":"F5*PI()/180","v":1.0471975511965976},60]
[]
["b2",null,"b41","b42","-Z1",null,"R1",null,"-Z2",null,"R2"]
[0,{"$f":"A8*PI()/180","v":0},{"$f":"Burmester($B$3:$C$3,$B$4:$C$4,$B$5:$C$5,$E$3,$E$4,$E$5,B8)","v":1.3683482609981219},5.896775921361303E-16,{"$f":"ThreePosition_Basic2($E$3,$E$5,$B$3:$C$3,$B$5:$C$5,B8,C8)","v":-4.3935235362426051},9.0225392270710092,-2.9429146278537717,4.1470440994798805,{"$f":"ThreePosition_Basic2($E$3,$E$5,$B$3:$C$3,$B$5:$C$5,B8,D8)","v":-4.2749066317972284},8.2295004644302843,8475236477337089,-5450197813944790]
[0.5,{"$f":"A9*PI()/180","v":8.7266462599716477E-3},{"$f":"Burmester($B$3:$C$3,$B$4:$C$4,$B$5:$C$5,$E$3,$E$4,$E$5,B9)","v":1.3607715038230399},2.5116497645406487E-2,{"$f":"ThreePosition_Basic2($E$3,$E$5,$B$3:$C$3,$B$5:$C$5,B9,C9)","v":-4.4464589225011455},9.2833438044313379,-2.9613340715343028,4.1793043909287642,{"$f":"ThreePosition_Basic2($E$3,$E$5,$B$3:$C$3,$B$5:$C$5,B9,D9)","v":-3.4683530765540134},-1.9840550610513106,-40.090531949196119,215.58385410873242]
[1,1.7453292519943295E-2,{"$f":"Burmester($B$3:$C$3,$B$4:$C$4,$B$5:$C$5,$E$3,$E$4,$E$5,B10)","v":1.3528290083134085},5.0636680621846154E-2,{"$f":"ThreePosition_Basic2($E$3,$E$5,$B$3:$C$3,$B$5:$C$5,B10,C10)","v":-4.5034797563877902},9.5691045126779795,-2.9803924825667787,4.2133068653847738,{"$f":"ThreePosition_Basic2($E$3,$E$5,$B$3:$C$3,$B$5:$C$5,B10,D10)","v":-3.456328507790277},-2.0949138679069694,-21.499349389419045,107.86329838564689]
[1.5,2.6179938779914941E-2,{"$f":"Burmester($B$3:$C$3,$B$4:$C$4,$B$5:$C$5,$E$3,$E$4,$E$5,B11)","v":1.3444913821274664},7.6590177142768612E-2,{"$f":"ThreePosition_Basic2($E$3,$E$5,$B$3:$C$3,$B$5:$C$5,B11,C11)","v":-4.5652155115231539},9.8838801965030498,-3.0001420927600382,4.2492197832751319,{"$f":"ThreePosition_Basic2($E$3,$E$5,$B$3:$C$3,$B$5:$C$5,B11,D11)","v":-3.4430100675392548},-2.2123357294549431,-15.29828418514775,71.919209730302541]
[2,3.4906585039886591E-2,{"$f":"Burmester($B$3:$C$3,$B$4:$C$4,$B$5:$C$5,$E$3,$E$4,$E$5,B12)","v":1.3357251571109652},0.10301069015947452,{"$f":"ThreePosition_Basic2($E$3,$E$5,$B$3:$C$3,$B$5:$C$5,B12,C12)","v":-4.6324424718900117},10.232695012856388,-3.0206424106103524,4.2872368811524675,{"$f":"ThreePosition_Basic2($E$3,$E$5,$B$3:$C$3,$B$5:$C$5,B12,D12)","v":-3.4282542021606601},-2.337089151986866,-12.194191864719405,53.917422079960424]
[2.5,4.3633231299858237E-2,{"$f":"Burmester($B$3:$C$3,$B$4:$C$4,$B$5:$C$5,$E$3,$E$4,$E$5,B13)","v":1.326491962374692},0.12993682420629568,{"$f":"ThreePosition_Basic2($E$3,$E$5,$B$3:$C$3,$B$5:$C$5,B13,C13)","v":-4.7061306594692756},10.621849695189132,-3.0419617208927963,4.3275828485112529,{"$f":"ThreePosition_Basic2($E$3,$E$5,$B$3:$C$3,$B$5:$C$5,B13,D13)","v":-3.4118926064118362},-2.4700831702634138,-10.328386069364122,43.090912653373714]
[3,5.2359877559829883E-2,{"$f":"Burmester($B$3:$C$3,$B$4:$C$4,$B$5:$C$5,$E$3,$E$4,$E$5,B14)","v":1.3167474687739376},0.15741314084189187,{"$f":"ThreePosition_Basic2($E$3,$E$5,$B$3:$C$3,$B$5:$C$5,B14,C14)","v":-4.7875103186058467},11.059363141084296,-3.064179005049894,4.3705203799849413,{"$f":"ThreePosition_Basic2($E$3,$E$5,$B$3:$C$3,$B$5:$C$5,B14,D14)","v":-3.393726116641143},-2.6124031703981929,-9.0812474924899416,35.850482962374137]
[3.5,6.1086523819801536E-2,{"$f":"Burmester($B$3:$C$3,$B$4:$C$4,$B$5:$C$5,$E$3,$E$4,$E$5,B15)","v":1.3064400225297816},0.18549152494674995,{"$f":"ThreePosition_Basic2($E$3,$E$5,$B$3:$C$3,$B$5:$C$5,B15,C15)","v":-4.8781682814293994},11.555613314823804,-3.087386435764194,4.416359386576155,{"$f":"ThreePosition_Basic2($E$3,$E$5,$B$3:$C$3,$B$5:$C$5,B15,D15)","v":-3.3735165909969917},-2.7653587508411253,-8.1871657906778381,30.657705037040408]
[4,6.9813170079773182E-2,{"$f":"Burmester($B$3:$C$3,$B$4:$C$4,$B$5:$C$5,$E$3,$E$4,$E$5,B16)","v":1.2955088482943609},0.21423298157471307,{"$f":"ThreePosition_Basic2($E$3,$E$5,$B$3:$C$3,$B$5:$C$5,B16,C16)","v":-4.9801913227012813},12.124291870934087,-3.1116926696662111,4.4654692211994664,{"$f":"ThreePosition_Basic2($E$3,$E$5,$B$3:$C$3,$B$5:$C$5,B16,D16)","v":-3.3509759247349562},-2.9305487826764889,-7.5132723896599103,26.743148058129279]
[4.5,7.8539816339744828E-2,{"$f":"Burmester($B$3:$C$3,$B$4:$C$4,$B$5:$C$5,$E$3,$E$4,$E$5,B17)","v":1.2838816433753226},0.24371004164331614,{"$f":"ThreePosition_Basic2($E$3,$E$5,$B$3:$C$3,$B$5:$C$5,B17,C17)","v":-5.0963858874130219},12.78386912063762,-3.137227272919155,4.518295201630707,{"$f":"ThreePosition_Basic2($E$3,$E$5,$B$3:$C$3,$B$5:$C$5,B17,D17)","v":-3.3257508966348355},-3.1099515955538219,-6.9856814224382786,23.679108119123448]
[5,8.7266462599716474E-2,{"$f":"Burmester($B$3:$C$3,$B$4:$C$4,$B$5:$C$5,$E$3,$E$4,$E$5,B18)","v":1.2714712904454795},0.27401004913688665,{"$f":"ThreePosition_Basic2($E$3,$E$5,$B$3:$C$3,$B$5:$C$5,B18,C18)","v":-5.2306267864441507},13.559921511392993,-3.164146793516343,4.5753814077418369,{"$f":"ThreePosition_Basic2($E$3,$E$5,$B$3:$C$3,$B$5:$C$5,B18,D18)","v":-3.2974017940311513},-3.306052807345552,-6.559981800089119,21.208683942108593]
[5.5,9.599310885968812E-2,{"$f":"Burmester($B$3:$C$3,$B$4:$C$4,$B$5:$C$5,$E$3,$E$4,$E$5,B19)","v":1.2581712588556802},0.30523975970438094,{"$f":"ThreePosition_Basic2($E$3,$E$5,$B$3:$C$3,$B$5:$C$5,B19,C19)","v":-5.3884336656258025},14.488983597381928,-3.1926432934616016,4.63740289319413,{"$f":"ThreePosition_Basic2($E$3,$E$5,$B$3:$C$3,$B$5:$C$5,B19,D19)","v":-3.2653714808694727},-3.5220312103265661,-6.2078187423588478,19.16806217124055]
[6,0.10471975511965977,{"$f":"Burmester($B$3:$C$3,$B$4:$C$4,$B$5:$C$5,$E$3,$E$4,$E$5,B20)","v":1.2438489925928236},0.33753195261001567,{"$f":"ThreePosition_Basic2($E$3,$E$5,$B$3:$C$3,$B$5:$C$5,B20,C20)","v":-5.5779718125894533},15.625242172202906,-3.2229566739281141,4.7052124788952856,{"$f":"ThreePosition_Basic2($E$3,$E$5,$B$3:$C$3,$B$5:$C$5,B20,D20)","v":-3.228939283938113},-3.7620372550244308,-5.9101764817130684,17.447629331150438]
[6.5,0.11344640137963143,{"$f":"Burmester($B$3:$C$3,$B$4:$C$4,$B$5:$C$5,$E$3,$E$4,$E$5,B21)","v":1.2283360904583216},0.37105525046136817,{"$f":"ThreePosition_Basic2($E$3,$E$5,$B$3:$C$3,$B$5:$C$5,B21,C21)","v":-5.8118963621956548},17.052883164052588,-3.2553930711175214,4.7799109905797934,{"$f":"ThreePosition_Basic2($E$3,$E$5,$B$3:$C$3,$B$5:$C$5,B21,D21)","v":-3.187149792610946},-4.0316251674864896,-5.6537494964832806,15.970987070480941]
[7,0.12217304763960307,{"$f":"Burmester($B$3:$C$3,$B$4:$C$4,$B$5:$C$5,$E$3,$E$4,$E$5,B22)","v":1.2114131439862941},0.40602928119564929,{"$f":"ThreePosition_Basic2($E$3,$E$5,$B$3:$C$3,$B$5:$C$5,B22,C22)","v":-6.1110129592221281},18.910620494553459,-3.2903534107600079,4.8629569073104228,{"$f":"ThreePosition_Basic2($E$3,$E$5,$B$3:$C$3,$B$5:$C$5,B22,D22)","v":-3.1386982110870671},-4.3384522505646759,-5.4288508851737642,14.682891359148055]
[7.5,0.1308996938995747,{"$f":"Burmester($B$3:$C$3,$B$4:$C$4,$B$5:$C$5,$E$3,$E$4,$E$5,B23)","v":1.1927851852252345},0.44274923020039814,{"$f":"ThreePosition_Basic2($E$3,$E$5,$B$3:$C$3,$B$5:$C$5,B23,C23)","v":-6.5122733149212282},21.445312423807891,-3.3283799087480141,4.9563459558952232,{"$f":"ThreePosition_Basic2($E$3,$E$5,$B$3:$C$3,$B$5:$C$5,B23,D23)","v":-3.0817360404364136},-4.6934702003351418,-5.2281280211084029,13.541902200843882]
[8,0.13962634015954636,{"$f":"Burmester($B$3:$C$3,$B$4:$C$4,$B$5:$C$5,$E$3,$E$4,$E$5,B24)","v":1.1720394807362646},0.4816280462154684,{"$f":"ThreePosition_Basic2($E$3,$E$5,$B$3:$C$3,$B$5:$C$5,B24,C24)","v":-7.08862948654797},25.145188349514079,-3.3702364913363434,5.0629235313760645,{"$f":"ThreePosition_Basic2($E$3,$E$5,$B$3:$C$3,$B$5:$C$5,B24,D24)","v":-3.0135199031452062},-5.113089331126937,-5.0457084773114156,12.515589528889027]
[8.5,0.14835298641951802,{"$f":"Burmester($B$3:$C$3,$B$4:$C$4,$B$5:$C$5,$E$3,$E$4,$E$5,B25)","v":1.1485671343272166},0.52327483849705414,{"$f":"ThreePosition_Basic2($E$3,$E$5,$B$3:$C$3,$B$5:$C$5,B25,C25)","v":-8.0082327305246963},31.137308828537108,-3.4170591469080076,5.1869722795456461,{"$f":"ThreePosition_Basic2($E$3,$E$5,$B$3:$C$3,$B$5:$C$5,B25,D25)","v":-2.9297220127465131},-5.6234508715630076,-4.8765490725589498,11.577045710322245]
[9,0.15707963267948966,{"$f":"Burmester($B$3:$C$3,$B$4:$C$4,$B$5:$C$5,$E$3,$E$4,$E$5,B26)","v":1.1214013449706552},0.56865661879563933,{"$f":"ThreePosition_Basic2($E$3,$E$5,$B$3:$C$3,$B$5:$C$5,B26,C26)","v":-9.769985270324959},42.769752478713684,-3.4706683008887165,5.335440344201686,{"$f":"ThreePosition_Basic2($E$3,$E$5,$B$3:$C$3,$B$5:$C$5,B26,D26)","v":-2.8229157137546821},-6.2698629594704993,-4.7157897597579908,10.70172402265924]
[9.5,0.16580627893946129,{"$f":"Burmester($B$3:$C$3,$B$4:$C$4,$B$5:$C$5,$E$3,$E$4,$E$5,B27)","v":1.0888289517503518},0.61948675630334815,{"$f":"ThreePosition_Basic2($E$3,$E$5,$B$3:$C$3,$B$5:$C$5,B27,C27)","v":-14.845712036213582},76.645381548161737,-3.534324826155526,5.5209328255568977,{"$f":"ThreePosition_Basic2($E$3,$E$5,$B$3:$C$3,$B$5:$C$5,B27,D27)","v":-2.6786649315504243},-7.1413098536835014,-4.5577692674663783,9.8631244273544887]
[10,0.17453292519943295,{"$f":"Burmester($B$3:$C$3,$B$4:$C$4,$B$5:$C$5,$E$3,$E$4,$E$5,B28)","v":1.0471975511965979},0.67941786021030282,{"$f":"ThreePosition_Basic2($E$3,$E$5,$B$3:$C$3,$B$5:$C$5,B28,C28)","v":{"$error":"#VALUE!"}},{"$error":"#VALUE!"},{"$error":"#VALUE!"},{"$error":"#VALUE!"},{"$f":"ThreePosition_Basic2($E$3,$E$5,$B$3:$C$3,$B$5:$C$5,B28,D28)","v":-2.4624105599096975},-8.4531736785675999,-4.3935235362426042,9.0225392270710127]
[10.5,0.18325957145940461,{"$f":"Burmester($B$3:$C$3,$B$4:$C$4,$B$5:$C$5,$E$3,$E$4,$E$5,B29)","v":0.98480799544219244},0.76014928143815197,{"$f":"ThreePosition_Basic2($E$3,$E$5,$B$3:$C$3,$B$5:$C$5,B29,C29)","v":4.144961301978995},-51.625667269817647,-3.7358517591881437,6.1769849908852308,{"$f":"ThreePosition_Basic2($E$3,$E$5,$B$3:$C$3,$B$5:$C$5,B29,D29)","v":-2.0435982423403778},-11.029624274767491,-4.1985540920454234,8.0797449352152899]
[11,0.19198621771937624,{"$f":"Burmester($B$3:$C$3,$B$4:$C$4,$B$5:$C$5,$E$3,$E$4,$E$5,B30)","v":{"$error":"#VALUE!"}},{"$error":"#VALUE!"},{"$f":"ThreePosition_Basic2($E$3,$E$5,$B$3:$C$3,$B$5:$C$5,B30,C30)","v":{"$error":"#VALUE!"}},{"$error":"#VALUE!"},{"$error":"#VALUE!"},{"$error":"#VALUE!"},{"$f":"ThreePosition_Basic2($E$3,$E$5,$B$3:$C$3,$B$5:$C$5,B30,D30)","v":{"$error":"#VALUE!"}},{"$error":"#VALUE!"},{"$error":"#VALUE!"},{"$error":"#VALUE!"}]
[11.5,0.20071286397934787,{"$f":"Burmester($B$3:$C$3,$B$4:$C$4,$B$5:$C$5,$E$3,$E$4,$E$5,B31)","v":{"$error":"#VALUE!"}},{"$error":"#VALUE!"},{"$f":"ThreePosition_Basic2($E$3,$E$5,$B$3:$C$3,$B$5:$C$5,B31,C31)","v":{"$error":"#VALUE!"}},{"$error":"#VALUE!"},{"$error":"#VALUE!"},{"$error":"#VALUE!"},{"$f":"ThreePosition_Basic2($E$3,$E$5,$B$3:$C$3,$B$5:$C$5,B31,D31)","v":{"$error":"#VALUE!"}},{"$error":"#VALUE!"},{"$error":"#VALUE!"},{"$error":"#VALUE!"}]
[12,0.20943951023931953,{"$f":"Burmester($B$3:$C$3,$B$4:$C$4,$B$5:$C$5,$E$3,$E$4,$E$5,B32)","v":{"$error":"#VALUE!"}},{"$error":"#VALUE!"},{"$f":"ThreePosition_Basic2($E$3,$E$5,$B$3:$C$3,$B$5:$C$5,B32,C32)","v":{"$error":"#VALUE!"}},{"$error":"#VALUE!"},{"$error":"#VALUE!"},{"$error":"#VALUE!"},{"$f":"ThreePosition_Basic2($E$3,$E$5,$B$3:$C$3,$B$5:$C$5,B32,D32)","v":{"$error":"#VALUE!"}},{"$error":"#VALUE!"},{"$error":"#VALUE!"},{"$error":"#VALUE!"}]
[12.5,0.21816615649929119,{"$f":"Burmester($B$3:$C$3,$B$4:$C$4,$B$5:$C$5,$E$3,$E$4,$E$5,B33)","v":{"$error":"#VALUE!"}},{"$error":"#VALUE!"},{"$f":"ThreePosition_Basic2($E$3,$E$5,$B$3:$C$3,$B$5:$C$5,B33,C33)","v":{"$error":"#VALUE!"}},{"$error":"#VALUE!"},{"$error":"#VALUE!"},{"$error":"#VALUE!"},{"$f":"ThreePosition_Basic2($E$3,$E$5,$B$3:$C$3,$B$5:$C$5,B33,D33)","v":{"$error":"#VALUE!"}},{"$error":"#VALUE!"},{"$error":"#VALUE!"},{"$error":"#VALUE!"}]
[13,0.22689280275926285,{"$f":"Burmester($B$3:$C$3,$B$4:$C$4,$B$5:$C$5,$E$3,$E$4,$E$5,B34)","v":{"$error":"#VALUE!"}},{"$error":"#VALUE!"},{"$f":"ThreePosition_Basic2($E$3,$E$5,$B$3:$C$3,$B$5:$C$5,B34,C34)","v":{"$error":"#VALUE!"}},{"$error":"#VALUE!"},{"$error":"#VALUE!"},{"$error":"#VALUE!"},{"$f":"ThreePosition_Basic2($E$3,$E$5,$B$3:$C$3,$B$5:$C$5,B34,D34)","v":{"$error":"#VALUE!"}},{"$error":"#VALUE!"},{"$error":"#VALUE!"},{"$error":"#VALUE!"}]
[13.5,0.23561944901923448,{"$f":"Burmester($B$3:$C$3,$B$4:$C$4,$B$5:$C$5,$E$3,$E$4,$E$5,B35)","v":{"$error":"#VALUE!"}},{"$error":"#VALUE!"},{"$f":"ThreePosition_Basic2($E$3,$E$5,$B$3:$C$3,$B$5:$C$5,B35,C35)","v":{"$error":"#VALUE!"}},{"$error":"#VALUE!"},{"$error":"#VALUE!"},{"$error":"#VALUE!"},{"$f":"ThreePosition_Basic2($E$3,$E$5,$B$3:$C$3,$B$5:$C$5,B35,D35)","v":{"$error":"#VALUE!"}},{"$error":"#VALUE!"},{"$error":"#VALUE!"},{"$error":"#VALUE!"}]
[14,0.24434609527920614,{"$f":"Burmester($B$3:$C$3,$B$4:$C$4,$B$5:$C$5,$E$3,$E$4,$E$5,B36)","v":{"$error":"#VALUE!"}},{"$error":"#VALUE!"},{"$f":"ThreePosition_Basic2($E$3,$E$5,$B$3:$C$3,$B$5:$C$5,B36,C36)","v":{"$error":"#VALUE!"}},{"$error":"#VALUE!"},{"$error":"#VALUE!"},{"$error":"#VALUE!"},{"$f":"ThreePosition_Basic2($E$3,$E$5,$B$3:$C$3,$B$5:$C$5,B36,D36)","v":{"$error":"#VALUE!"}},{"$error":"#VALUE!"},{"$error":"#VALUE!"},{"$error":"#VALUE!"}]
[14.5,0.2530727415391778,{"$f":"Burmester($B$3:$C$3,$B$4:$C$4,$B$5:$C$5,$E$3,$E$4,$E$5,B37)","v":{"$error":"#VALUE!"}},{"$error":"#VALUE!"},{"$f":"ThreePosition_Basic2($E$3,$E$5,$B$3:$C$3,$B$5:$C$5,B37,C37)","v":{"$error":"#VALUE!"}},{"$error":"#VALUE!"},{"$error":"#VALUE!"},{"$error":"#VALUE!"},{"$f":"ThreePosition_Basic2($E$3,$E$5,$B$3:$C$3,$B$5:$C$5,B37,D37)","v":{"$error":"#VALUE!"}},{"$error":"#VALUE!"},{"$error":"#VALUE!"},{"$error":"#VALUE!"}]
[15,0.26179938779914941,{"$f":"Burmester($B$3:$C$3,$B$4:$C$4,$B$5:$C$5,$E$3,$E$4,$E$5,B38)","v":{"$error":"#VALUE!"}},{"$error":"#VALUE!"},{"$f":"ThreePosition_Basic2($E$3,$E$5,$B$3:$C$3,$B$5:$C$5,B38,C38)","v":{"$error":"#VALUE!"}},{"$error":"#VALUE!"},{"$error":"#VALUE!"},{"$error":"#VALUE!"},{"$f":"ThreePosition_Basic2($E$3,$E$5,$B$3:$C$3,$B$5:$C$5,B38,D38)","v":{"$error":"#VALUE!"}},{"$error":"#VALUE!"},{"$error":"#VALUE!"},{"$error":"#VALUE!"}]
[15.5,0.27052603405912107,{"$f":"Burmester($B$3:$C$3,$B$4:$C$4,$B$5:$C$5,$E$3,$E$4,$E$5,B39)","v":{"$error":"#VALUE!"}},{"$error":"#VALUE!"},{"$f":"ThreePosition_Basic2($E$3,$E$5,$B$3:$C$3,$B$5:$C$5,B39,C39)","v":{"$error":"#VALUE!"}},{"$error":"#VALUE!"},{"$error":"#VALUE!"},{"$error":"#VALUE!"},{"$f":"ThreePosition_Basic2($E$3,$E$5,$B$3:$C$3,$B$5:$C$5,B39,D39)","v":{"$error":"#VALUE!"}},{"$error":"#VALUE!"},{"$error":"#VALUE!"},{"$error":"#VALUE!"}]
[16,0.27925268031909273,{"$f":"Burmester($B$3:$C$3,$B$4:$C$4,$B$5:$C$5,$E$3,$E$4,$E$5,B40)","v":{"$error":"#VALUE!"}},{"$error":"#VALUE!"},{"$f":"ThreePosition_Basic2($E$3,$E$5,$B$3:$C$3,$B$5:$C$5,B40,C40)","v":{"$error":"#VALUE!"}},{"$error":"#VALUE!"},{"$error":"#VALUE!"},{"$error":"#VALUE!"},{"$f":"ThreePosition_Basic2($E$3,$E$5,$B$3:$C$3,$B$5:$C$5,B40,D40)","v":{"$error":"#VALUE!"}},{"$error":"#VALUE!"},{"$error":"#VALUE!"},{"$error":"#VALUE!"}]
[16.5,0.28797932657906439,{"$f":"Burmester($B$3:$C$3,$B$4:$C$4,$B$5:$C$5,$E$3,$E$4,$E$5,B41)","v":{"$error":"#VALUE!"}},{"$error":"#VALUE!"},{"$f":"ThreePosition_Basic2($E$3,$E$5,$B$3:$C$3,$B$5:$C$5,B41,C41)","v":{"$error":"#VALUE!"}},{"$error":"#VALUE!"},{"$error":"#VALUE!"},{"$error":"#VALUE!"},{"$f":"ThreePosition_Basic2($E$3,$E$5,$B$3:$C$3,$B$5:$C$5,B41,D41)","v":{"$error":"#VALUE!"}},{"$error":"#VALUE!"},{"$error":"#VALUE!"},{"$error":"#VALUE!"}]
[17,0.29670597283903605,{"$f":"Burmester($B$3:$C$3,$B$4:$C$4,$B$5:$C$5,$E$3,$E$4,$E$5,B42)","v":{"$error":"#VALUE!"}},{"$error":"#VALUE!"},{"$f":"ThreePosition_Basic2($E$3,$E$5,$B$3:$C$3,$B$5:$C$5,B42,C42)","v":{"$error":"#VALUE!"}},{"$error":"#VALUE!"},{"$error":"#VALUE!"},{"$error":"#VALUE!"},{"$f":"ThreePosition_Basic2($E$3,$E$5,$B$3:$C$3,$B$5:$C$5,B42,D42)","v":{"$error":"#VALUE!"}},{"$error":"#VALUE!"},{"$error":"#VALUE!"},{"$error":"#VALUE!"}]
[17.5,0.30543261909900765,{"$f":"Burmester($B$3:$C$3,$B$4:$C$4,$B$5:$C$5,$E$3,$E$4,$E$5,B43)","v":{"$error":"#VALUE!"}},{"$error":"#VALUE!"},{"$f":"ThreePosition_Basic2($E$3,$E$5,$B$3:$C$3,$B$5:$C$5,B43,C43)","v":{"$error":"#VALUE!"}},{"$error":"#VALUE!"},{"$error":"#VALUE!"},{"$error":"#VALUE!"},{"$f":"ThreePosition_Basic2($E$3,$E$5,$B$3:$C$3,$B$5:$C$5,B43,D43)","v":{"$error":"#VALUE!"}},{"$error":"#VALUE!"},{"$error":"#VALUE!"},{"$error":"#VALUE!"}]
[18,0.31415926535897931,{"$f":"Burmester($B$3:$C$3,$B$4:$C$4,$B$5:$C$5,$E$3,$E$4,$E$5,B44)","v":{"$error":"#VALUE!"}},{"$error":"#VALUE!"},{"$f":"ThreePosition_Basic2($E$3,$E$5,$B$3:$C$3,$B$5:$C$5,B44,C44)","v":{"$error":"#VALUE!"}},{"$error":"#VALUE!"},{"$error":"#VALUE!"},{"$error":"#VALUE!"},{"$f":"ThreePosition_Basic2($E$3,$E$5,$B$3:$C$3,$B$5:$C$5,B44,D44)","v":{"$error":"#VALUE!"}},{"$error":"#VALUE!"},{"$error":"#VALUE!"},{"$error":"#VALUE!"}]
[18.5,0.32288591161895097,{"$f":"Burmester($B$3:$C$3,$B$4:$C$4,$B$5:$C$5,$E$3,$E$4,$E$5,B45)","v":{"$error":"#VALUE!"}},{"$error":"#VALUE!"},{"$f":"ThreePosition_Basic2($E$3,$E$5,$B$3:$C$3,$B$5:$C$5,B45,C45)","v":{"$error":"#VALUE!"}},{"$error":"#VALUE!"},{"$error":"#VALUE!"},{"$error":"#VALUE!"},{"$f":"ThreePosition_Basic2($E$3,$E$5,$B$3:$C$3,$B$5:$C$5,B45,D45)","v":{"$error":"#VALUE!"}},{"$error":"#VALUE!"},{"$error":"#VALUE!"},{"$error":"#VALUE!"}]
[19,0.33161255787892258,{"$f":"Burmester($B$3:$C$3,$B$4:$C$4,$B$5:$C$5,$E$3,$E$4,$E$5,B46)","v":{"$error":"#VALUE!"}},{"$error":"#VALUE!"},{"$f":"ThreePosition_Basic2($E$3,$E$5,$B$3:$C$3,$B$5:$C$5,B46,C46)","v":{"$error":"#VALUE!"}},{"$error":"#VALUE!"},{"$error":"#VALUE!"},{"$error":"#VALUE!"},{"$f":"ThreePosition_Basic2($E$3,$E$5,$B$3:$C$3,$B$5:$C$5,B46,D46)","v":{"$error":"#VALUE!"}},{"$error":"#VALUE!"},{"$error":"#VALUE!"},{"$error":"#VALUE!"}]
[19.5,0.34033920413889424,{"$f":"Burmester($B$3:$C$3,$B$4:$C$4,$B$5:$C$5,$E$3,$E$4,$E$5,B47)","v":{"$error":"#VALUE!"}},{"$error":"#VALUE!"},{"$f":"ThreePosition_Basic2($E$3,$E$5,$B$3:$C$3,$B$5:$C$5,B47,C47)","v":{"$error":"#VALUE!"}},{"$error":"#VALUE!"},{"$error":"#VALUE!"},{"$error":"#VALUE!"},{"$f":"ThreePosition_Basic2($E$3,$E$5,$B$3:$C$3,$B$5:$C$5,B47,D47)","v":{"$error":"#VALUE!"}},{"$error":"#VALUE!"},{"$error":"#VALUE!"},{"$error":"#VALUE!"}]
[20,0.3490658503988659,{"$f":"Burmester($B$3:$C$3,$B$4:$C$4,$B$5:$C$5,$E$3,$E$4,$E$5,B48)","v":{"$error":"#VALUE!"}},{"$error":"#VALUE!"},{"$f":"ThreePosition_Basic2($E$3,$E$5,$B$3:$C$3,$B$5:$C$5,B48,C48)","v":{"$error":"#VALUE!"}},{"$error":"#VALUE!"},{"$error":"#VALUE!"},{"$error":"#VALUE!"},{"$f":"ThreePosition_Basic2($E$3,$E$5,$B$3:$C$3,$B$5:$C$5,B48,D48)","v":{"$error":"#VALUE!"}},{"$error":"#VALUE!"},{"$error":"#VALUE!"},{"$error":"#VALUE!"}]
[20.5,0.3577924966588375,{"$f":"Burmester($B$3:$C$3,$B$4:$C$4,$B$5:$C$5,$E$3,$E$4,$E$5,B49)","v":{"$error":"#VALUE!"}},{"$error":"#VALUE!"},{"$f":"ThreePosition_Basic2($E$3,$E$5,$B$3:$C$3,$B$5:$C$5,B49,C49)","v":{"$error":"#VALUE!"}},{"$error":"#VALUE!"},{"$error":"#VALUE!"},{"$error":"#VALUE!"},{"$f":"ThreePosition_Basic2($E$3,$E$5,$B$3:$C$3,$B$5:$C$5,B49,D49)","v":{"$error":"#VALUE!"}},{"$error":"#VALUE!"},{"$error":"#VALUE!"},{"$error":"#VALUE!"}]
[21,0.36651914291880922,{"$f":"Burmester($B$3:$C$3,$B$4:$C$4,$B$5:$C$5,$E$3,$E$4,$E$5,B50)","v":{"$error":"#VALUE!"}},{"$error":"#VALUE!"},{"$f":"ThreePosition_Basic2($E$3,$E$5,$B$3:$C$3,$B$5:$C$5,B50,C50)","v":{"$error":"#VALUE!"}},{"$error":"#VALUE!"},{"$error":"#VALUE!"},{"$error":"#VALUE!"},{"$f":"ThreePosition_Basic2($E$3,$E$5,$B$3:$C$3,$B$5:$C$5,B50,D50)","v":{"$error":"#VALUE!"}},{"$error":"#VALUE!"},{"$error":"#VALUE!"},{"$error":"#VALUE!"}]
[21.5,0.37524578917878082,{"$f":"Burmester($B$3:$C$3,$B$4:$C$4,$B$5:$C$5,$E$3,$E$4,$E$5,B51)","v":{"$error":"#VALUE!"}},{"$error":"#VALUE!"},{"$f":"ThreePosition_Basic2($E$3,$E$5,$B$3:$C$3,$B$5:$C$5,B51,C51)","v":{"$error":"#VALUE!"}},{"$error":"#VALUE!"},{"$error":"#VALUE!"},{"$error":"#VALUE!"},{"$f":"ThreePosition_Basic2($E$3,$E$5,$B$3:$C$3,$B$5:$C$5,B51,D51)","v":{"$error":"#VALUE!"}},{"$error":"#VALUE!"},{"$error":"#VALUE!"},{"$error":"#VALUE!"}]
[22,0.38397243543875248,{"$f":"Burmester($B$3:$C$3,$B$4:$C$4,$B$5:$C$5,$E$3,$E$4,$E$5,B52)","v":{"$error":"#VALUE!"}},{"$error":"#VALUE!"},{"$f":"ThreePosition_Basic2($E$3,$E$5,$B$3:$C$3,$B$5:$C$5,B52,C52)","v":{"$error":"#VALUE!"}},{"$error":"#VALUE!"},{"$error":"#VALUE!"},{"$error":"#VALUE!"},{"$f":"ThreePosition_Basic2($E$3,$E$5,$B$3:$C$3,$B$5:$C$5,B52,D52)","v":{"$error":"#VALUE!"}},{"$error":"#VALUE!"},{"$error":"#VALUE!"},{"$error":"#VALUE!"}]
[22.5,0.39269908169872414,{"$f":"Burmester($B$3:$C$3,$B$4:$C$4,$B$5:$C$5,$E$3,$E$4,$E$5,B53)","v":{"$error":"#VALUE!"}},{"$error":"#VALUE!"},{"$f":"ThreePosition_Basic2($E$3,$E$5,$B$3:$C$3,$B$5:$C$5,B53,C53)","v":{"$error":"#VALUE!"}},{"$error":"#VALUE!"},{"$error":"#VALUE!"},{"$error":"#VALUE!"},{"$f":"ThreePosition_Basic2($E$3,$E$5,$B$3:$C$3,$B$5:$C$5,B53,D53)","v":{"$error":"#VALUE!"}},{"$error":"#VALUE!"},{"$error":"#VALUE!"},{"$error":"#VALUE!"}]
[23,0.40142572795869574,{"$f":"Burmester($B$3:$C$3,$B$4:$C$4,$B$5:$C$5,$E$3,$E$4,$E$5,B54)","v":{"$error":"#VALUE!"}},{"$error":"#VALUE!"},{"$f":"ThreePosition_Basic2($E$3,$E$5,$B$3:$C$3,$B$5:$C$5,B54,C54)","v":{"$error":"#VALUE!"}},{"$error":"#VALUE!"},{"$error":"#VALUE!"},{"$error":"#VALUE!"},{"$f":"ThreePosition_Basic2($E$3,$E$5,$B$3:$C$3,$B$5:$C$5,B54,D54)","v":{"$error":"#VALUE!"}},{"$error":"#VALUE!"},{"$error":"#VALUE!"},{"$error":"#VALUE!"}]
[23.5,0.41015237421866746,{"$f":"Burmester($B$3:$C$3,$B$4:$C$4,$B$5:$C$5,$E$3,$E$4,$E$5,B55)","v":{"$error":"#VALUE!"}},{"$error":"#VALUE!"},{"$f":"ThreePosition_Basic2($E$3,$E$5,$B$3:$C$3,$B$5:$C$5,B55,C55)","v":{"$error":"#VALUE!"}},{"$error":"#VALUE!"},{"$error":"#VALUE!"},{"$error":"#VALUE!"},{"$f":"ThreePosition_Basic2($E$3,$E$5,$B$3:$C$3,$B$5:$C$5,B55,D55)","v":{"$error":"#VALUE!"}},{"$error":"#VALUE!"},{"$error":"#VALUE!"},{"$error":"#VALUE!"}]
[24,0.41887902047863906,{"$f":"Burmester($B$3:$C$3,$B$4:$C$4,$B$5:$C$5,$E$3,$E$4,$E$5,B56)","v":{"$error":"#VALUE!"}},{"$error":"#VALUE!"},{"$f":"ThreePosition_Basic2($E$3,$E$5,$B$3:$C$3,$B$5:$C$5,B56,C56)","v":{"$error":"#VALUE!"}},{"$error":"#VALUE!"},{"$error":"#VALUE!"},{"$error":"#VALUE!"},{"$f":"ThreePosition_Basic2($E$3,$E$5,$B$3:$C$3,$B$5:$C$5,B56,D56)","v":{"$error":"#VALUE!"}},{"$error":"#VALUE!"},{"$error":"#VALUE!"},{"$error":"#VALUE!"}]
[24.5,0.42760566673861072,{"$f":"Burmester($B$3:$C$3,$B$4:$C$4,$B$5:$C$5,$E$3,$E$4,$E$5,B57)","v":{"$error":"#VALUE!"}},{"$error":"#VALUE!"},{"$f":"ThreePosition_Basic2($E$3,$E$5,$B$3:$C$3,$B$5:$C$5,B57,C57)","v":{"$error":"#VALUE!"}},{"$error":"#VALUE!"},{"$error":"#VALUE!"},{"$error":"#VALUE!"},{"$f":"ThreePosition_Basic2($E$3,$E$5,$B$3:$C$3,$B$5:$C$5,B57,D57)","v":{"$error":"#VALUE!"}},{"$error":"#VALUE!"},{"$error":"#VALUE!"},{"$error":"#VALUE!"}]
[25,0.43633231299858238,{"$f":"Burmester($B$3:$C$3,$B$4:$C$4,$B$5:$C$5,$E$3,$E$4,$E$5,B58)","v":{"$error":"#VALUE!"}},{"$error":"#VALUE!"},{"$f":"ThreePosition_Basic2($E$3,$E$5,$B$3:$C$3,$B$5:$C$5,B58,C58)","v":{"$error":"#VALUE!"}},{"$error":"#VALUE!"},{"$error":"#VALUE!"},{"$error":"#VALUE!"},{"$f":"ThreePosition_Basic2($E$3,$E$5,$B$3:$C$3,$B$5:$C$5,B58,D58)","v":{"$error":"#VALUE!"}},{"$error":"#VALUE!"},{"$error":"#VALUE!"},{"$error":"#VALUE!"}]
[25.5,0.44505895925855399,{"$f":"Burmester($B$3:$C$3,$B$4:$C$4,$B$5:$C$5,$E$3,$E$4,$E$5,B59)","v":{"$error":"#VALUE!"}},{"$error":"#VALUE!"},{"$f":"ThreePosition_Basic2($E$3,$E$5,$B$3:$C$3,$B$5:$C$5,B59,C59)","v":{"$error":"#VALUE!"}},{"$error":"#VALUE!"},{"$error":"#VALUE!"},{"$error":"#VALUE!"},{"$f":"ThreePosition_Basic2($E$3,$E$5,$B$3:$C$3,$B$5:$C$5,B59,D59)","v":{"$error":"#VALUE!"}},{"$error":"#VALUE!"},{"$error":"#VALUE!"},{"$error":"#VALUE!"}]
[26,0.4537856055185257,{"$f":"Burmester($B$3:$C$3,$B$4:$C$4,$B$5:$C$5,$E$3,$E$4,$E$5,B60)","v":{"$error":"#VALUE!"}},{"$error":"#VALUE!"},{"$f":"ThreePosition_Basic2($E$3,$E$5,$B$3:$C$3,$B$5:$C$5,B60,C60)","v":{"$error":"#VALUE!"}},{"$error":"#VALUE!"},{"$error":"#VALUE!"},{"$error":"#VALUE!"},{"$f":"ThreePosition_Basic2($E$3,$E$5,$B$3:$C$3,$B$5:$C$5,B60,D60)","v":{"$error":"#VALUE!"}},{"$error":"#VALUE!"},{"$error":"#VALUE!"},{"$error":"#VALUE!"}]
[26.5,0.46251225177849731,{"$f":"Burmester($B$3:$C$3,$B$4:$C$4,$B$5:$C$5,$E$3,$E$4,$E$5,B61)","v":{"$error":"#VALUE!"}},{"$error":"#VALUE!"},{"$f":"ThreePosition_Basic2($E$3,$E$5,$B$3:$C$3,$B$5:$C$5,B61,C61)","v":{"$error":"#VALUE!"}},{"$error":"#VALUE!"},{"$error":"#VALUE!"},{"$error":"#VALUE!"},{"$f":"ThreePosition_Basic2($E$3,$E$5,$B$3:$C$3,$B$5:$C$5,B61,D61)","v":{"$error":"#VALUE!"}},{"$error":"#VALUE!"},{"$error":"#VALUE!"},{"$error":"#VALUE!"}]
[27,0.47123889803846897,{"$f":"Burmester($B$3:$C$3,$B$4:$C$4,$B$5:$C$5,$E$3,$E$4,$E$5,B62)","v":{"$error":"#VALUE!"}},{"$error":"#VALUE!"},{"$f":"ThreePosition_Basic2($E$3,$E$5,$B$3:$C$3,$B$5:$C$5,B62,C62)","v":{"$error":"#VALUE!"}},{"$error":"#VALUE!"},{"$error":"#VALUE!"},{"$error":"#VALUE!"},{"$f":"ThreePosition_Basic2($E$3,$E$5,$B$3:$C$3,$B$5:$C$5,B62,D62)","v":{"$error":"#VALUE!"}},{"$error":"#VALUE!"},{"$error":"#VALUE!"},{"$error":"#VALUE!"}]
[27.5,0.47996554429844063,{"$f":"Burmester($B$3:$C$3,$B$4:$C$4,$B$5:$C$5,$E$3,$E$4,$E$5,B63)","v":{"$error":"#VALUE!"}},{"$error":"#VALUE!"},{"$f":"ThreePosition_Basic2($E$3,$E$5,$B$3:$C$3,$B$5:$C$5,B63,C63)","v":{"$error":"#VALUE!"}},{"$error":"#VALUE!"},{"$error":"#VALUE!"},{"$error":"#VALUE!"},{"$f":"ThreePosition_Basic2($E$3,$E$5,$B$3:$C$3,$B$5:$C$5,B63,D63)","v":{"$error":"#VALUE!"}},{"$error":"#VALUE!"},{"$error":"#VALUE!"},{"$error":"#VALUE!"}]
[28,0.48869219055841229,{"$f":"Burmester($B$3:$C$3,$B$4:$C$4,$B$5:$C$5,$E$3,$E$4,$E$5,B64)","v":{"$error":"#VALUE!"}},{"$error":"#VALUE!"},{"$f":"ThreePosition_Basic2($E$3,$E$5,$B$3:$C$3,$B$5:$C$5,B64,C64)","v":{"$error":"#VALUE!"}},{"$error":"#VALUE!"},{"$error":"#VALUE!"},{"$error":"#VALUE!"},{"$f":"ThreePosition_Basic2($E$3,$E$5,$B$3:$C$3,$B$5:$C$5,B64,D64)","v":{"$error":"#VALUE!"}},{"$error":"#VALUE!"},{"$error":"#VALUE!"},{"$error":"#VALUE!"}]
[28.5,0.49741883681838389,{"$f":"Burmester($B$3:$C$3,$B$4:$C$4,$B$5:$C$5,$E$3,$E$4,$E$5,B65)","v":{"$error":"#VALUE!"}},{"$error":"#VALUE!"},{"$f":"ThreePosition_Basic2($E$3,$E$5,$B$3:$C$3,$B$5:$C$5,B65,C65)","v":{"$error":"#VALUE!"}},{"$error":"#VALUE!"},{"$error":"#VALUE!"},{"$error":"#VALUE!"},{"$f":"ThreePosition_Basic2($E$3,$E$5,$B$3:$C$3,$B$5:$C$5,B65,D65)","v":{"$error":"#VALUE!"}},{"$error":"#VALUE!"},{"$error":"#VALUE!"},{"$error":"#VALUE!"}]
[29,0.50614548307835561,{"$f":"Burmester($B$3:$C$3,$B$4:$C$4,$B$5:$C$5,$E$3,$E$4,$E$5,B66)","v":{"$error":"#VALUE!"}},{"$error":"#VALUE!"},{"$f":"ThreePosition_Basic2($E$3,$E$5,$B$3:$C$3,$B$5:$C$5,B66,C66)","v":{"$error":"#VALUE!"}},{"$error":"#VALUE!"},{"$error":"#VALUE!"},{"$error":"#VALUE!"},{"$f":"ThreePosition_Basic2($E$3,$E$5,$B$3:$C$3,$B$5:$C$5,B66,D66)","v":{"$error":"#VALUE!"}},{"$error":"#VALUE!"},{"$error":"#VALUE!"},{"$error":"#VALUE!"}]
[29.5,0.51487212933832716,{"$f":"Burmester($B$3:$C$3,$B$4:$C$4,$B$5:$C$5,$E$3,$E$4,$E$5,B67)","v":{"$error":"#VALUE!"}},{"$error":"#VALUE!"},{"$f":"ThreePosition_Basic2($E$3,$E$5,$B$3:$C$3,$B$5:$C$5,B67,C67)","v":{"$error":"#VALUE!"}},{"$error":"#VALUE!"},{"$error":"#VALUE!"},{"$error":"#VALUE!"},{"$f":"ThreePosition_Basic2($E$3,$E$5,$B$3:$C$3,$B$5:$C$5,B67,D67)","v":{"$error":"#VALUE!"}},{"$error":"#VALUE!"},{"$error":"#VALUE!"},{"$error":"#VALUE!"}]
[30,0.52359877559829882,{"$f":"Burmester($B$3:$C$3,$B$4:$C$4,$B$5:$C$5,$E$3,$E$4,$E$5,B68)","v":{"$error":"#VALUE!"}},{"$error":"#VALUE!"},{"$f":"ThreePosition_Basic2($E$3,$E$5,$B$3:$C$3,$B$5:$C$5,B68,C68)","v":{"$error":"#VALUE!"}},{"$error":"#VALUE!"},{"$error":"#VALUE!"},{"$error":"#VALUE!"},{"$f":"ThreePosition_Basic2($E$3,$E$5,$B$3:$C$3,$B$5:$C$5,B68,D68)","v":{"$error":"#VALUE!"}},{"$error":"#VALUE!"},{"$error":"#VALUE!"},{"$error":"#VALUE!"}]
[30.5,0.53232542185827048,{"$f":"Burmester($B$3:$C$3,$B$4:$C$4,$B$5:$C$5,$E$3,$E$4,$E$5,B69)","v":{"$error":"#VALUE!"}},{"$error":"#VALUE!"},{"$f":"ThreePosition_Basic2($E$3,$E$5,$B$3:$C$3,$B$5:$C$5,B69,C69)","v":{"$error":"#VALUE!"}},{"$error":"#VALUE!"},{"$error":"#VALUE!"},{"$error":"#VALUE!"},{"$f":"ThreePosition_Basic2($E$3,$E$5,$B$3:$C$3,$B$5:$C$5,B69,D69)","v":{"$error":"#VALUE!"}},{"$error":"#VALUE!"},{"$error":"#VALUE!"},{"$error":"#VALUE!"}]
[31,0.54105206811824214,{"$f":"Burmester($B$3:$C$3,$B$4:$C$4,$B$5:$C$5,$E$3,$E$4,$E$5,B70)","v":{"$error":"#VALUE!"}},{"$error":"#VALUE!"},{"$f":"ThreePosition_Basic2($E$3,$E$5,$B$3:$C$3,$B$5:$C$5,B70,C70)","v":{"$error":"#VALUE!"}},{"$error":"#VALUE!"},{"$error":"#VALUE!"},{"$error":"#VALUE!"},{"$f":"ThreePosition_Basic2($E$3,$E$5,$B$3:$C$3,$B$5:$C$5,B70,D70)","v":{"$error":"#VALUE!"}},{"$error":"#VALUE!"},{"$error":"#VALUE!"},{"$error":"#VALUE!"}]
[31.5,0.5497787143782138,{"$f":"Burmester($B$3:$C$3,$B$4:$C$4,$B$5:$C$5,$E$3,$E$4,$E$5,B71)","v":{"$error":"#VALUE!"}},{"$error":"#VALUE!"},{"$f":"ThreePosition_Basic2($E$3,$E$5,$B$3:$C$3,$B$5:$C$5,B71,C71)","v":{"$error":"#VALUE!"}},{"$error":"#VALUE!"},{"$error":"#VALUE!"},{"$error":"#VALUE!"},{"$f":"ThreePosition_Basic2($E$3,$E$5,$B$3:$C$3,$B$5:$C$5,B71,D71)","v":{"$error":"#VALUE!"}},{"$error":"#VALUE!"},{"$error":"#VALUE!"},{"$error":"#VALUE!"}]
[32,0.55850536063818546,{"$f":"Burmester($B$3:$C$3,$B$4:$C$4,$B$5:$C$5,$E$3,$E$4,$E$5,B72)","v":{"$error":"#VALUE!"}},{"$error":"#VALUE!"},{"$f":"ThreePosition_Basic2($E$3,$E$5,$B$3:$C$3,$B$5:$C$5,B72,C72)","v":{"$error":"#VALUE!"}},{"$error":"#VALUE!"},{"$error":"#VALUE!"},{"$error":"#VALUE!"},{"$f":"ThreePosition_Basic2($E$3,$E$5,$B$3:$C$3,$B$5:$C$5,B72,D72)","v":{"$error":"#VALUE!"}},{"$error":"#VALUE!"},{"$error":"#VALUE!"},{"$error":"#VALUE!"}]
[32.5,{"$f":"A73*PI()/180","v":0.56723200689815712},{"$f":"Burmester($B$3:$C$3,$B$4:$C$4,$B$5:$C$5,$E$3,$E$4,$E$5,B73)","v":{"$error":"#VALUE!"}},{"$error":"#VALUE!"},{"$f":"ThreePosition_Basic2($E$3,$E$5,$B$3:$C$3,$B$5:$C$5,B73,C73)","v":{"$error":"#VALUE!"}},{"$error":"#VALUE!"},{"$error":"#VALUE!"},{"$error":"#VALUE!"},{"$f":"ThreePosition_Basic2($E$3,$E$5,$B$3:$C$3,$B$5:$C$5,B73,D73)","v":{"$error":"#VALUE!"}},{"$error":"#VALUE!"},{"$error":"#VALUE!"},{"$error":"#VALUE!"}]
[33,0.57595865315812877,{"$f":"Burmester($B$3:$C$3,$B$4:$C$4,$B$5:$C$5,$E$3,$E$4,$E$5,B74)","v":{"$error":"#VALUE!"}},{"$error":"#VALUE!"},{"$f":"ThreePosition_Basic2($E$3,$E$5,$B$3:$C$3,$B$5:$C$5,B74,C74)","v":{"$error":"#VALUE!"}},{"$error":"#VALUE!"},{"$error":"#VALUE!"},{"$error":"#VALUE!"},{"$f":"ThreePosition_Basic2($E$3,$E$5,$B$3:$C$3,$B$5:$C$5,B74,D74)","v":{"$error":"#VALUE!"}},{"$error":"#VALUE!"},{"$error":"#VALUE!"},{"$error":"#VALUE!"}]
[33.5,0.58468529941810032,{"$f":"Burmester($B$3:$C$3,$B$4:$C$4,$B$5:$C$5,$E$3,$E$4,$E$5,B75)","v":{"$error":"#VALUE!"}},{"$error":"#VALUE!"},{"$f":"ThreePosition_Basic2($E$3,$E$5,$B$3:$C$3,$B$5:$C$5,B75,C75)","v":{"$error":"#VALUE!"}},{"$error":"#VALUE!"},{"$error":"#VALUE!"},{"$error":"#VALUE!"},{"$f":"ThreePosition_Basic2($E$3,$E$5,$B$3:$C$3,$B$5:$C$5,B75,D75)","v":{"$error":"#VALUE!"}},{"$error":"#VALUE!"},{"$error":"#VALUE!"},{"$error":"#VALUE!"}]
[34,0.59341194567807209,{"$f":"Burmester($B$3:$C$3,$B$4:$C$4,$B$5:$C$5,$E$3,$E$4,$E$5,B76)","v":{"$error":"#VALUE!"}},{"$error":"#VALUE!"},{"$f":"ThreePosition_Basic2($E$3,$E$5,$B$3:$C$3,$B$5:$C$5,B76,C76)","v":{"$error":"#VALUE!"}},{"$error":"#VALUE!"},{"$error":"#VALUE!"},{"$error":"#VALUE!"},{"$f":"ThreePosition_Basic2($E$3,$E$5,$B$3:$C$3,$B$5:$C$5,B76,D76)","v":{"$error":"#VALUE!"}},{"$error":"#VALUE!"},{"$error":"#VALUE!"},{"$error":"#VALUE!"}]
[34.5,0.60213859193804364,{"$f":"Burmester($B$3:$C$3,$B$4:$C$4,$B$5:$C$5,$E$3,$E$4,$E$5,B77)","v":{"$error":"#VALUE!"}},{"$error":"#VALUE!"},{"$f":"ThreePosition_Basic2($E$3,$E$5,$B$3:$C$3,$B$5:$C$5,B77,C77)","v":{"$error":"#VALUE!"}},{"$error":"#VALUE!"},{"$error":"#VALUE!"},{"$error":"#VALUE!"},{"$f":"ThreePosition_Basic2($E$3,$E$5,$B$3:$C$3,$B$5:$C$5,B77,D77)","v":{"$error":"#VALUE!"}},{"$error":"#VALUE!"},{"$error":"#VALUE!"},{"$error":"#VALUE!"}]
[35,0.6108652381980153,{"$f":"Burmester($B$3:$C$3,$B$4:$C$4,$B$5:$C$5,$E$3,$E$4,$E$5,B78)","v":{"$error":"#VALUE!"}},{"$error":"#VALUE!"},{"$f":"ThreePosition_Basic2($E$3,$E$5,$B$3:$C$3,$B$5:$C$5,B78,C78)","v":{"$error":"#VALUE!"}},{"$error":"#VALUE!"},{"$error":"#VALUE!"},{"$error":"#VALUE!"},{"$f":"ThreePosition_Basic2($E$3,$E$5,$B$3:$C$3,$B$5:$C$5,B78,D78)","v":{"$error":"#VALUE!"}},{"$error":"#VALUE!"},{"$error":"#VALUE!"},{"$error":"#VALUE!"}]
[35.5,0.61959188445798696,{"$f":"Burmester($B$3:$C$3,$B$4:$C$4,$B$5:$C$5,$E$3,$E$4,$E$5,B79)","v":{"$error":"#VALUE!"}},{"$error":"#VALUE!"},{"$f":"ThreePosition_Basic2($E$3,$E$5,$B$3:$C$3,$B$5:$C$5,B79,C79)","v":{"$error":"#VALUE!"}},{"$error":"#VALUE!"},{"$error":"#VALUE!"},{"$error":"#VALUE!"},{"$f":"ThreePosition_Basic2($E$3,$E$5,$B$3:$C$3,$B$5:$C$5,B79,D79)","v":{"$error":"#VALUE!"}},{"$error":"#VALUE!"},{"$error":"#VALUE!"},{"$error":"#VALUE!"}]
[36,0.62831853071795862,{"$f":"Burmester($B$3:$C$3,$B$4:$C$4,$B$5:$C$5,$E$3,$E$4,$E$5,B80)","v":{"$error":"#VALUE!"}},{"$error":"#VALUE!"},{"$f":"ThreePosition_Basic2($E$3,$E$5,$B$3:$C$3,$B$5:$C$5,B80,C80)","v":{"$error":"#VALUE!"}},{"$error":"#VALUE!"},{"$error":"#VALUE!"},{"$error":"#VALUE!"},{"$f":"ThreePosition_Basic2($E$3,$E$5,$B$3:$C$3,$B$5:$C$5,B80,D80)","v":{"$error":"#VALUE!"}},{"$error":"#VALUE!"},{"$error":"#VALUE!"},{"$error":"#VALUE!"}]
[36.5,0.63704517697793028,{"$f":"Burmester($B$3:$C$3,$B$4:$C$4,$B$5:$C$5,$E$3,$E$4,$E$5,B81)","v":{"$error":"#VALUE!"}},{"$error":"#VALUE!"},{"$f":"ThreePosition_Basic2($E$3,$E$5,$B$3:$C$3,$B$5:$C$5,B81,C81)","v":{"$error":"#VALUE!"}},{"$error":"#VALUE!"},{"$error":"#VALUE!"},{"$error":"#VALUE!"},{"$f":"ThreePosition_Basic2($E$3,$E$5,$B$3:$C$3,$B$5:$C$5,B81,D81)","v":{"$error":"#VALUE!"}},{"$error":"#VALUE!"},{"$error":"#VALUE!"},{"$error":"#VALUE!"}]
[37,0.64577182323790194,{"$f":"Burmester($B$3:$C$3,$B$4:$C$4,$B$5:$C$5,$E$3,$E$4,$E$5,B82)","v":{"$error":"#VALUE!"}},{"$error":"#VALUE!"},{"$f":"ThreePosition_Basic2($E$3,$E$5,$B$3:$C$3,$B$5:$C$5,B82,C82)","v":{"$error":"#VALUE!"}},{"$error":"#VALUE!"},{"$error":"#VALUE!"},{"$error":"#VALUE!"},{"$f":"ThreePosition_Basic2($E$3,$E$5,$B$3:$C$3,$B$5:$C$5,B82,D82)","v":{"$error":"#VALUE!"}},{"$error":"#VALUE!"},{"$error":"#VALUE!"},{"$error":"#VALUE!"}]
[37.5,0.6544984694978736,{"$f":"Burmester($B$3:$C$3,$B$4:$C$4,$B$5:$C$5,$E$3,$E$4,$E$5,B83)","v":{"$error":"#VALUE!"}},{"$error":"#VALUE!"},{"$f":"ThreePosition_Basic2($E$3,$E$5,$B$3:$C$3,$B$5:$C$5,B83,C83)","v":{"$error":"#VALUE!"}},{"$error":"#VALUE!"},{"$error":"#VALUE!"},{"$error":"#VALUE!"},{"$f":"ThreePosition_Basic2($E$3,$E$5,$B$3:$C$3,$B$5:$C$5,B83,D83)","v":{"$error":"#VALUE!"}},{"$error":"#VALUE!"},{"$error":"#VALUE!"},{"$error":"#VALUE!"}]
[38,0.66322511575784515,{"$f":"Burmester($B$3:$C$3,$B$4:$C$4,$B$5:$C$5,$E$3,$E$4,$E$5,B84)","v":{"$error":"#VALUE!"}},{"$error":"#VALUE!"},{"$f":"ThreePosition_Basic2($E$3,$E$5,$B$3:$C$3,$B$5:$C$5,B84,C84)","v":{"$error":"#VALUE!"}},{"$error":"#VALUE!"},{"$error":"#VALUE!"},{"$error":"#VALUE!"},{"$f":"ThreePosition_Basic2($E$3,$E$5,$B$3:$C$3,$B$5:$C$5,B84,D84)","v":{"$error":"#VALUE!"}},{"$error":"#VALUE!"},{"$error":"#VALUE!"},{"$error":"#VALUE!"}]
[38.5,0.67195176201781692,{"$f":"Burmester($B$3:$C$3,$B$4:$C$4,$B$5:$C$5,$E$3,$E$4,$E$5,B85)","v":{"$error":"#VALUE!"}},{"$error":"#VALUE!"},{"$f":"ThreePosition_Basic2($E$3,$E$5,$B$3:$C$3,$B$5:$C$5,B85,C85)","v":{"$error":"#VALUE!"}},{"$error":"#VALUE!"},{"$error":"#VALUE!"},{"$error":"#VALUE!"},{"$f":"ThreePosition_Basic2($E$3,$E$5,$B$3:$C$3,$B$5:$C$5,B85,D85)","v":{"$error":"#VALUE!"}},{"$error":"#VALUE!"},{"$error":"#VALUE!"},{"$error":"#VALUE!"}]
[39,0.68067840827778847,{"$f":"Burmester($B$3:$C$3,$B$4:$C$4,$B$5:$C$5,$E$3,$E$4,$E$5,B86)","v":{"$error":"#VALUE!"}},{"$error":"#VALUE!"},{"$f":"ThreePosition_Basic2($E$3,$E$5,$B$3:$C$3,$B$5:$C$5,B86,C86)","v":{"$error":"#VALUE!"}},{"$error":"#VALUE!"},{"$error":"#VALUE!"},{"$error":"#VALUE!"},{"$f":"ThreePosition_Basic2($E$3,$E$5,$B$3:$C$3,$B$5:$C$5,B86,D86)","v":{"$error":"#VALUE!"}},{"$error":"#VALUE!"},{"$error":"#VALUE!"},{"$error":"#VALUE!"}]
[39.5,0.68940505453776013,{"$f":"Burmester($B$3:$C$3,$B$4:$C$4,$B$5:$C$5,$E$3,$E$4,$E$5,B87)","v":{"$error":"#VALUE!"}},{"$error":"#VALUE!"},{"$f":"ThreePosition_Basic2($E$3,$E$5,$B$3:$C$3,$B$5:$C$5,B87,C87)","v":{"$error":"#VALUE!"}},{"$error":"#VALUE!"},{"$error":"#VALUE!"},{"$error":"#VALUE!"},{"$f":"ThreePosition_Basic2($E$3,$E$5,$B$3:$C$3,$B$5:$C$5,B87,D87)","v":{"$error":"#VALUE!"}},{"$error":"#VALUE!"},{"$error":"#VALUE!"},{"$error":"#VALUE!"}]
[40,0.69813170079773179,{"$f":"Burmester($B$3:$C$3,$B$4:$C$4,$B$5:$C$5,$E$3,$E$4,$E$5,B88)","v":{"$error":"#VALUE!"}},{"$error":"#VALUE!"},{"$f":"ThreePosition_Basic2($E$3,$E$5,$B$3:$C$3,$B$5:$C$5,B88,C88)","v":{"$error":"#VALUE!"}},{"$error":"#VALUE!"},{"$error":"#VALUE!"},{"$error":"#VALUE!"},{"$f":"ThreePosition_Basic2($E$3,$E$5,$B$3:$C$3,$B$5:$C$5,B88,D88)","v":{"$error":"#VALUE!"}},{"$error":"#VALUE!"},{"$error":"#VALUE!"},{"$error":"#VALUE!"}]
[40.5,0.70685834705770345,{"$f":"Burmester($B$3:$C$3,$B$4:$C$4,$B$5:$C$5,$E$3,$E$4,$E$5,B89)","v":{"$error":"#VALUE!"}},{"$error":"#VALUE!"},{"$f":"ThreePosition_Basic2($E$3,$E$5,$B$3:$C$3,$B$5:$C$5,B89,C89)","v":{"$error":"#VALUE!"}},{"$error":"#VALUE!"},{"$error":"#VALUE!"},{"$error":"#VALUE!"},{"$f":"ThreePosition_Basic2($E$3,$E$5,$B$3:$C$3,$B$5:$C$5,B89,D89)","v":{"$error":"#VALUE!"}},{"$error":"#VALUE!"},{"$error":"#VALUE!"},{"$error":"#VALUE!"}]
[41,0.715584993317675,{"$f":"Burmester($B$3:$C$3,$B$4:$C$4,$B$5:$C$5,$E$3,$E$4,$E$5,B90)","v":{"$error":"#VALUE!"}},{"$error":"#VALUE!"},{"$f":"ThreePosition_Basic2($E$3,$E$5,$B$3:$C$3,$B$5:$C$5,B90,C90)","v":{"$error":"#VALUE!"}},{"$error":"#VALUE!"},{"$error":"#VALUE!"},{"$error":"#VALUE!"},{"$f":"ThreePosition_Basic2($E$3,$E$5,$B$3:$C$3,$B$5:$C$5,B90,D90)","v":{"$error":"#VALUE!"}},{"$error":"#VALUE!"},{"$error":"#VALUE!"},{"$error":"#VALUE!"}]
[41.5,0.72431163957764677,{"$f":"Burmester($B$3:$C$3,$B$4:$C$4,$B$5:$C$5,$E$3,$E$4,$E$5,B91)","v":{"$error":"#VALUE!"}},{"$error":"#VALUE!"},{"$f":"ThreePosition_Basic2($E$3,$E$5,$B$3:$C$3,$B$5:$C$5,B91,C91)","v":{"$error":"#VALUE!"}},{"$error":"#VALUE!"},{"$error":"#VALUE!"},{"$error":"#VALUE!"},{"$f":"ThreePosition_Basic2($E$3,$E$5,$B$3:$C$3,$B$5:$C$5,B91,D91)","v":{"$error":"#VALUE!"}},{"$error":"#VALUE!"},{"$error":"#VALUE!"},{"$error":"#VALUE!"}]
[42,0.73303828583761843,{"$f":"Burmester($B$3:$C$3,$B$4:$C$4,$B$5:$C$5,$E$3,$E$4,$E$5,B92)","v":{"$error":"#VALUE!"}},{"$error":"#VALUE!"},{"$f":"ThreePosition_Basic2($E$3,$E$5,$B$3:$C$3,$B$5:$C$5,B92,C92)","v":{"$error":"#VALUE!"}},{"$error":"#VALUE!"},{"$error":"#VALUE!"},{"$error":"#VALUE!"},{"$f":"ThreePosition_Basic2($E$3,$E$5,$B$3:$C$3,$B$5:$C$5,B92,D92)","v":{"$error":"#VALUE!"}},{"$error":"#VALUE!"},{"$error":"#VALUE!"},{"$error":"#VALUE!"}]
[42.5,0.74176493209759009,{"$f":"Burmester($B$3:$C$3,$B$4:$C$4,$B$5:$C$5,$E$3,$E$4,$E$5,B93)","v":{"$error":"#VALUE!"}},{"$error":"#VALUE!"},{"$f":"ThreePosition_Basic2($E$3,$E$5,$B$3:$C$3,$B$5:$C$5,B93,C93)","v":{"$error":"#VALUE!"}},{"$error":"#VALUE!"},{"$error":"#VALUE!"},{"$error":"#VALUE!"},{"$f":"ThreePosition_Basic2($E$3,$E$5,$B$3:$C$3,$B$5:$C$5,B93,D93)","v":{"$error":"#VALUE!"}},{"$error":"#VALUE!"},{"$error":"#VALUE!"},{"$error":"#VALUE!"}]
[43,0.75049157835756164,{"$f":"Burmester($B$3:$C$3,$B$4:$C$4,$B$5:$C$5,$E$3,$E$4,$E$5,B94)","v":{"$error":"#VALUE!"}},{"$error":"#VALUE!"},{"$f":"ThreePosition_Basic2($E$3,$E$5,$B$3:$C$3,$B$5:$C$5,B94,C94)","v":{"$error":"#VALUE!"}},{"$error":"#VALUE!"},{"$error":"#VALUE!"},{"$error":"#VALUE!"},{"$f":"ThreePosition_Basic2($E$3,$E$5,$B$3:$C$3,$B$5:$C$5,B94,D94)","v":{"$error":"#VALUE!"}},{"$error":"#VALUE!"},{"$error":"#VALUE!"},{"$error":"#VALUE!"}]
[43.5,0.7592182246175333,{"$f":"Burmester($B$3:$C$3,$B$4:$C$4,$B$5:$C$5,$E$3,$E$4,$E$5,B95)","v":{"$error":"#VALUE!"}},{"$error":"#VALUE!"},{"$f":"ThreePosition_Basic2($E$3,$E$5,$B$3:$C$3,$B$5:$C$5,B95,C95)","v":{"$error":"#VALUE!"}},{"$error":"#VALUE!"},{"$error":"#VALUE!"},{"$error":"#VALUE!"},{"$f":"ThreePosition_Basic2($E$3,$E$5,$B$3:$C$3,$B$5:$C$5,B95,D95)","v":{"$error":"#VALUE!"}},{"$error":"#VALUE!"},{"$error":"#VALUE!"},{"$error":"#VALUE!"}]
[44,0.76794487087750496,{"$f":"Burmester($B$3:$C$3,$B$4:$C$4,$B$5:$C$5,$E$3,$E$4,$E$5,B96)","v":{"$error":"#VALUE!"}},{"$error":"#VALUE!"},{"$f":"ThreePosition_Basic2($E$3,$E$5,$B$3:$C$3,$B$5:$C$5,B96,C96)","v":{"$error":"#VALUE!"}},{"$error":"#VALUE!"},{"$error":"#VALUE!"},{"$error":"#VALUE!"},{"$f":"ThreePosition_Basic2($E$3,$E$5,$B$3:$C$3,$B$5:$C$5,B96,D96)","v":{"$error":"#VALUE!"}},{"$error":"#VALUE!"},{"$error":"#VALUE!"},{"$error":"#VALUE!"}]
[44.5,0.77667151713747673,{"$f":"Burmester($B$3:$C$3,$B$4:$C$4,$B$5:$C$5,$E$3,$E$4,$E$5,B97)","v":{"$error":"#VALUE!"}},{"$error":"#VALUE!"},{"$f":"ThreePosition_Basic2($E$3,$E$5,$B$3:$C$3,$B$5:$C$5,B97,C97)","v":{"$error":"#VALUE!"}},{"$error":"#VALUE!"},{"$error":"#VALUE!"},{"$error":"#VALUE!"},{"$f":"ThreePosition_Basic2($E$3,$E$5,$B$3:$C$3,$B$5:$C$5,B97,D97)","v":{"$error":"#VALUE!"}},{"$error":"#VALUE!"},{"$error":"#VALUE!"},{"$error":"#VALUE!"}]
[45,0.78539816339744828,{"$f":"Burmester($B$3:$C$3,$B$4:$C$4,$B$5:$C$5,$E$3,$E$4,$E$5,B98)","v":{"$error":"#VALUE!"}},{"$error":"#VALUE!"},{"$f":"ThreePosition_Basic2($E$3,$E$5,$B$3:$C$3,$B$5:$C$5,B98,C98)","v":{"$error":"#VALUE!"}},{"$error":"#VALUE!"},{"$error":"#VALUE!"},{"$error":"#VALUE!"},{"$f":"ThreePosition_Basic2($E$3,$E$5,$B$3:$C$3,$B$5:$C$5,B98,D98)","v":{"$error":"#VALUE!"}},{"$error":"#VALUE!"},{"$error":"#VALUE!"},{"$error":"#VALUE!"}]
[45.5,0.79412480965741994,{"$f":"Burmester($B$3:$C$3,$B$4:$C$4,$B$5:$C$5,$E$3,$E$4,$E$5,B99)","v":{"$error":"#VALUE!"}},{"$error":"#VALUE!"},{"$f":"ThreePosition_Basic2($E$3,$E$5,$B$3:$C$3,$B$5:$C$5,B99,C99)","v":{"$error":"#VALUE!"}},{"$error":"#VALUE!"},{"$error":"#VALUE!"},{"$error":"#VALUE!"},{"$f":"ThreePosition_Basic2($E$3,$E$5,$B$3:$C$3,$B$5:$C$5,B99,D99)","v":{"$error":"#VALUE!"}},{"$error":"#VALUE!"},{"$error":"#VALUE!"},{"$error":"#VALUE!"}]
[46,0.80285145591739149,{"$f":"Burmester($B$3:$C$3,$B$4:$C$4,$B$5:$C$5,$E$3,$E$4,$E$5,B100)","v":{"$error":"#VALUE!"}},{"$error":"#VALUE!"},{"$f":"ThreePosition_Basic2($E$3,$E$5,$B$3:$C$3,$B$5:$C$5,B100,C100)","v":{"$error":"#VALUE!"}},{"$error":"#VALUE!"},{"$error":"#VALUE!"},{"$error":"#VALUE!"},{"$f":"ThreePosition_Basic2($E$3,$E$5,$B$3:$C$3,$B$5:$C$5,B100,D100)","v":{"$error":"#VALUE!"}},{"$error":"#VALUE!"},{"$error":"#VALUE!"},{"$error":"#VALUE!"}]
[46.5,0.81157810217736315,{"$f":"Burmester($B$3:$C$3,$B$4:$C$4,$B$5:$C$5,$E$3,$E$4,$E$5,B101)","v":{"$error":"#VALUE!"}},{"$error":"#VALUE!"},{"$f":"ThreePosition_Basic2($E$3,$E$5,$B$3:$C$3,$B$5:$C$5,B101,C101)","v":{"$error":"#VALUE!"}},{"$error":"#VALUE!"},{"$error":"#VALUE!"},{"$error":"#VALUE!"},{"$f":"ThreePosition_Basic2($E$3,$E$5,$B$3:$C$3,$B$5:$C$5,B101,D101)","v":{"$error":"#VALUE!"}},{"$error":"#VALUE!"},{"$error":"#VALUE!"},{"$error":"#VALUE!"}]
[47,0.82030474843733492,{"$f":"Burmester($B$3:$C$3,$B$4:$C$4,$B$5:$C$5,$E$3,$E$4,$E$5,B102)","v":{"$error":"#VALUE!"}},{"$error":"#VALUE!"},{"$f":"ThreePosition_Basic2($E$3,$E$5,$B$3:$C$3,$B$5:$C$5,B102,C102)","v":{"$error":"#VALUE!"}},{"$error":"#VALUE!"},{"$error":"#VALUE!"},{"$error":"#VALUE!"},{"$f":"ThreePosition_Basic2($E$3,$E$5,$B$3:$C$3,$B$5:$C$5,B102,D102)","v":{"$error":"#VALUE!"}},{"$error":"#VALUE!"},{"$error":"#VALUE!"},{"$error":"#VALUE!"}]
[47.5,0.82903139469730658,{"$f":"Burmester($B$3:$C$3,$B$4:$C$4,$B$5:$C$5,$E$3,$E$4,$E$5,B103)","v":{"$error":"#VALUE!"}},{"$error":"#VALUE!"},{"$f":"ThreePosition_Basic2($E$3,$E$5,$B$3:$C$3,$B$5:$C$5,B103,C103)","v":{"$error":"#VALUE!"}},{"$error":"#VALUE!"},{"$error":"#VALUE!"},{"$error":"#VALUE!"},{"$f":"ThreePosition_Basic2($E$3,$E$5,$B$3:$C$3,$B$5:$C$5,B103,D103)","v":{"$error":"#VALUE!"}},{"$error":"#VALUE!"},{"$error":"#VALUE!"},{"$error":"#VALUE!"}]
[48,0.83775804095727813,{"$f":"Burmester($B$3:$C$3,$B$4:$C$4,$B$5:$C$5,$E$3,$E$4,$E$5,B104)","v":{"$error":"#VALUE!"}},{"$error":"#VALUE!"},{"$f":"ThreePosition_Basic2($E$3,$E$5,$B$3:$C$3,$B$5:$C$5,B104,C104)","v":{"$error":"#VALUE!"}},{"$error":"#VALUE!"},{"$error":"#VALUE!"},{"$error":"#VALUE!"},{"$f":"ThreePosition_Basic2($E$3,$E$5,$B$3:$C$3,$B$5:$C$5,B104,D104)","v":{"$error":"#VALUE!"}},{"$error":"#VALUE!"},{"$error":"#VALUE!"},{"$error":"#VALUE!"}]
[48.5,0.84648468721724979,{"$f":"Burmester($B$3:$C$3,$B$4:$C$4,$B$5:$C$5,$E$3,$E$4,$E$5,B105)","v":{"$error":"#VALUE!"}},{"$error":"#VALUE!"},{"$f":"ThreePosition_Basic2($E$3,$E$5,$B$3:$C$3,$B$5:$C$5,B105,C105)","v":{"$error":"#VALUE!"}},{"$error":"#VALUE!"},{"$error":"#VALUE!"},{"$error":"#VALUE!"},{"$f":"ThreePosition_Basic2($E$3,$E$5,$B$3:$C$3,$B$5:$C$5,B105,D105)","v":{"$error":"#VALUE!"}},{"$error":"#VALUE!"},{"$error":"#VALUE!"},{"$error":"#VALUE!"}]
[49,0.85521133347722145,{"$f":"Burmester($B$3:$C$3,$B$4:$C$4,$B$5:$C$5,$E$3,$E$4,$E$5,B106)","v":{"$error":"#VALUE!"}},{"$error":"#VALUE!"},{"$f":"ThreePosition_Basic2($E$3,$E$5,$B$3:$C$3,$B$5:$C$5,B106,C106)","v":{"$error":"#VALUE!"}},{"$error":"#VALUE!"},{"$error":"#VALUE!"},{"$error":"#VALUE!"},{"$f":"ThreePosition_Basic2($E$3,$E$5,$B$3:$C$3,$B$5:$C$5,B106,D106)","v":{"$error":"#VALUE!"}},{"$error":"#VALUE!"},{"$error":"#VALUE!"},{"$error":"#VALUE!"}]
[49.5,0.86393797973719322,{"$f":"Burmester($B$3:$C$3,$B$4:$C$4,$B$5:$C$5,$E$3,$E$4,$E$5,B107)","v":{"$error":"#VALUE!"}},{"$error":"#VALUE!"},{"$f":"ThreePosition_Basic2($E$3,$E$5,$B$3:$C$3,$B$5:$C$5,B107,C107)","v":{"$error":"#VALUE!"}},{"$error":"#VALUE!"},{"$error":"#VALUE!"},{"$error":"#VALUE!"},{"$f":"ThreePosition_Basic2($E$3,$E$5,$B$3:$C$3,$B$5:$C$5,B107,D107)","v":{"$error":"#VALUE!"}},{"$error":"#VALUE!"},{"$error":"#VALUE!"},{"$error":"#VALUE!"}]
[50,0.87266462599716477,{"$f":"Burmester($B$3:$C$3,$B$4:$C$4,$B$5:$C$5,$E$3,$E$4,$E$5,B108)","v":{"$error":"#VALUE!"}},{"$error":"#VALUE!"},{"$f":"ThreePosition_Basic2($E$3,$E$5,$B$3:$C$3,$B$5:$C$5,B108,C108)","v":{"$error":"#VALUE!"}},{"$error":"#VALUE!"},{"$error":"#VALUE!"},{"$error":"#VALUE!"},{"$f":"ThreePosition_Basic2($E$3,$E$5,$B$3:$C$3,$B$5:$C$5,B108,D108)","v":{"$error":"#VALUE!"}},{"$error":"#VALUE!"},{"$error":"#VALUE!"},{"$error":"#VALUE!"}]
[50.5,0.88139127225713643,{"$f":"Burmester($B$3:$C$3,$B$4:$C$4,$B$5:$C$5,$E$3,$E$4,$E$5,B109)","v":{"$error":"#VALUE!"}},{"$error":"#VALUE!"},{"$f":"ThreePosition_Basic2($E$3,$E$5,$B$3:$C$3,$B$5:$C$5,B109,C109)","v":{"$error":"#VALUE!"}},{"$error":"#VALUE!"},{"$error":"#VALUE!"},{"$error":"#VALUE!"},{"$f":"ThreePosition_Basic2($E$3,$E$5,$B$3:$C$3,$B$5:$C$5,B109,D109)","v":{"$error":"#VALUE!"}},{"$error":"#VALUE!"},{"$error":"#VALUE!"},{"$error":"#VALUE!"}]
[51,0.89011791851710798,{"$f":"Burmester($B$3:$C$3,$B$4:$C$4,$B$5:$C$5,$E$3,$E$4,$E$5,B110)","v":{"$error":"#VALUE!"}},{"$error":"#VALUE!"},{"$f":"ThreePosition_Basic2($E$3,$E$5,$B$3:$C$3,$B$5:$C$5,B110,C110)","v":{"$error":"#VALUE!"}},{"$error":"#VALUE!"},{"$error":"#VALUE!"},{"$error":"#VALUE!"},{"$f":"ThreePosition_Basic2($E$3,$E$5,$B$3:$C$3,$B$5:$C$5,B110,D110)","v":{"$error":"#VALUE!"}},{"$error":"#VALUE!"},{"$error":"#VALUE!"},{"$error":"#VALUE!"}]
[51.5,0.89884456477707964,{"$f":"Burmester($B$3:$C$3,$B$4:$C$4,$B$5:$C$5,$E$3,$E$4,$E$5,B111)","v":{"$error":"#VALUE!"}},{"$error":"#VALUE!"},{"$f":"ThreePosition_Basic2($E$3,$E$5,$B$3:$C$3,$B$5:$C$5,B111,C111)","v":{"$error":"#VALUE!"}},{"$error":"#VALUE!"},{"$error":"#VALUE!"},{"$error":"#VALUE!"},{"$f":"ThreePosition_Basic2($E$3,$E$5,$B$3:$C$3,$B$5:$C$5,B111,D111)","v":{"$error":"#VALUE!"}},{"$error":"#VALUE!"},{"$error":"#VALUE!"},{"$error":"#VALUE!"}]
[52,0.90757121103705141,{"$f":"Burmester($B$3:$C$3,$B$4:$C$4,$B$5:$C$5,$E$3,$E$4,$E$5,B112)","v":{"$error":"#VALUE!"}},{"$error":"#VALUE!"},{"$f":"ThreePosition_Basic2($E$3,$E$5,$B$3:$C$3,$B$5:$C$5,B112,C112)","v":{"$error":"#VALUE!"}},{"$error":"#VALUE!"},{"$error":"#VALUE!"},{"$error":"#VALUE!"},{"$f":"ThreePosition_Basic2($E$3,$E$5,$B$3:$C$3,$B$5:$C$5,B112,D112)","v":{"$error":"#VALUE!"}},{"$error":"#VALUE!"},{"$error":"#VALUE!"},{"$error":"#VALUE!"}]
[52.5,0.91629785729702307,{"$f":"Burmester($B$3:$C$3,$B$4:$C$4,$B$5:$C$5,$E$3,$E$4,$E$5,B113)","v":{"$error":"#VALUE!"}},{"$error":"#VALUE!"},{"$f":"ThreePosition_Basic2($E$3,$E$5,$B$3:$C$3,$B$5:$C$5,B113,C113)","v":{"$error":"#VALUE!"}},{"$error":"#VALUE!"},{"$error":"#VALUE!"},{"$error":"#VALUE!"},{"$f":"ThreePosition_Basic2($E$3,$E$5,$B$3:$C$3,$B$5:$C$5,B113,D113)","v":{"$error":"#VALUE!"}},{"$error":"#VALUE!"},{"$error":"#VALUE!"},{"$error":"#VALUE!"}]
[53,0.92502450355699462,{"$f":"Burmester($B$3:$C$3,$B$4:$C$4,$B$5:$C$5,$E$3,$E$4,$E$5,B114)","v":{"$error":"#VALUE!"}},{"$error":"#VALUE!"},{"$f":"ThreePosition_Basic2($E$3,$E$5,$B$3:$C$3,$B$5:$C$5,B114,C114)","v":{"$error":"#VALUE!"}},{"$error":"#VALUE!"},{"$error":"#VALUE!"},{"$error":"#VALUE!"},{"$f":"ThreePosition_Basic2($E$3,$E$5,$B$3:$C$3,$B$5:$C$5,B114,D114)","v":{"$error":"#VALUE!"}},{"$error":"#VALUE!"},{"$error":"#VALUE!"},{"$error":"#VALUE!"}]
[53.5,0.93375114981696627,{"$f":"Burmester($B$3:$C$3,$B$4:$C$4,$B$5:$C$5,$E$3,$E$4,$E$5,B115)","v":{"$error":"#VALUE!"}},{"$error":"#VALUE!"},{"$f":"ThreePosition_Basic2($E$3,$E$5,$B$3:$C$3,$B$5:$C$5,B115,C115)","v":{"$error":"#VALUE!"}},{"$error":"#VALUE!"},{"$error":"#VALUE!"},{"$error":"#VALUE!"},{"$f":"ThreePosition_Basic2($E$3,$E$5,$B$3:$C$3,$B$5:$C$5,B115,D115)","v":{"$error":"#VALUE!"}},{"$error":"#VALUE!"},{"$error":"#VALUE!"},{"$error":"#VALUE!"}]
[54,0.94247779607693793,{"$f":"Burmester($B$3:$C$3,$B$4:$C$4,$B$5:$C$5,$E$3,$E$4,$E$5,B116)","v":{"$error":"#VALUE!"}},{"$error":"#VALUE!"},{"$f":"ThreePosition_Basic2($E$3,$E$5,$B$3:$C$3,$B$5:$C$5,B116,C116)","v":{"$error":"#VALUE!"}},{"$error":"#VALUE!"},{"$error":"#VALUE!"},{"$error":"#VALUE!"},{"$f":"ThreePosition_Basic2($E$3,$E$5,$B$3:$C$3,$B$5:$C$5,B116,D116)","v":{"$error":"#VALUE!"}},{"$error":"#VALUE!"},{"$error":"#VALUE!"},{"$error":"#VALUE!"}]
[54.5,0.95120444233690948,{"$f":"Burmester($B$3:$C$3,$B$4:$C$4,$B$5:$C$5,$E$3,$E$4,$E$5,B117)","v":{"$error":"#VALUE!"}},{"$error":"#VALUE!"},{"$f":"ThreePosition_Basic2($E$3,$E$5,$B$3:$C$3,$B$5:$C$5,B117,C117)","v":{"$error":"#VALUE!"}},{"$error":"#VALUE!"},{"$error":"#VALUE!"},{"$error":"#VALUE!"},{"$f":"ThreePosition_Basic2($E$3,$E$5,$B$3:$C$3,$B$5:$C$5,B117,D117)","v":{"$error":"#VALUE!"}},{"$error":"#VALUE!"},{"$error":"#VALUE!"},{"$error":"#VALUE!"}]
[55,0.95993108859688125,{"$f":"Burmester($B$3:$C$3,$B$4:$C$4,$B$5:$C$5,$E$3,$E$4,$E$5,B118)","v":{"$error":"#VALUE!"}},{"$error":"#VALUE!"},{"$f":"ThreePosition_Basic2($E$3,$E$5,$B$3:$C$3,$B$5:$C$5,B118,C118)","v":{"$error":"#VALUE!"}},{"$error":"#VALUE!"},{"$error":"#VALUE!"},{"$error":"#VALUE!"},{"$f":"ThreePosition_Basic2($E$3,$E$5,$B$3:$C$3,$B$5:$C$5,B118,D118)","v":{"$error":"#VALUE!"}},{"$error":"#VALUE!"},{"$error":"#VALUE!"},{"$error":"#VALUE!"}]
[55.5,0.96865773485685291,{"$f":"Burmester($B$3:$C$3,$B$4:$C$4,$B$5:$C$5,$E$3,$E$4,$E$5,B119)","v":{"$error":"#VALUE!"}},{"$error":"#VALUE!"},{"$f":"ThreePosition_Basic2($E$3,$E$5,$B$3:$C$3,$B$5:$C$5,B119,C119)","v":{"$error":"#VALUE!"}},{"$error":"#VALUE!"},{"$error":"#VALUE!"},{"$error":"#VALUE!"},{"$f":"ThreePosition_Basic2($E$3,$E$5,$B$3:$C$3,$B$5:$C$5,B119,D119)","v":{"$error":"#VALUE!"}},{"$error":"#VALUE!"},{"$error":"#VALUE!"},{"$error":"#VALUE!"}]
[56,0.97738438111682457,{"$f":"Burmester($B$3:$C$3,$B$4:$C$4,$B$5:$C$5,$E$3,$E$4,$E$5,B120)","v":{"$error":"#VALUE!"}},{"$error":"#VALUE!"},{"$f":"ThreePosition_Basic2($E$3,$E$5,$B$3:$C$3,$B$5:$C$5,B120,C120)","v":{"$error":"#VALUE!"}},{"$error":"#VALUE!"},{"$error":"#VALUE!"},{"$error":"#VALUE!"},{"$f":"ThreePosition_Basic2($E$3,$E$5,$B$3:$C$3,$B$5:$C$5,B120,D120)","v":{"$error":"#VALUE!"}},{"$error":"#VALUE!"},{"$error":"#VALUE!"},{"$error":"#VALUE!"}]
[56.5,0.98611102737679612,{"$f":"Burmester($B$3:$C$3,$B$4:$C$4,$B$5:$C$5,$E$3,$E$4,$E$5,B121)","v":{"$error":"#VALUE!"}},{"$error":"#VALUE!"},{"$f":"ThreePosition_Basic2($E$3,$E$5,$B$3:$C$3,$B$5:$C$5,B121,C121)","v":{"$error":"#VALUE!"}},{"$error":"#VALUE!"},{"$error":"#VALUE!"},{"$error":"#VALUE!"},{"$f":"ThreePosition_Basic2($E$3,$E$5,$B$3:$C$3,$B$5:$C$5,B121,D121)","v":{"$error":"#VALUE!"}},{"$error":"#VALUE!"},{"$error":"#VALUE!"},{"$error":"#VALUE!"}]
[57,0.99483767363676778,{"$f":"Burmester($B$3:$C$3,$B$4:$C$4,$B$5:$C$5,$E$3,$E$4,$E$5,B122)","v":{"$error":"#VALUE!"}},{"$error":"#VALUE!"},{"$f":"ThreePosition_Basic2($E$3,$E$5,$B$3:$C$3,$B$5:$C$5,B122,C122)","v":{"$error":"#VALUE!"}},{"$error":"#VALUE!"},{"$error":"#VALUE!"},{"$error":"#VALUE!"},{"$f":"ThreePosition_Basic2($E$3,$E$5,$B$3:$C$3,$B$5:$C$5,B122,D122)","v":{"$error":"#VALUE!"}},{"$error":"#VALUE!"},{"$error":"#VALUE!"},{"$error":"#VALUE!"}]
[57.5,1.0035643198967394,{"$f":"Burmester($B$3:$C$3,$B$4:$C$4,$B$5:$C$5,$E$3,$E$4,$E$5,B123)","v":{"$error":"#VALUE!"}},{"$error":"#VALUE!"},{"$f":"ThreePosition_Basic2($E$3,$E$5,$B$3:$C$3,$B$5:$C$5,B123,C123)","v":{"$error":"#VALUE!"}},{"$error":"#VALUE!"},{"$error":"#VALUE!"},{"$error":"#VALUE!"},{"$f":"ThreePosition_Basic2($E$3,$E$5,$B$3:$C$3,$B$5:$C$5,B123,D123)","v":{"$error":"#VALUE!"}},{"$error":"#VALUE!"},{"$error":"#VALUE!"},{"$error":"#VALUE!"}]
[58,1.0122909661567112,{"$f":"Burmester($B$3:$C$3,$B$4:$C$4,$B$5:$C$5,$E$3,$E$4,$E$5,B124)","v":{"$error":"#VALUE!"}},{"$error":"#VALUE!"},{"$f":"ThreePosition_Basic2($E$3,$E$5,$B$3:$C$3,$B$5:$C$5,B124,C124)","v":{"$error":"#VALUE!"}},{"$error":"#VALUE!"},{"$error":"#VALUE!"},{"$error":"#VALUE!"},{"$f":"ThreePosition_Basic2($E$3,$E$5,$B$3:$C$3,$B$5:$C$5,B124,D124)","v":{"$error":"#VALUE!"}},{"$error":"#VALUE!"},{"$error":"#VALUE!"},{"$error":"#VALUE!"}]
[58.5,1.0210176124166828,{"$f":"Burmester($B$3:$C$3,$B$4:$C$4,$B$5:$C$5,$E$3,$E$4,$E$5,B125)","v":{"$error":"#VALUE!"}},{"$error":"#VALUE!"},{"$f":"ThreePosition_Basic2($E$3,$E$5,$B$3:$C$3,$B$5:$C$5,B125,C125)","v":{"$error":"#VALUE!"}},{"$error":"#VALUE!"},{"$error":"#VALUE!"},{"$error":"#VALUE!"},{"$f":"ThreePosition_Basic2($E$3,$E$5,$B$3:$C$3,$B$5:$C$5,B125,D125)","v":{"$error":"#VALUE!"}},{"$error":"#VALUE!"},{"$error":"#VALUE!"},{"$error":"#VALUE!"}]
[59,1.0297442586766543,{"$f":"Burmester($B$3:$C$3,$B$4:$C$4,$B$5:$C$5,$E$3,$E$4,$E$5,B126)","v":{"$error":"#VALUE!"}},{"$error":"#VALUE!"},{"$f":"ThreePosition_Basic2($E$3,$E$5,$B$3:$C$3,$B$5:$C$5,B126,C126)","v":{"$error":"#VALUE!"}},{"$error":"#VALUE!"},{"$error":"#VALUE!"},{"$error":"#VALUE!"},{"$f":"ThreePosition_Basic2($E$3,$E$5,$B$3:$C$3,$B$5:$C$5,B126,D126)","v":{"$error":"#VALUE!"}},{"$error":"#VALUE!"},{"$error":"#VALUE!"},{"$error":"#VALUE!"}]
[59.5,1.0384709049366261,{"$f":"Burmester($B$3:$C$3,$B$4:$C$4,$B$5:$C$5,$E$3,$E$4,$E$5,B127)","v":{"$error":"#VALUE!"}},{"$error":"#VALUE!"},{"$f":"ThreePosition_Basic2($E$3,$E$5,$B$3:$C$3,$B$5:$C$5,B127,C127)","v":{"$error":"#VALUE!"}},{"$error":"#VALUE!"},{"$error":"#VALUE!"},{"$error":"#VALUE!"},{"$f":"ThreePosition_Basic2($E$3,$E$5,$B$3:$C$3,$B$5:$C$5,B127,D127)","v":{"$error":"#VALUE!"}},{"$error":"#VALUE!"},{"$error":"#VALUE!"},{"$error":"#VALUE!"}]
[60,1.0471975511965976,{"$f":"Burmester($B$3:$C$3,$B$4:$C$4,$B$5:$C$5,$E$3,$E$4,$E$5,B128)","v":{"$error":"#VALUE!"}},{"$error":"#VALUE!"},{"$f":"ThreePosition_Basic2($E$3,$E$5,$B$3:$C$3,$B$5:$C$5,B128,C128)","v":{"$error":"#VALUE!"}},{"$error":"#VALUE!"},{"$error":"#VALUE!"},{"$error":"#VALUE!"},{"$f":"ThreePosition_Basic2($E$3,$E$5,$B$3:$C$3,$B$5:$C$5,B128,D128)","v":{"$error":"#VALUE!"}},{"$error":"#VALUE!"},{"$error":"#VALUE!"},{"$error":"#VALUE!"}]
[60.5,1.0559241974565694,{"$f":"Burmester($B$3:$C$3,$B$4:$C$4,$B$5:$C$5,$E$3,$E$4,$E$5,B129)","v":{"$error":"#VALUE!"}},{"$error":"#VALUE!"},{"$f":"ThreePosition_Basic2($E$3,$E$5,$B$3:$C$3,$B$5:$C$5,B129,C129)","v":{"$error":"#VALUE!"}},{"$error":"#VALUE!"},{"$error":"#VALUE!"},{"$error":"#VALUE!"},{"$f":"ThreePosition_Basic2($E$3,$E$5,$B$3:$C$3,$B$5:$C$5,B129,D129)","v":{"$error":"#VALUE!"}},{"$error":"#VALUE!"},{"$error":"#VALUE!"},{"$error":"#VALUE!"}]
[61,1.064650843716541,{"$f":"Burmester($B$3:$C$3,$B$4:$C$4,$B$5:$C$5,$E$3,$E$4,$E$5,B130)","v":{"$error":"#VALUE!"}},{"$error":"#VALUE!"},{"$f":"ThreePosition_Basic2($E$3,$E$5,$B$3:$C$3,$B$5:$C$5,B130,C130)","v":{"$error":"#VALUE!"}},{"$error":"#VALUE!"},{"$error":"#VALUE!"},{"$error":"#VALUE!"},{"$f":"ThreePosition_Basic2($E$3,$E$5,$B$3:$C$3,$B$5:$C$5,B130,D130)","v":{"$error":"#VALUE!"}},{"$error":"#VALUE!"},{"$error":"#VALUE!"},{"$error":"#VALUE!"}]
[61.5,1.0733774899765127,{"$f":"Burmester($B$3:$C$3,$B$4:$C$4,$B$5:$C$5,$E$3,$E$4,$E$5,B131)","v":{"$error":"#VALUE!"}},{"$error":"#VALUE!"},{"$f":"ThreePosition_Basic2($E$3,$E$5,$B$3:$C$3,$B$5:$C$5,B131,C131)","v":{"$error":"#VALUE!"}},{"$error":"#VALUE!"},{"$error":"#VALUE!"},{"$error":"#VALUE!"},{"$f":"ThreePosition_Basic2($E$3,$E$5,$B$3:$C$3,$B$5:$C$5,B131,D131)","v":{"$error":"#VALUE!"}},{"$error":"#VALUE!"},{"$error":"#VALUE!"},{"$error":"#VALUE!"}]
[62,1.0821041362364843,{"$f":"Burmester($B$3:$C$3,$B$4:$C$4,$B$5:$C$5,$E$3,$E$4,$E$5,B132)","v":{"$error":"#VALUE!"}},{"$error":"#VALUE!"},{"$f":"ThreePosition_Basic2($E$3,$E$5,$B$3:$C$3,$B$5:$C$5,B132,C132)","v":{"$error":"#VALUE!"}},{"$error":"#VALUE!"},{"$error":"#VALUE!"},{"$error":"#VALUE!"},{"$f":"ThreePosition_Basic2($E$3,$E$5,$B$3:$C$3,$B$5:$C$5,B132,D132)","v":{"$error":"#VALUE!"}},{"$error":"#VALUE!"},{"$error":"#VALUE!"},{"$error":"#VALUE!"}]
[62.5,1.0908307824964558,{"$f":"Burmester($B$3:$C$3,$B$4:$C$4,$B$5:$C$5,$E$3,$E$4,$E$5,B133)","v":{"$error":"#VALUE!"}},{"$error":"#VALUE!"},{"$f":"ThreePosition_Basic2($E$3,$E$5,$B$3:$C$3,$B$5:$C$5,B133,C133)","v":{"$error":"#VALUE!"}},{"$error":"#VALUE!"},{"$error":"#VALUE!"},{"$error":"#VALUE!"},{"$f":"ThreePosition_Basic2($E$3,$E$5,$B$3:$C$3,$B$5:$C$5,B133,D133)","v":{"$error":"#VALUE!"}},{"$error":"#VALUE!"},{"$error":"#VALUE!"},{"$error":"#VALUE!"}]
[63,1.0995574287564276,{"$f":"Burmester($B$3:$C$3,$B$4:$C$4,$B$5:$C$5,$E$3,$E$4,$E$5,B134)","v":{"$error":"#VALUE!"}},{"$error":"#VALUE!"},{"$f":"ThreePosition_Basic2($E$3,$E$5,$B$3:$C$3,$B$5:$C$5,B134,C134)","v":{"$error":"#VALUE!"}},{"$error":"#VALUE!"},{"$error":"#VALUE!"},{"$error":"#VALUE!"},{"$f":"ThreePosition_Basic2($E$3,$E$5,$B$3:$C$3,$B$5:$C$5,B134,D134)","v":{"$error":"#VALUE!"}},{"$error":"#VALUE!"},{"$error":"#VALUE!"},{"$error":"#VALUE!"}]
[63.5,1.1082840750163994,{"$f":"Burmester($B$3:$C$3,$B$4:$C$4,$B$5:$C$5,$E$3,$E$4,$E$5,B135)","v":{"$error":"#VALUE!"}},{"$error":"#VALUE!"},{"$f":"ThreePosition_Basic2($E$3,$E$5,$B$3:$C$3,$B$5:$C$5,B135,C135)","v":{"$error":"#VALUE!"}},{"$error":"#VALUE!"},{"$error":"#VALUE!"},{"$error":"#VALUE!"},{"$f":"ThreePosition_Basic2($E$3,$E$5,$B$3:$C$3,$B$5:$C$5,B135,D135)","v":{"$error":"#VALUE!"}},{"$error":"#VALUE!"},{"$error":"#VALUE!"},{"$error":"#VALUE!"}]
[64,1.1170107212763709,{"$f":"Burmester($B$3:$C$3,$B$4:$C$4,$B$5:$C$5,$E$3,$E$4,$E$5,B136)","v":{"$error":"#VALUE!"}},{"$error":"#VALUE!"},{"$f":"ThreePosition_Basic2($E$3,$E$5,$B$3:$C$3,$B$5:$C$5,B136,C136)","v":{"$error":"#VALUE!"}},{"$error":"#VALUE!"},{"$error":"#VALUE!"},{"$error":"#VALUE!"},{"$f":"ThreePosition_Basic2($E$3,$E$5,$B$3:$C$3,$B$5:$C$5,B136,D136)","v":{"$error":"#VALUE!"}},{"$error":"#VALUE!"},{"$error":"#VALUE!"},{"$error":"#VALUE!"}]
[64.5,{"$f":"A137*PI()/180","v":1.1257373675363425},{"$f":"Burmester($B$3:$C$3,$B$4:$C$4,$B$5:$C$5,$E$3,$E$4,$E$5,B137)","v":{"$error":"#VALUE!"}},{"$error":"#VALUE!"},{"$f":"ThreePosition_Basic2($E$3,$E$5,$B$3:$C$3,$B$5:$C$5,B137,C137)","v":{"$error":"#VALUE!"}},{"$error":"#VALUE!"},{"$error":"#VALUE!"},{"$error":"#VALUE!"},{"$f":"ThreePosition_Basic2($E$3,$E$5,$B$3:$C$3,$B$5:$C$5,B137,D137)","v":{"$error":"#VALUE!"}},{"$error":"#VALUE!"},{"$error":"#VALUE!"},{"$error":"#VALUE!"}]
[65,1.1344640137963142,{"$f":"Burmester($B$3:$C$3,$B$4:$C$4,$B$5:$C$5,$E$3,$E$4,$E$5,B138)","v":{"$error":"#VALUE!"}},{"$error":"#VALUE!"},{"$f":"ThreePosition_Basic2($E$3,$E$5,$B$3:$C$3,$B$5:$C$5,B138,C138)","v":{"$error":"#VALUE!"}},{"$error":"#VALUE!"},{"$error":"#VALUE!"},{"$error":"#VALUE!"},{"$f":"ThreePosition_Basic2($E$3,$E$5,$B$3:$C$3,$B$5:$C$5,B138,D138)","v":{"$error":"#VALUE!"}},{"$error":"#VALUE!"},{"$error":"#VALUE!"},{"$error":"#VALUE!"}]
[65.5,1.143190660056286,{"$f":"Burmester($B$3:$C$3,$B$4:$C$4,$B$5:$C$5,$E$3,$E$4,$E$5,B139)","v":{"$error":"#VALUE!"}},{"$error":"#VALUE!"},{"$f":"ThreePosition_Basic2($E$3,$E$5,$B$3:$C$3,$B$5:$C$5,B139,C139)","v":{"$error":"#VALUE!"}},{"$error":"#VALUE!"},{"$error":"#VALUE!"},{"$error":"#VALUE!"},{"$f":"ThreePosition_Basic2($E$3,$E$5,$B$3:$C$3,$B$5:$C$5,B139,D139)","v":{"$error":"#VALUE!"}},{"$error":"#VALUE!"},{"$error":"#VALUE!"},{"$error":"#VALUE!"}]
[66,1.1519173063162575,{"$f":"Burmester($B$3:$C$3,$B$4:$C$4,$B$5:$C$5,$E$3,$E$4,$E$5,B140)","v":{"$error":"#VALUE!"}},{"$error":"#VALUE!"},{"$f":"ThreePosition_Basic2($E$3,$E$5,$B$3:$C$3,$B$5:$C$5,B140,C140)","v":{"$error":"#VALUE!"}},{"$error":"#VALUE!"},{"$error":"#VALUE!"},{"$error":"#VALUE!"},{"$f":"ThreePosition_Basic2($E$3,$E$5,$B$3:$C$3,$B$5:$C$5,B140,D140)","v":{"$error":"#VALUE!"}},{"$error":"#VALUE!"},{"$error":"#VALUE!"},{"$error":"#VALUE!"}]
[66.5,1.1606439525762291,{"$f":"Burmester($B$3:$C$3,$B$4:$C$4,$B$5:$C$5,$E$3,$E$4,$E$5,B141)","v":{"$error":"#VALUE!"}},{"$error":"#VALUE!"},{"$f":"ThreePosition_Basic2($E$3,$E$5,$B$3:$C$3,$B$5:$C$5,B141,C141)","v":{"$error":"#VALUE!"}},{"$error":"#VALUE!"},{"$error":"#VALUE!"},{"$error":"#VALUE!"},{"$f":"ThreePosition_Basic2($E$3,$E$5,$B$3:$C$3,$B$5:$C$5,B141,D141)","v":{"$error":"#VALUE!"}},{"$error":"#VALUE!"},{"$error":"#VALUE!"},{"$error":"#VALUE!"}]
[67,1.1693705988362006,{"$f":"Burmester($B$3:$C$3,$B$4:$C$4,$B$5:$C$5,$E$3,$E$4,$E$5,B142)","v":{"$error":"#VALUE!"}},{"$error":"#VALUE!"},{"$f":"ThreePosition_Basic2($E$3,$E$5,$B$3:$C$3,$B$5:$C$5,B142,C142)","v":{"$error":"#VALUE!"}},{"$error":"#VALUE!"},{"$error":"#VALUE!"},{"$error":"#VALUE!"},{"$f":"ThreePosition_Basic2($E$3,$E$5,$B$3:$C$3,$B$5:$C$5,B142,D142)","v":{"$error":"#VALUE!"}},{"$error":"#VALUE!"},{"$error":"#VALUE!"},{"$error":"#VALUE!"}]
[67.5,1.1780972450961724,{"$f":"Burmester($B$3:$C$3,$B$4:$C$4,$B$5:$C$5,$E$3,$E$4,$E$5,B143)","v":{"$error":"#VALUE!"}},{"$error":"#VALUE!"},{"$f":"ThreePosition_Basic2($E$3,$E$5,$B$3:$C$3,$B$5:$C$5,B143,C143)","v":{"$error":"#VALUE!"}},{"$error":"#VALUE!"},{"$error":"#VALUE!"},{"$error":"#VALUE!"},{"$f":"ThreePosition_Basic2($E$3,$E$5,$B$3:$C$3,$B$5:$C$5,B143,D143)","v":{"$error":"#VALUE!"}},{"$error":"#VALUE!"},{"$error":"#VALUE!"},{"$error":"#VALUE!"}]
[68,1.1868238913561442,{"$f":"Burmester($B$3:$C$3,$B$4:$C$4,$B$5:$C$5,$E$3,$E$4,$E$5,B144)","v":{"$error":"#VALUE!"}},{"$error":"#VALUE!"},{"$f":"ThreePosition_Basic2($E$3,$E$5,$B$3:$C$3,$B$5:$C$5,B144,C144)","v":{"$error":"#VALUE!"}},{"$error":"#VALUE!"},{"$error":"#VALUE!"},{"$error":"#VALUE!"},{"$f":"ThreePosition_Basic2($E$3,$E$5,$B$3:$C$3,$B$5:$C$5,B144,D144)","v":{"$error":"#VALUE!"}},{"$error":"#VALUE!"},{"$error":"#VALUE!"},{"$error":"#VALUE!"}]
[68.5,1.1955505376161157,{"$f":"Burmester($B$3:$C$3,$B$4:$C$4,$B$5:$C$5,$E$3,$E$4,$E$5,B145)","v":{"$error":"#VALUE!"}},{"$error":"#VALUE!"},{"$f":"ThreePosition_Basic2($E$3,$E$5,$B$3:$C$3,$B$5:$C$5,B145,C145)","v":{"$error":"#VALUE!"}},{"$error":"#VALUE!"},{"$error":"#VALUE!"},{"$error":"#VALUE!"},{"$f":"ThreePosition_Basic2($E$3,$E$5,$B$3:$C$3,$B$5:$C$5,B145,D145)","v":{"$error":"#VALUE!"}},{"$error":"#VALUE!"},{"$error":"#VALUE!"},{"$error":"#VALUE!"}]
[69,1.2042771838760873,{"$f":"Burmester($B$3:$C$3,$B$4:$C$4,$B$5:$C$5,$E$3,$E$4,$E$5,B146)","v":{"$error":"#VALUE!"}},{"$error":"#VALUE!"},{"$f":"ThreePosition_Basic2($E$3,$E$5,$B$3:$C$3,$B$5:$C$5,B146,C146)","v":{"$error":"#VALUE!"}},{"$error":"#VALUE!"},{"$error":"#VALUE!"},{"$error":"#VALUE!"},{"$f":"ThreePosition_Basic2($E$3,$E$5,$B$3:$C$3,$B$5:$C$5,B146,D146)","v":{"$error":"#VALUE!"}},{"$error":"#VALUE!"},{"$error":"#VALUE!"},{"$error":"#VALUE!"}]
[69.5,1.2130038301360591,{"$f":"Burmester($B$3:$C$3,$B$4:$C$4,$B$5:$C$5,$E$3,$E$4,$E$5,B147)","v":{"$error":"#VALUE!"}},{"$error":"#VALUE!"},{"$f":"ThreePosition_Basic2($E$3,$E$5,$B$3:$C$3,$B$5:$C$5,B147,C147)","v":{"$error":"#VALUE!"}},{"$error":"#VALUE!"},{"$error":"#VALUE!"},{"$error":"#VALUE!"},{"$f":"ThreePosition_Basic2($E$3,$E$5,$B$3:$C$3,$B$5:$C$5,B147,D147)","v":{"$error":"#VALUE!"}},{"$error":"#VALUE!"},{"$error":"#VALUE!"},{"$error":"#VALUE!"}]
[70,1.2217304763960306,{"$f":"Burmester($B$3:$C$3,$B$4:$C$4,$B$5:$C$5,$E$3,$E$4,$E$5,B148)","v":{"$error":"#VALUE!"}},{"$error":"#VALUE!"},{"$f":"ThreePosition_Basic2($E$3,$E$5,$B$3:$C$3,$B$5:$C$5,B148,C148)","v":{"$error":"#VALUE!"}},{"$error":"#VALUE!"},{"$error":"#VALUE!"},{"$error":"#VALUE!"},{"$f":"ThreePosition_Basic2($E$3,$E$5,$B$3:$C$3,$B$5:$C$5,B148,D148)","v":{"$error":"#VALUE!"}},{"$error":"#VALUE!"},{"$error":"#VALUE!"},{"$error":"#VALUE!"}]
[70.5,1.2304571226560022,{"$f":"Burmester($B$3:$C$3,$B$4:$C$4,$B$5:$C$5,$E$3,$E$4,$E$5,B149)","v":{"$error":"#VALUE!"}},{"$error":"#VALUE!"},{"$f":"ThreePosition_Basic2($E$3,$E$5,$B$3:$C$3,$B$5:$C$5,B149,C149)","v":{"$error":"#VALUE!"}},{"$error":"#VALUE!"},{"$error":"#VALUE!"},{"$error":"#VALUE!"},{"$f":"ThreePosition_Basic2($E$3,$E$5,$B$3:$C$3,$B$5:$C$5,B149,D149)","v":{"$error":"#VALUE!"}},{"$error":"#VALUE!"},{"$error":"#VALUE!"},{"$error":"#VALUE!"}]
[71,1.2391837689159739,{"$f":"Burmester($B$3:$C$3,$B$4:$C$4,$B$5:$C$5,$E$3,$E$4,$E$5,B150)","v":{"$error":"#VALUE!"}},{"$error":"#VALUE!"},{"$f":"ThreePosition_Basic2($E$3,$E$5,$B$3:$C$3,$B$5:$C$5,B150,C150)","v":{"$error":"#VALUE!"}},{"$error":"#VALUE!"},{"$error":"#VALUE!"},{"$error":"#VALUE!"},{"$f":"ThreePosition_Basic2($E$3,$E$5,$B$3:$C$3,$B$5:$C$5,B150,D150)","v":{"$error":"#VALUE!"}},{"$error":"#VALUE!"},{"$error":"#VALUE!"},{"$error":"#VALUE!"}]
[71.5,1.2479104151759457,{"$f":"Burmester($B$3:$C$3,$B$4:$C$4,$B$5:$C$5,$E$3,$E$4,$E$5,B151)","v":{"$error":"#VALUE!"}},{"$error":"#VALUE!"},{"$f":"ThreePosition_Basic2($E$3,$E$5,$B$3:$C$3,$B$5:$C$5,B151,C151)","v":{"$error":"#VALUE!"}},{"$error":"#VALUE!"},{"$error":"#VALUE!"},{"$error":"#VALUE!"},{"$f":"ThreePosition_Basic2($E$3,$E$5,$B$3:$C$3,$B$5:$C$5,B151,D151)","v":{"$error":"#VALUE!"}},{"$error":"#VALUE!"},{"$error":"#VALUE!"},{"$error":"#VALUE!"}]
[72,1.2566370614359172,{"$f":"Burmester($B$3:$C$3,$B$4:$C$4,$B$5:$C$5,$E$3,$E$4,$E$5,B152)","v":{"$error":"#VALUE!"}},{"$error":"#VALUE!"},{"$f":"ThreePosition_Basic2($E$3,$E$5,$B$3:$C$3,$B$5:$C$5,B152,C152)","v":{"$error":"#VALUE!"}},{"$error":"#VALUE!"},{"$error":"#VALUE!"},{"$error":"#VALUE!"},{"$f":"ThreePosition_Basic2($E$3,$E$5,$B$3:$C$3,$B$5:$C$5,B152,D152)","v":{"$error":"#VALUE!"}},{"$error":"#VALUE!"},{"$error":"#VALUE!"},{"$error":"#VALUE!"}]
[72.5,1.2653637076958888,{"$f":"Burmester($B$3:$C$3,$B$4:$C$4,$B$5:$C$5,$E$3,$E$4,$E$5,B153)","v":{"$error":"#VALUE!"}},{"$error":"#VALUE!"},{"$f":"ThreePosition_Basic2($E$3,$E$5,$B$3:$C$3,$B$5:$C$5,B153,C153)","v":{"$error":"#VALUE!"}},{"$error":"#VALUE!"},{"$error":"#VALUE!"},{"$error":"#VALUE!"},{"$f":"ThreePosition_Basic2($E$3,$E$5,$B$3:$C$3,$B$5:$C$5,B153,D153)","v":{"$error":"#VALUE!"}},{"$error":"#VALUE!"},{"$error":"#VALUE!"},{"$error":"#VALUE!"}]
[73,1.2740903539558606,{"$f":"Burmester($B$3:$C$3,$B$4:$C$4,$B$5:$C$5,$E$3,$E$4,$E$5,B154)","v":{"$error":"#VALUE!"}},{"$error":"#VALUE!"},{"$f":"ThreePosition_Basic2($E$3,$E$5,$B$3:$C$3,$B$5:$C$5,B154,C154)","v":{"$error":"#VALUE!"}},{"$error":"#VALUE!"},{"$error":"#VALUE!"},{"$error":"#VALUE!"},{"$f":"ThreePosition_Basic2($E$3,$E$5,$B$3:$C$3,$B$5:$C$5,B154,D154)","v":{"$error":"#VALUE!"}},{"$error":"#VALUE!"},{"$error":"#VALUE!"},{"$error":"#VALUE!"}]
[73.5,1.2828170002158323,{"$f":"Burmester($B$3:$C$3,$B$4:$C$4,$B$5:$C$5,$E$3,$E$4,$E$5,B155)","v":{"$error":"#VALUE!"}},{"$error":"#VALUE!"},{"$f":"ThreePosition_Basic2($E$3,$E$5,$B$3:$C$3,$B$5:$C$5,B155,C155)","v":{"$error":"#VALUE!"}},{"$error":"#VALUE!"},{"$error":"#VALUE!"},{"$error":"#VALUE!"},{"$f":"ThreePosition_Basic2($E$3,$E$5,$B$3:$C$3,$B$5:$C$5,B155,D155)","v":{"$error":"#VALUE!"}},{"$error":"#VALUE!"},{"$error":"#VALUE!"},{"$error":"#VALUE!"}]
[74,1.2915436464758039,{"$f":"Burmester($B$3:$C$3,$B$4:$C$4,$B$5:$C$5,$E$3,$E$4,$E$5,B156)","v":{"$error":"#VALUE!"}},{"$error":"#VALUE!"},{"$f":"ThreePosition_Basic2($E$3,$E$5,$B$3:$C$3,$B$5:$C$5,B156,C156)","v":{"$error":"#VALUE!"}},{"$error":"#VALUE!"},{"$error":"#VALUE!"},{"$error":"#VALUE!"},{"$f":"ThreePosition_Basic2($E$3,$E$5,$B$3:$C$3,$B$5:$C$5,B156,D156)","v":{"$error":"#VALUE!"}},{"$error":"#VALUE!"},{"$error":"#VALUE!"},{"$error":"#VALUE!"}]
[74.5,1.3002702927357754,{"$f":"Burmester($B$3:$C$3,$B$4:$C$4,$B$5:$C$5,$E$3,$E$4,$E$5,B157)","v":{"$error":"#VALUE!"}},{"$error":"#VALUE!"},{"$f":"ThreePosition_Basic2($E$3,$E$5,$B$3:$C$3,$B$5:$C$5,B157,C157)","v":{"$error":"#VALUE!"}},{"$error":"#VALUE!"},{"$error":"#VALUE!"},{"$error":"#VALUE!"},{"$f":"ThreePosition_Basic2($E$3,$E$5,$B$3:$C$3,$B$5:$C$5,B157,D157)","v":{"$error":"#VALUE!"}},{"$error":"#VALUE!"},{"$error":"#VALUE!"},{"$error":"#VALUE!"}]
[75,1.3089969389957472,{"$f":"Burmester($B$3:$C$3,$B$4:$C$4,$B$5:$C$5,$E$3,$E$4,$E$5,B158)","v":{"$error":"#VALUE!"}},{"$error":"#VALUE!"},{"$f":"ThreePosition_Basic2($E$3,$E$5,$B$3:$C$3,$B$5:$C$5,B158,C158)","v":{"$error":"#VALUE!"}},{"$error":"#VALUE!"},{"$error":"#VALUE!"},{"$error":"#VALUE!"},{"$f":"ThreePosition_Basic2($E$3,$E$5,$B$3:$C$3,$B$5:$C$5,B158,D158)","v":{"$error":"#VALUE!"}},{"$error":"#VALUE!"},{"$error":"#VALUE!"},{"$error":"#VALUE!"}]
[75.5,1.3177235852557188,{"$f":"Burmester($B$3:$C$3,$B$4:$C$4,$B$5:$C$5,$E$3,$E$4,$E$5,B159)","v":{"$error":"#VALUE!"}},{"$error":"#VALUE!"},{"$f":"ThreePosition_Basic2($E$3,$E$5,$B$3:$C$3,$B$5:$C$5,B159,C159)","v":{"$error":"#VALUE!"}},{"$error":"#VALUE!"},{"$error":"#VALUE!"},{"$error":"#VALUE!"},{"$f":"ThreePosition_Basic2($E$3,$E$5,$B$3:$C$3,$B$5:$C$5,B159,D159)","v":{"$error":"#VALUE!"}},{"$error":"#VALUE!"},{"$error":"#VALUE!"},{"$error":"#VALUE!"}]
[76,1.3264502315156903,{"$f":"Burmester($B$3:$C$3,$B$4:$C$4,$B$5:$C$5,$E$3,$E$4,$E$5,B160)","v":{"$error":"#VALUE!"}},{"$error":"#VALUE!"},{"$f":"ThreePosition_Basic2($E$3,$E$5,$B$3:$C$3,$B$5:$C$5,B160,C160)","v":{"$error":"#VALUE!"}},{"$error":"#VALUE!"},{"$error":"#VALUE!"},{"$error":"#VALUE!"},{"$f":"ThreePosition_Basic2($E$3,$E$5,$B$3:$C$3,$B$5:$C$5,B160,D160)","v":{"$error":"#VALUE!"}},{"$error":"#VALUE!"},{"$error":"#VALUE!"},{"$error":"#VALUE!"}]
[76.5,1.3351768777756621,{"$f":"Burmester($B$3:$C$3,$B$4:$C$4,$B$5:$C$5,$E$3,$E$4,$E$5,B161)","v":{"$error":"#VALUE!"}},{"$error":"#VALUE!"},{"$f":"ThreePosition_Basic2($E$3,$E$5,$B$3:$C$3,$B$5:$C$5,B161,C161)","v":{"$error":"#VALUE!"}},{"$error":"#VALUE!"},{"$error":"#VALUE!"},{"$error":"#VALUE!"},{"$f":"ThreePosition_Basic2($E$3,$E$5,$B$3:$C$3,$B$5:$C$5,B161,D161)","v":{"$error":"#VALUE!"}},{"$error":"#VALUE!"},{"$error":"#VALUE!"},{"$error":"#VALUE!"}]
[77,1.3439035240356338,{"$f":"Burmester($B$3:$C$3,$B$4:$C$4,$B$5:$C$5,$E$3,$E$4,$E$5,B162)","v":{"$error":"#VALUE!"}},{"$error":"#VALUE!"},{"$f":"ThreePosition_Basic2($E$3,$E$5,$B$3:$C$3,$B$5:$C$5,B162,C162)","v":{"$error":"#VALUE!"}},{"$error":"#VALUE!"},{"$error":"#VALUE!"},{"$error":"#VALUE!"},{"$f":"ThreePosition_Basic2($E$3,$E$5,$B$3:$C$3,$B$5:$C$5,B162,D162)","v":{"$error":"#VALUE!"}},{"$error":"#VALUE!"},{"$error":"#VALUE!"},{"$error":"#VALUE!"}]
[77.5,1.3526301702956054,{"$f":"Burmester($B$3:$C$3,$B$4:$C$4,$B$5:$C$5,$E$3,$E$4,$E$5,B163)","v":{"$error":"#VALUE!"}},{"$error":"#VALUE!"},{"$f":"ThreePosition_Basic2($E$3,$E$5,$B$3:$C$3,$B$5:$C$5,B163,C163)","v":{"$error":"#VALUE!"}},{"$error":"#VALUE!"},{"$error":"#VALUE!"},{"$error":"#VALUE!"},{"$f":"ThreePosition_Basic2($E$3,$E$5,$B$3:$C$3,$B$5:$C$5,B163,D163)","v":{"$error":"#VALUE!"}},{"$error":"#VALUE!"},{"$error":"#VALUE!"},{"$error":"#VALUE!"}]
[78,1.3613568165555769,{"$f":"Burmester($B$3:$C$3,$B$4:$C$4,$B$5:$C$5,$E$3,$E$4,$E$5,B164)","v":{"$error":"#VALUE!"}},{"$error":"#VALUE!"},{"$f":"ThreePosition_Basic2($E$3,$E$5,$B$3:$C$3,$B$5:$C$5,B164,C164)","v":{"$error":"#VALUE!"}},{"$error":"#VALUE!"},{"$error":"#VALUE!"},{"$error":"#VALUE!"},{"$f":"ThreePosition_Basic2($E$3,$E$5,$B$3:$C$3,$B$5:$C$5,B164,D164)","v":{"$error":"#VALUE!"}},{"$error":"#VALUE!"},{"$error":"#VALUE!"},{"$error":"#VALUE!"}]
[78.5,1.3700834628155485,{"$f":"Burmester($B$3:$C$3,$B$4:$C$4,$B$5:$C$5,$E$3,$E$4,$E$5,B165)","v":{"$error":"#VALUE!"}},{"$error":"#VALUE!"},{"$f":"ThreePosition_Basic2($E$3,$E$5,$B$3:$C$3,$B$5:$C$5,B165,C165)","v":{"$error":"#VALUE!"}},{"$error":"#VALUE!"},{"$error":"#VALUE!"},{"$error":"#VALUE!"},{"$f":"ThreePosition_Basic2($E$3,$E$5,$B$3:$C$3,$B$5:$C$5,B165,D165)","v":{"$error":"#VALUE!"}},{"$error":"#VALUE!"},{"$error":"#VALUE!"},{"$error":"#VALUE!"}]
[79,1.3788101090755203,{"$f":"Burmester($B$3:$C$3,$B$4:$C$4,$B$5:$C$5,$E$3,$E$4,$E$5,B166)","v":{"$error":"#VALUE!"}},{"$error":"#VALUE!"},{"$f":"ThreePosition_Basic2($E$3,$E$5,$B$3:$C$3,$B$5:$C$5,B166,C166)","v":{"$error":"#VALUE!"}},{"$error":"#VALUE!"},{"$error":"#VALUE!"},{"$error":"#VALUE!"},{"$f":"ThreePosition_Basic2($E$3,$E$5,$B$3:$C$3,$B$5:$C$5,B166,D166)","v":{"$error":"#VALUE!"}},{"$error":"#VALUE!"},{"$error":"#VALUE!"},{"$error":"#VALUE!"}]
[79.5,1.387536755335492,{"$f":"Burmester($B$3:$C$3,$B$4:$C$4,$B$5:$C$5,$E$3,$E$4,$E$5,B167)","v":{"$error":"#VALUE!"}},{"$error":"#VALUE!"},{"$f":"ThreePosition_Basic2($E$3,$E$5,$B$3:$C$3,$B$5:$C$5,B167,C167)","v":{"$error":"#VALUE!"}},{"$error":"#VALUE!"},{"$error":"#VALUE!"},{"$error":"#VALUE!"},{"$f":"ThreePosition_Basic2($E$3,$E$5,$B$3:$C$3,$B$5:$C$5,B167,D167)","v":{"$error":"#VALUE!"}},{"$error":"#VALUE!"},{"$error":"#VALUE!"},{"$error":"#VALUE!"}]
[80,1.3962634015954636,{"$f":"Burmester($B$3:$C$3,$B$4:$C$4,$B$5:$C$5,$E$3,$E$4,$E$5,B168)","v":{"$error":"#VALUE!"}},{"$error":"#VALUE!"},{"$f":"ThreePosition_Basic2($E$3,$E$5,$B$3:$C$3,$B$5:$C$5,B168,C168)","v":{"$error":"#VALUE!"}},{"$error":"#VALUE!"},{"$error":"#VALUE!"},{"$error":"#VALUE!"},{"$f":"ThreePosition_Basic2($E$3,$E$5,$B$3:$C$3,$B$5:$C$5,B168,D168)","v":{"$error":"#VALUE!"}},{"$error":"#VALUE!"},{"$error":"#VALUE!"},{"$error":"#VALUE!"}]
[80.5,1.4049900478554351,{"$f":"Burmester($B$3:$C$3,$B$4:$C$4,$B$5:$C$5,$E$3,$E$4,$E$5,B169)","v":{"$error":"#VALUE!"}},{"$error":"#VALUE!"},{"$f":"ThreePosition_Basic2($E$3,$E$5,$B$3:$C$3,$B$5:$C$5,B169,C169)","v":{"$error":"#VALUE!"}},{"$error":"#VALUE!"},{"$error":"#VALUE!"},{"$error":"#VALUE!"},{"$f":"ThreePosition_Basic2($E$3,$E$5,$B$3:$C$3,$B$5:$C$5,B169,D169)","v":{"$error":"#VALUE!"}},{"$error":"#VALUE!"},{"$error":"#VALUE!"},{"$error":"#VALUE!"}]
[81,1.4137166941154069,{"$f":"Burmester($B$3:$C$3,$B$4:$C$4,$B$5:$C$5,$E$3,$E$4,$E$5,B170)","v":{"$error":"#VALUE!"}},{"$error":"#VALUE!"},{"$f":"ThreePosition_Basic2($E$3,$E$5,$B$3:$C$3,$B$5:$C$5,B170,C170)","v":{"$error":"#VALUE!"}},{"$error":"#VALUE!"},{"$error":"#VALUE!"},{"$error":"#VALUE!"},{"$f":"ThreePosition_Basic2($E$3,$E$5,$B$3:$C$3,$B$5:$C$5,B170,D170)","v":{"$error":"#VALUE!"}},{"$error":"#VALUE!"},{"$error":"#VALUE!"},{"$error":"#VALUE!"}]
[81.5,1.4224433403753785,{"$f":"Burmester($B$3:$C$3,$B$4:$C$4,$B$5:$C$5,$E$3,$E$4,$E$5,B171)","v":{"$error":"#VALUE!"}},{"$error":"#VALUE!"},{"$f":"ThreePosition_Basic2($E$3,$E$5,$B$3:$C$3,$B$5:$C$5,B171,C171)","v":{"$error":"#VALUE!"}},{"$error":"#VALUE!"},{"$error":"#VALUE!"},{"$error":"#VALUE!"},{"$f":"ThreePosition_Basic2($E$3,$E$5,$B$3:$C$3,$B$5:$C$5,B171,D171)","v":{"$error":"#VALUE!"}},{"$error":"#VALUE!"},{"$error":"#VALUE!"},{"$error":"#VALUE!"}]
[82,1.43116998663535,{"$f":"Burmester($B$3:$C$3,$B$4:$C$4,$B$5:$C$5,$E$3,$E$4,$E$5,B172)","v":{"$error":"#VALUE!"}},{"$error":"#VALUE!"},{"$f":"ThreePosition_Basic2($E$3,$E$5,$B$3:$C$3,$B$5:$C$5,B172,C172)","v":{"$error":"#VALUE!"}},{"$error":"#VALUE!"},{"$error":"#VALUE!"},{"$error":"#VALUE!"},{"$f":"ThreePosition_Basic2($E$3,$E$5,$B$3:$C$3,$B$5:$C$5,B172,D172)","v":{"$error":"#VALUE!"}},{"$error":"#VALUE!"},{"$error":"#VALUE!"},{"$error":"#VALUE!"}]
[82.5,1.4398966328953218,{"$f":"Burmester($B$3:$C$3,$B$4:$C$4,$B$5:$C$5,$E$3,$E$4,$E$5,B173)","v":{"$error":"#VALUE!"}},{"$error":"#VALUE!"},{"$f":"ThreePosition_Basic2($E$3,$E$5,$B$3:$C$3,$B$5:$C$5,B173,C173)","v":{"$error":"#VALUE!"}},{"$error":"#VALUE!"},{"$error":"#VALUE!"},{"$error":"#VALUE!"},{"$f":"ThreePosition_Basic2($E$3,$E$5,$B$3:$C$3,$B$5:$C$5,B173,D173)","v":{"$error":"#VALUE!"}},{"$error":"#VALUE!"},{"$error":"#VALUE!"},{"$error":"#VALUE!"}]
[83,1.4486232791552935,{"$f":"Burmester($B$3:$C$3,$B$4:$C$4,$B$5:$C$5,$E$3,$E$4,$E$5,B174)","v":{"$error":"#VALUE!"}},{"$error":"#VALUE!"},{"$f":"ThreePosition_Basic2($E$3,$E$5,$B$3:$C$3,$B$5:$C$5,B174,C174)","v":{"$error":"#VALUE!"}},{"$error":"#VALUE!"},{"$error":"#VALUE!"},{"$error":"#VALUE!"},{"$f":"ThreePosition_Basic2($E$3,$E$5,$B$3:$C$3,$B$5:$C$5,B174,D174)","v":{"$error":"#VALUE!"}},{"$error":"#VALUE!"},{"$error":"#VALUE!"},{"$error":"#VALUE!"}]
[83.5,1.4573499254152653,{"$f":"Burmester($B$3:$C$3,$B$4:$C$4,$B$5:$C$5,$E$3,$E$4,$E$5,B175)","v":{"$error":"#VALUE!"}},{"$error":"#VALUE!"},{"$f":"ThreePosition_Basic2($E$3,$E$5,$B$3:$C$3,$B$5:$C$5,B175,C175)","v":{"$error":"#VALUE!"}},{"$error":"#VALUE!"},{"$error":"#VALUE!"},{"$error":"#VALUE!"},{"$f":"ThreePosition_Basic2($E$3,$E$5,$B$3:$C$3,$B$5:$C$5,B175,D175)","v":{"$error":"#VALUE!"}},{"$error":"#VALUE!"},{"$error":"#VALUE!"},{"$error":"#VALUE!"}]
[84,1.4660765716752369,{"$f":"Burmester($B$3:$C$3,$B$4:$C$4,$B$5:$C$5,$E$3,$E$4,$E$5,B176)","v":{"$error":"#VALUE!"}},{"$error":"#VALUE!"},{"$f":"ThreePosition_Basic2($E$3,$E$5,$B$3:$C$3,$B$5:$C$5,B176,C176)","v":{"$error":"#VALUE!"}},{"$error":"#VALUE!"},{"$error":"#VALUE!"},{"$error":"#VALUE!"},{"$f":"ThreePosition_Basic2($E$3,$E$5,$B$3:$C$3,$B$5:$C$5,B176,D176)","v":{"$error":"#VALUE!"}},{"$error":"#VALUE!"},{"$error":"#VALUE!"},{"$error":"#VALUE!"}]
[84.5,1.4748032179352084,{"$f":"Burmester($B$3:$C$3,$B$4:$C$4,$B$5:$C$5,$E$3,$E$4,$E$5,B177)","v":{"$error":"#VALUE!"}},{"$error":"#VALUE!"},{"$f":"ThreePosition_Basic2($E$3,$E$5,$B$3:$C$3,$B$5:$C$5,B177,C177)","v":{"$error":"#VALUE!"}},{"$error":"#VALUE!"},{"$error":"#VALUE!"},{"$error":"#VALUE!"},{"$f":"ThreePosition_Basic2($E$3,$E$5,$B$3:$C$3,$B$5:$C$5,B177,D177)","v":{"$error":"#VALUE!"}},{"$error":"#VALUE!"},{"$error":"#VALUE!"},{"$error":"#VALUE!"}]
[85,1.4835298641951802,{"$f":"Burmester($B$3:$C$3,$B$4:$C$4,$B$5:$C$5,$E$3,$E$4,$E$5,B178)","v":{"$error":"#VALUE!"}},{"$error":"#VALUE!"},{"$f":"ThreePosition_Basic2($E$3,$E$5,$B$3:$C$3,$B$5:$C$5,B178,C178)","v":{"$error":"#VALUE!"}},{"$error":"#VALUE!"},{"$error":"#VALUE!"},{"$error":"#VALUE!"},{"$f":"ThreePosition_Basic2($E$3,$E$5,$B$3:$C$3,$B$5:$C$5,B178,D178)","v":{"$error":"#VALUE!"}},{"$error":"#VALUE!"},{"$error":"#VALUE!"},{"$error":"#VALUE!"}]
[85.5,1.4922565104551517,{"$f":"Burmester($B$3:$C$3,$B$4:$C$4,$B$5:$C$5,$E$3,$E$4,$E$5,B179)","v":{"$error":"#VALUE!"}},{"$error":"#VALUE!"},{"$f":"ThreePosition_Basic2($E$3,$E$5,$B$3:$C$3,$B$5:$C$5,B179,C179)","v":{"$error":"#VALUE!"}},{"$error":"#VALUE!"},{"$error":"#VALUE!"},{"$error":"#VALUE!"},{"$f":"ThreePosition_Basic2($E$3,$E$5,$B$3:$C$3,$B$5:$C$5,B179,D179)","v":{"$error":"#VALUE!"}},{"$error":"#VALUE!"},{"$error":"#VALUE!"},{"$error":"#VALUE!"}]
[86,1.5009831567151233,{"$f":"Burmester($B$3:$C$3,$B$4:$C$4,$B$5:$C$5,$E$3,$E$4,$E$5,B180)","v":{"$error":"#VALUE!"}},{"$error":"#VALUE!"},{"$f":"ThreePosition_Basic2($E$3,$E$5,$B$3:$C$3,$B$5:$C$5,B180,C180)","v":{"$error":"#VALUE!"}},{"$error":"#VALUE!"},{"$error":"#VALUE!"},{"$error":"#VALUE!"},{"$f":"ThreePosition_Basic2($E$3,$E$5,$B$3:$C$3,$B$5:$C$5,B180,D180)","v":{"$error":"#VALUE!"}},{"$error":"#VALUE!"},{"$error":"#VALUE!"},{"$error":"#VALUE!"}]
[86.5,1.509709802975095,{"$f":"Burmester($B$3:$C$3,$B$4:$C$4,$B$5:$C$5,$E$3,$E$4,$E$5,B181)","v":{"$error":"#VALUE!"}},{"$error":"#VALUE!"},{"$f":"ThreePosition_Basic2($E$3,$E$5,$B$3:$C$3,$B$5:$C$5,B181,C181)","v":{"$error":"#VALUE!"}},{"$error":"#VALUE!"},{"$error":"#VALUE!"},{"$error":"#VALUE!"},{"$f":"ThreePosition_Basic2($E$3,$E$5,$B$3:$C$3,$B$5:$C$5,B181,D181)","v":{"$error":"#VALUE!"}},{"$error":"#VALUE!"},{"$error":"#VALUE!"},{"$error":"#VALUE!"}]
[87,1.5184364492350666,{"$f":"Burmester($B$3:$C$3,$B$4:$C$4,$B$5:$C$5,$E$3,$E$4,$E$5,B182)","v":{"$error":"#VALUE!"}},{"$error":"#VALUE!"},{"$f":"ThreePosition_Basic2($E$3,$E$5,$B$3:$C$3,$B$5:$C$5,B182,C182)","v":{"$error":"#VALUE!"}},{"$error":"#VALUE!"},{"$error":"#VALUE!"},{"$error":"#VALUE!"},{"$f":"ThreePosition_Basic2($E$3,$E$5,$B$3:$C$3,$B$5:$C$5,B182,D182)","v":{"$error":"#VALUE!"}},{"$error":"#VALUE!"},{"$error":"#VALUE!"},{"$error":"#VALUE!"}]
[87.5,1.5271630954950381,{"$f":"Burmester($B$3:$C$3,$B$4:$C$4,$B$5:$C$5,$E$3,$E$4,$E$5,B183)","v":{"$error":"#VALUE!"}},{"$error":"#VALUE!"},{"$f":"ThreePosition_Basic2($E$3,$E$5,$B$3:$C$3,$B$5:$C$5,B183,C183)","v":{"$error":"#VALUE!"}},{"$error":"#VALUE!"},{"$error":"#VALUE!"},{"$error":"#VALUE!"},{"$f":"ThreePosition_Basic2($E$3,$E$5,$B$3:$C$3,$B$5:$C$5,B183,D183)","v":{"$error":"#VALUE!"}},{"$error":"#VALUE!"},{"$error":"#VALUE!"},{"$error":"#VALUE!"}]
[88,1.5358897417550099,{"$f":"Burmester($B$3:$C$3,$B$4:$C$4,$B$5:$C$5,$E$3,$E$4,$E$5,B184)","v":{"$error":"#VALUE!"}},{"$error":"#VALUE!"},{"$f":"ThreePosition_Basic2($E$3,$E$5,$B$3:$C$3,$B$5:$C$5,B184,C184)","v":{"$error":"#VALUE!"}},{"$error":"#VALUE!"},{"$error":"#VALUE!"},{"$error":"#VALUE!"},{"$f":"ThreePosition_Basic2($E$3,$E$5,$B$3:$C$3,$B$5:$C$5,B184,D184)","v":{"$error":"#VALUE!"}},{"$error":"#VALUE!"},{"$error":"#VALUE!"},{"$error":"#VALUE!"}]
[88.5,1.5446163880149817,{"$f":"Burmester($B$3:$C$3,$B$4:$C$4,$B$5:$C$5,$E$3,$E$4,$E$5,B185)","v":{"$error":"#VALUE!"}},{"$error":"#VALUE!"},{"$f":"ThreePosition_Basic2($E$3,$E$5,$B$3:$C$3,$B$5:$C$5,B185,C185)","v":{"$error":"#VALUE!"}},{"$error":"#VALUE!"},{"$error":"#VALUE!"},{"$error":"#VALUE!"},{"$f":"ThreePosition_Basic2($E$3,$E$5,$B$3:$C$3,$B$5:$C$5,B185,D185)","v":{"$error":"#VALUE!"}},{"$error":"#VALUE!"},{"$error":"#VALUE!"},{"$error":"#VALUE!"}]
[89,1.5533430342749535,{"$f":"Burmester($B$3:$C$3,$B$4:$C$4,$B$5:$C$5,$E$3,$E$4,$E$5,B186)","v":{"$error":"#VALUE!"}},{"$error":"#VALUE!"},{"$f":"ThreePosition_Basic2($E$3,$E$5,$B$3:$C$3,$B$5:$C$5,B186,C186)","v":{"$error":"#VALUE!"}},{"$error":"#VALUE!"},{"$error":"#VALUE!"},{"$error":"#VALUE!"},{"$f":"ThreePosition_Basic2($E$3,$E$5,$B$3:$C$3,$B$5:$C$5,B186,D186)","v":{"$error":"#VALUE!"}},{"$error":"#VALUE!"},{"$error":"#VALUE!"},{"$error":"#VALUE!"}]
[89.5,1.562069680534925,{"$f":"Burmester($B$3:$C$3,$B$4:$C$4,$B$5:$C$5,$E$3,$E$4,$E$5,B187)","v":{"$error":"#VALUE!"}},{"$error":"#VALUE!"},{"$f":"ThreePosition_Basic2($E$3,$E$5,$B$3:$C$3,$B$5:$C$5,B187,C187)","v":{"$error":"#VALUE!"}},{"$error":"#VALUE!"},{"$error":"#VALUE!"},{"$error":"#VALUE!"},{"$f":"ThreePosition_Basic2($E$3,$E$5,$B$3:$C$3,$B$5:$C$5,B187,D187)","v":{"$error":"#VALUE!"}},{"$error":"#VALUE!"},{"$error":"#VALUE!"},{"$error":"#VALUE!"}]
[90,1.5707963267948966,{"$f":"Burmester($B$3:$C$3,$B$4:$C$4,$B$5:$C$5,$E$3,$E$4,$E$5,B188)","v":{"$error":"#VALUE!"}},{"$error":"#VALUE!"},{"$f":"ThreePosition_Basic2($E$3,$E$5,$B$3:$C$3,$B$5:$C$5,B188,C188)","v":{"$error":"#VALUE!"}},{"$error":"#VALUE!"},{"$error":"#VALUE!"},{"$error":"#VALUE!"},{"$f":"ThreePosition_Basic2($E$3,$E$5,$B$3:$C$3,$B$5:$C$5,B188,D188)","v":{"$error":"#VALUE!"}},{"$error":"#VALUE!"},{"$error":"#VALUE!"},{"$error":"#VALUE!"}]
[90.5,1.5795229730548681,{"$f":"Burmester($B$3:$C$3,$B$4:$C$4,$B$5:$C$5,$E$3,$E$4,$E$5,B189)","v":{"$error":"#VALUE!"}},{"$error":"#VALUE!"},{"$f":"ThreePosition_Basic2($E$3,$E$5,$B$3:$C$3,$B$5:$C$5,B189,C189)","v":{"$error":"#VALUE!"}},{"$error":"#VALUE!"},{"$error":"#VALUE!"},{"$error":"#VALUE!"},{"$f":"ThreePosition_Basic2($E$3,$E$5,$B$3:$C$3,$B$5:$C$5,B189,D189)","v":{"$error":"#VALUE!"}},{"$error":"#VALUE!"},{"$error":"#VALUE!"},{"$error":"#VALUE!"}]
[91,1.5882496193148399,{"$f":"Burmester($B$3:$C$3,$B$4:$C$4,$B$5:$C$5,$E$3,$E$4,$E$5,B190)","v":{"$error":"#VALUE!"}},{"$error":"#VALUE!"},{"$f":"ThreePosition_Basic2($E$3,$E$5,$B$3:$C$3,$B$5:$C$5,B190,C190)","v":{"$error":"#VALUE!"}},{"$error":"#VALUE!"},{"$error":"#VALUE!"},{"$error":"#VALUE!"},{"$f":"ThreePosition_Basic2($E$3,$E$5,$B$3:$C$3,$B$5:$C$5,B190,D190)","v":{"$error":"#VALUE!"}},{"$error":"#VALUE!"},{"$error":"#VALUE!"},{"$error":"#VALUE!"}]
[91.5,1.5969762655748114,{"$f":"Burmester($B$3:$C$3,$B$4:$C$4,$B$5:$C$5,$E$3,$E$4,$E$5,B191)","v":{"$error":"#VALUE!"}},{"$error":"#VALUE!"},{"$f":"ThreePosition_Basic2($E$3,$E$5,$B$3:$C$3,$B$5:$C$5,B191,C191)","v":{"$error":"#VALUE!"}},{"$error":"#VALUE!"},{"$error":"#VALUE!"},{"$error":"#VALUE!"},{"$f":"ThreePosition_Basic2($E$3,$E$5,$B$3:$C$3,$B$5:$C$5,B191,D191)","v":{"$error":"#VALUE!"}},{"$error":"#VALUE!"},{"$error":"#VALUE!"},{"$error":"#VALUE!"}]
[92,1.605702911834783,{"$f":"Burmester($B$3:$C$3,$B$4:$C$4,$B$5:$C$5,$E$3,$E$4,$E$5,B192)","v":{"$error":"#VALUE!"}},{"$error":"#VALUE!"},{"$f":"ThreePosition_Basic2($E$3,$E$5,$B$3:$C$3,$B$5:$C$5,B192,C192)","v":{"$error":"#VALUE!"}},{"$error":"#VALUE!"},{"$error":"#VALUE!"},{"$error":"#VALUE!"},{"$f":"ThreePosition_Basic2($E$3,$E$5,$B$3:$C$3,$B$5:$C$5,B192,D192)","v":{"$error":"#VALUE!"}},{"$error":"#VALUE!"},{"$error":"#VALUE!"},{"$error":"#VALUE!"}]
[92.5,1.6144295580947547,{"$f":"Burmester($B$3:$C$3,$B$4:$C$4,$B$5:$C$5,$E$3,$E$4,$E$5,B193)","v":{"$error":"#VALUE!"}},{"$error":"#VALUE!"},{"$f":"ThreePosition_Basic2($E$3,$E$5,$B$3:$C$3,$B$5:$C$5,B193,C193)","v":{"$error":"#VALUE!"}},{"$error":"#VALUE!"},{"$error":"#VALUE!"},{"$error":"#VALUE!"},{"$f":"ThreePosition_Basic2($E$3,$E$5,$B$3:$C$3,$B$5:$C$5,B193,D193)","v":{"$error":"#VALUE!"}},{"$error":"#VALUE!"},{"$error":"#VALUE!"},{"$error":"#VALUE!"}]
[93,1.6231562043547263,{"$f":"Burmester($B$3:$C$3,$B$4:$C$4,$B$5:$C$5,$E$3,$E$4,$E$5,B194)","v":{"$error":"#VALUE!"}},{"$error":"#VALUE!"},{"$f":"ThreePosition_Basic2($E$3,$E$5,$B$3:$C$3,$B$5:$C$5,B194,C194)","v":{"$error":"#VALUE!"}},{"$error":"#VALUE!"},{"$error":"#VALUE!"},{"$error":"#VALUE!"},{"$f":"ThreePosition_Basic2($E$3,$E$5,$B$3:$C$3,$B$5:$C$5,B194,D194)","v":{"$error":"#VALUE!"}},{"$error":"#VALUE!"},{"$error":"#VALUE!"},{"$error":"#VALUE!"}]
[93.5,1.6318828506146983,{"$f":"Burmester($B$3:$C$3,$B$4:$C$4,$B$5:$C$5,$E$3,$E$4,$E$5,B195)","v":{"$error":"#VALUE!"}},{"$error":"#VALUE!"},{"$f":"ThreePosition_Basic2($E$3,$E$5,$B$3:$C$3,$B$5:$C$5,B195,C195)","v":{"$error":"#VALUE!"}},{"$error":"#VALUE!"},{"$error":"#VALUE!"},{"$error":"#VALUE!"},{"$f":"ThreePosition_Basic2($E$3,$E$5,$B$3:$C$3,$B$5:$C$5,B195,D195)","v":{"$error":"#VALUE!"}},{"$error":"#VALUE!"},{"$error":"#VALUE!"},{"$error":"#VALUE!"}]
[94,1.6406094968746698,{"$f":"Burmester($B$3:$C$3,$B$4:$C$4,$B$5:$C$5,$E$3,$E$4,$E$5,B196)","v":{"$error":"#VALUE!"}},{"$error":"#VALUE!"},{"$f":"ThreePosition_Basic2($E$3,$E$5,$B$3:$C$3,$B$5:$C$5,B196,C196)","v":{"$error":"#VALUE!"}},{"$error":"#VALUE!"},{"$error":"#VALUE!"},{"$error":"#VALUE!"},{"$f":"ThreePosition_Basic2($E$3,$E$5,$B$3:$C$3,$B$5:$C$5,B196,D196)","v":{"$error":"#VALUE!"}},{"$error":"#VALUE!"},{"$error":"#VALUE!"},{"$error":"#VALUE!"}]
[94.5,1.6493361431346414,{"$f":"Burmester($B$3:$C$3,$B$4:$C$4,$B$5:$C$5,$E$3,$E$4,$E$5,B197)","v":{"$error":"#VALUE!"}},{"$error":"#VALUE!"},{"$f":"ThreePosition_Basic2($E$3,$E$5,$B$3:$C$3,$B$5:$C$5,B197,C197)","v":{"$error":"#VALUE!"}},{"$error":"#VALUE!"},{"$error":"#VALUE!"},{"$error":"#VALUE!"},{"$f":"ThreePosition_Basic2($E$3,$E$5,$B$3:$C$3,$B$5:$C$5,B197,D197)","v":{"$error":"#VALUE!"}},{"$error":"#VALUE!"},{"$error":"#VALUE!"},{"$error":"#VALUE!"}]
[95,1.6580627893946132,{"$f":"Burmester($B$3:$C$3,$B$4:$C$4,$B$5:$C$5,$E$3,$E$4,$E$5,B198)","v":{"$error":"#VALUE!"}},{"$error":"#VALUE!"},{"$f":"ThreePosition_Basic2($E$3,$E$5,$B$3:$C$3,$B$5:$C$5,B198,C198)","v":{"$error":"#VALUE!"}},{"$error":"#VALUE!"},{"$error":"#VALUE!"},{"$error":"#VALUE!"},{"$f":"ThreePosition_Basic2($E$3,$E$5,$B$3:$C$3,$B$5:$C$5,B198,D198)","v":{"$error":"#VALUE!"}},{"$error":"#VALUE!"},{"$error":"#VALUE!"},{"$error":"#VALUE!"}]
[95.5,1.6667894356545847,{"$f":"Burmester($B$3:$C$3,$B$4:$C$4,$B$5:$C$5,$E$3,$E$4,$E$5,B199)","v":{"$error":"#VALUE!"}},{"$error":"#VALUE!"},{"$f":"ThreePosition_Basic2($E$3,$E$5,$B$3:$C$3,$B$5:$C$5,B199,C199)","v":{"$error":"#VALUE!"}},{"$error":"#VALUE!"},{"$error":"#VALUE!"},{"$error":"#VALUE!"},{"$f":"ThreePosition_Basic2($E$3,$E$5,$B$3:$C$3,$B$5:$C$5,B199,D199)","v":{"$error":"#VALUE!"}},{"$error":"#VALUE!"},{"$error":"#VALUE!"},{"$error":"#VALUE!"}]
[96,1.6755160819145563,{"$f":"Burmester($B$3:$C$3,$B$4:$C$4,$B$5:$C$5,$E$3,$E$4,$E$5,B200)","v":{"$error":"#VALUE!"}},{"$error":"#VALUE!"},{"$f":"ThreePosition_Basic2($E$3,$E$5,$B$3:$C$3,$B$5:$C$5,B200,C200)","v":{"$error":"#VALUE!"}},{"$error":"#VALUE!"},{"$error":"#VALUE!"},{"$error":"#VALUE!"},{"$f":"ThreePosition_Basic2($E$3,$E$5,$B$3:$C$3,$B$5:$C$5,B200,D200)","v":{"$error":"#VALUE!"}},{"$error":"#VALUE!"},{"$error":"#VALUE!"},{"$error":"#VALUE!"}]
[96.5,{"$f":"A201*PI()/180","v":1.684242728174528},{"$f":"Burmester($B$3:$C$3,$B$4:$C$4,$B$5:$C$5,$E$3,$E$4,$E$5,B201)","v":{"$error":"#VALUE!"}},{"$error":"#VALUE!"},{"$f":"ThreePosition_Basic2($E$3,$E$5,$B$3:$C$3,$B$5:$C$5,B201,C201)","v":{"$error":"#VALUE!"}},{"$error":"#VALUE!"},{"$error":"#VALUE!"},{"$error":"#VALUE!"},{"$f":"ThreePosition_Basic2($E$3,$E$5,$B$3:$C$3,$B$5:$C$5,B201,D201)","v":{"$error":"#VALUE!"}},{"$error":"#VALUE!"},{"$error":"#VALUE!"},{"$error":"#VALUE!"}]
[97,1.6929693744344996,{"$f":"Burmester($B$3:$C$3,$B$4:$C$4,$B$5:$C$5,$E$3,$E$4,$E$5,B202)","v":{"$error":"#VALUE!"}},{"$error":"#VALUE!"},{"$f":"ThreePosition_Basic2($E$3,$E$5,$B$3:$C$3,$B$5:$C$5,B202,C202)","v":{"$error":"#VALUE!"}},{"$error":"#VALUE!"},{"$error":"#VALUE!"},{"$error":"#VALUE!"},{"$f":"ThreePosition_Basic2($E$3,$E$5,$B$3:$C$3,$B$5:$C$5,B202,D202)","v":{"$error":"#VALUE!"}},{"$error":"#VALUE!"},{"$error":"#VALUE!"},{"$error":"#VALUE!"}]
[97.5,1.7016960206944711,{"$f":"Burmester($B$3:$C$3,$B$4:$C$4,$B$5:$C$5,$E$3,$E$4,$E$5,B203)","v":{"$error":"#VALUE!"}},{"$error":"#VALUE!"},{"$f":"ThreePosition_Basic2($E$3,$E$5,$B$3:$C$3,$B$5:$C$5,B203,C203)","v":{"$error":"#VALUE!"}},{"$error":"#VALUE!"},{"$error":"#VALUE!"},{"$error":"#VALUE!"},{"$f":"ThreePosition_Basic2($E$3,$E$5,$B$3:$C$3,$B$5:$C$5,B203,D203)","v":{"$error":"#VALUE!"}},{"$error":"#VALUE!"},{"$error":"#VALUE!"},{"$error":"#VALUE!"}]
[98,1.7104226669544429,{"$f":"Burmester($B$3:$C$3,$B$4:$C$4,$B$5:$C$5,$E$3,$E$4,$E$5,B204)","v":{"$error":"#VALUE!"}},{"$error":"#VALUE!"},{"$f":"ThreePosition_Basic2($E$3,$E$5,$B$3:$C$3,$B$5:$C$5,B204,C204)","v":{"$error":"#VALUE!"}},{"$error":"#VALUE!"},{"$error":"#VALUE!"},{"$error":"#VALUE!"},{"$f":"ThreePosition_Basic2($E$3,$E$5,$B$3:$C$3,$B$5:$C$5,B204,D204)","v":{"$error":"#VALUE!"}},{"$error":"#VALUE!"},{"$error":"#VALUE!"},{"$error":"#VALUE!"}]
[98.5,1.7191493132144144,{"$f":"Burmester($B$3:$C$3,$B$4:$C$4,$B$5:$C$5,$E$3,$E$4,$E$5,B205)","v":{"$error":"#VALUE!"}},{"$error":"#VALUE!"},{"$f":"ThreePosition_Basic2($E$3,$E$5,$B$3:$C$3,$B$5:$C$5,B205,C205)","v":{"$error":"#VALUE!"}},{"$error":"#VALUE!"},{"$error":"#VALUE!"},{"$error":"#VALUE!"},{"$f":"ThreePosition_Basic2($E$3,$E$5,$B$3:$C$3,$B$5:$C$5,B205,D205)","v":{"$error":"#VALUE!"}},{"$error":"#VALUE!"},{"$error":"#VALUE!"},{"$error":"#VALUE!"}]
[99,1.7278759594743864,{"$f":"Burmester($B$3:$C$3,$B$4:$C$4,$B$5:$C$5,$E$3,$E$4,$E$5,B206)","v":{"$error":"#VALUE!"}},{"$error":"#VALUE!"},{"$f":"ThreePosition_Basic2($E$3,$E$5,$B$3:$C$3,$B$5:$C$5,B206,C206)","v":{"$error":"#VALUE!"}},{"$error":"#VALUE!"},{"$error":"#VALUE!"},{"$error":"#VALUE!"},{"$f":"ThreePosition_Basic2($E$3,$E$5,$B$3:$C$3,$B$5:$C$5,B206,D206)","v":{"$error":"#VALUE!"}},{"$error":"#VALUE!"},{"$error":"#VALUE!"},{"$error":"#VALUE!"}]
[99.5,1.736602605734358,{"$f":"Burmester($B$3:$C$3,$B$4:$C$4,$B$5:$C$5,$E$3,$E$4,$E$5,B207)","v":{"$error":"#VALUE!"}},{"$error":"#VALUE!"},{"$f":"ThreePosition_Basic2($E$3,$E$5,$B$3:$C$3,$B$5:$C$5,B207,C207)","v":{"$error":"#VALUE!"}},{"$error":"#VALUE!"},{"$error":"#VALUE!"},{"$error":"#VALUE!"},{"$f":"ThreePosition_Basic2($E$3,$E$5,$B$3:$C$3,$B$5:$C$5,B207,D207)","v":{"$error":"#VALUE!"}},{"$error":"#VALUE!"},{"$error":"#VALUE!"},{"$error":"#VALUE!"}]
[100,1.7453292519943295,{"$f":"Burmester($B$3:$C$3,$B$4:$C$4,$B$5:$C$5,$E$3,$E$4,$E$5,B208)","v":{"$error":"#VALUE!"}},{"$error":"#VALUE!"},{"$f":"ThreePosition_Basic2($E$3,$E$5,$B$3:$C$3,$B$5:$C$5,B208,C208)","v":{"$error":"#VALUE!"}},{"$error":"#VALUE!"},{"$error":"#VALUE!"},{"$error":"#VALUE!"},{"$f":"ThreePosition_Basic2($E$3,$E$5,$B$3:$C$3,$B$5:$C$5,B208,D208)","v":{"$error":"#VALUE!"}},{"$error":"#VALUE!"},{"$error":"#VALUE!"},{"$error":"#VALUE!"}]
[100.5,1.7540558982543013,{"$f":"Burmester($B$3:$C$3,$B$4:$C$4,$B$5:$C$5,$E$3,$E$4,$E$5,B209)","v":{"$error":"#VALUE!"}},{"$error":"#VALUE!"},{"$f":"ThreePosition_Basic2($E$3,$E$5,$B$3:$C$3,$B$5:$C$5,B209,C209)","v":{"$error":"#VALUE!"}},{"$error":"#VALUE!"},{"$error":"#VALUE!"},{"$error":"#VALUE!"},{"$f":"ThreePosition_Basic2($E$3,$E$5,$B$3:$C$3,$B$5:$C$5,B209,D209)","v":{"$error":"#VALUE!"}},{"$error":"#VALUE!"},{"$error":"#VALUE!"},{"$error":"#VALUE!"}]
[101,1.7627825445142729,{"$f":"Burmester($B$3:$C$3,$B$4:$C$4,$B$5:$C$5,$E$3,$E$4,$E$5,B210)","v":{"$error":"#VALUE!"}},{"$error":"#VALUE!"},{"$f":"ThreePosition_Basic2($E$3,$E$5,$B$3:$C$3,$B$5:$C$5,B210,C210)","v":{"$error":"#VALUE!"}},{"$error":"#VALUE!"},{"$error":"#VALUE!"},{"$error":"#VALUE!"},{"$f":"ThreePosition_Basic2($E$3,$E$5,$B$3:$C$3,$B$5:$C$5,B210,D210)","v":{"$error":"#VALUE!"}},{"$error":"#VALUE!"},{"$error":"#VALUE!"},{"$error":"#VALUE!"}]
[101.5,1.7715091907742444,{"$f":"Burmester($B$3:$C$3,$B$4:$C$4,$B$5:$C$5,$E$3,$E$4,$E$5,B211)","v":{"$error":"#VALUE!"}},{"$error":"#VALUE!"},{"$f":"ThreePosition_Basic2($E$3,$E$5,$B$3:$C$3,$B$5:$C$5,B211,C211)","v":{"$error":"#VALUE!"}},{"$error":"#VALUE!"},{"$error":"#VALUE!"},{"$error":"#VALUE!"},{"$f":"ThreePosition_Basic2($E$3,$E$5,$B$3:$C$3,$B$5:$C$5,B211,D211)","v":{"$error":"#VALUE!"}},{"$error":"#VALUE!"},{"$error":"#VALUE!"},{"$error":"#VALUE!"}]
[102,1.780235837034216,{"$f":"Burmester($B$3:$C$3,$B$4:$C$4,$B$5:$C$5,$E$3,$E$4,$E$5,B212)","v":{"$error":"#VALUE!"}},{"$error":"#VALUE!"},{"$f":"ThreePosition_Basic2($E$3,$E$5,$B$3:$C$3,$B$5:$C$5,B212,C212)","v":{"$error":"#VALUE!"}},{"$error":"#VALUE!"},{"$error":"#VALUE!"},{"$error":"#VALUE!"},{"$f":"ThreePosition_Basic2($E$3,$E$5,$B$3:$C$3,$B$5:$C$5,B212,D212)","v":{"$error":"#VALUE!"}},{"$error":"#VALUE!"},{"$error":"#VALUE!"},{"$error":"#VALUE!"}]
[102.5,1.7889624832941877,{"$f":"Burmester($B$3:$C$3,$B$4:$C$4,$B$5:$C$5,$E$3,$E$4,$E$5,B213)","v":{"$error":"#VALUE!"}},{"$error":"#VALUE!"},{"$f":"ThreePosition_Basic2($E$3,$E$5,$B$3:$C$3,$B$5:$C$5,B213,C213)","v":{"$error":"#VALUE!"}},{"$error":"#VALUE!"},{"$error":"#VALUE!"},{"$error":"#VALUE!"},{"$f":"ThreePosition_Basic2($E$3,$E$5,$B$3:$C$3,$B$5:$C$5,B213,D213)","v":{"$error":"#VALUE!"}},{"$error":"#VALUE!"},{"$error":"#VALUE!"},{"$error":"#VALUE!"}]
[103,1.7976891295541593,{"$f":"Burmester($B$3:$C$3,$B$4:$C$4,$B$5:$C$5,$E$3,$E$4,$E$5,B214)","v":{"$error":"#VALUE!"}},{"$error":"#VALUE!"},{"$f":"ThreePosition_Basic2($E$3,$E$5,$B$3:$C$3,$B$5:$C$5,B214,C214)","v":{"$error":"#VALUE!"}},{"$error":"#VALUE!"},{"$error":"#VALUE!"},{"$error":"#VALUE!"},{"$f":"ThreePosition_Basic2($E$3,$E$5,$B$3:$C$3,$B$5:$C$5,B214,D214)","v":{"$error":"#VALUE!"}},{"$error":"#VALUE!"},{"$error":"#VALUE!"},{"$error":"#VALUE!"}]
[103.5,1.8064157758141308,{"$f":"Burmester($B$3:$C$3,$B$4:$C$4,$B$5:$C$5,$E$3,$E$4,$E$5,B215)","v":{"$error":"#VALUE!"}},{"$error":"#VALUE!"},{"$f":"ThreePosition_Basic2($E$3,$E$5,$B$3:$C$3,$B$5:$C$5,B215,C215)","v":{"$error":"#VALUE!"}},{"$error":"#VALUE!"},{"$error":"#VALUE!"},{"$error":"#VALUE!"},{"$f":"ThreePosition_Basic2($E$3,$E$5,$B$3:$C$3,$B$5:$C$5,B215,D215)","v":{"$error":"#VALUE!"}},{"$error":"#VALUE!"},{"$error":"#VALUE!"},{"$error":"#VALUE!"}]
[104,1.8151424220741028,{"$f":"Burmester($B$3:$C$3,$B$4:$C$4,$B$5:$C$5,$E$3,$E$4,$E$5,B216)","v":{"$error":"#VALUE!"}},{"$error":"#VALUE!"},{"$f":"ThreePosition_Basic2($E$3,$E$5,$B$3:$C$3,$B$5:$C$5,B216,C216)","v":{"$error":"#VALUE!"}},{"$error":"#VALUE!"},{"$error":"#VALUE!"},{"$error":"#VALUE!"},{"$f":"ThreePosition_Basic2($E$3,$E$5,$B$3:$C$3,$B$5:$C$5,B216,D216)","v":{"$error":"#VALUE!"}},{"$error":"#VALUE!"},{"$error":"#VALUE!"},{"$error":"#VALUE!"}]
[104.5,1.8238690683340744,{"$f":"Burmester($B$3:$C$3,$B$4:$C$4,$B$5:$C$5,$E$3,$E$4,$E$5,B217)","v":{"$error":"#VALUE!"}},{"$error":"#VALUE!"},{"$f":"ThreePosition_Basic2($E$3,$E$5,$B$3:$C$3,$B$5:$C$5,B217,C217)","v":{"$error":"#VALUE!"}},{"$error":"#VALUE!"},{"$error":"#VALUE!"},{"$error":"#VALUE!"},{"$f":"ThreePosition_Basic2($E$3,$E$5,$B$3:$C$3,$B$5:$C$5,B217,D217)","v":{"$error":"#VALUE!"}},{"$error":"#VALUE!"},{"$error":"#VALUE!"},{"$error":"#VALUE!"}]
[105,1.8325957145940461,{"$f":"Burmester($B$3:$C$3,$B$4:$C$4,$B$5:$C$5,$E$3,$E$4,$E$5,B218)","v":{"$error":"#VALUE!"}},{"$error":"#VALUE!"},{"$f":"ThreePosition_Basic2($E$3,$E$5,$B$3:$C$3,$B$5:$C$5,B218,C218)","v":{"$error":"#VALUE!"}},{"$error":"#VALUE!"},{"$error":"#VALUE!"},{"$error":"#VALUE!"},{"$f":"ThreePosition_Basic2($E$3,$E$5,$B$3:$C$3,$B$5:$C$5,B218,D218)","v":{"$error":"#VALUE!"}},{"$error":"#VALUE!"},{"$error":"#VALUE!"},{"$error":"#VALUE!"}]
[105.5,1.8413223608540177,{"$f":"Burmester($B$3:$C$3,$B$4:$C$4,$B$5:$C$5,$E$3,$E$4,$E$5,B219)","v":{"$error":"#VALUE!"}},{"$error":"#VALUE!"},{"$f":"ThreePosition_Basic2($E$3,$E$5,$B$3:$C$3,$B$5:$C$5,B219,C219)","v":{"$error":"#VALUE!"}},{"$error":"#VALUE!"},{"$error":"#VALUE!"},{"$error":"#VALUE!"},{"$f":"ThreePosition_Basic2($E$3,$E$5,$B$3:$C$3,$B$5:$C$5,B219,D219)","v":{"$error":"#VALUE!"}},{"$error":"#VALUE!"},{"$error":"#VALUE!"},{"$error":"#VALUE!"}]
[106,1.8500490071139892,{"$f":"Burmester($B$3:$C$3,$B$4:$C$4,$B$5:$C$5,$E$3,$E$4,$E$5,B220)","v":{"$error":"#VALUE!"}},{"$error":"#VALUE!"},{"$f":"ThreePosition_Basic2($E$3,$E$5,$B$3:$C$3,$B$5:$C$5,B220,C220)","v":{"$error":"#VALUE!"}},{"$error":"#VALUE!"},{"$error":"#VALUE!"},{"$error":"#VALUE!"},{"$f":"ThreePosition_Basic2($E$3,$E$5,$B$3:$C$3,$B$5:$C$5,B220,D220)","v":{"$error":"#VALUE!"}},{"$error":"#VALUE!"},{"$error":"#VALUE!"},{"$error":"#VALUE!"}]
[106.5,1.858775653373961,{"$f":"Burmester($B$3:$C$3,$B$4:$C$4,$B$5:$C$5,$E$3,$E$4,$E$5,B221)","v":{"$error":"#VALUE!"}},{"$error":"#VALUE!"},{"$f":"ThreePosition_Basic2($E$3,$E$5,$B$3:$C$3,$B$5:$C$5,B221,C221)","v":{"$error":"#VALUE!"}},{"$error":"#VALUE!"},{"$error":"#VALUE!"},{"$error":"#VALUE!"},{"$f":"ThreePosition_Basic2($E$3,$E$5,$B$3:$C$3,$B$5:$C$5,B221,D221)","v":{"$error":"#VALUE!"}},{"$error":"#VALUE!"},{"$error":"#VALUE!"},{"$error":"#VALUE!"}]
[107,1.8675022996339325,{"$f":"Burmester($B$3:$C$3,$B$4:$C$4,$B$5:$C$5,$E$3,$E$4,$E$5,B222)","v":{"$error":"#VALUE!"}},{"$error":"#VALUE!"},{"$f":"ThreePosition_Basic2($E$3,$E$5,$B$3:$C$3,$B$5:$C$5,B222,C222)","v":{"$error":"#VALUE!"}},{"$error":"#VALUE!"},{"$error":"#VALUE!"},{"$error":"#VALUE!"},{"$f":"ThreePosition_Basic2($E$3,$E$5,$B$3:$C$3,$B$5:$C$5,B222,D222)","v":{"$error":"#VALUE!"}},{"$error":"#VALUE!"},{"$error":"#VALUE!"},{"$error":"#VALUE!"}]
[107.5,1.8762289458939041,{"$f":"Burmester($B$3:$C$3,$B$4:$C$4,$B$5:$C$5,$E$3,$E$4,$E$5,B223)","v":{"$error":"#VALUE!"}},{"$error":"#VALUE!"},{"$f":"ThreePosition_Basic2($E$3,$E$5,$B$3:$C$3,$B$5:$C$5,B223,C223)","v":{"$error":"#VALUE!"}},{"$error":"#VALUE!"},{"$error":"#VALUE!"},{"$error":"#VALUE!"},{"$f":"ThreePosition_Basic2($E$3,$E$5,$B$3:$C$3,$B$5:$C$5,B223,D223)","v":{"$error":"#VALUE!"}},{"$error":"#VALUE!"},{"$error":"#VALUE!"},{"$error":"#VALUE!"}]
[108,1.8849555921538759,{"$f":"Burmester($B$3:$C$3,$B$4:$C$4,$B$5:$C$5,$E$3,$E$4,$E$5,B224)","v":{"$error":"#VALUE!"}},{"$error":"#VALUE!"},{"$f":"ThreePosition_Basic2($E$3,$E$5,$B$3:$C$3,$B$5:$C$5,B224,C224)","v":{"$error":"#VALUE!"}},{"$error":"#VALUE!"},{"$error":"#VALUE!"},{"$error":"#VALUE!"},{"$f":"ThreePosition_Basic2($E$3,$E$5,$B$3:$C$3,$B$5:$C$5,B224,D224)","v":{"$error":"#VALUE!"}},{"$error":"#VALUE!"},{"$error":"#VALUE!"},{"$error":"#VALUE!"}]
[108.5,1.8936822384138474,{"$f":"Burmester($B$3:$C$3,$B$4:$C$4,$B$5:$C$5,$E$3,$E$4,$E$5,B225)","v":{"$error":"#VALUE!"}},{"$error":"#VALUE!"},{"$f":"ThreePosition_Basic2($E$3,$E$5,$B$3:$C$3,$B$5:$C$5,B225,C225)","v":{"$error":"#VALUE!"}},{"$error":"#VALUE!"},{"$error":"#VALUE!"},{"$error":"#VALUE!"},{"$f":"ThreePosition_Basic2($E$3,$E$5,$B$3:$C$3,$B$5:$C$5,B225,D225)","v":{"$error":"#VALUE!"}},{"$error":"#VALUE!"},{"$error":"#VALUE!"},{"$error":"#VALUE!"}]
[109,1.902408884673819,{"$f":"Burmester($B$3:$C$3,$B$4:$C$4,$B$5:$C$5,$E$3,$E$4,$E$5,B226)","v":{"$error":"#VALUE!"}},{"$error":"#VALUE!"},{"$f":"ThreePosition_Basic2($E$3,$E$5,$B$3:$C$3,$B$5:$C$5,B226,C226)","v":{"$error":"#VALUE!"}},{"$error":"#VALUE!"},{"$error":"#VALUE!"},{"$error":"#VALUE!"},{"$f":"ThreePosition_Basic2($E$3,$E$5,$B$3:$C$3,$B$5:$C$5,B226,D226)","v":{"$error":"#VALUE!"}},{"$error":"#VALUE!"},{"$error":"#VALUE!"},{"$error":"#VALUE!"}]
[109.5,1.911135530933791,{"$f":"Burmester($B$3:$C$3,$B$4:$C$4,$B$5:$C$5,$E$3,$E$4,$E$5,B227)","v":{"$error":"#VALUE!"}},{"$error":"#VALUE!"},{"$f":"ThreePosition_Basic2($E$3,$E$5,$B$3:$C$3,$B$5:$C$5,B227,C227)","v":{"$error":"#VALUE!"}},{"$error":"#VALUE!"},{"$error":"#VALUE!"},{"$error":"#VALUE!"},{"$f":"ThreePosition_Basic2($E$3,$E$5,$B$3:$C$3,$B$5:$C$5,B227,D227)","v":{"$error":"#VALUE!"}},{"$error":"#VALUE!"},{"$error":"#VALUE!"},{"$error":"#VALUE!"}]
[110,1.9198621771937625,{"$f":"Burmester($B$3:$C$3,$B$4:$C$4,$B$5:$C$5,$E$3,$E$4,$E$5,B228)","v":{"$error":"#VALUE!"}},{"$error":"#VALUE!"},{"$f":"ThreePosition_Basic2($E$3,$E$5,$B$3:$C$3,$B$5:$C$5,B228,C228)","v":{"$error":"#VALUE!"}},{"$error":"#VALUE!"},{"$error":"#VALUE!"},{"$error":"#VALUE!"},{"$f":"ThreePosition_Basic2($E$3,$E$5,$B$3:$C$3,$B$5:$C$5,B228,D228)","v":{"$error":"#VALUE!"}},{"$error":"#VALUE!"},{"$error":"#VALUE!"},{"$error":"#VALUE!"}]
[110.5,1.9285888234537343,{"$f":"Burmester($B$3:$C$3,$B$4:$C$4,$B$5:$C$5,$E$3,$E$4,$E$5,B229)","v":{"$error":"#VALUE!"}},{"$error":"#VALUE!"},{"$f":"ThreePosition_Basic2($E$3,$E$5,$B$3:$C$3,$B$5:$C$5,B229,C229)","v":{"$error":"#VALUE!"}},{"$error":"#VALUE!"},{"$error":"#VALUE!"},{"$error":"#VALUE!"},{"$f":"ThreePosition_Basic2($E$3,$E$5,$B$3:$C$3,$B$5:$C$5,B229,D229)","v":{"$error":"#VALUE!"}},{"$error":"#VALUE!"},{"$error":"#VALUE!"},{"$error":"#VALUE!"}]
[111,1.9373154697137058,{"$f":"Burmester($B$3:$C$3,$B$4:$C$4,$B$5:$C$5,$E$3,$E$4,$E$5,B230)","v":{"$error":"#VALUE!"}},{"$error":"#VALUE!"},{"$f":"ThreePosition_Basic2($E$3,$E$5,$B$3:$C$3,$B$5:$C$5,B230,C230)","v":{"$error":"#VALUE!"}},{"$error":"#VALUE!"},{"$error":"#VALUE!"},{"$error":"#VALUE!"},{"$f":"ThreePosition_Basic2($E$3,$E$5,$B$3:$C$3,$B$5:$C$5,B230,D230)","v":{"$error":"#VALUE!"}},{"$error":"#VALUE!"},{"$error":"#VALUE!"},{"$error":"#VALUE!"}]
[111.5,1.9460421159736774,{"$f":"Burmester($B$3:$C$3,$B$4:$C$4,$B$5:$C$5,$E$3,$E$4,$E$5,B231)","v":{"$error":"#VALUE!"}},{"$error":"#VALUE!"},{"$f":"ThreePosition_Basic2($E$3,$E$5,$B$3:$C$3,$B$5:$C$5,B231,C231)","v":{"$error":"#VALUE!"}},{"$error":"#VALUE!"},{"$error":"#VALUE!"},{"$error":"#VALUE!"},{"$f":"ThreePosition_Basic2($E$3,$E$5,$B$3:$C$3,$B$5:$C$5,B231,D231)","v":{"$error":"#VALUE!"}},{"$error":"#VALUE!"},{"$error":"#VALUE!"},{"$error":"#VALUE!"}]
[112,1.9547687622336491,{"$f":"Burmester($B$3:$C$3,$B$4:$C$4,$B$5:$C$5,$E$3,$E$4,$E$5,B232)","v":{"$error":"#VALUE!"}},{"$error":"#VALUE!"},{"$f":"ThreePosition_Basic2($E$3,$E$5,$B$3:$C$3,$B$5:$C$5,B232,C232)","v":{"$error":"#VALUE!"}},{"$error":"#VALUE!"},{"$error":"#VALUE!"},{"$error":"#VALUE!"},{"$f":"ThreePosition_Basic2($E$3,$E$5,$B$3:$C$3,$B$5:$C$5,B232,D232)","v":{"$error":"#VALUE!"}},{"$error":"#VALUE!"},{"$error":"#VALUE!"},{"$error":"#VALUE!"}]
[112.5,1.9634954084936207,{"$f":"Burmester($B$3:$C$3,$B$4:$C$4,$B$5:$C$5,$E$3,$E$4,$E$5,B233)","v":{"$error":"#VALUE!"}},{"$error":"#VALUE!"},{"$f":"ThreePosition_Basic2($E$3,$E$5,$B$3:$C$3,$B$5:$C$5,B233,C233)","v":{"$error":"#VALUE!"}},{"$error":"#VALUE!"},{"$error":"#VALUE!"},{"$error":"#VALUE!"},{"$f":"ThreePosition_Basic2($E$3,$E$5,$B$3:$C$3,$B$5:$C$5,B233,D233)","v":{"$error":"#VALUE!"}},{"$error":"#VALUE!"},{"$error":"#VALUE!"},{"$error":"#VALUE!"}]
[113,1.9722220547535922,{"$f":"Burmester($B$3:$C$3,$B$4:$C$4,$B$5:$C$5,$E$3,$E$4,$E$5,B234)","v":{"$error":"#VALUE!"}},{"$error":"#VALUE!"},{"$f":"ThreePosition_Basic2($E$3,$E$5,$B$3:$C$3,$B$5:$C$5,B234,C234)","v":{"$error":"#VALUE!"}},{"$error":"#VALUE!"},{"$error":"#VALUE!"},{"$error":"#VALUE!"},{"$f":"ThreePosition_Basic2($E$3,$E$5,$B$3:$C$3,$B$5:$C$5,B234,D234)","v":{"$error":"#VALUE!"}},{"$error":"#VALUE!"},{"$error":"#VALUE!"},{"$error":"#VALUE!"}]
[113.5,1.9809487010135638,{"$f":"Burmester($B$3:$C$3,$B$4:$C$4,$B$5:$C$5,$E$3,$E$4,$E$5,B235)","v":{"$error":"#VALUE!"}},{"$error":"#VALUE!"},{"$f":"ThreePosition_Basic2($E$3,$E$5,$B$3:$C$3,$B$5:$C$5,B235,C235)","v":{"$error":"#VALUE!"}},{"$error":"#VALUE!"},{"$error":"#VALUE!"},{"$error":"#VALUE!"},{"$f":"ThreePosition_Basic2($E$3,$E$5,$B$3:$C$3,$B$5:$C$5,B235,D235)","v":{"$error":"#VALUE!"}},{"$error":"#VALUE!"},{"$error":"#VALUE!"},{"$error":"#VALUE!"}]
[114,1.9896753472735356,{"$f":"Burmester($B$3:$C$3,$B$4:$C$4,$B$5:$C$5,$E$3,$E$4,$E$5,B236)","v":{"$error":"#VALUE!"}},{"$error":"#VALUE!"},{"$f":"ThreePosition_Basic2($E$3,$E$5,$B$3:$C$3,$B$5:$C$5,B236,C236)","v":{"$error":"#VALUE!"}},{"$error":"#VALUE!"},{"$error":"#VALUE!"},{"$error":"#VALUE!"},{"$f":"ThreePosition_Basic2($E$3,$E$5,$B$3:$C$3,$B$5:$C$5,B236,D236)","v":{"$error":"#VALUE!"}},{"$error":"#VALUE!"},{"$error":"#VALUE!"},{"$error":"#VALUE!"}]
[114.5,1.9984019935335071,{"$f":"Burmester($B$3:$C$3,$B$4:$C$4,$B$5:$C$5,$E$3,$E$4,$E$5,B237)","v":{"$error":"#VALUE!"}},{"$error":"#VALUE!"},{"$f":"ThreePosition_Basic2($E$3,$E$5,$B$3:$C$3,$B$5:$C$5,B237,C237)","v":{"$error":"#VALUE!"}},{"$error":"#VALUE!"},{"$error":"#VALUE!"},{"$error":"#VALUE!"},{"$f":"ThreePosition_Basic2($E$3,$E$5,$B$3:$C$3,$B$5:$C$5,B237,D237)","v":{"$error":"#VALUE!"}},{"$error":"#VALUE!"},{"$error":"#VALUE!"},{"$error":"#VALUE!"}]
[115,2.0071286397934789,{"$f":"Burmester($B$3:$C$3,$B$4:$C$4,$B$5:$C$5,$E$3,$E$4,$E$5,B238)","v":{"$error":"#VALUE!"}},{"$error":"#VALUE!"},{"$f":"ThreePosition_Basic2($E$3,$E$5,$B$3:$C$3,$B$5:$C$5,B238,C238)","v":{"$error":"#VALUE!"}},{"$error":"#VALUE!"},{"$error":"#VALUE!"},{"$error":"#VALUE!"},{"$f":"ThreePosition_Basic2($E$3,$E$5,$B$3:$C$3,$B$5:$C$5,B238,D238)","v":{"$error":"#VALUE!"}},{"$error":"#VALUE!"},{"$error":"#VALUE!"},{"$error":"#VALUE!"}]
[115.5,2.0158552860534509,{"$f":"Burmester($B$3:$C$3,$B$4:$C$4,$B$5:$C$5,$E$3,$E$4,$E$5,B239)","v":{"$error":"#VALUE!"}},{"$error":"#VALUE!"},{"$f":"ThreePosition_Basic2($E$3,$E$5,$B$3:$C$3,$B$5:$C$5,B239,C239)","v":{"$error":"#VALUE!"}},{"$error":"#VALUE!"},{"$error":"#VALUE!"},{"$error":"#VALUE!"},{"$f":"ThreePosition_Basic2($E$3,$E$5,$B$3:$C$3,$B$5:$C$5,B239,D239)","v":{"$error":"#VALUE!"}},{"$error":"#VALUE!"},{"$error":"#VALUE!"},{"$error":"#VALUE!"}]
[116,2.0245819323134224,{"$f":"Burmester($B$3:$C$3,$B$4:$C$4,$B$5:$C$5,$E$3,$E$4,$E$5,B240)","v":{"$error":"#VALUE!"}},{"$error":"#VALUE!"},{"$f":"ThreePosition_Basic2($E$3,$E$5,$B$3:$C$3,$B$5:$C$5,B240,C240)","v":{"$error":"#VALUE!"}},{"$error":"#VALUE!"},{"$error":"#VALUE!"},{"$error":"#VALUE!"},{"$f":"ThreePosition_Basic2($E$3,$E$5,$B$3:$C$3,$B$5:$C$5,B240,D240)","v":{"$error":"#VALUE!"}},{"$error":"#VALUE!"},{"$error":"#VALUE!"},{"$error":"#VALUE!"}]
[116.5,2.033308578573394,{"$f":"Burmester($B$3:$C$3,$B$4:$C$4,$B$5:$C$5,$E$3,$E$4,$E$5,B241)","v":{"$error":"#VALUE!"}},{"$error":"#VALUE!"},{"$f":"ThreePosition_Basic2($E$3,$E$5,$B$3:$C$3,$B$5:$C$5,B241,C241)","v":{"$error":"#VALUE!"}},{"$error":"#VALUE!"},{"$error":"#VALUE!"},{"$error":"#VALUE!"},{"$f":"ThreePosition_Basic2($E$3,$E$5,$B$3:$C$3,$B$5:$C$5,B241,D241)","v":{"$error":"#VALUE!"}},{"$error":"#VALUE!"},{"$error":"#VALUE!"},{"$error":"#VALUE!"}]
[117,2.0420352248333655,{"$f":"Burmester($B$3:$C$3,$B$4:$C$4,$B$5:$C$5,$E$3,$E$4,$E$5,B242)","v":{"$error":"#VALUE!"}},{"$error":"#VALUE!"},{"$f":"ThreePosition_Basic2($E$3,$E$5,$B$3:$C$3,$B$5:$C$5,B242,C242)","v":{"$error":"#VALUE!"}},{"$error":"#VALUE!"},{"$error":"#VALUE!"},{"$error":"#VALUE!"},{"$f":"ThreePosition_Basic2($E$3,$E$5,$B$3:$C$3,$B$5:$C$5,B242,D242)","v":{"$error":"#VALUE!"}},{"$error":"#VALUE!"},{"$error":"#VALUE!"},{"$error":"#VALUE!"}]
[117.5,2.0507618710933371,{"$f":"Burmester($B$3:$C$3,$B$4:$C$4,$B$5:$C$5,$E$3,$E$4,$E$5,B243)","v":{"$error":"#VALUE!"}},{"$error":"#VALUE!"},{"$f":"ThreePosition_Basic2($E$3,$E$5,$B$3:$C$3,$B$5:$C$5,B243,C243)","v":{"$error":"#VALUE!"}},{"$error":"#VALUE!"},{"$error":"#VALUE!"},{"$error":"#VALUE!"},{"$f":"ThreePosition_Basic2($E$3,$E$5,$B$3:$C$3,$B$5:$C$5,B243,D243)","v":{"$error":"#VALUE!"}},{"$error":"#VALUE!"},{"$error":"#VALUE!"},{"$error":"#VALUE!"}]
[118,2.0594885173533086,{"$f":"Burmester($B$3:$C$3,$B$4:$C$4,$B$5:$C$5,$E$3,$E$4,$E$5,B244)","v":{"$error":"#VALUE!"}},{"$error":"#VALUE!"},{"$f":"ThreePosition_Basic2($E$3,$E$5,$B$3:$C$3,$B$5:$C$5,B244,C244)","v":{"$error":"#VALUE!"}},{"$error":"#VALUE!"},{"$error":"#VALUE!"},{"$error":"#VALUE!"},{"$f":"ThreePosition_Basic2($E$3,$E$5,$B$3:$C$3,$B$5:$C$5,B244,D244)","v":{"$error":"#VALUE!"}},{"$error":"#VALUE!"},{"$error":"#VALUE!"},{"$error":"#VALUE!"}]
[118.5,2.0682151636132806,{"$f":"Burmester($B$3:$C$3,$B$4:$C$4,$B$5:$C$5,$E$3,$E$4,$E$5,B245)","v":{"$error":"#VALUE!"}},{"$error":"#VALUE!"},{"$f":"ThreePosition_Basic2($E$3,$E$5,$B$3:$C$3,$B$5:$C$5,B245,C245)","v":{"$error":"#VALUE!"}},{"$error":"#VALUE!"},{"$error":"#VALUE!"},{"$error":"#VALUE!"},{"$f":"ThreePosition_Basic2($E$3,$E$5,$B$3:$C$3,$B$5:$C$5,B245,D245)","v":{"$error":"#VALUE!"}},{"$error":"#VALUE!"},{"$error":"#VALUE!"},{"$error":"#VALUE!"}]
[119,2.0769418098732522,{"$f":"Burmester($B$3:$C$3,$B$4:$C$4,$B$5:$C$5,$E$3,$E$4,$E$5,B246)","v":{"$error":"#VALUE!"}},{"$error":"#VALUE!"},{"$f":"ThreePosition_Basic2($E$3,$E$5,$B$3:$C$3,$B$5:$C$5,B246,C246)","v":{"$error":"#VALUE!"}},{"$error":"#VALUE!"},{"$error":"#VALUE!"},{"$error":"#VALUE!"},{"$f":"ThreePosition_Basic2($E$3,$E$5,$B$3:$C$3,$B$5:$C$5,B246,D246)","v":{"$error":"#VALUE!"}},{"$error":"#VALUE!"},{"$error":"#VALUE!"},{"$error":"#VALUE!"}]
[119.5,2.0856684561332237,{"$f":"Burmester($B$3:$C$3,$B$4:$C$4,$B$5:$C$5,$E$3,$E$4,$E$5,B247)","v":{"$error":"#VALUE!"}},{"$error":"#VALUE!"},{"$f":"ThreePosition_Basic2($E$3,$E$5,$B$3:$C$3,$B$5:$C$5,B247,C247)","v":{"$error":"#VALUE!"}},{"$error":"#VALUE!"},{"$error":"#VALUE!"},{"$error":"#VALUE!"},{"$f":"ThreePosition_Basic2($E$3,$E$5,$B$3:$C$3,$B$5:$C$5,B247,D247)","v":{"$error":"#VALUE!"}},{"$error":"#VALUE!"},{"$error":"#VALUE!"},{"$error":"#VALUE!"}]
[120,2.0943951023931953,{"$f":"Burmester($B$3:$C$3,$B$4:$C$4,$B$5:$C$5,$E$3,$E$4,$E$5,B248)","v":{"$error":"#VALUE!"}},{"$error":"#VALUE!"},{"$f":"ThreePosition_Basic2($E$3,$E$5,$B$3:$C$3,$B$5:$C$5,B248,C248)","v":{"$error":"#VALUE!"}},{"$error":"#VALUE!"},{"$error":"#VALUE!"},{"$error":"#VALUE!"},{"$f":"ThreePosition_Basic2($E$3,$E$5,$B$3:$C$3,$B$5:$C$5,B248,D248)","v":{"$error":"#VALUE!"}},{"$error":"#VALUE!"},{"$error":"#VALUE!"},{"$error":"#VALUE!"}]
[120.5,2.1031217486531673,{"$f":"Burmester($B$3:$C$3,$B$4:$C$4,$B$5:$C$5,$E$3,$E$4,$E$5,B249)","v":{"$error":"#VALUE!"}},{"$error":"#VALUE!"},{"$f":"ThreePosition_Basic2($E$3,$E$5,$B$3:$C$3,$B$5:$C$5,B249,C249)","v":{"$error":"#VALUE!"}},{"$error":"#VALUE!"},{"$error":"#VALUE!"},{"$error":"#VALUE!"},{"$f":"ThreePosition_Basic2($E$3,$E$5,$B$3:$C$3,$B$5:$C$5,B249,D249)","v":{"$error":"#VALUE!"}},{"$error":"#VALUE!"},{"$error":"#VALUE!"},{"$error":"#VALUE!"}]
[121,2.1118483949131388,{"$f":"Burmester($B$3:$C$3,$B$4:$C$4,$B$5:$C$5,$E$3,$E$4,$E$5,B250)","v":{"$error":"#VALUE!"}},{"$error":"#VALUE!"},{"$f":"ThreePosition_Basic2($E$3,$E$5,$B$3:$C$3,$B$5:$C$5,B250,C250)","v":{"$error":"#VALUE!"}},{"$error":"#VALUE!"},{"$error":"#VALUE!"},{"$error":"#VALUE!"},{"$f":"ThreePosition_Basic2($E$3,$E$5,$B$3:$C$3,$B$5:$C$5,B250,D250)","v":{"$error":"#VALUE!"}},{"$error":"#VALUE!"},{"$error":"#VALUE!"},{"$error":"#VALUE!"}]
[121.5,2.1205750411731104,{"$f":"Burmester($B$3:$C$3,$B$4:$C$4,$B$5:$C$5,$E$3,$E$4,$E$5,B251)","v":{"$error":"#VALUE!"}},{"$error":"#VALUE!"},{"$f":"ThreePosition_Basic2($E$3,$E$5,$B$3:$C$3,$B$5:$C$5,B251,C251)","v":{"$error":"#VALUE!"}},{"$error":"#VALUE!"},{"$error":"#VALUE!"},{"$error":"#VALUE!"},{"$f":"ThreePosition_Basic2($E$3,$E$5,$B$3:$C$3,$B$5:$C$5,B251,D251)","v":{"$error":"#VALUE!"}},{"$error":"#VALUE!"},{"$error":"#VALUE!"},{"$error":"#VALUE!"}]
[122,2.1293016874330819,{"$f":"Burmester($B$3:$C$3,$B$4:$C$4,$B$5:$C$5,$E$3,$E$4,$E$5,B252)","v":{"$error":"#VALUE!"}},{"$error":"#VALUE!"},{"$f":"ThreePosition_Basic2($E$3,$E$5,$B$3:$C$3,$B$5:$C$5,B252,C252)","v":{"$error":"#VALUE!"}},{"$error":"#VALUE!"},{"$error":"#VALUE!"},{"$error":"#VALUE!"},{"$f":"ThreePosition_Basic2($E$3,$E$5,$B$3:$C$3,$B$5:$C$5,B252,D252)","v":{"$error":"#VALUE!"}},{"$error":"#VALUE!"},{"$error":"#VALUE!"},{"$error":"#VALUE!"}]
[122.5,2.1380283336930535,{"$f":"Burmester($B$3:$C$3,$B$4:$C$4,$B$5:$C$5,$E$3,$E$4,$E$5,B253)","v":{"$error":"#VALUE!"}},{"$error":"#VALUE!"},{"$f":"ThreePosition_Basic2($E$3,$E$5,$B$3:$C$3,$B$5:$C$5,B253,C253)","v":{"$error":"#VALUE!"}},{"$error":"#VALUE!"},{"$error":"#VALUE!"},{"$error":"#VALUE!"},{"$f":"ThreePosition_Basic2($E$3,$E$5,$B$3:$C$3,$B$5:$C$5,B253,D253)","v":{"$error":"#VALUE!"}},{"$error":"#VALUE!"},{"$error":"#VALUE!"},{"$error":"#VALUE!"}]
[123,2.1467549799530254,{"$f":"Burmester($B$3:$C$3,$B$4:$C$4,$B$5:$C$5,$E$3,$E$4,$E$5,B254)","v":{"$error":"#VALUE!"}},{"$error":"#VALUE!"},{"$f":"ThreePosition_Basic2($E$3,$E$5,$B$3:$C$3,$B$5:$C$5,B254,C254)","v":{"$error":"#VALUE!"}},{"$error":"#VALUE!"},{"$error":"#VALUE!"},{"$error":"#VALUE!"},{"$f":"ThreePosition_Basic2($E$3,$E$5,$B$3:$C$3,$B$5:$C$5,B254,D254)","v":{"$error":"#VALUE!"}},{"$error":"#VALUE!"},{"$error":"#VALUE!"},{"$error":"#VALUE!"}]
[123.5,2.155481626212997,{"$f":"Burmester($B$3:$C$3,$B$4:$C$4,$B$5:$C$5,$E$3,$E$4,$E$5,B255)","v":{"$error":"#VALUE!"}},{"$error":"#VALUE!"},{"$f":"ThreePosition_Basic2($E$3,$E$5,$B$3:$C$3,$B$5:$C$5,B255,C255)","v":{"$error":"#VALUE!"}},{"$error":"#VALUE!"},{"$error":"#VALUE!"},{"$error":"#VALUE!"},{"$f":"ThreePosition_Basic2($E$3,$E$5,$B$3:$C$3,$B$5:$C$5,B255,D255)","v":{"$error":"#VALUE!"}},{"$error":"#VALUE!"},{"$error":"#VALUE!"},{"$error":"#VALUE!"}]
[124,2.1642082724729685,{"$f":"Burmester($B$3:$C$3,$B$4:$C$4,$B$5:$C$5,$E$3,$E$4,$E$5,B256)","v":{"$error":"#VALUE!"}},{"$error":"#VALUE!"},{"$f":"ThreePosition_Basic2($E$3,$E$5,$B$3:$C$3,$B$5:$C$5,B256,C256)","v":{"$error":"#VALUE!"}},{"$error":"#VALUE!"},{"$error":"#VALUE!"},{"$error":"#VALUE!"},{"$f":"ThreePosition_Basic2($E$3,$E$5,$B$3:$C$3,$B$5:$C$5,B256,D256)","v":{"$error":"#VALUE!"}},{"$error":"#VALUE!"},{"$error":"#VALUE!"},{"$error":"#VALUE!"}]
[124.5,2.1729349187329401,{"$f":"Burmester($B$3:$C$3,$B$4:$C$4,$B$5:$C$5,$E$3,$E$4,$E$5,B257)","v":{"$error":"#VALUE!"}},{"$error":"#VALUE!"},{"$f":"ThreePosition_Basic2($E$3,$E$5,$B$3:$C$3,$B$5:$C$5,B257,C257)","v":{"$error":"#VALUE!"}},{"$error":"#VALUE!"},{"$error":"#VALUE!"},{"$error":"#VALUE!"},{"$f":"ThreePosition_Basic2($E$3,$E$5,$B$3:$C$3,$B$5:$C$5,B257,D257)","v":{"$error":"#VALUE!"}},{"$error":"#VALUE!"},{"$error":"#VALUE!"},{"$error":"#VALUE!"}]
[125,2.1816615649929116,{"$f":"Burmester($B$3:$C$3,$B$4:$C$4,$B$5:$C$5,$E$3,$E$4,$E$5,B258)","v":{"$error":"#VALUE!"}},{"$error":"#VALUE!"},{"$f":"ThreePosition_Basic2($E$3,$E$5,$B$3:$C$3,$B$5:$C$5,B258,C258)","v":{"$error":"#VALUE!"}},{"$error":"#VALUE!"},{"$error":"#VALUE!"},{"$error":"#VALUE!"},{"$f":"ThreePosition_Basic2($E$3,$E$5,$B$3:$C$3,$B$5:$C$5,B258,D258)","v":{"$error":"#VALUE!"}},{"$error":"#VALUE!"},{"$error":"#VALUE!"},{"$error":"#VALUE!"}]
[125.5,2.1903882112528836,{"$f":"Burmester($B$3:$C$3,$B$4:$C$4,$B$5:$C$5,$E$3,$E$4,$E$5,B259)","v":{"$error":"#VALUE!"}},{"$error":"#VALUE!"},{"$f":"ThreePosition_Basic2($E$3,$E$5,$B$3:$C$3,$B$5:$C$5,B259,C259)","v":{"$error":"#VALUE!"}},{"$error":"#VALUE!"},{"$error":"#VALUE!"},{"$error":"#VALUE!"},{"$f":"ThreePosition_Basic2($E$3,$E$5,$B$3:$C$3,$B$5:$C$5,B259,D259)","v":{"$error":"#VALUE!"}},{"$error":"#VALUE!"},{"$error":"#VALUE!"},{"$error":"#VALUE!"}]
[126,2.1991148575128552,{"$f":"Burmester($B$3:$C$3,$B$4:$C$4,$B$5:$C$5,$E$3,$E$4,$E$5,B260)","v":{"$error":"#VALUE!"}},{"$error":"#VALUE!"},{"$f":"ThreePosition_Basic2($E$3,$E$5,$B$3:$C$3,$B$5:$C$5,B260,C260)","v":{"$error":"#VALUE!"}},{"$error":"#VALUE!"},{"$error":"#VALUE!"},{"$error":"#VALUE!"},{"$f":"ThreePosition_Basic2($E$3,$E$5,$B$3:$C$3,$B$5:$C$5,B260,D260)","v":{"$error":"#VALUE!"}},{"$error":"#VALUE!"},{"$error":"#VALUE!"},{"$error":"#VALUE!"}]
[126.5,2.2078415037728267,{"$f":"Burmester($B$3:$C$3,$B$4:$C$4,$B$5:$C$5,$E$3,$E$4,$E$5,B261)","v":{"$error":"#VALUE!"}},{"$error":"#VALUE!"},{"$f":"ThreePosition_Basic2($E$3,$E$5,$B$3:$C$3,$B$5:$C$5,B261,C261)","v":{"$error":"#VALUE!"}},{"$error":"#VALUE!"},{"$error":"#VALUE!"},{"$error":"#VALUE!"},{"$f":"ThreePosition_Basic2($E$3,$E$5,$B$3:$C$3,$B$5:$C$5,B261,D261)","v":{"$error":"#VALUE!"}},{"$error":"#VALUE!"},{"$error":"#VALUE!"},{"$error":"#VALUE!"}]
[127,2.2165681500327987,{"$f":"Burmester($B$3:$C$3,$B$4:$C$4,$B$5:$C$5,$E$3,$E$4,$E$5,B262)","v":{"$error":"#VALUE!"}},{"$error":"#VALUE!"},{"$f":"ThreePosition_Basic2($E$3,$E$5,$B$3:$C$3,$B$5:$C$5,B262,C262)","v":{"$error":"#VALUE!"}},{"$error":"#VALUE!"},{"$error":"#VALUE!"},{"$error":"#VALUE!"},{"$f":"ThreePosition_Basic2($E$3,$E$5,$B$3:$C$3,$B$5:$C$5,B262,D262)","v":{"$error":"#VALUE!"}},{"$error":"#VALUE!"},{"$error":"#VALUE!"},{"$error":"#VALUE!"}]
[127.5,2.2252947962927703,{"$f":"Burmester($B$3:$C$3,$B$4:$C$4,$B$5:$C$5,$E$3,$E$4,$E$5,B263)","v":{"$error":"#VALUE!"}},{"$error":"#VALUE!"},{"$f":"ThreePosition_Basic2($E$3,$E$5,$B$3:$C$3,$B$5:$C$5,B263,C263)","v":{"$error":"#VALUE!"}},{"$error":"#VALUE!"},{"$error":"#VALUE!"},{"$error":"#VALUE!"},{"$f":"ThreePosition_Basic2($E$3,$E$5,$B$3:$C$3,$B$5:$C$5,B263,D263)","v":{"$error":"#VALUE!"}},{"$error":"#VALUE!"},{"$error":"#VALUE!"},{"$error":"#VALUE!"}]
[128,2.2340214425527418,{"$f":"Burmester($B$3:$C$3,$B$4:$C$4,$B$5:$C$5,$E$3,$E$4,$E$5,B264)","v":{"$error":"#VALUE!"}},{"$error":"#VALUE!"},{"$f":"ThreePosition_Basic2($E$3,$E$5,$B$3:$C$3,$B$5:$C$5,B264,C264)","v":{"$error":"#VALUE!"}},{"$error":"#VALUE!"},{"$error":"#VALUE!"},{"$error":"#VALUE!"},{"$f":"ThreePosition_Basic2($E$3,$E$5,$B$3:$C$3,$B$5:$C$5,B264,D264)","v":{"$error":"#VALUE!"}},{"$error":"#VALUE!"},{"$error":"#VALUE!"},{"$error":"#VALUE!"}]
[128.5,{"$f":"A265*PI()/180","v":2.2427480888127134},{"$f":"Burmester($B$3:$C$3,$B$4:$C$4,$B$5:$C$5,$E$3,$E$4,$E$5,B265)","v":{"$error":"#VALUE!"}},{"$error":"#VALUE!"},{"$f":"ThreePosition_Basic2($E$3,$E$5,$B$3:$C$3,$B$5:$C$5,B265,C265)","v":{"$error":"#VALUE!"}},{"$error":"#VALUE!"},{"$error":"#VALUE!"},{"$error":"#VALUE!"},{"$f":"ThreePosition_Basic2($E$3,$E$5,$B$3:$C$3,$B$5:$C$5,B265,D265)","v":{"$error":"#VALUE!"}},{"$error":"#VALUE!"},{"$error":"#VALUE!"},{"$error":"#VALUE!"}]
[128.6,2.2444934180647076,{"$f":"Burmester($B$3:$C$3,$B$4:$C$4,$B$5:$C$5,$E$3,$E$4,$E$5,B266)","v":{"$error":"#VALUE!"}},{"$error":"#VALUE!"},{"$f":"ThreePosition_Basic2($E$3,$E$5,$B$3:$C$3,$B$5:$C$5,B266,C266)","v":{"$error":"#VALUE!"}},{"$error":"#VALUE!"},{"$error":"#VALUE!"},{"$error":"#VALUE!"},{"$f":"ThreePosition_Basic2($E$3,$E$5,$B$3:$C$3,$B$5:$C$5,B266,D266)","v":{"$error":"#VALUE!"}},{"$error":"#VALUE!"},{"$error":"#VALUE!"},{"$error":"#VALUE!"}]
[128.69999999999999,2.2462387473167018,{"$f":"Burmester($B$3:$C$3,$B$4:$C$4,$B$5:$C$5,$E$3,$E$4,$E$5,B267)","v":{"$error":"#VALUE!"}},{"$error":"#VALUE!"},{"$f":"ThreePosition_Basic2($E$3,$E$5,$B$3:$C$3,$B$5:$C$5,B267,C267)","v":{"$error":"#VALUE!"}},{"$error":"#VALUE!"},{"$error":"#VALUE!"},{"$error":"#VALUE!"},{"$f":"ThreePosition_Basic2($E$3,$E$5,$B$3:$C$3,$B$5:$C$5,B267,D267)","v":{"$error":"#VALUE!"}},{"$error":"#VALUE!"},{"$error":"#VALUE!"},{"$error":"#VALUE!"}]
[128.80000000000001,2.2479840765686965,{"$f":"Burmester($B$3:$C$3,$B$4:$C$4,$B$5:$C$5,$E$3,$E$4,$E$5,B268)","v":{"$error":"#VALUE!"}},{"$error":"#VALUE!"},{"$f":"ThreePosition_Basic2($E$3,$E$5,$B$3:$C$3,$B$5:$C$5,B268,C268)","v":{"$error":"#VALUE!"}},{"$error":"#VALUE!"},{"$error":"#VALUE!"},{"$error":"#VALUE!"},{"$f":"ThreePosition_Basic2($E$3,$E$5,$B$3:$C$3,$B$5:$C$5,B268,D268)","v":{"$error":"#VALUE!"}},{"$error":"#VALUE!"},{"$error":"#VALUE!"},{"$error":"#VALUE!"}]
[128.96100000000001,2.2507940566644078,{"$f":"Burmester($B$3:$C$3,$B$4:$C$4,$B$5:$C$5,$E$3,$E$4,$E$5,B269)","v":{"$error":"#VALUE!"}},{"$error":"#VALUE!"},{"$f":"ThreePosition_Basic2($E$3,$E$5,$B$3:$C$3,$B$5:$C$5,B269,C269)","v":{"$error":"#VALUE!"}},{"$error":"#VALUE!"},{"$error":"#VALUE!"},{"$error":"#VALUE!"},{"$f":"ThreePosition_Basic2($E$3,$E$5,$B$3:$C$3,$B$5:$C$5,B269,D269)","v":{"$error":"#VALUE!"}},{"$error":"#VALUE!"},{"$error":"#VALUE!"},{"$error":"#VALUE!"}]
[129,2.2514747350726849,{"$f":"Burmester($B$3:$C$3,$B$4:$C$4,$B$5:$C$5,$E$3,$E$4,$E$5,B270)","v":{"$error":"#VALUE!"}},{"$error":"#VALUE!"},{"$f":"ThreePosition_Basic2($E$3,$E$5,$B$3:$C$3,$B$5:$C$5,B270,C270)","v":{"$error":"#VALUE!"}},{"$error":"#VALUE!"},{"$error":"#VALUE!"},{"$error":"#VALUE!"},{"$f":"ThreePosition_Basic2($E$3,$E$5,$B$3:$C$3,$B$5:$C$5,B270,D270)","v":{"$error":"#VALUE!"}},{"$error":"#VALUE!"},{"$error":"#VALUE!"},{"$error":"#VALUE!"}]
[129.1,2.2532200643246791,{"$f":"Burmester($B$3:$C$3,$B$4:$C$4,$B$5:$C$5,$E$3,$E$4,$E$5,B271)","v":{"$error":"#VALUE!"}},{"$error":"#VALUE!"},{"$f":"ThreePosition_Basic2($E$3,$E$5,$B$3:$C$3,$B$5:$C$5,B271,C271)","v":{"$error":"#VALUE!"}},{"$error":"#VALUE!"},{"$error":"#VALUE!"},{"$error":"#VALUE!"},{"$f":"ThreePosition_Basic2($E$3,$E$5,$B$3:$C$3,$B$5:$C$5,B271,D271)","v":{"$error":"#VALUE!"}},{"$error":"#VALUE!"},{"$error":"#VALUE!"},{"$error":"#VALUE!"}]
[129.19999999999999,2.2549653935766734,{"$f":"Burmester($B$3:$C$3,$B$4:$C$4,$B$5:$C$5,$E$3,$E$4,$E$5,B272)","v":{"$error":"#VALUE!"}},{"$error":"#VALUE!"},{"$f":"ThreePosition_Basic2($E$3,$E$5,$B$3:$C$3,$B$5:$C$5,B272,C272)","v":{"$error":"#VALUE!"}},{"$error":"#VALUE!"},{"$error":"#VALUE!"},{"$error":"#VALUE!"},{"$f":"ThreePosition_Basic2($E$3,$E$5,$B$3:$C$3,$B$5:$C$5,B272,D272)","v":{"$error":"#VALUE!"}},{"$error":"#VALUE!"},{"$error":"#VALUE!"},{"$error":"#VALUE!"}]
[129.30000000000001,2.256710722828668,{"$f":"Burmester($B$3:$C$3,$B$4:$C$4,$B$5:$C$5,$E$3,$E$4,$E$5,B273)","v":{"$error":"#VALUE!"}},{"$error":"#VALUE!"},{"$f":"ThreePosition_Basic2($E$3,$E$5,$B$3:$C$3,$B$5:$C$5,B273,C273)","v":{"$error":"#VALUE!"}},{"$error":"#VALUE!"},{"$error":"#VALUE!"},{"$error":"#VALUE!"},{"$f":"ThreePosition_Basic2($E$3,$E$5,$B$3:$C$3,$B$5:$C$5,B273,D273)","v":{"$error":"#VALUE!"}},{"$error":"#VALUE!"},{"$error":"#VALUE!"},{"$error":"#VALUE!"}]
[133,2.3212879051524582,{"$f":"Burmester($B$3:$C$3,$B$4:$C$4,$B$5:$C$5,$E$3,$E$4,$E$5,B274)","v":{"$error":"#VALUE!"}},{"$error":"#VALUE!"},{"$f":"ThreePosition_Basic2($E$3,$E$5,$B$3:$C$3,$B$5:$C$5,B274,C274)","v":{"$error":"#VALUE!"}},{"$error":"#VALUE!"},{"$error":"#VALUE!"},{"$error":"#VALUE!"},{"$f":"ThreePosition_Basic2($E$3,$E$5,$B$3:$C$3,$B$5:$C$5,B274,D274)","v":{"$error":"#VALUE!"}},{"$error":"#VALUE!"},{"$error":"#VALUE!"},{"$error":"#VALUE!"}]
[133.5,2.3300145514124297,{"$f":"Burmester($B$3:$C$3,$B$4:$C$4,$B$5:$C$5,$E$3,$E$4,$E$5,B275)","v":{"$error":"#VALUE!"}},{"$error":"#VALUE!"},{"$f":"ThreePosition_Basic2($E$3,$E$5,$B$3:$C$3,$B$5:$C$5,B275,C275)","v":{"$error":"#VALUE!"}},{"$error":"#VALUE!"},{"$error":"#VALUE!"},{"$error":"#VALUE!"},{"$f":"ThreePosition_Basic2($E$3,$E$5,$B$3:$C$3,$B$5:$C$5,B275,D275)","v":{"$error":"#VALUE!"}},{"$error":"#VALUE!"},{"$error":"#VALUE!"},{"$error":"#VALUE!"}]
[134,2.3387411976724013,{"$f":"Burmester($B$3:$C$3,$B$4:$C$4,$B$5:$C$5,$E$3,$E$4,$E$5,B276)","v":{"$error":"#VALUE!"}},{"$error":"#VALUE!"},{"$f":"ThreePosition_Basic2($E$3,$E$5,$B$3:$C$3,$B$5:$C$5,B276,C276)","v":{"$error":"#VALUE!"}},{"$error":"#VALUE!"},{"$error":"#VALUE!"},{"$error":"#VALUE!"},{"$f":"ThreePosition_Basic2($E$3,$E$5,$B$3:$C$3,$B$5:$C$5,B276,D276)","v":{"$error":"#VALUE!"}},{"$error":"#VALUE!"},{"$error":"#VALUE!"},{"$error":"#VALUE!"}]
[134.5,2.3474678439323733,{"$f":"Burmester($B$3:$C$3,$B$4:$C$4,$B$5:$C$5,$E$3,$E$4,$E$5,B277)","v":{"$error":"#VALUE!"}},{"$error":"#VALUE!"},{"$f":"ThreePosition_Basic2($E$3,$E$5,$B$3:$C$3,$B$5:$C$5,B277,C277)","v":{"$error":"#VALUE!"}},{"$error":"#VALUE!"},{"$error":"#VALUE!"},{"$error":"#VALUE!"},{"$f":"ThreePosition_Basic2($E$3,$E$5,$B$3:$C$3,$B$5:$C$5,B277,D277)","v":{"$error":"#VALUE!"}},{"$error":"#VALUE!"},{"$error":"#VALUE!"},{"$error":"#VALUE!"}]
[135,2.3561944901923448,{"$f":"Burmester($B$3:$C$3,$B$4:$C$4,$B$5:$C$5,$E$3,$E$4,$E$5,B278)","v":{"$error":"#VALUE!"}},{"$error":"#VALUE!"},{"$f":"ThreePosition_Basic2($E$3,$E$5,$B$3:$C$3,$B$5:$C$5,B278,C278)","v":{"$error":"#VALUE!"}},{"$error":"#VALUE!"},{"$error":"#VALUE!"},{"$error":"#VALUE!"},{"$f":"ThreePosition_Basic2($E$3,$E$5,$B$3:$C$3,$B$5:$C$5,B278,D278)","v":{"$error":"#VALUE!"}},{"$error":"#VALUE!"},{"$error":"#VALUE!"},{"$error":"#VALUE!"}]
[135.5,2.3649211364523164,{"$f":"Burmester($B$3:$C$3,$B$4:$C$4,$B$5:$C$5,$E$3,$E$4,$E$5,B279)","v":{"$error":"#VALUE!"}},{"$error":"#VALUE!"},{"$f":"ThreePosition_Basic2($E$3,$E$5,$B$3:$C$3,$B$5:$C$5,B279,C279)","v":{"$error":"#VALUE!"}},{"$error":"#VALUE!"},{"$error":"#VALUE!"},{"$error":"#VALUE!"},{"$f":"ThreePosition_Basic2($E$3,$E$5,$B$3:$C$3,$B$5:$C$5,B279,D279)","v":{"$error":"#VALUE!"}},{"$error":"#VALUE!"},{"$error":"#VALUE!"},{"$error":"#VALUE!"}]
[136,2.3736477827122884,{"$f":"Burmester($B$3:$C$3,$B$4:$C$4,$B$5:$C$5,$E$3,$E$4,$E$5,B280)","v":{"$error":"#VALUE!"}},{"$error":"#VALUE!"},{"$f":"ThreePosition_Basic2($E$3,$E$5,$B$3:$C$3,$B$5:$C$5,B280,C280)","v":{"$error":"#VALUE!"}},{"$error":"#VALUE!"},{"$error":"#VALUE!"},{"$error":"#VALUE!"},{"$f":"ThreePosition_Basic2($E$3,$E$5,$B$3:$C$3,$B$5:$C$5,B280,D280)","v":{"$error":"#VALUE!"}},{"$error":"#VALUE!"},{"$error":"#VALUE!"},{"$error":"#VALUE!"}]
[136.5,2.3823744289722599,{"$f":"Burmester($B$3:$C$3,$B$4:$C$4,$B$5:$C$5,$E$3,$E$4,$E$5,B281)","v":{"$error":"#VALUE!"}},{"$error":"#VALUE!"},{"$f":"ThreePosition_Basic2($E$3,$E$5,$B$3:$C$3,$B$5:$C$5,B281,C281)","v":{"$error":"#VALUE!"}},{"$error":"#VALUE!"},{"$error":"#VALUE!"},{"$error":"#VALUE!"},{"$f":"ThreePosition_Basic2($E$3,$E$5,$B$3:$C$3,$B$5:$C$5,B281,D281)","v":{"$error":"#VALUE!"}},{"$error":"#VALUE!"},{"$error":"#VALUE!"},{"$error":"#VALUE!"}]
[137,2.3911010752322315,{"$f":"Burmester($B$3:$C$3,$B$4:$C$4,$B$5:$C$5,$E$3,$E$4,$E$5,B282)","v":{"$error":"#VALUE!"}},{"$error":"#VALUE!"},{"$f":"ThreePosition_Basic2($E$3,$E$5,$B$3:$C$3,$B$5:$C$5,B282,C282)","v":{"$error":"#VALUE!"}},{"$error":"#VALUE!"},{"$error":"#VALUE!"},{"$error":"#VALUE!"},{"$f":"ThreePosition_Basic2($E$3,$E$5,$B$3:$C$3,$B$5:$C$5,B282,D282)","v":{"$error":"#VALUE!"}},{"$error":"#VALUE!"},{"$error":"#VALUE!"},{"$error":"#VALUE!"}]
[137.5,2.399827721492203,{"$f":"Burmester($B$3:$C$3,$B$4:$C$4,$B$5:$C$5,$E$3,$E$4,$E$5,B283)","v":{"$error":"#VALUE!"}},{"$error":"#VALUE!"},{"$f":"ThreePosition_Basic2($E$3,$E$5,$B$3:$C$3,$B$5:$C$5,B283,C283)","v":{"$error":"#VALUE!"}},{"$error":"#VALUE!"},{"$error":"#VALUE!"},{"$error":"#VALUE!"},{"$f":"ThreePosition_Basic2($E$3,$E$5,$B$3:$C$3,$B$5:$C$5,B283,D283)","v":{"$error":"#VALUE!"}},{"$error":"#VALUE!"},{"$error":"#VALUE!"},{"$error":"#VALUE!"}]
[138,2.4085543677521746,{"$f":"Burmester($B$3:$C$3,$B$4:$C$4,$B$5:$C$5,$E$3,$E$4,$E$5,B284)","v":{"$error":"#VALUE!"}},{"$error":"#VALUE!"},{"$f":"ThreePosition_Basic2($E$3,$E$5,$B$3:$C$3,$B$5:$C$5,B284,C284)","v":{"$error":"#VALUE!"}},{"$error":"#VALUE!"},{"$error":"#VALUE!"},{"$error":"#VALUE!"},{"$f":"ThreePosition_Basic2($E$3,$E$5,$B$3:$C$3,$B$5:$C$5,B284,D284)","v":{"$error":"#VALUE!"}},{"$error":"#VALUE!"},{"$error":"#VALUE!"},{"$error":"#VALUE!"}]
[138.5,2.4172810140121466,{"$f":"Burmester($B$3:$C$3,$B$4:$C$4,$B$5:$C$5,$E$3,$E$4,$E$5,B285)","v":{"$error":"#VALUE!"}},{"$error":"#VALUE!"},{"$f":"ThreePosition_Basic2($E$3,$E$5,$B$3:$C$3,$B$5:$C$5,B285,C285)","v":{"$error":"#VALUE!"}},{"$error":"#VALUE!"},{"$error":"#VALUE!"},{"$error":"#VALUE!"},{"$f":"ThreePosition_Basic2($E$3,$E$5,$B$3:$C$3,$B$5:$C$5,B285,D285)","v":{"$error":"#VALUE!"}},{"$error":"#VALUE!"},{"$error":"#VALUE!"},{"$error":"#VALUE!"}]
[139,2.4260076602721181,{"$f":"Burmester($B$3:$C$3,$B$4:$C$4,$B$5:$C$5,$E$3,$E$4,$E$5,B286)","v":{"$error":"#VALUE!"}},{"$error":"#VALUE!"},{"$f":"ThreePosition_Basic2($E$3,$E$5,$B$3:$C$3,$B$5:$C$5,B286,C286)","v":{"$error":"#VALUE!"}},{"$error":"#VALUE!"},{"$error":"#VALUE!"},{"$error":"#VALUE!"},{"$f":"ThreePosition_Basic2($E$3,$E$5,$B$3:$C$3,$B$5:$C$5,B286,D286)","v":{"$error":"#VALUE!"}},{"$error":"#VALUE!"},{"$error":"#VALUE!"},{"$error":"#VALUE!"}]
[139.5,2.4347343065320897,{"$f":"Burmester($B$3:$C$3,$B$4:$C$4,$B$5:$C$5,$E$3,$E$4,$E$5,B287)","v":{"$error":"#VALUE!"}},{"$error":"#VALUE!"},{"$f":"ThreePosition_Basic2($E$3,$E$5,$B$3:$C$3,$B$5:$C$5,B287,C287)","v":{"$error":"#VALUE!"}},{"$error":"#VALUE!"},{"$error":"#VALUE!"},{"$error":"#VALUE!"},{"$f":"ThreePosition_Basic2($E$3,$E$5,$B$3:$C$3,$B$5:$C$5,B287,D287)","v":{"$error":"#VALUE!"}},{"$error":"#VALUE!"},{"$error":"#VALUE!"},{"$error":"#VALUE!"}]
[140,2.4434609527920612,{"$f":"Burmester($B$3:$C$3,$B$4:$C$4,$B$5:$C$5,$E$3,$E$4,$E$5,B288)","v":3.6700445420845296},3.5348798166505051,{"$f":"ThreePosition_Basic2($E$3,$E$5,$B$3:$C$3,$B$5:$C$5,B288,C288)","v":-0.7362617330476835},2.1329422079468285,-0.30048239807055765,2.7104242005382164,{"$f":"ThreePosition_Basic2($E$3,$E$5,$B$3:$C$3,$B$5:$C$5,B288,D288)","v":-0.81170068013828234},2.0405908781360163,-0.36520133593301563,2.6153514656198436]
[140.5,2.4521875990520328,{"$f":"Burmester($B$3:$C$3,$B$4:$C$4,$B$5:$C$5,$E$3,$E$4,$E$5,B289)","v":3.7720866250851102},3.4511956949629159,{"$f":"ThreePosition_Basic2($E$3,$E$5,$B$3:$C$3,$B$5:$C$5,B289,C289)","v":-0.69728610702549199},2.2060145995895928,-0.26733819426358713,2.7811272573516148,{"$f":"ThreePosition_Basic2($E$3,$E$5,$B$3:$C$3,$B$5:$C$5,B289,D289)","v":-0.87406637759826189},1.9880194563198887,-0.41893214846945243,2.5567169465626218]
[141,2.4609142453120043,{"$f":"Burmester($B$3:$C$3,$B$4:$C$4,$B$5:$C$5,$E$3,$E$4,$E$5,B290)","v":3.8375387089006736},3.4040593337995939,{"$f":"ThreePosition_Basic2($E$3,$E$5,$B$3:$C$3,$B$5:$C$5,B290,C290)","v":-0.6794513308339819},2.2534808830597273,-0.25234778854895457,2.8255014524032629,{"$f":"ThreePosition_Basic2($E$3,$E$5,$B$3:$C$3,$B$5:$C$5,B290,D290)","v":-0.91518045536238923},1.9606861211407809,-0.45440451112259256,2.5241001979825572]
[141.9,2.4766222085799536,{"$f":"Burmester($B$3:$C$3,$B$4:$C$4,$B$5:$C$5,$E$3,$E$4,$E$5,B291)","v":3.929356784598518},3.3451037640003873,{"$f":"ThreePosition_Basic2($E$3,$E$5,$B$3:$C$3,$B$5:$C$5,B291,C291)","v":-0.6629086335820269},2.32003561589854,-0.23873503328228052,2.8860164075694525,{"$f":"ThreePosition_Basic2($E$3,$E$5,$B$3:$C$3,$B$5:$C$5,B291,D291)","v":-0.9733431178014863},1.9294674654349848,-0.50461809867713858,2.4839856405544611,null,null,141.5,-0.40202772859093833]
[142,2.4783675378319479,{"$f":"Burmester($B$3:$C$3,$B$4:$C$4,$B$5:$C$5,$E$3,$E$4,$E$5,B292)","v":3.9384032665056083},3.3397003162676797,{"$f":"ThreePosition_Basic2($E$3,$E$5,$B$3:$C$3,$B$5:$C$5,B292,C292)","v":-0.66177838082550844},2.3265629664244143,-0.23783083160528484,2.8918536630863234,{"$f":"ThreePosition_Basic2($E$3,$E$5,$B$3:$C$3,$B$5:$C$5,B292,D292)","v":-0.979075164186889},1.9267961426265068,-0.50956772850586873,2.4803558220508597,null,null,141.6,-0.40477929410799424]
[142.5,2.4870941840919198,{"$f":"Burmester($B$3:$C$3,$B$4:$C$4,$B$5:$C$5,$E$3,$E$4,$E$5,B293)","v":3.9813292881348241},3.3149645240947661,{"$f":"ThreePosition_Basic2($E$3,$E$5,$B$3:$C$3,$B$5:$C$5,B293,C293)","v":-0.65756503389745735},2.3574104417466688,-0.23454556283942346,2.9192175232333444,{"$f":"ThreePosition_Basic2($E$3,$E$5,$B$3:$C$3,$B$5:$C$5,B293,D293)","v":-1.0062289929153947},1.9150225436319621,-0.53301570905496731,2.4638550834277773,null,null,141.69999999999999,-0.40753697578359488,-0.39762886498727928]
[143,2.4958208303518914,{"$f":"Burmester($B$3:$C$3,$B$4:$C$4,$B$5:$C$5,$E$3,$E$4,$E$5,B294)","v":4.0211750435826445},3.2932675832930873,{"$f":"ThreePosition_Basic2($E$3,$E$5,$B$3:$C$3,$B$5:$C$5,B294,C294)","v":-0.65528912250922233},2.3858161547412715,-0.23292505643243483,2.9441001229696147,{"$f":"ThreePosition_Basic2($E$3,$E$5,$B$3:$C$3,$B$5:$C$5,B294,D294)","v":-1.0313306535722604},1.9053521314505295,-0.55469108145406476,2.4495499863895649,null,null,142,null,-0.40362317391399888]
[143.5,2.5045474766118629,{"$f":"Burmester($B$3:$C$3,$B$4:$C$4,$B$5:$C$5,$E$3,$E$4,$E$5,B295)","v":4.0586594276972114},3.2738908112001428,{"$f":"ThreePosition_Basic2($E$3,$E$5,$B$3:$C$3,$B$5:$C$5,B295,C295)","v":-0.65451318996190011},2.4122922757327867,-0.23259297691843556,2.9670284169426338,{"$f":"ThreePosition_Basic2($E$3,$E$5,$B$3:$C$3,$B$5:$C$5,B295,D295)","v":-1.0548168810167142},1.8972796935398413,-0.57496961927543788,2.4369195817296521]
[144,2.5132741228718345,{"$f":"Burmester($B$3:$C$3,$B$4:$C$4,$B$5:$C$5,$E$3,$E$4,$E$5,B296)","v":4.0942578046070839},3.2563590581492932,{"$f":"ThreePosition_Basic2($E$3,$E$5,$B$3:$C$3,$B$5:$C$5,B296,C296)","v":-0.65494320988128063},2.4371808224983349,-0.2332962595228335,2.9883541471905026,{"$f":"ThreePosition_Basic2($E$3,$E$5,$B$3:$C$3,$B$5:$C$5,B296,D296)","v":-1.0769810764445473},1.89047001484721,-0.59410391030360266,2.4256179936897122]
[144.5,2.522000769131806,{"$f":"Burmester($B$3:$C$3,$B$4:$C$4,$B$5:$C$5,$E$3,$E$4,$E$5,B297)","v":4.1283038087264172},3.2403389063618788,{"$f":"ThreePosition_Basic2($E$3,$E$5,$B$3:$C$3,$B$5:$C$5,B297,C297)","v":-0.65636943283627225},2.460724406948418,-0.23485429446046374,3.0083266890700533,{"$f":"ThreePosition_Basic2($E$3,$E$5,$B$3:$C$3,$B$5:$C$5,B297,D297)","v":-1.0980324557642043},1.8846871343072995,-0.61227416775627264,2.4154015769453889]
[145,2.5307274153917776,{"$f":"Burmester($B$3:$C$3,$B$4:$C$4,$B$5:$C$5,$E$3,$E$4,$E$5,B298)","v":4.1610422149003039},3.2255857997013115,{"$f":"ThreePosition_Basic2($E$3,$E$5,$B$3:$C$3,$B$5:$C$5,B298,C298)","v":-0.65863546804452489},2.4831030706631934,-0.23713236084809969,3.0271309815380261,{"$f":"ThreePosition_Basic2($E$3,$E$5,$B$3:$C$3,$B$5:$C$5,B298,D298)","v":-1.1181269631143125},1.8797575124568326,-0.62961479209775928,2.4060909892105879]
[145.5,2.5394540616517491,{"$f":"Burmester($B$3:$C$3,$B$4:$C$4,$B$5:$C$5,$E$3,$E$4,$E$5,B299)","v":4.1926588753530503},3.2119141066263492,{"$f":"ThreePosition_Basic2($E$3,$E$5,$B$3:$C$3,$B$5:$C$5,B299,C299)","v":-0.66162066308979162},2.5044551950023912,-0.24002648342884786,3.0449090597710562,{"$f":"ThreePosition_Basic2($E$3,$E$5,$B$3:$C$3,$B$5:$C$5,B299,D299)","v":-1.1373848865882139},1.8755491244447975,-0.64622951023826858,2.397549661471694]
[146,2.5481807079117211,{"$f":"Burmester($B$3:$C$3,$B$4:$C$4,$B$5:$C$5,$E$3,$E$4,$E$5,B300)","v":4.223298821665594},3.1991790181173507,{"$f":"ThreePosition_Basic2($E$3,$E$5,$B$3:$C$3,$B$5:$C$5,B300,C300)","v":-0.66522937968932561},2.524890176519059,-0.24345421387348576,3.0617731086287452,{"$f":"ThreePosition_Basic2($E$3,$E$5,$B$3:$C$3,$B$5:$C$5,B300,D300)","v":-1.1559015781177628},1.8719587877050889,-0.66220059034540801,2.3896707473450221]
[146.5,2.5569073541716927,{"$f":"Burmester($B$3:$C$3,$B$4:$C$4,$B$5:$C$5,$E$3,$E$4,$E$5,B301)","v":4.2530777917329345},3.1872650206246087,{"$f":"ThreePosition_Basic2($E$3,$E$5,$B$3:$C$3,$B$5:$C$5,B301,C301)","v":-0.66938411932954578},2.544496518615551,-0.24734872014488435,3.0778137961150591,{"$f":"ThreePosition_Basic2($E$3,$E$5,$B$3:$C$3,$B$5:$C$5,B301,D301)","v":-1.1737543236890979},1.8689040733505553,-0.67759474877350123,2.3823687924000132]
[147,2.5656340004316647,{"$f":"Burmester($B$3:$C$3,$B$4:$C$4,$B$5:$C$5,$E$3,$E$4,$E$5,B302)","v":4.2820898838953703},3.1760782418449689,{"$f":"ThreePosition_Basic2($E$3,$E$5,$B$3:$C$3,$B$5:$C$5,B302,C302)","v":-0.67402092768455546},2.5633472180647652,-0.2516548342669368,3.09310582119309,{"$f":"ThreePosition_Basic2($E$3,$E$5,$B$3:$C$3,$B$5:$C$5,B302,D302)","v":-1.1910069349670416},1.8663179226631885,-0.6924670987612902,2.3755741890912798]
[147.5,2.5743606466916362,{"$f":"Burmester($B$3:$C$3,$B$4:$C$4,$B$5:$C$5,$E$3,$E$4,$E$5,B303)","v":4.3104128186243251},3.1655411889459244,{"$f":"ThreePosition_Basic2($E$3,$E$5,$B$3:$C$3,$B$5:$C$5,B303,C303)","v":-0.6790862137145276},2.581503477234063,-0.25632631608323914,3.1077117373999013,{"$f":"ThreePosition_Basic2($E$3,$E$5,$B$3:$C$3,$B$5:$C$5,B303,D303)","v":-1.2077129264227735},1.8641449378410195,-0.70686388330517713,2.369229355851084]
[148,2.5830872929516078,{"$f":"Burmester($B$3:$C$3,$B$4:$C$4,$B$5:$C$5,$E$3,$E$4,$E$5,B304)","v":4.3381116625896636},3.1555890244102902,{"$f":"ThreePosition_Basic2($E$3,$E$5,$B$3:$C$3,$B$5:$C$5,B304,C304)","v":-0.68453448250814797},2.5990173381994479,-0.26132390255788401,3.1216846661692488,{"$f":"ThreePosition_Basic2($E$3,$E$5,$B$3:$C$3,$B$5:$C$5,B304,D304)","v":-1.2239177788925362},1.8623387508124349,-0.72082442264830804,2.3632860264330526]
[148.5,2.5918139392115793,{"$f":"Burmester($B$3:$C$3,$B$4:$C$4,$B$5:$C$5,$E$3,$E$4,$E$5,B305)","v":4.3652415308789365},3.1461668637309628,{"$f":"ThreePosition_Basic2($E$3,$E$5,$B$3:$C$3,$B$5:$C$5,B305,C305)","v":-0.69032667842567719},2.6159335990333585,-0.26661388183886159,3.1350702708651732,{"$f":"ThreePosition_Basic2($E$3,$E$5,$B$3:$C$3,$B$5:$C$5,B305,D305)","v":-1.2396605930031079},1.8608601098330617,-0.73438253715798918,2.3577032785029175]
[149,2.6005405854715509,{"$f":"Burmester($B$3:$C$3,$B$4:$C$4,$B$5:$C$5,$E$3,$E$4,$E$5,B306)","v":4.3918495903792794},3.137227771945061,{"$f":"ThreePosition_Basic2($E$3,$E$5,$B$3:$C$3,$B$5:$C$5,B306,C306)","v":-0.69642894774938802},2.6322912382528441,-0.2721670280943902,3.1479082242444756,{"$f":"ThreePosition_Basic2($E$3,$E$5,$B$3:$C$3,$B$5:$C$5,B306,D306)","v":-1.2549753232499388},1.8596754578772317,-0.74756760957442103,2.3524460687572777]
[149.5,2.6092672317315224,{"$f":"Burmester($B$3:$C$3,$B$4:$C$4,$B$5:$C$5,$E$3,$E$4,$E$5,B307)","v":4.4179765731988958},3.1287312501304756,{"$f":"ThreePosition_Basic2($E$3,$E$5,$B$3:$C$3,$B$5:$C$5,B307,C307)","v":-0.70281169697003765},2.6481244937908466,-0.27795779063859866,3.1602333200754904,{"$f":"ThreePosition_Basic2($E$3,$E$5,$B$3:$C$3,$B$5:$C$5,B307,D307)","v":-1.2698917165921453},1.8587558564602036,-0.76040539310783106,2.3474841238420949]
[150,2.6179938779914944,{"$f":"Burmester($B$3:$C$3,$B$4:$C$4,$B$5:$C$5,$E$3,$E$4,$E$5,B308)","v":4.4436579390154565},3.120642072977482,{"$f":"ThreePosition_Basic2($E$3,$E$5,$B$3:$C$3,$B$5:$C$5,B308,C308)","v":-0.7094488640128741},2.6634636939608973,-0.28396366624851499,3.1720763292937204,{"$f":"ThreePosition_Basic2($E$3,$E$5,$B$3:$C$3,$B$5:$C$5,B308,D308)","v":-1.2844360382541491},1.8580761574200237,-0.77291863647593717,2.342791086689751]
[150.5,2.626720524251466,{"$f":"Burmester($B$3:$C$3,$B$4:$C$4,$B$5:$C$5,$E$3,$E$4,$E$5,B309)","v":4.4689247809872379},3.1129293827995665,{"$f":"ThreePosition_Basic2($E$3,$E$5,$B$3:$C$3,$B$5:$C$5,B309,C309)","v":-0.7163173458265546},2.6783359069318768,-0.29016470602414962,3.1834646691996582,{"$f":"ThreePosition_Basic2($E$3,$E$5,$B$3:$C$3,$B$5:$C$5,B309,D309)","v":-1.2986316413040335},1.8576143561416378,-0.78512757452400794,2.3383438497687625]
[151,2.6354471705114375,{"$f":"Burmester($B$3:$C$3,$B$4:$C$4,$B$5:$C$5,$E$3,$E$4,$E$5,B310)","v":4.4938045411219321},3.1055659740885289,{"$f":"ThreePosition_Basic2($E$3,$E$5,$B$3:$C$3,$B$5:$C$5,B310,C310)","v":-0.72339654277987497},2.6927654550989546,-0.29654312277496597,3.1944229334736662,{"$f":"ThreePosition_Basic2($E$3,$E$5,$B$3:$C$3,$B$5:$C$5,B310,D310)","v":-1.3124994195575213},1.8573510798366493,-0.7970503184385892,2.3341220274709564]
[151.5,2.6441738167714091,{"$f":"Burmester($B$3:$C$3,$B$4:$C$4,$B$5:$C$5,$E$3,$E$4,$E$5,B311)","v":4.5183215818801195},3.0985277218368155,{"$f":"ThreePosition_Basic2($E$3,$E$5,$B$3:$C$3,$B$5:$C$5,B311,C311)","v":-0.73066799167165009},2.7067743273287577,-0.30308297468243223,3.2049733169747694,{"$f":"ThreePosition_Basic2($E$3,$E$5,$B$3:$C$3,$B$5:$C$5,B311,D311)","v":-1.3260581719962821},1.857269177900257,-0.80870316979980084,2.3301075336689734]
[152,2.6529004630313806,{"$f":"Burmester($B$3:$C$3,$B$4:$C$4,$B$5:$C$5,$E$3,$E$4,$E$5,B312)","v":4.5424976477996388},3.0917931198408626,{"$f":"ThreePosition_Basic2($E$3,$E$5,$B$3:$C$3,$B$5:$C$5,B312,C312)","v":-0.73811506690466822},2.7203825129340471,-0.30976990764786277,3.2151359598950084,{"$f":"ThreePosition_Basic2($E$3,$E$5,$B$3:$C$3,$B$5:$C$5,B312,D312)","v":-1.3393248991439064},1.8573533904898318,-0.82010087605778526,2.3262842398722938]
[152.5,2.6616271092913526,{"$f":"Burmester($B$3:$C$3,$B$4:$C$4,$B$5:$C$5,$E$3,$E$4,$E$5,B313)","v":4.5663522419286666},3.0853429041975806,{"$f":"ThreePosition_Basic2($E$3,$E$5,$B$3:$C$3,$B$5:$C$5,B313,C313)","v":-0.74572273475806894},2.733608274905901,-0.31659094336385701,3.2249292293246072,{"$f":"ThreePosition_Basic2($E$3,$E$5,$B$3:$C$3,$B$5:$C$5,B313,D313)","v":-1.3523150464597862},1.8575900777970336,-0.83125684039008596,2.322637695926558]
[153,2.6703537555513241,{"$f":"Burmester($B$3:$C$3,$B$4:$C$4,$B$5:$C$5,$E$3,$E$4,$E$5,B314)","v":4.5899029355135168},3.0791597435479674,{"$f":"ThreePosition_Basic2($E$3,$E$5,$B$3:$C$3,$B$5:$C$5,B314,C314)","v":-0.75347734949948941},2.746468375466256,-0.32353430342158235,3.2343699516844078,{"$f":"ThreePosition_Basic2($E$3,$E$5,$B$3:$C$3,$B$5:$C$5,B314,D314)","v":-1.3650427060042634},1.8579669969505062,-0.84218329562291339,2.3191548997996807]
[153.5,2.6790804018112957,{"$f":"Burmester($B$3:$C$3,$B$4:$C$4,$B$5:$C$5,$E$3,$E$4,$E$5,B315)","v":4.6131656248465873},3.0732279821623893,{"$f":"ThreePosition_Basic2($E$3,$E$5,$B$3:$C$3,$B$5:$C$5,B315,C315)","v":-0.76136648281346597},2.7589782638027702,-0.33058926211858136,3.2434736061852498,{"$f":"ThreePosition_Basic2($E$3,$E$5,$B$3:$C$3,$B$5:$C$5,B315,D315)","v":-1.3775207848936566},1.8584731166873507,-0.85289144954716889,2.3158241062953384]
[154,2.6878070480712677,{"$f":"Burmester($B$3:$C$3,$B$4:$C$4,$B$5:$C$5,$E$3,$E$4,$E$5,B316)","v":4.636154745881762},3.0675334252601942,{"$f":"ThreePosition_Basic2($E$3,$E$5,$B$3:$C$3,$B$5:$C$5,B316,C316)","v":-0.76937878001600035},2.7711522335198779,-0.33774602234647821,3.2522544870760282,{"$f":"ThreePosition_Basic2($E$3,$E$5,$B$3:$C$3,$B$5:$C$5,B316,D316)","v":-1.3897611470703743},1.8590984622595952,-0.86339160724542718,2.3126346669322491]
[154.5,2.6965336943312392,{"$f":"Burmester($B$3:$C$3,$B$4:$C$4,$B$5:$C$5,$E$3,$E$4,$E$5,B317)","v":4.6588834547974125},3.0620631583834883,{"$f":"ThreePosition_Basic2($E$3,$E$5,$B$3:$C$3,$B$5:$C$5,B317,C317)","v":-0.77750383799750711},2.7830035556244432,-0.3449956102045636,3.260725840675164,{"$f":"ThreePosition_Basic2($E$3,$E$5,$B$3:$C$3,$B$5:$C$5,B317,D317)","v":-1.4017747334413913},1.8598339847574821,-0.87369327477981962,2.3095768949947719]
[155,2.7052603405912108,{"$f":"Burmester($B$3:$C$3,$B$4:$C$4,$B$5:$C$5,$E$3,$E$4,$E$5,B318)","v":4.6813637808788098},3.0568053944532463,{"$f":"ThreePosition_Basic2($E$3,$E$5,$B$3:$C$3,$B$5:$C$5,B318,C318)","v":-0.78573210093694223},2.7945445915848235,-0.35232978493214928,3.2688999818621491,{"$f":"ThreePosition_Basic2($E$3,$E$5,$B$3:$C$3,$B$5:$C$5,B318,D318)","v":-1.4135716643378893},1.8606714503111179,-0.8838052476439392,2.3066419510785825]
[155.5,2.7139869868511823,{"$f":"Burmester($B$3:$C$3,$B$4:$C$4,$B$5:$C$5,$E$3,$E$4,$E$5,B319)","v":4.7036067567295561},3.0517493434981078,{"$f":"ThreePosition_Basic2($E$3,$E$5,$B$3:$C$3,$B$5:$C$5,B319,C319)","v":-0.79405477066199648},2.8057868900369196,-0.35974096146858459,3.2767883937114983,{"$f":"ThreePosition_Basic2($E$3,$E$5,$B$3:$C$3,$B$5:$C$5,B319,D319)","v":-1.4251613274169996},1.8616033455972421,-0.89373568666609271,2.3038217454494445]
[156,2.7227136331111539,{"$f":"Burmester($B$3:$C$3,$B$4:$C$4,$B$5:$C$5,$E$3,$E$4,$E$5,B320)","v":4.7256225297847232},3.0468851010831561,{"$f":"ThreePosition_Basic2($E$3,$E$5,$B$3:$C$3,$B$5:$C$5,B320,C320)","v":-0.80246372916585007},2.8167412699751768,-0.3672221434968273,3.2844018131936483,{"$f":"ThreePosition_Basic2($E$3,$E$5,$B$3:$C$3,$B$5:$C$5,B320,D320)","v":-1.4365524534911542},1.8626227968135756,-0.90349218350439953,2.3011088542909861]
[156.5,2.7314402793711254,{"$f":"Burmester($B$3:$C$3,$B$4:$C$4,$B$5:$C$5,$E$3,$E$4,$E$5,B321)","v":4.7474204583013808},3.0422035522629649,{"$f":"ThreePosition_Basic2($E$3,$E$5,$B$3:$C$3,$B$5:$C$5,B321,C321)","v":-0.81095147128125067},2.8274178927004532,-0.3747668652484254,3.2917503052841894,{"$f":"ThreePosition_Basic2($E$3,$E$5,$B$3:$C$3,$B$5:$C$5,B321,D321)","v":-1.4477531822804424},1.8637234998493311,-0.91308181745239037,2.298496447500618]
[157,2.740166925631097,{"$f":"Burmester($B$3:$C$3,$B$4:$C$4,$B$5:$C$5,$E$3,$E$4,$E$5,B322)","v":4.7690091943842292},3.0376962885011674,{"$f":"ThreePosition_Basic2($E$3,$E$5,$B$3:$C$3,$B$5:$C$5,B322,C322)","v":-0.81951104589424884},2.837826324357104,-0.38236914067623179,3.2988433273699345,{"$f":"ThreePosition_Basic2($E$3,$E$5,$B$3:$C$3,$B$5:$C$5,B322,D322)","v":-1.4587711197020206},1.8648996598200362,-0.92251120494553351,2.2959782261455794]
[157.5,2.748893571891069,{"$f":"Burmester($B$3:$C$3,$B$4:$C$4,$B$5:$C$5,$E$3,$E$4,$E$5,B323)","v":4.7903967561206677},3.0333555354822033,{"$f":"ThreePosition_Basic2($E$3,$E$5,$B$3:$C$3,$B$5:$C$5,B323,C323)","v":-0.8281360043794147},2.8479755905475668,-0.39002341885900021,3.3056897854858454,{"$f":"ThreePosition_Basic2($E$3,$E$5,$B$3:$C$3,$B$5:$C$5,B323,D323)","v":-1.469613388011245},1.8661459384789911,-0.93178654290135388,2.29354836804572]
[158,2.7576202181510405,{"$f":"Burmester($B$3:$C$3,$B$4:$C$4,$B$5:$C$5,$E$3,$E$4,$E$5,B324)","v":4.8115905905187333},3.0291740901217565,{"$f":"ThreePosition_Basic2($E$3,$E$5,$B$3:$C$3,$B$5:$C$5,B324,C324)","v":-0.83682035517521314},2.8578742242410686,-0.39772454470594598,3.3122980836369171,{"$f":"ThreePosition_Basic2($E$3,$E$5,$B$3:$C$3,$B$5:$C$5,B324,D324)","v":-1.4802866698724677},1.867457408289257,-0.94091364682201528,2.2912014802294136]
[158.5,2.7663468644110125,{"$f":"Burmester($B$3:$C$3,$B$4:$C$4,$B$5:$C$5,$E$3,$E$4,$E$5,B325)","v":4.8325976286389363},3.0251452653848676,{"$f":"ThreePosition_Basic2($E$3,$E$5,$B$3:$C$3,$B$5:$C$5,B325,C325)","v":-0.84555852360709127},2.8675303079773533,-0.40546772419200755,3.3186761672368208,{"$f":"ThreePosition_Basic2($E$3,$E$5,$B$3:$C$3,$B$5:$C$5,B325,D325)","v":-1.4907972472488455},1.8688295121560057,-0.94989798442583406,2.2889325572315187]
[159,2.7750735106709841,{"$f":"Burmester($B$3:$C$3,$B$4:$C$4,$B$5:$C$5,$E$3,$E$4,$E$5,B326)","v":4.8534243340690946},3.0212628417625447,{"$f":"ThreePosition_Basic2($E$3,$E$5,$B$3:$C$3,$B$5:$C$5,B326,C326)","v":-0.85434531621725363},2.8769515111933903,-0.41324849348494835,3.3248315615169246,{"$f":"ThreePosition_Basic2($E$3,$E$5,$B$3:$C$3,$B$5:$C$5,B326,D326)","v":-1.5011510358490494},1.8702580279918579,-0.9587447054437459,2.2867369443803605]
[159.5,2.7838001569309556,{"$f":"Burmester($B$3:$C$3,$B$4:$C$4,$B$5:$C$5,$E$3,$E$4,$E$5,B327)","v":4.8740767456968301},3.0175210244522273,{"$f":"ThreePosition_Basic2($E$3,$E$5,$B$3:$C$3,$B$5:$C$5,B327,C327)","v":-0.86317588898253017},2.8861451233619206,-0.42106269143089847,3.3307714056159217,{"$f":"ThreePosition_Basic2($E$3,$E$5,$B$3:$C$3,$B$5:$C$5,B327,D327)","v":-1.5113536157466185},1.8717390374270408,-0.96745866811156322,2.2846103053641471]
[160,2.7925268031909272,{"$f":"Burmester($B$3:$C$3,$B$4:$C$4,$B$5:$C$5,$E$3,$E$4,$E$5,B328)","v":4.8945605155767478},3.0139144054450271,{"$f":"ThreePosition_Basic2($E$3,$E$5,$B$3:$C$3,$B$5:$C$5,B328,C328)","v":-0.87204571890116278},2.8951180835178203,-0.42890643495057984,3.3365024829439847,{"$f":"ThreePosition_Basic2($E$3,$E$5,$B$3:$C$3,$B$5:$C$5,B328,D328)","v":-1.5214102586883074},1.8732688980891048,-0.97604446280322488,2.2825485934836052]
[160.5,{"$f":"A329*PI()/180","v":2.8012534494508987},{"$f":"Burmester($B$3:$C$3,$B$4:$C$4,$B$5:$C$5,$E$3,$E$4,$E$5,B329)","v":4.9148809425610667},3.0104379298509492,{"$f":"ThreePosition_Basic2($E$3,$E$5,$B$3:$C$3,$B$5:$C$5,B329,C329)","v":-0.8809505785106736},2.903877006656256,-0.43677609696854108,3.342031248320541,{"$f":"ThreePosition_Basic2($E$3,$E$5,$B$3:$C$3,$B$5:$C$5,B329,D329)","v":-1.5313259525266518},1.8748442189689107,-0.98450643318035858,2.2805480260924096]
[161,2.8099800957108703,{"$f":"Burmester($B$3:$C$3,$B$4:$C$4,$B$5:$C$5,$E$3,$E$4,$E$5,B330)","v":4.9350430022574336},3.0070868658983558,{"$f":"ThreePosition_Basic2($E$3,$E$5,$B$3:$C$3,$B$5:$C$5,B330,C330)","v":-0.8898865129657918},2.9124282074112369,-0.44466828655529966,3.3473638523070433,{"$f":"ThreePosition_Basic2($E$3,$E$5,$B$3:$C$3,$B$5:$C$5,B330,D330)","v":-1.5411054231452039},1.8764618384650473,-0.99284869517594321,2.2786050618047398]
[161.5,2.8187067419708423,{"$f":"Burmester($B$3:$C$3,$B$4:$C$4,$B$5:$C$5,$E$3,$E$4,$E$5,B331)","v":4.9550513737911217},3.0038567781304231,{"$f":"ThreePosition_Basic2($E$3,$E$5,$B$3:$C$3,$B$5:$C$5,B331,C331)","v":-0.89884981936065567},2.9207777213609267,-0.45257983100989529,3.352506163091999,{"$f":"ThreePosition_Basic2($E$3,$E$5,$B$3:$C$3,$B$5:$C$5,B331,D331)","v":-1.5507531541898039},1.8781188047609885,-1.0010751540823848,2.2767163801133661]
[162,2.8274333882308138,{"$f":"Burmester($B$3:$C$3,$B$4:$C$4,$B$5:$C$5,$E$3,$E$4,$E$5,B332)","v":4.9749104637773991},3.0007435033927892,{"$f":"ThreePosition_Basic2($E$3,$E$5,$B$3:$C$3,$B$5:$C$5,B332,C332)","v":-0.90783702802537536},2.9289313242547563,-0.46050775964989793,3.357463786232564,{"$f":"ThreePosition_Basic2($E$3,$E$5,$B$3:$C$3,$B$5:$C$5,B332,D332)","v":-1.5602734048735081},1.879812358240774,-1.009189519974903,2.2748788631147274]
[162.5,2.8361600344907854,{"$f":"Burmester($B$3:$C$3,$B$4:$C$4,$B$5:$C$5,$E$3,$E$4,$E$5,B333)","v":4.9946244278502903},2.9977431292661367,{"$f":"ThreePosition_Basic2($E$3,$E$5,$B$3:$C$3,$B$5:$C$5,B333,C333)","v":-0.91684488556530264},2.9368945494144003,-0.46844928910889444,3.3622420825127333,{"$f":"ThreePosition_Basic2($E$3,$E$5,$B$3:$C$3,$B$5:$C$5,B333,D333)","v":-1.5696702260845814},1.8815399156918147,-1.0171953216681779,2.2730895790815948]
[163,2.8448866807507569,{"$f":"Burmester($B$3:$C$3,$B$4:$C$4,$B$5:$C$5,$E$3,$E$4,$E$5,B334)","v":5.0141971900444462},2.9948519746469788,{"$f":"ThreePosition_Basic2($E$3,$E$5,$B$3:$C$3,$B$5:$C$5,B334,C334)","v":-0.9258703394434521},2.9446727035250486,-0.47640180996915288,3.3668461841414032,{"$f":"ThreePosition_Basic2($E$3,$E$5,$B$3:$C$3,$B$5:$C$5,B334,D334)","v":-1.5789474749950398},1.8832990560792311,-1.0250959193766946,2.2713457676608586]
[163.5,2.8536133270107289,{"$f":"Burmester($B$3:$C$3,$B$4:$C$4,$B$5:$C$5,$E$3,$E$4,$E$5,B335)","v":5.0336324602851672},2.9920665722215638,{"$f":"ThreePosition_Basic2($E$3,$E$5,$B$3:$C$3,$B$5:$C$5,B335,C335)","v":-0.9349105239334945},2.9522708810032472,-0.48436287458042887,3.3712810094824905,{"$f":"ThreePosition_Basic2($E$3,$E$5,$B$3:$C$3,$B$5:$C$5,B335,D335)","v":-1.5881088283402587},1.885087507706112,-1.0328945162259706,2.2696448265048508]
[164,2.8623399732707,{"$f":"Burmester($B$3:$C$3,$B$4:$C$4,$B$5:$C$5,$E$3,$E$4,$E$5,B336)","v":5.0529337502066571},2.9893836526127986,{"$f":"ThreePosition_Basic2($E$3,$E$5,$B$3:$C$3,$B$5:$C$5,B336,C336)","v":-0.94396274729360063},2.9596939771023858,-0.49233018593558708,3.3755512764833093,{"$f":"ThreePosition_Basic2($E$3,$E$5,$B$3:$C$3,$B$5:$C$5,B336,D336)","v":-1.5971577945174904},1.8869031365994766,-1.0405941687422966,2.2679842991708319]
[164.5,2.871066619530672,{"$f":"Burmester($B$3:$C$3,$B$4:$C$4,$B$5:$C$5,$E$3,$E$4,$E$5,B337)","v":5.0721043874889862},2.9868001300097018,{"$f":"ThreePosition_Basic2($E$3,$E$5,$B$3:$C$3,$B$5:$C$5,B337,C337)","v":-0.95302448003076334},2.9669466998953955,-0.50030158749040687,3.3796615149452176,{"$f":"ThreePosition_Basic2($E$3,$E$5,$B$3:$C$3,$B$5:$C$5,B337,D337)","v":-1.6060977246317962},1.8887439359830152,-1.0481977964319515,2.2663618641452139]
[165,2.8797932657906435,{"$f":"Burmester($B$3:$C$3,$B$4:$C$4,$B$5:$C$5,$E$3,$E$4,$E$5,B338)","v":5.0911475288791337},2.9843130891139573,{"$f":"ThreePosition_Basic2($E$3,$E$5,$B$3:$C$3,$B$5:$C$5,B338,C338)","v":-0.96209334414171432},2.9740335812561494,-0.50827505382916105,3.383616077761912,{"$f":"ThreePosition_Basic2($E$3,$E$5,$B$3:$C$3,$B$5:$C$5,B338,D338)","v":-1.6149318226015188},1.8906080167159722,-1.0557081905467165,2.2647753248679585]
[165.5,2.8885199120506155,{"$f":"Burmester($B$3:$C$3,$B$4:$C$4,$B$5:$C$5,$E$3,$E$4,$E$5,B339)","v":5.1100661720401783},2.9819197732595142,{"$f":"ThreePosition_Basic2($E$3,$E$5,$B$3:$C$3,$B$5:$C$5,B339,C339)","v":-0.97116710323069977},2.9809589869454891,-0.5162486820897676,3.3874191512346803,{"$f":"ThreePosition_Basic2($E$3,$E$5,$B$3:$C$3,$B$5:$C$5,B339,D339)","v":-1.6236631544213851},1.8924935985929265,-1.0631280221204116,2.2632226006484566]
[166,2.8972465583105871,{"$f":"Burmester($B$3:$C$3,$B$4:$C$4,$B$5:$C$5,$E$3,$E$4,$E$5,B340)","v":5.1288631663543907},2.979617573579413,{"$f":"ThreePosition_Basic2($E$3,$E$5,$B$3:$C$3,$B$5:$C$5,B340,C340)","v":-0.98024365341641106},2.9877271258945912,-0.52422068407269773,3.3910747645603045,{"$f":"ThreePosition_Basic2($E$3,$E$5,$B$3:$C$3,$B$5:$C$5,B340,D340)","v":-1.6322946566693026},1.8943990024125092,-1.0704598493508048,2.26170171837791]
[166.5,2.9059732045705586,{"$f":"Burmester($B$3:$C$3,$B$4:$C$4,$B$5:$C$5,$E$3,$E$4,$E$5,B341)","v":5.1475412227904354},2.9774040191096423,{"$f":"ThreePosition_Basic2($E$3,$E$5,$B$3:$C$3,$B$5:$C$5,B341,C341)","v":-0.98932101495084956},2.994342058767046,-0.5321893789668688,3.394586798575602,{"$f":"ThreePosition_Basic2($E$3,$E$5,$B$3:$C$3,$B$5:$C$5,B341,D341)","v":-1.640829144332566},1.8963226427344475,-1.0777061243923041,2.260210804954939]
[167,2.9146998508305306,{"$f":"Burmester($B$3:$C$3,$B$4:$C$4,$B$5:$C$5,$E$3,$E$4,$E$5,B342)","v":5.1661029229314019},2.9752767677332583,{"$f":"ThreePosition_Basic2($E$3,$E$5,$B$3:$C$3,$B$5:$C$5,B342,C342)","v":-0.9983973244818426},3.0008077058712255,-0.5401531866334679,3.3979589938324848,{"$f":"ThreePosition_Basic2($E$3,$E$5,$B$3:$C$3,$B$5:$C$5,B342,D342)","v":-1.6492693180203142},1.8982630212540672,-1.0848691996171986,2.2587480803511872]
[167.5,2.9234264970905017,{"$f":"Burmester($B$3:$C$3,$B$4:$C$4,$B$5:$C$5,$E$3,$E$4,$E$5,B343)","v":5.1845507272488316},2.9732335978795748,{"$f":"ThreePosition_Basic2($E$3,$E$5,$B$3:$C$3,$B$5:$C$5,B343,C343)","v":-1.0074708278987337},3.0071278544860607,-0.5481106213953979,3.4011949580686958,{"$f":"ThreePosition_Basic2($E$3,$E$5,$B$3:$C$3,$B$5:$C$5,B343,D343)","v":-1.6576177706212725},1.9002187207318377,-1.091951333396469,2.2573118512524233]
[168,2.9321531433504737,{"$f":"Burmester($B$3:$C$3,$B$4:$C$4,$B$5:$C$5,$E$3,$E$4,$E$5,B344)","v":5.2028869826979154},2.9712724009032452,{"$f":"ThreePosition_Basic2($E$3,$E$5,$B$3:$C$3,$B$5:$C$5,B344,C344)","v":-1.0165398737075395},3.0133061656561284,-0.55606028628586912,3.4042981731319211,{"$f":"ThreePosition_Basic2($E$3,$E$5,$B$3:$C$3,$B$5:$C$5,B344,D344)","v":-1.6658769934592241},1.9021883994228197,-1.0989546954454974,2.2559005052181424]
[168.5,2.9408797896104448,{"$f":"Burmester($B$3:$C$3,$B$4:$C$4,$B$5:$C$5,$E$3,$E$4,$E$5,B345)","v":5.2211139297003051},2.9693911740767471,{"$f":"ThreePosition_Basic2($E$3,$E$5,$B$3:$C$3,$B$5:$C$5,B345,C345)","v":-1.0256029068877375},3.0193461805054973,-0.56400086771474689,3.4072720014083315,{"$f":"ThreePosition_Basic2($E$3,$E$5,$B$3:$C$3,$B$5:$C$5,B345,D345)","v":-1.6740493819926976},1.904170785957205,-1.1058813717748688,2.2545125053092114]
[169,2.9496064358704168,{"$f":"Burmester($B$3:$C$3,$B$4:$C$4,$B$5:$C$5,$E$3,$E$4,$E$5,B346)","v":5.2392337085735239},2.9675880141372715,{"$f":"ThreePosition_Basic2($E$3,$E$5,$B$3:$C$3,$B$5:$C$5,B346,C346)","v":-1.0346584631880238},3.0252513261143905,-0.57193113051572753,3.4101196918010328,{"$f":"ThreePosition_Basic2($E$3,$E$5,$B$3:$C$3,$B$5:$C$5,B346,D346)","v":-1.6821372411004254},1.9061646746286582,-1.1127333692821997,2.2531463851387779]
[169.5,2.9583330821303884,{"$f":"Burmester($B$3:$C$3,$B$4:$C$4,$B$5:$C$5,$E$3,$E$4,$E$5,B347)","v":5.2572483654592865},2.9658611113356761,{"$f":"ThreePosition_Basic2($E$3,$E$5,$B$3:$C$3,$B$5:$C$5,B347,C347)","v":-1.0437051638228301},3.0310249209977815,-0.57984991334125735,3.4128443852988082,{"$f":"ThreePosition_Basic2($E$3,$E$5,$B$3:$C$3,$B$5:$C$5,B347,D347)","v":-1.6901427899894894},1.9081689210519412,-1.1195126200169101,2.251800744306625]
[170,2.9670597283903604,{"$f":"Burmester($B$3:$C$3,$B$4:$C$4,$B$5:$C$5,$E$3,$E$4,$E$5,B348)","v":5.275159857797421},2.9642087439408034,{"$f":"ThreePosition_Basic2($E$3,$E$5,$B$3:$C$3,$B$5:$C$5,B348,C348)","v":-1.0527417105354369},3.036670180220975,-0.58775612437561908,3.4154491201713331,{"$f":"ThreePosition_Basic2($E$3,$E$5,$B$3:$C$3,$B$5:$C$5,B348,D348)","v":-1.6980681667593707},1.9101824381555346,-1.1262209851466847,2.2504742441814791]
[170.5,2.9757863746503315,{"$f":"Burmester($B$3:$C$3,$B$4:$C$4,$B$5:$C$5,$E$3,$E$4,$E$5,B349)","v":5.2929700593869198},2.962629273157587,{"$f":"ThreePosition_Basic2($E$3,$E$5,$B$3:$C$3,$B$5:$C$5,B349,C349)","v":-1.0617668809968954},3.0421902201833988,-0.59564873733951207,3.4179368368231118,{"$f":"ThreePosition_Basic2($E$3,$E$5,$B$3:$C$3,$B$5:$C$5,B349,D349)","v":-1.7059154326514967},1.9122041924786171,-1.1328602586512109,2.2491656039995895]
[171,2.9845130209103035,{"$f":"Burmester($B$3:$C$3,$B$4:$C$4,$B$5:$C$5,$E$3,$E$4,$E$5,B350)","v":5.3106807650713543},2.961121138421718,{"$f":"ThreePosition_Basic2($E$3,$E$5,$B$3:$C$3,$B$5:$C$5,B350,C350)","v":-1.0707795245131275},3.0475880630986709,-0.60352678776219537,3.4203103823350891,{"$f":"ThreePosition_Basic2($E$3,$E$5,$B$3:$C$3,$B$5:$C$5,B350,D350)","v":-1.7136865760110063},1.9142332007450344,-1.1394321707663218,2.2478735972512309]
[171.5,2.9932396671702755,{"$f":"Burmester($B$3:$C$3,$B$4:$C$4,$B$5:$C$5,$E$3,$E$4,$E$5,B351)","v":5.3282936950819231},2.9596828530375534,{"$f":"ThreePosition_Basic2($E$3,$E$5,$B$3:$C$3,$B$5:$C$5,B351,C351)","v":-1.0797785580152364},3.0528666411961294,-0.61138936949955558,3.4225725147199553,{"$f":"ThreePosition_Basic2($E$3,$E$5,$B$3:$C$3,$B$5:$C$5,B351,D351)","v":-1.7213835159846771},1.9162685266896811,-1.1459383911992616,2.2465970483297077]
[172,3.0019663134302466,{"$f":"Burmester($B$3:$C$3,$B$4:$C$4,$B$5:$C$5,$E$3,$E$4,$E$5,B352)","v":5.3458104990680368},2.9583130001293569,{"$f":"ThreePosition_Basic2($E$3,$E$5,$B$3:$C$3,$B$5:$C$5,B352,C352)","v":-1.0887629623105013},3.0580288006664946,-0.61923563147857918,3.4247259069145337,{"$f":"ThreePosition_Basic2($E$3,$E$5,$B$3:$C$3,$B$5:$C$5,B352,D352)","v":-1.7290081059766749},1.9183092781152862,-1.1523805321338239,2.2453348294200546]
[172.5,3.0106929596902186,{"$f":"Burmester($B$3:$C$3,$B$4:$C$4,$B$5:$C$5,$E$3,$E$4,$E$5,B353)","v":5.3632327598422886},2.9570102288790121,{"$f":"ThreePosition_Basic2($E$3,$E$5,$B$3:$C$3,$B$5:$C$5,B353,C353)","v":-1.0977317785736507},3.0630773053720746,-0.62706477465053911,3.4267731505303227,{"$f":"ThreePosition_Basic2($E$3,$E$5,$B$3:$C$3,$B$5:$C$5,B353,D353)","v":-1.7365621368816266},1.9203546041597805,-1.1587601510422394,2.2440858576069034]
[173,3.0194196059501901,{"$f":"Burmester($B$3:$C$3,$B$4:$C$4,$B$5:$C$5,$E$3,$E$4,$E$5,B354)","v":5.3805619968639693},2.9557732510259895,{"$f":"ThreePosition_Basic2($E$3,$E$5,$B$3:$C$3,$B$5:$C$5,B354,C354)","v":-1.106684105059901},3.0680148403399903,-0.63487604913684481,3.4287167593812673,{"$f":"ThreePosition_Basic2($E$3,$E$5,$B$3:$C$3,$B$5:$C$5,B354,D354)","v":-1.7440473401126915},1.9224036927563863,-1.1650787533191203,2.2428490921830244]
[173.5,3.0281462522101616,{"$f":"Burmester($B$3:$C$3,$B$4:$C$4,$B$5:$C$5,$E$3,$E$4,$E$5,B355)","v":5.3977996694829695},2.9546008376077491,{"$f":"ThreePosition_Basic2($E$3,$E$5,$B$3:$C$3,$B$5:$C$5,B355,C355)","v":-1.1156190940229811},3.0728440150551033,-0.64266875155300363,3.4305591728059683,{"$f":"ThreePosition_Basic2($E$3,$E$5,$B$3:$C$3,$B$5:$C$5,B355,D355)","v":-1.7514653904406401},1.9244557682703463,-1.1713377947513224,2.2416235321418561]
[174,3.0368728984701332,{"$f":"Burmester($B$3:$C$3,$B$4:$C$4,$B$5:$C$5,$E$3,$E$4,$E$5,B356)","v":5.4149471799637467},2.9534918159208523,{"$f":"ThreePosition_Basic2($E$3,$E$5,$B$3:$C$3,$B$5:$C$5,B356,C356)","v":-1.1245359488228235},3.0775673665677861,-0.6504422224974058,3.4323027587999628,{"$f":"ThreePosition_Basic2($E$3,$E$5,$B$3:$C$3,$B$5:$C$5,B356,D356)","v":-1.7588179086584586},1.9265100892977096,-1.177538683836298,2.2404082138389225]
[174.5,3.0455995447301052,{"$f":"Burmester($B$3:$C$3,$B$4:$C$4,$B$5:$C$5,$E$3,$E$4,$E$5,B357)","v":5.4320058763071897},2.9524450666849424,{"$f":"ThreePosition_Basic2($E$3,$E$5,$B$3:$C$3,$B$5:$C$5,B357,C357)","v":-1.1334339212090354},3.08218736243029,-0.65819584419288724,3.4339498169722589,{"$f":"ThreePosition_Basic2($E$3,$E$5,$B$3:$C$3,$B$5:$C$5,B357,D357)","v":-1.7661064640847044},1.9285659466130445,-1.1836827839603981,2.2392022088085124]
[175,3.0543261909900763,{"$f":"Burmester($B$3:$C$3,$B$4:$C$4,$B$5:$C$5,$E$3,$E$4,$E$5,B358)","v":5.4489770548865009},2.9514595213934398,{"$f":"ThreePosition_Basic2($E$3,$E$5,$B$3:$C$3,$B$5:$C$5,B358,C358)","v":-1.1423123087673781},3.0867064034741643,-0.66592903826998451,3.4355025813389855,{"$f":"ThreePosition_Basic2($E$3,$E$5,$B$3:$C$3,$B$5:$C$5,B358,D358)","v":-1.7733325769175918},1.9306226612540918,-1.1897714154474985,2.2380046217231948]
[175.5,3.0630528372500483,{"$f":"Burmester($B$3:$C$3,$B$4:$C$4,$B$5:$C$5,$E$3,$E$4,$E$5,B359)","v":5.4658619629118093},2.9505341598362489,{"$f":"ThreePosition_Basic2($E$3,$E$5,$B$3:$C$3,$B$5:$C$5,B359,C359)","v":-1.1511704525177002},3.091126826440155,-0.67364126368185784,3.4369632229659324,{"$f":"ThreePosition_Basic2($E$3,$E$5,$B$3:$C$3,$B$5:$C$5,B359,D359)","v":-1.780497720450821},1.9326795827325749,-1.1958058574874961,2.2368145884849722]
[176,3.0717794835100198,{"$f":"Burmester($B$3:$C$3,$B$4:$C$4,$B$5:$C$5,$E$3,$E$4,$E$5,B360)","v":5.4826618007367509},2.9496680077811779,{"$f":"ThreePosition_Basic2($E$3,$E$5,$B$3:$C$3,$B$5:$C$5,B360,C360)","v":-1.1600077346526274},3.095450906470941,-0.68133201474159133,3.4383338524706808,{"$f":"ThreePosition_Basic2($E$3,$E$5,$B$3:$C$3,$B$5:$C$5,B360,D360)","v":-1.7876033231611057},1.934736087361284,-1.2017873499532981,2.2356312744378228]
[176.5,3.0805061297699914,{"$f":"Burmester($B$3:$C$3,$B$4:$C$4,$B$5:$C$5,$E$3,$E$4,$E$5,B361)","v":5.4993777240192028},2.948860134801913,{"$f":"ThreePosition_Basic2($E$3,$E$5,$B$3:$C$3,$B$5:$C$5,B361,C361)","v":-1.1688235764073085},3.0996808594761829,-0.68900081927345336,3.4396165223940738,{"$f":"ThreePosition_Basic2($E$3,$E$5,$B$3:$C$3,$B$5:$C$5,B361,D361)","v":-1.7946507706765769},1.9367915766884847,-1.2077170951142646,2.2344538726923324]
[177,3.0892327760299634,{"$f":"Burmester($B$3:$C$3,$B$4:$C$4,$B$5:$C$5,$E$3,$E$4,$E$5,B362)","v":5.5160108457471662},2.9481096522414934,{"$f":"ThreePosition_Basic2($E$3,$E$5,$B$3:$C$3,$B$5:$C$5,B362,C362)","v":-1.1776174360512386},3.1038188443785919,-0.69664723687031482,3.4408132294500287,{"$f":"ThreePosition_Basic2($E$3,$E$5,$B$3:$C$3,$B$5:$C$5,B362,D362)","v":-1.801641407634422},1.9388454760314906,-1.2135962592533465,2.2332816025539457]
[177.5,3.0979594222899349,{"$f":"Burmester($B$3:$C$3,$B$4:$C$4,$B$5:$C$5,$E$3,$E$4,$E$5,B363)","v":5.5325622381398967},2.9474157113011996,{"$f":"ThreePosition_Basic2($E$3,$E$5,$B$3:$C$3,$B$5:$C$5,B363,C363)","v":-1.1863888069939517},3.1078669652489426,-0.70427085725010141,3.4419259166618406,{"$f":"ThreePosition_Basic2($E$3,$E$5,$B$3:$C$3,$B$5:$C$5,B363,D363)","v":-1.8085765394354409},1.940897233101937,-1.219425974194579,2.2321137080470739]
[178,3.1066860685499069,{"$f":"Burmester($B$3:$C$3,$B$4:$C$4,$B$5:$C$5,$E$3,$E$4,$E$5,B364)","v":5.5490329344334626},2.9467775012456405,{"$f":"ThreePosition_Basic2($E$3,$E$5,$B$3:$C$3,$B$5:$C$5,B364,C364)","v":-1.1951372159970042},3.1118272733373318,-0.71187129870468979,3.4429564753925108,{"$f":"ThreePosition_Basic2($E$3,$E$5,$B$3:$C$3,$B$5:$C$5,B364,D364)","v":-1.8154574339025455},1.9429463167159464,-1.2252073387470275,2.2309494565279921]
[178.5,3.115412714809878,{"$f":"Burmester($B$3:$C$3,$B$4:$C$4,$B$5:$C$5,$E$3,$E$4,$E$5,B365)","v":5.5654239305591791},2.9461942477155803,{"$f":"ThreePosition_Basic2($E$3,$E$5,$B$3:$C$3,$B$5:$C$5,B365,C365)","v":-1.2038622214853014},3.1157017690074147,-0.71944820663521991,3.4439067472760367,{"$f":"ThreePosition_Basic2($E$3,$E$5,$B$3:$C$3,$B$5:$C$5,B365,D365)","v":-1.82228532284971},1.9449922155829886,-1.2309414200708235,2.2297881373800719]
[179,3.12413936106985,{"$f":"Burmester($B$3:$C$3,$B$4:$C$4,$B$5:$C$5,$E$3,$E$4,$E$5,B366)","v":5.5817361867225888},2.9456652111408195,{"$f":"ThreePosition_Basic2($E$3,$E$5,$B$3:$C$3,$B$5:$C$5,B366,C366)","v":-1.2125634119513027},3.1194924035797369,-0.72700125216819456,3.4447785260559614,{"$f":"ThreePosition_Basic2($E$3,$E$5,$B$3:$C$3,$B$5:$C$5,B366,D366)","v":-1.8290614035672821},1.9470344371676891,-1.2366292549704239,2.2286290607853751]
[179.5,3.1328660073298211,{"$f":"Burmester($B$3:$C$3,$B$4:$C$4,$B$5:$C$5,$E$3,$E$4,$E$5,B367)","v":5.5979706288900841},2.9451896852460058,{"$f":"ThreePosition_Basic2($E$3,$E$5,$B$3:$C$3,$B$5:$C$5,B367,C367)","v":-1.2212404044461838},3.1232010810898774,-0.73453013084723096,3.4455735593370727,{"$f":"ThreePosition_Basic2($E$3,$E$5,$B$3:$C$3,$B$5:$C$5,B367,D367)","v":-1.8357868402291706},1.9490725066193919,-1.2422718511198723,2.2274715565672096]
[180,3.1415926535897931,{"$f":"Burmester($B$3:$C$3,$B$4:$C$4,$B$5:$C$5,$E$3,$E$4,$E$5,B368)","v":5.6141281501896545},2.9447669956429019,{"$f":"ThreePosition_Basic2($E$3,$E$5,$B$3:$C$3,$B$5:$C$5,B368,C368)","v":-1.2298928431524838},3.1268296599666536,-0.74203456139569701,3.446293550255656,{"$f":"ThreePosition_Basic2($E$3,$E$5,$B$3:$C$3,$B$5:$C$5,B368,D368)","v":-1.8424627652269561},1.951105965764681,-1.2478701882244436,2.2263149730986385]
[180.5,3.1503192998497647,{"$f":"Burmester($B$3:$C$3,$B$4:$C$4,$B$5:$C$5,$E$3,$E$4,$E$5,B369)","v":5.6302096122317007},2.9443964985031132,{"$f":"ThreePosition_Basic2($E$3,$E$5,$B$3:$C$3,$B$5:$C$5,B369,C369)","v":-1.2385203980331068},3.1303799546351789,-0.7495142845457794,3.4469401590732289,{"$f":"ThreePosition_Basic2($E$3,$E$5,$B$3:$C$3,$B$5:$C$5,B369,D369)","v":-1.8490902804355813},1.9531343721584282,-1.2534252191227147,2.2251586762723456]
[181,3.1590459461097362,{"$f":"Burmester($B$3:$C$3,$B$4:$C$4,$B$5:$C$5,$E$3,$E$4,$E$5,B370)","v":5.6462158463554326},2.9440775793057878,{"$f":"ThreePosition_Basic2($E$3,$E$5,$B$3:$C$3,$B$5:$C$5,B370,C370)","v":-1.2471227635520332},3.1338537370493071,-0.75696906192994096,3.4475150046984289,{"$f":"ThreePosition_Basic2($E$3,$E$5,$B$3:$C$3,$B$5:$C$5,B370,D370)","v":-1.8556704584149624},1.955157298189347,-1.2589378708328263,2.2240020485276513]
[181.5,3.1677725923697082,{"$f":"Burmester($B$3:$C$3,$B$4:$C$4,$B$5:$C$5,$E$3,$E$4,$E$5,B371)","v":5.662147654805878},2.9438096516552092,{"$f":"ThreePosition_Basic2($E$3,$E$5,$B$3:$C$3,$B$5:$C$5,B371,C371)","v":-1.2556996574623054},3.137252738157565,-0.76439867503090841,3.4480196661412621,{"$f":"ThreePosition_Basic2($E$3,$E$5,$B$3:$C$3,$B$5:$C$5,B371,D371)","v":-1.8622043435514672},1.9571743302363025,-1.264409045546361,2.2228444879307734]
[182,3.1764992386296798,{"$f":"Burmester($B$3:$C$3,$B$4:$C$4,$B$5:$C$5,$E$3,$E$4,$E$5,B372)","v":5.6780058118461563},2.943592156163628,{"$f":"ThreePosition_Basic2($E$3,$E$5,$B$3:$C$3,$B$5:$C$5,B372,C372)","v":-1.2642508196572992},3.1405786493064296,-0.77180292418672525,3.4484556839036924,{"$f":"ThreePosition_Basic2($E$3,$E$5,$B$3:$C$3,$B$5:$C$5,B372,D372)","v":-1.8686929531430028},1.9591850678719518,-1.2698396215730894,2.2216854073047685]
[182.5,3.1852258848896517,{"$f":"Burmester($B$3:$C$3,$B$4:$C$4,$B$5:$C$5,$E$3,$E$4,$E$5,B373)","v":5.6937910648093437},2.9434245593950026,{"$f":"ThreePosition_Basic2($E$3,$E$5,$B$3:$C$3,$B$5:$C$5,B373,C373)","v":-1.272776011081469},3.1438331235845118,-0.77918162764754917,3.4488245613102158,{"$f":"ThreePosition_Basic2($E$3,$E$5,$B$3:$C$3,$B$5:$C$5,B373,D373)","v":-1.8751372784310987},1.9611891231105407,-1.2752304542395214,2.2205242334058255]
[183,3.1939525311496229,{"$f":"Burmester($B$3:$C$3,$B$4:$C$4,$B$5:$C$5,$E$3,$E$4,$E$5,B374)","v":5.7095041350938569},2.9433063528656791,{"$f":"ThreePosition_Basic2($E$3,$E$5,$B$3:$C$3,$B$5:$C$5,B374,C374)","v":-1.2812750126970682},3.1470177771109498,-0.78653462068115265,3.4491277657818231,{"$f":"ThreePosition_Basic2($E$3,$E$5,$B$3:$C$3,$B$5:$C$5,B374,D374)","v":-1.8815382855831733},1.9631861196969256,-1.2805823767440323,2.2193604061428669]
[183.5,3.2026791774095948,{"$f":"Burmester($B$3:$C$3,$B$4:$C$4,$B$5:$C$5,$E$3,$E$4,$E$5,B375)","v":5.7251457191060746},2.9432370520983127,{"$f":"ThreePosition_Basic2($E$3,$E$5,$B$3:$C$3,$B$5:$C$5,B375,C375)","v":-1.289747624503619},3.1501341902711015,-0.7938617547243183,3.4493667300565241,{"$f":"ThreePosition_Basic2($E$3,$E$5,$B$3:$C$3,$B$5:$C$5,B375,D375)","v":-1.8878969166279471},1.9651756924341384,-1.285896200971137,2.2181933778376379]
[184,3.211405823669566,{"$f":"Burmester($B$3:$C$3,$B$4:$C$4,$B$5:$C$5,$E$3,$E$4,$E$5,B376)","v":5.7407164891535487},2.9432161957256251,{"$f":"ThreePosition_Basic2($E$3,$E$5,$B$3:$C$3,$B$5:$C$5,B376,C376)","v":-1.2981936646070378},3.153183908902383,-0.80116289657743778,3.4495428533593464,{"$f":"ThreePosition_Basic2($E$3,$E$5,$B$3:$C$3,$B$5:$C$5,B376,D376)","v":-1.8942140903467175},1.9671574865469639,-1.2911727182672719,2.2170226125226553]
[184.5,3.2201324699295379,{"$f":"Burmester($B$3:$C$3,$B$4:$C$4,$B$5:$C$5,$E$3,$E$4,$E$5,B377)","v":5.7562170942919835},2.9432433446408495,{"$f":"ThreePosition_Basic2($E$3,$E$5,$B$3:$C$3,$B$5:$C$5,B377,C377)","v":-1.3066129683356249},3.1561684454329302,-0.80843792763988087,3.4496575025245648,{"$f":"ThreePosition_Basic2($E$3,$E$5,$B$3:$C$3,$B$5:$C$5,B377,D377)","v":-1.9004907031230687},1.9691311570792491,-1.2964127001803156,2.21584758527462]
[185,3.2288591161895095,{"$f":"Burmester($B$3:$C$3,$B$4:$C$4,$B$5:$C$5,$E$3,$E$4,$E$5,B378)","v":5.7716481611288959},2.9433180811918964,{"$f":"ThreePosition_Basic2($E$3,$E$5,$B$3:$C$3,$B$5:$C$5,B378,C378)","v":-1.3150053874002536},3.1590892799755905,-0.81568674318382106,3.4497120130727281,{"$f":"ThreePosition_Basic2($E$3,$E$5,$B$3:$C$3,$B$5:$C$5,B378,D378)","v":-1.906727629753376},1.9710963683227736,-1.3016168991649064,2.2146677815810203]
[185.5,3.2375857624494815,{"$f":"Burmester($B$3:$C$3,$B$4:$C$4,$B$5:$C$5,$E$3,$E$4,$E$5,B379)","v":5.7870102945866586},2.943440008416558,{"$f":"ThreePosition_Basic2($E$3,$E$5,$B$3:$C$3,$B$5:$C$5,B379,C379)","v":-1.3233707890962856},3.1619478613795255,-0.82290925166435747,3.4497076902448169,{"$f":"ThreePosition_Basic2($E$3,$E$5,$B$3:$C$3,$B$5:$C$5,B379,D379)","v":-1.9129257242203215},1.9730527932757171,-1.3067860492554726,2.2134826967378767]
[186,3.2463124087094526,{"$f":"Burmester($B$3:$C$3,$B$4:$C$4,$B$5:$C$5,$E$3,$E$4,$E$5,B380)","v":5.802304078627456},2.9436087493161853,{"$f":"ThreePosition_Basic2($E$3,$E$5,$B$3:$C$3,$B$5:$C$5,B380,C380)","v":-1.3317090555449231},3.1647456082416481,-0.83010537406394569,3.44964580999582,{"$f":"ThreePosition_Basic2($E$3,$E$5,$B$3:$C$3,$B$5:$C$5,B380,D380)","v":-1.9190858204314913},1.9750001131288668,-1.3119208667087858,2.2122918352766732]
[186.5,3.2550390549694246,{"$f":"Burmester($B$3:$C$3,$B$4:$C$4,$B$5:$C$5,$E$3,$E$4,$E$5,B381)","v":5.8175300769424831},2.9438239461655193,{"$f":"ThreePosition_Basic2($E$3,$E$5,$B$3:$C$3,$B$5:$C$5,B381,C381)","v":-1.3400200829718056},3.1674839098798819,-0.83727504326922275,3.4495276199497513,{"$f":"ThreePosition_Basic2($E$3,$E$5,$B$3:$C$3,$B$5:$C$5,B381,D381)","v":-1.9252087329249645},1.9769380167778641,-1.3170220506176862,2.2110947104186973]
[187,3.2637657012293966,{"$f":"Burmester($B$3:$C$3,$B$4:$C$4,$B$5:$C$5,$E$3,$E$4,$E$5,B382)","v":5.8326888336075626},2.9440852598564513,{"$f":"ThreePosition_Basic2($E$3,$E$5,$B$3:$C$3,$B$5:$C$5,B382,C382)","v":-1.3483037810208474},3.1701641272701679,-0.84441820347848584,3.4493543403180915,{"$f":"ThreePosition_Basic2($E$3,$E$5,$B$3:$C$3,$B$5:$C$5,B382,D382)","v":-1.9312952575437028},1.9788662003598914,-1.3220902834975632,2.2098908435551072]
[187.5,3.2724923474893677,{"$f":"Burmester($B$3:$C$3,$B$4:$C$4,$B$5:$C$5,$E$3,$E$4,$E$5,B383)","v":5.8477808737072321},2.944392369273702,{"$f":"ThreePosition_Basic2($E$3,$E$5,$B$3:$C$3,$B$5:$C$5,B383,C383)","v":-1.3565600721014248},3.1727875939490056,-0.85153480963817529,3.4491271647834671,{"$f":"ThreePosition_Basic2($E$3,$E$5,$B$3:$C$3,$B$5:$C$5,B383,D383)","v":-1.9373461720804204},1.9807843668133323,-1.3271262318470423,2.2086797637511872]
[188,3.2812189937493397,{"$f":"Burmester($B$3:$C$3,$B$4:$C$4,$B$5:$C$5,$E$3,$E$4,$E$5,B384)","v":5.8628067039291771},2.9447449707004845,{"$f":"ThreePosition_Basic2($E$3,$E$5,$B$3:$C$3,$B$5:$C$5,B384,C384)","v":-1.3647888907671275},3.1753556168831687,-0.85862482690680542,3.4488472613502559,{"$f":"ThreePosition_Basic2($E$3,$E$5,$B$3:$C$3,$B$5:$C$5,B384,D384)","v":-1.9433622368945163},1.9826922254590285,-1.3321305466842599,2.2074610072733405]
[188.5,3.2899456400093112,{"$f":"Burmester($B$3:$C$3,$B$4:$C$4,$B$5:$C$5,$E$3,$E$4,$E$5,B385)","v":5.8777668131307523},2.9451427772524181,{"$f":"ThreePosition_Basic2($E$3,$E$5,$B$3:$C$3,$B$5:$C$5,B385,C385)","v":-1.3729901831243903},3.1778694773081986,-0.86568823014487895,3.4485157731637477,{"$f":"ThreePosition_Basic2($E$3,$E$5,$B$3:$C$3,$B$5:$C$5,B385,D385)","v":-1.9493441955025044},1.9845894916018434,-1.3371038640599711,2.2062341171374689]
[189,3.2986722862692828,{"$f":"Burmester($B$3:$C$3,$B$4:$C$4,$B$5:$C$5,$E$3,$E$4,$E$5,B386)","v":5.8926616728793011},2.9455855183379809,{"$f":"ThreePosition_Basic2($E$3,$E$5,$B$3:$C$3,$B$5:$C$5,B386,C386)","v":-1.3811639062694911},3.1803304315371417,-0.87272500342946335,3.4481338192993594,{"$f":"ThreePosition_Basic2($E$3,$E$5,$B$3:$C$3,$B$5:$C$5,B386,D386)","v":-1.9552927751433864},1.9864758861513592,-1.3420468055487484,2.2049986426774981]
[189.5,3.3073989325292543,{"$f":"Burmester($B$3:$C$3,$B$4:$C$4,$B$5:$C$5,$E$3,$E$4,$E$5,B387)","v":5.9074917379677521},2.9460729391439933,{"$f":"ThreePosition_Basic2($E$3,$E$5,$B$3:$C$3,$B$5:$C$5,B387,C387)","v":-1.3893100277523731},3.1827397117408776,-0.87973513959208682,3.4477024955232802,{"$f":"ThreePosition_Basic2($E$3,$E$5,$B$3:$C$3,$B$5:$C$5,B387,D387)","v":-1.9612086873201839},1.9883511352605814,-1.3469599787193287,2.2037541391328612]
[190,3.3161255787892263,{"$f":"Burmester($B$3:$C$3,$B$4:$C$4,$B$5:$C$5,$E$3,$E$4,$E$5,B388)","v":5.9222574469069542},2.9466048001446667,{"$f":"ThreePosition_Basic2($E$3,$E$5,$B$3:$C$3,$B$5:$C$5,B388,C388)","v":-1.3974285250659757},3.185098526701414,-0.88671863977880594,3.4472228750259455,{"$f":"ThreePosition_Basic2($E$3,$E$5,$B$3:$C$3,$B$5:$C$5,B388,D388)","v":-1.9670926283189032},1.990214969981619,-1.3518439775852165,2.2025001672538576]
[190.5,3.3248522250491974,{"$f":"Burmester($B$3:$C$3,$B$4:$C$4,$B$5:$C$5,$E$3,$E$4,$E$5,B389)","v":5.9369592223961281},2.9471808766328391,{"$f":"ThreePosition_Basic2($E$3,$E$5,$B$3:$C$3,$B$5:$C$5,B389,C389)","v":-1.4055193851597401},3.187408062539296,-0.89367551303128578,3.4466960091295116,{"$f":"ThreePosition_Basic2($E$3,$E$5,$B$3:$C$3,$B$5:$C$5,B389,D389)","v":-1.9729452797060449},1.9920671259373837,-1.3566993830365106,2.2012362929238729]
[191,3.3335788713091694,{"$f":"Burmester($B$3:$C$3,$B$4:$C$4,$B$5:$C$5,$E$3,$E$4,$E$5,B390)","v":5.9515974717726516},2.9478009582721683,{"$f":"ThreePosition_Basic2($E$3,$E$5,$B$3:$C$3,$B$5:$C$5,B390,C390)","v":-1.4135826039760708},3.1896694834163499,-0.90060577588782453,3.4461229279705705,{"$f":"ThreePosition_Basic2($E$3,$E$5,$B$3:$C$3,$B$5:$C$5,B390,D390)","v":-1.9787673088057216},1.9939073430083907,-1.3615267632538801,2.1999620867974872]
[191.5,3.3423055175691405,{"$f":"Burmester($B$3:$C$3,$B$4:$C$4,$B$5:$C$5,$E$3,$E$4,$E$5,B391)","v":5.9661725874423892},2.9484648486690346,{"$f":"ThreePosition_Basic2($E$3,$E$5,$B$3:$C$3,$B$5:$C$5,B391,C391)","v":-1.4216181860085984},3.1918839322147998,-0.90750945200332134,3.4455046411591641,{"$f":"ThreePosition_Basic2($E$3,$E$5,$B$3:$C$3,$B$5:$C$5,B391,D391)","v":-1.9845593691574066},1.9957353650338234,-1.3663266741055766,2.198677123953594]
[192,3.3510321638291125,{"$f":"Burmester($B$3:$C$3,$B$4:$C$4,$B$5:$C$5,$E$3,$E$4,$E$5,B392)","v":5.9806849472916852},2.949172364963081,{"$f":"ThreePosition_Basic2($E$3,$E$5,$B$3:$C$3,$B$5:$C$5,B392,C392)","v":-1.4296261438811861},3.1940525311938339,-0.91438657178726401,3.4448421384151837,{"$f":"ThreePosition_Basic2($E$3,$E$5,$B$3:$C$3,$B$5:$C$5,B392,D392)","v":-1.9903221009552483},1.9975509395260835,-1.3710996595283023,2.1973809835626938]
[192.5,{"$f":"A393*PI()/180","v":3.3597588100890845},{"$f":"Burmester($B$3:$C$3,$B$4:$C$4,$B$5:$C$5,$E$3,$E$4,$E$5,B393)","v":5.995134915082037},2.9499233374353007,{"$f":"ThreePosition_Basic2($E$3,$E$5,$B$3:$C$3,$B$5:$C$5,B393,C393)","v":-1.4376064979466103},3.1961763826245475,-0.9212371720588004,3.444136390183111,{"$f":"ThreePosition_Basic2($E$3,$E$5,$B$3:$C$3,$B$5:$C$5,B393,D393)","v":-1.9960561314698415},1.999353817398078,-1.3758462518927002,2.1960732485675787]
[193,3.3684854563490561,{"$f":"Burmester($B$3:$C$3,$B$4:$C$4,$B$5:$C$5,$E$3,$E$4,$E$5,B394)","v":6.0095228408284571},2.9507176091327034,{"$f":"ThreePosition_Basic2($E$3,$E$5,$B$3:$C$3,$B$5:$C$5,B394,C394)","v":-1.4455592759040017},3.1982565694042036,-0.92806129571810436,3.4433883482260392,{"$f":"ThreePosition_Basic2($E$3,$E$5,$B$3:$C$3,$B$5:$C$5,B394,D394)","v":-2.0017620754532932},2.0011437527025588,-1.3805669723542056,2.1947535053766725]
[193.5,3.377212102609028,{"$f":"Burmester($B$3:$C$3,$B$4:$C$4,$B$5:$C$5,$E$3,$E$4,$E$5,B395)","v":6.0238490611624362},2.9515550355086253,{"$f":"ThreePosition_Basic2($E$3,$E$5,$B$3:$C$3,$B$5:$C$5,B395,C395)","v":-1.4534845124340956},3.2002941556506781,-0.93485899143319751,3.442598946199861,{"$f":"ThreePosition_Basic2($E$3,$E$5,$B$3:$C$3,$B$5:$C$5,B395,D395)","v":-2.0074405355283682},2.00292050238287,-1.3852623311899337,2.1934213435693457]
[194,3.3859387488689991,{"$f":"Burmester($B$3:$C$3,$B$4:$C$4,$B$5:$C$5,$E$3,$E$4,$E$5,B396)","v":6.0381138996803623},2.9524354840778,{"$f":"ThreePosition_Basic2($E$3,$E$5,$B$3:$C$3,$B$5:$C$5,B396,C396)","v":-1.4613822488514607},3.2022901872778959,-0.94163031334151071,3.4417691002084396,{"$f":"ThreePosition_Basic2($E$3,$E$5,$B$3:$C$3,$B$5:$C$5,B396,D396)","v":-2.0130921025624686},2.004683826034499,-1.3899328281222654,2.1920763556125604]
[194.5,3.3946653951289711,{"$f":"Burmester($B$3:$C$3,$B$4:$C$4,$B$5:$C$5,$E$3,$E$4,$E$5,B397)","v":6.0523176672782526},2.9533588340853592,{"$f":"ThreePosition_Basic2($E$3,$E$5,$B$3:$C$3,$B$5:$C$5,B397,C397)","v":-1.4692525327728925},3.2042456925530516,-0.94837532076547082,3.4408997093405653,{"$f":"ThreePosition_Basic2($E$3,$E$5,$B$3:$C$3,$B$5:$C$5,B397,D397)","v":-2.0187173560271403},2.0064334856768746,-1.3945789526297303,2.1907181365882504]
[195,3.4033920413889422,{"$f":"Burmester($B$3:$C$3,$B$4:$C$4,$B$5:$C$5,$E$3,$E$4,$E$5,B398)","v":6.0664606624735065},2.9543249761890134,{"$f":"ThreePosition_Basic2($E$3,$E$5,$B$3:$C$3,$B$5:$C$5,B398,C398)","v":-1.4770954178011702},3.2061616826363215,-0.9550940779414131,3.4399916561894117,{"$f":"ThreePosition_Basic2($E$3,$E$5,$B$3:$C$3,$B$5:$C$5,B398,D398)","v":-2.0243168643437639},2.0081692455348565,-1.3992011842457641,2.1893462839308451]
[195.5,3.4121186876489142,{"$f":"Burmester($B$3:$C$3,$B$4:$C$4,$B$5:$C$5,$E$3,$E$4,$E$5,B399)","v":6.0805431717144822},2.9553338121536381,{"$f":"ThreePosition_Basic2($E$3,$E$5,$B$3:$C$3,$B$5:$C$5,B399,C399)","v":-1.4849109632235216},3.2080391521038032,-0.96178665376125261,3.439045807355229,{"$f":"ThreePosition_Basic2($E$3,$E$5,$B$3:$C$3,$B$5:$C$5,B399,D399)","v":-2.0298911852160688},2.0098908718294553,-1.4037999928458902,2.1879603971744399]
[196,3.4208453339088858,{"$f":"Burmester($B$3:$C$3,$B$4:$C$4,$B$5:$C$5,$E$3,$E$4,$E$5,B400)","v":6.0945654696785212},2.9563852545575893,{"$f":"ThreePosition_Basic2($E$3,$E$5,$B$3:$C$3,$B$5:$C$5,B400,C400)","v":-1.4926992337240346},3.2098790794542986,-0.96845312152624374,3.4380630139319113,{"$f":"ThreePosition_Basic2($E$3,$E$5,$B$3:$C$3,$B$5:$C$5,B400,D400)","v":-2.035440865950044},2.0115981325772911,-1.4083758389238306,2.1865600777090903]
[196.5,3.4295719801688573,{"$f":"Burmester($B$3:$C$3,$B$4:$C$4,$B$5:$C$5,$E$3,$E$4,$E$5,B401)","v":6.1085278195591046},2.9574792265101073,{"$f":"ThreePosition_Basic2($E$3,$E$5,$B$3:$C$3,$B$5:$C$5,B401,C401)","v":-1.5004602991094314},3.2116824276006057,-0.97509355871232528,3.4370441119780883,{"$f":"ThreePosition_Basic2($E$3,$E$5,$B$3:$C$3,$B$5:$C$5,B401,D401)","v":-2.0409664437618322},2.0132907973983651,-1.4129291738570542,2.1851449285457694]
[197,3.4382986264288289,{"$f":"Burmester($B$3:$C$3,$B$4:$C$4,$B$5:$C$5,$E$3,$E$4,$E$5,B402)","v":6.1224304733427397},2.9586156613791639,{"$f":"ThreePosition_Basic2($E$3,$E$5,$B$3:$C$3,$B$5:$C$5,B402,C402)","v":-1.50819423404754},3.2134501443458734,-0.98170804674646217,3.4359899229733144,{"$f":"ThreePosition_Basic2($E$3,$E$5,$B$3:$C$3,$B$5:$C$5,B402,D402)","v":-2.0464684460740772},2.0149686373317279,-1.4174604401621695,2.1837145540895397]
[197.5,3.4470252726888009,{"$f":"Burmester($B$3:$C$3,$B$4:$C$4,$B$5:$C$5,$E$3,$E$4,$E$5,B403)","v":6.1362736720761673},2.9597945025291663,{"$f":"ThreePosition_Basic2($E$3,$E$5,$B$3:$C$3,$B$5:$C$5,B403,C403)","v":-1.5159011178179369},3.215183162845626,-0.98829667079353467,3.434901254259958,{"$f":"ThreePosition_Basic2($E$3,$E$5,$B$3:$C$3,$B$5:$C$5,B403,D403)","v":-2.0519473908013111},2.0166314246586783,-1.4219700717406782,2.18226855992055]
[198,3.4557519189487729,{"$f":"Burmester($B$3:$C$3,$B$4:$C$4,$B$5:$C$5,$E$3,$E$4,$E$5,B404)","v":6.1500576461244254},2.9610157030679964,{"$f":"ThreePosition_Basic2($E$3,$E$5,$B$3:$C$3,$B$5:$C$5,B404,C404)","v":-1.5235810340741529},3.2168824020559481,-0.9948595195532357,3.4337788994712839,{"$f":"ThreePosition_Basic2($E$3,$E$5,$B$3:$C$3,$B$5:$C$5,B404,D404)","v":-2.0574037866247585},2.0182789327331001,-1.426458494115411,2.1808065525824261]
[198.5,3.464478565208744,{"$f":"Burmester($B$3:$C$3,$B$4:$C$4,$B$5:$C$5,$E$3,$E$4,$E$5,B405)","v":6.1637826154203026},2.9622792256028063,{"$f":"ThreePosition_Basic2($E$3,$E$5,$B$3:$C$3,$B$5:$C$5,B405,C405)","v":-1.5312340706169651},3.2185487671683721,-1.0013966850665634,3.432623638946279,{"$f":"ThreePosition_Basic2($E$3,$E$5,$B$3:$C$3,$B$5:$C$5,B405,D405)","v":-2.0628381332570758},2.0199109358186313,-1.4309261246581002,2.1793281393777271]
[199,3.473205211468716,{"$f":"Burmester($B$3:$C$3,$B$4:$C$4,$B$5:$C$5,$E$3,$E$4,$E$5,B406)","v":6.1774487897056769},2.9635850420041128,{"$f":"ThreePosition_Basic2($E$3,$E$5,$B$3:$C$3,$B$5:$C$5,B406,C406)","v":-1.5388603191782706},3.2201831500319424,-1.0079082625314704,3.4314362401316827,{"$f":"ThreePosition_Basic2($E$3,$E$5,$B$3:$C$3,$B$5:$C$5,B406,D406)","v":-2.0682509216974228},2.0215272089323308,-1.4353733728084404,2.1778329281701025]
[199.5,3.4819318577286871,{"$f":"Burmester($B$3:$C$3,$B$4:$C$4,$B$5:$C$5,$E$3,$E$4,$E$5,B407)","v":6.1910563687651852},2.9649331331776922,{"$f":"ThreePosition_Basic2($E$3,$E$5,$B$3:$C$3,$B$5:$C$5,B407,C407)","v":-1.5464598752150596},3.2217864295628966,-1.0143943501272452,3.4302174579716773,{"$f":"ThreePosition_Basic2($E$3,$E$5,$B$3:$C$3,$B$5:$C$5,B407,D407)","v":-2.0736426344772538},2.0231275276945473,-1.4398006402849601,2.1763205271928343]
[200,3.4906585039886591,{"$f":"Burmester($B$3:$C$3,$B$4:$C$4,$B$5:$C$5,$E$3,$E$4,$E$5,B408)","v":6.2046055426526996},2.9663234888438441,{"$f":"ThreePosition_Basic2($E$3,$E$5,$B$3:$C$3,$B$5:$C$5,B408,C408)","v":-1.5540328377130559},3.2233594721424339,-1.020855048847251,3.4289680352856999,{"$f":"ThreePosition_Basic2($E$3,$E$5,$B$3:$C$3,$B$5:$C$5,B408,D408)","v":-2.0790137458972464},2.0247116681847048,-1.4442083212880843,2.1747905448634399]
[200.5,3.4993851502486306,{"$f":"Burmester($B$3:$C$3,$B$4:$C$4,$B$5:$C$5,$E$3,$E$4,$E$5,B409)","v":6.2180964919110018},2.9677561073235759,{"$f":"ThreePosition_Basic2($E$3,$E$5,$B$3:$C$3,$B$5:$C$5,B409,C409)","v":-1.5615793089996088},3.2249031320029546,-1.0272904623396555,3.4276887031347587,{"$f":"ThreePosition_Basic2($E$3,$E$5,$B$3:$C$3,$B$5:$C$5,B409,D409)","v":-2.0843647222556823},2.0262794068027539,-1.4485968026956495,2.1732425896040715]
[201,3.5081117965086026,{"$f":"Burmester($B$3:$C$3,$B$4:$C$4,$B$5:$C$5,$E$3,$E$4,$E$5,B410)","v":6.2315293877850912},2.9692309953313125,{"$f":"ThreePosition_Basic2($E$3,$E$5,$B$3:$C$3,$B$5:$C$5,B410,C410)","v":-1.5690993945654161},3.2264182516031967,-1.0337006967557891,3.4263801811766785,{"$f":"ThreePosition_Basic2($E$3,$E$5,$B$3:$C$3,$B$5:$C$5,B410,D410)","v":-2.0896960220686691},2.0278305201360354,-1.4529664642512183,2.1716762696674317]
[201.5,3.5168384427685737,{"$f":"Burmester($B$3:$C$3,$B$4:$C$4,$B$5:$C$5,$E$3,$E$4,$E$5,B411)","v":6.244904392429464},2.9707481677737495,{"$f":"ThreePosition_Basic2($E$3,$E$5,$B$3:$C$3,$B$5:$C$5,B411,C411)","v":-1.5765932028947252},3.2279056619926076,-1.0400858606058194,3.4250431780106165,{"$f":"ThreePosition_Basic2($E$3,$E$5,$B$3:$C$3,$B$5:$C$5,B411,D411)","v":-2.0950080962824931},2.0293647848313139,-1.4573176787454387,2.1700911929679321]
[202,3.5255650890285457,{"$f":"Burmester($B$3:$C$3,$B$4:$C$4,$B$5:$C$5,$E$3,$E$4,$E$5,B412)","v":6.2582216591097843},2.9723076475544641,{"$f":"ThreePosition_Basic2($E$3,$E$5,$B$3:$C$3,$B$5:$C$5,B412,C412)","v":-1.5840608453036349},3.2293661831653644,-1.0464460646214131,3.4236783915112485,{"$f":"ThreePosition_Basic2($E$3,$E$5,$B$3:$C$3,$B$5:$C$5,B412,D412)","v":-2.1003013884784334},2.030881977471787,-1.4616508121907419,2.1684869669178828]
[202.5,3.5342917352885168,{"$f":"Burmester($B$3:$C$3,$B$4:$C$4,$B$5:$C$5,$E$3,$E$4,$E$5,B413)","v":6.2714813323992278},2.9739094653839486,{"$f":"ThreePosition_Basic2($E$3,$E$5,$B$3:$C$3,$B$5:$C$5,B413,C413)","v":-1.5915024357861505},3.2308006244043206,-1.0527814216250824,3.4222865091529129,{"$f":"ThreePosition_Basic2($E$3,$E$5,$B$3:$C$3,$B$5:$C$5,B413,D413)","v":-2.1055763350703218},2.0323818744588436,-1.4659662239896227,2.1668631982684667]
[203,3.5430183815484888,{"$f":"Burmester($B$3:$C$3,$B$4:$C$4,$B$5:$C$5,$E$3,$E$4,$E$5,B414)","v":1.4982411902945416E-3},2.9755536595947327,{"$f":"ThreePosition_Basic2($E$3,$E$5,$B$3:$C$3,$B$5:$C$5,B414,C414)","v":-1.5989180908676859},3.2322097846152658,-1.0590920464059472,3.4208682083240829,{"$f":"ThreePosition_Basic2($E$3,$E$5,$B$3:$C$3,$B$5:$C$5,B414,D414)","v":-2.1108333654951239},2.0338642518983834,-1.4702642670967419,2.1652194929552779]
[203.5,3.5517450278084608,{"$f":"Burmester($B$3:$C$3,$B$4:$C$4,$B$5:$C$5,$E$3,$E$4,$E$5,B415)","v":1.4643127599901253E-2},2.9772402759612482,{"$f":"ThreePosition_Basic2($E$3,$E$5,$B$3:$C$3,$B$5:$C$5,B415,C415)","v":-1.6063079294656863},3.2335944526517646,-1.0653780556016286,3.4194241566324406,{"$f":"ThreePosition_Basic2($E$3,$E$5,$B$3:$C$3,$B$5:$C$5,B415,D415)","v":-2.1160729023968208},2.0353288854915261,-1.474545288175096,2.1635554559482402]
[204,3.5604716740684319,{"$f":"Burmester($B$3:$C$3,$B$4:$C$4,$B$5:$C$5,$E$3,$E$4,$E$5,B416)","v":2.7730804074243467E-2},2.9789693675241842,{"$f":"ThreePosition_Basic2($E$3,$E$5,$B$3:$C$3,$B$5:$C$5,B416,C416)","v":-1.6136720727570806},3.2349554076308933,-1.0716395675860173,3.4179550122008582,{"$f":"ThreePosition_Basic2($E$3,$E$5,$B$3:$C$3,$B$5:$C$5,B416,D416)","v":-2.1212953618038273},2.0367755504295331,-1.4788096277464566,2.1618706911057028]
[204.5,3.5691983203284039,{"$f":"Burmester($B$3:$C$3,$B$4:$C$4,$B$5:$C$5,$E$3,$E$4,$E$5,B417)","v":4.0761382285483434E-2},2.9807409944189778,{"$f":"ThreePosition_Basic2($E$3,$E$5,$B$3:$C$3,$B$5:$C$5,B417,C417)","v":-1.6210106440522971},3.2362934192401576,-1.077876702362687,3.4164614239545701,{"$f":"ThreePosition_Basic2($E$3,$E$5,$B$3:$C$3,$B$5:$C$5,B417,D417)","v":-2.1265011533002038},2.0382040212927839,-1.4830576203363064,2.1601648010325292]
[205,3.5779249665883754,{"$f":"Burmester($B$3:$C$3,$B$4:$C$4,$B$5:$C$5,$E$3,$E$4,$E$5,B418)","v":5.3734966126682403E-2},2.9825552237082227,{"$f":"ThreePosition_Basic2($E$3,$E$5,$B$3:$C$3,$B$5:$C$5,B418,C418)","v":-1.6283237686755507},3.2376092480358527,-1.0840895814636939,3.4149440318997901,{"$f":"ThreePosition_Basic2($E$3,$E$5,$B$3:$C$3,$B$5:$C$5,B418,D418)","v":-2.1316906801908688},2.0396140719536513,-1.4872895946134492,2.1584373869420177]
[205.5,3.5866516128483474,{"$f":"Burmester($B$3:$C$3,$B$4:$C$4,$B$5:$C$5,$E$3,$E$4,$E$5,B419)","v":6.6651651882814439E-2},2.9844121292176879,{"$f":"ThreePosition_Basic2($E$3,$E$5,$B$3:$C$3,$B$5:$C$5,B419,C419)","v":-1.6356115738511767},3.2389036457331208,-1.0902783278535684,3.4134034673940228,{"$f":"ThreePosition_Basic2($E$3,$E$5,$B$3:$C$3,$B$5:$C$5,B419,D419)","v":-2.1368643396610638},2.0410054754831521,-1.4915058735245128,2.1566880485214881]
[206,3.5953782591083185,{"$f":"Burmester($B$3:$C$3,$B$4:$C$4,$B$5:$C$5,$E$3,$E$4,$E$5,B420)","v":7.9511528398481232E-2},2.9863117913757127,{"$f":"ThreePosition_Basic2($E$3,$E$5,$B$3:$C$3,$B$5:$C$5,B420,C420)","v":-1.6428741885957472},3.2401773554879698,-1.0964430658382658,3.4118403534083308,{"$f":"ThreePosition_Basic2($E$3,$E$5,$B$3:$C$3,$B$5:$C$5,B420,D420)","v":-2.1420225229302341},2.0423780040612196,-1.4957067744234904,2.1549163838013796]
[206.5,3.6041049053682905,{"$f":"Burmester($B$3:$C$3,$B$4:$C$4,$B$5:$C$5,$E$3,$E$4,$E$5,B421)","v":9.2314677242586407E-2},2.9882542970557471,{"$f":"ThreePosition_Basic2($E$3,$E$5,$B$3:$C$3,$B$5:$C$5,B421,C421)","v":-1.6501117436157484},3.241431112171473,-1.1025839209788808,3.4102553047817623,{"$f":"ThreePosition_Basic2($E$3,$E$5,$B$3:$C$3,$B$5:$C$5,B421,D421)","v":-2.1471656154005632},2.0437314288904886,-1.4998926091965197,2.1531219890277167]
[207,3.6128315516282616,{"$f":"Burmester($B$3:$C$3,$B$4:$C$4,$B$5:$C$5,$E$3,$E$4,$E$5,B422)","v":0.10506117287019015},2.9902397394217721,{"$f":"ThreePosition_Basic2($E$3,$E$5,$B$3:$C$3,$B$5:$C$5,B422,C422)","v":-1.6573243712106058},3.2426656426363718,-1.1087010200099441,3.4086489284681711,{"$f":"ThreePosition_Basic2($E$3,$E$5,$B$3:$C$3,$B$5:$C$5,B422,D422)","v":-2.152293996800323},2.0450655201134698,-1.5040636843820487,2.15130445853781]
[207.5,3.6215581978882336,{"$f":"Burmester($B$3:$C$3,$B$4:$C$4,$B$5:$C$5,$E$3,$E$4,$E$5,B423)","v":0.11775108278177338},2.9922682177764131,{"$f":"ThreePosition_Basic2($E$3,$E$5,$B$3:$C$3,$B$5:$C$5,B423,C423)","v":-1.6645122051808428},3.2438816659763146,-1.1147944907621061,3.407021823775632,{"$f":"ThreePosition_Basic2($E$3,$E$5,$B$3:$C$3,$B$5:$C$5,B423,D423)","v":-2.1574080413222467},2.0463800467330122,-1.5082203012865649,2.1494633846390641]
[208,3.6302848441482056,{"$f":"Burmester($B$3:$C$3,$B$4:$C$4,$B$5:$C$5,$E$3,$E$4,$E$5,B424)","v":0.13038446768009118},2.9943398374115167,{"$f":"ThreePosition_Basic2($E$3,$E$5,$B$3:$C$3,$B$5:$C$5,B424,C424)","v":-1.6716753807411702},3.2450798937779162,-1.1208644620890358,3.4053745825986557,{"$f":"ThreePosition_Basic2($E$3,$E$5,$B$3:$C$3,$B$5:$C$5,B424,D424)","v":-2.1625081177570591},2.0476747765359362,-1.512362756096,2.1475983574907556]
[208.5,3.6390114904081772,{"$f":"Burmester($B$3:$C$3,$B$4:$C$4,$B$5:$C$5,$E$3,$E$4,$E$5,B425)","v":0.14296138162484281},2.9964547094609997,{"$f":"ThreePosition_Basic2($E$3,$E$5,$B$3:$C$3,$B$5:$C$5,B425,C425)","v":-1.6788140344383216},3.2462610303658495,-1.1269110637983681,3.4037077896433838,{"$f":"ThreePosition_Basic2($E$3,$E$5,$B$3:$C$3,$B$5:$C$5,B425,D425)","v":-2.1675945896223663},2.0489494760197617,-1.5164913399829933,2.1457089649886925]
[209,3.6477381366681487,{"$f":"Burmester($B$3:$C$3,$B$4:$C$4,$B$5:$C$5,$E$3,$E$4,$E$5,B426)","v":0.15548187218533976},2.9986129507557653,{"$f":"ThreePosition_Basic2($E$3,$E$5,$B$3:$C$3,$B$5:$C$5,B426,C426)","v":-1.6859283040734578},3.2474257730411464,-1.1329344265865489,3.4020220226459497,{"$f":"ThreePosition_Basic2($E$3,$E$5,$B$3:$C$3,$B$5:$C$5,B426,D426)","v":-2.1726678152870336},2.050203910322415,-1.5206063392101203,2.1437947926526091]
[209.5,3.6564647829281203,{"$f":"Burmester($B$3:$C$3,$B$4:$C$4,$B$5:$C$5,$E$3,$E$4,$E$5,B427)","v":0.1679459805913405},3.0008146836805087,{"$f":"ThreePosition_Basic2($E$3,$E$5,$B$3:$C$3,$B$5:$C$5,B427,C427)","v":-1.6930183286289648},3.2485748123128984,-1.1389346819774175,3.4003178525841773,{"$f":"ThreePosition_Basic2($E$3,$E$5,$B$3:$C$3,$B$5:$C$5,B427,D427)","v":-2.1777281480912305},2.0514378431548597,-1.524708035229241,2.1418554235162333]
[210,3.6651914291880923,{"$f":"Burmester($B$3:$C$3,$B$4:$C$4,$B$5:$C$5,$E$3,$E$4,$E$5,B428)","v":0.18035374188224035},3.0030600360322426,{"$f":"ThreePosition_Basic2($E$3,$E$5,$B$3:$C$3,$B$5:$C$5,B428,C428)","v":-1.7000842481994656},3.2497088321235181,-1.1449119622643764,3.3985958438827804,{"$f":"ThreePosition_Basic2($E$3,$E$5,$B$3:$C$3,$B$5:$C$5,B428,D428)","v":-2.1827759364622414},2.05265103673654,-1.5287967047770588,2.1398904380198838]
[210.5,3.6739180754480634,{"$f":"Burmester($B$3:$C$3,$B$4:$C$4,$B$5:$C$5,$E$3,$E$4,$E$5,B429)","v":0.19270518505476977},3.0053491408803596,{"$f":"ThreePosition_Basic2($E$3,$E$5,$B$3:$C$3,$B$5:$C$5,B429,C429)","v":-1.7071262039269195},3.2508285100677425,-1.1508664004560283,3.3968565546122247,{"$f":"ThreePosition_Basic2($E$3,$E$5,$B$3:$C$3,$B$5:$C$5,B429,D429)","v":-2.1878115240262326},2.0538432517335954,-1.5328726199670464,2.1378994139055498]
[211,3.6826447217080354,{"$f":"Burmester($B$3:$C$3,$B$4:$C$4,$B$5:$C$5,$E$3,$E$4,$E$5,B430)","v":0.20500033320937991},3.0076821364280817,{"$f":"ThreePosition_Basic2($E$3,$E$5,$B$3:$C$3,$B$5:$C$5,B430,C430)","v":-1.7141443379396308},3.2519345176055072,-1.1567981302251318,3.3951005366813836,{"$f":"ThreePosition_Basic2($E$3,$E$5,$B$3:$C$3,$B$5:$C$5,B430,D430)","v":-2.1928352497160737},2.0550142471997406,-1.5369360483778323,2.13588192611431]
[211.5,3.6913713679680069,{"$f":"Burmester($B$3:$C$3,$B$4:$C$4,$B$5:$C$5,$E$3,$E$4,$E$5,B431)","v":0.21723920369542893},3.0100591658751381,{"$f":"ThreePosition_Basic2($E$3,$E$5,$B$3:$C$3,$B$5:$C$5,B431,C431)","v":-1.7211387932950371},3.2530275202688896,-1.162707285860755,3.3933283360241675,{"$f":"ThreePosition_Basic2($E$3,$E$5,$B$3:$C$3,$B$5:$C$5,B431,D431)","v":-2.1978474478753389},2.0561637805197805,-1.5409872531381485,2.1338375466860637]
[212,3.7000980142279785,{"$f":"Burmester($B$3:$C$3,$B$4:$C$4,$B$5:$C$5,$E$3,$E$4,$E$5,B432)","v":0.22942180825535485},3.012480377281531,{"$f":"ThreePosition_Basic2($E$3,$E$5,$B$3:$C$3,$B$5:$C$5,B432,C432)","v":-1.7281097139261385},3.2541081778632144,-1.16859400222351,3.3915404927802184,{"$f":"ThreePosition_Basic2($E$3,$E$5,$B$3:$C$3,$B$5:$C$5,B432,D432)","v":-2.2028484483586328},2.057291607355666,-1.5450264930084727,2.1317658446614383]
[212.5,3.70882466048795,{"$f":"Burmester($B$3:$C$3,$B$4:$C$4,$B$5:$C$5,$E$3,$E$4,$E$5,B433)","v":0.24154815316793568},3.0149459234322449,{"$f":"ThreePosition_Basic2($E$3,$E$5,$B$3:$C$3,$B$5:$C$5,B433,C433)","v":-1.735057244591423},3.2551771446625031,-1.1744584147037347,3.389737541469835,{"$f":"ThreePosition_Basic2($E$3,$E$5,$B$3:$C$3,$B$5:$C$5,B433,D433)","v":-2.2078385766283155},2.0583974815950525,-1.5490540224594165,2.1296663859858302]
[213,3.717551306747922,{"$f":"Burmester($B$3:$C$3,$B$4:$C$4,$B$5:$C$5,$E$3,$E$4,$E$5,B434)","v":0.25361823939079431},3.0174559617027659,{"$f":"ThreePosition_Basic2($E$3,$E$5,$B$3:$C$3,$B$5:$C$5,B434,C434)","v":-1.7419815308281983},3.2562350695993776,-1.1803006591825507,3.387920011163239,{"$f":"ThreePosition_Basic2($E$3,$E$5,$B$3:$C$3,$B$5:$C$5,B434,D434)","v":-2.2128181538477976},2.0594811553023042,-1.5530700917470226,2.1275387334154963]
[213.5,3.726277953007894,{"$f":"Burmester($B$3:$C$3,$B$4:$C$4,$B$5:$C$5,$E$3,$E$4,$E$5,B435)","v":0.26563206270225204},3.0200106539252882,{"$f":"ThreePosition_Basic2($E$3,$E$5,$B$3:$C$3,$B$5:$C$5,B435,C435)","v":-1.7488827189091602},3.2572825964495631,-1.1861208719956386,3.386088425644306,{"$f":"ThreePosition_Basic2($E$3,$E$5,$B$3:$C$3,$B$5:$C$5,B435,D435)","v":-2.2177874969714444},2.0605423786718808,-1.5570749469849932,2.1253824464256139]
[214,3.7350045992678651,{"$f":"Burmester($B$3:$C$3,$B$4:$C$4,$B$5:$C$5,$E$3,$E$4,$E$5,B436)","v":0.27758961384265468},3.0226101662554923,{"$f":"ThreePosition_Basic2($E$3,$E$5,$B$3:$C$3,$B$5:$C$5,B436,C436)","v":-1.7557609558021201},3.2583203640110963,-1.1919191898996662,3.3842433035688662,{"$f":"ThreePosition_Basic2($E$3,$E$5,$B$3:$C$3,$B$5:$C$5,B436,D436)","v":-2.2227469188312496},2.0615808999840701,-1.5610688302139883,2.1231970811202534]
[214.5,3.7437312455278371,{"$f":"Burmester($B$3:$C$3,$B$4:$C$4,$B$5:$C$5,$E$3,$E$4,$E$5,B437)","v":0.28949087865529238},3.0252546690397719,{"$f":"ThreePosition_Basic2($E$3,$E$5,$B$3:$C$3,$B$5:$C$5,B437,C437)","v":-1.7626163891327737},3.2593490062783825,-1.1976957500412695,3.3823851586177032,{"$f":"ThreePosition_Basic2($E$3,$E$5,$B$3:$C$3,$B$5:$C$5,B437,D437)","v":-2.2276967282203355},2.0625964655630158,-1.5650519794680484,2.1209821901441894]
[215,3.7524578917878082,{"$f":"Burmester($B$3:$C$3,$B$4:$C$4,$B$5:$C$5,$E$3,$E$4,$E$5,B438)","v":0.30133583822699112},3.0279443366828116,{"$f":"ThreePosition_Basic2($E$3,$E$5,$B$3:$C$3,$B$5:$C$5,B438,C438)","v":-1.7694491671503887},3.2603691526112017,-1.2034506899284687,3.3805144996443448,{"$f":"ThreePosition_Basic2($E$3,$E$5,$B$3:$C$3,$B$5:$C$5,B438,D438)","v":-2.2326372299733999},2.0635888197369883,-1.5690246288382399,2.1187373225964858]
[215.5,3.7611845380477802,{"$f":"Burmester($B$3:$C$3,$B$4:$C$4,$B$5:$C$5,$E$3,$E$4,$E$5,B439)","v":0.31312446902851199},3.0306793475154077,{"$f":"ThreePosition_Basic2($E$3,$E$5,$B$3:$C$3,$B$5:$C$5,B439,C439)","v":-1.7762594386963337},3.2613814278987707,-1.2091841474044585,3.3786318308177368,{"$f":"ThreePosition_Basic2($E$3,$E$5,$B$3:$C$3,$B$5:$C$5,B439,D439)","v":-2.2375687250441914},2.0645577048008761,-1.5729870085335924,2.1164620239457976]
[216,3.7699111843077517,{"$f":"Burmester($B$3:$C$3,$B$4:$C$4,$B$5:$C$5,$E$3,$E$4,$E$5,B440)","v":0.32485674305480811},3.0334598836624451,{"$f":"ThreePosition_Basic2($E$3,$E$5,$B$3:$C$3,$B$5:$C$5,B440,C440)","v":-1.7830473531753284},3.2623864527189874,-1.2148962606236624,3.3767376517599215,{"$f":"ThreePosition_Basic2($E$3,$E$5,$B$3:$C$3,$B$5:$C$5,B440,D440)","v":-2.2424915105800944},2.0655028609808324,-1.5769393449394014,2.1141558359473209]
[216.5,3.7786378305677237,{"$f":"Burmester($B$3:$C$3,$B$4:$C$4,$B$5:$C$5,$E$3,$E$4,$E$5,B441)","v":0.33653262796527228},3.0362861309109292,{"$f":"ThreePosition_Basic2($E$3,$E$5,$B$3:$C$3,$B$5:$C$5,B441,C441)","v":-1.7898130605293439},3.2633848434929558,-1.2205871680299893,3.3748324576788029,{"$f":"ThreePosition_Basic2($E$3,$E$5,$B$3:$C$3,$B$5:$C$5,B441,D441)","v":-2.247405879993932},2.0664240264010734,-1.5808818606729838,2.1118182965613497]
[217,3.7873644768276948,{"$f":"Burmester($B$3:$C$3,$B$4:$C$4,$B$5:$C$5,$E$3,$E$4,$E$5,B442)","v":0.34815208722400998},3.0391582785780074,{"$f":"ThreePosition_Basic2($E$3,$E$5,$B$3:$C$3,$B$5:$C$5,B442,C442)","v":-1.7965567112140406},3.264377212634876,-1.2262570083371904,3.3729167394960733,{"$f":"ThreePosition_Basic2($E$3,$E$5,$B$3:$C$3,$B$5:$C$5,B442,D442)","v":-2.252312123033033},2.0673209370527448,-1.5848147746369268,2.1094489398733467]
[217.5,3.7960911230876668,{"$f":"Burmester($B$3:$C$3,$B$4:$C$4,$B$5:$C$5,$E$3,$E$4,$E$5,B443)","v":0.35971508024025478},3.0420765193788863,{"$f":"ThreePosition_Basic2($E$3,$E$5,$B$3:$C$3,$B$5:$C$5,B443,C443)","v":-1.8032784561776789},3.2653641686974257,-1.2319059205112604,3.3709909839704193,{"$f":"ThreePosition_Basic2($E$3,$E$5,$B$3:$C$3,$B$5:$C$5,B443,D443)","v":-2.2572105258456778},2.0681933267648698,-1.5887383020699308,2.10704729601551]
[218,3.8048177693476379,{"$f":"Burmester($B$3:$C$3,$B$4:$C$4,$B$5:$C$5,$E$3,$E$4,$E$5,B444)","v":0.37122156250896216},3.0450410492945776,{"$f":"ThreePosition_Basic2($E$3,$E$5,$B$3:$C$3,$B$5:$C$5,B444,C444)","v":-1.8099784468423992},3.2663463165127067,-1.2375340437547915,3.3690556738160646,{"$f":"ThreePosition_Basic2($E$3,$E$5,$B$3:$C$3,$B$5:$C$5,B444,D444)","v":-2.2621013710449773},2.0690409271773151,-1.5926526545952844,2.1046128910897601]
[218.5,3.8135444156076099,{"$f":"Burmester($B$3:$C$3,$B$4:$C$4,$B$5:$C$5,$E$3,$E$4,$E$5,B445)","v":0.38267148575167326},3.0480520674394191,{"$f":"ThreePosition_Basic2($E$3,$E$5,$B$3:$C$3,$B$5:$C$5,B445,C445)","v":-1.8166568350878083},3.2673242573288679,-1.2431415174932221,3.3671112878167517,{"$f":"ThreePosition_Basic2($E$3,$E$5,$B$3:$C$3,$B$5:$C$5,B445,D445)","v":-2.2669849377702627},2.069863467715749,-1.5965580402670452,2.1021452470920856]
[219,3.8222710618675819,{"$f":"Burmester($B$3:$C$3,$B$4:$C$4,$B$5:$C$5,$E$3,$E$4,$E$5,B446)","v":0.39406479805767791},3.0511097759282957,{"$f":"ThreePosition_Basic2($E$3,$E$5,$B$3:$C$3,$B$5:$C$5,B446,C446)","v":-1.8233137732367821},3.2682985889424767,-1.2487284813628996,3.3651583009352235,{"$f":"ThreePosition_Basic2($E$3,$E$5,$B$3:$C$3,$B$5:$C$5,B446,D446)","v":-2.2718615017460602},2.0706606755685621,-1.6004546636139803,2.0996438818382104]
[219.5,3.830997708127553,{"$f":"Burmester($B$3:$C$3,$B$4:$C$4,$B$5:$C$5,$E$3,$E$4,$E$5,B447)","v":0.4054014440255625},3.0542143797435024,{"$f":"ThreePosition_Basic2($E$3,$E$5,$B$3:$C$3,$B$5:$C$5,B447,C447)","v":-1.8299494140434185},3.2692699058267447,-1.254295075200901,3.3631971844182948,{"$f":"ThreePosition_Basic2($E$3,$E$5,$B$3:$C$3,$B$5:$C$5,B447,D447)","v":-2.2767313353387304},2.0714322756657166,-1.6043427256813434,2.0971083088905105]
[220,3.839724354387525,{"$f":"Burmester($B$3:$C$3,$B$4:$C$4,$B$5:$C$5,$E$3,$E$4,$E$5,B448)","v":0.41668136490517288},3.0573660866012231,{"$f":"ThreePosition_Basic2($E$3,$E$5,$B$3:$C$3,$B$5:$C$5,B448,C448)","v":-1.8365639106830698},3.2702387992556883,-1.2598414390365469,3.3612284058975832,{"$f":"ThreePosition_Basic2($E$3,$E$5,$B$3:$C$3,$B$5:$C$5,B448,D448)","v":-2.2815947076108216},2.0721779906595064,-1.6082224240705174,2.094538037486144]
[220.5,3.8484510006474966,{"$f":"Burmester($B$3:$C$3,$B$4:$C$4,$B$5:$C$5,$E$3,$E$4,$E$5,B449)","v":0.42790449874001224},3.0605651068175663,{"$f":"ThreePosition_Basic2($E$3,$E$5,$B$3:$C$3,$B$5:$C$5,B449,C449)","v":-1.8431574167443641},3.2712058574243073,-1.2653677130845247,3.3592524294859758,{"$f":"ThreePosition_Basic2($E$3,$E$5,$B$3:$C$3,$B$5:$C$5,B449,D449)","v":-2.2864518843732031},2.0728975409071628,-1.6120939529765848,2.0919325724663125]
[221,3.8571776469074686,{"$f":"Burmester($B$3:$C$3,$B$4:$C$4,$B$5:$C$5,$E$3,$E$4,$E$5,B450)","v":0.43907078051015974},3.0638116531741142,{"$f":"ThreePosition_Basic2($E$3,$E$5,$B$3:$C$3,$B$5:$C$5,B450,C450)","v":-1.8497300862231878},3.2721716655648718,-1.2708740377395999,3.3572697158698976,{"$f":"ThreePosition_Basic2($E$3,$E$5,$B$3:$C$3,$B$5:$C$5,B450,D450)","v":-2.2913031282350653},2.073590644455316,-1.6159575032238975,2.0892914142066226]
[221.5,3.8659042931674397,{"$f":"Burmester($B$3:$C$3,$B$4:$C$4,$B$5:$C$5,$E$3,$E$4,$E$5,B451)","v":0.45018014227570052},3.0671059407829646,{"$f":"ThreePosition_Basic2($E$3,$E$5,$B$3:$C$3,$B$5:$C$5,B451,C451)","v":-1.8562820735185264},3.2731368060593984,-1.2763605535728249,3.3552807223974597,{"$f":"ThreePosition_Basic2($E$3,$E$5,$B$3:$C$3,$B$5:$C$5,B451,D451)","v":-2.2961486986518254},2.0742570170262677,-1.6198132622996746,2.0866140585484909]
[222,3.8746309394274117,{"$f":"Burmester($B$3:$C$3,$B$4:$C$4,$B$5:$C$5,$E$3,$E$4,$E$5,B452)","v":0.46123251332070253},3.0704481869512463,{"$f":"ThreePosition_Basic2($E$3,$E$5,$B$3:$C$3,$B$5:$C$5,B452,C452)","v":-1.8628135334301121},3.2741018585483945,-1.2818274013291899,3.3532859031625475,{"$f":"ThreePosition_Basic2($E$3,$E$5,$B$3:$C$3,$B$5:$C$5,B452,D452)","v":-2.3009888519710024},2.0748963720060236,-1.6236614143856798,2.0838999967315059]
[222.5,3.8833575856873828,{"$f":"Burmester($B$3:$C$3,$B$4:$C$4,$B$5:$C$5,$E$3,$E$4,$E$5,B453)","v":0.47222782029776167},3.0738386110450628,{"$f":"ThreePosition_Basic2($E$3,$E$5,$B$3:$C$3,$B$5:$C$5,B453,C453)","v":-1.869324621157832},3.2750674000359554,-1.2872747219266882,3.351285709084924,{"$f":"ThreePosition_Basic2($E$3,$E$5,$B$3:$C$3,$B$5:$C$5,B453,D453)","v":-2.3058238414761343},2.0755084204340872,-1.627502140388043,2.0811487153267336]
[223,3.8920842319473548,{"$f":"Burmester($B$3:$C$3,$B$4:$C$4,$B$5:$C$5,$E$3,$E$4,$E$5,B454)","v":0.48316598737314093},3.0772774343528724,{"$f":"ThreePosition_Basic2($E$3,$E$5,$B$3:$C$3,$B$5:$C$5,B454,C454)","v":-1.8758154923028212},3.2760340049912977,-1.2927026564567152,3.3492805879864131,{"$f":"ThreePosition_Basic2($E$3,$E$5,$B$3:$C$3,$B$5:$C$5,B454,D454)","v":-2.3106539174287812},2.0760928709949629,-1.6313356179652541,2.0783596961708626]
[223.5,3.9008108782073263,{"$f":"Burmester($B$3:$C$3,$B$4:$C$4,$B$5:$C$5,$E$3,$E$4,$E$5,B455)","v":0.49404693637247965},3.0807648799482861,{"$f":"ThreePosition_Basic2($E$3,$E$5,$B$3:$C$3,$B$5:$C$5,B455,C455)","v":-1.8822863028701797},3.2770022454468064,-1.298111346185753,3.3472709846632323,{"$f":"ThreePosition_Basic2($E$3,$E$5,$B$3:$C$3,$B$5:$C$5,B455,D455)","v":-2.3154793271086689},2.0766494300113441,-1.6351620215543767,2.0755324163011708]
[224,3.9095375244672983,{"$f":"Burmester($B$3:$C$3,$B$4:$C$4,$B$5:$C$5,$E$3,$E$4,$E$5,B456)","v":0.50487058692711395},3.0843011725522795,{"$f":"ThreePosition_Basic2($E$3,$E$5,$B$3:$C$3,$B$5:$C$5,B456,C456)","v":-1.888737209273271},3.2779726910926663,-1.303500932558302,3.3452573409545252,{"$f":"ThreePosition_Basic2($E$3,$E$5,$B$3:$C$3,$B$5:$C$5,B456,D456)","v":-2.3203003148520454},2.0771778014389488,-1.6389815223955422,2.0726663478912091]
[224.5,{"$f":"A457*PI()/180","v":3.9182641707272698},{"$f":"Burmester($B$3:$C$3,$B$4:$C$4,$B$5:$C$5,$E$3,$E$4,$E$5,B457)","v":0.51563685662097658},3.0878865383948191,{"$f":"ThreePosition_Basic2($E$3,$E$5,$B$3:$C$3,$B$5:$C$5,B457,C457)","v":-1.8951683683395439},3.2789459093681841,-1.3088715572010043,3.3432400958071926,{"$f":"ThreePosition_Basic2($E$3,$E$5,$B$3:$C$3,$B$5:$C$5,B457,D457)","v":-2.3251171220882867},2.0776776868629754,-1.642794288554744,2.0697609581871785]
[225,3.9269908169872414,{"$f":"Burmester($B$3:$C$3,$B$4:$C$4,$B$5:$C$5,$E$3,$E$4,$E$5,B458)","v":0.52634566113808301},3.0915212050759178,{"$f":"ThreePosition_Basic2($E$3,$E$5,$B$3:$C$3,$B$5:$C$5,B458,C458)","v":-1.9015799373178113},3.2799224655498413,-1.3142233619279033,3.3412196853370428,{"$f":"ThreePosition_Basic2($E$3,$E$5,$B$3:$C$3,$B$5:$C$5,B458,D458)","v":-2.3299299873748138},2.0781487854961362,-1.64660048494499,2.0668157094449016]
[225.5,3.9357174632472134,{"$f":"Burmester($B$3:$C$3,$B$4:$C$4,$B$5:$C$5,$E$3,$E$4,$E$5,B459)","v":0.5369969144105835},3.0952054014261243,{"$f":"ThreePosition_Basic2($E$3,$E$5,$B$3:$C$3,$B$5:$C$5,B459,C459)","v":-1.907972073886949},3.2809029228362068,-1.3195564887468014,3.339196542886377,{"$f":"ThreePosition_Basic2($E$3,$E$5,$B$3:$C$3,$B$5:$C$5,B459,D459)","v":-2.334739146430366},2.0785907941782424,-1.650400273345844,2.0638300588673437]
[226,3.9444441095071845,{"$f":"Burmester($B$3:$C$3,$B$4:$C$4,$B$5:$C$5,$E$3,$E$4,$E$5,B460)","v":0.54759052876736547},3.0989393573664641,{"$f":"ThreePosition_Basic2($E$3,$E$5,$B$3:$C$3,$B$5:$C$5,B460,C460)","v":-1.9143449361659568},3.2818878424297422,-1.3248710798666679,3.3371710990780312,{"$f":"ThreePosition_Basic2($E$3,$E$5,$B$3:$C$3,$B$5:$C$5,B460,D460)","v":-2.3395448321666898},2.0790034073772965,-1.6541938124214015,2.060803458542606]
[226.5,3.9531707557671565,{"$f":"Burmester($B$3:$C$3,$B$4:$C$4,$B$5:$C$5,$E$3,$E$4,$E$5,B461)","v":0.55812641508318139},3.1027233037678705,{"$f":"ThreePosition_Basic2($E$3,$E$5,$B$3:$C$3,$B$5:$C$5,B461,C461)","v":-1.9206986827253369},3.2828777836156111,-1.3301672777060545,3.3351437818659635,{"$f":"ThreePosition_Basic2($E$3,$E$5,$B$3:$C$3,$B$5:$C$5,B461,D461)","v":-2.3443472747186935},2.0793863171920495,-1.6579812577367377,2.0577353553823081]
[227,3.9618974020271276,{"$f":"Burmester($B$3:$C$3,$B$4:$C$4,$B$5:$C$5,$E$3,$E$4,$E$5,B462)","v":0.56860448292825949},3.1065574723101128,{"$f":"ThreePosition_Basic2($E$3,$E$5,$B$3:$C$3,$B$5:$C$5,B462,C462)","v":-1.9270334725997253},3.2838733038375691,-1.335445224902462,3.3331150165824583,{"$f":"ThreePosition_Basic2($E$3,$E$5,$B$3:$C$3,$B$5:$C$5,B462,D462)","v":-2.3491467014731029},2.0797392133560026,-1.6617627617728588,2.0546251910603104]
[227.5,3.9706240482870996,{"$f":"Burmester($B$3:$C$3,$B$4:$C$4,$B$5:$C$5,$E$3,$E$4,$E$5,B463)","v":0.57902464071838511},3.1104420953402854,{"$f":"ThreePosition_Basic2($E$3,$E$5,$B$3:$C$3,$B$5:$C$5,B463,C463)","v":-1.9333494653017544},3.2848749587710078,-1.3407050643226335,3.331085225981997,{"$f":"ThreePosition_Basic2($E$3,$E$5,$B$3:$C$3,$B$5:$C$5,B463,D463)","v":-2.3539433370956884},2.0800617832427766,-1.6655384739402037,2.0514724019516613]
[228,3.9793506945470711,{"$f":"Burmester($B$3:$C$3,$B$4:$C$4,$B$5:$C$5,$E$3,$E$4,$E$5,B464)","v":0.58938679586538989},3.1143774057308584,{"$f":"ThreePosition_Basic2($E$3,$E$5,$B$3:$C$3,$B$5:$C$5,B464,C464)","v":-1.9396468208370743},3.2858833023932474,-1.3459469390737202,3.329054830281879,{"$f":"ThreePosition_Basic2($E$3,$E$5,$B$3:$C$3,$B$5:$C$5,B464,D464)","v":-2.3587374035570914},2.0803537118728532,-1.6693085405907224,2.0482764190717364]
[228.5,3.9880773408070431,{"$f":"Burmester($B$3:$C$3,$B$4:$C$4,$B$5:$C$5,$E$3,$E$4,$E$5,B465)","v":0.59969085492801277},3.1183636367373873,{"$f":"ThreePosition_Basic2($E$3,$E$5,$B$3:$C$3,$B$5:$C$5,B465,C465)","v":-1.945925699720507},3.2868988870511493,-1.3511709925152822,3.3270242471996458,{"$f":"ThreePosition_Basic2($E$3,$E$5,$B$3:$C$3,$B$5:$C$5,B465,D465)","v":-2.3635291201573154},2.0806146819215945,-1.6730731050285714,2.0450366680154399]
[229,3.9968039870670142,{"$f":"Burmester($B$3:$C$3,$B$4:$C$4,$B$5:$C$5,$E$3,$E$4,$E$5,B466)","v":0.6099367237630734},3.122401021855882,{"$f":"ThreePosition_Basic2($E$3,$E$5,$B$3:$C$3,$B$5:$C$5,B466,C466)","v":-1.9521862629932627},3.2879222635261538,-1.3563773682720701,3.3249938919874014,{"$f":"ThreePosition_Basic2($E$3,$E$5,$B$3:$C$3,$B$5:$C$5,B466,D466)","v":-2.3683187035489057},2.0808443737285272,-1.6768323075194529,2.0417525688964107]
[229.5,4.0055306333269858,{"$f":"Burmester($B$3:$C$3,$B$4:$C$4,$B$5:$C$5,$E$3,$E$4,$E$5,B467)","v":0.6201243076769174},3.1264897946799284,{"$f":"ThreePosition_Basic2($E$3,$E$5,$B$3:$C$3,$B$5:$C$5,B467,C467)","v":-1.9584286722412185},3.288953981096812,-1.3615662102475881,3.3229641774630783,{"$f":"ThreePosition_Basic2($E$3,$E$5,$B$3:$C$3,$B$5:$C$5,B467,D467)","v":-2.3731063677588966},2.0810424653078301,-1.6805862852986495,2.0384235362861349]
[230,4.0142572795869578,{"$f":"Burmester($B$3:$C$3,$B$4:$C$4,$B$5:$C$5,$E$3,$E$4,$E$5,B468)","v":0.63025351157704268},3.1306301887576105,{"$f":"ThreePosition_Basic2($E$3,$E$5,$B$3:$C$3,$B$5:$C$5,B468,C468)","v":-1.9646530896141521},3.2899945875989034,-1.3667376626383339,3.320935514038724,{"$f":"ThreePosition_Basic2($E$3,$E$5,$B$3:$C$3,$B$5:$C$5,B468,D468)","v":-2.3778923242095344},2.0812086323599743,-1.6843351725777569,2.0350489791528728]
[230.5,4.0229839258469298,{"$f":"Burmester($B$3:$C$3,$B$4:$C$4,$B$5:$C$5,$E$3,$E$4,$E$5,B469)","v":0.64032424012386724},3.1348224374482929,{"$f":"ThreePosition_Basic2($E$3,$E$5,$B$3:$C$3,$B$5:$C$5,B469,C469)","v":-1.9708596778459548},3.2910446294832441,-1.3718918699487475,3.3189083097459045,{"$f":"ThreePosition_Basic2($E$3,$E$5,$B$3:$C$3,$B$5:$C$5,B469,D469)","v":-2.3826767817378518},2.0813425482844616,-1.6880791005501756,2.0316283008002975]
[231,4.0317105721069018,{"$f":"Burmester($B$3:$C$3,$B$4:$C$4,$B$5:$C$5,$E$3,$E$4,$E$5,B470)","v":0.65033639788254904},3.1390667737793567,{"$f":"ThreePosition_Basic2($E$3,$E$5,$B$3:$C$3,$B$5:$C$5,B470,C470)","v":-1.9770486002757295},3.2921046518712567,-1.3770289770067758,3.3168829702582645,{"$f":"ThreePosition_Basic2($E$3,$E$5,$B$3:$C$3,$B$5:$C$5,B470,D470)","v":-2.3874599466141286},2.0814438841936114,-1.691818197395381,2.0281608988057571]
[231.5,4.0404372183668729,{"$f":"Burmester($B$3:$C$3,$B$4:$C$4,$B$5:$C$5,$E$3,$E$4,$E$5,B471)","v":0.66028988947478551},3.1433634303029421,{"$f":"ThreePosition_Basic2($E$3,$E$5,$B$3:$C$3,$B$5:$C$5,B471,C471)","v":-1.9832200208697586},3.2931751986084143,-1.3821491289800465,3.3148598989113549,{"$f":"ThreePosition_Basic2($E$3,$E$5,$B$3:$C$3,$B$5:$C$5,B471,D471)","v":-2.3922420225592607},2.0815123089273331,-1.6955525882819804,2.0246461649580443]
[232,4.0491638646268449,{"$f":"Burmester($B$3:$C$3,$B$4:$C$4,$B$5:$C$5,$E$3,$E$4,$E$5,B472)","v":0.67018461973051435},3.1477126389527994,{"$f":"ThreePosition_Basic2($E$3,$E$5,$B$3:$C$3,$B$5:$C$5,B472,C472)","v":-1.9893741042442978},3.2942568123156275,-1.3872524713926042,3.3128394967197696,{"$f":"ThreePosition_Basic2($E$3,$E$5,$B$3:$C$3,$B$5:$C$5,B472,D472)","v":-2.3970232107611333},2.0815474890688197,-1.6992823953696408,2.0210834851945645]
[232.5,4.057890510886816,{"$f":"Burmester($B$3:$C$3,$B$4:$C$4,$B$5:$C$5,$E$3,$E$4,$E$5,B473)","v":0.68002049383941321},3.1521146309013202,{"$f":"ThreePosition_Basic2($E$3,$E$5,$B$3:$C$3,$B$5:$C$5,B473,C473)","v":-1.99551101568914},3.2953500344387088,-1.3923391501421674,3.3108221623917173,{"$f":"ThreePosition_Basic2($E$3,$E$5,$B$3:$C$3,$B$5:$C$5,B473,D473)","v":-2.4018037098899807},2.0815490889611206,-1.70300773780985,2.0174722395378168]
[233,4.066617157146788,{"$f":"Burmester($B$3:$C$3,$B$4:$C$4,$B$5:$C$5,$E$3,$E$4,$E$5,B474)","v":0.68979741750213064},3.156569636416855,{"$f":"ThreePosition_Basic2($E$3,$E$5,$B$3:$C$3,$B$5:$C$5,B474,C474)","v":-2.0016309211919392},3.2964554052959829,-1.3974093115178901,3.3088082923410642,{"$f":"ThreePosition_Basic2($E$3,$E$5,$B$3:$C$3,$B$5:$C$5,B474,D474)","v":-2.4065837161128218},2.0815167707244986,-1.7067287317455899,2.0138118020310265]
[233.5,4.0753438034067591,{"$f":"Burmester($B$3:$C$3,$B$4:$C$4,$B$5:$C$5,$E$3,$E$4,$E$5,B475)","v":0.69951529708112337},3.1610778847213989,{"$f":"ThreePosition_Basic2($E$3,$E$5,$B$3:$C$3,$B$5:$C$5,B475,C475)","v":-2.0077339874632156},3.2975734641241456,-1.4024631022185621,3.306798280696956,{"$f":"ThreePosition_Basic2($E$3,$E$5,$B$3:$C$3,$B$5:$C$5,B475,D475)","v":-2.4113634231069883},2.0814501942745243,-1.7104454903099211,2.0101015406728453]
[234,4.0840704496667311,{"$f":"Burmester($B$3:$C$3,$B$4:$C$4,$B$5:$C$5,$E$3,$E$4,$E$5,B476)","v":0.70917403975103199},3.1656396038487555,{"$f":"ThreePosition_Basic2($E$3,$E$5,$B$3:$C$3,$B$5:$C$5,B476,C476)","v":-2.0138203819620442},3.298704749122499,-1.4075006693712484,3.304792519311103,{"$f":"ThreePosition_Basic2($E$3,$E$5,$B$3:$C$3,$B$5:$C$5,B476,D476)","v":-2.4161430220728026},2.0813490173408402,-1.7141581236235197,2.0063408173509867]
[234.5,4.0927970959267022,{"$f":"Burmester($B$3:$C$3,$B$4:$C$4,$B$5:$C$5,$E$3,$E$4,$E$5,B477)","v":0.71877355364845585},3.1702550205032742,{"$f":"ThreePosition_Basic2($E$3,$E$5,$B$3:$C$3,$B$5:$C$5,B477,C477)","v":-2.0198902729223542},3.2998497974956327,-1.4125221605503047,3.3027913977628027,{"$f":"ThreePosition_Basic2($E$3,$E$5,$B$3:$C$3,$B$5:$C$5,B477,D477)","v":-2.4209227017454333},2.0812128954865012,-1.7178667387911801,2.0025289877746517]
[235,4.1015237421866741,{"$f":"Burmester($B$3:$C$3,$B$4:$C$4,$B$5:$C$5,$E$3,$E$4,$E$5,B478)","v":0.72831374802104942},3.1749243599192867,{"$f":"ThreePosition_Basic2($E$3,$E$5,$B$3:$C$3,$B$5:$C$5,B478,C478)","v":-2.0259438293798282},3.3010091454946955,-1.4175277237967525,3.3007953033618094,{"$f":"ThreePosition_Basic2($E$3,$E$5,$B$3:$C$3,$B$5:$C$5,B478,D478)","v":-2.4257026484059829},2.0810414821278505,-1.7215714398973176,1.9986654014056389]
[235.5,4.1102503884466461,{"$f":"Burmester($B$3:$C$3,$B$4:$C$4,$B$5:$C$5,$E$3,$E$4,$E$5,B479)","v":0.73779453337580547},3.1796478457213273,{"$f":"ThreePosition_Basic2($E$3,$E$5,$B$3:$C$3,$B$5:$C$5,B479,C479)","v":-2.0319812211993455},3.302183328457331,-1.4225175076379797,3.2988046211491162,{"$f":"ThreePosition_Basic2($E$3,$E$5,$B$3:$C$3,$B$5:$C$5,B479,D479)","v":-2.4304830458918429},2.0808344285548128,-1.7252723280004956,1.9947494013879703]
[236,4.1189770347066172,{"$f":"Burmester($B$3:$C$3,$B$4:$C$4,$B$5:$C$5,$E$3,$E$4,$E$5,B480)","v":0.74721582162641742},3.1844256997852844,{"$f":"ThreePosition_Basic2($E$3,$E$5,$B$3:$C$3,$B$5:$C$5,B480,C480)","v":-2.0380026191029357},3.30337288084641,-1.4274916611077149,3.2968197338957572,{"$f":"ThreePosition_Basic2($E$3,$E$5,$B$3:$C$3,$B$5:$C$5,B480,D480)","v":-2.4352640756063435},2.0805913839515595,-1.7289695011269781,1.9907803244759139]
[236.5,4.1277036809665892,{"$f":"Burmester($B$3:$C$3,$B$4:$C$4,$B$5:$C$5,$E$3,$E$4,$E$5,B481)","v":0.75657752623961461},3.1892581421005732,{"$f":"ThreePosition_Basic2($E$3,$E$5,$B$3:$C$3,$B$5:$C$5,B481,C481)","v":-2.0440081946982271},3.3045783362876757,-1.4324503337662837,3.2948410220997273,{"$f":"ThreePosition_Basic2($E$3,$E$5,$B$3:$C$3,$B$5:$C$5,B481,D481)","v":-2.4400459165277706},2.0803119954174525,-1.732663054263373,1.9867575009602503]
[237,4.1364303272265612,{"$f":"Burmester($B$3:$C$3,$B$4:$C$4,$B$5:$C$5,$E$3,$E$4,$E$5,B482)","v":0.76587956238031463},3.1941453906334742,{"$f":"ThreePosition_Basic2($E$3,$E$5,$B$3:$C$3,$B$5:$C$5,B482,C482)","v":-2.0499981205073214},3.3058002276063916,-1.4373936757210708,3.2928688639810995,{"$f":"ThreePosition_Basic2($E$3,$E$5,$B$3:$C$3,$B$5:$C$5,B482,D482)","v":-2.4448287452177513},2.0799959079881662,-1.7363530793483379,1.9826802545926179]
[237.5,4.1451569734865323,{"$f":"Burmester($B$3:$C$3,$B$4:$C$4,$B$5:$C$5,$E$3,$E$4,$E$5,B483)","v":0.77512184705551079},3.1990876611917409,{"$f":"ThreePosition_Basic2($E$3,$E$5,$B$3:$C$3,$B$5:$C$5,B483,C483)","v":-2.0559725699960887},3.307039086863151,-1.4423218376471907,3.2909036354754604,{"$f":"ThreePosition_Basic2($E$3,$E$5,$B$3:$C$3,$B$5:$C$5,B483,D483)","v":-2.4496127358290756},2.0796427646569389,-1.7400396652634085,1.9785479025078101]
[238,4.1538836197465043,{"$f":"Burmester($B$3:$C$3,$B$4:$C$4,$B$5:$C$5,$E$3,$E$4,$E$5,B484)","v":0.78430429925672784},3.2040851672906379,{"$f":"ThreePosition_Basic2($E$3,$E$5,$B$3:$C$3,$B$5:$C$5,B484,C484)","v":-2.0619317176038305},3.308295445388918,-1.4472349708083165,3.288945710225732,{"$f":"ThreePosition_Basic2($E$3,$E$5,$B$3:$C$3,$B$5:$C$5,B484,D484)","v":-2.4543980601129745},2.0792522063958092,-1.7437228978229393,1.9743597551438161]
[238.5,4.1626102660064763,{"$f":"Burmester($B$3:$C$3,$B$4:$C$4,$B$5:$C$5,$E$3,$E$4,$E$5,B485)","v":0.79342684010093967},3.2091381200204934,{"$f":"ThreePosition_Basic2($E$3,$E$5,$B$3:$C$3,$B$5:$C$5,B485,C485)","v":-2.0678757387732909},3.3095698338194719,-1.4521332270776535,3.2869954595725233,{"$f":"ThreePosition_Basic2($E$3,$E$5,$B$3:$C$3,$B$5:$C$5,B485,D485)","v":-2.4591848874258968},2.0788238721768058,-1.7474028597631905,1.9701151161594967]
[239,4.1713369122664474,{"$f":"Burmester($B$3:$C$3,$B$4:$C$4,$B$5:$C$5,$E$3,$E$4,$E$5,B486)","v":0.80248939296981625},3.2142467279159326,{"$f":"ThreePosition_Basic2($E$3,$E$5,$B$3:$C$3,$B$5:$C$5,B486,C486)","v":-2.0738048099809725},3.3108627821293362,-1.4570167589590173,3.2850532525430682,{"$f":"ThreePosition_Basic2($E$3,$E$5,$B$3:$C$3,$B$5:$C$5,B486,D486)","v":-2.4639733847358429},2.0783573989929582,-1.7510796307305885,1.9658132823496814]
[239.5,4.1800635585264194,{"$f":"Burmester($B$3:$C$3,$B$4:$C$4,$B$5:$C$5,$E$3,$E$4,$E$5,B487)","v":0.81149188364714908},3.2194111968269281,{"$f":"ThreePosition_Basic2($E$3,$E$5,$B$3:$C$3,$B$5:$C$5,B487,C487)","v":-2.0797191087677329},3.3121748196653487,-1.4618857196079929,3.2831194558388948,{"$f":"ThreePosition_Basic2($E$3,$E$5,$B$3:$C$3,$B$5:$C$5,B487,D487)","v":-2.4687637166282488},2.077852421879034,-1.7547532872691407,1.9614535435575164]
[240,4.1887902047863905,{"$f":"Burmester($B$3:$C$3,$B$4:$C$4,$B$5:$C$5,$E$3,$E$4,$E$5,B488)","v":0.82043424045433655},3.2246317297917648,{"$f":"ThreePosition_Basic2($E$3,$E$5,$B$3:$C$3,$B$5:$C$5,B488,C488)","v":-2.0856188137696257},3.3135064751799779,-1.4667402628531481,3.2811944338223022,{"$f":"ThreePosition_Basic2($E$3,$E$5,$B$3:$C$3,$B$5:$C$5,B488,D488)","v":-2.4735560453114886},2.077308573931925,-1.7584239028070501,1.9570351825839067]
[240.5,4.1975168510463625,{"$f":"Burmester($B$3:$C$3,$B$4:$C$4,$B$5:$C$5,$E$3,$E$4,$E$5,B489)","v":0.82931639438378701},3.2299085269121091,{"$f":"ThreePosition_Basic2($E$3,$E$5,$B$3:$C$3,$B$5:$C$5,B489,C489)","v":-2.0915041047489611},3.3148582768645358,-1.4715805432172766,3.2792785485017761,{"$f":"ThreePosition_Basic2($E$3,$E$5,$B$3:$C$3,$B$5:$C$5,B489,D489)","v":-2.4783505306220333},2.0767254863305653,-1.7620915476425381,1.952557475093837]
[241,4.2062434973063345,{"$f":"Burmester($B$3:$C$3,$B$4:$C$4,$B$5:$C$5,$E$3,$E$4,$E$5,B490)","v":0.8381382792301022},3.2352417852302637,{"$f":"ThreePosition_Basic2($E$3,$E$5,$B$3:$C$3,$B$5:$C$5,B490,C490)","v":-2.0973751626255481},3.3162307523823973,-1.4764067159386371,3.27737215951643,{"$f":"ThreePosition_Basic2($E$3,$E$5,$B$3:$C$3,$B$5:$C$5,B490,D490)","v":-2.4831473300292752},2.0761027883552914,-1.7657562889288774,1.9480196895194091]
[241.5,4.2149701435663056,{"$f":"Burmester($B$3:$C$3,$B$4:$C$4,$B$5:$C$5,$E$3,$E$4,$E$5,B491)","v":0.84689983171889971},3.2406316986087988,{"$f":"ThreePosition_Basic2($E$3,$E$5,$B$3:$C$3,$B$5:$C$5,B491,C491)","v":-2.1032321695081015},3.3176244289023797,-1.4812189369921747,3.2754756241196064,{"$f":"ThreePosition_Basic2($E$3,$E$5,$B$3:$C$3,$B$5:$C$5,B491,D491)","v":-2.4879465986400691},2.0754401074065223,-1.7694181906586475,1.9434210869593678]
[242,4.2236967898262776,{"$f":"Burmester($B$3:$C$3,$B$4:$C$4,$B$5:$C$5,$E$3,$E$4,$E$5,B492)","v":0.85560099163314718},3.2460784576126578,{"$f":"ThreePosition_Basic2($E$3,$E$5,$B$3:$C$3,$B$5:$C$5,B492,C492)","v":-2.1090753087257781},3.3190398331323983,-1.4860173631106925,3.2735892971617226,{"$f":"ThreePosition_Basic2($E$3,$E$5,$B$3:$C$3,$B$5:$C$5,B492,D492)","v":-2.4927484892030272},2.0747370690226741,-1.7730773136472386,1.9387609210749435]
[242.5,4.2324234360862487,{"$f":"Burmester($B$3:$C$3,$B$4:$C$4,$B$5:$C$5,$E$3,$E$4,$E$5,B493)","v":0.86424170193685679},3.2515822493938935,{"$f":"ThreePosition_Basic2($E$3,$E$5,$B$3:$C$3,$B$5:$C$5,B493,C493)","v":-2.1149047648598147},3.3204774913535511,-1.4908021518059544,3.2717135310725025,{"$f":"ThreePosition_Basic2($E$3,$E$5,$B$3:$C$3,$B$5:$C$5,B493,D493)","v":-2.4975531521125758},2.0739932968972035,-1.7767337155155811,1.9340384379818041]
[243,4.2411500823462207,{"$f":"Burmester($B$3:$C$3,$B$4:$C$4,$B$5:$C$5,$E$3,$E$4,$E$5,B494)","v":0.87282190889601197},3.2571432575791741,{"$f":"ThreePosition_Basic2($E$3,$E$5,$B$3:$C$3,$B$5:$C$5,B494,C494)","v":-2.1207207237752508},3.321937929454752,-1.4955734613896938,3.2698486758426739,{"$f":"ThreePosition_Basic2($E$3,$E$5,$B$3:$C$3,$B$5:$C$5,B494,D494)","v":-2.5023607354128381},2.0732084128946395,-1.7803874506721442,1.9292528761378722]
[243.5,4.2498767286061918,{"$f":"Burmester($B$3:$C$3,$B$4:$C$4,$B$5:$C$5,$E$3,$E$4,$E$5,B495)","v":0.88134156219658732},3.2627616621601803,{"$f":"ThreePosition_Basic2($E$3,$E$5,$B$3:$C$3,$B$5:$C$5,B495,C495)","v":-2.1265233726527017},3.323421672968073,-1.5003314509945107,3.2679950790052872,{"$f":"ThreePosition_Basic2($E$3,$E$5,$B$3:$C$3,$B$5:$C$5,B495,D495)","v":-2.5071713848013424},2.0723820370655401,-1.7840385702941755,1.9244034662268443]
[244,4.2586033748661638,{"$f":"Burmester($B$3:$C$3,$B$4:$C$4,$B$5:$C$5,$E$3,$E$4,$E$5,B496)","v":0.88980061505952479},3.2684376393870553,{"$f":"ThreePosition_Basic2($E$3,$E$5,$B$3:$C$3,$B$5:$C$5,B496,C496)","v":-2.1323129000201666},3.3249292471049174,-1.5050762805946318,3.266153085616728,{"$f":"ThreePosition_Basic2($E$3,$E$5,$B$3:$C$3,$B$5:$C$5,B496,D496)","v":-2.5119852436326009},2.0715137876602294,-1.7876871223082025,1.9194894310371486]
[244.5,4.2673300211261358,{"$f":"Burmester($B$3:$C$3,$B$4:$C$4,$B$5:$C$5,$E$3,$E$4,$E$5,B497)","v":0.89819902435253351},3.2741713616650072,{"$f":"ThreePosition_Basic2($E$3,$E$5,$B$3:$C$3,$B$5:$C$5,B497,C497)","v":-2.1380894957848398},3.3264611767931744,-1.5098081110265185,3.2643230382375723,{"$f":"ThreePosition_Basic2($E$3,$E$5,$B$3:$C$3,$B$5:$C$5,B497,D497)","v":-2.5168024529215849},2.0706032811412154,-1.7913331513697965,1.9145099853361409]
[245,4.2760566673861069,{"$f":"Burmester($B$3:$C$3,$B$4:$C$4,$B$5:$C$5,$E$3,$E$4,$E$5,B498)","v":0.90653675069858464},3.279962997454227,{"$f":"ThreePosition_Basic2($E$3,$E$5,$B$3:$C$3,$B$5:$C$5,B498,C498)","v":-2.143853351264922},3.3280179867154871,-1.514527104009306,3.2625052769133722,{"$f":"ThreePosition_Basic2($E$3,$E$5,$B$3:$C$3,$B$5:$C$5,B498,D498)","v":-2.5216231513471188},2.0696501321941727,-1.7949766988425924,1.9094643357392942]
[245.5,4.2847833136460789,{"$f":"Burmester($B$3:$C$3,$B$4:$C$4,$B$5:$C$5,$E$3,$E$4,$E$5,B499)","v":0.91481375858096448},3.2858127111732394,{"$f":"ThreePosition_Basic2($E$3,$E$5,$B$3:$C$3,$B$5:$C$5,B499,C499)","v":-2.1496046592213887},3.3296002013488049,-1.5192334221650476,3.2607001391555186,{"$f":"ThreePosition_Basic2($E$3,$E$5,$B$3:$C$3,$B$5:$C$5,B499,D499)","v":-2.5264474752552259},2.0686539537373898,-1.7986178027765694,1.9043516805741647]
[246,4.2935099599060509,{"$f":"Burmester($B$3:$C$3,$B$4:$C$4,$B$5:$C$5,$E$3,$E$4,$E$5,B500)","v":0.92303001644476523},3.2917206631058002,{"$f":"ThreePosition_Basic2($E$3,$E$5,$B$3:$C$3,$B$5:$C$5,B500,C500)","v":-2.1553436138897157},3.3312083450053209,-1.5239272290387587,3.2589079599222663,{"$f":"ThreePosition_Basic2($E$3,$E$5,$B$3:$C$3,$B$5:$C$5,B500,D500)","v":-2.5312755586624331},2.0676143569295387,-1.802256497885578,1.8991712097388715]
[246.5,4.3022366061660229,{"$f":"Burmester($B$3:$C$3,$B$4:$C$4,$B$5:$C$5,$E$3,$E$4,$E$5,B501)","v":0.93118549679468465},3.2976870093114981,{"$f":"ThreePosition_Basic2($E$3,$E$5,$B$3:$C$3,$B$5:$C$5,B501,C501)","v":-2.1610704110115395},3.3328429418749765,-1.5286086891182404,3.2571290716000543,{"$f":"ThreePosition_Basic2($E$3,$E$5,$B$3:$C$3,$B$5:$C$5,B501,D501)","v":-2.5361075332590874},2.0665309511756824,-1.8058928155241256,1.8939221045548651]
[247,4.310963252425994,{"$f":"Burmester($B$3:$C$3,$B$4:$C$4,$B$5:$C$5,$E$3,$E$4,$E$5,B502)","v":0.93928017628901395},3.3037119015401446,{"$f":"ThreePosition_Basic2($E$3,$E$5,$B$3:$C$3,$B$5:$C$5,B502,C502)","v":-2.1667852478662253},3.3345045160696656,-1.5332779678536594,3.2553638039852406,{"$f":"ThreePosition_Basic2($E$3,$E$5,$B$3:$C$3,$B$5:$C$5,B502,D502)","v":-2.5409435284126674},2.0654033441313913,-1.8095267836633875,1.8886035376137302]
[247.5,4.319689898685966,{"$f":"Burmester($B$3:$C$3,$B$4:$C$4,$B$5:$C$5,$E$3,$E$4,$E$5,B503)","v":0.94731403582971063},3.309795487150097,{"$f":"ThreePosition_Basic2($E$3,$E$5,$B$3:$C$3,$B$5:$C$5,B503,C503)","v":-2.1724883233023617},3.3361935916692715,-1.5379352316769057,3.2536124842663465,{"$f":"ThreePosition_Basic2($E$3,$E$5,$B$3:$C$3,$B$5:$C$5,B503,D503)","v":-2.5457836711711539},2.06423114170485,-1.8131584268664667,1.8832146726177561]
[248,4.3284165449459371,{"$f":"Burmester($B$3:$C$3,$B$4:$C$4,$B$5:$C$5,$E$3,$E$4,$E$5,B504)","v":0.95528706064840607},3.3159379090306134,{"$f":"ThreePosition_Basic2($E$3,$E$5,$B$3:$C$3,$B$5:$C$5,B504,C504)","v":-2.1781798377691155},3.3379106927697055,-1.5425806480206556,3.2518754370069489,{"$f":"ThreePosition_Basic2($E$3,$E$5,$B$3:$C$3,$B$5:$C$5,B504,D504)","v":-2.5506280862664283},2.0630139480568492,-1.8167877662628467,1.8777546642140368]
[248.5,4.3371431912059091,{"$f":"Burmester($B$3:$C$3,$B$4:$C$4,$B$5:$C$5,$E$3,$E$4,$E$5,B505)","v":0.96319924038829041},3.3221393055283581,{"$f":"ThreePosition_Basic2($E$3,$E$5,$B$3:$C$3,$B$5:$C$5,B505,C505)","v":-2.1838599933474967},3.3396563435330742,-1.5472143853372022,3.2501529841293144,{"$f":"ThreePosition_Basic2($E$3,$E$5,$B$3:$C$3,$B$5:$C$5,B505,D505)","v":-2.5554768961177694},2.0617513655985413,-1.8204148195220737,1.8722226578218146]
[249,4.3458698374658802,{"$f":"Burmester($B$3:$C$3,$B$4:$C$4,$B$5:$C$5,$E$3,$E$4,$E$5,B506)","v":0.97105056918172261},3.3283998103781487,{"$f":"ThreePosition_Basic2($E$3,$E$5,$B$3:$C$3,$B$5:$C$5,B506,C506)","v":-2.1895289937814733},3.3414310682401287,-1.5518366131169832,3.2484454448989002,{"$f":"ThreePosition_Basic2($E$3,$E$5,$B$3:$C$3,$B$5:$C$5,B506,D506)","v":-2.5603302208354166},2.0604429949868601,-1.824039600826604,1.8666177894528266]
[249.5,4.3545964837258522,{"$f":"Burmester($B$3:$C$3,$B$4:$C$4,$B$5:$C$5,$E$3,$E$4,$E$5,B507)","v":0.97884104572349484},3.3347195526380706,{"$f":"ThreePosition_Basic2($E$3,$E$5,$B$3:$C$3,$B$5:$C$5,B507,C507)","v":-2.1951870445089625},3.3432353913451411,-1.5564475019068371,3.2467531359098203,{"$f":"ThreePosition_Basic2($E$3,$E$5,$B$3:$C$3,$B$5:$C$5,B507,D507)","v":-2.5651881782242469},2.0590884351174492,-1.8276621208438297,1.8609391855243267]
[250,4.3633231299858233,{"$f":"Burmester($B$3:$C$3,$B$4:$C$4,$B$5:$C$5,$E$3,$E$4,$E$5,B508)","v":0.98657067333965021},3.3410986566290108,{"$f":"ThreePosition_Basic2($E$3,$E$5,$B$3:$C$3,$B$5:$C$5,B508,C508)","v":-2.2008343526926737},3.3450698375333547,-1.5610472233279649,3.2450763710714048,{"$f":"ThreePosition_Basic2($E$3,$E$5,$B$3:$C$3,$B$5:$C$5,B508,D508)","v":-2.5700508837875722},2.0576872831150581,-1.8312823866972572,1.8551859626645837]
[250.5,4.3720497762457953,{"$f":"Burmester($B$3:$C$3,$B$4:$C$4,$B$5:$C$5,$E$3,$E$4,$E$5,B509)","v":0.99423946005175334},3.3475372418787619,{"$f":"ThreePosition_Basic2($E$3,$E$5,$B$3:$C$3,$B$5:$C$5,B509,C509)","v":-2.206471127250802},3.3469349317811576,-1.5656359500935912,3.2434154615959465,{"$f":"ThreePosition_Basic2($E$3,$E$5,$B$3:$C$3,$B$5:$C$5,B509,D509)","v":-2.5749184507310408},2.056239134321213,-1.8349004019367881,1.849357227510485]
[251,4.3807764225057673,{"$f":"Burmester($B$3:$C$3,$B$4:$C$4,$B$5:$C$5,$E$3,$E$4,$E$5,B510)","v":1.0018474186365462},3.3540354230707092,{"$f":"ThreePosition_Basic2($E$3,$E$5,$B$3:$C$3,$B$5:$C$5,B510,C510)","v":-2.212097578887577},3.3488311994191005,-1.5702138560263312,3.2417707159877347,{"$f":"ThreePosition_Basic2($E$3,$E$5,$B$3:$C$3,$B$5:$C$5,B510,D510)","v":-2.5797909899666998},2.0547435822791136,-1.8385161665081178,1.8434520764970213]
[251.5,4.3895030687657384,{"$f":"Burmester($B$3:$C$3,$B$4:$C$4,$B$5:$C$5,$E$3,$E$4,$E$5,B511)","v":1.0093945666809074},3.360593309997236,{"$f":"ThreePosition_Basic2($E$3,$E$5,$B$3:$C$3,$B$5:$C$5,B511,C511)","v":-2.2177139201236584},3.3507591661979439,-1.5747811160752541,3.2401424400335079,{"$f":"ThreePosition_Basic2($E$3,$E$5,$B$3:$C$3,$B$5:$C$5,B511,D511)","v":-2.5846686101171881},2.053200218715618,-1.8421296767211923,1.8374695956383276]
[252,4.3982297150257104,{"$f":"Burmester($B$3:$C$3,$B$4:$C$4,$B$5:$C$5,$E$3,$E$4,$E$5,B512)","v":1.0168809266320264},3.3672110075179003,{"$f":"ThreePosition_Basic2($E$3,$E$5,$B$3:$C$3,$B$5:$C$5,B512,C512)","v":-2.2233203653263809},3.3527193583578434,-1.5793379063326389,3.2385309367944002,{"$f":"ThreePosition_Basic2($E$3,$E$5,$B$3:$C$3,$B$5:$C$5,B512,D512)","v":-2.5895514175200751},2.0516086335202002,-1.8457409252176928,1.8314088602999714]
[252.5,4.4069563612856815,{"$f":"Burmester($B$3:$C$3,$B$4:$C$4,$B$5:$C$5,$E$3,$E$4,$E$5,B513)","v":1.0243065258427648},3.3738886155224179,{"$f":"ThreePosition_Basic2($E$3,$E$5,$B$3:$C$3,$B$5:$C$5,B513,C513)","v":-2.2289171307398536},3.3547123027008241,-1.5838844040504361,3.2369365065994891,{"$f":"ThreePosition_Basic2($E$3,$E$5,$B$3:$C$3,$B$5:$C$5,B513,D513)","v":-2.5944395162323692},2.0499684147207966,-1.8493499009375443,1.8252689349622124]
[253,4.4156830075456535,{"$f":"Burmester($B$3:$C$3,$B$4:$C$4,$B$5:$C$5,$E$3,$E$4,$E$5,B514)","v":1.0316713966121016},3.3806262288985738,{"$f":"ThreePosition_Basic2($E$3,$E$5,$B$3:$C$3,$B$5:$C$5,B514,C514)","v":-2.2345044345149172},3.3567385266666983,-1.5884207876564203,3.2353594470410543,{"$f":"ThreePosition_Basic2($E$3,$E$5,$B$3:$C$3,$B$5:$C$5,B514,D514)","v":-2.5993330080351678},2.0482791484564191,-1.8529565890843622,1.8190488729738925]
[253.5,4.4244096538056255,{"$f":"Burmester($B$3:$C$3,$B$4:$C$4,$B$5:$C$5,$E$3,$E$4,$E$5,B515)","v":1.0389755762206441},3.3874239375050506,{"$f":"ThreePosition_Basic2($E$3,$E$5,$B$3:$C$3,$B$5:$C$5,B515,C515)","v":-2.2400824967389683},3.3587985584125564,-1.5929472367700548,3.2338000529716311,{"$f":"ThreePosition_Basic2($E$3,$E$5,$B$3:$C$3,$B$5:$C$5,B515,D515)","v":-2.6042319924384705},2.0465404189464311,-1.8565609710898423,1.8127477162966537]
[254,4.4331363000655974,{"$f":"Burmester($B$3:$C$3,$B$4:$C$4,$B$5:$C$5,$E$3,$E$4,$E$5,B516)","v":1.0462191069611448},3.3942818261492569,{"$f":"ThreePosition_Basic2($E$3,$E$5,$B$3:$C$3,$B$5:$C$5,B516,C516)","v":-2.2456515394656438},3.3608929268959704,-1.5974639322180506,3.2322586165029512,{"$f":"ThreePosition_Basic2($E$3,$E$5,$B$3:$C$3,$B$5:$C$5,B516,D516)","v":-2.6091365666861503},2.0447518084563865,-1.8601630245770204,1.806364495239148]
[254.5,4.4418629463255686,{"$f":"Burmester($B$3:$C$3,$B$4:$C$4,$B$5:$C$5,$E$3,$E$4,$E$5,B517)","v":1.0534020361639955},3.4011999745701806,{"$f":"ThreePosition_Basic2($E$3,$E$5,$B$3:$C$3,$B$5:$C$5,B517,C517)","v":-2.2512117867444092},3.3630221619620495,-1.6019710560496554,3.2307354270068598,{"$f":"ThreePosition_Basic2($E$3,$E$5,$B$3:$C$3,$B$5:$C$5,B517,D517)","v":-2.6140468257610765},2.0429128972603396,-1.8637627233223759,1.7998982281809275]
[255,4.4505895925855405,{"$f":"Burmester($B$3:$C$3,$B$4:$C$4,$B$5:$C$5,$E$3,$E$4,$E$5,B518)","v":1.0605244162176519},3.4081784574263065,{"$f":"ThreePosition_Basic2($E$3,$E$5,$B$3:$C$3,$B$5:$C$5,B518,C518)","v":-2.2567634646500294},3.3651867944345031,-1.6064687915516531,3.2292307711183157,{"$f":"ThreePosition_Basic2($E$3,$E$5,$B$3:$C$3,$B$5:$C$5,B518,D518)","v":-2.6189628623903918},2.041023263599512,-1.8673600372167174,1.7933479212856533]
[255.5,4.4593162388455116,{"$f":"Burmester($B$3:$C$3,$B$4:$C$4,$B$5:$C$5,$E$3,$E$4,$E$5,B519)","v":1.0675863045839862},3.4152173442885996,{"$f":"ThreePosition_Basic2($E$3,$E$5,$B$3:$C$3,$B$5:$C$5,B519,C519)","v":-2.2623068013119516},3.367387356210811,-1.6109573232631,3.2277449327405217,{"$f":"ThreePosition_Basic2($E$3,$E$5,$B$3:$C$3,$B$5:$C$5,B519,D519)","v":-2.6238847670509231},2.0390824836372285,-1.8709549322248002,1.7867125682032985]
[256,4.4680428851054836,{"$f":"Burmester($B$3:$C$3,$B$4:$C$4,$B$5:$C$5,$E$3,$E$4,$E$5,B520)","v":1.0745877638085348},3.4223166996386087,{"$f":"ThreePosition_Basic2($E$3,$E$5,$B$3:$C$3,$B$5:$C$5,B520,C520)","v":-2.2678420269436166},3.3696243803616719,-1.615436836989796,3.2262781930522935,{"$f":"ThreePosition_Basic2($E$3,$E$5,$B$3:$C$3,$B$5:$C$5,B520,D520)","v":-2.6288126279747375},2.0370901314100247,-1.8745473703436288,1.7799911497609768]
[256.5,{"$f":"A521*PI()/180","v":4.4767695313654556},{"$f":"Burmester($B$3:$C$3,$B$4:$C$4,$B$5:$C$5,$E$3,$E$4,$E$5,B521)","v":1.081528861525642},3.4294765828716534,{"$f":"ThreePosition_Basic2($E$3,$E$5,$B$3:$C$3,$B$5:$C$5,B521,C521)","v":-2.2733693738717164},3.3718984012348496,-1.6199075198185167,3.2248308305177456,{"$f":"ThreePosition_Basic2($E$3,$E$5,$B$3:$C$3,$B$5:$C$5,B521,D521)","v":-2.6337465311548147},2.0350457787748448,-1.878137309559373,1.7731826336420649]
[257,4.4854961776254267,{"$f":"Burmester($B$3:$C$3,$B$4:$C$4,$B$5:$C$5,$E$3,$E$4,$E$5,B522)","v":1.0884096704584902},3.4366970483051409,{"$f":"ThreePosition_Basic2($E$3,$E$5,$B$3:$C$3,$B$5:$C$5,B522,C522)","v":-2.2788890765654131},3.3742099545635451,-1.6243695601310031,3.2234031208983422,{"$f":"ThreePosition_Basic2($E$3,$E$5,$B$3:$C$3,$B$5:$C$5,B522,D522)","v":-2.6386865603508323},2.0329489953522124,-1.8817247038028408,1.7662859740532086]
[257.5,4.4942228238853987,{"$f":"Burmester($B$3:$C$3,$B$4:$C$4,$B$5:$C$5,$E$3,$E$4,$E$5,B523)","v":1.095230268414038},3.4439781451919727,{"$f":"ThreePosition_Basic2($E$3,$E$5,$B$3:$C$3,$B$5:$C$5,B523,C523)","v":-2.2844013716655587},3.3765595775794459,-1.6288231476177475,3.2219953372674204,{"$f":"ThreePosition_Basic2($E$3,$E$5,$B$3:$C$3,$B$5:$C$5,B523,D523)","v":-2.6436327970950617},2.0307993484653233,-1.8853095029034583,1.7593001113788849]
[258,4.5029494701453698,{"$f":"Burmester($B$3:$C$3,$B$4:$C$4,$B$5:$C$5,$E$3,$E$4,$E$5,B524)","v":1.1019907382728604},3.451319917739037,{"$f":"ThreePosition_Basic2($E$3,$E$5,$B$3:$C$3,$B$5:$C$5,B524,C524)","v":-2.2899064980139063},3.3789478091305529,-1.6332684732915554,3.220607750027213,{"$f":"ThreePosition_Basic2($E$3,$E$5,$B$3:$C$3,$B$5:$C$5,B524,D524)","v":-2.648585320698329},2.0285964030749435,-1.8888916525416513,1.7522239718231025]
[258.5,4.5116761164053418,{"$f":"Burmester($B$3:$C$3,$B$4:$C$4,$B$5:$C$5,$E$3,$E$4,$E$5,B525)","v":1.108691167973924},3.4587224051307883,{"$f":"ThreePosition_Basic2($E$3,$E$5,$B$3:$C$3,$B$5:$C$5,B525,C525)","v":-2.2954046966823842},3.3813751898039492,-1.6377057295009441,3.2192406269284692,{"$f":"ThreePosition_Basic2($E$3,$E$5,$B$3:$C$3,$B$5:$C$5,B525,D525)","v":-2.6535442082560574},2.0263397217100376,-1.8924710941995975,1.7450564670378519]
[259,4.5204027626653129,{"$f":"Burmester($B$3:$C$3,$B$4:$C$4,$B$5:$C$5,$E$3,$E$4,$E$5,B526)","v":1.1153316504943234},3.4661856415578445,{"$f":"ThreePosition_Basic2($E$3,$E$5,$B$3:$C$3,$B$5:$C$5,B526,C526)","v":-2.3008962110024194},3.3838422620536153,-1.6421351099433581,3.2178942330927125,{"$f":"ThreePosition_Basic2($E$3,$E$5,$B$3:$C$3,$B$5:$C$5,B526,D526)","v":-2.6585095346543417},2.0240288643940709,-1.8960477651102359,1.7377964937379333]
[259.5,4.5291294089252849,{"$f":"Burmester($B$3:$C$3,$B$4:$C$4,$B$5:$C$5,$E$3,$E$4,$E$5,B527)","v":1.121912283824013},3.4737096562506102,{"$f":"ThreePosition_Basic2($E$3,$E$5,$B$3:$C$3,$B$5:$C$5,B527,C527)","v":-2.3063812865943709},3.3863495703334294,-1.6465568096782488,3.2165688310371965,{"$f":"ThreePosition_Basic2($E$3,$E$5,$B$3:$C$3,$B$5:$C$5,B527,D527)","v":-2.6634813725760669},2.0216633885668518,-1.8996215982044939,1.7304429333016857]
[260,4.5378560551852569,{"$f":"Burmester($B$3:$C$3,$B$4:$C$4,$B$5:$C$5,$E$3,$E$4,$E$5,B528)","v":1.1284331709355722},3.4812944735178508,{"$f":"ThreePosition_Basic2($E$3,$E$5,$B$3:$C$3,$B$5:$C$5,B528,C528)","v":-2.3118601713970848},3.3888976612354829,-1.6509710251400214,3.2152646807026168,{"$f":"ThreePosition_Basic2($E$3,$E$5,$B$3:$C$3,$B$5:$C$5,B528,D528)","v":-2.6684597925070044},2.0192428490019023,-1.9031925220565959,1.7229946513572674]
[260.5,4.546582701445228,{"$f":"Burmester($B$3:$C$3,$B$4:$C$4,$B$5:$C$5,$E$3,$E$4,$E$5,B529)","v":1.134894419749068},3.4889401127901811,{"$f":"ThreePosition_Basic2($E$3,$E$5,$B$3:$C$3,$B$5:$C$5,B529,C529)","v":-2.3173331156976258},3.39148708363382,-1.6553779541508891,3.2139820394836138,{"$f":"ThreePosition_Basic2($E$3,$E$5,$B$3:$C$3,$B$5:$C$5,B529,D529)","v":-2.6734448627419147},2.0167667977192369,-1.9067604608274287,1.7154504973539964]
[261,4.5553093477052,{"$f":"Burmester($B$3:$C$3,$B$4:$C$4,$B$5:$C$5,$E$3,$E$4,$E$5,B530)","v":1.141296143092053},3.4966465886684275,{"$f":"ThreePosition_Basic2($E$3,$E$5,$B$3:$C$3,$B$5:$C$5,B530,C530)","v":-2.3228003721612032},3.3941183888337618,-1.6597777959336417,3.2127211622621337,{"$f":"ThreePosition_Basic2($E$3,$E$5,$B$3:$C$3,$B$5:$C$5,B530,D530)","v":-2.6784366493905774},2.0142347838934893,-1.9103253342058122,1.7078093041183204]
[261.5,4.564035993965172,{"$f":"Burmester($B$3:$C$3,$B$4:$C$4,$B$5:$C$5,$E$3,$E$4,$E$5,B531)","v":1.1476384586547648},3.5044139109767682,{"$f":"ThreePosition_Basic2($E$3,$E$5,$B$3:$C$3,$B$5:$C$5,B531,C531)","v":-2.3282621958613312},3.3967921307269071,-1.6641707511243564,3.211482301443672,{"$f":"ThreePosition_Basic2($E$3,$E$5,$B$3:$C$3,$B$5:$C$5,B531,D531)","v":-2.683435216383752},2.0116463537573277,-1.9138870573476168,1.7000698873939679]
[262,4.572762640225144,{"$f":"Burmester($B$3:$C$3,$B$4:$C$4,$B$5:$C$5,$E$3,$E$4,$E$5,B532)","v":1.1539214889406151},3.5122420848206102,{"$f":"ThreePosition_Basic2($E$3,$E$5,$B$3:$C$3,$B$5:$C$5,B532,C532)","v":-2.3337188443102845},3.3995088659519448,-1.6685570217850945,3.2102657069964327,{"$f":"ThreePosition_Basic2($E$3,$E$5,$B$3:$C$3,$B$5:$C$5,B532,D532)","v":-2.6884406254790423},2.0090010505000766,-1.9174455408126232,1.6922310453657849]
[262.5,4.5814892864851151,{"$f":"Burmester($B$3:$C$3,$B$4:$C$4,$B$5:$C$5,$E$3,$E$4,$E$5,B533)","v":1.1601453612120243},3.5201311106491087,{"$f":"ThreePosition_Basic2($E$3,$E$5,$B$3:$C$3,$B$5:$C$5,B533,C533)","v":-2.3391705774898663},3.4022691540614245,-1.672936811416589,3.2090716264934636,{"$f":"ThreePosition_Basic2($E$3,$E$5,$B$3:$C$3,$B$5:$C$5,B533,D533)","v":-2.693452936266608},2.0062984141614888,-1.9210006904990062,1.6842915581667841]
[263,4.5902159327450871,{"$f":"Burmester($B$3:$C$3,$B$4:$C$4,$B$5:$C$5,$E$3,$E$4,$E$5,B534)","v":1.1663102074316769},3.5280809843222816,{"$f":"ThreePosition_Basic2($E$3,$E$5,$B$3:$C$3,$B$5:$C$5,B534,C534)","v":-2.3446176578825453},3.405073557694585,-1.6773103249709622,3.2079003051577715,{"$f":"ThreePosition_Basic2($E$3,$E$5,$B$3:$C$3,$B$5:$C$5,B534,D534)","v":-2.6984722061747211},2.0035379815205943,-1.9245524075753502,1.6762501873678866]
[263.5,4.5989425790050582,{"$f":"Burmester($B$3:$C$3,$B$4:$C$4,$B$5:$C$5,$E$3,$E$4,$E$5,B535)","v":1.1724161641993152},3.5360916971825707,{"$f":"ThreePosition_Basic2($E$3,$E$5,$B$3:$C$3,$B$5:$C$5,B535,C535)","v":-2.3500603505030058},3.4079226427563714,-1.6816777688645028,3.2067519859104565,{"$f":"ThreePosition_Basic2($E$3,$E$5,$B$3:$C$3,$B$5:$C$5,B535,D535)","v":-2.7034984904750954},2.0007192859795682,-1.9281005884100622,1.6681056754498533]
[264,4.6076692252650302,{"$f":"Burmester($B$3:$C$3,$B$4:$C$4,$B$5:$C$5,$E$3,$E$4,$E$5,B536)","v":1.17846337268413},3.544163236130832,{"$f":"ThreePosition_Basic2($E$3,$E$5,$B$3:$C$3,$B$5:$C$5,B536,C536)","v":-2.3554989229301566},3.4108169786027931,-1.6860393509905274,3.2056269094218961,{"$f":"ThreePosition_Basic2($E$3,$E$5,$B$3:$C$3,$B$5:$C$5,B536,D536)","v":-2.7085318422879987},1.9978418574425572,-1.9316451244980977,1.6598567452568451]
[264.5,4.6163958715250013,{"$f":"Burmester($B$3:$C$3,$B$4:$C$4,$B$5:$C$5,$E$3,$E$4,$E$5,B537)","v":1.1844519785528744},3.552295583706583,{"$f":"ThreePosition_Basic2($E$3,$E$5,$B$3:$C$3,$B$5:$C$5,B537,C537)","v":-2.3609336453396579},3.4137571382327088,-1.6903952807323717,3.2045253141659815,{"$f":"ThreePosition_Basic2($E$3,$E$5,$B$3:$C$3,$B$5:$C$5,B537,D537)","v":-2.7135723125870665},1.9949052221894044,-1.9351859023848428,1.6515020994310825]
[265,4.6251225177849733,{"$f":"Burmester($B$3:$C$3,$B$4:$C$4,$B$5:$C$5,$E$3,$E$4,$E$5,B538)","v":1.1903821318937802},3.5604887181724747,{"$f":"ThreePosition_Basic2($E$3,$E$5,$B$3:$C$3,$B$5:$C$5,B538,C538)","v":-2.3663647905370011},3.4167436984862172,-1.6947457689765237,3.2034474364774548,{"$f":"ThreePosition_Basic2($E$3,$E$5,$B$3:$C$3,$B$5:$C$5,B538,D538)","v":-2.7186199502038102},1.9919089027442058,-1.938722803587047,1.6430404198279929]
[265.5,4.6338491640449444,{"$f":"Burmester($B$3:$C$3,$B$4:$C$4,$B$5:$C$5,$E$3,$E$4,$E$5,B539)","v":1.1962539871364049},3.5687426136028173,{"$f":"ThreePosition_Basic2($E$3,$E$5,$B$3:$C$3,$B$5:$C$5,B539,C539)","v":-2.3717926339912077},3.4197772402497271,-1.699091028125949,3.2023935106123127,{"$f":"ThreePosition_Basic2($E$3,$E$5,$B$3:$C$3,$B$5:$C$5,B539,D539)","v":-2.7236748018317485},1.9888524177386553,-1.9422557045106594,1.6344703669112888]
[266,4.6425758103049164,{"$f":"Burmester($B$3:$C$3,$B$4:$C$4,$B$5:$C$5,$E$3,$E$4,$E$5,B540)","v":1.2020677029675029},3.5770572399761007,{"$f":"ThreePosition_Basic2($E$3,$E$5,$B$3:$C$3,$B$5:$C$5,B540,C540)","v":-2.3772174538691995},3.4228583486679018,-1.7034312721136331,3.2013637688113517,{"$f":"ThreePosition_Basic2($E$3,$E$5,$B$3:$C$3,$B$5:$C$5,B540,D540)","v":-2.7287369120301626},1.9857352817700997,-1.9457844763654555,1.6257905791273104]
[266.5,4.6513024565648875,{"$f":"Burmester($B$3:$C$3,$B$4:$C$4,$B$5:$C$5,$E$3,$E$4,$E$5,B541)","v":1.2078234422430536},3.5854325632713495,{"$f":"ThreePosition_Basic2($E$3,$E$5,$B$3:$C$3,$B$5:$C$5,B541,C541)","v":-2.3826395310708954},3.42598761336256,-1.7077667164163821,3.2003584413668089,{"$f":"ThreePosition_Basic2($E$3,$E$5,$B$3:$C$3,$B$5:$C$5,B541,D541)","v":-2.7338063232273813},1.9825570052542787,-1.949308985076275,1.6169996722580451]
[267,4.6600291028248595,{"$f":"Burmester($B$3:$C$3,$B$4:$C$4,$B$5:$C$5,$E$3,$E$4,$E$5,B542)","v":1.2135213718965614},3.5938685455682289,{"$f":"ThreePosition_Basic2($E$3,$E$5,$B$3:$C$3,$B$5:$C$5,B542,C542)","v":-2.3880591492650951},3.4291656286587027,-1.7120975780689123,3.1993777566921358,{"$f":"ThreePosition_Basic2($E$3,$E$5,$B$3:$C$3,$B$5:$C$5,B542,D542)","v":-2.73888307572359},1.9793170942726579,-1.9528290911907566,1.6080962387521005]
[267.5,4.6687557490848315,{"$f":"Burmester($B$3:$C$3,$B$4:$C$4,$B$5:$C$5,$E$3,$E$4,$E$5,B543)","v":1.2191616628437285},3.6023651451507588,{"$f":"ThreePosition_Basic2($E$3,$E$5,$B$3:$C$3,$B$5:$C$5,B543,C543)","v":-2.3934765949262071},3.4323929938177988,-1.716424075678268,3.1984219413949062,{"$f":"ThreePosition_Basic2($E$3,$E$5,$B$3:$C$3,$B$5:$C$5,B543,D543)","v":-2.7439672076930974},1.9760150504143239,-1.9563446497833901,1.5990788470329769]
[268,4.6774823953448026,{"$f":"Burmester($B$3:$C$3,$B$4:$C$4,$B$5:$C$5,$E$3,$E$4,$E$5,B544)","v":1.2247444898836726},3.6109223166145092,{"$f":"ThreePosition_Basic2($E$3,$E$5,$B$3:$C$3,$B$5:$C$5,B544,C544)","v":-2.398892157371888},3.4356703132784578,-1.7207464294386066,3.1974912203528412,{"$f":"ThreePosition_Basic2($E$3,$E$5,$B$3:$C$3,$B$5:$C$5,B544,D544)","v":-2.7490587551860188},1.9726503706123764,-1.9598555103557427,1.5899460407839001]
[268.5,4.6862090416047746,{"$f":"Burmester($B$3:$C$3,$B$4:$C$4,$B$5:$C$5,$E$3,$E$4,$E$5,B545)","v":1.2302700315967749},3.6195400109771625,{"$f":"ThreePosition_Basic2($E$3,$E$5,$B$3:$C$3,$B$5:$C$5,B545,C545)","v":-2.4043061288016534},3.4389981969046728,-1.7250648611463848,3.1965858167929868,{"$f":"ThreePosition_Basic2($E$3,$E$5,$B$3:$C$3,$B$5:$C$5,B545,D545)","v":-2.7541577521293314},1.9692225469747624,-1.963361516732689,1.5806963382084662]
[269,4.6949356878647466,{"$f":"Burmester($B$3:$C$3,$B$4:$C$4,$B$5:$C$5,$E$3,$E$4,$E$5,B546)","v":1.2357384702393133},3.6282181757922918,{"$f":"ThreePosition_Basic2($E$3,$E$5,$B$3:$C$3,$B$5:$C$5,B546,C546)","v":-2.4097188043365243},3.4423772602417348,-1.7293795942159877,3.1957059523739981,{"$f":"ThreePosition_Basic2($E$3,$E$5,$B$3:$C$3,$B$5:$C$5,B546,D546)","v":-2.7592642303272359},1.9657310666094947,-1.9668625069544587,1.5713282312663206]
[269.5,4.7036623341247186,{"$f":"Burmester($B$3:$C$3,$B$4:$C$4,$B$5:$C$5,$E$3,$E$4,$E$5,B547)","v":1.2411499916350035},3.6369567552662412,{"$f":"ThreePosition_Basic2($E$3,$E$5,$B$3:$C$3,$B$5:$C$5,B547,C547)","v":-2.4151304820597823},3.4458081247800258,-1.73369085369584,3.1948518472715666,{"$f":"ThreePosition_Basic2($E$3,$E$5,$B$3:$C$3,$B$5:$C$5,B547,D547)","v":-2.764378219460796},1.9621754114441949,-1.970358313164347,1.5618401848830463]
[270,4.7123889803846897,{"$f":"Burmester($B$3:$C$3,$B$4:$C$4,$B$5:$C$5,$E$3,$E$4,$E$5,B548)","v":1.2465047850635873},3.6457556903779653,{"$f":"ThreePosition_Basic2($E$3,$E$5,$B$3:$C$3,$B$5:$C$5,B548,C548)","v":-2.4205414630588979},3.4492914182268204,-1.7379988662850394,3.1940237202669661,{"$f":"ThreePosition_Basic2($E$3,$E$5,$B$3:$C$3,$B$5:$C$5,B548,D548)","v":-2.7694997470867784},1.9585550580399085,-1.9738487614918705,1.5522306361334259]
[270.5,4.7211156266446617,{"$f":"Burmester($B$3:$C$3,$B$4:$C$4,$B$5:$C$5,$E$3,$E$4,$E$5,B549)","v":1.2518030431466141},3.6546149190016832,{"$f":"ThreePosition_Basic2($E$3,$E$5,$B$3:$C$3,$B$5:$C$5,B549,C549)","v":-2.4259520514687027},3.4528277747862708,-1.7423038603505512,3.1932217888387076,{"$f":"ThreePosition_Basic2($E$3,$E$5,$B$3:$C$3,$B$5:$C$5,B549,D549)","v":-2.7746288386356608},1.9548694773991186,-1.9773336719312078,1.5424979933971676]
[271,4.7298422729046328,{"$f":"Burmester($B$3:$C$3,$B$4:$C$4,$B$5:$C$5,$E$3,$E$4,$E$5,B550)","v":1.2570449617305246},3.6635343760322234,{"$f":"ThreePosition_Basic2($E$3,$E$5,$B$3:$C$3,$B$5:$C$5,B550,C550)","v":-2.4313625545158781},3.4564178354477453,-1.7466060659450067,3.1924462692573079,{"$f":"ThreePosition_Basic2($E$3,$E$5,$B$3:$C$3,$B$5:$C$5,B550,D550)","v":-2.7797655174087423},1.9511181347679212,-1.980812858214698,1.5326406354862101]
[271.5,4.7385689191646048,{"$f":"Burmester($B$3:$C$3,$B$4:$C$4,$B$5:$C$5,$E$3,$E$4,$E$5,B551)","v":1.2622307397672095},3.672513993512919,{"$f":"ThreePosition_Basic2($E$3,$E$5,$B$3:$C$3,$B$5:$C$5,B551,C551)","v":-2.4367732825648374},3.4600622482827172,-1.750905714825147,3.1916973766831624,{"$f":"ThreePosition_Basic2($E$3,$E$5,$B$3:$C$3,$B$5:$C$5,B551,D551)","v":-2.7849098045742955},1.9473004894322561,-1.9842861276811941,1.5226569107425774]
[272,4.7472955654245768,{"$f":"Burmester($B$3:$C$3,$B$4:$C$4,$B$5:$C$5,$E$3,$E$4,$E$5,B552)","v":1.2673605791921503},3.6815537007659089,{"$f":"ThreePosition_Basic2($E$3,$E$5,$B$3:$C$3,$B$5:$C$5,B552,C552)","v":-2.4421845491650753},3.4637616687503576,-1.7552030404709562,3.1909753252674973,{"$f":"ThreePosition_Basic2($E$3,$E$5,$B$3:$C$3,$B$5:$C$5,B552,D552)","v":-2.7900617191627166},1.9434159945081666,-1.9877532811390637,1.5125451361058313]
[272.5,4.7560222116845479,{"$f":"Burmester($B$3:$C$3,$B$4:$C$4,$B$5:$C$5,$E$3,$E$4,$E$5,B553)","v":1.2724346848003085},3.6906534245247054,{"$f":"ThreePosition_Basic2($E$3,$E$5,$B$3:$C$3,$B$5:$C$5,B553,C553)","v":-2.447596671100059},3.4675167600120584,-1.7594982781055215,3.1902803282564172,{"$f":"ThreePosition_Basic2($E$3,$E$5,$B$3:$C$3,$B$5:$C$5,B553,D553)","v":-2.7952212780606094},1.9394640967260102,-1.991214112723604,1.5023035961490445]
[273,4.7647488579445199,{"$f":"Burmester($B$3:$C$3,$B$4:$C$4,$B$5:$C$5,$E$3,$E$4,$E$5,B554)","v":1.2774532641198697},3.6998130890689174,{"$f":"ThreePosition_Basic2($E$3,$E$5,$B$3:$C$3,$B$5:$C$5,B554,C554)","v":-2.4530099684377453},3.4713281932550752,-1.7637916647156677,3.1896125980980203,{"$f":"ThreePosition_Basic2($E$3,$E$5,$B$3:$C$3,$B$5:$C$5,B554,D554)","v":-2.8003884960037335},1.9354442362085134,-1.9946684097486256,1.4919305420821545]
[273.5,4.773475504204491,{"$f":"Burmester($B$3:$C$3,$B$4:$C$4,$B$5:$C$5,$E$3,$E$4,$E$5,B555)","v":1.2824165272840129},3.7090326163609375,{"$f":"ThreePosition_Basic2($E$3,$E$5,$B$3:$C$3,$B$5:$C$5,B555,C555)","v":-2.458424764582805},3.4751966480254932,-1.7680834390734124,3.1889723465525788,{"$f":"ThreePosition_Basic2($E$3,$E$5,$B$3:$C$3,$B$5:$C$5,B555,D555)","v":-2.8055633855687718},1.9313558462426497,-1.998115952551982,1.4814241907216077]
[274,4.782202150464463,{"$f":"Burmester($B$3:$C$3,$B$4:$C$4,$B$5:$C$5,$E$3,$E$4,$E$5,B556)","v":1.2873246869008117},3.7183119261845259,{"$f":"ThreePosition_Basic2($E$3,$E$5,$B$3:$C$3,$B$5:$C$5,B556,C556)","v":-2.463841386330635},3.4791228125707598,-1.7723738417582795,3.188359784805781,{"$f":"ThreePosition_Basic2($E$3,$E$5,$B$3:$C$3,$B$5:$C$5,B556,D556)","v":-2.8107459571638498},1.9271983530452141,-2.001556514334772,1.4707827234250166]
[274.5,4.7909287967244341,{"$f":"Burmester($B$3:$C$3,$B$4:$C$4,$B$5:$C$5,$E$3,$E$4,$E$5,B557)","v":1.2921779579214141},3.7276509362850976,{"$f":"ThreePosition_Basic2($E$3,$E$5,$B$3:$C$3,$B$5:$C$5,B557,C557)","v":-2.4692601639232339},3.4831073841919808,-1.7766631151805137,3.18777512358501,{"$f":"ThreePosition_Basic2($E$3,$E$5,$B$3:$C$3,$B$5:$C$5,B557,D557)","v":-2.8159362190177348},1.9229711755220329,-2.0049898609939585,1.4600042849896018]
[275,4.7996554429844061,{"$f":"Burmester($B$3:$C$3,$B$4:$C$4,$B$5:$C$5,$E$3,$E$4,$E$5,B558)","v":1.2969765575066456},3.7370495625116154,{"$f":"ThreePosition_Basic2($E$3,$E$5,$B$3:$C$3,$B$5:$C$5,B558,C558)","v":-2.4746814311070588},3.4871510696062691,-1.7809515036052592,3.187218573278682,{"$f":"ThreePosition_Basic2($E$3,$E$5,$B$3:$C$3,$B$5:$C$5,B558,D558)","v":-2.8211341771676723},1.9186737250207186,-2.0084157509481284,1.4490869825130717]
[275.5,4.8083820892443772,{"$f":"Burmester($B$3:$C$3,$B$4:$C$4,$B$5:$C$5,$E$3,$E$4,$E$5,B559)","v":1.3017207048921398},3.7465077189599407,{"$f":"ThreePosition_Basic2($E$3,$E$5,$B$3:$C$3,$B$5:$C$5,B559,C559)","v":-2.4801055251929096},3.4912545853193455,-1.7852392531777226,3.1866903440586007,{"$f":"ThreePosition_Basic2($E$3,$E$5,$B$3:$C$3,$B$5:$C$5,B559,D559)","v":-2.8263398354457672},1.9143054050768642,-2.0118339349561012,1.438028884215546]
[276,4.8171087355043491,{"$f":"Burmester($B$3:$C$3,$B$4:$C$4,$B$5:$C$5,$E$3,$E$4,$E$5,B560)","v":1.3064106212521485},3.7560253181175276,{"$f":"ThreePosition_Basic2($E$3,$E$5,$B$3:$C$3,$B$5:$C$5,B560,C560)","v":-2.4855327871179709},3.4954186580087088,-1.7895266119493864,3.1861906460053575,{"$f":"ThreePosition_Basic2($E$3,$E$5,$B$3:$C$3,$B$5:$C$5,B560,D560)","v":-2.8315531954638709},1.9098656111536012,-2.0152441559280931,1.4268280182210711]
[276.5,4.8258353817643211,{"$f":"Burmester($B$3:$C$3,$B$4:$C$4,$B$5:$C$5,$E$3,$E$4,$E$5,B561)","v":1.3110465295621432},3.7656022710093158,{"$f":"ThreePosition_Basic2($E$3,$E$5,$B$3:$C$3,$B$5:$C$5,B561,C561)","v":-2.490963561510072},3.4996440249176111,-1.7938138299053055,3.1857196892367505,{"$f":"ThreePosition_Basic2($E$3,$E$5,$B$3:$C$3,$B$5:$C$5,B561,D561)","v":-2.8367742565968785},1.9053537303743828,-2.0186461487291147,1.4154823712971742]
[277,4.8345620280242931,{"$f":"Burmester($B$3:$C$3,$B$4:$C$4,$B$5:$C$5,$E$3,$E$4,$E$5,B562)","v":1.3156286544603386},3.7752384873447196,{"$f":"ThreePosition_Basic2($E$3,$E$5,$B$3:$C$3,$B$5:$C$5,B562,C562)","v":-2.4963981967542876},3.5039314342601653,-1.7981011589925431,3.1852776840392369,{"$f":"ThreePosition_Basic2($E$3,$E$5,$B$3:$C$3,$B$5:$C$5,B562,D562)","v":-2.842003015964397},1.9007691412489152,-2.0220396399742917,1.4039898875508654]
[277.5,4.8432886742842651,{"$f":"Burmester($B$3:$C$3,$B$4:$C$4,$B$5:$C$5,$E$3,$E$4,$E$5,B563)","v":1.3201572221082543},3.7849338756655757,{"$f":"ThreePosition_Basic2($E$3,$E$5,$B$3:$C$3,$B$5:$C$5,B563,C563)","v":-2.5018370450619578},3.5082816456378656,-1.8023888531497907,3.1848648410024074,{"$f":"ThreePosition_Basic2($E$3,$E$5,$B$3:$C$3,$B$5:$C$5,B563,D563)","v":-2.847239468410689},1.8961112133921039,-2.0254243478157532,1.3923484670793913]
[278,4.8520153205442362,{"$f":"Burmester($B$3:$C$3,$B$4:$C$4,$B$5:$C$5,$E$3,$E$4,$E$5,B564)","v":1.324632460050438},3.7946883434949394,{"$f":"ThreePosition_Basic2($E$3,$E$5,$B$3:$C$3,$B$5:$C$5,B564,C564)","v":-2.5072804625422407},3.5126954304678684,-1.8066771683382197,3.1844813711565023,{"$f":"ThreePosition_Basic2($E$3,$E$5,$B$3:$C$3,$B$5:$C$5,B564,D564)","v":-2.8524836064828429},1.8913793072358822,-2.0287999817207507,1.3805559645739574]
[278.5,4.8607419668042082,{"$f":"Burmester($B$3:$C$3,$B$4:$C$4,$B$5:$C$5,$E$3,$E$4,$E$5,B565)","v":1.3290545970734569},3.8045017974866187,{"$f":"ThreePosition_Basic2($E$3,$E$5,$B$3:$C$3,$B$5:$C$5,B565,C565)","v":-2.5127288092762949},3.5171735724233417,-1.8109663625736161,3.1841274861129452,{"$f":"ThreePosition_Basic2($E$3,$E$5,$B$3:$C$3,$B$5:$C$5,B565,D565)","v":-2.8577354204070748},1.8865727737338107,-2.0321662422406215,1.3686101878745673]
[279,4.8694686130641793,{"$f":"Burmester($B$3:$C$3,$B$4:$C$4,$B$5:$C$5,$E$3,$E$4,$E$5,B566)","v":1.3334238630642585},3.814374143575332,{"$f":"ThreePosition_Basic2($E$3,$E$5,$B$3:$C$3,$B$5:$C$5,B566,C566)","v":-2.5181824493941805},3.5217168678862718,-1.8152566959598291,3.1838033982079459,{"$f":"ThreePosition_Basic2($E$3,$E$5,$B$3:$C$3,$B$5:$C$5,B566,D566)","v":-2.862994898063095},1.8816909540582927,-2.0355228207702076,1.356508896474024]
[279.5,4.8781952593241513,{"$f":"Burmester($B$3:$C$3,$B$4:$C$4,$B$5:$C$5,$E$3,$E$4,$E$5,B567)","v":1.3377404888680435},3.8243052871273799,{"$f":"ThreePosition_Basic2($E$3,$E$5,$B$3:$C$3,$B$5:$C$5,B567,C567)","v":-2.5236417511546279},3.5263261264130801,-1.8195484307236234,3.183509320649144,{"$f":"ThreePosition_Basic2($E$3,$E$5,$B$3:$C$3,$B$5:$C$5,B567,D567)","v":-2.8682620249564899},1.8767331792902684,-2.0388693992973614,1.3442497999690199]
[280,4.8869219055841224,{"$f":"Burmester($B$3:$C$3,$B$4:$C$4,$B$5:$C$5,$E$3,$E$4,$E$5,B568)","v":1.342004706145689},3.8342951330917421,{"$f":"ThreePosition_Basic2($E$3,$E$5,$B$3:$C$3,$B$5:$C$5,B568,C568)","v":-2.5291070870277435},3.5310021712134585,-1.8238418312509406,3.1832454676653459,{"$f":"ThreePosition_Basic2($E$3,$E$5,$B$3:$C$3,$B$5:$C$5,B568,D568)","v":-2.8735367841889854},1.8716987701012096,-2.0422056501420522,1.3318305564561628]
[280.5,4.8956485518440944,{"$f":"Burmester($B$3:$C$3,$B$4:$C$4,$B$5:$C$5,$E$3,$E$4,$E$5,B569)","v":1.3462167472309008},3.8443435861514814,{"$f":"ThreePosition_Basic2($E$3,$E$5,$B$3:$C$3,$B$5:$C$5,B569,C569)","v":-2.5345788337807873},3.535745839642813,-1.828137164124652,3.1830120546593252,{"$f":"ThreePosition_Basic2($E$3,$E$5,$B$3:$C$3,$B$5:$C$5,B569,D569)","v":-2.8788191564265793},1.866587036427291,-2.0455312356847086,1.3192487708706735]
[281,4.9043751981040655,{"$f":"Burmester($B$3:$C$3,$B$4:$C$4,$B$5:$C$5,$E$3,$E$4,$E$5,B570)","v":1.3503768449871039},3.8544505508753826,{"$f":"ThreePosition_Basic2($E$3,$E$5,$B$3:$C$3,$B$5:$C$5,B570,C570)","v":-2.5400573725671349},3.5405579837087799,-1.8324346981638358,3.1828092983637681,{"$f":"ThreePosition_Basic2($E$3,$E$5,$B$3:$C$3,$B$5:$C$5,B570,D570)","v":-2.8841091198654043},1.8613972771355101,-2.0488458080832634,1.3065019932653417]
[281.5,4.9131018443640375,{"$f":"Burmester($B$3:$C$3,$B$4:$C$4,$B$5:$C$5,$E$3,$E$4,$E$5,B571)","v":1.354485232664228},3.8646159318697224,{"$f":"ThreePosition_Basic2($E$3,$E$5,$B$3:$C$3,$B$5:$C$5,B571,C571)","v":-2.5455430890185506},3.5454394705922616,-1.8367347044646478,3.1826374170003509,{"$f":"ThreePosition_Basic2($E$3,$E$5,$B$3:$C$3,$B$5:$C$5,B571,D571)","v":-2.8894066501952853},1.8561287796816193,-2.0521490089784682,1.2935877170272472]
[282,4.9218284906240086,{"$f":"Burmester($B$3:$C$3,$B$4:$C$4,$B$5:$C$5,$E$3,$E$4,$E$5,B572)","v":1.3585421437554301},3.8748396339300908,{"$f":"ThreePosition_Basic2($E$3,$E$5,$B$3:$C$3,$B$5:$C$5,B572,C572)","v":-2.5510363733408816},3.5503911831834416,-1.8410374564428249,3.1824966304419875,{"$f":"ThreePosition_Basic2($E$3,$E$5,$B$3:$C$3,$B$5:$C$5,B572,D572)","v":-2.8947117205608586},1.8507808197596332,-2.055440469186931,1.2805033770295804]
[282.5,4.9305551368839806,{"$f":"Burmester($B$3:$C$3,$B$4:$C$4,$B$5:$C$5,$E$3,$E$4,$E$5,B573)","v":1.3625478118538568},3.8851215621931865,{"$f":"ThreePosition_Basic2($E$3,$E$5,$B$3:$C$3,$B$5:$C$5,B573,C573)","v":-2.5565376204133146},3.5554140206333202,-1.845343229877876,3.1823871603782945,{"$f":"ThreePosition_Basic2($E$3,$E$5,$B$3:$C$3,$B$5:$C$5,B573,D573)","v":-2.9000243015202298},1.8453526609427333,-2.0587198083813942,1.2672463477157869]
[283,4.9392817831439526,{"$f":"Burmester($B$3:$C$3,$B$4:$C$4,$B$5:$C$5,$E$3,$E$4,$E$5,B574)","v":1.3665024705094966},3.8954616222885101,{"$f":"ThreePosition_Basic2($E$3,$E$5,$B$3:$C$3,$B$5:$C$5,B574,C574)","v":-2.5620472298913288},3.5605088989212765,-1.8496523029590386,3.1823092304843139,{"$f":"ThreePosition_Basic2($E$3,$E$5,$B$3:$C$3,$B$5:$C$5,B574,D574)","v":-2.9053443610010099},1.8398435543153322,-2.0619866347576314,1.2538139411131004]
[283.5,4.9480084294039237,{"$f":"Burmester($B$3:$C$3,$B$4:$C$4,$B$5:$C$5,$E$3,$E$4,$E$5,B575)","v":1.3704063530862256},3.905859720489878,{"$f":"ThreePosition_Basic2($E$3,$E$5,$B$3:$C$3,$B$5:$C$5,B575,C575)","v":-2.5675656063134618},3.5656767514392196,-1.8539649563330167,3.1822630665925216,{"$f":"ThreePosition_Basic2($E$3,$E$5,$B$3:$C$3,$B$5:$C$5,B575,D575)","v":-2.9106718642536999},1.8342527380960807,-2.0652405446874438,1.2402034047723762]
[284,4.9567350756638957,{"$f":"Burmester($B$3:$C$3,$B$4:$C$4,$B$5:$C$5,$E$3,$E$4,$E$5,B576)","v":1.3742596926190733},3.9163157638667152,{"$f":"ThreePosition_Basic2($E$3,$E$5,$B$3:$C$3,$B$5:$C$5,B576,C576)","v":-2.5730931592120516},3.5709185295929249,-1.858281473153597,3.1822488968681988,{"$f":"ThreePosition_Basic2($E$3,$E$5,$B$3:$C$3,$B$5:$C$5,B576,D576)","v":-2.9160067738022994},1.8285794372515523,-2.068481122357098,1.2264119196309551]
[284.5,4.9654617219238677,{"$f":"Burmester($B$3:$C$3,$B$4:$C$4,$B$5:$C$5,$E$3,$E$4,$E$5,B577)","v":1.378062721671792},3.9268296604350348,{"$f":"ThreePosition_Basic2($E$3,$E$5,$B$3:$C$3,$B$5:$C$5,B577,C577)","v":-2.5786303032280902},3.5762352034211644,-1.8626021391331786,3.1822669519882103,{"$f":"ThreePosition_Basic2($E$3,$E$5,$B$3:$C$3,$B$5:$C$5,B577,D577)","v":-2.9213490493920338},1.8228228631003565,-2.0717079393905689,1.2124365977951475]
[285,4.9741883681838397,{"$f":"Burmester($B$3:$C$3,$B$4:$C$4,$B$5:$C$5,$E$3,$E$4,$E$5,B578)","v":1.381815672194781},3.937401319308075,{"$f":"ThreePosition_Basic2($E$3,$E$5,$B$3:$C$3,$B$5:$C$5,B578,C578)","v":-2.5841774582303367},3.5816277622332873,-1.8669272425962851,3.1823174653232567,{"$f":"ThreePosition_Basic2($E$3,$E$5,$B$3:$C$3,$B$5:$C$5,B578,D578)","v":-2.9266986479341512},1.8169822129074384,-2.0749205544569431,1.1982744802387293]
[285.5,4.9829150144438108,{"$f":"Burmester($B$3:$C$3,$B$4:$C$4,$B$5:$C$5,$E$3,$E$4,$E$5,B579)","v":1.3855187753833911},3.9480306508465466,{"$f":"ThreePosition_Basic2($E$3,$E$5,$B$3:$C$3,$B$5:$C$5,B579,C579)","v":-2.5897350494388434},3.5870972152659211,-1.8712570745351091,3.1824006731236669,{"$f":"ThreePosition_Basic2($E$3,$E$5,$B$3:$C$3,$B$5:$C$5,B579,D579)","v":-2.9320555234476116},1.8110566694682035,-2.0781185128612107,1.1839225344135935]
[286,4.9916416607037828,{"$f":"Burmester($B$3:$C$3,$B$4:$C$4,$B$5:$C$5,$E$3,$E$4,$E$5,B580)","v":1.3891722615366939},3.958717566808422,{"$f":"ThreePosition_Basic2($E$3,$E$5,$B$3:$C$3,$B$5:$C$5,B580,C580)","v":-2.595303507553075},3.5926445923595258,-1.8755919286671787,3.1825168147088152,{"$f":"ThreePosition_Basic2($E$3,$E$5,$B$3:$C$3,$B$5:$C$5,B580,D580)","v":-2.93741962699765},1.8050454006822574,-2.0813013461177698,1.1693776517686025]
[286.5,5.0003683069637539,{"$f":"Burmester($B$3:$C$3,$B$4:$C$4,$B$5:$C$5,$E$3,$E$4,$E$5,B581)","v":1.3927763599167133},3.9694619804982474,{"$f":"ThreePosition_Basic2($E$3,$E$5,$B$3:$C$3,$B$5:$C$5,B581,C581)","v":-2.600883268884763},3.5982709446555377,-1.8799321014951786,3.1826661326602377,{"$f":"ThreePosition_Basic2($E$3,$E$5,$B$3:$C$3,$B$5:$C$5,B581,D581)","v":-2.9427909066310378},1.7989475591163502,-2.0844685715058038,1.154636645172344]
[287,5.0090949532237259,{"$f":"Burmester($B$3:$C$3,$B$4:$C$4,$B$5:$C$5,$E$3,$E$4,$E$5,B582)","v":1.3963312986081609},3.9802638069159633,{"$f":"ThreePosition_Basic2($E$3,$E$5,$B$3:$C$3,$B$5:$C$5,B582,C582)","v":-2.6064747754956743},3.6039773453149224,-1.8842778923690005,3.1828488730185578,{"$f":"ThreePosition_Basic2($E$3,$E$5,$B$3:$C$3,$B$5:$C$5,B582,D582)","v":-2.9481693073079525},1.7927622815562643,-2.0876196916057097,1.1396962462353499]
[287.5,5.017821599483697,{"$f":"Burmester($B$3:$C$3,$B$4:$C$4,$B$5:$C$5,$E$3,$E$4,$E$5,B583)","v":1.3998373043787296},3.9911229629051466,{"$f":"ThreePosition_Basic2($E$3,$E$5,$B$3:$C$3,$B$5:$C$5,B583,C583)","v":-2.6120784753404935},3.6097648902589303,-1.8886296035501149,3.1830652854842842,{"$f":"ThreePosition_Basic2($E$3,$E$5,$B$3:$C$3,$B$5:$C$5,B583,D583)","v":-2.9535547708303698},1.7864886885472573,-2.0907541938157497,1.1245531025270639]
[288,5.026548245743669,{"$f":"Burmester($B$3:$C$3,$B$4:$C$4,$B$5:$C$5,$E$3,$E$4,$E$5,B584)","v":1.4032946025399178},4.0020393673007364,{"$f":"ThreePosition_Basic2($E$3,$E$5,$B$3:$C$3,$B$5:$C$5,B584,C584)","v":-2.6176948224149781},3.6156346989329684,-1.8929875402782956,3.1833156236226281,{"$f":"ThreePosition_Basic2($E$3,$E$5,$B$3:$C$3,$B$5:$C$5,B584,D584)","v":-2.958947235766809},1.7801258839226652,-2.0938715498479414,1.1092037746825132]
[288.5,{"$f":"A585*PI()/180","v":5.035274892003641},{"$f":"Burmester($B$3:$C$3,$B$4:$C$4,$B$5:$C$5,$E$3,$E$4,$E$5,B585)","v":1.4067034168084469},4.0130129410761404,{"$f":"ThreePosition_Basic2($E$3,$E$5,$B$3:$C$3,$B$5:$C$5,B585,C585)","v":-2.6233242769095959},3.6215879150944894,-1.8973520108407964,3.1836001450724285,{"$f":"ThreePosition_Basic2($E$3,$E$5,$B$3:$C$3,$B$5:$C$5,B585,D585)","v":-2.964346637373366},1.7736729543203285,-2.0969712152022884,1.0936447333934998]
[289,5.0440015382636121,{"$f":"Burmester($B$3:$C$3,$B$4:$C$4,$B$5:$C$5,$E$3,$E$4,$E$5,B586)","v":1.4100639691682451},4.0240436074897818,{"$f":"ThreePosition_Basic2($E$3,$E$5,$B$3:$C$3,$B$5:$C$5,B586,C586)","v":-2.628967305368846},3.6276257076258607,-1.901723326644043,3.183919111759308,{"$f":"ThreePosition_Basic2($E$3,$E$5,$B$3:$C$3,$B$5:$C$5,B586,D586)","v":-2.9697529075108489},1.7671289686863849,-2.1000526286182701,1.0778723562786867]
[289.5,5.0527281845235841,{"$f":"Burmester($B$3:$C$3,$B$4:$C$4,$B$5:$C$5,$E$3,$E$4,$E$5,B587)","v":1.4133764797330239},4.0351312922310525,{"$f":"ThreePosition_Basic2($E$3,$E$5,$B$3:$C$3,$B$5:$C$5,B587,C587)","v":-2.6346243808564722},3.6337492713732567,-1.9061018022879201,3.184272790113214,{"$f":"ThreePosition_Basic2($E$3,$E$5,$B$3:$C$3,$B$5:$C$5,B587,D587)","v":-2.975165974557938},1.7604929777660108,-2.1031152115025593,1.0618829246267127]
[290,5.0614548307835552,{"$f":"Burmester($B$3:$C$3,$B$4:$C$4,$B$5:$C$5,$E$3,$E$4,$E$5,B588)","v":1.4166411666094363},4.0462759235656485,{"$f":"ThreePosition_Basic2($E$3,$E$5,$B$3:$C$3,$B$5:$C$5,B588,C588)","v":-2.6402959831267774},3.6399598280126062,-1.9104877556427242,3.1846614512904541,{"$f":"ThreePosition_Basic2($E$3,$E$5,$B$3:$C$3,$B$5:$C$5,B588,D588)","v":-2.9805857633202009},1.753764013580664,-2.1061583673318172,1.0456726200061448]
[290.5,5.0701814770435272,{"$f":"Burmester($B$3:$C$3,$B$4:$C$4,$B$5:$C$5,$E$3,$E$4,$E$5,B589)","v":1.41985824576081},4.057477432480356,{"$f":"ThreePosition_Basic2($E$3,$E$5,$B$3:$C$3,$B$5:$C$5,B589,C589)","v":-2.6459825988022851},3.6462586269437582,-1.9148815079288739,3.1850853714004059,{"$f":"ThreePosition_Basic2($E$3,$E$5,$B$3:$C$3,$B$5:$C$5,B589,D589)","v":-2.9860121949348351},1.7469410888913257,-2.1091814810293528,1.0292375207356401]
[291,5.0789081233034983,{"$f":"Burmester($B$3:$C$3,$B$4:$C$4,$B$5:$C$5,$E$3,$E$4,$E$5,B590)","v":1.4230279308714451},4.0687357528272319,{"$f":"ThreePosition_Basic2($E$3,$E$5,$B$3:$C$3,$B$5:$C$5,B590,C590)","v":-2.6516847215579769},3.6526469462140123,-1.919283383799461,3.1855448317370367,{"$f":"ThreePosition_Basic2($E$3,$E$5,$B$3:$C$3,$B$5:$C$5,B590,D590)","v":-2.9914451867709939},1.7400231966472695,-2.1121839183144187,1.0125735982074253]
[291.5,5.0876347695634703,{"$f":"Burmester($B$3:$C$3,$B$4:$C$4,$B$5:$C$5,$E$3,$E$4,$E$5,B591)","v":1.4261504332114587},4.0800508214672515,{"$f":"ThreePosition_Basic2($E$3,$E$5,$B$3:$C$3,$B$5:$C$5,B591,C591)","v":-2.6574028523123427},3.6591260934722909,-1.9236937114257122,3.1860401190154239,{"$f":"ThreePosition_Basic2($E$3,$E$5,$B$3:$C$3,$B$5:$C$5,B591,D591)","v":-2.9968846523255332},1.7330093094197945,-2.1151650250227569,0.99567671305665884]
[292,5.0963614158234423,{"$f":"Burmester($B$3:$C$3,$B$4:$C$4,$B$5:$C$5,$E$3,$E$4,$E$5,B592)","v":1.4292259615021434},4.0914225784134048,{"$f":"ThreePosition_Basic2($E$3,$E$5,$B$3:$C$3,$B$5:$C$5,B592,C592)","v":-2.6631374994255257},3.6656974069552324,-1.9281128225854767,3.1865715256134441,{"$f":"ThreePosition_Basic2($E$3,$E$5,$B$3:$C$3,$B$5:$C$5,B592,D592)","v":-3.0023305011140407},1.725898378820407,-2.1181241263970292,0.97854261116895458]
[292.5,5.1050880620834143,{"$f":"Burmester($B$3:$C$3,$B$4:$C$4,$B$5:$C$5,$E$3,$E$4,$E$5,B593)","v":1.4322547217818284},4.1028509669732927,{"$f":"ThreePosition_Basic2($E$3,$E$5,$B$3:$C$3,$B$5:$C$5,B593,C593)","v":-2.6688891789048177},3.6723622565066045,-1.9325410527548184,3.1871393498188354,{"$f":"ThreePosition_Basic2($E$3,$E$5,$B$3:$C$3,$B$5:$C$5,B593,D593)","v":-3.0077826385569688},1.7186893349028332,-2.121060526345611,0.9611669195177498]
[293,5.1138147083433854,{"$f":"Burmester($B$3:$C$3,$B$4:$C$4,$B$5:$C$5,$E$3,$E$4,$E$5,B594)","v":1.4352369172721839},4.1143359338912582,{"$f":"ThreePosition_Basic2($E$3,$E$5,$B$3:$C$3,$B$5:$C$5,B594,C594)","v":-2.6746584146177814},3.6791220446314541,-1.9369787412028006,3.1877438960818116,{"$f":"ThreePosition_Basic2($E$3,$E$5,$B$3:$C$3,$B$5:$C$5,B594,D594)","v":-3.0132409658606942},1.711381085548265,-2.1239735066681531,0.94354514182279703]
[293.5,5.1225413546033574,{"$f":"Burmester($B$3:$C$3,$B$4:$C$4,$B$5:$C$5,$E$3,$E$4,$E$5,B595)","v":1.4381727482449524},4.1258774294900808,{"$f":"ThreePosition_Basic2($E$3,$E$5,$B$3:$C$3,$B$5:$C$5,B595,C595)","v":-2.6804457385133253},3.6859782075865657,-1.9414262310895971,3.1883854752734959,{"$f":"ThreePosition_Basic2($E$3,$E$5,$B$3:$C$3,$B$5:$C$5,B595,D595)","v":-3.018705379893365},1.7039725158332,-2.1268623262462825,0.92567265402049981]
[294,5.1312680008633293,{"$f":"Burmester($B$3:$C$3,$B$4:$C$4,$B$5:$C$5,$E$3,$E$4,$E$5,B596)","v":1.4410624118890354},4.1374754078122757,{"$f":"ThreePosition_Basic2($E$3,$E$5,$B$3:$C$3,$B$5:$C$5,B596,C596)","v":-2.6862516908509964},3.6929322165087677,-1.9458838695679854,3.1890644049503374,{"$f":"ThreePosition_Basic2($E$3,$E$5,$B$3:$C$3,$B$5:$C$5,B596,D596)","v":-3.0241757730552923},1.696462487379198,-2.1297262201976155,0.90754469953627426]
[294.5,5.1399946471233005,{"$f":"Burmester($B$3:$C$3,$B$4:$C$4,$B$5:$C$5,$E$3,$E$4,$E$5,B597)","v":1.4439061021779065},4.1491298267610732,{"$f":"ThreePosition_Basic2($E$3,$E$5,$B$3:$C$3,$B$5:$C$5,B597,C597)","v":-2.6920768204388539},3.699985578582826,-1.9503520078883756,3.1897810096248085,{"$f":"ThreePosition_Basic2($E$3,$E$5,$B$3:$C$3,$B$5:$C$5,B597,D597)","v":-3.0296520331437478},1.6888498376838472,-2.1325643989912368,0.88915638434848032]
[295,5.1487212933832724,{"$f":"Burmester($B$3:$C$3,$B$4:$C$4,$B$5:$C$5,$E$3,$E$4,$E$5,B598)","v":1.4467040097372816},4.1608406482411073,{"$f":"ThreePosition_Basic2($E$3,$E$5,$B$3:$C$3,$B$5:$C$5,B598,C598)","v":-2.6979216848802503},3.7071398382506722,-1.954831001507465,3.1905356210426072,{"$f":"ThreePosition_Basic2($E$3,$E$5,$B$3:$C$3,$B$5:$C$5,B598,D598)","v":-3.0351340432119445},1.6811333794321761,-2.1353760475226524,0.87050267183285102]
[295.5,5.1574479396432436,{"$f":"Burmester($B$3:$C$3,$B$4:$C$4,$B$5:$C$5,$E$3,$E$4,$E$5,B599)","v":1.4494563217129794},4.1726078382988803,{"$f":"ThreePosition_Basic2($E$3,$E$5,$B$3:$C$3,$B$5:$C$5,B599,C599)","v":-2.7037868508298621},3.714396578463838,-1.9593212102006348,3.1913285784666487,{"$f":"ThreePosition_Basic2($E$3,$E$5,$B$3:$C$3,$B$5:$C$5,B599,D599)","v":-3.0406216814219853},1.6733118997877878,-2.1381603241460825,0.85157837737572128]
[296,5.1661745859032155,{"$f":"Burmester($B$3:$C$3,$B$4:$C$4,$B$5:$C$5,$E$3,$E$4,$E$5,B600)","v":1.4521632216389078},4.1844313672630999,{"$f":"ThreePosition_Basic2($E$3,$E$5,$B$3:$C$3,$B$5:$C$5,B600,C600)","v":-2.7096728942593651},3.7217574219810725,-1.96382299817822,3.1921602289681248,{"$f":"ThreePosition_Basic2($E$3,$E$5,$B$3:$C$3,$B$5:$C$5,B600,D600)","v":-3.0461148208915634},1.6653841596628067,-2.1409163596618548,0.83237816274346532]
[296.5,5.1749012321631866,{"$f":"Burmester($B$3:$C$3,$B$4:$C$4,$B$5:$C$5,$E$3,$E$4,$E$5,B601)","v":1.4548248893051046},4.1963112098849091,{"$f":"ThreePosition_Basic2($E$3,$E$5,$B$3:$C$3,$B$5:$C$5,B601,C601)","v":-2.7155804007331383},3.7292240327132054,-1.9683367342057845,3.1930309277249385,{"$f":"ThreePosition_Basic2($E$3,$E$5,$B$3:$C$3,$B$5:$C$5,B601,D601)","v":-3.0516133295342129},1.6573488929658744,-2.1436432562565497,0.81289653019499852]
[297,5.1836278784231586,{"$f":"Burmester($B$3:$C$3,$B$4:$C$4,$B$5:$C$5,$E$3,$E$4,$E$5,B602)","v":1.4574415006257437},4.2082473454781422,{"$f":"ThreePosition_Basic2($E$3,$E$5,$B$3:$C$3,$B$5:$C$5,B602,C602)","v":-2.7215099656943917},3.736798117117452,-1.9728627917285089,3.1939410383278304,{"$f":"ThreePosition_Basic2($E$3,$E$5,$B$3:$C$3,$B$5:$C$5,B602,D602)","v":-3.0571170698928296},1.6492048058272164,-2.1463400863933217,0.79312781632313101]
[297.5,5.1923545246831297,{"$f":"Burmester($B$3:$C$3,$B$4:$C$4,$B$5:$C$5,$E$3,$E$4,$E$5,B603)","v":1.4600132275070297},4.22023975805965,{"$f":"ThreePosition_Basic2($E$3,$E$5,$B$3:$C$3,$B$5:$C$5,B603,C603)","v":-2.7274621947621815},3.7444814256434409,-1.9774015489998686,3.1948909330945199,{"$f":"ThreePosition_Basic2($E$3,$E$5,$B$3:$C$3,$B$5:$C$5,B603,D603)","v":-3.062625898966242},1.6409505757998741,-2.1490058916497379,0.77306618560984885]
[298,5.2010811709431017,{"$f":"Burmester($B$3:$C$3,$B$4:$C$4,$B$5:$C$5,$E$3,$E$4,$E$5,B604)","v":1.4625402377148782},4.2322884364898128,{"$f":"ThreePosition_Basic2($E$3,$E$5,$B$3:$C$3,$B$5:$C$5,B604,C604)","v":-2.7334377040397406},3.752275754233418,-1.9819533892147176,3.1958809933922363,{"$f":"ThreePosition_Basic2($E$3,$E$5,$B$3:$C$3,$B$5:$C$5,B604,D604)","v":-3.0681396680285768},1.6325848510360845,-2.1516396815002818,0.75270562367949889]
[298.5,5.2098078172030728,{"$f":"Burmester($B$3:$C$3,$B$4:$C$4,$B$5:$C$5,$E$3,$E$4,$E$5,B605)","v":1.4650226947422829},4.2443933746133249,{"$f":"ThreePosition_Basic2($E$3,$E$5,$B$3:$C$3,$B$5:$C$5,B605,C605)","v":-2.7394371204345953},3.7601829458791536,-1.9865187006469267,3.1969116099689869,{"$f":"ThreePosition_Basic2($E$3,$E$5,$B$3:$C$3,$B$5:$C$5,B605,D605)","v":-3.073658222441098},1.6241062494377627,-2.1542404320404307,0.73203993023292335]
[299,5.2185344634630448,{"$f":"Burmester($B$3:$C$3,$B$4:$C$4,$B$5:$C$5,$E$3,$E$4,$E$5,B606)","v":1.4674607576762873},4.2565545714003479,{"$f":"ThreePosition_Basic2($E$3,$E$5,$B$3:$C$3,$B$5:$C$5,B606,C606)","v":-2.745461081991015},3.7682048922382947,-1.9910978767917764,3.1979831832939829,{"$f":"ThreePosition_Basic2($E$3,$E$5,$B$3:$C$3,$B$5:$C$5,B606,D606)","v":-3.0791814014563292},1.6155133577800009,-2.1568070846491709,0.71106271164440471]
[299.5,5.2272611097230168,{"$f":"Burmester($B$3:$C$3,$B$4:$C$4,$B$5:$C$5,$E$3,$E$4,$E$5,B607)","v":1.4698545810644132},4.268772031088151,{"$f":"ThreePosition_Basic2($E$3,$E$5,$B$3:$C$3,$B$5:$C$5,B607,C607)","v":-2.7515102382352543},3.7763435353129435,-1.9956913165132062,3.1990961239075939,{"$f":"ThreePosition_Basic2($E$3,$E$5,$B$3:$C$3,$B$5:$C$5,B607,D607)","v":-3.0847090380140436},1.6068047308064188,-2.1593385445863849,0.68976737320216586]
[300,5.2359877559829888,{"$f":"Burmester($B$3:$C$3,$B$4:$C$4,$B$5:$C$5,$E$3,$E$4,$E$5,B608)","v":1.4722043147804609},4.2810457633233598,{"$f":"ThreePosition_Basic2($E$3,$E$5,$B$3:$C$3,$B$5:$C$5,B608,C608)","v":-2.7575852505342069},3.7846008691935356,-2.0002994241961551,3.2002508527813069,{"$f":"ThreePosition_Basic2($E$3,$E$5,$B$3:$C$3,$B$5:$C$5,B608,D608)","v":-3.0902409585289106},1.5979788902951342,-2.1618336795215329,0.6681471109717928]
[300.5,5.2447144022429608,{"$f":"Burmester($B$3:$C$3,$B$4:$C$4,$B$5:$C$5,$E$3,$E$4,$E$5,B609)","v":1.4745101038895438},4.2933757833049047,{"$f":"ThreePosition_Basic2($E$3,$E$5,$B$3:$C$3,$B$5:$C$5,B609,C609)","v":-2.7636867924680093},3.7929789418711475,-2.0049226099041277,3.2014478016881274,{"$f":"ThreePosition_Basic2($E$3,$E$5,$B$3:$C$3,$B$5:$C$5,B609,D609)","v":-3.0957769826694115},1.5890343240941149,-2.1642913179896759,0.64619490326069917]
[301,5.2534410485029319,{"$f":"Burmester($B$3:$C$3,$B$4:$C$4,$B$5:$C$5,$E$3,$E$4,$E$5,B610)","v":1.4767720885122226},4.3057621119278373,{"$f":"ThreePosition_Basic2($E$3,$E$5,$B$3:$C$3,$B$5:$C$5,B610,C610)","v":-2.7698155502172352},3.8014798571215858,-2.009561289542205,3.2026874135838943,{"$f":"ThreePosition_Basic2($E$3,$E$5,$B$3:$C$3,$B$5:$C$5,B610,D610)","v":-3.101316923127706},1.5799694851245372,-2.1667102477706597,0.62390350166015651]
[301.5,5.2621676947629039,{"$f":"Burmester($B$3:$C$3,$B$4:$C$4,$B$5:$C$5,$E$3,$E$4,$E$5,B611)","v":1.478990403687622},4.3182047759281161,{"$f":"ThreePosition_Basic2($E$3,$E$5,$B$3:$C$3,$B$5:$C$5,B611,C611)","v":-2.7759722229653327},3.8101057764648081,-2.0142158850256937,3.2039701430000296,{"$f":"ThreePosition_Basic2($E$3,$E$5,$B$3:$C$3,$B$5:$C$5,B611,D611)","v":-3.1068605853800788},1.5707827903507392,-2.1690892141870259,0.60126542163988139]
[302,5.270894341022875,{"$f":"Burmester($B$3:$C$3,$B$4:$C$4,$B$5:$C$5,$E$3,$E$4,$E$5,B612)","v":1.4811651792353577},4.3307038080285096,{"$f":"ThreePosition_Basic2($E$3,$E$5,$B$3:$C$3,$B$5:$C$5,B612,C612)","v":-2.7821575233169522},3.8188589212034092,-2.0188868244545954,3.2052964564482576,{"$f":"ThreePosition_Basic2($E$3,$E$5,$B$3:$C$3,$B$5:$C$5,B612,D612)","v":-3.1124077674376069},1.5614726197153213,-2.1714269183158907,0.57827293266848878]
[302.5,5.279620987282847,{"$f":"Burmester($B$3:$C$3,$B$4:$C$4,$B$5:$C$5,$E$3,$E$4,$E$5,B613)","v":1.4832965396161522},4.3432592470857871,{"$f":"ThreePosition_Basic2($E$3,$E$5,$B$3:$C$3,$B$5:$C$5,B613,C613)","v":-2.7883721777329407},3.8277415745441203,-2.0235745422941656,3.2066668328378345,{"$f":"ThreePosition_Basic2($E$3,$E$5,$B$3:$C$3,$B$5:$C$5,B613,D613)","v":-3.11795825958662},1.5520373150377731,-2.1737220151096786,0.55491804783115373]
[303,5.2883476335428181,{"$f":"Burmester($B$3:$C$3,$B$4:$C$4,$B$5:$C$5,$E$3,$E$4,$E$5,B614)","v":1.4853846037909553},4.3558711382393156,{"$f":"ThreePosition_Basic2($E$3,$E$5,$B$3:$C$3,$B$5:$C$5,B614,C614)","v":-2.7946169269827097},3.836756083806498,-2.0282794795617267,3.2080817639058994,{"$f":"ThreePosition_Basic2($E$3,$E$5,$B$3:$C$3,$B$5:$C$5,B614,D614)","v":-3.1235118441185641},1.5424751788750255,-2.1759731114203169,0.53119251291398428]
[303.5,5.2970742798027901,{"$f":"Burmester($B$3:$C$3,$B$4:$C$4,$B$5:$C$5,$E$3,$E$4,$E$5,B615)","v":1.4874294850784362},4.3685395330612522,{"$f":"ThreePosition_Basic2($E$3,$E$5,$B$3:$C$3,$B$5:$C$5,B615,C615)","v":-2.8008925266148359},3.8459048627232475,-2.0330020840200493,3.2095417546615619,{"$f":"ThreePosition_Basic2($E$3,$E$5,$B$3:$C$3,$B$5:$C$5,B615,D615)","v":-3.129068295048842},1.5327844733421914,-2.1781787639210766,0.50708779492233802]
[304,5.3058009260627612,{"$f":"Burmester($B$3:$C$3,$B$4:$C$4,$B$5:$C$5,$E$3,$E$4,$E$5,B616)","v":1.4894312910106313},4.3812644897084869,{"$f":"ThreePosition_Basic2($E$3,$E$5,$B$3:$C$3,$B$5:$C$5,B616,C616)","v":-2.8071997474466888},3.8551903938368133,-2.0377428103774813,3.2110473238443684,{"$f":"ThreePosition_Basic2($E$3,$E$5,$B$3:$C$3,$B$5:$C$5,B616,D616)","v":-3.1346273778241325},1.5229634188916468,-2.1803374769198052,0.48259506999805479]
[304.5,5.3145275723227332,{"$f":"Burmester($B$3:$C$3,$B$4:$C$4,$B$5:$C$5,$E$3,$E$4,$E$5,B617)","v":1.4913901231866042},4.3940460730765416,{"$f":"ThreePosition_Basic2($E$3,$E$5,$B$3:$C$3,$B$5:$C$5,B617,C617)","v":-2.8135393760740119},3.8646152309972424,-2.0425021204951297,3.2125990043978536,{"$f":"ThreePosition_Basic2($E$3,$E$5,$B$3:$C$3,$B$5:$C$5,B617,D617)","v":-3.1401888490177297},1.5130101930485413,-2.1824477000569082,0.45770521069801862]
[305,5.3232542185827052,{"$f":"Burmester($B$3:$C$3,$B$4:$C$4,$B$5:$C$5,$E$3,$E$4,$E$5,B618)","v":1.4933060771239115},4.4068843549555545,{"$f":"ThreePosition_Basic2($E$3,$E$5,$B$3:$C$3,$B$5:$C$5,B618,C618)","v":-2.8199122154014189},3.8741820019665338,-2.04728048360138,3.2141973439588982,{"$f":"ThreePosition_Basic2($E$3,$E$5,$B$3:$C$3,$B$5:$C$5,B618,D618)","v":-3.1457524560124179},1.502922929100744,-2.1845078258809765,0.43240877259384258]
[305.5,5.3319808648426763,{"$f":"Burmester($B$3:$C$3,$B$4:$C$4,$B$5:$C$5,$E$3,$E$4,$E$5,B619)","v":1.4951792421076755},4.4197794141886151,{"$f":"ThreePosition_Basic2($E$3,$E$5,$B$3:$C$3,$B$5:$C$5,B619,C619)","v":-2.8263190851947688},3.8838934111350403,-2.05207837651401,3.2158429053636439,{"$f":"ThreePosition_Basic2($E$3,$E$5,$B$3:$C$3,$B$5:$C$5,B619,D619)","v":-3.1513179366703015},1.4926997147410239,-2.1865161872943393,0.40669598014938324]
[306,5.3407075111026483,{"$f":"Burmester($B$3:$C$3,$B$4:$C$4,$B$5:$C$5,$E$3,$E$4,$E$5,B620)","v":1.4970097010370591},4.432731336832604,{"$f":"ThreePosition_Basic2($E$3,$E$5,$B$3:$C$3,$B$5:$C$5,B620,C620)","v":-2.8327608226565175},3.8937522423558257,-2.0568962838702367,3.2175362671707894,{"$f":"ThreePosition_Basic2($E$3,$E$5,$B$3:$C$3,$B$5:$C$5,B620,D620)","v":-3.1568850189890671},1.4823385906592728,-2.1884710548603787,0.38055671182975415]
[306.5,5.3494341573626194,{"$f":"Burmester($B$3:$C$3,$B$4:$C$4,$B$5:$C$5,$E$3,$E$4,$E$5,B621)","v":1.4987975302689265},4.445740216321763,{"$f":"ThreePosition_Basic2($E$3,$E$5,$B$3:$C$3,$B$5:$C$5,B621,C621)","v":-2.8392382830251419},3.9037613619032205,-2.061734698364996,3.2192780242031134,{"$f":"ThreePosition_Basic2($E$3,$E$5,$B$3:$C$3,$B$5:$C$5,B621,D621)","v":-3.1624534207440744},1.4718375490823763,-2.1903706339637745,0.35398048439200136]
[307,5.3581608036225914,{"$f":"Burmester($B$3:$C$3,$B$4:$C$4,$B$5:$C$5,$E$3,$E$4,$E$5,B622)","v":1.500542799458459},4.4588061536342369,{"$f":"ThreePosition_Basic2($E$3,$E$5,$B$3:$C$3,$B$5:$C$5,B622,C622)","v":-2.8457523401998435},3.9139237215622016,-2.0665941209978103,3.2210687881080959,{"$f":"ThreePosition_Basic2($E$3,$E$5,$B$3:$C$3,$B$5:$C$5,B622,D622)","v":-3.1680228491156535},1.461194532259197,-2.1922130618141953,0.32695643630380555]
[307.5,5.3668874498825634,{"$f":"Burmester($B$3:$C$3,$B$4:$C$4,$B$5:$C$5,$E$3,$E$4,$E$5,B623)","v":1.5022455713964957},4.4719292574617917,{"$f":"ThreePosition_Basic2($E$3,$E$5,$B$3:$C$3,$B$5:$C$5,B623,C623)","v":-2.8523038873917956},3.9242423618556521,-2.0714750613285973,3.222909187938626,{"$f":"ThreePosition_Basic2($E$3,$E$5,$B$3:$C$3,$B$5:$C$5,B623,D623)","v":-3.1735930003009538},1.4504074308880699,-2.1939964042832587,0.299473310232657]
[308,5.3756140961425354,{"$f":"Burmester($B$3:$C$3,$B$4:$C$4,$B$5:$C$5,$E$3,$E$4,$E$5,B624)","v":1.5039059018433363},4.4851096443829768,{"$f":"ThreePosition_Basic2($E$3,$E$5,$B$3:$C$3,$B$5:$C$5,B624,C624)","v":-2.8588938378032323},3.9347204154169555,-2.076378037742773,3.2247998707547452,{"$f":"ThreePosition_Basic2($E$3,$E$5,$B$3:$C$3,$B$5:$C$5,B624,D624)","v":-3.1791635591096656},1.439474082483964,-2.1957186525638042,0.2715194345433809]
[308.5,5.3843407424025065,{"$f":"Burmester($B$3:$C$3,$B$4:$C$4,$B$5:$C$5,$E$3,$E$4,$E$5,B625)","v":1.5055238393587644},4.4983474390399767,{"$f":"ThreePosition_Basic2($E$3,$E$5,$B$3:$C$3,$B$5:$C$5,B625,C625)","v":-2.8655231253358493},3.945361110515885,-2.0813035777260804,3.2267415022475108,{"$f":"ThreePosition_Basic2($E$3,$E$5,$B$3:$C$3,$B$5:$C$5,B625,D625)","v":-3.1847341985428832},1.4283922696823999,-2.1973777196396833,0.24308270373724072]
[309,5.3930673886624785,{"$f":"Burmester($B$3:$C$3,$B$4:$C$4,$B$5:$C$5,$E$3,$E$4,$E$5,B626)","v":1.5070994251280057},4.5116427743194265,{"$f":"ThreePosition_Basic2($E$3,$E$5,$B$3:$C$3,$B$5:$C$5,B626,C626)","v":-2.8721927053299918},3.9561677747462234,-2.0862522181495424,3.2287347673860709,{"$f":"ThreePosition_Basic2($E$3,$E$5,$B$3:$C$3,$B$5:$C$5,B626,D626)","v":-3.1903045793543243},1.4171597184769502,-2.1989714365533271,0.21415055776050873]
[309.5,5.4017940349224505,{"$f":"Burmester($B$3:$C$3,$B$4:$C$4,$B$5:$C$5,$E$3,$E$4,$E$5,B627)","v":1.5086326927833325},4.5249957915374592,{"$f":"ThreePosition_Basic2($E$3,$E$5,$B$3:$C$3,$B$5:$C$5,B627,C627)","v":-2.8789035553361946},3.9671438388840827,-2.091224505564945,3.2307803710891312,{"$f":"ThreePosition_Basic2($E$3,$E$5,$B$3:$C$3,$B$5:$C$5,B627,D627)","v":-3.1958743495931321},1.4057740963870688,-2.2004975484574372,0.18470996010485496]
[310,5.4105206811824216,{"$f":"Burmester($B$3:$C$3,$B$4:$C$4,$B$5:$C$5,$E$3,$E$4,$E$5,B628)","v":1.5101236682210359},4.5384066406292938,{"$f":"ThreePosition_Basic2($E$3,$E$5,$B$3:$C$3,$B$5:$C$5,B628,C628)","v":-2.8856566759208397},3.9782928409264846,-2.0962209965113838,3.2328790389220359,{"$f":"ThreePosition_Basic2($E$3,$E$5,$B$3:$C$3,$B$5:$C$5,B628,D628)","v":-3.2014431441273881},1.3942330105527025,-2.2019537104359652,0.15474737461555943]
[310.5,5.4192473274423936,{"$f":"Burmester($B$3:$C$3,$B$4:$C$4,$B$5:$C$5,$E$3,$E$4,$E$5,B629)","v":1.5115723694134267},4.551875480343675,{"$f":"ThreePosition_Basic2($E$3,$E$5,$B$3:$C$3,$B$5:$C$5,B629,C629)","v":-2.8924530915076674},3.9896184303203905,-2.1012422578332877,3.235031517820802,{"$f":"ThreePosition_Basic2($E$3,$E$5,$B$3:$C$3,$B$5:$C$5,B629,D629)","v":-3.2070105841474206},1.3825340057520046,-2.2033374830784309,0.12424874091693439]
[311,5.4279739737023647,{"$f":"Burmester($B$3:$C$3,$B$4:$C$4,$B$5:$C$5,$E$3,$E$4,$E$5,B630)","v":1.5129788062155498},4.5654024784424614,{"$f":"ThreePosition_Basic2($E$3,$E$5,$B$3:$C$3,$B$5:$C$5,B630,C630)","v":-2.8992938512570783},4.0011243723929653,-2.1062888670104742,3.2372385768444469,{"$f":"ThreePosition_Basic2($E$3,$E$5,$B$3:$C$3,$B$5:$C$5,B630,D630)","v":-3.2125762766479959},1.3706745623382484,-2.2046463277903392,9.319944835696603E-2]
[311.5,5.4367006199623367,{"$f":"Burmester($B$3:$C$3,$B$4:$C$4,$B$5:$C$5,$E$3,$E$4,$E$5,B631)","v":1.5143429801662811},4.5789878119057352,{"$f":"ThreePosition_Basic2($E$3,$E$5,$B$3:$C$3,$B$5:$C$5,B631,C631)","v":-2.9061800299852782},4.0128145529946613,-2.111361412500778,3.2395010079570947,{"$f":"ThreePosition_Basic2($E$3,$E$5,$B$3:$C$3,$B$5:$C$5,B631,D631)","v":-3.2181398138883699},1.3586520940917375,-2.2058776018210304,6.1584308365032037E-2]
[312,5.4454272662223078,{"$f":"Burmester($B$3:$C$3,$B$4:$C$4,$B$5:$C$5,$E$3,$E$4,$E$5,B632)","v":1.5156648842834042},4.5926316671427712,{"$f":"ThreePosition_Basic2($E$3,$E$5,$B$3:$C$3,$B$5:$C$5,B632,C632)","v":-2.9131127291253898},4.0246929833674221,-2.1164604940957878,3.2418196268414246,{"$f":"ThreePosition_Basic2($E$3,$E$5,$B$3:$C$3,$B$5:$C$5,B632,D632)","v":-3.2237007728291025},1.346463945982344,-2.207028552988719,2.9387525107919865E-2]
[312.5,5.4541539124822798,{"$f":"Burmester($B$3:$C$3,$B$4:$C$4,$B$5:$C$5,$E$3,$E$4,$E$5,B633)","v":1.5169445028523398},4.6063342402092449,{"$f":"ThreePosition_Basic2($E$3,$E$5,$B$3:$C$3,$B$5:$C$5,B633,C633)","v":-2.9200930777328891},4.0367638052511108,-2.1215867232903514,3.2441952737450479,{"$f":"ThreePosition_Basic2($E$3,$E$5,$B$3:$C$3,$B$5:$C$5,B633,D633)","v":-3.2292587145445868},1.3341073918379818,-2.2080963140809304,-3.4073356804178445E-3]
[313,5.4628805587422509,{"$f":"Burmester($B$3:$C$3,$B$4:$C$4,$B$5:$C$5,$E$3,$E$4,$E$5,B634)","v":1.5181818112080789},4.6200957370310682,{"$f":"ThreePosition_Basic2($E$3,$E$5,$B$3:$C$3,$B$5:$C$5,B634,C634)","v":-2.9271222335377778},4.0490312962422133,-2.1267407236664275,3.2466288143616078,{"$f":"ThreePosition_Basic2($E$3,$E$5,$B$3:$C$3,$B$5:$C$5,B634,D634)","v":-3.2348131836100236},1.321579631914078,-2.2090778969065279,-3.6817379830313302E-2]
[313.5,5.4716072050022229,{"$f":"Burmester($B$3:$C$3,$B$4:$C$4,$B$5:$C$5,$E$3,$E$4,$E$5,B635)","v":1.5193767755099439},4.6339163736352758,{"$f":"ThreePosition_Basic2($E$3,$E$5,$B$3:$C$3,$B$5:$C$5,B635,C635)","v":-2.9342013840461534},4.0614998754197602,-2.1319231312920159,3.2491211407483851,{"$f":"ThreePosition_Basic2($E$3,$E$5,$B$3:$C$3,$B$5:$C$5,B635,D635)","v":-3.2403637074616687},1.3088777903587339,-2.2099701859736798,-7.0860419975741662E-2]
[314,5.480333851262194,{"$f":"Burmester($B$3:$C$3,$B$4:$C$4,$B$5:$C$5,$E$3,$E$4,$E$5,B636)","v":1.5205293525086967},4.6477963763883849,{"$f":"ThreePosition_Basic2($E$3,$E$5,$B$3:$C$3,$B$5:$C$5,B636,C636)","v":-2.94133174769392},4.074174109254467,-2.1371345951358176,3.2516731722823922,{"$f":"ThreePosition_Basic2($E$3,$E$5,$B$3:$C$3,$B$5:$C$5,B636,D636)","v":-3.2459097957289336},1.2959989125680349,-2.2107699317657259,-0.1055550130607521]
[314.5,5.489060497522166,{"$f":"Burmester($B$3:$C$3,$B$4:$C$4,$B$5:$C$5,$E$3,$E$4,$E$5,B637)","v":1.5216394893055571},4.661735982242714,{"$f":"ThreePosition_Basic2($E$3,$E$5,$B$3:$C$3,$B$5:$C$5,B637,C637)","v":-2.948514575055686},4.0870587178182118,-2.1423757774984384,3.2542858566570021,{"$f":"ThreePosition_Basic2($E$3,$E$5,$B$3:$C$3,$B$5:$C$5,B637,D637)","v":-3.2514509395369959},1.2829399624255042,-2.2114737435846301,-0.14092050028632408]
[315,5.497787143782138,{"$f":"Burmester($B$3:$C$3,$B$4:$C$4,$B$5:$C$5,$E$3,$E$4,$E$5,B638)","v":1.522707123102633},4.6757354389910972,{"$f":"ThreePosition_Basic2($E$3,$E$5,$B$3:$C$3,$B$5:$C$5,B638,C638)","v":-2.9557511501119662},4.1001585813121233,-2.1476473544608861,3.2569601709213112,{"$f":"ThreePosition_Basic2($E$3,$E$5,$B$3:$C$3,$B$5:$C$5,B638,D638)","v":-3.2569866107783905},1.2696978194194333,-2.2120780819289414,-0.17697704968608341]
[315.5,5.5065137900421099,{"$f":"Burmester($B$3:$C$3,$B$4:$C$4,$B$5:$C$5,$E$3,$E$4,$E$5,B639)","v":1.5237321809442346},4.6897950055305611,{"$f":"ThreePosition_Basic2($E$3,$E$5,$B$3:$C$3,$B$5:$C$5,B639,C639)","v":-2.963042791578149},4.1134787469328984,-2.1529500163512383,3.2596971225645555,{"$f":"ThreePosition_Basic2($E$3,$E$5,$B$3:$C$3,$B$5:$C$5,B639,D639)","v":-3.2625162613520073},1.256269275631303,-2.2125792503702533,-0.21374570153642969]
[316,5.5152404363020811,{"$f":"Burmester($B$3:$C$3,$B$4:$C$4,$B$5:$C$5,$E$3,$E$4,$E$5,B640)","v":1.5247145794485482},4.7039149521354542,{"$f":"ThreePosition_Basic2($E$3,$E$5,$B$3:$C$3,$B$5:$C$5,B640,C640)","v":-2.9703908542988202},4.1270244360982984,-2.158284468230351,3.2624977506480439,{"$f":"ThreePosition_Basic2($E$3,$E$5,$B$3:$C$3,$B$5:$C$5,B640,D640)","v":-3.2680393223678101},1.2426510325881852,-2.2129733868889572,-0.25124841682502885]
[316.5,5.523967082562053,{"$f":"Burmester($B$3:$C$3,$B$4:$C$4,$B$5:$C$5,$E$3,$E$4,$E$5,B641)","v":1.5256542245290776},4.7180955607406325,{"$f":"ThreePosition_Basic2($E$3,$E$5,$B$3:$C$3,$B$5:$C$5,B641,C641)","v":-2.9777967307113671},4.1408010520543721,-2.1636514303975769,3.2653631269872605,{"$f":"ThreePosition_Basic2($E$3,$E$5,$B$3:$C$3,$B$5:$C$5,B641,D641)","v":-3.273555203315488},1.2288396979714324,-2.2132564546264466,-0.28950812902230449]
[317,5.532693728822025,{"$f":"Burmester($B$3:$C$3,$B$4:$C$4,$B$5:$C$5,$E$3,$E$4,$E$5,B642)","v":1.5265510111052591},4.7323371252352668,{"$f":"ThreePosition_Basic2($E$3,$E$5,$B$3:$C$3,$B$5:$C$5,B642,C642)","v":-2.985261852383017},4.1548141878884506,-2.1690516389174914,3.2682943573868735,{"$f":"ThreePosition_Basic2($E$3,$E$5,$B$3:$C$3,$B$5:$C$5,B642,D642)","v":-3.2790632911951496},1.2148317821735746,-2.2134242320070534,-0.32854879942306869]
[317.5,5.5414203750819961,{"$f":"Burmester($B$3:$C$3,$B$4:$C$4,$B$5:$C$5,$E$3,$E$4,$E$5,B643)","v":1.5274048228015871},4.7466399517679445,{"$f":"ThreePosition_Basic2($E$3,$E$5,$B$3:$C$3,$B$5:$C$5,B643,C643)","v":-2.9927876916257539},4.1690696349738898,-2.1744858461686709,3.2712925829316744,{"$f":"ThreePosition_Basic2($E$3,$E$5,$B$3:$C$3,$B$5:$C$5,B643,D643)","v":-3.28456294960802},1.2006236946947106,-2.2134723021785603,-0.3683954763506474]
[318,5.5501470213419681,{"$f":"Burmester($B$3:$C$3,$B$4:$C$4,$B$5:$C$5,$E$3,$E$4,$E$5,B644)","v":1.5282155316346062},4.7610043590637128,{"$f":"ThreePosition_Basic2($E$3,$E$5,$B$3:$C$3,$B$5:$C$5,B644,C644)","v":-3.0003757631939525},4.183573391874333,-2.1799548214157127,3.2743589813365772,{"$f":"ThreePosition_Basic2($E$3,$E$5,$B$3:$C$3,$B$5:$C$5,B644,D644)","v":-3.2900535178050347},1.1862117403691184,-2.213396041715388,-0.40907435854349972]
[318.5,5.5588736676019392,{"$f":"Burmester($B$3:$C$3,$B$4:$C$4,$B$5:$C$5,$E$3,$E$4,$E$5,B645)","v":1.528982997687004},4.7754306787537768,{"$f":"ThreePosition_Basic2($E$3,$E$5,$B$3:$C$3,$B$5:$C$5,B645,C645)","v":-3.0080276260697789},4.1983316737373428,-2.1854593514056231,3.277494768359023,{"$f":"ThreePosition_Basic2($E$3,$E$5,$B$3:$C$3,$B$5:$C$5,B645,D645)","v":-3.2955343096910084},1.1715921154122493,-2.213190608523151,-0.45061286307501081]
[319,5.5676003138619112,{"$f":"Burmester($B$3:$C$3,$B$4:$C$4,$B$5:$C$5,$E$3,$E$4,$E$5,B646)","v":1.5297070687680894},4.7899192557186252,{"$f":"ThreePosition_Basic2($E$3,$E$5,$B$3:$C$3,$B$5:$C$5,B646,C646)","v":-3.0157448853419466},4.2133509222096386,-2.1910002409899185,3.2807011992774289,{"$f":"ThreePosition_Basic2($E$3,$E$5,$B$3:$C$3,$B$5:$C$5,B646,D646)","v":-3.3010046127819583},1.1567609032774564,-2.2128509288773506,-0.49303969819144489]
[319.5,5.5763269601218823,{"$f":"Burmester($B$3:$C$3,$B$4:$C$4,$B$5:$C$5,$E$3,$E$4,$E$5,B647)","v":1.5303875800598152},4.8044704484453469,{"$f":"ThreePosition_Basic2($E$3,$E$5,$B$3:$C$3,$B$5:$C$5,B647,C647)","v":-3.0235291941836859},4.2286378159084297,-2.1965783137737596,3.2839795704394423,{"$f":"ThreePosition_Basic2($E$3,$E$5,$B$3:$C$3,$B$5:$C$5,B647,D647)","v":-3.3064636871130362},1.1417140703112489,-2.2123716835224787,-0.53638494149062255]
[320,5.5850536063818543,{"$f":"Burmester($B$3:$C$3,$B$4:$C$4,$B$5:$C$5,$E$3,$E$4,$E$5,B648)","v":1.5310243537475001},4.8190846294000407,{"$f":"ThreePosition_Basic2($E$3,$E$5,$B$3:$C$3,$B$5:$C$5,B648,C648)","v":-3.0313822559363133},4.2441992814861766,-2.2021944127935695,3.2873312208841212,{"$f":"ThreePosition_Basic2($E$3,$E$5,$B$3:$C$3,$B$5:$C$5,B648,D648)","v":-3.3119107640942458},1.1264474611948692,-2.2117472927503057,-0.58068012390637969]
[320.5,{"$f":"A649*PI()/180","v":5.5937802526418263},{"$f":"Burmester($B$3:$C$3,$B$4:$C$4,$B$5:$C$5,$E$3,$E$4,$E$5,B649)","v":1.531617198634347},4.8337621854161572,{"$f":"ThreePosition_Basic2($E$3,$E$5,$B$3:$C$3,$B$5:$C$5,B649,C649)","v":-3.0393058263052404},4.2600425053288866,-2.2078494012246974,3.2907575340423674,{"$f":"ThreePosition_Basic2($E$3,$E$5,$B$3:$C$3,$B$5:$C$5,B649,D649)","v":-3.3173450453110425},1.110956794159357,-2.2109719003681754,-0.6259583200104184]
[321,5.6025068989017974,{"$f":"Burmester($B$3:$C$3,$B$4:$C$4,$B$5:$C$5,$E$3,$E$4,$E$5,B650)","v":1.5321659097387665},4.8485035180997933,{"$f":"ThreePosition_Basic2($E$3,$E$5,$B$3:$C$3,$B$5:$C$5,B650,C650)","v":-3.0473017156757582},4.276174945931273,-2.2135441631207158,3.2942599395202725,{"$f":"ThreePosition_Basic2($E$3,$E$5,$B$3:$C$3,$B$5:$C$5,B650,D650)","v":-3.3227657012666367},1.0952376559601364,-2.2100393564588483,-0.67225424519582089]
[321.5,5.6112335451617694,{"$f":"Burmester($B$3:$C$3,$B$4:$C$4,$B$5:$C$5,$E$3,$E$4,$E$5,B651)","v":1.5326702678735173},4.8633090442529134,{"$f":"ThreePosition_Basic2($E$3,$E$5,$B$3:$C$3,$B$5:$C$5,B651,C651)","v":-3.0553717915565812},4.2926043469955379,-2.2192796041861635,3.2978399149703481,{"$f":"ThreePosition_Basic2($E$3,$E$5,$B$3:$C$3,$B$5:$C$5,B651,D651)","v":-3.3281718700627425},1.0792854965963072,-2.2089431988235209,-0.71960436036472886]
[322,5.6199601914217405,{"$f":"Burmester($B$3:$C$3,$B$4:$C$4,$B$5:$C$5,$E$3,$E$4,$E$5,B652)","v":1.5331300392055223},4.8781791963155907,{"$f":"ThreePosition_Basic2($E$3,$E$5,$B$3:$C$3,$B$5:$C$5,B652,C652)","v":-3.0635179811596487},4.309338751304244,-2.2250566525845401,3.3014989880559491,{"$f":"ThreePosition_Basic2($E$3,$E$5,$B$3:$C$3,$B$5:$C$5,B652,D652)","v":-3.3335626560150531},1.0630956237586822,-2.2076766329880391,-0.76804698480802469]
[322.5,5.6286868376817125,{"$f":"Burmester($B$3:$C$3,$B$4:$C$4,$B$5:$C$5,$E$3,$E$4,$E$5,B653)","v":1.5335449747952283},4.8931144228284635,{"$f":"ThreePosition_Basic2($E$3,$E$5,$B$3:$C$3,$B$5:$C$5,B653,C653)","v":-3.071742274125445},4.3263865154218992,-2.2308762597835585,3.3052387385145634,{"$f":"ThreePosition_Basic2($E$3,$E$5,$B$3:$C$3,$B$5:$C$5,B653,D653)","v":-3.3389371281996847},1.0466631969893696,-2.2062325106397909,-0.81762241803826341]
[323,5.6374134839416845,{"$f":"Burmester($B$3:$C$3,$B$4:$C$4,$B$5:$C$5,$E$3,$E$4,$E$5,B654)","v":1.5339148101142557},4.9081151889165682,{"$f":"ThreePosition_Basic2($E$3,$E$5,$B$3:$C$3,$B$5:$C$5,B654,C654)","v":-3.0800467254037982},4.3437563252843292,-2.2367394014397886,3.3090608003261073,{"$f":"ThreePosition_Basic2($E$3,$E$5,$B$3:$C$3,$B$5:$C$5,B654,D654)","v":-3.3442943189265311},1.029983221534613,-2.2046033063485995,-0.86837307141874431]
[323.5,5.6461401302016565,{"$f":"Burmester($B$3:$C$3,$B$4:$C$4,$B$5:$C$5,$E$3,$E$4,$E$5,B655)","v":1.5342392645400083},4.9231819767959459,{"$f":"ThreePosition_Basic2($E$3,$E$5,$B$3:$C$3,$B$5:$C$5,B655,C655)","v":-3.0884334583009174},4.3614572127397793,-2.2426470783249339,3.3129668639926928,{"$f":"ThreePosition_Basic2($E$3,$E$5,$B$3:$C$3,$B$5:$C$5,B655,D655)","v":-3.3496332221349956},1.0130505418709626,-2.2027810924086539,-0.92034361052421021]
[324,5.6548667764616276,{"$f":"Burmester($B$3:$C$3,$B$4:$C$4,$B$5:$C$5,$E$3,$E$4,$E$5,B656)","v":1.5345180408258332},4.9383152863043547,{"$f":"ThreePosition_Basic2($E$3,$E$5,$B$3:$C$3,$B$5:$C$5,B656,C656)","v":-3.0969046677043317},4.3794985731110918,-2.248600317296181,3.3169586789369081,{"$f":"ThreePosition_Basic2($E$3,$E$5,$B$3:$C$3,$B$5:$C$5,B656,D656)","v":-3.3549527917075568},0.99585983488358254,-2.2007575116209392,-0.97358110927195085]
[324.5,5.6635934227215996,{"$f":"Burmester($B$3:$C$3,$B$4:$C$4,$B$5:$C$5,$E$3,$E$4,$E$5,B657)","v":1.534750824545221},4.9535156354576486,{"$f":"ThreePosition_Basic2($E$3,$E$5,$B$3:$C$3,$B$5:$C$5,B657,C657)","v":-3.1054626234983402},4.3978901838541775,-2.2546001723132059,3.3210380560261266,{"$f":"ThreePosition_Basic2($E$3,$E$5,$B$3:$C$3,$B$5:$C$5,B657,D657)","v":-3.3602519396959858},0.97840560267366683,-2.1985237478150061,-1.0281352169791194]
[325,5.6723200689815707,{"$f":"Burmester($B$3:$C$3,$B$4:$C$4,$B$5:$C$5,$E$3,$E$4,$E$5,B658)","v":1.5349372835084205},4.9687835610333817,{"$f":"ThreePosition_Basic2($E$3,$E$5,$B$3:$C$3,$B$5:$C$5,B658,C658)","v":-3.1141096741836347},4.4166422243943746,-2.2606477255046169,3.325206870230887,{"$f":"ThreePosition_Basic2($E$3,$E$5,$B$3:$C$3,$B$5:$C$5,B658,D658)","v":-3.3655295344548684},0.96068216497034686,-2.1960704938863636,-1.0840583396335659]
[325.5,5.6810467152415427,{"$f":"Burmester($B$3:$C$3,$B$4:$C$4,$B$5:$C$5,$E$3,$E$4,$E$5,B659)","v":1.535077067149742},4.9841196191833994,{"$f":"ThreePosition_Basic2($E$3,$E$5,$B$3:$C$3,$B$5:$C$5,B659,C659)","v":-3.1228482507159327},4.4357652972294828,-2.2667440882867962,3.3294670634260495,{"$f":"ThreePosition_Basic2($E$3,$E$5,$B$3:$C$3,$B$5:$C$5,B659,D659)","v":-3.3707843986765798},0.94268365112028918,-2.1933879170997823,-1.141405836814777]
[326,5.6897733615015138,{"$f":"Burmester($B$3:$C$3,$B$4:$C$4,$B$5:$C$5,$E$3,$E$4,$E$5,B660)","v":1.5351698058837018},4.9995243860772156,{"$f":"ThreePosition_Basic2($E$3,$E$5,$B$3:$C$3,$B$5:$C$5,B660,C660)","v":-3.1316808705796824},4.455270450395906,-2.2728904025383301,3.3338206473440319,{"$f":"ThreePosition_Basic2($E$3,$E$5,$B$3:$C$3,$B$5:$C$5,B660,D660)","v":-3.3760153073214587},0.92440399162633913,-2.1904656213797034,-1.2002362358696521]
[326.5,5.6985000077614867,{"$f":"Burmester($B$3:$C$3,$B$4:$C$4,$B$5:$C$5,$E$3,$E$4,$E$5,B661)","v":1.5352151104280085},5.0149984585782059,{"$f":"ThreePosition_Basic2($E$3,$E$5,$B$3:$C$3,$B$5:$C$5,B661,C661)","v":-3.1406101421143808},4.4751692014030073,-2.2790878418334679,3.3382697066901867,{"$f":"ThreePosition_Basic2($E$3,$E$5,$B$3:$C$3,$B$5:$C$5,B661,D661)","v":-3.3812209854364412},0.90583690920396309,-2.187292606275701,-1.2606114651395703]
[327,5.7072266540214578,{"$f":"Burmester($B$3:$C$3,$B$4:$C$4,$B$5:$C$5,$E$3,$E$4,$E$5,B662)","v":1.5352125710912645},5.0305424549546673,{"$f":"ThreePosition_Basic2($E$3,$E$5,$B$3:$C$3,$B$5:$C$5,B662,C662)","v":-3.1496387691124488},4.4954735627501226,-2.2853376127382354,3.342816402431136,{"$f":"ThreePosition_Basic2($E$3,$E$5,$B$3:$C$3,$B$5:$C$5,B662,D662)","v":-3.3864001058548951},0.88697590932200454,-2.1838572222534598,-1.322597108251923]
[327.5,5.7159533002814289,{"$f":"Burmester($B$3:$C$3,$B$4:$C$4,$B$5:$C$5,$E$3,$E$4,$E$5,B663)","v":1.5351617570231038},5.0461570156280988,{"$f":"ThreePosition_Basic2($E$3,$E$5,$B$3:$C$3,$B$5:$C$5,B663,C663)","v":-3.158769555709446},4.5161960691511567,-2.2916409561732047,3.3474629752677343,{"$f":"ThreePosition_Basic2($E$3,$E$5,$B$3:$C$3,$B$5:$C$5,B663,D663)","v":-3.3915512867698765},0.86781427019120905,-2.1801471219187762,-1.3862626817371875]
[328,5.7246799465414,{"$f":"Burmester($B$3:$C$3,$B$4:$C$4,$B$5:$C$5,$E$3,$E$4,$E$5,B664)","v":1.5350622154242766},5.0618428039610945,{"$f":"ThreePosition_Basic2($E$3,$E$5,$B$3:$C$3,$B$5:$C$5,B664,C664)","v":-3.1680054115891285},4.5373498066030216,-2.2979991488471141,3.3522117493052095,{"$f":"ThreePosition_Basic2($E$3,$E$5,$B$3:$C$3,$B$5:$C$5,B664,D664)","v":-3.396673089172265},0.84834503216118684,-2.1761492067332373,-1.4516819385140409]
[328.5,5.7334065928013729,{"$f":"Burmester($B$3:$C$3,$B$4:$C$4,$B$5:$C$5,$E$3,$E$4,$E$5,B665)","v":1.5349134707140697},5.0776005070875012,{"$f":"ThreePosition_Basic2($E$3,$E$5,$B$3:$C$3,$B$5:$C$5,B665,C665)","v":-3.1773493575280116},4.5589484434470684,-2.3044135047659404,3.3570651359341515,{"$f":"ThreePosition_Basic2($E$3,$E$5,$B$3:$C$3,$B$5:$C$5,B665,D665)","v":-3.4017640141448386},0.82856098648301069,-2.1718495687246602,-1.5189332001078082]
[329,5.742133239061344,{"$f":"Burmester($B$3:$C$3,$B$4:$C$4,$B$5:$C$5,$E$3,$E$4,$E$5,B666)","v":1.5347150236521869},5.0934308367876797,{"$f":"ThreePosition_Basic2($E$3,$E$5,$B$3:$C$3,$B$5:$C$5,B666,C666)","v":-3.1868045313062905},4.5810062635864623,-2.3108853768223234,3.36202563793697,{"$f":"ThreePosition_Basic2($E$3,$E$5,$B$3:$C$3,$B$5:$C$5,B666,D666)","v":-3.4068225000022698},0.80845466339106509,-2.1672334266311415,-1.5880997208361665]
[329.5,5.7508598853213151,{"$f":"Burmester($B$3:$C$3,$B$4:$C$4,$B$5:$C$5,$E$3,$E$4,$E$5,B667)","v":1.5344663504120175},5.1093345304119495,{"$f":"ThreePosition_Basic2($E$3,$E$5,$B$3:$C$3,$B$5:$C$5,B667,C667)","v":-3.1963741940145347},4.6035382020382203,-2.3174161584706532,3.3670958538357643,{"$f":"ThreePosition_Basic2($E$3,$E$5,$B$3:$C$3,$B$5:$C$5,B667,D667)","v":-3.4118469192665186},0.78801831945370837,-2.1622850558446221,-1.6592700876198001]
[330,5.7595865315812871,{"$f":"Burmester($B$3:$C$3,$B$4:$C$4,$B$5:$C$5,$E$3,$E$4,$E$5,B668)","v":1.5341669016020032},5.1253123518554693,{"$f":"ThreePosition_Basic2($E$3,$E$5,$B$3:$C$3,$B$5:$C$5,B668,C668)","v":-3.2060617367883428},4.6265598830156938,-2.324007285493574,3.3722784824988139,{"$f":"ThreePosition_Basic2($E$3,$E$5,$B$3:$C$3,$B$5:$C$5,B668,D668)","v":-3.4168355754660444},0.7672439241379746,-2.1569877114354319,-1.732538659562084]
[330.5,5.7683131778412591,{"$f":"Burmester($B$3:$C$3,$B$4:$C$4,$B$5:$C$5,$E$3,$E$4,$E$5,B669)","v":1.5338161012314873},5.1413650925881624,{"$f":"ThreePosition_Basic2($E$3,$E$5,$B$3:$C$3,$B$5:$C$5,B669,C669)","v":-3.2158706880061492},4.6500876607565145,-2.3306602378660211,3.3775763280243165,{"$f":"ThreePosition_Basic2($E$3,$E$5,$B$3:$C$3,$B$5:$C$5,B669,D669)","v":-3.4217866997462965},0.74612314552863734,-2.1513235434422127,-1.8080060520032801]
[331,5.7770398241012311,{"$f":"Burmester($B$3:$C$3,$B$4:$C$4,$B$5:$C$5,$E$3,$E$4,$E$5,B670)","v":1.5334133456172192},5.1574935727435118,{"$f":"ThreePosition_Basic2($E$3,$E$5,$B$3:$C$3,$B$5:$C$5,B670,C670)","v":-3.225804720988946},4.6741386633323847,-2.3373765417235686,3.3829923049216841,{"$f":"ThreePosition_Basic2($E$3,$E$5,$B$3:$C$3,$B$5:$C$5,B670,D670)","v":-3.4266984472780533},0.72464733513661805,-2.1452735034997104,-1.8857796704025938]
[331.5,5.7857664703612022,{"$f":"Burmester($B$3:$C$3,$B$4:$C$4,$B$5:$C$5,$E$3,$E$4,$E$5,B671)","v":1.5329580022262981},5.1736986422704154,{"$f":"ThreePosition_Basic2($E$3,$E$5,$B$3:$C$3,$B$5:$C$5,B671,C671)","v":-3.235867662244313},4.6987308397006453,-2.3441577714422412,3.3885294436123017,{"$f":"ThreePosition_Basic2($E$3,$E$5,$B$3:$C$3,$B$5:$C$5,B671,D671)","v":-3.4315688934487016},0.70280751172587008,-2.1388172417468212,-1.9659743001515473]
[332,5.7944931166211742,{"$f":"Burmester($B$3:$C$3,$B$4:$C$4,$B$5:$C$5,$E$3,$E$4,$E$5,B672)","v":1.5324494084510474},5.1899811821526036,{"$f":"ThreePosition_Basic2($E$3,$E$5,$B$3:$C$3,$B$5:$C$5,B672,C672)","v":-3.2460635003015548},4.7238830102841858,-2.3510055518377091,3.3941908962737122,{"$f":"ThreePosition_Basic2($E$3,$E$5,$B$3:$C$3,$B$5:$C$5,B672,D672)","v":-3.4363960298206027},0.68059434408127761,-2.1319329928070241,-2.0487127592930392]
[332.5,5.8032197628811462,{"$f":"Burmester($B$3:$C$3,$B$4:$C$4,$B$5:$C$5,$E$3,$E$4,$E$5,B673)","v":1.5318868703108868},5.2063421057005161,{"$f":"ThreePosition_Basic2($E$3,$E$5,$B$3:$C$3,$B$5:$C$5,B673,C673)","v":-3.2563963951892765},4.7496149213956018,-2.3579215604922728,3.3999799430531663,{"$f":"ThreePosition_Basic2($E$3,$E$5,$B$3:$C$3,$B$5:$C$5,B673,D673)","v":-3.4411777598389643},0.65799813263300511,-2.1245974494578737,-2.1341266221331643]
[333,5.8119464091411173,{"$f":"Burmester($B$3:$C$3,$B$4:$C$4,$B$5:$C$5,$E$3,$E$4,$E$5,B674)","v":1.5312696610759011},5.2227823599209531,{"$f":"ThreePosition_Basic2($E$3,$E$5,$B$3:$C$3,$B$5:$C$5,B674,C674)","v":-3.266870688612225},4.7759473038547506,-2.364907530218979,3.4058999986789305,{"$f":"ThreePosition_Basic2($E$3,$E$5,$B$3:$C$3,$B$5:$C$5,B674,D674)","v":-3.445911894270389},0.63500878984466147,-2.116785622402177,-2.2223570229149736]
[333.5,5.8206730554010884,{"$f":"Burmester($B$3:$C$3,$B$4:$C$4,$B$5:$C$5,$E$3,$E$4,$E$5,B675)","v":1.5305970198062788},5.2393029269702964,{"$f":"ThreePosition_Basic2($E$3,$E$5,$B$3:$C$3,$B$5:$C$5,B675,C675)","v":-3.2774909148898925},4.8029019361855854,-2.3719652516727914,3.4119546195001518,{"$f":"ThreePosition_Basic2($E$3,$E$5,$B$3:$C$3,$B$5:$C$5,B675,D675)","v":-3.4505961463511632},0.61161581926381769,-2.1084706843140699,-2.3135555501053626]
[334,5.8293997016610613,{"$f":"Burmester($B$3:$C$3,$B$4:$C$4,$B$5:$C$5,$E$3,$E$4,$E$5,B676)","v":1.5298681498013629},5.2559048256975434,{"$f":"ThreePosition_Basic2($E$3,$E$5,$B$3:$C$3,$B$5:$C$5,B676,C676)","v":-3.2882618127261698},4.8305017128198227,-2.3790965761198071,3.418147510989062,{"$f":"ThreePosition_Basic2($E$3,$E$5,$B$3:$C$3,$B$5:$C$5,B676,D676)","v":-3.4552281266228451},0.58780829312365424,-2.0996237960534323,-2.4078852434675935]
[334.5,5.8381263479210324,{"$f":"Burmester($B$3:$C$3,$B$4:$C$4,$B$5:$C$5,$E$3,$E$4,$E$5,B677)","v":1.5290822169514131},5.2725891132840168,{"$f":"ThreePosition_Basic2($E$3,$E$5,$B$3:$C$3,$B$5:$C$5,B677,C677)","v":-3.2991883378865818},4.858770717781427,-2.3863034183763183,3.4244825357423125,{"$f":"ThreePosition_Basic2($E$3,$E$5,$B$3:$C$3,$B$5:$C$5,B677,D677)","v":-3.4598053374301916},0.56357482837353301,-2.0902139126119144,-2.5055217079991898]
[335,5.8468529941810035,{"$f":"Burmester($B$3:$C$3,$B$4:$C$4,$B$5:$C$5,$E$3,$E$4,$E$5,B678)","v":1.5282383479846573},5.2893568869872176,{"$f":"ThreePosition_Basic2($E$3,$E$5,$B$3:$C$3,$B$5:$C$5,B678,C678)","v":-3.3102756768681365},4.8877343043784691,-2.3935877599307767,3.430963722021775,{"$f":"ThreePosition_Basic2($E$3,$E$5,$B$3:$C$3,$B$5:$C$5,B678,D678)","v":-3.4643251670545192},0.53890356100405556,-2.0802075659653094,-2.6066543610656083]
[335.5,5.8555796404409746,{"$f":"Burmester($B$3:$C$3,$B$4:$C$4,$B$5:$C$5,$E$3,$E$4,$E$5,B679)","v":1.5273356286014244},5.3062092859969425,{"$f":"ThreePosition_Basic2($E$3,$E$5,$B$3:$C$3,$B$5:$C$5,B679,C679)","v":-3.321529261655976},4.917419181487741,-2.4009516522626875,3.437595272878931,{"$f":"ThreePosition_Basic2($E$3,$E$5,$B$3:$C$3,$B$5:$C$5,B679,D679)","v":-3.4687848834525132},0.51378211851881939,-2.0695686215462632,-2.7114878317226552]
[336,5.8643062867009474,{"$f":"Burmester($B$3:$C$3,$B$4:$C$4,$B$5:$C$5,$E$3,$E$4,$E$5,B680)","v":1.526373101486487},5.3231474934125522,{"$f":"ThreePosition_Basic2($E$3,$E$5,$B$3:$C$3,$B$5:$C$5,B680,C680)","v":-3.3329547856717516},4.9478535070844005,-2.4083972203739714,3.4443815759112901,{"$f":"ThreePosition_Basic2($E$3,$E$5,$B$3:$C$3,$B$5:$C$5,B680,D680)","v":-3.4731816275680822},0.48819759038971083,-2.0582580045053183,-2.8202435343839189]
[336.5,5.8730329329609186,{"$f":"Burmester($B$3:$C$3,$B$4:$C$4,$B$5:$C$5,$E$3,$E$4,$E$5,B681)","v":1.5253497641898408},5.3401727383511428,{"$f":"ThreePosition_Basic2($E$3,$E$5,$B$3:$C$3,$B$5:$C$5,B681,C681)","v":-3.3445582210304221},4.9790669897440738,-2.4159266665496384,3.4513272137039754,{"$f":"ThreePosition_Basic2($E$3,$E$5,$B$3:$C$3,$B$5:$C$5,B681,D681)","v":-3.4775124061811176},0.46213649631580506,-2.0462333912766457,-2.9331614427564823]
[337,5.8817595792208897,{"$f":"Burmester($B$3:$C$3,$B$4:$C$4,$B$5:$C$5,$E$3,$E$4,$E$5,B682)","v":1.5242645668652621},5.3572862981972751,{"$f":"ThreePosition_Basic2($E$3,$E$5,$B$3:$C$3,$B$5:$C$5,B682,C682)","v":-3.3563458372357982},5.0110909989304702,-2.4235422743663797,3.4584369750149886,{"$f":"ThreePosition_Basic2($E$3,$E$5,$B$3:$C$3,$B$5:$C$5,B682,D682)","v":-3.4817740842539471},0.43558475208683134,-2.0334488611871735,-3.0505020944733521]
[337.5,5.8904862254808625,{"$f":"Burmester($B$3:$C$3,$B$4:$C$4,$B$5:$C$5,$E$3,$E$4,$E$5,B683)","v":1.523116409854905},5.3744895010059519,{"$f":"ThreePosition_Basic2($E$3,$E$5,$B$3:$C$3,$B$5:$C$5,B683,C683)","v":-3.3683242214602331},5.0439586849780795,-2.4312464129692972,3.4657158667684138,{"$f":"ThreePosition_Basic2($E$3,$E$5,$B$3:$C$3,$B$5:$C$5,B683,D683)","v":-3.4859633767315179},0.40852763283108046,-2.0198545019131871,-3.1725488622549753]
[338,5.8992128717408336,{"$f":"Burmester($B$3:$C$3,$B$4:$C$4,$B$5:$C$5,$E$3,$E$4,$E$5,B684)","v":1.5219041411071075},5.3917837280716618,{"$f":"ThreePosition_Basic2($E$3,$E$5,$B$3:$C$3,$B$5:$C$5,B684,C684)","v":-3.3805003005714012},5.077705109790009,-2.4390415416391935,3.4731691269266105,{"$f":"ThreePosition_Basic2($E$3,$E$5,$B$3:$C$3,$B$5:$C$5,B684,D684)","v":-3.4900768397475774},0.38094973340356558,-2.0053959614647336,-3.2996105339429316]
[338.5,5.9079395180008056,{"$f":"Burmester($B$3:$C$3,$B$4:$C$4,$B$5:$C$5,$E$3,$E$4,$E$5,B685)","v":1.520626553413237},5.4091704166776839,{"$f":"ThreePosition_Basic2($E$3,$E$5,$B$3:$C$3,$B$5:$C$5,B685,C685)","v":-3.3928813650887024},5.1123673893962929,-2.4469302146749325,3.4808022383196482,{"$f":"ThreePosition_Basic2($E$3,$E$5,$B$3:$C$3,$B$5:$C$5,B685,D685)","v":-3.4941108611834188},0.35283492564333058,-1.9900139380174715,-3.4320242516206729]
[339,5.9166661642607767,{"$f":"Burmester($B$3:$C$3,$B$4:$C$4,$B$5:$C$5,$E$3,$E$4,$E$5,B686)","v":1.5192823814480005},5.4266510630411267,{"$f":"ThreePosition_Basic2($E$3,$E$5,$B$3:$C$3,$B$5:$C$5,B686,C686)","v":-3.4054750952743356},5.1479848496611282,-2.4549150866179326,3.4886209435185811,{"$f":"ThreePosition_Basic2($E$3,$E$5,$B$3:$C$3,$B$5:$C$5,B686,D686)","v":-3.498061650520341},0.32416631219867542,-1.9736435972610693,-3.5701588695934361]
[339.5,5.9253928105207487,{"$f":"Burmester($B$3:$C$3,$B$4:$C$4,$B$5:$C$5,$E$3,$E$4,$E$5,B687)","v":1.5178702985960555},5.4442272254709358,{"$f":"ThreePosition_Basic2($E$3,$E$5,$B$3:$C$3,$B$5:$C$5,B687,C687)","v":-3.4182895895898402},5.1845991965914742,-2.4629989178486875,3.4966312608484578,{"$f":"ThreePosition_Basic2($E$3,$E$5,$B$3:$C$3,$B$5:$C$5,B687,D687)","v":-3.5019252279204673},0.29492617658454434,-1.9562139049198681,-3.7144188026558504]
[340,5.9341194567807207,{"$f":"Burmester($B$3:$C$3,$B$4:$C$4,$B$5:$C$5,$E$3,$E$4,$E$5,B688)","v":1.5163889135459068},5.4619005277577841,{"$f":"ThreePosition_Basic2($E$3,$E$5,$B$3:$C$3,$B$5:$C$5,B688,C688)","v":-3.4313333957781547},5.2222547028868895,-2.4711845805882335,3.5048395016473304,{"$f":"ThreePosition_Basic2($E$3,$E$5,$B$3:$C$3,$B$5:$C$5,B688,D688)","v":-3.5056974124632183},0.26509592909777618,-1.9376468596355432,-3.8652484503514914]
[340.5,5.9428461030406918,{"$f":"Burmester($B$3:$C$3,$B$4:$C$4,$B$5:$C$5,$E$3,$E$4,$E$5,B689)","v":1.5148367666301363},5.4796726628168395,{"$f":"ThreePosition_Basic2($E$3,$E$5,$B$3:$C$3,$B$5:$C$5,B689,C689)","v":-3.4446155448651412},5.2609984125863107,-2.4794750653411537,3.5132522888893627,{"$f":"ThreePosition_Basic2($E$3,$E$5,$B$3:$C$3,$B$5:$C$5,B689,D689)","v":-3.5093738094567226},0.23465604817180868,-1.9178566083671496,-4.0231373004999105]
[341,5.9515727493006629,{"$f":"Burmester($B$3:$C$3,$B$4:$C$4,$B$5:$C$5,$E$3,$E$4,$E$5,B690)","v":1.5132123258886576},5.4975453966066583,{"$f":"ThreePosition_Basic2($E$3,$E$5,$B$3:$C$3,$B$5:$C$5,B690,C690)","v":-3.45814558841312},5.3008803659154946,-2.4878734878205124,3.5218765773033414,{"$f":"ThreePosition_Basic2($E$3,$E$5,$B$3:$C$3,$B$5:$C$5,B690,D690)","v":-3.512949796733861},0.20358601670268384,-1.8967484227107112,-4.1886258369964544]
[341.5,5.9602993955606358,{"$f":"Burmester($B$3:$C$3,$B$4:$C$4,$B$5:$C$5,$E$3,$E$4,$E$5,B691)","v":1.5115139828292103},5.51552057234999,{"$f":"ThreePosition_Basic2($E$3,$E$5,$B$3:$C$3,$B$5:$C$5,B691,C691)","v":-3.4719336394037899},5.3419538467253336,-2.4963830963997276,3.5307196751329402,{"$f":"ThreePosition_Basic2($E$3,$E$5,$B$3:$C$3,$B$5:$C$5,B691,D691)","v":-3.5164205098323493},0.17186425282123771,-1.8742175098753509,-4.3623124039053591]
[342,5.9690260418206069,{"$f":"Burmester($B$3:$C$3,$B$4:$C$4,$B$5:$C$5,$E$3,$E$4,$E$5,B692)","v":1.5097400478563598},5.5336001150851768,{"$f":"ThreePosition_Basic2($E$3,$E$5,$B$3:$C$3,$B$5:$C$5,B692,C692)","v":-3.4859904171793614},5.3842756552424733,-2.5050072801412724,3.5397892677020741,{"$f":"ThreePosition_Basic2($E$3,$E$5,$B$3:$C$3,$B$5:$C$5,B692,D692)","v":-3.519780825946063},0.1394680345217382,-1.8501476262218013,-4.5448612116330036]
[342.5,5.977752688080578,{"$f":"Burmester($B$3:$C$3,$B$4:$C$4,$B$5:$C$5,$E$3,$E$4,$E$5,B693)","v":1.507888745337052},5.5517860365801326,{"$f":"ThreePosition_Basic2($E$3,$E$5,$B$3:$C$3,$B$5:$C$5,B693,C693)","v":-3.5003272969307337},5.4279064092379503,-2.5137495774580172,3.5490934429680001,{"$f":"ThreePosition_Basic2($E$3,$E$5,$B$3:$C$3,$B$5:$C$5,B693,D693)","v":-3.5230253465213166},0.10637341748304086,-1.8244094539392446,-4.7370117134164591]
[343,5.9864793343405509,{"$f":"Burmester($B$3:$C$3,$B$4:$C$4,$B$5:$C$5,$E$3,$E$4,$E$5,B694)","v":1.5059582082670366},5.5700804406444995,{"$f":"ThreePosition_Basic2($E$3,$E$5,$B$3:$C$3,$B$5:$C$5,B694,C694)","v":-3.5149563642906863},5.472910877165913,-2.5226136854692576,3.5586407192667644,{"$f":"ThreePosition_Basic2($E$3,$E$5,$B$3:$C$3,$B$5:$C$5,B694,D694)","v":-3.526148378356043},7.2555145333687038E-2,-1.7968586921668914,-4.9395896340425436]
[343.5,5.995205980600522,{"$f":"Burmester($B$3:$C$3,$B$4:$C$4,$B$5:$C$5,$E$3,$E$4,$E$5,B695)","v":1.5039464724983036},5.5884855288798452,{"$f":"ThreePosition_Basic2($E$3,$E$5,$B$3:$C$3,$B$5:$C$5,B695,C695)","v":-3.5298904756710554},5.519358347345209,-2.5316034701210248,3.5684400754806118,{"$f":"ThreePosition_Basic2($E$3,$E$5,$B$3:$C$3,$B$5:$C$5,B695,D695)","v":-3.5291439130419664},3.7986551514923854E-2,-1.7673338020702587,-5.1535200010319153]
[344,6.0039326268604931,{"$f":"Burmester($B$3:$C$3,$B$4:$C$4,$B$5:$C$5,$E$3,$E$4,$E$5,B696)","v":1.5018514704828558},5.6070036069125875,{"$f":"ThreePosition_Basic2($E$3,$E$5,$B$3:$C$3,$B$5:$C$5,B696,C696)","v":-3.5451433250772042},5.5673230378652834,-2.5407229771486119,3.5785009838856818,{"$f":"ThreePosition_Basic2($E$3,$E$5,$B$3:$C$3,$B$5:$C$5,B696,D696)","v":-3.5320056045694388},2.6394517836475753E-3,-1.7356533302686679,-5.3798426160528017]
[344.5,6.0126592731204642,{"$f":"Burmester($B$3:$C$3,$B$4:$C$4,$B$5:$C$5,$E$3,$E$4,$E$5,B697)","v":1.4996710244827263},5.6256370911596392,{"$f":"ThreePosition_Basic2($E$3,$E$5,$B$3:$C$3,$B$5:$C$5,B697,C697)","v":-3.5607295182433676},5.6168845526107232,-2.5499764439687396,3.5888334459709337,{"$f":"ThreePosition_Basic2($E$3,$E$5,$B$3:$C$3,$B$5:$C$5,B697,D697)","v":-3.5347267448910094},-3.3515973731990292E-2,-1.7016127155109766,-5.6197305172652001]
[345,6.0213859193804371,{"$f":"Burmester($B$3:$C$3,$B$4:$C$4,$B$5:$C$5,$E$3,$E$4,$E$5,B698)","v":1.4974028391898653},5.6443885161831986,{"$f":"ThreePosition_Basic2($E$3,$E$5,$B$3:$C$3,$B$5:$C$5,B698,C698)","v":-3.5766646550624124},5.6681283896378876,-2.5593683125998803,3.5994480315569914,{"$f":"ThreePosition_Basic2($E$3,$E$5,$B$3:$C$3,$B$5:$C$5,B698,D698)","v":-3.537300237212329},-7.0511310160911334E-2,-1.664980458147765,-5.8745121301112535]
[345.5,6.0301125656404082,{"$f":"Burmester($B$3:$C$3,$B$4:$C$4,$B$5:$C$5,$E$3,$E$4,$E$5,B699)","v":1.4950444936924032},5.6632605426980973,{"$f":"ThreePosition_Basic2($E$3,$E$5,$B$3:$C$3,$B$5:$C$5,B699,C699)","v":-3.5929654214361513},5.7211465091258376,-2.5689032437217496,3.6103559215868297,{"$f":"ThreePosition_Basic2($E$3,$E$5,$B$3:$C$3,$B$5:$C$5,B699,D699)","v":-3.5397185667480273},-0.10838005061128651,-1.6254934987358916,-6.1456979964371863]
[346,6.0388392119003802,{"$f":"Burmester($B$3:$C$3,$B$4:$C$4,$B$5:$C$5,$E$3,$E$4,$E$5,B700)","v":1.4925934327155539},5.6822559663034822,{"$f":"ThreePosition_Basic2($E$3,$E$5,$B$3:$C$3,$B$5:$C$5,B700,C700)","v":-3.6096496918530607},5.7760379692942863,-2.5785861319995003,3.6215689550102037,{"$f":"ThreePosition_Basic2($E$3,$E$5,$B$3:$C$3,$B$5:$C$5,B700,D700)","v":-3.5419737686433623},-0.14715775359803884,-1.5828516082241357,-6.4350132260301196]
[346.5,6.0475658581603513,{"$f":"Burmester($B$3:$C$3,$B$4:$C$4,$B$5:$C$5,$E$3,$E$4,$E$5,B701)","v":1.4900469570559243},5.7013777270199526,{"$f":"ThreePosition_Basic2($E$3,$E$5,$B$3:$C$3,$B$5:$C$5,B701,C701)","v":-3.6267366442141609},5.8329096400700511,-2.5884221228147184,3.6330996802414801,{"$f":"ThreePosition_Basic2($E$3,$E$5,$B$3:$C$3,$B$5:$C$5,B701,D701)","v":-3.5440573927199921},-0.18688221702161581,-1.5367105336558158,-6.744437153570952]
[347,6.0562925044203233,{"$f":"Burmester($B$3:$C$3,$B$4:$C$4,$B$5:$C$5,$E$3,$E$4,$E$5,B702)","v":1.4874022131171183},5.720628919724339,{"$f":"ThreePosition_Basic2($E$3,$E$5,$B$3:$C$3,$B$5:$C$5,B702,C702)","v":-3.6442468886828401},5.8918770059387322,-2.5984166305648877,3.6449614117376461,{"$f":"ThreePosition_Basic2($E$3,$E$5,$B$3:$C$3,$B$5:$C$5,B702,D702)","v":-3.5459604646552876},-0.22759367081906995,-1.4866735645608395,-7.0762521402352405]
[347.5,6.0650191506802953,{"$f":"Burmester($B$3:$C$3,$B$4:$C$4,$B$5:$C$5,$E$3,$E$4,$E$5,B703)","v":1.4846561814417349},5.7400128055869057,{"$f":"ThreePosition_Basic2($E$3,$E$5,$B$3:$C$3,$B$5:$C$5,B703,C703)","v":-3.6622026126382692},5.9530650713961144,-2.6085753587150418,3.6571682923212059,{"$f":"ThreePosition_Basic2($E$3,$E$5,$B$3:$C$3,$B$5:$C$5,B703,D703)","v":-3.547673443146143},-0.26933499073009709,-1.4322810780934701,-7.4331040796279639]
[348,6.0737457969402664,{"$f":"Burmester($B$3:$C$3,$B$4:$C$4,$B$5:$C$5,$E$3,$E$4,$E$5,B704)","v":1.4818056641202131},5.759532824630571,{"$f":"ThreePosition_Basic2($E$3,$E$5,$B$3:$C$3,$B$5:$C$5,B704,C704)","v":-3.6806277441769475},6.0166093847880244,-2.6189043218116974,3.6697353619637729,{"$f":"ThreePosition_Basic2($E$3,$E$5,$B$3:$C$3,$B$5:$C$5,B704,D704)","v":-3.5491861725409763},-0.31215193599996366,-1.372997473694122,-7.8180780208519858]
[348.5,6.0824724432002393,{"$f":"Burmester($B$3:$C$3,$B$4:$C$4,$B$5:$C$5,$E$3,$E$4,$E$5,B705)","v":1.4788472709397096},5.7791926095489021,{"$f":"ThreePosition_Basic2($E$3,$E$5,$B$3:$C$3,$B$5:$C$5,B705,C705)","v":-3.6995481370455159},6.0826571991869702,-2.629409869699348,3.6826786338526967,{"$f":"ThreePosition_Basic2($E$3,$E$5,$B$3:$C$3,$B$5:$C$5,B705,D705)","v":-3.5504878303433745},-0.35609341428827307,-1.3081947031491965,-8.2347935084268062]
[349,6.0911990894602104,{"$f":"Burmester($B$3:$C$3,$B$4:$C$4,$B$5:$C$5,$E$3,$E$4,$E$5,B706)","v":1.4757774041161462},5.7989960009396997,{"$f":"ThreePosition_Basic2($E$3,$E$5,$B$3:$C$3,$B$5:$C$5,B706,C706)","v":-3.7189917804181309},6.1513687924130149,-2.6400987142154828,3.6960151786881723,{"$f":"ThreePosition_Basic2($E$3,$E$5,$B$3:$C$3,$B$5:$C$5,B706,D706)","v":-3.5515668688967974},-0.40121177758238913,-1.2371313132029482,-8.6875259112242293]
[349.5,6.0999257357201815,{"$f":"Burmester($B$3:$C$3,$B$4:$C$4,$B$5:$C$5,$E$3,$E$4,$E$5,B707)","v":1.4725922414289367},5.8189470641347025,{"$f":"ThreePosition_Basic2($E$3,$E$5,$B$3:$C$3,$B$5:$C$5,B707,C707)","v":-3.7389890375751769},6.2229189725090084,-2.6509779586819873,3.70976321830587,{"$f":"ThreePosition_Basic2($E$3,$E$5,$B$3:$C$3,$B$5:$C$5,B707,D707)","v":-3.5524109504477552},-0.44756315354424653,-1.1589255054255059,-9.1813624017732138]
[350,6.1086523819801526,{"$f":"Burmester($B$3:$C$3,$B$4:$C$4,$B$5:$C$5,$E$3,$E$4,$E$5,B708)","v":1.469287717550162},5.8390501078335388,{"$f":"ThreePosition_Basic2($E$3,$E$5,$B$3:$C$3,$B$5:$C$5,B708,C708)","v":-3.7595729183240163},6.2974988001074008,-2.6620551305599669,3.7239422298943481,{"$f":"ThreePosition_Basic2($E$3,$E$5,$B$3:$C$3,$B$5:$C$5,B708,D708)","v":-3.5530068746521302},-0.49520781747030307,-1.072520120002495,-9.722404711559669]
[350.5,6.1173790282401255,{"$f":"Burmester($B$3:$C$3,$B$4:$C$4,$B$5:$C$5,$E$3,$E$4,$E$5,B709)","v":1.4658595033271116},5.8593097047830396,{"$f":"ThreePosition_Basic2($E$3,$E$5,$B$3:$C$3,$B$5:$C$5,B709,C709)","v":-3.7807793909629654},6.3753175654124705,-2.6733382176935052,3.7385730622835927,{"$f":"ThreePosition_Basic2($E$3,$E$5,$B$3:$C$3,$B$5:$C$5,B709,D709)","v":-3.5533404974300509},-0.54421061094464063,-0.97663656880326855,-10.31803589314938]
[351,6.1261056745000966,{"$f":"Burmester($B$3:$C$3,$B$4:$C$4,$B$5:$C$5,$E$3,$E$4,$E$5,B710)","v":1.462302982738193},5.8797307147818403,{"$f":"ThreePosition_Basic2($E$3,$E$5,$B$3:$C$3,$B$5:$C$5,B710,C710)","v":-3.8026477407714077},6.4566050652657054,-2.6848357086371433,3.753678066027589,{"$f":"ThreePosition_Basic2($E$3,$E$5,$B$3:$C$3,$B$5:$C$5,B710,D710)","v":-3.553396639884582},-0.59464141434722906,-0.86971342114300443,-10.977275977696157]
[351.5,6.1348323207600677,{"$f":"Burmester($B$3:$C$3,$B$4:$C$4,$B$5:$C$5,$E$3,$E$4,$E$5,B711)","v":1.4586132271958141},5.9003183103366945,{"$f":"ThreePosition_Basic2($E$3,$E$5,$B$3:$C$3,$B$5:$C$5,B711,C711)","v":-3.8252209834708579},6.5416142353518518,-2.6965566376445462,3.7692812392988517,{"$f":"ThreePosition_Basic2($E$3,$E$5,$B$3:$C$3,$B$5:$C$5,B711,D711)","v":-3.5531589857696808},-0.64657568168677737,-0.7498233238815355,-11.711263128148913]
[352,6.1435589670200397,{"$f":"Burmester($B$3:$C$3,$B$4:$C$4,$B$5:$C$5,$E$3,$E$4,$E$5,B712)","v":1.4547849668144066},5.9210780053522445,{"$f":"ThreePosition_Basic2($E$3,$E$5,$B$3:$C$3,$B$5:$C$5,B712,C712)","v":-3.8485463439199878},6.6306242045412818,-2.7085106349948891,3.7854083919672021,{"$f":"ThreePosition_Basic2($E$3,$E$5,$B$3:$C$3,$B$5:$C$5,B712,D712)","v":-3.5526099657151979},-0.70009504781275267,-0.61455877851467378,-12.533915187968653]
[352.5,{"$f":"A713*PI()/180","v":6.1522856132800117},{"$f":"Burmester($B$3:$C$3,$B$4:$C$4,$B$5:$C$5,$E$3,$E$4,$E$5,B713)","v":1.4508125581951332},5.9420156873027086,{"$f":"ThreePosition_Basic2($E$3,$E$5,$B$3:$C$3,$B$5:$C$5,B713,C713)","v":-3.8726758125807419},6.7239438533125169,-2.7207079834526269,3.8020873306627432,{"$f":"ThreePosition_Basic2($E$3,$E$5,$B$3:$C$3,$B$5:$C$5,B713,D713)","v":-3.5517306260797166},-0.75528801999445028,-0.46087224357342915,-13.462855804233655]
[353,6.1610122595399828,{"$f":"Burmester($B$3:$C$3,$B$4:$C$4,$B$5:$C$5,$E$3,$E$4,$E$5,B714)","v":1.4466899481983764},5.9631376534143676,{"$f":"ThreePosition_Basic2($E$3,$E$5,$B$3:$C$3,$B$5:$C$5,B714,C714)","v":-3.8976667951542563},6.8219159770257951,-2.7331596818002533,3.8193480681413989,{"$f":"ThreePosition_Basic2($E$3,$E$5,$B$3:$C$3,$B$5:$C$5,B714,D714)","v":-3.550500479888723},-0.81225076822105635,-0.28484772713615047,-14.520737405141771]
[353.5,6.1697389057999548,{"$f":"Burmester($B$3:$C$3,$B$4:$C$4,$B$5:$C$5,$E$3,$E$4,$E$5,B715)","v":1.442410633077696},5.9844506514851261,{"$f":"ThreePosition_Basic2($E$3,$E$5,$B$3:$C$3,$B$5:$C$5,B715,C715)","v":-3.9235828744088215},6.9249221786820545,-2.7458775165587248,3.8372230609029625,{"$f":"ThreePosition_Basic2($E$3,$E$5,$B$3:$C$3,$B$5:$C$5,B715,D715)","v":-3.5488973368105343},-0.87108803149150249,-8.1366982239039043E-2,-15.737174713592466]
[354,6.1784655520599268,{"$f":"Burmester($B$3:$C$3,$B$4:$C$4,$B$5:$C$5,$E$3,$E$4,$E$5,B716)","v":1.4379676122300593},6.0059619260863029,{"$f":"ThreePosition_Basic2($E$3,$E$5,$B$3:$C$3,$B$5:$C$5,B716,C716)","v":-3.9504947078409378},7.0333886462499038,-2.7588741432235708,3.8557474797849189,{"$f":"ThreePosition_Basic2($E$3,$E$5,$B$3:$C$3,$B$5:$C$5,B716,D716)","v":-3.5468971084971548},-0.93191416096898372,0.15639117297675975,-17.151644931124967]
[354.5,6.1871921983198979,{"$f":"Burmester($B$3:$C$3,$B$4:$C$4,$B$5:$C$5,$E$3,$E$4,$E$5,B717)","v":1.4333533356715427},6.0276792710374485,{"$f":"ThreePosition_Basic2($E$3,$E$5,$B$3:$C$3,$B$5:$C$5,B717,C717)","v":-3.9784810907400709},7.1477930087676054,-2.7721631786069474,3.8749595192074784,{"$f":"ThreePosition_Basic2($E$3,$E$5,$B$3:$C$3,$B$5:$C$5,B717,D717)","v":-3.5444735848409863},-0.9948543253653237,0.43772459922945561,-18.817969730754303]
[355,6.1959188445798699,{"$f":"Burmester($B$3:$C$3,$B$4:$C$4,$B$5:$C$5,$E$3,$E$4,$E$5,B718)","v":1.4285596441683261},6.0496110892243387,{"$f":"ThreePosition_Basic2($E$3,$E$5,$B$3:$C$3,$B$5:$C$5,B718,C718)","v":-4.0076302218964344},7.2686725160745862,-2.7857593061995249,3.8949007519243199,{"$f":"ThreePosition_Basic2($E$3,$E$5,$B$3:$C$3,$B$5:$C$5,B718,D718)","v":-3.5415981757304977},-1.0600459095436203,0.77564578314455579,-20.811486304719267]
[355.5,6.204645490839841,{"$f":"Burmester($B$3:$C$3,$B$4:$C$4,$B$5:$C$5,$E$3,$E$4,$E$5,B719)","v":1.4235777007303054},6.0717664610527615,{"$f":"ThreePosition_Basic2($E$3,$E$5,$B$3:$C$3,$B$5:$C$5,B719,C719)","v":-4.0380412191880728},7.3966338531119353,-2.7996783968679124,3.9156165376022707,{"$f":"ThreePosition_Basic2($E$3,$E$5,$B$3:$C$3,$B$5:$C$5,B719,D719)","v":-3.5382396116692099},-1.1276401444148656,1.1889450263677905,-23.240998927206295]
[356,6.2133721370998138,{"$f":"Burmester($B$3:$C$3,$B$4:$C$4,$B$5:$C$5,$E$3,$E$4,$E$5,B720)","v":1.4183979118970904},6.0941552231083529,{"$f":"ThreePosition_Basic2($E$3,$E$5,$B$3:$C$3,$B$5:$C$5,B720,C720)","v":-4.0698259454260715},7.5323649866863853,-2.8139376477058384,3.9371564953948552,{"$f":"ThreePosition_Basic2($E$3,$E$5,$B$3:$C$3,$B$5:$C$5,B720,D720)","v":-3.5343635950810857},-1.1978040151977387,1.705800952892619,-26.26969394570807]
[356.5,6.2220987833597849,{"$f":"Burmester($B$3:$C$3,$B$4:$C$4,$B$5:$C$5,$E$3,$E$4,$E$5,B721)","v":1.4130098368976156},6.1167880589411618,{"$f":"ThreePosition_Basic2($E$3,$E$5,$B$3:$C$3,$B$5:$C$5,B721,C721)","v":-4.1031112222691766},7.6766495580336915,-2.8285557424897325,3.9595750529994183,{"$f":"ThreePosition_Basic2($E$3,$E$5,$B$3:$C$3,$B$5:$C$5,B721,D721)","v":-3.5299323921618533},-1.2707225066054031,2.3704856380362416,-30.153981578117701]
[357,6.2308254296197561,{"$f":"Burmester($B$3:$C$3,$B$4:$C$4,$B$5:$C$5,$E$3,$E$4,$E$5,B722)","v":1.4074020823234106},6.1396766043349578,{"$f":"ThreePosition_Basic2($E$3,$E$5,$B$3:$C$3,$B$5:$C$5,B722,C722)","v":-4.1380415333648468},7.8303844892507799,-2.843553037990886,3.9829320876438721,{"$f":"ThreePosition_Basic2($E$3,$E$5,$B$3:$C$3,$B$5:$C$5,B722,D722)","v":-3.5249043526108879},-1.3466012583244409,3.2567747299544778,-35.321179048458063]
[357.5,6.2395520758797289,{"$f":"Burmester($B$3:$C$3,$B$4:$C$4,$B$5:$C$5,$E$3,$E$4,$E$5,B723)","v":1.4015621793933839},6.162833569983305,{"$f":"ThreePosition_Basic2($E$3,$E$5,$B$3:$C$3,$B$5:$C$5,B723,C723)","v":-4.1747823494592451},7.9946016811869383,-2.8589517814206884,4.0072936782369322,{"$f":"ThreePosition_Basic2($E$3,$E$5,$B$3:$C$3,$B$5:$C$5,B723,D723)","v":-3.5192333413136239},-1.4256697233696092,4.4974495222085018,-42.540412825827637]
[358,6.2482787221397,{"$f":"Burmester($B$3:$C$3,$B$4:$C$4,$B$5:$C$5,$E$3,$E$4,$E$5,B724)","v":1.3954764401651829},6.1862728852173685,{"$f":"ThreePosition_Basic2($E$3,$E$5,$B$3:$C$3,$B$5:$C$5,B724,C724)","v":-4.2135242514233644},8.1704949672208027,-2.8747763656046059,4.0327329928103,{"$f":"ThreePosition_Basic2($E$3,$E$5,$B$3:$C$3,$B$5:$C$5,B724,D724)","v":-3.5128680617756518},-1.5081849470628712,6.3580518436998474,-53.349873226752273]
[358.5,6.2570053683996711,{"$f":"Burmester($B$3:$C$3,$B$4:$C$4,$B$5:$C$5,$E$3,$E$4,$E$5,B725)","v":1.3891297881111322},6.210009867367444,{"$f":"ThreePosition_Basic2($E$3,$E$5,$B$3:$C$3,$B$5:$C$5,B725,C725)","v":-4.2544880869415165},8.3594538846734316,-2.8910536301950573,4.0593313417603287,{"$f":"ThreePosition_Basic2($E$3,$E$5,$B$3:$C$3,$B$5:$C$5,B725,D725)","v":-3.5057512454874624},-1.5944361176486732,9.4581482599073148,-71.338576610381253]
[359,6.2657320146596422,{"$f":"Burmester($B$3:$C$3,$B$4:$C$4,$B$5:$C$5,$E$3,$E$4,$E$5,B726)","v":1.3825055572503346},6.2340614225665272,{"$f":"ThreePosition_Basic2($E$3,$E$5,$B$3:$C$3,$B$5:$C$5,B726,C726)","v":-4.2979314804321849},8.5631063830036798,-2.9078132194822035,4.0871794357908744,{"$f":"ThreePosition_Basic2($E$3,$E$5,$B$3:$C$3,$B$5:$C$5,B726,D726)","v":-3.4978186739131911},-1.684750083959305,15.656386024058897,-107.2734111999724]
[359.5,6.2744586609196151,{"$f":"Burmester($B$3:$C$3,$B$4:$C$4,$B$5:$C$5,$E$3,$E$4,$E$5,B727)","v":1.3755852524069963},6.2584462854259133,{"$f":"ThreePosition_Basic2($E$3,$E$5,$B$3:$C$3,$B$5:$C$5,B727,C727)","v":-4.34415713489848},8.7833733806877561,-2.9250880103419474,4.1163788986164702,{"$f":"ThreePosition_Basic2($E$3,$E$5,$B$3:$C$3,$B$5:$C$5,B727,D727)","v":-3.488997989716673},-1.7794980954425195,34.245882644617048,-214.98845053176368]
[360,6.2831853071795862,{"$f":"Burmester($B$3:$C$3,$B$4:$C$4,$B$5:$C$5,$E$3,$E$4,$E$5,B728)","v":1.3683482609981226},6.2831853071795853,{"$f":"ThreePosition_Basic2($E$3,$E$5,$B$3:$C$3,$B$5:$C$5,B728,C728)","v":-4.3935235362426077},9.0225392270709968,-2.9429146278537734,4.147044099479877,{"$f":"ThreePosition_Basic2($E$3,$E$5,$B$3:$C$3,$B$5:$C$5,B728,D728)","v":-4.0622551569654419},-3.7884855824068446,45131175827407.797,-5008780755520167]
[0.1,null,null,null,"-Z1",null,"R1",null,"-Z2",null,"R2"]
[331,{"$f":"A730*PI()/180","v":5.7770398241012311},{"$f":"Burmester($B$3:$C$3,$B$4:$C$4,$B$5:$C$5,$E$3,$E$4,$E$5,B730)","v":1.5334133456172192},5.1574935727435118,{"$f":"ThreePosition_Basic2($E$3,$E$5,$B$3:$C$3,$B$5:$C$5,B730,C730)","v":-3.225804720988946},4.6741386633323847,-2.3373765417235686,3.3829923049216841,{"$f":"ThreePosition_Basic2($E$3,$E$5,$B$3:$C$3,$B$5:$C$5,B730,D730)","v":-3.4266984472780533},0.72464733513661805,-2.1452735034997104,-1.8857796704025938]
[{"$f":"A730+$A$729","v":331.1},{"$f":"A731*PI()/180","v":5.7787851533532253},{"$f":"Burmester($B$3:$C$3,$B$4:$C$4,$B$5:$C$5,$E$3,$E$4,$E$5,B731)","v":1.5333265047235334},5.1607284317625544,{"$f":"ThreePosition_Basic2($E$3,$E$5,$B$3:$C$3,$B$5:$C$5,B731,C731)","v":-3.2278068713364654},4.6790132153312332,-2.338727542344996,3.3840899406381961,{"$f":"ThreePosition_Basic2($E$3,$E$5,$B$3:$C$3,$B$5:$C$5,B731,D731)","v":-3.4276759036575672},0.72030878494222639,-2.1440154242405685,-1.9016211053008276]
[{"$f":"A731+$A$729","v":331.20000000000005},5.7805304826052204,{"$f":"Burmester($B$3:$C$3,$B$4:$C$4,$B$5:$C$5,$E$3,$E$4,$E$5,B732)","v":1.5332375552127986},5.16396636120332,{"$f":"ThreePosition_Basic2($E$3,$E$5,$B$3:$C$3,$B$5:$C$5,B732,C732)","v":-3.2298142088688193},4.6839095591682556,-2.3400811526722798,3.3851924472531638,{"$f":"ThreePosition_Basic2($E$3,$E$5,$B$3:$C$3,$B$5:$C$5,B732,D732)","v":-3.4286516924595372},0.71595560185103357,-2.142740931271768,-1.9175603104917305]
[331.30000000000007,5.7822758118572146,{"$f":"Burmester($B$3:$C$3,$B$4:$C$4,$B$5:$C$5,$E$3,$E$4,$E$5,B733)","v":1.5331464918343121},5.1672073680619892,{"$f":"ThreePosition_Basic2($E$3,$E$5,$B$3:$C$3,$B$5:$C$5,B733,C733)","v":-3.2318267652201405},4.6888278439272417,-2.34143738561957,3.3862998497794301,{"$f":"ThreePosition_Basic2($E$3,$E$5,$B$3:$C$3,$B$5:$C$5,B733,D733)","v":-3.4296257977573172},0.71158771180215263,-2.1414498529312112,-1.933598254544318]
[331.40000000000009,5.7840211411092088,{"$f":"Burmester($B$3:$C$3,$B$4:$C$4,$B$5:$C$5,$E$3,$E$4,$E$5,B734)","v":1.533053309288462},5.1704514593851894,{"$f":"ThreePosition_Basic2($E$3,$E$5,$B$3:$C$3,$B$5:$C$5,B734,C734)","v":-3.2338445722895828},4.6937682201193844,-2.3427962541831699,3.3874121734284577,{"$f":"ThreePosition_Basic2($E$3,$E$5,$B$3:$C$3,$B$5:$C$5,B734,D734)","v":-3.4305982034875488},0.70720504016348651,-2.1401420152169619,-1.9497359193096093]
[331.50000000000011,5.7857664703612048,{"$f":"Burmester($B$3:$C$3,$B$4:$C$4,$B$5:$C$5,$E$3,$E$4,$E$5,B735)","v":1.5329580022262981},5.1736986422704199,{"$f":"ThreePosition_Basic2($E$3,$E$5,$B$3:$C$3,$B$5:$C$5,B735,C735)","v":-3.2358676622443165},4.6987308397006551,-2.3441577714422444,3.3885294436123048,{"$f":"ThreePosition_Basic2($E$3,$E$5,$B$3:$C$3,$B$5:$C$5,B735,D735)","v":-3.4315688934487065},0.70280751172586431,-2.1388172417468239,-1.9659743001515717]
[331.60000000000014,5.7875117996131991,{"$f":"Burmester($B$3:$C$3,$B$4:$C$4,$B$5:$C$5,$E$3,$E$4,$E$5,B736)","v":1.5328605652491212},5.1769489238664459,{"$f":"ThreePosition_Basic2($E$3,$E$5,$B$3:$C$3,$B$5:$C$5,B736,C736)","v":-3.2378960675226227},4.7037158560894534,-2.3455219505595948,3.3896516859456476,{"$f":"ThreePosition_Basic2($E$3,$E$5,$B$3:$C$3,$B$5:$C$5,B736,D736)","v":-3.4325378512997751},0.69839505069710472,-2.1374753537172611,-1.9823144061829039]
[331.70000000000016,5.7892571288651942,{"$f":"Burmester($B$3:$C$3,$B$4:$C$4,$B$5:$C$5,$E$3,$E$4,$E$5,B737)","v":1.5327609929080546},5.1802023113737476,{"$f":"ThreePosition_Basic2($E$3,$E$5,$B$3:$C$3,$B$5:$C$5,B737,C737)","v":-3.2399298208369989},4.708723424184547,-2.346888804782413,3.3907789262478136,{"$f":"ThreePosition_Basic2($E$3,$E$5,$B$3:$C$3,$B$5:$C$5,B737,D737)","v":-3.4335050605588155},0.69396758069596498,-2.1361161698613254,-1.9987572605059407]
[331.80000000000018,5.7910024581171884,{"$f":"Burmester($B$3:$C$3,$B$4:$C$4,$B$5:$C$5,$E$3,$E$4,$E$5,B738)","v":1.532659279703616},5.1834588120449281,{"$f":"ThreePosition_Basic2($E$3,$E$5,$B$3:$C$3,$B$5:$C$5,B738,C738)","v":-3.2419689551773287},4.7137537003832248,-2.3482583474430543,3.391911190544838,{"$f":"ThreePosition_Basic2($E$3,$E$5,$B$3:$C$3,$B$5:$C$5,B738,D738)","v":-3.4344705046015487},0.68952502474604749,-2.1347395064057419,-2.0153039004584805]
[331.9000000000002,5.7927477873691826,{"$f":"Burmester($B$3:$C$3,$B$4:$C$4,$B$5:$C$5,$E$3,$E$4,$E$5,B739)","v":1.5325554200852818},5.1867184331851588,{"$f":"ThreePosition_Basic2($E$3,$E$5,$B$3:$C$3,$B$5:$C$5,B739,C739)","v":-3.2440135038140792},4.7188068425997702,-2.3496305919598131,3.3930485050715546,{"$f":"ThreePosition_Basic2($E$3,$E$5,$B$3:$C$3,$B$5:$C$5,B739,D739)","v":-3.4354341666599097},0.68506730526960247,-2.1333451770270804,-2.031955377864989]
[332.00000000000023,5.7944931166211786,{"$f":"Burmester($B$3:$C$3,$B$4:$C$4,$B$5:$C$5,$E$3,$E$4,$E$5,B740)","v":1.5324494084510458},5.1899811821526125,{"$f":"ThreePosition_Basic2($E$3,$E$5,$B$3:$C$3,$B$5:$C$5,B740,C740)","v":-3.2460635003015588},4.7238830102841982,-2.3510055518377113,3.3941908962737148,{"$f":"ThreePosition_Basic2($E$3,$E$5,$B$3:$C$3,$B$5:$C$5,B740,D740)","v":-3.4363960298206013},0.68059434408126585,-2.1319329928070156,-2.0487127592930827]
[332.10000000000025,5.7962384458731728,{"$f":"Burmester($B$3:$C$3,$B$4:$C$4,$B$5:$C$5,$E$3,$E$4,$E$5,B741)","v":1.5323412391469773},5.1932470663588983,{"$f":"ThreePosition_Basic2($E$3,$E$5,$B$3:$C$3,$B$5:$C$5,B741,C741)","v":-3.2481189784812172},4.7289823644412463,-2.3523832406692993,3.3953383908101187,{"$f":"ThreePosition_Basic2($E$3,$E$5,$B$3:$C$3,$B$5:$C$5,B741,D741)","v":-3.4373560770236065},0.67610606238171611,-2.1305027621866,-2.0655771263154725]
[332.20000000000027,5.797983775125167,{"$f":"Burmester($B$3:$C$3,$B$4:$C$4,$B$5:$C$5,$E$3,$E$4,$E$5,B742)","v":1.5322309064667634},5.1965160932695289,{"$f":"ThreePosition_Basic2($E$3,$E$5,$B$3:$C$3,$B$5:$C$5,B742,C742)","v":-3.250179972484982},4.7341050676497032,-2.3537636721354493,3.3964910155547856,{"$f":"ThreePosition_Basic2($E$3,$E$5,$B$3:$C$3,$B$5:$C$5,B742,D742)","v":-3.4383142910606805},0.67160238075121104,-2.1290542909195613,-2.0825495757776933]
[332.3000000000003,5.7997291043771622,{"$f":"Burmester($B$3:$C$3,$B$4:$C$4,$B$5:$C$5,$E$3,$E$4,$E$5,B743)","v":1.532118404651263},5.1997882704043601,{"$f":"ThreePosition_Basic2($E$3,$E$5,$B$3:$C$3,$B$5:$C$5,B743,C743)","v":-3.2522465167386825},4.7392512840819974,-2.3551468600061973,3.3976487975991541,{"$f":"ThreePosition_Basic2($E$3,$E$5,$B$3:$C$3,$B$5:$C$5,B743,D743)","v":-3.4392706545738734},0.66708321914309188,-2.1275873820246494,-2.0996312200714446]
[]
[]
[0.1,null,null,null,"-Z1",null,"R1",null,"-Z2",null,"R2"]
[318,{"$f":"A747*PI()/180","v":5.5501470213419681},{"$f":"Burmester($B$3:$C$3,$B$4:$C$4,$B$5:$C$5,$E$3,$E$4,$E$5,B747)","v":1.5282155316346062},4.7610043590637128,{"$f":"ThreePosition_Basic2($E$3,$E$5,$B$3:$C$3,$B$5:$C$5,B747,C747)","v":-3.0003757631939525},4.183573391874333,-2.1799548214157127,3.2743589813365772,{"$f":"ThreePosition_Basic2($E$3,$E$5,$B$3:$C$3,$B$5:$C$5,B747,D747)","v":-3.2900535178050347},1.1862117403691184,-2.213396041715388,-0.40907435854349972]
[{"$f":"A747+$A$746","v":318.10000000000002},5.5518923505939632,{"$f":"Burmester($B$3:$C$3,$B$4:$C$4,$B$5:$C$5,$E$3,$E$4,$E$5,B748)","v":1.5283724889587018},4.7638846591670188,{"$f":"ThreePosition_Basic2($E$3,$E$5,$B$3:$C$3,$B$5:$C$5,B748,C748)","v":-3.001900981777835},4.1865044834434766,-2.181052857543754,3.2749805480614529,{"$f":"ThreePosition_Basic2($E$3,$E$5,$B$3:$C$3,$B$5:$C$5,B748,D748)","v":-3.2911504806998342},1.1833045527070472,-2.2133654478337847,-0.41731239007067056]
[{"$f":"A748+$A$746","v":318.20000000000005},5.5536376798459575,{"$f":"Burmester($B$3:$C$3,$B$4:$C$4,$B$5:$C$5,$E$3,$E$4,$E$5,B749)","v":1.5285277154332582},4.7667674384396745,{"$f":"ThreePosition_Basic2($E$3,$E$5,$B$3:$C$3,$B$5:$C$5,B749,C749)","v":-3.0034287645559781},4.1894458060753097,-2.1821523221832395,3.275604900117441,{"$f":"ThreePosition_Basic2($E$3,$E$5,$B$3:$C$3,$B$5:$C$5,B749,D749)","v":-3.2922470470132401},1.1803890276171152,-2.2133296479611317,-0.425585027750637]
[318.30000000000007,5.5553830090979517,{"$f":"Burmester($B$3:$C$3,$B$4:$C$4,$B$5:$C$5,$E$3,$E$4,$E$5,B750)","v":1.5286812098609461},4.7696526996189643,{"$f":"ThreePosition_Basic2($E$3,$E$5,$B$3:$C$3,$B$5:$C$5,B750,C750)","v":-3.0049591242922045},4.1923974109241158,-2.1832532217429903,3.2762320474810904,{"$f":"ThreePosition_Basic2($E$3,$E$5,$B$3:$C$3,$B$5:$C$5,B750,D750)","v":-3.2933432110893262},1.177465133954221,-2.2132886019000324,-0.43389249906095695]
[318.40000000000009,5.5571283383499468,{"$f":"Burmester($B$3:$C$3,$B$4:$C$4,$B$5:$C$5,$E$3,$E$4,$E$5,B751)","v":1.52883297102458},4.772540445463588,{"$f":"ThreePosition_Basic2($E$3,$E$5,$B$3:$C$3,$B$5:$C$5,B751,C751)","v":-3.0064920738253282},4.195359349513021,-2.1843555626611972,3.2768620001931401,{"$f":"ThreePosition_Basic2($E$3,$E$5,$B$3:$C$3,$B$5:$C$5,B751,D751)","v":-3.2944389672292735},1.1745328403901663,-2.2132422690740308,-0.4422350335926164]
[318.50000000000011,5.5588736676019419,{"$f":"Burmester($B$3:$C$3,$B$4:$C$4,$B$5:$C$5,$E$3,$E$4,$E$5,B752)","v":1.5289829976870046},4.7754306787537812,{"$f":"ThreePosition_Basic2($E$3,$E$5,$B$3:$C$3,$B$5:$C$5,B752,C752)","v":-3.0080276260697816},4.1983316737373455,-2.1854593514056253,3.2774947683590221,{"$f":"ThreePosition_Basic2($E$3,$E$5,$B$3:$C$3,$B$5:$C$5,B752,D752)","v":-3.2955343096910097},1.1715921154122437,-2.2131906085231501,-0.45061286307502413]
[318.60000000000014,5.5606189968539361,{"$f":"Burmester($B$3:$C$3,$B$4:$C$4,$B$5:$C$5,$E$3,$E$4,$E$5,B753)","v":1.5291312885909762},4.7783234022914307,{"$f":"ThreePosition_Basic2($E$3,$E$5,$B$3:$C$3,$B$5:$C$5,B753,C753)","v":-3.009565794016261},4.201314435867987,-2.1865645944738268,3.278130362149354,{"$f":"ThreePosition_Basic2($E$3,$E$5,$B$3:$C$3,$B$5:$C$5,B753,D753)","v":-3.2966292326888573},1.168642927321859,-2.213133578899392,-0.45902622140134741]
[318.70000000000016,5.5623643261059312,{"$f":"Burmester($B$3:$C$3,$B$4:$C$4,$B$5:$C$5,$E$3,$E$4,$E$5,B754)","v":1.5292778424590565},4.7812186189001906,{"$f":"ThreePosition_Basic2($E$3,$E$5,$B$3:$C$3,$B$5:$C$5,B754,C754)","v":-3.011106590732374},4.2043076885548425,-2.1876712983933579,3.2787687918004407,{"$f":"ThreePosition_Basic2($E$3,$E$5,$B$3:$C$3,$B$5:$C$5,B754,D754)","v":-3.2977237303931966},1.1656852442330918,-2.2130711384621806,-0.46747534465424878]
[318.80000000000018,5.5641096553579255,{"$f":"Burmester($B$3:$C$3,$B$4:$C$4,$B$5:$C$5,$E$3,$E$4,$E$5,B755)","v":1.5294226579934871},4.7841163314255972,{"$f":"ThreePosition_Basic2($E$3,$E$5,$B$3:$C$3,$B$5:$C$5,B755,C755)","v":-3.0126500293632894},4.2073114848302726,-2.1887794697219842,3.2794100676147937,{"$f":"ThreePosition_Basic2($E$3,$E$5,$B$3:$C$3,$B$5:$C$5,B755,D755)","v":-3.2988177969300803},1.1627190340712781,-2.2130032450737063,-0.47596047113193474]
[318.9000000000002,5.5658549846099197,{"$f":"Burmester($B$3:$C$3,$B$4:$C$4,$B$5:$C$5,$E$3,$E$4,$E$5,B756)","v":1.5295657338760789},4.7870165427351896,{"$f":"ThreePosition_Basic2($E$3,$E$5,$B$3:$C$3,$B$5:$C$5,B756,C756)","v":-3.0141961231323897},4.2103258781125996,-2.1898891150478934,3.2800541999616373,{"$f":"ThreePosition_Basic2($E$3,$E$5,$B$3:$C$3,$B$5:$C$5,B756,D756)","v":-3.2999114263808895},1.1597442645715659,-2.212929856194239,-0.48448184137464012]
[319.00000000000023,5.5676003138619148,{"$f":"Burmester($B$3:$C$3,$B$4:$C$4,$B$5:$C$5,$E$3,$E$4,$E$5,B757)","v":1.5297070687680894},4.7899192557186314,{"$f":"ThreePosition_Basic2($E$3,$E$5,$B$3:$C$3,$B$5:$C$5,B757,C757)","v":-3.0157448853419497},4.2133509222096439,-2.1910002409899207,3.2807011992774293,{"$f":"ThreePosition_Basic2($E$3,$E$5,$B$3:$C$3,$B$5:$C$5,B757,D757)","v":-3.3010046127819588},1.1567609032774513,-2.2128509288773497,-0.4930396981914611]
[319.10000000000025,5.5693456431139099,{"$f":"Burmester($B$3:$C$3,$B$4:$C$4,$B$5:$C$5,$E$3,$E$4,$E$5,B758)","v":1.5298466613101083},4.7928244732878227,{"$f":"ThreePosition_Basic2($E$3,$E$5,$B$3:$C$3,$B$5:$C$5,B758,C758)","v":-3.0172963293738033},4.2163866713223035,-2.1921128541977635,3.2813510760663864,{"$f":"ThreePosition_Basic2($E$3,$E$5,$B$3:$C$3,$B$5:$C$5,B758,D758)","v":-3.302097350124209},1.15376891753931,-2.2127664197650745,-0.50163428668758558]
[319.20000000000027,5.571090972365905,{"$f":"Burmester($B$3:$C$3,$B$4:$C$4,$B$5:$C$5,$E$3,$E$4,$E$5,B759)","v":1.529984510121934},4.7957321983770251,{"$f":"ThreePosition_Basic2($E$3,$E$5,$B$3:$C$3,$B$5:$C$5,B759,C759)","v":-3.0188504686900215},4.2194331800481697,-2.1932269613521989,3.282003840901011,{"$f":"ThreePosition_Basic2($E$3,$E$5,$B$3:$C$3,$B$5:$C$5,B759,D759)","v":-3.3031896323527823},1.1507682745129206,-2.2126762850830226,-0.51026585429191607]
[]
[]
[1E-4,null,null,null,"-Z1",null,"R1",null,"-Z2",null,"R2"]
[8.8825000000000003,{"$f":"A763*PI()/180","v":0.15502887080839634},{"$f":"Burmester($B$3:$C$3,$B$4:$C$4,$B$5:$C$5,$E$3,$E$4,$E$5,B763)","v":1.128189732025987},0.55758372843114723,{"$f":"ThreePosition_Basic2($E$3,$E$5,$B$3:$C$3,$B$5:$C$5,B763,C763)","v":-9.22154224396761},39.134787007746063,-3.4573228802210645,5.2978274667804754,{"$f":"ThreePosition_Basic2($E$3,$E$5,$B$3:$C$3,$B$5:$C$5,B763,D763)","v":-2.8506700281851964},-6.1021258057092966,-4.7530861376227804,10.903055508358577]
[{"$f":"A763+$A$762","v":8.8826000000000001},{"$f":"A764*PI()/180","v":0.15503061613764832},{"$f":"Burmester($B$3:$C$3,$B$4:$C$4,$B$5:$C$5,$E$3,$E$4,$E$5,B764)","v":1.1281840707993707},0.5575930350639472,{"$f":"ThreePosition_Basic2($E$3,$E$5,$B$3:$C$3,$B$5:$C$5,B764,C764)","v":-9.2219620144423651},39.13756540554877,-3.45733402288276,5.2978586893980193,{"$f":"ThreePosition_Basic2($E$3,$E$5,$B$3:$C$3,$B$5:$C$5,B764,D764)","v":-2.8506471889492042},-6.1022638835393277,-4.7530543038960325,10.902883178376699]
[{"$f":"A764+$A$762","v":8.8826999999999998},0.1550323614669003,{"$f":"Burmester($B$3:$C$3,$B$4:$C$4,$B$5:$C$5,$E$3,$E$4,$E$5,B765)","v":1.1281784093810843},0.55760234189008517,{"$f":"ThreePosition_Basic2($E$3,$E$5,$B$3:$C$3,$B$5:$C$5,B765,C765)","v":-9.2223818566501645},39.140344284440559,-3.4573451658992749,5.2978899133132415,{"$f":"ThreePosition_Basic2($E$3,$E$5,$B$3:$C$3,$B$5:$C$5,B765,D765)","v":-2.8506243484344056},-6.1024019690129725,-4.7530224703449067,10.902710850156666]
[8.8827999999999996,0.15503410679615229,{"$f":"Burmester($B$3:$C$3,$B$4:$C$4,$B$5:$C$5,$E$3,$E$4,$E$5,B766)","v":1.1281727477711099},0.55761164890957948,{"$f":"ThreePosition_Basic2($E$3,$E$5,$B$3:$C$3,$B$5:$C$5,B766,C766)","v":-9.2228017706103778},39.143123644549263,-3.457356309270569,5.2979211385261138,{"$f":"ThreePosition_Basic2($E$3,$E$5,$B$3:$C$3,$B$5:$C$5,B766,D766)","v":-2.8506015066407508},-6.1025400621311388,-4.7529906369693107,10.902538523698317]
[8.8828999999999994,0.15503585212540427,{"$f":"Burmester($B$3:$C$3,$B$4:$C$4,$B$5:$C$5,$E$3,$E$4,$E$5,B767)","v":1.1281670859694271},0.55762095612245077,{"$f":"ThreePosition_Basic2($E$3,$E$5,$B$3:$C$3,$B$5:$C$5,B767,C767)","v":-9.2232217563425696},39.145903486003768,-3.4573674529966203,5.2979523650366716,{"$f":"ThreePosition_Basic2($E$3,$E$5,$B$3:$C$3,$B$5:$C$5,B767,D767)","v":-2.8505786635681147},-6.1026781628948594,-4.7529588037692596,10.902366199001433]
[8.8829999999999991,0.15503759745465626,{"$f":"Burmester($B$3:$C$3,$B$4:$C$4,$B$5:$C$5,$E$3,$E$4,$E$5,B768)","v":1.12816142397603},0.5576302635287036,{"$f":"ThreePosition_Basic2($E$3,$E$5,$B$3:$C$3,$B$5:$C$5,B768,C768)","v":-9.2236418138651448},39.148683808931189,-3.4573785970776463,5.2979835928452488,{"$f":"ThreePosition_Basic2($E$3,$E$5,$B$3:$C$3,$B$5:$C$5,B768,D768)","v":-2.8505558192163059},-6.1028162713044924,-4.7529269707446504,10.902193876065761]
[8.8830999999999989,0.15503934278390827,{"$f":"Burmester($B$3:$C$3,$B$4:$C$4,$B$5:$C$5,$E$3,$E$4,$E$5,B769)","v":1.1281557617908966},0.55763957112836204,{"$f":"ThreePosition_Basic2($E$3,$E$5,$B$3:$C$3,$B$5:$C$5,B769,C769)","v":-9.2240619431979365},39.151464613460028,-3.4573897415135475,5.2980148219517602,{"$f":"ThreePosition_Basic2($E$3,$E$5,$B$3:$C$3,$B$5:$C$5,B769,D769)","v":-2.8505329735852722},-6.1029543873611756,-4.7528951378954414,10.902021554891121]
[8.8831999999999987,0.15504108811316025,{"$f":"Burmester($B$3:$C$3,$B$4:$C$4,$B$5:$C$5,$E$3,$E$4,$E$5,B770)","v":1.128150099414013},0.557648878921438,{"$f":"ThreePosition_Basic2($E$3,$E$5,$B$3:$C$3,$B$5:$C$5,B770,C770)","v":-9.2244821443593565},39.154245899718546,-3.4574008863043364,5.2980460523563977,{"$f":"ThreePosition_Basic2($E$3,$E$5,$B$3:$C$3,$B$5:$C$5,B770,D770)","v":-2.8505101266748434},-6.1030925110656158,-4.7528633052216342,10.901849235477325]
[8.8832999999999984,0.15504283344241226,{"$f":"Burmester($B$3:$C$3,$B$4:$C$4,$B$5:$C$5,$E$3,$E$4,$E$5,B771)","v":1.1281444368453681},0.557658186907944,{"$f":"ThreePosition_Basic2($E$3,$E$5,$B$3:$C$3,$B$5:$C$5,B771,C771)","v":-9.224902417368428},39.157027667833979,-3.4574120314500831,5.2980772840592678,{"$f":"ThreePosition_Basic2($E$3,$E$5,$B$3:$C$3,$B$5:$C$5,B771,D771)","v":-2.8504872784848851},-6.1032306424184446,-4.7528314727231198,10.901676917824094]
[8.8833999999999982,0.15504457877166425,{"$f":"Burmester($B$3:$C$3,$B$4:$C$4,$B$5:$C$5,$E$3,$E$4,$E$5,B772)","v":1.1281387740849442},0.55766749508789715,{"$f":"ThreePosition_Basic2($E$3,$E$5,$B$3:$C$3,$B$5:$C$5,B772,C772)","v":-9.2253227622445539},39.159809917935135,-3.4574231769508277,5.2981085170605127,{"$f":"ThreePosition_Basic2($E$3,$E$5,$B$3:$C$3,$B$5:$C$5,B772,D772)","v":-2.8504644290152745},-6.103368781420583,-4.752799640399914,10.901504601931245]

{"sheet":"1235","index":1,"n_rows":772,"n_cols":22,"rows_kept":772,"cut":false,"hidden":false,"merged":[]}
[]
[null,null,null,null,null,null,null,null,null,null,"b2","(radians)","b41","b42","-Z1x","-Z1y","R1x","R1y","-Z2x","-Z2y","R2x","R12y"]
["d2",1.5,0.9,"a2",{"$f":"F3*PI()/180","v":0.17453292519943295},10,null,null,null,null,15,{"$f":"K3*PI()/180","v":0.26179938779914941},{"$f":"Burmester(B3:C3,B4:C4,B5:C5,E3,E4,E5,L3)","v":{"$error":"#VALUE!"}},{"$error":"#VALUE!"},{"$f":"ThreePosition_Basic2(E3,E5,B3:C3,B5:C5,L3,M3)","v":{"$error":"#VALUE!"}},{"$error":"#VALUE!"},{"$error":"#VALUE!"},{"$error":"#VALUE!"},{"$f":"ThreePosition_Basic2(E3,E5,B3:C3,B5:C5,L3,N3)","v":{"$error":"#VALUE!"}},{"$error":"#VALUE!"},{"$error":"#VALUE!"},{"$error":"#VALUE!"}]
["d3",1.6,1.5,"a3",{"$f":"F4*PI()/180","v":0.3490658503988659},20]
["d4",2.2999999999999998,3.5,"a4",{"$f":"F5*PI()/180","v":1.5707963267948966},90]
[]
["b2",null,"b51","b52","-Z1",null,"R1",null,"-Z2",null,"R2"]
[0,{"$f":"A8*PI()/180","v":0},{"$f":"Burmester($B$3:$C$3,$B$4:$C$4,$B$5:$C$5,$E$3,$E$4,$E$5,B8)","v":2.0640116290927288},4.7181678084098374E-16,{"$f":"ThreePosition_Basic2($E$3,$E$5,$B$3:$C$3,$B$5:$C$5,B8,C8)","v":-4.3935235362426059},9.0225392270710163,-2.5941859773005174,3.3683804996420674,{"$f":"ThreePosition_Basic2($E$3,$E$5,$B$3:$C$3,$B$5:$C$5,B8,D8)","v":-26110.450217565405},-15666.270130539244,9.3629052685457367E+18,6.4832528644183884E+19]
[0.5,{"$f":"A9*PI()/180","v":8.7266462599716477E-3},{"$f":"Burmester($B$3:$C$3,$B$4:$C$4,$B$5:$C$5,$E$3,$E$4,$E$5,B9)","v":2.0483576806888393},3.4242574865750434E-2,{"$f":"ThreePosition_Basic2($E$3,$E$5,$B$3:$C$3,$B$5:$C$5,B9,C9)","v":-4.4611291477867709},9.3257374378421645,-2.6138555837795483,3.4020722959847385,{"$f":"ThreePosition_Basic2($E$3,$E$5,$B$3:$C$3,$B$5:$C$5,B9,D9)","v":-3.3648882557926165},-1.2677098756182692,-40.86176292859038,201.86943310636224]
[1,1.7453292519943295E-2,{"$f":"Burmester($B$3:$C$3,$B$4:$C$4,$B$5:$C$5,$E$3,$E$4,$E$5,B10)","v":2.0323039130154585},6.8940550425935054E-2,{"$f":"ThreePosition_Basic2($E$3,$E$5,$B$3:$C$3,$B$5:$C$5,B10,C10)","v":-4.5343127468928186},9.6584454747353679,-2.6342240746134582,3.4372719242132383,{"$f":"ThreePosition_Basic2($E$3,$E$5,$B$3:$C$3,$B$5:$C$5,B10,D10)","v":-3.3571973432476274},-1.3730793836811854,-21.821599224597598,101.32039892116403]
[1.5,2.6179938779914941E-2,{"$f":"Burmester($B$3:$C$3,$B$4:$C$4,$B$5:$C$5,$E$3,$E$4,$E$5,B11)","v":2.0158142317651349},0.10413038115116535,{"$f":"ThreePosition_Basic2($E$3,$E$5,$B$3:$C$3,$B$5:$C$5,B11,C11)","v":-4.6139526640822108},10.025570663668669,-2.6553439205040128,3.4741219754393358,{"$f":"ThreePosition_Basic2($E$3,$E$5,$B$3:$C$3,$B$5:$C$5,B11,D11)","v":-3.3482947242867169},-1.4836397006033724,-15.47291658010486,67.762562512700029]
[2,3.4906585039886591E-2,{"$f":"Burmester($B$3:$C$3,$B$4:$C$4,$B$5:$C$5,$E$3,$E$4,$E$5,B12)","v":1.9988479659291511},0.13985309544264524,{"$f":"ThreePosition_Basic2($E$3,$E$5,$B$3:$C$3,$B$5:$C$5,B12,C12)","v":-4.7011356674846771},10.433205504120076,-2.6772742929998099,3.5127850591852132,{"$f":"ThreePosition_Basic2($E$3,$E$5,$B$3:$C$3,$B$5:$C$5,B12,D12)","v":-3.3380553530040196},-1.5999276342915552,-12.296544898087006,50.950811560884269]
[2.5,4.3633231299858237E-2,{"$f":"Burmester($B$3:$C$3,$B$4:$C$4,$B$5:$C$5,$E$3,$E$4,$E$5,B13)","v":1.9813589882514335},0.17615517497941902,{"$f":"ThreePosition_Basic2($E$3,$E$5,$B$3:$C$3,$B$5:$C$5,B13,C13)","v":-4.7972245001382845},10.889014539050475,-2.7000823330561086,3.5534478148483597,{"$f":"ThreePosition_Basic2($E$3,$E$5,$B$3:$C$3,$B$5:$C$5,B13,D13)","v":-3.3263349433179048},-1.7225679315014637,-10.388593375949263,40.835961693114498]
[3,5.2359877559829883E-2,{"$f":"Burmester($B$3:$C$3,$B$4:$C$4,$B$5:$C$5,$E$3,$E$4,$E$5,B14)","v":1.9632946090978489},0.21308966064477827,{"$f":"ThreePosition_Basic2($E$3,$E$5,$B$3:$C$3,$B$5:$C$5,B14,C14)","v":-4.9039538714183513},11.402784802927167,-2.7238447473944234,3.5963259925765616,{"$f":"ThreePosition_Basic2($E$3,$E$5,$B$3:$C$3,$B$5:$C$5,B14,D14)","v":-3.3129657216764192},-1.8522935934420959,-9.1143760457551917,34.068124541426897]
[3.5,6.1086523819801536E-2,{"$f":"Burmester($B$3:$C$3,$B$4:$C$4,$B$5:$C$5,$E$3,$E$4,$E$5,B15)","v":1.944594168019864},0.25071756075280466,{"$f":"ThreePosition_Basic2($E$3,$E$5,$B$3:$C$3,$B$5:$C$5,B15,C15)","v":-5.0235700570109714},11.987227139666571,-2.7486498426044665,3.6416709695763387,{"$f":"ThreePosition_Basic2($E$3,$E$5,$B$3:$C$3,$B$5:$C$5,B15,D15)","v":-3.2977509190405945},-1.9899723814176484,-8.2018278937610702,29.211468811650203]
[4,6.9813170079773182E-2,{"$f":"Burmester($B$3:$C$3,$B$4:$C$4,$B$5:$C$5,$E$3,$E$4,$E$5,B16)","v":1.9251872154850125},0.28910966910255476,{"$f":"ThreePosition_Basic2($E$3,$E$5,$B$3:$C$3,$B$5:$C$5,B16,C16)","v":-5.1590392914938876},12.659173521435012,-2.7746001533282096,3.6897782245243835,{"$f":"ThreePosition_Basic2($E$3,$E$5,$B$3:$C$3,$B$5:$C$5,B16,D16)","v":-3.2804575212988345},-2.1366419134318306,-7.5148567625052509,25.547903700297748]
[4.5,7.8539816339744828E-2,{"$f":"Burmester($B$3:$C$3,$B$4:$C$4,$B$5:$C$5,$E$3,$E$4,$E$5,B17)","v":1.9049911289592749},0.32834894867473835,{"$f":"ThreePosition_Basic2($E$3,$E$5,$B$3:$C$3,$B$5:$C$5,B17,C17)","v":-5.3143683329431353},13.441420461848015,-2.8018158914120761,3.7409985317763432,{"$f":"ThreePosition_Basic2($E$3,$E$5,$B$3:$C$3,$B$5:$C$5,B17,D17)","v":-3.2608065679105205},-2.2935569116391141,-6.9777914040445097,22.678298326224901]
[5,8.7266462599716474E-2,{"$f":"Burmester($B$3:$C$3,$B$4:$C$4,$B$5:$C$5,$E$3,$E$4,$E$5,B18)","v":1.8839079323596277},0.36853371195259782,{"$f":"ThreePosition_Basic2($E$3,$E$5,$B$3:$C$3,$B$5:$C$5,B18,C18)","v":-5.495115078275898},14.365667689041278,-2.8304395529071629,3.7957530110835691,{"$f":"ThreePosition_Basic2($E$3,$E$5,$B$3:$C$3,$B$5:$C$5,B18,D18)","v":-3.2384599246840913},-2.4622540055384277,-6.5451574665272449,20.362958927090322]
[5.5,9.599310885968812E-2,{"$f":"Burmester($B$3:$C$3,$B$4:$C$4,$B$5:$C$5,$E$3,$E$4,$E$5,B19)","v":1.8618199675251301},0.4097819492185853,{"$f":"ThreePosition_Basic2($E$3,$E$5,$B$3:$C$3,$B$5:$C$5,B19,C19)","v":-5.7092359733146978},15.47739872231471,-2.860642196241455,3.854553770648069,{"$f":"ThreePosition_Basic2($E$3,$E$5,$B$3:$C$3,$B$5:$C$5,B19,D19)","v":-3.2130018621222285},-2.6446425201962711,-6.187935115045045,18.449104688005743]
[6,0.10471975511965977,{"$f":"Burmester($B$3:$C$3,$B$4:$C$4,$B$5:$C$5,$E$3,$E$4,$E$5,B20)","v":1.8385838672714148},0.45223735526194775,{"$f":"ThreePosition_Basic2($E$3,$E$5,$B$3:$C$3,$B$5:$C$5,B20,C20)","v":-5.9685630410607855},16.844393336191818,-2.8926321972483584,3.9180328826255106,{"$f":"ThreePosition_Basic2($E$3,$E$5,$B$3:$C$3,$B$5:$C$5,B20,D20)","v":-3.1839127667178588},-2.8431348045181952,-5.8866822191426298,16.834586998342125]
[6.5,0.11344640137963143,{"$f":"Burmester($B$3:$C$3,$B$4:$C$4,$B$5:$C$5,$E$3,$E$4,$E$5,B21)","v":1.8140219378425586},0.49607794668321986,{"$f":"ThreePosition_Basic2($E$3,$E$5,$B$3:$C$3,$B$5:$C$5,B21,C21)","v":-6.2915367147596513},18.572486841199623,-2.9266677895796369,3.9869841585674077,{"$f":"ThreePosition_Basic2($E$3,$E$5,$B$3:$C$3,$B$5:$C$5,B21,D21)","v":-3.1505305505317338},-3.0608386814111319,-5.6278236207667494,15.448327490394442]
[7,0.12217304763960307,{"$f":"Burmester($B$3:$C$3,$B$4:$C$4,$B$5:$C$5,$E$3,$E$4,$E$5,B22)","v":1.7879094459221916},0.54152877463375559,{"$f":"ThreePosition_Basic2($E$3,$E$5,$B$3:$C$3,$B$5:$C$5,B22,C22)","v":-6.7086528983489382},20.836997530345627,-2.9630756023273603,4.0624253084223447,{"$f":"ThreePosition_Basic2($E$3,$E$5,$B$3:$C$3,$B$5:$C$5,B22,D22)","v":-3.1119920909840628},-3.3018512247482406,-5.401519337507569,14.23910148537767]
[7.5,0.1308996938995747,{"$f":"Burmester($B$3:$C$3,$B$4:$C$4,$B$5:$C$5,$E$3,$E$4,$E$5,B23)","v":1.759955149321875},0.58888139387225713,{"$f":"ThreePosition_Basic2($E$3,$E$5,$B$3:$C$3,$B$5:$C$5,B23,C23)","v":-7.2744101384275748},23.951687340060662,-3.002279114873657,4.1456939811680869,{"$f":"ThreePosition_Basic2($E$3,$E$5,$B$3:$C$3,$B$5:$C$5,B23,D23)","v":-3.0671407785482563},-3.57172533736167,-5.2003681455429147,13.168749312934878]
[8,0.13962634015954636,{"$f":"Burmester($B$3:$C$3,$B$4:$C$4,$B$5:$C$5,$E$3,$E$4,$E$5,B24)","v":1.7297700904330084},0.63852506905204609,{"$f":"ThreePosition_Basic2($E$3,$E$5,$B$3:$C$3,$B$5:$C$5,B24,C24)","v":-8.0970996030372415},28.540774661774002,-3.0448443850681732,4.2386031263615997,{"$f":"ThreePosition_Basic2($E$3,$E$5,$B$3:$C$3,$B$5:$C$5,B24,D24)","v":-3.0143733626355353},-3.8782473426355359,-5.0185693683741999,12.207838047008217]
[8.5,0.14835298641951802,{"$f":"Burmester($B$3:$C$3,$B$4:$C$4,$B$5:$C$5,$E$3,$E$4,$E$5,B25)","v":1.696814649417369},0.69099972126397624,{"$f":"ThreePosition_Basic2($E$3,$E$5,$B$3:$C$3,$B$5:$C$5,B25,C25)","v":-9.4279849569190599},36.054016019146353,-3.0915578632090179,4.3437071260208349,{"$f":"ThreePosition_Basic2($E$3,$E$5,$B$3:$C$3,$B$5:$C$5,B25,D25)","v":-2.9513705865943787},-4.2328129849298533,-4.8513322729575634,11.332688787448589]
[9,0.15707963267948966,{"$f":"Burmester($B$3:$C$3,$B$4:$C$4,$B$5:$C$5,$E$3,$E$4,$E$5,B26)","v":1.6603018920839416},0.7470925798873489,{"$f":"ThreePosition_Basic2($E$3,$E$5,$B$3:$C$3,$B$5:$C$5,B26,C26)","v":-12.017456035856371},50.82415844981395,-3.1435689113953593,4.4647925005499687,{"$f":"ThreePosition_Basic2($E$3,$E$5,$B$3:$C$3,$B$5:$C$5,B26,D26)","v":-2.8745856123648439},-4.6530570788169889,-4.6943916836814177,10.523081560771029]
[9.5,0.16580627893946129,{"$f":"Burmester($B$3:$C$3,$B$4:$C$4,$B$5:$C$5,$E$3,$E$4,$E$5,B27)","v":1.6190029462732218},0.80803280592767268,{"$f":"ThreePosition_Basic2($E$3,$E$5,$B$3:$C$3,$B$5:$C$5,B27,C27)","v":-19.605600318979228},94.456268737236812,-3.202677869409591,4.6078765103641928,{"$f":"ThreePosition_Basic2($E$3,$E$5,$B$3:$C$3,$B$5:$C$5,B27,D27)","v":-2.7781673647111473},-5.1684235630680337,-4.5434860009168174,9.7600221314805147]
[10,0.17453292519943295,{"$f":"Burmester($B$3:$C$3,$B$4:$C$4,$B$5:$C$5,$E$3,$E$4,$E$5,B28)","v":1.5707963267948959},0.87594216679539683,{"$f":"ThreePosition_Basic2($E$3,$E$5,$B$3:$C$3,$B$5:$C$5,B28,C28)","v":-2285865544078560},-1.5828254063521452E+16,-4.5,8,{"$f":"ThreePosition_Basic2($E$3,$E$5,$B$3:$C$3,$B$5:$C$5,B28,D28)","v":-2.6513388406921519},-5.8338203745167512,-4.3935235362426042,9.0225392270710092]
[10.5,0.18325957145940461,{"$f":"Burmester($B$3:$C$3,$B$4:$C$4,$B$5:$C$5,$E$3,$E$4,$E$5,B29)","v":1.5113682086505178},0.95513476279404164,{"$f":"ThreePosition_Basic2($E$3,$E$5,$B$3:$C$3,$B$5:$C$5,B29,C29)","v":9.9139358607267827},-76.616704536075204,-3.3579370019565111,5.0137835755520257,{"$f":"ThreePosition_Basic2($E$3,$E$5,$B$3:$C$3,$B$5:$C$5,B29,D29)","v":-2.4703737287706233},-6.7717125482342482,-4.236523888417719,8.2802396537101615]
[11,0.19198621771937624,{"$f":"Burmester($B$3:$C$3,$B$4:$C$4,$B$5:$C$5,$E$3,$E$4,$E$5,B30)","v":1.4284943637783378},1.0578350900806242,{"$f":"ThreePosition_Basic2($E$3,$E$5,$B$3:$C$3,$B$5:$C$5,B30,C30)","v":2.1122022180979014},-31.899995640343889,-3.4787123353489164,5.3624397399300818,{"$f":"ThreePosition_Basic2($E$3,$E$5,$B$3:$C$3,$B$5:$C$5,B30,D30)","v":-2.16047740507714},-8.3737961056766643,-4.052937824930563,7.4623900364816471]
[11.5,0.20071286397934787,{"$f":"Burmester($B$3:$C$3,$B$4:$C$4,$B$5:$C$5,$E$3,$E$4,$E$5,B31)","v":{"$error":"#VALUE!"}},{"$error":"#VALUE!"},{"$f":"ThreePosition_Basic2($E$3,$E$5,$B$3:$C$3,$B$5:$C$5,B31,C31)","v":{"$error":"#VALUE!"}},{"$error":"#VALUE!"},{"$error":"#VALUE!"},{"$error":"#VALUE!"},{"$f":"ThreePosition_Basic2($E$3,$E$5,$B$3:$C$3,$B$5:$C$5,B31,D31)","v":{"$error":"#VALUE!"}},{"$error":"#VALUE!"},{"$error":"#VALUE!"},{"$error":"#VALUE!"}]
[12,0.20943951023931953,{"$f":"Burmester($B$3:$C$3,$B$4:$C$4,$B$5:$C$5,$E$3,$E$4,$E$5,B32)","v":{"$error":"#VALUE!"}},{"$error":"#VALUE!"},{"$f":"ThreePosition_Basic2($E$3,$E$5,$B$3:$C$3,$B$5:$C$5,B32,C32)","v":{"$error":"#VALUE!"}},{"$error":"#VALUE!"},{"$error":"#VALUE!"},{"$error":"#VALUE!"},{"$f":"ThreePosition_Basic2($E$3,$E$5,$B$3:$C$3,$B$5:$C$5,B32,D32)","v":{"$error":"#VALUE!"}},{"$error":"#VALUE!"},{"$error":"#VALUE!"},{"$error":"#VALUE!"}]
[12.5,0.21816615649929119,{"$f":"Burmester($B$3:$C$3,$B$4:$C$4,$B$5:$C$5,$E$3,$E$4,$E$5,B33)","v":{"$error":"#VALUE!"}},{"$error":"#VALUE!"},{"$f":"ThreePosition_Basic2($E$3,$E$5,$B$3:$C$3,$B$5:$C$5,B33,C33)","v":{"$error":"#VALUE!"}},{"$error":"#VALUE!"},{"$error":"#VALUE!"},{"$error":"#VALUE!"},{"$f":"ThreePosition_Basic2($E$3,$E$5,$B$3:$C$3,$B$5:$C$5,B33,D33)","v":{"$error":"#VALUE!"}},{"$error":"#VALUE!"},{"$error":"#VALUE!"},{"$error":"#VALUE!"}]
[13,0.22689280275926285,{"$f":"Burmester($B$3:$C$3,$B$4:$C$4,$B$5:$C$5,$E$3,$E$4,$E$5,B34)","v":{"$error":"#VALUE!"}},{"$error":"#VALUE!"},{"$f":"ThreePosition_Basic2($E$3,$E$5,$B$3:$C$3,$B$5:$C$5,B34,C34)","v":{"$error":"#VALUE!"}},{"$error":"#VALUE!"},{"$error":"#VALUE!"},{"$error":"#VALUE!"},{"$f":"ThreePosition_Basic2($E$3,$E$5,$B$3:$C$3,$B$5:$C$5,B34,D34)","v":{"$error":"#VALUE!"}},{"$error":"#VALUE!"},{"$error":"#VALUE!"},{"$error":"#VALUE!"}]
[13.5,0.23561944901923448,{"$f":"Burmester($B$3:$C$3,$B$4:$C$4,$B$5:$C$5,$E$3,$E$4,$E$5,B35)","v":{"$error":"#VALUE!"}},{"$error":"#VALUE!"},{"$f":"ThreePosition_Basic2($E$3,$E$5,$B$3:$C$3,$B$5:$C$5,B35,C35)","v":{"$error":"#VALUE!"}},{"$error":"#VALUE!"},{"$error":"#VALUE!"},{"$error":"#VALUE!"},{"$f":"ThreePosition_Basic2($E$3,$E$5,$B$3:$C$3,$B$5:$C$5,B35,D35)","v":{"$error":"#VALUE!"}},{"$error":"#VALUE!"},{"$error":"#VALUE!"},{"$error":"#VALUE!"}]
[14,0.24434609527920614,{"$f":"Burmester($B$3:$C$3,$B$4:$C$4,$B$5:$C$5,$E$3,$E$4,$E$5,B36)","v":{"$error":"#VALUE!"}},{"$error":"#VALUE!"},{"$f":"ThreePosition_Basic2($E$3,$E$5,$B$3:$C$3,$B$5:$C$5,B36,C36)","v":{"$error":"#VALUE!"}},{"$error":"#VALUE!"},{"$error":"#VALUE!"},{"$error":"#VALUE!"},{"$f":"ThreePosition_Basic2($E$3,$E$5,$B$3:$C$3,$B$5:$C$5,B36,D36)","v":{"$error":"#VALUE!"}},{"$error":"#VALUE!"},{"$error":"#VALUE!"},{"$error":"#VALUE!"}]
[14.5,0.2530727415391778,{"$f":"Burmester($B$3:$C$3,$B$4:$C$4,$B$5:$C$5,$E$3,$E$4,$E$5,B37)","v":{"$error":"#VALUE!"}},{"$error":"#VALUE!"},{"$f":"ThreePosition_Basic2($E$3,$E$5,$B$3:$C$3,$B$5:$C$5,B37,C37)","v":{"$error":"#VALUE!"}},{"$error":"#VALUE!"},{"$error":"#VALUE!"},{"$error":"#VALUE!"},{"$f":"ThreePosition_Basic2($E$3,$E$5,$B$3:$C$3,$B$5:$C$5,B37,D37)","v":{"$error":"#VALUE!"}},{"$error":"#VALUE!"},{"$error":"#VALUE!"},{"$error":"#VALUE!"}]
[15,0.26179938779914941,{"$f":"Burmester($B$3:$C$3,$B$4:$C$4,$B$5:$C$5,$E$3,$E$4,$E$5,B38)","v":{"$error":"#VALUE!"}},{"$error":"#VALUE!"},{"$f":"ThreePosition_Basic2($E$3,$E$5,$B$3:$C$3,$B$5:$C$5,B38,C38)","v":{"$error":"#VALUE!"}},{"$error":"#VALUE!"},{"$error":"#VALUE!"},{"$error":"#VALUE!"},{"$f":"ThreePosition_Basic2($E$3,$E$5,$B$3:$C$3,$B$5:$C$5,B38,D38)","v":{"$error":"#VALUE!"}},{"$error":"#VALUE!"},{"$error":"#VALUE!"},{"$error":"#VALUE!"}]
[15.5,0.27052603405912107,{"$f":"Burmester($B$3:$C$3,$B$4:$C$4,$B$5:$C$5,$E$3,$E$4,$E$5,B39)","v":{"$error":"#VALUE!"}},{"$error":"#VALUE!"},{"$f":"ThreePosition_Basic2($E$3,$E$5,$B$3:$C$3,$B$5:$C$5,B39,C39)","v":{"$error":"#VALUE!"}},{"$error":"#VALUE!"},{"$error":"#VALUE!"},{"$error":"#VALUE!"},{"$f":"ThreePosition_Basic2($E$3,$E$5,$B$3:$C$3,$B$5:$C$5,B39,D39)","v":{"$error":"#VALUE!"}},{"$error":"#VALUE!"},{"$error":"#VALUE!"},{"$error":"#VALUE!"}]
[16,0.27925268031909273,{"$f":"Burmester($B$3:$C$3,$B$4:$C$4,$B$5:$C$5,$E$3,$E$4,$E$5,B40)","v":{"$error":"#VALUE!"}},{"$error":"#VALUE!"},{"$f":"ThreePosition_Basic2($E$3,$E$5,$B$3:$C$3,$B$5:$C$5,B40,C40)","v":{"$error":"#VALUE!"}},{"$error":"#VALUE!"},{"$error":"#VALUE!"},{"$error":"#VALUE!"},{"$f":"ThreePosition_Basic2($E$3,$E$5,$B$3:$C$3,$B$5:$C$5,B40,D40)","v":{"$error":"#VALUE!"}},{"$error":"#VALUE!"},{"$error":"#VALUE!"},{"$error":"#VALUE!"}]
[16.5,0.28797932657906439,{"$f":"Burmester($B$3:$C$3,$B$4:$C$4,$B$5:$C$5,$E$3,$E$4,$E$5,B41)","v":{"$error":"#VALUE!"}},{"$error":"#VALUE!"},{"$f":"ThreePosition_Basic2($E$3,$E$5,$B$3:$C$3,$B$5:$C$5,B41,C41)","v":{"$error":"#VALUE!"}},{"$error":"#VALUE!"},{"$error":"#VALUE!"},{"$error":"#VALUE!"},{"$f":"ThreePosition_Basic2($E$3,$E$5,$B$3:$C$3,$B$5:$C$5,B41,D41)","v":{"$error":"#VALUE!"}},{"$error":"#VALUE!"},{"$error":"#VALUE!"},{"$error":"#VALUE!"}]
[17,0.29670597283903605,{"$f":"Burmester($B$3:$C$3,$B$4:$C$4,$B$5:$C$5,$E$3,$E$4,$E$5,B42)","v":{"$error":"#VALUE!"}},{"$error":"#VALUE!"},{"$f":"ThreePosition_Basic2($E$3,$E$5,$B$3:$C$3,$B$5:$C$5,B42,C42)","v":{"$error":"#VALUE!"}},{"$error":"#VALUE!"},{"$error":"#VALUE!"},{"$error":"#VALUE!"},{"$f":"ThreePosition_Basic2($E$3,$E$5,$B$3:$C$3,$B$5:$C$5,B42,D42)","v":{"$error":"#VALUE!"}},{"$error":"#VALUE!"},{"$error":"#VALUE!"},{"$error":"#VALUE!"}]
[17.5,0.30543261909900765,{"$f":"Burmester($B$3:$C$3,$B$4:$C$4,$B$5:$C$5,$E$3,$E$4,$E$5,B43)","v":{"$error":"#VALUE!"}},{"$error":"#VALUE!"},{"$f":"ThreePosition_Basic2($E$3,$E$5,$B$3:$C$3,$B$5:$C$5,B43,C43)","v":{"$error":"#VALUE!"}},{"$error":"#VALUE!"},{"$error":"#VALUE!"},{"$error":"#VALUE!"},{"$f":"ThreePosition_Basic2($E$3,$E$5,$B$3:$C$3,$B$5:$C$5,B43,D43)","v":{"$error":"#VALUE!"}},{"$error":"#VALUE!"},{"$error":"#VALUE!"},{"$error":"#VALUE!"}]
[18,0.31415926535897931,{"$f":"Burmester($B$3:$C$3,$B$4:$C$4,$B$5:$C$5,$E$3,$E$4,$E$5,B44)","v":{"$error":"#VALUE!"}},{"$error":"#VALUE!"},{"$f":"ThreePosition_Basic2($E$3,$E$5,$B$3:$C$3,$B$5:$C$5,B44,C44)","v":{"$error":"#VALUE!"}},{"$error":"#VALUE!"},{"$error":"#VALUE!"},{"$error":"#VALUE!"},{"$f":"ThreePosition_Basic2($E$3,$E$5,$B$3:$C$3,$B$5:$C$5,B44,D44)","v":{"$error":"#VALUE!"}},{"$error":"#VALUE!"},{"$error":"#VALUE!"},{"$error":"#VALUE!"}]
[18.5,0.32288591161895097,{"$f":"Burmester($B$3:$C$3,$B$4:$C$4,$B$5:$C$5,$E$3,$E$4,$E$5,B45)","v":{"$error":"#VALUE!"}},{"$error":"#VALUE!"},{"$f":"ThreePosition_Basic2($E$3,$E$5,$B$3:$C$3,$B$5:$C$5,B45,C45)","v":{"$error":"#VALUE!"}},{"$error":"#VALUE!"},{"$error":"#VALUE!"},{"$error":"#VALUE!"},{"$f":"ThreePosition_Basic2($E$3,$E$5,$B$3:$C$3,$B$5:$C$5,B45,D45)","v":{"$error":"#VALUE!"}},{"$error":"#VALUE!"},{"$error":"#VALUE!"},{"$error":"#VALUE!"}]
[19,0.33161255787892258,{"$f":"Burmester($B$3:$C$3,$B$4:$C$4,$B$5:$C$5,$E$3,$E$4,$E$5,B46)","v":{"$error":"#VALUE!"}},{"$error":"#VALUE!"},{"$f":"ThreePosition_Basic2($E$3,$E$5,$B$3:$C$3,$B$5:$C$5,B46,C46)","v":{"$error":"#VALUE!"}},{"$error":"#VALUE!"},{"$error":"#VALUE!"},{"$error":"#VALUE!"},{"$f":"ThreePosition_Basic2($E$3,$E$5,$B$3:$C$3,$B$5:$C$5,B46,D46)","v":{"$error":"#VALUE!"}},{"$error":"#VALUE!"},{"$error":"#VALUE!"},{"$error":"#VALUE!"}]
[19.5,0.34033920413889424,{"$f":"Burmester($B$3:$C$3,$B$4:$C$4,$B$5:$C$5,$E$3,$E$4,$E$5,B47)","v":{"$error":"#VALUE!"}},{"$error":"#VALUE!"},{"$f":"ThreePosition_Basic2($E$3,$E$5,$B$3:$C$3,$B$5:$C$5,B47,C47)","v":{"$error":"#VALUE!"}},{"$error":"#VALUE!"},{"$error":"#VALUE!"},{"$error":"#VALUE!"},{"$f":"ThreePosition_Basic2($E$3,$E$5,$B$3:$C$3,$B$5:$C$5,B47,D47)","v":{"$error":"#VALUE!"}},{"$error":"#VALUE!"},{"$error":"#VALUE!"},{"$error":"#VALUE!"}]
[20,0.3490658503988659,{"$f":"Burmester($B$3:$C$3,$B$4:$C$4,$B$5:$C$5,$E$3,$E$4,$E$5,B48)","v":{"$error":"#VALUE!"}},{"$error":"#VALUE!"},{"$f":"ThreePosition_Basic2($E$3,$E$5,$B$3:$C$3,$B$5:$C$5,B48,C48)","v":{"$error":"#VALUE!"}},{"$error":"#VALUE!"},{"$error":"#VALUE!"},{"$error":"#VALUE!"},{"$f":"ThreePosition_Basic2($E$3,$E$5,$B$3:$C$3,$B$5:$C$5,B48,D48)","v":{"$error":"#VALUE!"}},{"$error":"#VALUE!"},{"$error":"#VALUE!"},{"$error":"#VALUE!"}]
[20.5,0.3577924966588375,{"$f":"Burmester($B$3:$C$3,$B$4:$C$4,$B$5:$C$5,$E$3,$E$4,$E$5,B49)","v":{"$error":"#VALUE!"}},{"$error":"#VALUE!"},{"$f":"ThreePosition_Basic2($E$3,$E$5,$B$3:$C$3,$B$5:$C$5,B49,C49)","v":{"$error":"#VALUE!"}},{"$error":"#VALUE!"},{"$error":"#VALUE!"},{"$error":"#VALUE!"},{"$f":"ThreePosition_Basic2($E$3,$E$5,$B$3:$C$3,$B$5:$C$5,B49,D49)","v":{"$error":"#VALUE!"}},{"$error":"#VALUE!"},{"$error":"#VALUE!"},{"$error":"#VALUE!"}]
[21,0.36651914291880922,{"$f":"Burmester($B$3:$C$3,$B$4:$C$4,$B$5:$C$5,$E$3,$E$4,$E$5,B50)","v":{"$error":"#VALUE!"}},{"$error":"#VALUE!"},{"$f":"ThreePosition_Basic2($E$3,$E$5,$B$3:$C$3,$B$5:$C$5,B50,C50)","v":{"$error":"#VALUE!"}},{"$error":"#VALUE!"},{"$error":"#VALUE!"},{"$error":"#VALUE!"},{"$f":"ThreePosition_Basic2($E$3,$E$5,$B$3:$C$3,$B$5:$C$5,B50,D50)","v":{"$error":"#VALUE!"}},{"$error":"#VALUE!"},{"$error":"#VALUE!"},{"$error":"#VALUE!"}]
[21.5,0.37524578917878082,{"$f":"Burmester($B$3:$C$3,$B$4:$C$4,$B$5:$C$5,$E$3,$E$4,$E$5,B51)","v":{"$error":"#VALUE!"}},{"$error":"#VALUE!"},{"$f":"ThreePosition_Basic2($E$3,$E$5,$B$3:$C$3,$B$5:$C$5,B51,C51)","v":{"$error":"#VALUE!"}},{"$error":"#VALUE!"},{"$error":"#VALUE!"},{"$error":"#VALUE!"},{"$f":"ThreePosition_Basic2($E$3,$E$5,$B$3:$C$3,$B$5:$C$5,B51,D51)","v":{"$error":"#VALUE!"}},{"$error":"#VALUE!"},{"$error":"#VALUE!"},{"$error":"#VALUE!"}]
[22,0.38397243543875248,{"$f":"Burmester($B$3:$C$3,$B$4:$C$4,$B$5:$C$5,$E$3,$E$4,$E$5,B52)","v":{"$error":"#VALUE!"}},{"$error":"#VALUE!"},{"$f":"ThreePosition_Basic2($E$3,$E$5,$B$3:$C$3,$B$5:$C$5,B52,C52)","v":{"$error":"#VALUE!"}},{"$error":"#VALUE!"},{"$error":"#VALUE!"},{"$error":"#VALUE!"},{"$f":"ThreePosition_Basic2($E$3,$E$5,$B$3:$C$3,$B$5:$C$5,B52,D52)","v":{"$error":"#VALUE!"}},{"$error":"#VALUE!"},{"$error":"#VALUE!"},{"$error":"#VALUE!"}]
[22.5,0.39269908169872414,{"$f":"Burmester($B$3:$C$3,$B$4:$C$4,$B$5:$C$5,$E$3,$E$4,$E$5,B53)","v":{"$error":"#VALUE!"}},{"$error":"#VALUE!"},{"$f":"ThreePosition_Basic2($E$3,$E$5,$B$3:$C$3,$B$5:$C$5,B53,C53)","v":{"$error":"#VALUE!"}},{"$error":"#VALUE!"},{"$error":"#VALUE!"},{"$error":"#VALUE!"},{"$f":"ThreePosition_Basic2($E$3,$E$5,$B$3:$C$3,$B$5:$C$5,B53,D53)","v":{"$error":"#VALUE!"}},{"$error":"#VALUE!"},{"$error":"#VALUE!"},{"$error":"#VALUE!"}]
[23,0.40142572795869574,{"$f":"Burmester($B$3:$C$3,$B$4:$C$4,$B$5:$C$5,$E$3,$E$4,$E$5,B54)","v":{"$error":"#VALUE!"}},{"$error":"#VALUE!"},{"$f":"ThreePosition_Basic2($E$3,$E$5,$B$3:$C$3,$B$5:$C$5,B54,C54)","v":{"$error":"#VALUE!"}},{"$error":"#VALUE!"},{"$error":"#VALUE!"},{"$error":"#VALUE!"},{"$f":"ThreePosition_Basic2($E$3,$E$5,$B$3:$C$3,$B$5:$C$5,B54,D54)","v":{"$error":"#VALUE!"}},{"$error":"#VALUE!"},{"$error":"#VALUE!"},{"$error":"#VALUE!"}]
[23.5,0.41015237421866746,{"$f":"Burmester($B$3:$C$3,$B$4:$C$4,$B$5:$C$5,$E$3,$E$4,$E$5,B55)","v":{"$error":"#VALUE!"}},{"$error":"#VALUE!"},{"$f":"ThreePosition_Basic2($E$3,$E$5,$B$3:$C$3,$B$5:$C$5,B55,C55)","v":{"$error":"#VALUE!"}},{"$error":"#VALUE!"},{"$error":"#VALUE!"},{"$error":"#VALUE!"},{"$f":"ThreePosition_Basic2($E$3,$E$5,$B$3:$C$3,$B$5:$C$5,B55,D55)","v":{"$error":"#VALUE!"}},{"$error":"#VALUE!"},{"$error":"#VALUE!"},{"$error":"#VALUE!"}]
[24,0.41887902047863906,{"$f":"Burmester($B$3:$C$3,$B$4:$C$4,$B$5:$C$5,$E$3,$E$4,$E$5,B56)","v":{"$error":"#VALUE!"}},{"$error":"#VALUE!"},{"$f":"ThreePosition_Basic2($E$3,$E$5,$B$3:$C$3,$B$5:$C$5,B56,C56)","v":{"$error":"#VALUE!"}},{"$error":"#VALUE!"},{"$error":"#VALUE!"},{"$error":"#VALUE!"},{"$f":"ThreePosition_Basic2($E$3,$E$5,$B$3:$C$3,$B$5:$C$5,B56,D56)","v":{"$error":"#VALUE!"}},{"$error":"#VALUE!"},{"$error":"#VALUE!"},{"$error":"#VALUE!"}]
[24.5,0.42760566673861072,{"$f":"Burmester($B$3:$C$3,$B$4:$C$4,$B$5:$C$5,$E$3,$E$4,$E$5,B57)","v":{"$error":"#VALUE!"}},{"$error":"#VALUE!"},{"$f":"ThreePosition_Basic2($E$3,$E$5,$B$3:$C$3,$B$5:$C$5,B57,C57)","v":{"$error":"#VALUE!"}},{"$error":"#VALUE!"},{"$error":"#VALUE!"},{"$error":"#VALUE!"},{"$f":"ThreePosition_Basic2($E$3,$E$5,$B$3:$C$3,$B$5:$C$5,B57,D57)","v":{"$error":"#VALUE!"}},{"$error":"#VALUE!"},{"$error":"#VALUE!"},{"$error":"#VALUE!"}]
[25,0.43633231299858238,{"$f":"Burmester($B$3:$C$3,$B$4:$C$4,$B$5:$C$5,$E$3,$E$4,$E$5,B58)","v":{"$error":"#VALUE!"}},{"$error":"#VALUE!"},{"$f":"ThreePosition_Basic2($E$3,$E$5,$B$3:$C$3,$B$5:$C$5,B58,C58)","v":{"$error":"#VALUE!"}},{"$error":"#VALUE!"},{"$error":"#VALUE!"},{"$error":"#VALUE!"},{"$f":"ThreePosition_Basic2($E$3,$E$5,$B$3:$C$3,$B$5:$C$5,B58,D58)","v":{"$error":"#VALUE!"}},{"$error":"#VALUE!"},{"$error":"#VALUE!"},{"$error":"#VALUE!"}]
[25.5,0.44505895925855399,{"$f":"Burmester($B$3:$C$3,$B$4:$C$4,$B$5:$C$5,$E$3,$E$4,$E$5,B59)","v":{"$error":"#VALUE!"}},{"$error":"#VALUE!"},{"$f":"ThreePosition_Basic2($E$3,$E$5,$B$3:$C$3,$B$5:$C$5,B59,C59)","v":{"$error":"#VALUE!"}},{"$error":"#VALUE!"},{"$error":"#VALUE!"},{"$error":"#VALUE!"},{"$f":"ThreePosition_Basic2($E$3,$E$5,$B$3:$C$3,$B$5:$C$5,B59,D59)","v":{"$error":"#VALUE!"}},{"$error":"#VALUE!"},{"$error":"#VALUE!"},{"$error":"#VALUE!"}]
[26,0.4537856055185257,{"$f":"Burmester($B$3:$C$3,$B$4:$C$4,$B$5:$C$5,$E$3,$E$4,$E$5,B60)","v":{"$error":"#VALUE!"}},{"$error":"#VALUE!"},{"$f":"ThreePosition_Basic2($E$3,$E$5,$B$3:$C$3,$B$5:$C$5,B60,C60)","v":{"$error":"#VALUE!"}},{"$error":"#VALUE!"},{"$error":"#VALUE!"},{"$error":"#VALUE!"},{"$f":"ThreePosition_Basic2($E$3,$E$5,$B$3:$C$3,$B$5:$C$5,B60,D60)","v":{"$error":"#VALUE!"}},{"$error":"#VALUE!"},{"$error":"#VALUE!"},{"$error":"#VALUE!"}]
[26.5,0.46251225177849731,{"$f":"Burmester($B$3:$C$3,$B$4:$C$4,$B$5:$C$5,$E$3,$E$4,$E$5,B61)","v":{"$error":"#VALUE!"}},{"$error":"#VALUE!"},{"$f":"ThreePosition_Basic2($E$3,$E$5,$B$3:$C$3,$B$5:$C$5,B61,C61)","v":{"$error":"#VALUE!"}},{"$error":"#VALUE!"},{"$error":"#VALUE!"},{"$error":"#VALUE!"},{"$f":"ThreePosition_Basic2($E$3,$E$5,$B$3:$C$3,$B$5:$C$5,B61,D61)","v":{"$error":"#VALUE!"}},{"$error":"#VALUE!"},{"$error":"#VALUE!"},{"$error":"#VALUE!"}]
[27,0.47123889803846897,{"$f":"Burmester($B$3:$C$3,$B$4:$C$4,$B$5:$C$5,$E$3,$E$4,$E$5,B62)","v":{"$error":"#VALUE!"}},{"$error":"#VALUE!"},{"$f":"ThreePosition_Basic2($E$3,$E$5,$B$3:$C$3,$B$5:$C$5,B62,C62)","v":{"$error":"#VALUE!"}},{"$error":"#VALUE!"},{"$error":"#VALUE!"},{"$error":"#VALUE!"},{"$f":"ThreePosition_Basic2($E$3,$E$5,$B$3:$C$3,$B$5:$C$5,B62,D62)","v":{"$error":"#VALUE!"}},{"$error":"#VALUE!"},{"$error":"#VALUE!"},{"$error":"#VALUE!"}]
[27.5,0.47996554429844063,{"$f":"Burmester($B$3:$C$3,$B$4:$C$4,$B$5:$C$5,$E$3,$E$4,$E$5,B63)","v":{"$error":"#VALUE!"}},{"$error":"#VALUE!"},{"$f":"ThreePosition_Basic2($E$3,$E$5,$B$3:$C$3,$B$5:$C$5,B63,C63)","v":{"$error":"#VALUE!"}},{"$error":"#VALUE!"},{"$error":"#VALUE!"},{"$error":"#VALUE!"},{"$f":"ThreePosition_Basic2($E$3,$E$5,$B$3:$C$3,$B$5:$C$5,B63,D63)","v":{"$error":"#VALUE!"}},{"$error":"#VALUE!"},{"$error":"#VALUE!"},{"$error":"#VALUE!"}]
[28,0.48869219055841229,{"$f":"Burmester($B$3:$C$3,$B$4:$C$4,$B$5:$C$5,$E$3,$E$4,$E$5,B64)","v":{"$error":"#VALUE!"}},{"$error":"#VALUE!"},{"$f":"ThreePosition_Basic2($E$3,$E$5,$B$3:$C$3,$B$5:$C$5,B64,C64)","v":{"$error":"#VALUE!"}},{"$error":"#VALUE!"},{"$error":"#VALUE!"},{"$error":"#VALUE!"},{"$f":"ThreePosition_Basic2($E$3,$E$5,$B$3:$C$3,$B$5:$C$5,B64,D64)","v":{"$error":"#VALUE!"}},{"$error":"#VALUE!"},{"$error":"#VALUE!"},{"$error":"#VALUE!"}]
[28.5,0.49741883681838389,{"$f":"Burmester($B$3:$C$3,$B$4:$C$4,$B$5:$C$5,$E$3,$E$4,$E$5,B65)","v":{"$error":"#VALUE!"}},{"$error":"#VALUE!"},{"$f":"ThreePosition_Basic2($E$3,$E$5,$B$3:$C$3,$B$5:$C$5,B65,C65)","v":{"$error":"#VALUE!"}},{"$error":"#VALUE!"},{"$error":"#VALUE!"},{"$error":"#VALUE!"},{"$f":"ThreePosition_Basic2($E$3,$E$5,$B$3:$C$3,$B$5:$C$5,B65,D65)","v":{"$error":"#VALUE!"}},{"$error":"#VALUE!"},{"$error":"#VALUE!"},{"$error":"#VALUE!"}]
[29,0.50614548307835561,{"$f":"Burmester($B$3:$C$3,$B$4:$C$4,$B$5:$C$5,$E$3,$E$4,$E$5,B66)","v":{"$error":"#VALUE!"}},{"$error":"#VALUE!"},{"$f":"ThreePosition_Basic2($E$3,$E$5,$B$3:$C$3,$B$5:$C$5,B66,C66)","v":{"$error":"#VALUE!"}},{"$error":"#VALUE!"},{"$error":"#VALUE!"},{"$error":"#VALUE!"},{"$f":"ThreePosition_Basic2($E$3,$E$5,$B$3:$C$3,$B$5:$C$5,B66,D66)","v":{"$error":"#VALUE!"}},{"$error":"#VALUE!"},{"$error":"#VALUE!"},{"$error":"#VALUE!"}]
[29.5,0.51487212933832716,{"$f":"Burmester($B$3:$C$3,$B$4:$C$4,$B$5:$C$5,$E$3,$E$4,$E$5,B67)","v":{"$error":"#VALUE!"}},{"$error":"#VALUE!"},{"$f":"ThreePosition_Basic2($E$3,$E$5,$B$3:$C$3,$B$5:$C$5,B67,C67)","v":{"$error":"#VALUE!"}},{"$error":"#VALUE!"},{"$error":"#VALUE!"},{"$error":"#VALUE!"},{"$f":"ThreePosition_Basic2($E$3,$E$5,$B$3:$C$3,$B$5:$C$5,B67,D67)","v":{"$error":"#VALUE!"}},{"$error":"#VALUE!"},{"$error":"#VALUE!"},{"$error":"#VALUE!"}]
[30,0.52359877559829882,{"$f":"Burmester($B$3:$C$3,$B$4:$C$4,$B$5:$C$5,$E$3,$E$4,$E$5,B68)","v":{"$error":"#VALUE!"}},{"$error":"#VALUE!"},{"$f":"ThreePosition_Basic2($E$3,$E$5,$B$3:$C$3,$B$5:$C$5,B68,C68)","v":{"$error":"#VALUE!"}},{"$error":"#VALUE!"},{"$error":"#VALUE!"},{"$error":"#VALUE!"},{"$f":"ThreePosition_Basic2($E$3,$E$5,$B$3:$C$3,$B$5:$C$5,B68,D68)","v":{"$error":"#VALUE!"}},{"$error":"#VALUE!"},{"$error":"#VALUE!"},{"$error":"#VALUE!"}]
[30.5,0.53232542185827048,{"$f":"Burmester($B$3:$C$3,$B$4:$C$4,$B$5:$C$5,$E$3,$E$4,$E$5,B69)","v":{"$error":"#VALUE!"}},{"$error":"#VALUE!"},{"$f":"ThreePosition_Basic2($E$3,$E$5,$B$3:$C$3,$B$5:$C$5,B69,C69)","v":{"$error":"#VALUE!"}},{"$error":"#VALUE!"},{"$error":"#VALUE!"},{"$error":"#VALUE!"},{"$f":"ThreePosition_Basic2($E$3,$E$5,$B$3:$C$3,$B$5:$C$5,B69,D69)","v":{"$error":"#VALUE!"}},{"$error":"#VALUE!"},{"$error":"#VALUE!"},{"$error":"#VALUE!"}]
[31,0.54105206811824214,{"$f":"Burmester($B$3:$C$3,$B$4:$C$4,$B$5:$C$5,$E$3,$E$4,$E$5,B70)","v":{"$error":"#VALUE!"}},{"$error":"#VALUE!"},{"$f":"ThreePosition_Basic2($E$3,$E$5,$B$3:$C$3,$B$5:$C$5,B70,C70)","v":{"$error":"#VALUE!"}},{"$error":"#VALUE!"},{"$error":"#VALUE!"},{"$error":"#VALUE!"},{"$f":"ThreePosition_Basic2($E$3,$E$5,$B$3:$C$3,$B$5:$C$5,B70,D70)","v":{"$error":"#VALUE!"}},{"$error":"#VALUE!"},{"$error":"#VALUE!"},{"$error":"#VALUE!"}]
[31.5,0.5497787143782138,{"$f":"Burmester($B$3:$C$3,$B$4:$C$4,$B$5:$C$5,$E$3,$E$4,$E$5,B71)","v":{"$error":"#VALUE!"}},{"$error":"#VALUE!"},{"$f":"ThreePosition_Basic2($E$3,$E$5,$B$3:$C$3,$B$5:$C$5,B71,C71)","v":{"$error":"#VALUE!"}},{"$error":"#VALUE!"},{"$error":"#VALUE!"},{"$error":"#VALUE!"},{"$f":"ThreePosition_Basic2($E$3,$E$5,$B$3:$C$3,$B$5:$C$5,B71,D71)","v":{"$error":"#VALUE!"}},{"$error":"#VALUE!"},{"$error":"#VALUE!"},{"$error":"#VALUE!"}]
[32,0.55850536063818546,{"$f":"Burmester($B$3:$C$3,$B$4:$C$4,$B$5:$C$5,$E$3,$E$4,$E$5,B72)","v":{"$error":"#VALUE!"}},{"$error":"#VALUE!"},{"$f":"ThreePosition_Basic2($E$3,$E$5,$B$3:$C$3,$B$5:$C$5,B72,C72)","v":{"$error":"#VALUE!"}},{"$error":"#VALUE!"},{"$error":"#VALUE!"},{"$error":"#VALUE!"},{"$f":"ThreePosition_Basic2($E$3,$E$5,$B$3:$C$3,$B$5:$C$5,B72,D72)","v":{"$error":"#VALUE!"}},{"$error":"#VALUE!"},{"$error":"#VALUE!"},{"$error":"#VALUE!"}]
[32.5,{"$f":"A73*PI()/180","v":0.56723200689815712},{"$f":"Burmester($B$3:$C$3,$B$4:$C$4,$B$5:$C$5,$E$3,$E$4,$E$5,B73)","v":{"$error":"#VALUE!"}},{"$error":"#VALUE!"},{"$f":"ThreePosition_Basic2($E$3,$E$5,$B$3:$C$3,$B$5:$C$5,B73,C73)","v":{"$error":"#VALUE!"}},{"$error":"#VALUE!"},{"$error":"#VALUE!"},{"$error":"#VALUE!"},{"$f":"ThreePosition_Basic2($E$3,$E$5,$B$3:$C$3,$B$5:$C$5,B73,D73)","v":{"$error":"#VALUE!"}},{"$error":"#VALUE!"},{"$error":"#VALUE!"},{"$error":"#VALUE!"}]
[33,0.57595865315812877,{"$f":"Burmester($B$3:$C$3,$B$4:$C$4,$B$5:$C$5,$E$3,$E$4,$E$5,B74)","v":{"$error":"#VALUE!"}},{"$error":"#VALUE!"},{"$f":"ThreePosition_Basic2($E$3,$E$5,$B$3:$C$3,$B$5:$C$5,B74,C74)","v":{"$error":"#VALUE!"}},{"$error":"#VALUE!"},{"$error":"#VALUE!"},{"$error":"#VALUE!"},{"$f":"ThreePosition_Basic2($E$3,$E$5,$B$3:$C$3,$B$5:$C$5,B74,D74)","v":{"$error":"#VALUE!"}},{"$error":"#VALUE!"},{"$error":"#VALUE!"},{"$error":"#VALUE!"}]
[33.5,0.58468529941810032,{"$f":"Burmester($B$3:$C$3,$B$4:$C$4,$B$5:$C$5,$E$3,$E$4,$E$5,B75)","v":{"$error":"#VALUE!"}},{"$error":"#VALUE!"},{"$f":"ThreePosition_Basic2($E$3,$E$5,$B$3:$C$3,$B$5:$C$5,B75,C75)","v":{"$error":"#VALUE!"}},{"$error":"#VALUE!"},{"$error":"#VALUE!"},{"$error":"#VALUE!"},{"$f":"ThreePosition_Basic2($E$3,$E$5,$B$3:$C$3,$B$5:$C$5,B75,D75)","v":{"$error":"#VALUE!"}},{"$error":"#VALUE!"},{"$error":"#VALUE!"},{"$error":"#VALUE!"}]
[34,0.59341194567807209,{"$f":"Burmester($B$3:$C$3,$B$4:$C$4,$B$5:$C$5,$E$3,$E$4,$E$5,B76)","v":{"$error":"#VALUE!"}},{"$error":"#VALUE!"},{"$f":"ThreePosition_Basic2($E$3,$E$5,$B$3:$C$3,$B$5:$C$5,B76,C76)","v":{"$error":"#VALUE!"}},{"$error":"#VALUE!"},{"$error":"#VALUE!"},{"$error":"#VALUE!"},{"$f":"ThreePosition_Basic2($E$3,$E$5,$B$3:$C$3,$B$5:$C$5,B76,D76)","v":{"$error":"#VALUE!"}},{"$error":"#VALUE!"},{"$error":"#VALUE!"},{"$error":"#VALUE!"}]
[34.5,0.60213859193804364,{"$f":"Burmester($B$3:$C$3,$B$4:$C$4,$B$5:$C$5,$E$3,$E$4,$E$5,B77)","v":{"$error":"#VALUE!"}},{"$error":"#VALUE!"},{"$f":"ThreePosition_Basic2($E$3,$E$5,$B$3:$C$3,$B$5:$C$5,B77,C77)","v":{"$error":"#VALUE!"}},{"$error":"#VALUE!"},{"$error":"#VALUE!"},{"$error":"#VALUE!"},{"$f":"ThreePosition_Basic2($E$3,$E$5,$B$3:$C$3,$B$5:$C$5,B77,D77)","v":{"$error":"#VALUE!"}},{"$error":"#VALUE!"},{"$error":"#VALUE!"},{"$error":"#VALUE!"}]
[35,0.6108652381980153,{"$f":"Burmester($B$3:$C$3,$B$4:$C$4,$B$5:$C$5,$E$3,$E$4,$E$5,B78)","v":{"$error":"#VALUE!"}},{"$error":"#VALUE!"},{"$f":"ThreePosition_Basic2($E$3,$E$5,$B$3:$C$3,$B$5:$C$5,B78,C78)","v":{"$error":"#VALUE!"}},{"$error":"#VALUE!"},{"$error":"#VALUE!"},{"$error":"#VALUE!"},{"$f":"ThreePosition_Basic2($E$3,$E$5,$B$3:$C$3,$B$5:$C$5,B78,D78)","v":{"$error":"#VALUE!"}},{"$error":"#VALUE!"},{"$error":"#VALUE!"},{"$error":"#VALUE!"}]
[35.5,0.61959188445798696,{"$f":"Burmester($B$3:$C$3,$B$4:$C$4,$B$5:$C$5,$E$3,$E$4,$E$5,B79)","v":{"$error":"#VALUE!"}},{"$error":"#VALUE!"},{"$f":"ThreePosition_Basic2($E$3,$E$5,$B$3:$C$3,$B$5:$C$5,B79,C79)","v":{"$error":"#VALUE!"}},{"$error":"#VALUE!"},{"$error":"#VALUE!"},{"$error":"#VALUE!"},{"$f":"ThreePosition_Basic2($E$3,$E$5,$B$3:$C$3,$B$5:$C$5,B79,D79)","v":{"$error":"#VALUE!"}},{"$error":"#VALUE!"},{"$error":"#VALUE!"},{"$error":"#VALUE!"}]
[36,0.62831853071795862,{"$f":"Burmester($B$3:$C$3,$B$4:$C$4,$B$5:$C$5,$E$3,$E$4,$E$5,B80)","v":{"$error":"#VALUE!"}},{"$error":"#VALUE!"},{"$f":"ThreePosition_Basic2($E$3,$E$5,$B$3:$C$3,$B$5:$C$5,B80,C80)","v":{"$error":"#VALUE!"}},{"$error":"#VALUE!"},{"$error":"#VALUE!"},{"$error":"#VALUE!"},{"$f":"ThreePosition_Basic2($E$3,$E$5,$B$3:$C$3,$B$5:$C$5,B80,D80)","v":{"$error":"#VALUE!"}},{"$error":"#VALUE!"},{"$error":"#VALUE!"},{"$error":"#VALUE!"}]
[36.5,0.63704517697793028,{"$f":"Burmester($B$3:$C$3,$B$4:$C$4,$B$5:$C$5,$E$3,$E$4,$E$5,B81)","v":{"$error":"#VALUE!"}},{"$error":"#VALUE!"},{"$f":"ThreePosition_Basic2($E$3,$E$5,$B$3:$C$3,$B$5:$C$5,B81,C81)","v":{"$error":"#VALUE!"}},{"$error":"#VALUE!"},{"$error":"#VALUE!"},{"$error":"#VALUE!"},{"$f":"ThreePosition_Basic2($E$3,$E$5,$B$3:$C$3,$B$5:$C$5,B81,D81)","v":{"$error":"#VALUE!"}},{"$error":"#VALUE!"},{"$error":"#VALUE!"},{"$error":"#VALUE!"}]
[37,0.64577182323790194,{"$f":"Burmester($B$3:$C$3,$B$4:$C$4,$B$5:$C$5,$E$3,$E$4,$E$5,B82)","v":{"$error":"#VALUE!"}},{"$error":"#VALUE!"},{"$f":"ThreePosition_Basic2($E$3,$E$5,$B$3:$C$3,$B$5:$C$5,B82,C82)","v":{"$error":"#VALUE!"}},{"$error":"#VALUE!"},{"$error":"#VALUE!"},{"$error":"#VALUE!"},{"$f":"ThreePosition_Basic2($E$3,$E$5,$B$3:$C$3,$B$5:$C$5,B82,D82)","v":{"$error":"#VALUE!"}},{"$error":"#VALUE!"},{"$error":"#VALUE!"},{"$error":"#VALUE!"}]
[37.5,0.6544984694978736,{"$f":"Burmester($B$3:$C$3,$B$4:$C$4,$B$5:$C$5,$E$3,$E$4,$E$5,B83)","v":{"$error":"#VALUE!"}},{"$error":"#VALUE!"},{"$f":"ThreePosition_Basic2($E$3,$E$5,$B$3:$C$3,$B$5:$C$5,B83,C83)","v":{"$error":"#VALUE!"}},{"$error":"#VALUE!"},{"$error":"#VALUE!"},{"$error":"#VALUE!"},{"$f":"ThreePosition_Basic2($E$3,$E$5,$B$3:$C$3,$B$5:$C$5,B83,D83)","v":{"$error":"#VALUE!"}},{"$error":"#VALUE!"},{"$error":"#VALUE!"},{"$error":"#VALUE!"}]
[38,0.66322511575784515,{"$f":"Burmester($B$3:$C$3,$B$4:$C$4,$B$5:$C$5,$E$3,$E$4,$E$5,B84)","v":{"$error":"#VALUE!"}},{"$error":"#VALUE!"},{"$f":"ThreePosition_Basic2($E$3,$E$5,$B$3:$C$3,$B$5:$C$5,B84,C84)","v":{"$error":"#VALUE!"}},{"$error":"#VALUE!"},{"$error":"#VALUE!"},{"$error":"#VALUE!"},{"$f":"ThreePosition_Basic2($E$3,$E$5,$B$3:$C$3,$B$5:$C$5,B84,D84)","v":{"$error":"#VALUE!"}},{"$error":"#VALUE!"},{"$error":"#VALUE!"},{"$error":"#VALUE!"}]
[38.5,0.67195176201781692,{"$f":"Burmester($B$3:$C$3,$B$4:$C$4,$B$5:$C$5,$E$3,$E$4,$E$5,B85)","v":{"$error":"#VALUE!"}},{"$error":"#VALUE!"},{"$f":"ThreePosition_Basic2($E$3,$E$5,$B$3:$C$3,$B$5:$C$5,B85,C85)","v":{"$error":"#VALUE!"}},{"$error":"#VALUE!"},{"$error":"#VALUE!"},{"$error":"#VALUE!"},{"$f":"ThreePosition_Basic2($E$3,$E$5,$B$3:$C$3,$B$5:$C$5,B85,D85)","v":{"$error":"#VALUE!"}},{"$error":"#VALUE!"},{"$error":"#VALUE!"},{"$error":"#VALUE!"}]
[39,0.68067840827778847,{"$f":"Burmester($B$3:$C$3,$B$4:$C$4,$B$5:$C$5,$E$3,$E$4,$E$5,B86)","v":{"$error":"#VALUE!"}},{"$error":"#VALUE!"},{"$f":"ThreePosition_Basic2($E$3,$E$5,$B$3:$C$3,$B$5:$C$5,B86,C86)","v":{"$error":"#VALUE!"}},{"$error":"#VALUE!"},{"$error":"#VALUE!"},{"$error":"#VALUE!"},{"$f":"ThreePosition_Basic2($E$3,$E$5,$B$3:$C$3,$B$5:$C$5,B86,D86)","v":{"$error":"#VALUE!"}},{"$error":"#VALUE!"},{"$error":"#VALUE!"},{"$error":"#VALUE!"}]
[39.5,0.68940505453776013,{"$f":"Burmester($B$3:$C$3,$B$4:$C$4,$B$5:$C$5,$E$3,$E$4,$E$5,B87)","v":{"$error":"#VALUE!"}},{"$error":"#VALUE!"},{"$f":"ThreePosition_Basic2($E$3,$E$5,$B$3:$C$3,$B$5:$C$5,B87,C87)","v":{"$error":"#VALUE!"}},{"$error":"#VALUE!"},{"$error":"#VALUE!"},{"$error":"#VALUE!"},{"$f":"ThreePosition_Basic2($E$3,$E$5,$B$3:$C$3,$B$5:$C$5,B87,D87)","v":{"$error":"#VALUE!"}},{"$error":"#VALUE!"},{"$error":"#VALUE!"},{"$error":"#VALUE!"}]
[40,0.69813170079773179,{"$f":"Burmester($B$3:$C$3,$B$4:$C$4,$B$5:$C$5,$E$3,$E$4,$E$5,B88)","v":{"$error":"#VALUE!"}},{"$error":"#VALUE!"},{"$f":"ThreePosition_Basic2($E$3,$E$5,$B$3:$C$3,$B$5:$C$5,B88,C88)","v":{"$error":"#VALUE!"}},{"$error":"#VALUE!"},{"$error":"#VALUE!"},{"$error":"#VALUE!"},{"$f":"ThreePosition_Basic2($E$3,$E$5,$B$3:$C$3,$B$5:$C$5,B88,D88)","v":{"$error":"#VALUE!"}},{"$error":"#VALUE!"},{"$error":"#VALUE!"},{"$error":"#VALUE!"}]
[40.5,0.70685834705770345,{"$f":"Burmester($B$3:$C$3,$B$4:$C$4,$B$5:$C$5,$E$3,$E$4,$E$5,B89)","v":{"$error":"#VALUE!"}},{"$error":"#VALUE!"},{"$f":"ThreePosition_Basic2($E$3,$E$5,$B$3:$C$3,$B$5:$C$5,B89,C89)","v":{"$error":"#VALUE!"}},{"$error":"#VALUE!"},{"$error":"#VALUE!"},{"$error":"#VALUE!"},{"$f":"ThreePosition_Basic2($E$3,$E$5,$B$3:$C$3,$B$5:$C$5,B89,D89)","v":{"$error":"#VALUE!"}},{"$error":"#VALUE!"},{"$error":"#VALUE!"},{"$error":"#VALUE!"}]
[41,0.715584993317675,{"$f":"Burmester($B$3:$C$3,$B$4:$C$4,$B$5:$C$5,$E$3,$E$4,$E$5,B90)","v":{"$error":"#VALUE!"}},{"$error":"#VALUE!"},{"$f":"ThreePosition_Basic2($E$3,$E$5,$B$3:$C$3,$B$5:$C$5,B90,C90)","v":{"$error":"#VALUE!"}},{"$error":"#VALUE!"},{"$error":"#VALUE!"},{"$error":"#VALUE!"},{"$f":"ThreePosition_Basic2($E$3,$E$5,$B$3:$C$3,$B$5:$C$5,B90,D90)","v":{"$error":"#VALUE!"}},{"$error":"#VALUE!"},{"$error":"#VALUE!"},{"$error":"#VALUE!"}]
[41.5,0.72431163957764677,{"$f":"Burmester($B$3:$C$3,$B$4:$C$4,$B$5:$C$5,$E$3,$E$4,$E$5,B91)","v":{"$error":"#VALUE!"}},{"$error":"#VALUE!"},{"$f":"ThreePosition_Basic2($E$3,$E$5,$B$3:$C$3,$B$5:$C$5,B91,C91)","v":{"$error":"#VALUE!"}},{"$error":"#VALUE!"},{"$error":"#VALUE!"},{"$error":"#VALUE!"},{"$f":"ThreePosition_Basic2($E$3,$E$5,$B$3:$C$3,$B$5:$C$5,B91,D91)","v":{"$error":"#VALUE!"}},{"$error":"#VALUE!"},{"$error":"#VALUE!"},{"$error":"#VALUE!"}]
[42,0.73303828583761843,{"$f":"Burmester($B$3:$C$3,$B$4:$C$4,$B$5:$C$5,$E$3,$E$4,$E$5,B92)","v":{"$error":"#VALUE!"}},{"$error":"#VALUE!"},{"$f":"ThreePosition_Basic2($E$3,$E$5,$B$3:$C$3,$B$5:$C$5,B92,C92)","v":{"$error":"#VALUE!"}},{"$error":"#VALUE!"},{"$error":"#VALUE!"},{"$error":"#VALUE!"},{"$f":"ThreePosition_Basic2($E$3,$E$5,$B$3:$C$3,$B$5:$C$5,B92,D92)","v":{"$error":"#VALUE!"}},{"$error":"#VALUE!"},{"$error":"#VALUE!"},{"$error":"#VALUE!"}]
[42.5,0.74176493209759009,{"$f":"Burmester($B$3:$C$3,$B$4:$C$4,$B$5:$C$5,$E$3,$E$4,$E$5,B93)","v":{"$error":"#VALUE!"}},{"$error":"#VALUE!"},{"$f":"ThreePosition_Basic2($E$3,$E$5,$B$3:$C$3,$B$5:$C$5,B93,C93)","v":{"$error":"#VALUE!"}},{"$error":"#VALUE!"},{"$error":"#VALUE!"},{"$error":"#VALUE!"},{"$f":"ThreePosition_Basic2($E$3,$E$5,$B$3:$C$3,$B$5:$C$5,B93,D93)","v":{"$error":"#VALUE!"}},{"$error":"#VALUE!"},{"$error":"#VALUE!"},{"$error":"#VALUE!"}]
[43,0.75049157835756164,{"$f":"Burmester($B$3:$C$3,$B$4:$C$4,$B$5:$C$5,$E$3,$E$4,$E$5,B94)","v":{"$error":"#VALUE!"}},{"$error":"#VALUE!"},{"$f":"ThreePosition_Basic2($E$3,$E$5,$B$3:$C$3,$B$5:$C$5,B94,C94)","v":{"$error":"#VALUE!"}},{"$error":"#VALUE!"},{"$error":"#VALUE!"},{"$error":"#VALUE!"},{"$f":"ThreePosition_Basic2($E$3,$E$5,$B$3:$C$3,$B$5:$C$5,B94,D94)","v":{"$error":"#VALUE!"}},{"$error":"#VALUE!"},{"$error":"#VALUE!"},{"$error":"#VALUE!"}]
[43.5,0.7592182246175333,{"$f":"Burmester($B$3:$C$3,$B$4:$C$4,$B$5:$C$5,$E$3,$E$4,$E$5,B95)","v":{"$error":"#VALUE!"}},{"$error":"#VALUE!"},{"$f":"ThreePosition_Basic2($E$3,$E$5,$B$3:$C$3,$B$5:$C$5,B95,C95)","v":{"$error":"#VALUE!"}},{"$error":"#VALUE!"},{"$error":"#VALUE!"},{"$error":"#VALUE!"},{"$f":"ThreePosition_Basic2($E$3,$E$5,$B$3:$C$3,$B$5:$C$5,B95,D95)","v":{"$error":"#VALUE!"}},{"$error":"#VALUE!"},{"$error":"#VALUE!"},{"$error":"#VALUE!"}]
[44,0.76794487087750496,{"$f":"Burmester($B$3:$C$3,$B$4:$C$4,$B$5:$C$5,$E$3,$E$4,$E$5,B96)","v":{"$error":"#VALUE!"}},{"$error":"#VALUE!"},{"$f":"ThreePosition_Basic2($E$3,$E$5,$B$3:$C$3,$B$5:$C$5,B96,C96)","v":{"$error":"#VALUE!"}},{"$error":"#VALUE!"},{"$error":"#VALUE!"},{"$error":"#VALUE!"},{"$f":"ThreePosition_Basic2($E$3,$E$5,$B$3:$C$3,$B$5:$C$5,B96,D96)","v":{"$error":"#VALUE!"}},{"$error":"#VALUE!"},{"$error":"#VALUE!"},{"$error":"#VALUE!"}]
[44.5,0.77667151713747673,{"$f":"Burmester($B$3:$C$3,$B$4:$C$4,$B$5:$C$5,$E$3,$E$4,$E$5,B97)","v":{"$error":"#VALUE!"}},{"$error":"#VALUE!"},{"$f":"ThreePosition_Basic2($E$3,$E$5,$B$3:$C$3,$B$5:$C$5,B97,C97)","v":{"$error":"#VALUE!"}},{"$error":"#VALUE!"},{"$error":"#VALUE!"},{"$error":"#VALUE!"},{"$f":"ThreePosition_Basic2($E$3,$E$5,$B$3:$C$3,$B$5:$C$5,B97,D97)","v":{"$error":"#VALUE!"}},{"$error":"#VALUE!"},{"$error":"#VALUE!"},{"$error":"#VALUE!"}]
[45,0.78539816339744828,{"$f":"Burmester($B$3:$C$3,$B$4:$C$4,$B$5:$C$5,$E$3,$E$4,$E$5,B98)","v":{"$error":"#VALUE!"}},{"$error":"#VALUE!"},{"$f":"ThreePosition_Basic2($E$3,$E$5,$B$3:$C$3,$B$5:$C$5,B98,C98)","v":{"$error":"#VALUE!"}},{"$error":"#VALUE!"},{"$error":"#VALUE!"},{"$error":"#VALUE!"},{"$f":"ThreePosition_Basic2($E$3,$E$5,$B$3:$C$3,$B$5:$C$5,B98,D98)","v":{"$error":"#VALUE!"}},{"$error":"#VALUE!"},{"$error":"#VALUE!"},{"$error":"#VALUE!"}]
[45.5,0.79412480965741994,{"$f":"Burmester($B$3:$C$3,$B$4:$C$4,$B$5:$C$5,$E$3,$E$4,$E$5,B99)","v":{"$error":"#VALUE!"}},{"$error":"#VALUE!"},{"$f":"ThreePosition_Basic2($E$3,$E$5,$B$3:$C$3,$B$5:$C$5,B99,C99)","v":{"$error":"#VALUE!"}},{"$error":"#VALUE!"},{"$error":"#VALUE!"},{"$error":"#VALUE!"},{"$f":"ThreePosition_Basic2($E$3,$E$5,$B$3:$C$3,$B$5:$C$5,B99,D99)","v":{"$error":"#VALUE!"}},{"$error":"#VALUE!"},{"$error":"#VALUE!"},{"$error":"#VALUE!"}]
[46,0.80285145591739149,{"$f":"Burmester($B$3:$C$3,$B$4:$C$4,$B$5:$C$5,$E$3,$E$4,$E$5,B100)","v":{"$error":"#VALUE!"}},{"$error":"#VALUE!"},{"$f":"ThreePosition_Basic2($E$3,$E$5,$B$3:$C$3,$B$5:$C$5,B100,C100)","v":{"$error":"#VALUE!"}},{"$error":"#VALUE!"},{"$error":"#VALUE!"},{"$error":"#VALUE!"},{"$f":"ThreePosition_Basic2($E$3,$E$5,$B$3:$C$3,$B$5:$C$5,B100,D100)","v":{"$error":"#VALUE!"}},{"$error":"#VALUE!"},{"$error":"#VALUE!"},{"$error":"#VALUE!"}]
[46.5,0.81157810217736315,{"$f":"Burmester($B$3:$C$3,$B$4:$C$4,$B$5:$C$5,$E$3,$E$4,$E$5,B101)","v":{"$error":"#VALUE!"}},{"$error":"#VALUE!"},{"$f":"ThreePosition_Basic2($E$3,$E$5,$B$3:$C$3,$B$5:$C$5,B101,C101)","v":{"$error":"#VALUE!"}},{"$error":"#VALUE!"},{"$error":"#VALUE!"},{"$error":"#VALUE!"},{"$f":"ThreePosition_Basic2($E$3,$E$5,$B$3:$C$3,$B$5:$C$5,B101,D101)","v":{"$error":"#VALUE!"}},{"$error":"#VALUE!"},{"$error":"#VALUE!"},{"$error":"#VALUE!"}]
[47,0.82030474843733492,{"$f":"Burmester($B$3:$C$3,$B$4:$C$4,$B$5:$C$5,$E$3,$E$4,$E$5,B102)","v":{"$error":"#VALUE!"}},{"$error":"#VALUE!"},{"$f":"ThreePosition_Basic2($E$3,$E$5,$B$3:$C$3,$B$5:$C$5,B102,C102)","v":{"$error":"#VALUE!"}},{"$error":"#VALUE!"},{"$error":"#VALUE!"},{"$error":"#VALUE!"},{"$f":"ThreePosition_Basic2($E$3,$E$5,$B$3:$C$3,$B$5:$C$5,B102,D102)","v":{"$error":"#VALUE!"}},{"$error":"#VALUE!"},{"$error":"#VALUE!"},{"$error":"#VALUE!"}]
[47.5,0.82903139469730658,{"$f":"Burmester($B$3:$C$3,$B$4:$C$4,$B$5:$C$5,$E$3,$E$4,$E$5,B103)","v":{"$error":"#VALUE!"}},{"$error":"#VALUE!"},{"$f":"ThreePosition_Basic2($E$3,$E$5,$B$3:$C$3,$B$5:$C$5,B103,C103)","v":{"$error":"#VALUE!"}},{"$error":"#VALUE!"},{"$error":"#VALUE!"},{"$error":"#VALUE!"},{"$f":"ThreePosition_Basic2($E$3,$E$5,$B$3:$C$3,$B$5:$C$5,B103,D103)","v":{"$error":"#VALUE!"}},{"$error":"#VALUE!"},{"$error":"#VALUE!"},{"$error":"#VALUE!"}]
[48,0.83775804095727813,{"$f":"Burmester($B$3:$C$3,$B$4:$C$4,$B$5:$C$5,$E$3,$E$4,$E$5,B104)","v":{"$error":"#VALUE!"}},{"$error":"#VALUE!"},{"$f":"ThreePosition_Basic2($E$3,$E$5,$B$3:$C$3,$B$5:$C$5,B104,C104)","v":{"$error":"#VALUE!"}},{"$error":"#VALUE!"},{"$error":"#VALUE!"},{"$error":"#VALUE!"},{"$f":"ThreePosition_Basic2($E$3,$E$5,$B$3:$C$3,$B$5:$C$5,B104,D104)","v":{"$error":"#VALUE!"}},{"$error":"#VALUE!"},{"$error":"#VALUE!"},{"$error":"#VALUE!"}]
[48.5,0.84648468721724979,{"$f":"Burmester($B$3:$C$3,$B$4:$C$4,$B$5:$C$5,$E$3,$E$4,$E$5,B105)","v":{"$error":"#VALUE!"}},{"$error":"#VALUE!"},{"$f":"ThreePosition_Basic2($E$3,$E$5,$B$3:$C$3,$B$5:$C$5,B105,C105)","v":{"$error":"#VALUE!"}},{"$error":"#VALUE!"},{"$error":"#VALUE!"},{"$error":"#VALUE!"},{"$f":"ThreePosition_Basic2($E$3,$E$5,$B$3:$C$3,$B$5:$C$5,B105,D105)","v":{"$error":"#VALUE!"}},{"$error":"#VALUE!"},{"$error":"#VALUE!"},{"$error":"#VALUE!"}]
[49,0.85521133347722145,{"$f":"Burmester($B$3:$C$3,$B$4:$C$4,$B$5:$C$5,$E$3,$E$4,$E$5,B106)","v":{"$error":"#VALUE!"}},{"$error":"#VALUE!"},{"$f":"ThreePosition_Basic2($E$3,$E$5,$B$3:$C$3,$B$5:$C$5,B106,C106)","v":{"$error":"#VALUE!"}},{"$error":"#VALUE!"},{"$error":"#VALUE!"},{"$error":"#VALUE!"},{"$f":"ThreePosition_Basic2($E$3,$E$5,$B$3:$C$3,$B$5:$C$5,B106,D106)","v":{"$error":"#VALUE!"}},{"$error":"#VALUE!"},{"$error":"#VALUE!"},{"$error":"#VALUE!"}]
[49.5,0.86393797973719322,{"$f":"Burmester($B$3:$C$3,$B$4:$C$4,$B$5:$C$5,$E$3,$E$4,$E$5,B107)","v":{"$error":"#VALUE!"}},{"$error":"#VALUE!"},{"$f":"ThreePosition_Basic2($E$3,$E$5,$B$3:$C$3,$B$5:$C$5,B107,C107)","v":{"$error":"#VALUE!"}},{"$error":"#VALUE!"},{"$error":"#VALUE!"},{"$error":"#VALUE!"},{"$f":"ThreePosition_Basic2($E$3,$E$5,$B$3:$C$3,$B$5:$C$5,B107,D107)","v":{"$error":"#VALUE!"}},{"$error":"#VALUE!"},{"$error":"#VALUE!"},{"$error":"#VALUE!"}]
[50,0.87266462599716477,{"$f":"Burmester($B$3:$C$3,$B$4:$C$4,$B$5:$C$5,$E$3,$E$4,$E$5,B108)","v":{"$error":"#VALUE!"}},{"$error":"#VALUE!"},{"$f":"ThreePosition_Basic2($E$3,$E$5,$B$3:$C$3,$B$5:$C$5,B108,C108)","v":{"$error":"#VALUE!"}},{"$error":"#VALUE!"},{"$error":"#VALUE!"},{"$error":"#VALUE!"},{"$f":"ThreePosition_Basic2($E$3,$E$5,$B$3:$C$3,$B$5:$C$5,B108,D108)","v":{"$error":"#VALUE!"}},{"$error":"#VALUE!"},{"$error":"#VALUE!"},{"$error":"#VALUE!"}]
[50.5,0.88139127225713643,{"$f":"Burmester($B$3:$C$3,$B$4:$C$4,$B$5:$C$5,$E$3,$E$4,$E$5,B109)","v":{"$error":"#VALUE!"}},{"$error":"#VALUE!"},{"$f":"ThreePosition_Basic2($E$3,$E$5,$B$3:$C$3,$B$5:$C$5,B109,C109)","v":{"$error":"#VALUE!"}},{"$error":"#VALUE!"},{"$error":"#VALUE!"},{"$error":"#VALUE!"},{"$f":"ThreePosition_Basic2($E$3,$E$5,$B$3:$C$3,$B$5:$C$5,B109,D109)","v":{"$error":"#VALUE!"}},{"$error":"#VALUE!"},{"$error":"#VALUE!"},{"$error":"#VALUE!"}]
[51,0.89011791851710798,{"$f":"Burmester($B$3:$C$3,$B$4:$C$4,$B$5:$C$5,$E$3,$E$4,$E$5,B110)","v":{"$error":"#VALUE!"}},{"$error":"#VALUE!"},{"$f":"ThreePosition_Basic2($E$3,$E$5,$B$3:$C$3,$B$5:$C$5,B110,C110)","v":{"$error":"#VALUE!"}},{"$error":"#VALUE!"},{"$error":"#VALUE!"},{"$error":"#VALUE!"},{"$f":"ThreePosition_Basic2($E$3,$E$5,$B$3:$C$3,$B$5:$C$5,B110,D110)","v":{"$error":"#VALUE!"}},{"$error":"#VALUE!"},{"$error":"#VALUE!"},{"$error":"#VALUE!"}]
[51.5,0.89884456477707964,{"$f":"Burmester($B$3:$C$3,$B$4:$C$4,$B$5:$C$5,$E$3,$E$4,$E$5,B111)","v":{"$error":"#VALUE!"}},{"$error":"#VALUE!"},{"$f":"ThreePosition_Basic2($E$3,$E$5,$B$3:$C$3,$B$5:$C$5,B111,C111)","v":{"$error":"#VALUE!"}},{"$error":"#VALUE!"},{"$error":"#VALUE!"},{"$error":"#VALUE!"},{"$f":"ThreePosition_Basic2($E$3,$E$5,$B$3:$C$3,$B$5:$C$5,B111,D111)","v":{"$error":"#VALUE!"}},{"$error":"#VALUE!"},{"$error":"#VALUE!"},{"$error":"#VALUE!"}]
[52,0.90757121103705141,{"$f":"Burmester($B$3:$C$3,$B$4:$C$4,$B$5:$C$5,$E$3,$E$4,$E$5,B112)","v":{"$error":"#VALUE!"}},{"$error":"#VALUE!"},{"$f":"ThreePosition_Basic2($E$3,$E$5,$B$3:$C$3,$B$5:$C$5,B112,C112)","v":{"$error":"#VALUE!"}},{"$error":"#VALUE!"},{"$error":"#VALUE!"},{"$error":"#VALUE!"},{"$f":"ThreePosition_Basic2($E$3,$E$5,$B$3:$C$3,$B$5:$C$5,B112,D112)","v":{"$error":"#VALUE!"}},{"$error":"#VALUE!"},{"$error":"#VALUE!"},{"$error":"#VALUE!"}]
[52.5,0.91629785729702307,{"$f":"Burmester($B$3:$C$3,$B$4:$C$4,$B$5:$C$5,$E$3,$E$4,$E$5,B113)","v":{"$error":"#VALUE!"}},{"$error":"#VALUE!"},{"$f":"ThreePosition_Basic2($E$3,$E$5,$B$3:$C$3,$B$5:$C$5,B113,C113)","v":{"$error":"#VALUE!"}},{"$error":"#VALUE!"},{"$error":"#VALUE!"},{"$error":"#VALUE!"},{"$f":"ThreePosition_Basic2($E$3,$E$5,$B$3:$C$3,$B$5:$C$5,B113,D113)","v":{"$error":"#VALUE!"}},{"$error":"#VALUE!"},{"$error":"#VALUE!"},{"$error":"#VALUE!"}]
[53,0.92502450355699462,{"$f":"Burmester($B$3:$C$3,$B$4:$C$4,$B$5:$C$5,$E$3,$E$4,$E$5,B114)","v":{"$error":"#VALUE!"}},{"$error":"#VALUE!"},{"$f":"ThreePosition_Basic2($E$3,$E$5,$B$3:$C$3,$B$5:$C$5,B114,C114)","v":{"$error":"#VALUE!"}},{"$error":"#VALUE!"},{"$error":"#VALUE!"},{"$error":"#VALUE!"},{"$f":"ThreePosition_Basic2($E$3,$E$5,$B$3:$C$3,$B$5:$C$5,B114,D114)","v":{"$error":"#VALUE!"}},{"$error":"#VALUE!"},{"$error":"#VALUE!"},{"$error":"#VALUE!"}]
[53.5,0.93375114981696627,{"$f":"Burmester($B$3:$C$3,$B$4:$C$4,$B$5:$C$5,$E$3,$E$4,$E$5,B115)","v":{"$error":"#VALUE!"}},{"$error":"#VALUE!"},{"$f":"ThreePosition_Basic2($E$3,$E$5,$B$3:$C$3,$B$5:$C$5,B115,C115)","v":{"$error":"#VALUE!"}},{"$error":"#VALUE!"},{"$error":"#VALUE!"},{"$error":"#VALUE!"},{"$f":"ThreePosition_Basic2($E$3,$E$5,$B$3:$C$3,$B$5:$C$5,B115,D115)","v":{"$error":"#VALUE!"}},{"$error":"#VALUE!"},{"$error":"#VALUE!"},{"$error":"#VALUE!"}]
[54,0.94247779607693793,{"$f":"Burmester($B$3:$C$3,$B$4:$C$4,$B$5:$C$5,$E$3,$E$4,$E$5,B116)","v":{"$error":"#VALUE!"}},{"$error":"#VALUE!"},{"$f":"ThreePosition_Basic2($E$3,$E$5,$B$3:$C$3,$B$5:$C$5,B116,C116)","v":{"$error":"#VALUE!"}},{"$error":"#VALUE!"},{"$error":"#VALUE!"},{"$error":"#VALUE!"},{"$f":"ThreePosition_Basic2($E$3,$E$5,$B$3:$C$3,$B$5:$C$5,B116,D116)","v":{"$error":"#VALUE!"}},{"$error":"#VALUE!"},{"$error":"#VALUE!"},{"$error":"#VALUE!"}]
[54.5,0.95120444233690948,{"$f":"Burmester($B$3:$C$3,$B$4:$C$4,$B$5:$C$5,$E$3,$E$4,$E$5,B117)","v":{"$error":"#VALUE!"}},{"$error":"#VALUE!"},{"$f":"ThreePosition_Basic2($E$3,$E$5,$B$3:$C$3,$B$5:$C$5,B117,C117)","v":{"$error":"#VALUE!"}},{"$error":"#VALUE!"},{"$error":"#VALUE!"},{"$error":"#VALUE!"},{"$f":"ThreePosition_Basic2($E$3,$E$5,$B$3:$C$3,$B$5:$C$5,B117,D117)","v":{"$error":"#VALUE!"}},{"$error":"#VALUE!"},{"$error":"#VALUE!"},{"$error":"#VALUE!"}]
[55,0.95993108859688125,{"$f":"Burmester($B$3:$C$3,$B$4:$C$4,$B$5:$C$5,$E$3,$E$4,$E$5,B118)","v":{"$error":"#VALUE!"}},{"$error":"#VALUE!"},{"$f":"ThreePosition_Basic2($E$3,$E$5,$B$3:$C$3,$B$5:$C$5,B118,C118)","v":{"$error":"#VALUE!"}},{"$error":"#VALUE!"},{"$error":"#VALUE!"},{"$error":"#VALUE!"},{"$f":"ThreePosition_Basic2($E$3,$E$5,$B$3:$C$3,$B$5:$C$5,B118,D118)","v":{"$error":"#VALUE!"}},{"$error":"#VALUE!"},{"$error":"#VALUE!"},{"$error":"#VALUE!"}]
[55.5,0.96865773485685291,{"$f":"Burmester($B$3:$C$3,$B$4:$C$4,$B$5:$C$5,$E$3,$E$4,$E$5,B119)","v":{"$error":"#VALUE!"}},{"$error":"#VALUE!"},{"$f":"ThreePosition_Basic2($E$3,$E$5,$B$3:$C$3,$B$5:$C$5,B119,C119)","v":{"$error":"#VALUE!"}},{"$error":"#VALUE!"},{"$error":"#VALUE!"},{"$error":"#VALUE!"},{"$f":"ThreePosition_Basic2($E$3,$E$5,$B$3:$C$3,$B$5:$C$5,B119,D119)","v":{"$error":"#VALUE!"}},{"$error":"#VALUE!"},{"$error":"#VALUE!"},{"$error":"#VALUE!"}]
[56,0.97738438111682457,{"$f":"Burmester($B$3:$C$3,$B$4:$C$4,$B$5:$C$5,$E$3,$E$4,$E$5,B120)","v":{"$error":"#VALUE!"}},{"$error":"#VALUE!"},{"$f":"ThreePosition_Basic2($E$3,$E$5,$B$3:$C$3,$B$5:$C$5,B120,C120)","v":{"$error":"#VALUE!"}},{"$error":"#VALUE!"},{"$error":"#VALUE!"},{"$error":"#VALUE!"},{"$f":"ThreePosition_Basic2($E$3,$E$5,$B$3:$C$3,$B$5:$C$5,B120,D120)","v":{"$error":"#VALUE!"}},{"$error":"#VALUE!"},{"$error":"#VALUE!"},{"$error":"#VALUE!"}]
[56.5,0.98611102737679612,{"$f":"Burmester($B$3:$C$3,$B$4:$C$4,$B$5:$C$5,$E$3,$E$4,$E$5,B121)","v":{"$error":"#VALUE!"}},{"$error":"#VALUE!"},{"$f":"ThreePosition_Basic2($E$3,$E$5,$B$3:$C$3,$B$5:$C$5,B121,C121)","v":{"$error":"#VALUE!"}},{"$error":"#VALUE!"},{"$error":"#VALUE!"},{"$error":"#VALUE!"},{"$f":"ThreePosition_Basic2($E$3,$E$5,$B$3:$C$3,$B$5:$C$5,B121,D121)","v":{"$error":"#VALUE!"}},{"$error":"#VALUE!"},{"$error":"#VALUE!"},{"$error":"#VALUE!"}]
[57,0.99483767363676778,{"$f":"Burmester($B$3:$C$3,$B$4:$C$4,$B$5:$C$5,$E$3,$E$4,$E$5,B122)","v":{"$error":"#VALUE!"}},{"$error":"#VALUE!"},{"$f":"ThreePosition_Basic2($E$3,$E$5,$B$3:$C$3,$B$5:$C$5,B122,C122)","v":{"$error":"#VALUE!"}},{"$error":"#VALUE!"},{"$error":"#VALUE!"},{"$error":"#VALUE!"},{"$f":"ThreePosition_Basic2($E$3,$E$5,$B$3:$C$3,$B$5:$C$5,B122,D122)","v":{"$error":"#VALUE!"}},{"$error":"#VALUE!"},{"$error":"#VALUE!"},{"$error":"#VALUE!"}]
[57.5,1.0035643198967394,{"$f":"Burmester($B$3:$C$3,$B$4:$C$4,$B$5:$C$5,$E$3,$E$4,$E$5,B123)","v":{"$error":"#VALUE!"}},{"$error":"#VALUE!"},{"$f":"ThreePosition_Basic2($E$3,$E$5,$B$3:$C$3,$B$5:$C$5,B123,C123)","v":{"$error":"#VALUE!"}},{"$error":"#VALUE!"},{"$error":"#VALUE!"},{"$error":"#VALUE!"},{"$f":"ThreePosition_Basic2($E$3,$E$5,$B$3:$C$3,$B$5:$C$5,B123,D123)","v":{"$error":"#VALUE!"}},{"$error":"#VALUE!"},{"$error":"#VALUE!"},{"$error":"#VALUE!"}]
[58,1.0122909661567112,{"$f":"Burmester($B$3:$C$3,$B$4:$C$4,$B$5:$C$5,$E$3,$E$4,$E$5,B124)","v":{"$error":"#VALUE!"}},{"$error":"#VALUE!"},{"$f":"ThreePosition_Basic2($E$3,$E$5,$B$3:$C$3,$B$5:$C$5,B124,C124)","v":{"$error":"#VALUE!"}},{"$error":"#VALUE!"},{"$error":"#VALUE!"},{"$error":"#VALUE!"},{"$f":"ThreePosition_Basic2($E$3,$E$5,$B$3:$C$3,$B$5:$C$5,B124,D124)","v":{"$error":"#VALUE!"}},{"$error":"#VALUE!"},{"$error":"#VALUE!"},{"$error":"#VALUE!"}]
[58.5,1.0210176124166828,{"$f":"Burmester($B$3:$C$3,$B$4:$C$4,$B$5:$C$5,$E$3,$E$4,$E$5,B125)","v":{"$error":"#VALUE!"}},{"$error":"#VALUE!"},{"$f":"ThreePosition_Basic2($E$3,$E$5,$B$3:$C$3,$B$5:$C$5,B125,C125)","v":{"$error":"#VALUE!"}},{"$error":"#VALUE!"},{"$error":"#VALUE!"},{"$error":"#VALUE!"},{"$f":"ThreePosition_Basic2($E$3,$E$5,$B$3:$C$3,$B$5:$C$5,B125,D125)","v":{"$error":"#VALUE!"}},{"$error":"#VALUE!"},{"$error":"#VALUE!"},{"$error":"#VALUE!"}]
[59,1.0297442586766543,{"$f":"Burmester($B$3:$C$3,$B$4:$C$4,$B$5:$C$5,$E$3,$E$4,$E$5,B126)","v":{"$error":"#VALUE!"}},{"$error":"#VALUE!"},{"$f":"ThreePosition_Basic2($E$3,$E$5,$B$3:$C$3,$B$5:$C$5,B126,C126)","v":{"$error":"#VALUE!"}},{"$error":"#VALUE!"},{"$error":"#VALUE!"},{"$error":"#VALUE!"},{"$f":"ThreePosition_Basic2($E$3,$E$5,$B$3:$C$3,$B$5:$C$5,B126,D126)","v":{"$error":"#VALUE!"}},{"$error":"#VALUE!"},{"$error":"#VALUE!"},{"$error":"#VALUE!"}]
[59.5,1.0384709049366261,{"$f":"Burmester($B$3:$C$3,$B$4:$C$4,$B$5:$C$5,$E$3,$E$4,$E$5,B127)","v":{"$error":"#VALUE!"}},{"$error":"#VALUE!"},{"$f":"ThreePosition_Basic2($E$3,$E$5,$B$3:$C$3,$B$5:$C$5,B127,C127)","v":{"$error":"#VALUE!"}},{"$error":"#VALUE!"},{"$error":"#VALUE!"},{"$error":"#VALUE!"},{"$f":"ThreePosition_Basic2($E$3,$E$5,$B$3:$C$3,$B$5:$C$5,B127,D127)","v":{"$error":"#VALUE!"}},{"$error":"#VALUE!"},{"$error":"#VALUE!"},{"$error":"#VALUE!"}]
[60,1.0471975511965976,{"$f":"Burmester($B$3:$C$3,$B$4:$C$4,$B$5:$C$5,$E$3,$E$4,$E$5,B128)","v":{"$error":"#VALUE!"}},{"$error":"#VALUE!"},{"$f":"ThreePosition_Basic2($E$3,$E$5,$B$3:$C$3,$B$5:$C$5,B128,C128)","v":{"$error":"#VALUE!"}},{"$error":"#VALUE!"},{"$error":"#VALUE!"},{"$error":"#VALUE!"},{"$f":"ThreePosition_Basic2($E$3,$E$5,$B$3:$C$3,$B$5:$C$5,B128,D128)","v":{"$error":"#VALUE!"}},{"$error":"#VALUE!"},{"$error":"#VALUE!"},{"$error":"#VALUE!"}]
[60.5,1.0559241974565694,{"$f":"Burmester($B$3:$C$3,$B$4:$C$4,$B$5:$C$5,$E$3,$E$4,$E$5,B129)","v":{"$error":"#VALUE!"}},{"$error":"#VALUE!"},{"$f":"ThreePosition_Basic2($E$3,$E$5,$B$3:$C$3,$B$5:$C$5,B129,C129)","v":{"$error":"#VALUE!"}},{"$error":"#VALUE!"},{"$error":"#VALUE!"},{"$error":"#VALUE!"},{"$f":"ThreePosition_Basic2($E$3,$E$5,$B$3:$C$3,$B$5:$C$5,B129,D129)","v":{"$error":"#VALUE!"}},{"$error":"#VALUE!"},{"$error":"#VALUE!"},{"$error":"#VALUE!"}]
[61,1.064650843716541,{"$f":"Burmester($B$3:$C$3,$B$4:$C$4,$B$5:$C$5,$E$3,$E$4,$E$5,B130)","v":{"$error":"#VALUE!"}},{"$error":"#VALUE!"},{"$f":"ThreePosition_Basic2($E$3,$E$5,$B$3:$C$3,$B$5:$C$5,B130,C130)","v":{"$error":"#VALUE!"}},{"$error":"#VALUE!"},{"$error":"#VALUE!"},{"$error":"#VALUE!"},{"$f":"ThreePosition_Basic2($E$3,$E$5,$B$3:$C$3,$B$5:$C$5,B130,D130)","v":{"$error":"#VALUE!"}},{"$error":"#VALUE!"},{"$error":"#VALUE!"},{"$error":"#VALUE!"}]
[61.5,1.0733774899765127,{"$f":"Burmester($B$3:$C$3,$B$4:$C$4,$B$5:$C$5,$E$3,$E$4,$E$5,B131)","v":{"$error":"#VALUE!"}},{"$error":"#VALUE!"},{"$f":"ThreePosition_Basic2($E$3,$E$5,$B$3:$C$3,$B$5:$C$5,B131,C131)","v":{"$error":"#VALUE!"}},{"$error":"#VALUE!"},{"$error":"#VALUE!"},{"$error":"#VALUE!"},{"$f":"ThreePosition_Basic2($E$3,$E$5,$B$3:$C$3,$B$5:$C$5,B131,D131)","v":{"$error":"#VALUE!"}},{"$error":"#VALUE!"},{"$error":"#VALUE!"},{"$error":"#VALUE!"}]
[62,1.0821041362364843,{"$f":"Burmester($B$3:$C$3,$B$4:$C$4,$B$5:$C$5,$E$3,$E$4,$E$5,B132)","v":{"$error":"#VALUE!"}},{"$error":"#VALUE!"},{"$f":"ThreePosition_Basic2($E$3,$E$5,$B$3:$C$3,$B$5:$C$5,B132,C132)","v":{"$error":"#VALUE!"}},{"$error":"#VALUE!"},{"$error":"#VALUE!"},{"$error":"#VALUE!"},{"$f":"ThreePosition_Basic2($E$3,$E$5,$B$3:$C$3,$B$5:$C$5,B132,D132)","v":{"$error":"#VALUE!"}},{"$error":"#VALUE!"},{"$error":"#VALUE!"},{"$error":"#VALUE!"}]
[62.5,1.0908307824964558,{"$f":"Burmester($B$3:$C$3,$B$4:$C$4,$B$5:$C$5,$E$3,$E$4,$E$5,B133)","v":{"$error":"#VALUE!"}},{"$error":"#VALUE!"},{"$f":"ThreePosition_Basic2($E$3,$E$5,$B$3:$C$3,$B$5:$C$5,B133,C133)","v":{"$error":"#VALUE!"}},{"$error":"#VALUE!"},{"$error":"#VALUE!"},{"$error":"#VALUE!"},{"$f":"ThreePosition_Basic2($E$3,$E$5,$B$3:$C$3,$B$5:$C$5,B133,D133)","v":{"$error":"#VALUE!"}},{"$error":"#VALUE!"},{"$error":"#VALUE!"},{"$error":"#VALUE!"}]
[63,1.0995574287564276,{"$f":"Burmester($B$3:$C$3,$B$4:$C$4,$B$5:$C$5,$E$3,$E$4,$E$5,B134)","v":{"$error":"#VALUE!"}},{"$error":"#VALUE!"},{"$f":"ThreePosition_Basic2($E$3,$E$5,$B$3:$C$3,$B$5:$C$5,B134,C134)","v":{"$error":"#VALUE!"}},{"$error":"#VALUE!"},{"$error":"#VALUE!"},{"$error":"#VALUE!"},{"$f":"ThreePosition_Basic2($E$3,$E$5,$B$3:$C$3,$B$5:$C$5,B134,D134)","v":{"$error":"#VALUE!"}},{"$error":"#VALUE!"},{"$error":"#VALUE!"},{"$error":"#VALUE!"}]
[63.5,1.1082840750163994,{"$f":"Burmester($B$3:$C$3,$B$4:$C$4,$B$5:$C$5,$E$3,$E$4,$E$5,B135)","v":{"$error":"#VALUE!"}},{"$error":"#VALUE!"},{"$f":"ThreePosition_Basic2($E$3,$E$5,$B$3:$C$3,$B$5:$C$5,B135,C135)","v":{"$error":"#VALUE!"}},{"$error":"#VALUE!"},{"$error":"#VALUE!"},{"$error":"#VALUE!"},{"$f":"ThreePosition_Basic2($E$3,$E$5,$B$3:$C$3,$B$5:$C$5,B135,D135)","v":{"$error":"#VALUE!"}},{"$error":"#VALUE!"},{"$error":"#VALUE!"},{"$error":"#VALUE!"}]
[64,1.1170107212763709,{"$f":"Burmester($B$3:$C$3,$B$4:$C$4,$B$5:$C$5,$E$3,$E$4,$E$5,B136)","v":{"$error":"#VALUE!"}},{"$error":"#VALUE!"},{"$f":"ThreePosition_Basic2($E$3,$E$5,$B$3:$C$3,$B$5:$C$5,B136,C136)","v":{"$error":"#VALUE!"}},{"$error":"#VALUE!"},{"$error":"#VALUE!"},{"$error":"#VALUE!"},{"$f":"ThreePosition_Basic2($E$3,$E$5,$B$3:$C$3,$B$5:$C$5,B136,D136)","v":{"$error":"#VALUE!"}},{"$error":"#VALUE!"},{"$error":"#VALUE!"},{"$error":"#VALUE!"}]
[64.5,{"$f":"A137*PI()/180","v":1.1257373675363425},{"$f":"Burmester($B$3:$C$3,$B$4:$C$4,$B$5:$C$5,$E$3,$E$4,$E$5,B137)","v":{"$error":"#VALUE!"}},{"$error":"#VALUE!"},{"$f":"ThreePosition_Basic2($E$3,$E$5,$B$3:$C$3,$B$5:$C$5,B137,C137)","v":{"$error":"#VALUE!"}},{"$error":"#VALUE!"},{"$error":"#VALUE!"},{"$error":"#VALUE!"},{"$f":"ThreePosition_Basic2($E$3,$E$5,$B$3:$C$3,$B$5:$C$5,B137,D137)","v":{"$error":"#VALUE!"}},{"$error":"#VALUE!"},{"$error":"#VALUE!"},{"$error":"#VALUE!"}]
[65,1.1344640137963142,{"$f":"Burmester($B$3:$C$3,$B$4:$C$4,$B$5:$C$5,$E$3,$E$4,$E$5,B138)","v":{"$error":"#VALUE!"}},{"$error":"#VALUE!"},{"$f":"ThreePosition_Basic2($E$3,$E$5,$B$3:$C$3,$B$5:$C$5,B138,C138)","v":{"$error":"#VALUE!"}},{"$error":"#VALUE!"},{"$error":"#VALUE!"},{"$error":"#VALUE!"},{"$f":"ThreePosition_Basic2($E$3,$E$5,$B$3:$C$3,$B$5:$C$5,B138,D138)","v":{"$error":"#VALUE!"}},{"$error":"#VALUE!"},{"$error":"#VALUE!"},{"$error":"#VALUE!"}]
[65.5,1.143190660056286,{"$f":"Burmester($B$3:$C$3,$B$4:$C$4,$B$5:$C$5,$E$3,$E$4,$E$5,B139)","v":{"$error":"#VALUE!"}},{"$error":"#VALUE!"},{"$f":"ThreePosition_Basic2($E$3,$E$5,$B$3:$C$3,$B$5:$C$5,B139,C139)","v":{"$error":"#VALUE!"}},{"$error":"#VALUE!"},{"$error":"#VALUE!"},{"$error":"#VALUE!"},{"$f":"ThreePosition_Basic2($E$3,$E$5,$B$3:$C$3,$B$5:$C$5,B139,D139)","v":{"$error":"#VALUE!"}},{"$error":"#VALUE!"},{"$error":"#VALUE!"},{"$error":"#VALUE!"}]
[66,1.1519173063162575,{"$f":"Burmester($B$3:$C$3,$B$4:$C$4,$B$5:$C$5,$E$3,$E$4,$E$5,B140)","v":{"$error":"#VALUE!"}},{"$error":"#VALUE!"},{"$f":"ThreePosition_Basic2($E$3,$E$5,$B$3:$C$3,$B$5:$C$5,B140,C140)","v":{"$error":"#VALUE!"}},{"$error":"#VALUE!"},{"$error":"#VALUE!"},{"$error":"#VALUE!"},{"$f":"ThreePosition_Basic2($E$3,$E$5,$B$3:$C$3,$B$5:$C$5,B140,D140)","v":{"$error":"#VALUE!"}},{"$error":"#VALUE!"},{"$error":"#VALUE!"},{"$error":"#VALUE!"}]
[66.5,1.1606439525762291,{"$f":"Burmester($B$3:$C$3,$B$4:$C$4,$B$5:$C$5,$E$3,$E$4,$E$5,B141)","v":{"$error":"#VALUE!"}},{"$error":"#VALUE!"},{"$f":"ThreePosition_Basic2($E$3,$E$5,$B$3:$C$3,$B$5:$C$5,B141,C141)","v":{"$error":"#VALUE!"}},{"$error":"#VALUE!"},{"$error":"#VALUE!"},{"$error":"#VALUE!"},{"$f":"ThreePosition_Basic2($E$3,$E$5,$B$3:$C$3,$B$5:$C$5,B141,D141)","v":{"$error":"#VALUE!"}},{"$error":"#VALUE!"},{"$error":"#VALUE!"},{"$error":"#VALUE!"}]
[67,1.1693705988362006,{"$f":"Burmester($B$3:$C$3,$B$4:$C$4,$B$5:$C$5,$E$3,$E$4,$E$5,B142)","v":{"$error":"#VALUE!"}},{"$error":"#VALUE!"},{"$f":"ThreePosition_Basic2($E$3,$E$5,$B$3:$C$3,$B$5:$C$5,B142,C142)","v":{"$error":"#VALUE!"}},{"$error":"#VALUE!"},{"$error":"#VALUE!"},{"$error":"#VALUE!"},{"$f":"ThreePosition_Basic2($E$3,$E$5,$B$3:$C$3,$B$5:$C$5,B142,D142)","v":{"$error":"#VALUE!"}},{"$error":"#VALUE!"},{"$error":"#VALUE!"},{"$error":"#VALUE!"}]
[67.5,1.1780972450961724,{"$f":"Burmester($B$3:$C$3,$B$4:$C$4,$B$5:$C$5,$E$3,$E$4,$E$5,B143)","v":{"$error":"#VALUE!"}},{"$error":"#VALUE!"},{"$f":"ThreePosition_Basic2($E$3,$E$5,$B$3:$C$3,$B$5:$C$5,B143,C143)","v":{"$error":"#VALUE!"}},{"$error":"#VALUE!"},{"$error":"#VALUE!"},{"$error":"#VALUE!"},{"$f":"ThreePosition_Basic2($E$3,$E$5,$B$3:$C$3,$B$5:$C$5,B143,D143)","v":{"$error":"#VALUE!"}},{"$error":"#VALUE!"},{"$error":"#VALUE!"},{"$error":"#VALUE!"}]
[68,1.1868238913561442,{"$f":"Burmester($B$3:$C$3,$B$4:$C$4,$B$5:$C$5,$E$3,$E$4,$E$5,B144)","v":{"$error":"#VALUE!"}},{"$error":"#VALUE!"},{"$f":"ThreePosition_Basic2($E$3,$E$5,$B$3:$C$3,$B$5:$C$5,B144,C144)","v":{"$error":"#VALUE!"}},{"$error":"#VALUE!"},{"$error":"#VALUE!"},{"$error":"#VALUE!"},{"$f":"ThreePosition_Basic2($E$3,$E$5,$B$3:$C$3,$B$5:$C$5,B144,D144)","v":{"$error":"#VALUE!"}},{"$error":"#VALUE!"},{"$error":"#VALUE!"},{"$error":"#VALUE!"}]
[68.5,1.1955505376161157,{"$f":"Burmester($B$3:$C$3,$B$4:$C$4,$B$5:$C$5,$E$3,$E$4,$E$5,B145)","v":{"$error":"#VALUE!"}},{"$error":"#VALUE!"},{"$f":"ThreePosition_Basic2($E$3,$E$5,$B$3:$C$3,$B$5:$C$5,B145,C145)","v":{"$error":"#VALUE!"}},{"$error":"#VALUE!"},{"$error":"#VALUE!"},{"$error":"#VALUE!"},{"$f":"ThreePosition_Basic2($E$3,$E$5,$B$3:$C$3,$B$5:$C$5,B145,D145)","v":{"$error":"#VALUE!"}},{"$error":"#VALUE!"},{"$error":"#VALUE!"},{"$error":"#VALUE!"}]
[69,1.2042771838760873,{"$f":"Burmester($B$3:$C$3,$B$4:$C$4,$B$5:$C$5,$E$3,$E$4,$E$5,B146)","v":{"$error":"#VALUE!"}},{"$error":"#VALUE!"},{"$f":"ThreePosition_Basic2($E$3,$E$5,$B$3:$C$3,$B$5:$C$5,B146,C146)","v":{"$error":"#VALUE!"}},{"$error":"#VALUE!"},{"$error":"#VALUE!"},{"$error":"#VALUE!"},{"$f":"ThreePosition_Basic2($E$3,$E$5,$B$3:$C$3,$B$5:$C$5,B146,D146)","v":{"$error":"#VALUE!"}},{"$error":"#VALUE!"},{"$error":"#VALUE!"},{"$error":"#VALUE!"}]
[69.5,1.2130038301360591,{"$f":"Burmester($B$3:$C$3,$B$4:$C$4,$B$5:$C$5,$E$3,$E$4,$E$5,B147)","v":{"$error":"#VALUE!"}},{"$error":"#VALUE!"},{"$f":"ThreePosition_Basic2($E$3,$E$5,$B$3:$C$3,$B$5:$C$5,B147,C147)","v":{"$error":"#VALUE!"}},{"$error":"#VALUE!"},{"$error":"#VALUE!"},{"$error":"#VALUE!"},{"$f":"ThreePosition_Basic2($E$3,$E$5,$B$3:$C$3,$B$5:$C$5,B147,D147)","v":{"$error":"#VALUE!"}},{"$error":"#VALUE!"},{"$error":"#VALUE!"},{"$error":"#VALUE!"}]
[70,1.2217304763960306,{"$f":"Burmester($B$3:$C$3,$B$4:$C$4,$B$5:$C$5,$E$3,$E$4,$E$5,B148)","v":{"$error":"#VALUE!"}},{"$error":"#VALUE!"},{"$f":"ThreePosition_Basic2($E$3,$E$5,$B$3:$C$3,$B$5:$C$5,B148,C148)","v":{"$error":"#VALUE!"}},{"$error":"#VALUE!"},{"$error":"#VALUE!"},{"$error":"#VALUE!"},{"$f":"ThreePosition_Basic2($E$3,$E$5,$B$3:$C$3,$B$5:$C$5,B148,D148)","v":{"$error":"#VALUE!"}},{"$error":"#VALUE!"},{"$error":"#VALUE!"},{"$error":"#VALUE!"}]
[70.5,1.2304571226560022,{"$f":"Burmester($B$3:$C$3,$B$4:$C$4,$B$5:$C$5,$E$3,$E$4,$E$5,B149)","v":{"$error":"#VALUE!"}},{"$error":"#VALUE!"},{"$f":"ThreePosition_Basic2($E$3,$E$5,$B$3:$C$3,$B$5:$C$5,B149,C149)","v":{"$error":"#VALUE!"}},{"$error":"#VALUE!"},{"$error":"#VALUE!"},{"$error":"#VALUE!"},{"$f":"ThreePosition_Basic2($E$3,$E$5,$B$3:$C$3,$B$5:$C$5,B149,D149)","v":{"$error":"#VALUE!"}},{"$error":"#VALUE!"},{"$error":"#VALUE!"},{"$error":"#VALUE!"}]
[71,1.2391837689159739,{"$f":"Burmester($B$3:$C$3,$B$4:$C$4,$B$5:$C$5,$E$3,$E$4,$E$5,B150)","v":{"$error":"#VALUE!"}},{"$error":"#VALUE!"},{"$f":"ThreePosition_Basic2($E$3,$E$5,$B$3:$C$3,$B$5:$C$5,B150,C150)","v":{"$error":"#VALUE!"}},{"$error":"#VALUE!"},{"$error":"#VALUE!"},{"$error":"#VALUE!"},{"$f":"ThreePosition_Basic2($E$3,$E$5,$B$3:$C$3,$B$5:$C$5,B150,D150)","v":{"$error":"#VALUE!"}},{"$error":"#VALUE!"},{"$error":"#VALUE!"},{"$error":"#VALUE!"}]
[71.5,1.2479104151759457,{"$f":"Burmester($B$3:$C$3,$B$4:$C$4,$B$5:$C$5,$E$3,$E$4,$E$5,B151)","v":{"$error":"#VALUE!"}},{"$error":"#VALUE!"},{"$f":"ThreePosition_Basic2($E$3,$E$5,$B$3:$C$3,$B$5:$C$5,B151,C151)","v":{"$error":"#VALUE!"}},{"$error":"#VALUE!"},{"$error":"#VALUE!"},{"$error":"#VALUE!"},{"$f":"ThreePosition_Basic2($E$3,$E$5,$B$3:$C$3,$B$5:$C$5,B151,D151)","v":{"$error":"#VALUE!"}},{"$error":"#VALUE!"},{"$error":"#VALUE!"},{"$error":"#VALUE!"}]
[72,1.2566370614359172,{"$f":"Burmester($B$3:$C$3,$B$4:$C$4,$B$5:$C$5,$E$3,$E$4,$E$5,B152)","v":{"$error":"#VALUE!"}},{"$error":"#VALUE!"},{"$f":"ThreePosition_Basic2($E$3,$E$5,$B$3:$C$3,$B$5:$C$5,B152,C152)","v":{"$error":"#VALUE!"}},{"$error":"#VALUE!"},{"$error":"#VALUE!"},{"$error":"#VALUE!"},{"$f":"ThreePosition_Basic2($E$3,$E$5,$B$3:$C$3,$B$5:$C$5,B152,D152)","v":{"$error":"#VALUE!"}},{"$error":"#VALUE!"},{"$error":"#VALUE!"},{"$error":"#VALUE!"}]
[72.5,1.2653637076958888,{"$f":"Burmester($B$3:$C$3,$B$4:$C$4,$B$5:$C$5,$E$3,$E$4,$E$5,B153)","v":{"$error":"#VALUE!"}},{"$error":"#VALUE!"},{"$f":"ThreePosition_Basic2($E$3,$E$5,$B$3:$C$3,$B$5:$C$5,B153,C153)","v":{"$error":"#VALUE!"}},{"$error":"#VALUE!"},{"$error":"#VALUE!"},{"$error":"#VALUE!"},{"$f":"ThreePosition_Basic2($E$3,$E$5,$B$3:$C$3,$B$5:$C$5,B153,D153)","v":{"$error":"#VALUE!"}},{"$error":"#VALUE!"},{"$error":"#VALUE!"},{"$error":"#VALUE!"}]
[73,1.2740903539558606,{"$f":"Burmester($B$3:$C$3,$B$4:$C$4,$B$5:$C$5,$E$3,$E$4,$E$5,B154)","v":{"$error":"#VALUE!"}},{"$error":"#VALUE!"},{"$f":"ThreePosition_Basic2($E$3,$E$5,$B$3:$C$3,$B$5:$C$5,B154,C154)","v":{"$error":"#VALUE!"}},{"$error":"#VALUE!"},{"$error":"#VALUE!"},{"$error":"#VALUE!"},{"$f":"ThreePosition_Basic2($E$3,$E$5,$B$3:$C$3,$B$5:$C$5,B154,D154)","v":{"$error":"#VALUE!"}},{"$error":"#VALUE!"},{"$error":"#VALUE!"},{"$error":"#VALUE!"}]
[73.5,1.2828170002158323,{"$f":"Burmester($B$3:$C$3,$B$4:$C$4,$B$5:$C$5,$E$3,$E$4,$E$5,B155)","v":{"$error":"#VALUE!"}},{"$error":"#VALUE!"},{"$f":"ThreePosition_Basic2($E$3,$E$5,$B$3:$C$3,$B$5:$C$5,B155,C155)","v":{"$error":"#VALUE!"}},{"$error":"#VALUE!"},{"$error":"#VALUE!"},{"$error":"#VALUE!"},{"$f":"ThreePosition_Basic2($E$3,$E$5,$B$3:$C$3,$B$5:$C$5,B155,D155)","v":{"$error":"#VALUE!"}},{"$error":"#VALUE!"},{"$error":"#VALUE!"},{"$error":"#VALUE!"}]
[74,1.2915436464758039,{"$f":"Burmester($B$3:$C$3,$B$4:$C$4,$B$5:$C$5,$E$3,$E$4,$E$5,B156)","v":{"$error":"#VALUE!"}},{"$error":"#VALUE!"},{"$f":"ThreePosition_Basic2($E$3,$E$5,$B$3:$C$3,$B$5:$C$5,B156,C156)","v":{"$error":"#VALUE!"}},{"$error":"#VALUE!"},{"$error":"#VALUE!"},{"$error":"#VALUE!"},{"$f":"ThreePosition_Basic2($E$3,$E$5,$B$3:$C$3,$B$5:$C$5,B156,D156)","v":{"$error":"#VALUE!"}},{"$error":"#VALUE!"},{"$error":"#VALUE!"},{"$error":"#VALUE!"}]
[74.5,1.3002702927357754,{"$f":"Burmester($B$3:$C$3,$B$4:$C$4,$B$5:$C$5,$E$3,$E$4,$E$5,B157)","v":{"$error":"#VALUE!"}},{"$error":"#VALUE!"},{"$f":"ThreePosition_Basic2($E$3,$E$5,$B$3:$C$3,$B$5:$C$5,B157,C157)","v":{"$error":"#VALUE!"}},{"$error":"#VALUE!"},{"$error":"#VALUE!"},{"$error":"#VALUE!"},{"$f":"ThreePosition_Basic2($E$3,$E$5,$B$3:$C$3,$B$5:$C$5,B157,D157)","v":{"$error":"#VALUE!"}},{"$error":"#VALUE!"},{"$error":"#VALUE!"},{"$error":"#VALUE!"}]
[75,1.3089969389957472,{"$f":"Burmester($B$3:$C$3,$B$4:$C$4,$B$5:$C$5,$E$3,$E$4,$E$5,B158)","v":{"$error":"#VALUE!"}},{"$error":"#VALUE!"},{"$f":"ThreePosition_Basic2($E$3,$E$5,$B$3:$C$3,$B$5:$C$5,B158,C158)","v":{"$error":"#VALUE!"}},{"$error":"#VALUE!"},{"$error":"#VALUE!"},{"$error":"#VALUE!"},{"$f":"ThreePosition_Basic2($E$3,$E$5,$B$3:$C$3,$B$5:$C$5,B158,D158)","v":{"$error":"#VALUE!"}},{"$error":"#VALUE!"},{"$error":"#VALUE!"},{"$error":"#VALUE!"}]
[75.5,1.3177235852557188,{"$f":"Burmester($B$3:$C$3,$B$4:$C$4,$B$5:$C$5,$E$3,$E$4,$E$5,B159)","v":{"$error":"#VALUE!"}},{"$error":"#VALUE!"},{"$f":"ThreePosition_Basic2($E$3,$E$5,$B$3:$C$3,$B$5:$C$5,B159,C159)","v":{"$error":"#VALUE!"}},{"$error":"#VALUE!"},{"$error":"#VALUE!"},{"$error":"#VALUE!"},{"$f":"ThreePosition_Basic2($E$3,$E$5,$B$3:$C$3,$B$5:$C$5,B159,D159)","v":{"$error":"#VALUE!"}},{"$error":"#VALUE!"},{"$error":"#VALUE!"},{"$error":"#VALUE!"}]
[76,1.3264502315156903,{"$f":"Burmester($B$3:$C$3,$B$4:$C$4,$B$5:$C$5,$E$3,$E$4,$E$5,B160)","v":{"$error":"#VALUE!"}},{"$error":"#VALUE!"},{"$f":"ThreePosition_Basic2($E$3,$E$5,$B$3:$C$3,$B$5:$C$5,B160,C160)","v":{"$error":"#VALUE!"}},{"$error":"#VALUE!"},{"$error":"#VALUE!"},{"$error":"#VALUE!"},{"$f":"ThreePosition_Basic2($E$3,$E$5,$B$3:$C$3,$B$5:$C$5,B160,D160)","v":{"$error":"#VALUE!"}},{"$error":"#VALUE!"},{"$error":"#VALUE!"},{"$error":"#VALUE!"}]
[76.5,1.3351768777756621,{"$f":"Burmester($B$3:$C$3,$B$4:$C$4,$B$5:$C$5,$E$3,$E$4,$E$5,B161)","v":{"$error":"#VALUE!"}},{"$error":"#VALUE!"},{"$f":"ThreePosition_Basic2($E$3,$E$5,$B$3:$C$3,$B$5:$C$5,B161,C161)","v":{"$error":"#VALUE!"}},{"$error":"#VALUE!"},{"$error":"#VALUE!"},{"$error":"#VALUE!"},{"$f":"ThreePosition_Basic2($E$3,$E$5,$B$3:$C$3,$B$5:$C$5,B161,D161)","v":{"$error":"#VALUE!"}},{"$error":"#VALUE!"},{"$error":"#VALUE!"},{"$error":"#VALUE!"}]
[77,1.3439035240356338,{"$f":"Burmester($B$3:$C$3,$B$4:$C$4,$B$5:$C$5,$E$3,$E$4,$E$5,B162)","v":{"$error":"#VALUE!"}},{"$error":"#VALUE!"},{"$f":"ThreePosition_Basic2($E$3,$E$5,$B$3:$C$3,$B$5:$C$5,B162,C162)","v":{"$error":"#VALUE!"}},{"$error":"#VALUE!"},{"$error":"#VALUE!"},{"$error":"#VALUE!"},{"$f":"ThreePosition_Basic2($E$3,$E$5,$B$3:$C$3,$B$5:$C$5,B162,D162)","v":{"$error":"#VALUE!"}},{"$error":"#VALUE!"},{"$error":"#VALUE!"},{"$error":"#VALUE!"}]
[77.5,1.3526301702956054,{"$f":"Burmester($B$3:$C$3,$B$4:$C$4,$B$5:$C$5,$E$3,$E$4,$E$5,B163)","v":{"$error":"#VALUE!"}},{"$error":"#VALUE!"},{"$f":"ThreePosition_Basic2($E$3,$E$5,$B$3:$C$3,$B$5:$C$5,B163,C163)","v":{"$error":"#VALUE!"}},{"$error":"#VALUE!"},{"$error":"#VALUE!"},{"$error":"#VALUE!"},{"$f":"ThreePosition_Basic2($E$3,$E$5,$B$3:$C$3,$B$5:$C$5,B163,D163)","v":{"$error":"#VALUE!"}},{"$error":"#VALUE!"},{"$error":"#VALUE!"},{"$error":"#VALUE!"}]
[78,1.3613568165555769,{"$f":"Burmester($B$3:$C$3,$B$4:$C$4,$B$5:$C$5,$E$3,$E$4,$E$5,B164)","v":{"$error":"#VALUE!"}},{"$error":"#VALUE!"},{"$f":"ThreePosition_Basic2($E$3,$E$5,$B$3:$C$3,$B$5:$C$5,B164,C164)","v":{"$error":"#VALUE!"}},{"$error":"#VALUE!"},{"$error":"#VALUE!"},{"$error":"#VALUE!"},{"$f":"ThreePosition_Basic2($E$3,$E$5,$B$3:$C$3,$B$5:$C$5,B164,D164)","v":{"$error":"#VALUE!"}},{"$error":"#VALUE!"},{"$error":"#VALUE!"},{"$error":"#VALUE!"}]
[78.5,1.3700834628155485,{"$f":"Burmester($B$3:$C$3,$B$4:$C$4,$B$5:$C$5,$E$3,$E$4,$E$5,B165)","v":{"$error":"#VALUE!"}},{"$error":"#VALUE!"},{"$f":"ThreePosition_Basic2($E$3,$E$5,$B$3:$C$3,$B$5:$C$5,B165,C165)","v":{"$error":"#VALUE!"}},{"$error":"#VALUE!"},{"$error":"#VALUE!"},{"$error":"#VALUE!"},{"$f":"ThreePosition_Basic2($E$3,$E$5,$B$3:$C$3,$B$5:$C$5,B165,D165)","v":{"$error":"#VALUE!"}},{"$error":"#VALUE!"},{"$error":"#VALUE!"},{"$error":"#VALUE!"}]
[79,1.3788101090755203,{"$f":"Burmester($B$3:$C$3,$B$4:$C$4,$B$5:$C$5,$E$3,$E$4,$E$5,B166)","v":{"$error":"#VALUE!"}},{"$error":"#VALUE!"},{"$f":"ThreePosition_Basic2($E$3,$E$5,$B$3:$C$3,$B$5:$C$5,B166,C166)","v":{"$error":"#VALUE!"}},{"$error":"#VALUE!"},{"$error":"#VALUE!"},{"$error":"#VALUE!"},{"$f":"ThreePosition_Basic2($E$3,$E$5,$B$3:$C$3,$B$5:$C$5,B166,D166)","v":{"$error":"#VALUE!"}},{"$error":"#VALUE!"},{"$error":"#VALUE!"},{"$error":"#VALUE!"}]
[79.5,1.387536755335492,{"$f":"Burmester($B$3:$C$3,$B$4:$C$4,$B$5:$C$5,$E$3,$E$4,$E$5,B167)","v":{"$error":"#VALUE!"}},{"$error":"#VALUE!"},{"$f":"ThreePosition_Basic2($E$3,$E$5,$B$3:$C$3,$B$5:$C$5,B167,C167)","v":{"$error":"#VALUE!"}},{"$error":"#VALUE!"},{"$error":"#VALUE!"},{"$error":"#VALUE!"},{"$f":"ThreePosition_Basic2($E$3,$E$5,$B$3:$C$3,$B$5:$C$5,B167,D167)","v":{"$error":"#VALUE!"}},{"$error":"#VALUE!"},{"$error":"#VALUE!"},{"$error":"#VALUE!"}]
[80,1.3962634015954636,{"$f":"Burmester($B$3:$C$3,$B$4:$C$4,$B$5:$C$5,$E$3,$E$4,$E$5,B168)","v":{"$error":"#VALUE!"}},{"$error":"#VALUE!"},{"$f":"ThreePosition_Basic2($E$3,$E$5,$B$3:$C$3,$B$5:$C$5,B168,C168)","v":{"$error":"#VALUE!"}},{"$error":"#VALUE!"},{"$error":"#VALUE!"},{"$error":"#VALUE!"},{"$f":"ThreePosition_Basic2($E$3,$E$5,$B$3:$C$3,$B$5:$C$5,B168,D168)","v":{"$error":"#VALUE!"}},{"$error":"#VALUE!"},{"$error":"#VALUE!"},{"$error":"#VALUE!"}]
[80.5,1.4049900478554351,{"$f":"Burmester($B$3:$C$3,$B$4:$C$4,$B$5:$C$5,$E$3,$E$4,$E$5,B169)","v":{"$error":"#VALUE!"}},{"$error":"#VALUE!"},{"$f":"ThreePosition_Basic2($E$3,$E$5,$B$3:$C$3,$B$5:$C$5,B169,C169)","v":{"$error":"#VALUE!"}},{"$error":"#VALUE!"},{"$error":"#VALUE!"},{"$error":"#VALUE!"},{"$f":"ThreePosition_Basic2($E$3,$E$5,$B$3:$C$3,$B$5:$C$5,B169,D169)","v":{"$error":"#VALUE!"}},{"$error":"#VALUE!"},{"$error":"#VALUE!"},{"$error":"#VALUE!"}]
[81,1.4137166941154069,{"$f":"Burmester($B$3:$C$3,$B$4:$C$4,$B$5:$C$5,$E$3,$E$4,$E$5,B170)","v":{"$error":"#VALUE!"}},{"$error":"#VALUE!"},{"$f":"ThreePosition_Basic2($E$3,$E$5,$B$3:$C$3,$B$5:$C$5,B170,C170)","v":{"$error":"#VALUE!"}},{"$error":"#VALUE!"},{"$error":"#VALUE!"},{"$error":"#VALUE!"},{"$f":"ThreePosition_Basic2($E$3,$E$5,$B$3:$C$3,$B$5:$C$5,B170,D170)","v":{"$error":"#VALUE!"}},{"$error":"#VALUE!"},{"$error":"#VALUE!"},{"$error":"#VALUE!"}]
[81.5,1.4224433403753785,{"$f":"Burmester($B$3:$C$3,$B$4:$C$4,$B$5:$C$5,$E$3,$E$4,$E$5,B171)","v":{"$error":"#VALUE!"}},{"$error":"#VALUE!"},{"$f":"ThreePosition_Basic2($E$3,$E$5,$B$3:$C$3,$B$5:$C$5,B171,C171)","v":{"$error":"#VALUE!"}},{"$error":"#VALUE!"},{"$error":"#VALUE!"},{"$error":"#VALUE!"},{"$f":"ThreePosition_Basic2($E$3,$E$5,$B$3:$C$3,$B$5:$C$5,B171,D171)","v":{"$error":"#VALUE!"}},{"$error":"#VALUE!"},{"$error":"#VALUE!"},{"$error":"#VALUE!"}]
[82,1.43116998663535,{"$f":"Burmester($B$3:$C$3,$B$4:$C$4,$B$5:$C$5,$E$3,$E$4,$E$5,B172)","v":{"$error":"#VALUE!"}},{"$error":"#VALUE!"},{"$f":"ThreePosition_Basic2($E$3,$E$5,$B$3:$C$3,$B$5:$C$5,B172,C172)","v":{"$error":"#VALUE!"}},{"$error":"#VALUE!"},{"$error":"#VALUE!"},{"$error":"#VALUE!"},{"$f":"ThreePosition_Basic2($E$3,$E$5,$B$3:$C$3,$B$5:$C$5,B172,D172)","v":{"$error":"#VALUE!"}},{"$error":"#VALUE!"},{"$error":"#VALUE!"},{"$error":"#VALUE!"}]
[82.5,1.4398966328953218,{"$f":"Burmester($B$3:$C$3,$B$4:$C$4,$B$5:$C$5,$E$3,$E$4,$E$5,B173)","v":{"$error":"#VALUE!"}},{"$error":"#VALUE!"},{"$f":"ThreePosition_Basic2($E$3,$E$5,$B$3:$C$3,$B$5:$C$5,B173,C173)","v":{"$error":"#VALUE!"}},{"$error":"#VALUE!"},{"$error":"#VALUE!"},{"$error":"#VALUE!"},{"$f":"ThreePosition_Basic2($E$3,$E$5,$B$3:$C$3,$B$5:$C$5,B173,D173)","v":{"$error":"#VALUE!"}},{"$error":"#VALUE!"},{"$error":"#VALUE!"},{"$error":"#VALUE!"}]
[83,1.4486232791552935,{"$f":"Burmester($B$3:$C$3,$B$4:$C$4,$B$5:$C$5,$E$3,$E$4,$E$5,B174)","v":{"$error":"#VALUE!"}},{"$error":"#VALUE!"},{"$f":"ThreePosition_Basic2($E$3,$E$5,$B$3:$C$3,$B$5:$C$5,B174,C174)","v":{"$error":"#VALUE!"}},{"$error":"#VALUE!"},{"$error":"#VALUE!"},{"$error":"#VALUE!"},{"$f":"ThreePosition_Basic2($E$3,$E$5,$B$3:$C$3,$B$5:$C$5,B174,D174)","v":{"$error":"#VALUE!"}},{"$error":"#VALUE!"},{"$error":"#VALUE!"},{"$error":"#VALUE!"}]
[83.5,1.4573499254152653,{"$f":"Burmester($B$3:$C$3,$B$4:$C$4,$B$5:$C$5,$E$3,$E$4,$E$5,B175)","v":{"$error":"#VALUE!"}},{"$error":"#VALUE!"},{"$f":"ThreePosition_Basic2($E$3,$E$5,$B$3:$C$3,$B$5:$C$5,B175,C175)","v":{"$error":"#VALUE!"}},{"$error":"#VALUE!"},{"$error":"#VALUE!"},{"$error":"#VALUE!"},{"$f":"ThreePosition_Basic2($E$3,$E$5,$B$3:$C$3,$B$5:$C$5,B175,D175)","v":{"$error":"#VALUE!"}},{"$error":"#VALUE!"},{"$error":"#VALUE!"},{"$error":"#VALUE!"}]
[84,1.4660765716752369,{"$f":"Burmester($B$3:$C$3,$B$4:$C$4,$B$5:$C$5,$E$3,$E$4,$E$5,B176)","v":{"$error":"#VALUE!"}},{"$error":"#VALUE!"},{"$f":"ThreePosition_Basic2($E$3,$E$5,$B$3:$C$3,$B$5:$C$5,B176,C176)","v":{"$error":"#VALUE!"}},{"$error":"#VALUE!"},{"$error":"#VALUE!"},{"$error":"#VALUE!"},{"$f":"ThreePosition_Basic2($E$3,$E$5,$B$3:$C$3,$B$5:$C$5,B176,D176)","v":{"$error":"#VALUE!"}},{"$error":"#VALUE!"},{"$error":"#VALUE!"},{"$error":"#VALUE!"}]
[84.5,1.4748032179352084,{"$f":"Burmester($B$3:$C$3,$B$4:$C$4,$B$5:$C$5,$E$3,$E$4,$E$5,B177)","v":{"$error":"#VALUE!"}},{"$error":"#VALUE!"},{"$f":"ThreePosition_Basic2($E$3,$E$5,$B$3:$C$3,$B$5:$C$5,B177,C177)","v":{"$error":"#VALUE!"}},{"$error":"#VALUE!"},{"$error":"#VALUE!"},{"$error":"#VALUE!"},{"$f":"ThreePosition_Basic2($E$3,$E$5,$B$3:$C$3,$B$5:$C$5,B177,D177)","v":{"$error":"#VALUE!"}},{"$error":"#VALUE!"},{"$error":"#VALUE!"},{"$error":"#VALUE!"}]
[85,1.4835298641951802,{"$f":"Burmester($B$3:$C$3,$B$4:$C$4,$B$5:$C$5,$E$3,$E$4,$E$5,B178)","v":{"$error":"#VALUE!"}},{"$error":"#VALUE!"},{"$f":"ThreePosition_Basic2($E$3,$E$5,$B$3:$C$3,$B$5:$C$5,B178,C178)","v":{"$error":"#VALUE!"}},{"$error":"#VALUE!"},{"$error":"#VALUE!"},{"$error":"#VALUE!"},{"$f":"ThreePosition_Basic2($E$3,$E$5,$B$3:$C$3,$B$5:$C$5,B178,D178)","v":{"$error":"#VALUE!"}},{"$error":"#VALUE!"},{"$error":"#VALUE!"},{"$error":"#VALUE!"}]
[85.5,1.4922565104551517,{"$f":"Burmester($B$3:$C$3,$B$4:$C$4,$B$5:$C$5,$E$3,$E$4,$E$5,B179)","v":{"$error":"#VALUE!"}},{"$error":"#VALUE!"},{"$f":"ThreePosition_Basic2($E$3,$E$5,$B$3:$C$3,$B$5:$C$5,B179,C179)","v":{"$error":"#VALUE!"}},{"$error":"#VALUE!"},{"$error":"#VALUE!"},{"$error":"#VALUE!"},{"$f":"ThreePosition_Basic2($E$3,$E$5,$B$3:$C$3,$B$5:$C$5,B179,D179)","v":{"$error":"#VALUE!"}},{"$error":"#VALUE!"},{"$error":"#VALUE!"},{"$error":"#VALUE!"}]
[86,1.5009831567151233,{"$f":"Burmester($B$3:$C$3,$B$4:$C$4,$B$5:$C$5,$E$3,$E$4,$E$5,B180)","v":{"$error":"#VALUE!"}},{"$error":"#VALUE!"},{"$f":"ThreePosition_Basic2($E$3,$E$5,$B$3:$C$3,$B$5:$C$5,B180,C180)","v":{"$error":"#VALUE!"}},{"$error":"#VALUE!"},{"$error":"#VALUE!"},{"$error":"#VALUE!"},{"$f":"ThreePosition_Basic2($E$3,$E$5,$B$3:$C$3,$B$5:$C$5,B180,D180)","v":{"$error":"#VALUE!"}},{"$error":"#VALUE!"},{"$error":"#VALUE!"},{"$error":"#VALUE!"}]
[86.5,1.509709802975095,{"$f":"Burmester($B$3:$C$3,$B$4:$C$4,$B$5:$C$5,$E$3,$E$4,$E$5,B181)","v":{"$error":"#VALUE!"}},{"$error":"#VALUE!"},{"$f":"ThreePosition_Basic2($E$3,$E$5,$B$3:$C$3,$B$5:$C$5,B181,C181)","v":{"$error":"#VALUE!"}},{"$error":"#VALUE!"},{"$error":"#VALUE!"},{"$error":"#VALUE!"},{"$f":"ThreePosition_Basic2($E$3,$E$5,$B$3:$C$3,$B$5:$C$5,B181,D181)","v":{"$error":"#VALUE!"}},{"$error":"#VALUE!"},{"$error":"#VALUE!"},{"$error":"#VALUE!"}]
[87,1.5184364492350666,{"$f":"Burmester($B$3:$C$3,$B$4:$C$4,$B$5:$C$5,$E$3,$E$4,$E$5,B182)","v":{"$error":"#VALUE!"}},{"$error":"#VALUE!"},{"$f":"ThreePosition_Basic2($E$3,$E$5,$B$3:$C$3,$B$5:$C$5,B182,C182)","v":{"$error":"#VALUE!"}},{"$error":"#VALUE!"},{"$error":"#VALUE!"},{"$error":"#VALUE!"},{"$f":"ThreePosition_Basic2($E$3,$E$5,$B$3:$C$3,$B$5:$C$5,B182,D182)","v":{"$error":"#VALUE!"}},{"$error":"#VALUE!"},{"$error":"#VALUE!"},{"$error":"#VALUE!"}]
[87.5,1.5271630954950381,{"$f":"Burmester($B$3:$C$3,$B$4:$C$4,$B$5:$C$5,$E$3,$E$4,$E$5,B183)","v":{"$error":"#VALUE!"}},{"$error":"#VALUE!"},{"$f":"ThreePosition_Basic2($E$3,$E$5,$B$3:$C$3,$B$5:$C$5,B183,C183)","v":{"$error":"#VALUE!"}},{"$error":"#VALUE!"},{"$error":"#VALUE!"},{"$error":"#VALUE!"},{"$f":"ThreePosition_Basic2($E$3,$E$5,$B$3:$C$3,$B$5:$C$5,B183,D183)","v":{"$error":"#VALUE!"}},{"$error":"#VALUE!"},{"$error":"#VALUE!"},{"$error":"#VALUE!"}]
[88,1.5358897417550099,{"$f":"Burmester($B$3:$C$3,$B$4:$C$4,$B$5:$C$5,$E$3,$E$4,$E$5,B184)","v":{"$error":"#VALUE!"}},{"$error":"#VALUE!"},{"$f":"ThreePosition_Basic2($E$3,$E$5,$B$3:$C$3,$B$5:$C$5,B184,C184)","v":{"$error":"#VALUE!"}},{"$error":"#VALUE!"},{"$error":"#VALUE!"},{"$error":"#VALUE!"},{"$f":"ThreePosition_Basic2($E$3,$E$5,$B$3:$C$3,$B$5:$C$5,B184,D184)","v":{"$error":"#VALUE!"}},{"$error":"#VALUE!"},{"$error":"#VALUE!"},{"$error":"#VALUE!"}]
[88.5,1.5446163880149817,{"$f":"Burmester($B$3:$C$3,$B$4:$C$4,$B$5:$C$5,$E$3,$E$4,$E$5,B185)","v":{"$error":"#VALUE!"}},{"$error":"#VALUE!"},{"$f":"ThreePosition_Basic2($E$3,$E$5,$B$3:$C$3,$B$5:$C$5,B185,C185)","v":{"$error":"#VALUE!"}},{"$error":"#VALUE!"},{"$error":"#VALUE!"},{"$error":"#VALUE!"},{"$f":"ThreePosition_Basic2($E$3,$E$5,$B$3:$C$3,$B$5:$C$5,B185,D185)","v":{"$error":"#VALUE!"}},{"$error":"#VALUE!"},{"$error":"#VALUE!"},{"$error":"#VALUE!"}]
[89,1.5533430342749535,{"$f":"Burmester($B$3:$C$3,$B$4:$C$4,$B$5:$C$5,$E$3,$E$4,$E$5,B186)","v":{"$error":"#VALUE!"}},{"$error":"#VALUE!"},{"$f":"ThreePosition_Basic2($E$3,$E$5,$B$3:$C$3,$B$5:$C$5,B186,C186)","v":{"$error":"#VALUE!"}},{"$error":"#VALUE!"},{"$error":"#VALUE!"},{"$error":"#VALUE!"},{"$f":"ThreePosition_Basic2($E$3,$E$5,$B$3:$C$3,$B$5:$C$5,B186,D186)","v":{"$error":"#VALUE!"}},{"$error":"#VALUE!"},{"$error":"#VALUE!"},{"$error":"#VALUE!"}]
[89.5,1.562069680534925,{"$f":"Burmester($B$3:$C$3,$B$4:$C$4,$B$5:$C$5,$E$3,$E$4,$E$5,B187)","v":{"$error":"#VALUE!"}},{"$error":"#VALUE!"},{"$f":"ThreePosition_Basic2($E$3,$E$5,$B$3:$C$3,$B$5:$C$5,B187,C187)","v":{"$error":"#VALUE!"}},{"$error":"#VALUE!"},{"$error":"#VALUE!"},{"$error":"#VALUE!"},{"$f":"ThreePosition_Basic2($E$3,$E$5,$B$3:$C$3,$B$5:$C$5,B187,D187)","v":{"$error":"#VALUE!"}},{"$error":"#VALUE!"},{"$error":"#VALUE!"},{"$error":"#VALUE!"}]
[90,1.5707963267948966,{"$f":"Burmester($B$3:$C$3,$B$4:$C$4,$B$5:$C$5,$E$3,$E$4,$E$5,B188)","v":{"$error":"#VALUE!"}},{"$error":"#VALUE!"},{"$f":"ThreePosition_Basic2($E$3,$E$5,$B$3:$C$3,$B$5:$C$5,B188,C188)","v":{"$error":"#VALUE!"}},{"$error":"#VALUE!"},{"$error":"#VALUE!"},{"$error":"#VALUE!"},{"$f":"ThreePosition_Basic2($E$3,$E$5,$B$3:$C$3,$B$5:$C$5,B188,D188)","v":{"$error":"#VALUE!"}},{"$error":"#VALUE!"},{"$error":"#VALUE!"},{"$error":"#VALUE!"}]
[90.5,1.5795229730548681,{"$f":"Burmester($B$3:$C$3,$B$4:$C$4,$B$5:$C$5,$E$3,$E$4,$E$5,B189)","v":{"$error":"#VALUE!"}},{"$error":"#VALUE!"},{"$f":"ThreePosition_Basic2($E$3,$E$5,$B$3:$C$3,$B$5:$C$5,B189,C189)","v":{"$error":"#VALUE!"}},{"$error":"#VALUE!"},{"$error":"#VALUE!"},{"$error":"#VALUE!"},{"$f":"ThreePosition_Basic2($E$3,$E$5,$B$3:$C$3,$B$5:$C$5,B189,D189)","v":{"$error":"#VALUE!"}},{"$error":"#VALUE!"},{"$error":"#VALUE!"},{"$error":"#VALUE!"}]
[91,1.5882496193148399,{"$f":"Burmester($B$3:$C$3,$B$4:$C$4,$B$5:$C$5,$E$3,$E$4,$E$5,B190)","v":{"$error":"#VALUE!"}},{"$error":"#VALUE!"},{"$f":"ThreePosition_Basic2($E$3,$E$5,$B$3:$C$3,$B$5:$C$5,B190,C190)","v":{"$error":"#VALUE!"}},{"$error":"#VALUE!"},{"$error":"#VALUE!"},{"$error":"#VALUE!"},{"$f":"ThreePosition_Basic2($E$3,$E$5,$B$3:$C$3,$B$5:$C$5,B190,D190)","v":{"$error":"#VALUE!"}},{"$error":"#VALUE!"},{"$error":"#VALUE!"},{"$error":"#VALUE!"}]
[91.5,1.5969762655748114,{"$f":"Burmester($B$3:$C$3,$B$4:$C$4,$B$5:$C$5,$E$3,$E$4,$E$5,B191)","v":{"$error":"#VALUE!"}},{"$error":"#VALUE!"},{"$f":"ThreePosition_Basic2($E$3,$E$5,$B$3:$C$3,$B$5:$C$5,B191,C191)","v":{"$error":"#VALUE!"}},{"$error":"#VALUE!"},{"$error":"#VALUE!"},{"$error":"#VALUE!"},{"$f":"ThreePosition_Basic2($E$3,$E$5,$B$3:$C$3,$B$5:$C$5,B191,D191)","v":{"$error":"#VALUE!"}},{"$error":"#VALUE!"},{"$error":"#VALUE!"},{"$error":"#VALUE!"}]
[92,1.605702911834783,{"$f":"Burmester($B$3:$C$3,$B$4:$C$4,$B$5:$C$5,$E$3,$E$4,$E$5,B192)","v":{"$error":"#VALUE!"}},{"$error":"#VALUE!"},{"$f":"ThreePosition_Basic2($E$3,$E$5,$B$3:$C$3,$B$5:$C$5,B192,C192)","v":{"$error":"#VALUE!"}},{"$error":"#VALUE!"},{"$error":"#VALUE!"},{"$error":"#VALUE!"},{"$f":"ThreePosition_Basic2($E$3,$E$5,$B$3:$C$3,$B$5:$C$5,B192,D192)","v":{"$error":"#VALUE!"}},{"$error":"#VALUE!"},{"$error":"#VALUE!"},{"$error":"#VALUE!"}]
[92.5,1.6144295580947547,{"$f":"Burmester($B$3:$C$3,$B$4:$C$4,$B$5:$C$5,$E$3,$E$4,$E$5,B193)","v":{"$error":"#VALUE!"}},{"$error":"#VALUE!"},{"$f":"ThreePosition_Basic2($E$3,$E$5,$B$3:$C$3,$B$5:$C$5,B193,C193)","v":{"$error":"#VALUE!"}},{"$error":"#VALUE!"},{"$error":"#VALUE!"},{"$error":"#VALUE!"},{"$f":"ThreePosition_Basic2($E$3,$E$5,$B$3:$C$3,$B$5:$C$5,B193,D193)","v":{"$error":"#VALUE!"}},{"$error":"#VALUE!"},{"$error":"#VALUE!"},{"$error":"#VALUE!"}]
[93,1.6231562043547263,{"$f":"Burmester($B$3:$C$3,$B$4:$C$4,$B$5:$C$5,$E$3,$E$4,$E$5,B194)","v":{"$error":"#VALUE!"}},{"$error":"#VALUE!"},{"$f":"ThreePosition_Basic2($E$3,$E$5,$B$3:$C$3,$B$5:$C$5,B194,C194)","v":{"$error":"#VALUE!"}},{"$error":"#VALUE!"},{"$error":"#VALUE!"},{"$error":"#VALUE!"},{"$f":"ThreePosition_Basic2($E$3,$E$5,$B$3:$C$3,$B$5:$C$5,B194,D194)","v":{"$error":"#VALUE!"}},{"$error":"#VALUE!"},{"$error":"#VALUE!"},{"$error":"#VALUE!"}]
[93.5,1.6318828506146983,{"$f":"Burmester($B$3:$C$3,$B$4:$C$4,$B$5:$C$5,$E$3,$E$4,$E$5,B195)","v":{"$error":"#VALUE!"}},{"$error":"#VALUE!"},{"$f":"ThreePosition_Basic2($E$3,$E$5,$B$3:$C$3,$B$5:$C$5,B195,C195)","v":{"$error":"#VALUE!"}},{"$error":"#VALUE!"},{"$error":"#VALUE!"},{"$error":"#VALUE!"},{"$f":"ThreePosition_Basic2($E$3,$E$5,$B$3:$C$3,$B$5:$C$5,B195,D195)","v":{"$error":"#VALUE!"}},{"$error":"#VALUE!"},{"$error":"#VALUE!"},{"$error":"#VALUE!"}]
[94,1.6406094968746698,{"$f":"Burmester($B$3:$C$3,$B$4:$C$4,$B$5:$C$5,$E$3,$E$4,$E$5,B196)","v":{"$error":"#VALUE!"}},{"$error":"#VALUE!"},{"$f":"ThreePosition_Basic2($E$3,$E$5,$B$3:$C$3,$B$5:$C$5,B196,C196)","v":{"$error":"#VALUE!"}},{"$error":"#VALUE!"},{"$error":"#VALUE!"},{"$error":"#VALUE!"},{"$f":"ThreePosition_Basic2($E$3,$E$5,$B$3:$C$3,$B$5:$C$5,B196,D196)","v":{"$error":"#VALUE!"}},{"$error":"#VALUE!"},{"$error":"#VALUE!"},{"$error":"#VALUE!"}]
[94.5,1.6493361431346414,{"$f":"Burmester($B$3:$C$3,$B$4:$C$4,$B$5:$C$5,$E$3,$E$4,$E$5,B197)","v":{"$error":"#VALUE!"}},{"$error":"#VALUE!"},{"$f":"ThreePosition_Basic2($E$3,$E$5,$B$3:$C$3,$B$5:$C$5,B197,C197)","v":{"$error":"#VALUE!"}},{"$error":"#VALUE!"},{"$error":"#VALUE!"},{"$error":"#VALUE!"},{"$f":"ThreePosition_Basic2($E$3,$E$5,$B$3:$C$3,$B$5:$C$5,B197,D197)","v":{"$error":"#VALUE!"}},{"$error":"#VALUE!"},{"$error":"#VALUE!"},{"$error":"#VALUE!"}]
[95,1.6580627893946132,{"$f":"Burmester($B$3:$C$3,$B$4:$C$4,$B$5:$C$5,$E$3,$E$4,$E$5,B198)","v":{"$error":"#VALUE!"}},{"$error":"#VALUE!"},{"$f":"ThreePosition_Basic2($E$3,$E$5,$B$3:$C$3,$B$5:$C$5,B198,C198)","v":{"$error":"#VALUE!"}},{"$error":"#VALUE!"},{"$error":"#VALUE!"},{"$error":"#VALUE!"},{"$f":"ThreePosition_Basic2($E$3,$E$5,$B$3:$C$3,$B$5:$C$5,B198,D198)","v":{"$error":"#VALUE!"}},{"$error":"#VALUE!"},{"$error":"#VALUE!"},{"$error":"#VALUE!"}]
[95.5,1.6667894356545847,{"$f":"Burmester($B$3:$C$3,$B$4:$C$4,$B$5:$C$5,$E$3,$E$4,$E$5,B199)","v":{"$error":"#VALUE!"}},{"$error":"#VALUE!"},{"$f":"ThreePosition_Basic2($E$3,$E$5,$B$3:$C$3,$B$5:$C$5,B199,C199)","v":{"$error":"#VALUE!"}},{"$error":"#VALUE!"},{"$error":"#VALUE!"},{"$error":"#VALUE!"},{"$f":"ThreePosition_Basic2($E$3,$E$5,$B$3:$C$3,$B$5:$C$5,B199,D199)","v":{"$error":"#VALUE!"}},{"$error":"#VALUE!"},{"$error":"#VALUE!"},{"$error":"#VALUE!"}]
[96,1.6755160819145563,{"$f":"Burmester($B$3:$C$3,$B$4:$C$4,$B$5:$C$5,$E$3,$E$4,$E$5,B200)","v":{"$error":"#VALUE!"}},{"$error":"#VALUE!"},{"$f":"ThreePosition_Basic2($E$3,$E$5,$B$3:$C$3,$B$5:$C$5,B200,C200)","v":{"$error":"#VALUE!"}},{"$error":"#VALUE!"},{"$error":"#VALUE!"},{"$error":"#VALUE!"},{"$f":"ThreePosition_Basic2($E$3,$E$5,$B$3:$C$3,$B$5:$C$5,B200,D200)","v":{"$error":"#VALUE!"}},{"$error":"#VALUE!"},{"$error":"#VALUE!"},{"$error":"#VALUE!"}]
[96.5,{"$f":"A201*PI()/180","v":1.684242728174528},{"$f":"Burmester($B$3:$C$3,$B$4:$C$4,$B$5:$C$5,$E$3,$E$4,$E$5,B201)","v":{"$error":"#VALUE!"}},{"$error":"#VALUE!"},{"$f":"ThreePosition_Basic2($E$3,$E$5,$B$3:$C$3,$B$5:$C$5,B201,C201)","v":{"$error":"#VALUE!"}},{"$error":"#VALUE!"},{"$error":"#VALUE!"},{"$error":"#VALUE!"},{"$f":"ThreePosition_Basic2($E$3,$E$5,$B$3:$C$3,$B$5:$C$5,B201,D201)","v":{"$error":"#VALUE!"}},{"$error":"#VALUE!"},{"$error":"#VALUE!"},{"$error":"#VALUE!"}]
[97,1.6929693744344996,{"$f":"Burmester($B$3:$C$3,$B$4:$C$4,$B$5:$C$5,$E$3,$E$4,$E$5,B202)","v":{"$error":"#VALUE!"}},{"$error":"#VALUE!"},{"$f":"ThreePosition_Basic2($E$3,$E$5,$B$3:$C$3,$B$5:$C$5,B202,C202)","v":{"$error":"#VALUE!"}},{"$error":"#VALUE!"},{"$error":"#VALUE!"},{"$error":"#VALUE!"},{"$f":"ThreePosition_Basic2($E$3,$E$5,$B$3:$C$3,$B$5:$C$5,B202,D202)","v":{"$error":"#VALUE!"}},{"$error":"#VALUE!"},{"$error":"#VALUE!"},{"$error":"#VALUE!"}]
[97.5,1.7016960206944711,{"$f":"Burmester($B$3:$C$3,$B$4:$C$4,$B$5:$C$5,$E$3,$E$4,$E$5,B203)","v":{"$error":"#VALUE!"}},{"$error":"#VALUE!"},{"$f":"ThreePosition_Basic2($E$3,$E$5,$B$3:$C$3,$B$5:$C$5,B203,C203)","v":{"$error":"#VALUE!"}},{"$error":"#VALUE!"},{"$error":"#VALUE!"},{"$error":"#VALUE!"},{"$f":"ThreePosition_Basic2($E$3,$E$5,$B$3:$C$3,$B$5:$C$5,B203,D203)","v":{"$error":"#VALUE!"}},{"$error":"#VALUE!"},{"$error":"#VALUE!"},{"$error":"#VALUE!"}]
[98,1.7104226669544429,{"$f":"Burmester($B$3:$C$3,$B$4:$C$4,$B$5:$C$5,$E$3,$E$4,$E$5,B204)","v":{"$error":"#VALUE!"}},{"$error":"#VALUE!"},{"$f":"ThreePosition_Basic2($E$3,$E$5,$B$3:$C$3,$B$5:$C$5,B204,C204)","v":{"$error":"#VALUE!"}},{"$error":"#VALUE!"},{"$error":"#VALUE!"},{"$error":"#VALUE!"},{"$f":"ThreePosition_Basic2($E$3,$E$5,$B$3:$C$3,$B$5:$C$5,B204,D204)","v":{"$error":"#VALUE!"}},{"$error":"#VALUE!"},{"$error":"#VALUE!"},{"$error":"#VALUE!"}]
[98.5,1.7191493132144144,{"$f":"Burmester($B$3:$C$3,$B$4:$C$4,$B$5:$C$5,$E$3,$E$4,$E$5,B205)","v":{"$error":"#VALUE!"}},{"$error":"#VALUE!"},{"$f":"ThreePosition_Basic2($E$3,$E$5,$B$3:$C$3,$B$5:$C$5,B205,C205)","v":{"$error":"#VALUE!"}},{"$error":"#VALUE!"},{"$error":"#VALUE!"},{"$error":"#VALUE!"},{"$f":"ThreePosition_Basic2($E$3,$E$5,$B$3:$C$3,$B$5:$C$5,B205,D205)","v":{"$error":"#VALUE!"}},{"$error":"#VALUE!"},{"$error":"#VALUE!"},{"$error":"#VALUE!"}]
[99,1.7278759594743864,{"$f":"Burmester($B$3:$C$3,$B$4:$C$4,$B$5:$C$5,$E$3,$E$4,$E$5,B206)","v":{"$error":"#VALUE!"}},{"$error":"#VALUE!"},{"$f":"ThreePosition_Basic2($E$3,$E$5,$B$3:$C$3,$B$5:$C$5,B206,C206)","v":{"$error":"#VALUE!"}},{"$error":"#VALUE!"},{"$error":"#VALUE!"},{"$error":"#VALUE!"},{"$f":"ThreePosition_Basic2($E$3,$E$5,$B$3:$C$3,$B$5:$C$5,B206,D206)","v":{"$error":"#VALUE!"}},{"$error":"#VALUE!"},{"$error":"#VALUE!"},{"$error":"#VALUE!"}]
[99.5,1.736602605734358,{"$f":"Burmester($B$3:$C$3,$B$4:$C$4,$B$5:$C$5,$E$3,$E$4,$E$5,B207)","v":{"$error":"#VALUE!"}},{"$error":"#VALUE!"},{"$f":"ThreePosition_Basic2($E$3,$E$5,$B$3:$C$3,$B$5:$C$5,B207,C207)","v":{"$error":"#VALUE!"}},{"$error":"#VALUE!"},{"$error":"#VALUE!"},{"$error":"#VALUE!"},{"$f":"ThreePosition_Basic2($E$3,$E$5,$B$3:$C$3,$B$5:$C$5,B207,D207)","v":{"$error":"#VALUE!"}},{"$error":"#VALUE!"},{"$error":"#VALUE!"},{"$error":"#VALUE!"}]
[100,1.7453292519943295,{"$f":"Burmester($B$3:$C$3,$B$4:$C$4,$B$5:$C$5,$E$3,$E$4,$E$5,B208)","v":{"$error":"#VALUE!"}},{"$error":"#VALUE!"},{"$f":"ThreePosition_Basic2($E$3,$E$5,$B$3:$C$3,$B$5:$C$5,B208,C208)","v":{"$error":"#VALUE!"}},{"$error":"#VALUE!"},{"$error":"#VALUE!"},{"$error":"#VALUE!"},{"$f":"ThreePosition_Basic2($E$3,$E$5,$B$3:$C$3,$B$5:$C$5,B208,D208)","v":{"$error":"#VALUE!"}},{"$error":"#VALUE!"},{"$error":"#VALUE!"},{"$error":"#VALUE!"}]
[100.5,1.7540558982543013,{"$f":"Burmester($B$3:$C$3,$B$4:$C$4,$B$5:$C$5,$E$3,$E$4,$E$5,B209)","v":{"$error":"#VALUE!"}},{"$error":"#VALUE!"},{"$f":"ThreePosition_Basic2($E$3,$E$5,$B$3:$C$3,$B$5:$C$5,B209,C209)","v":{"$error":"#VALUE!"}},{"$error":"#VALUE!"},{"$error":"#VALUE!"},{"$error":"#VALUE!"},{"$f":"ThreePosition_Basic2($E$3,$E$5,$B$3:$C$3,$B$5:$C$5,B209,D209)","v":{"$error":"#VALUE!"}},{"$error":"#VALUE!"},{"$error":"#VALUE!"},{"$error":"#VALUE!"}]
[101,1.7627825445142729,{"$f":"Burmester($B$3:$C$3,$B$4:$C$4,$B$5:$C$5,$E$3,$E$4,$E$5,B210)","v":{"$error":"#VALUE!"}},{"$error":"#VALUE!"},{"$f":"ThreePosition_Basic2($E$3,$E$5,$B$3:$C$3,$B$5:$C$5,B210,C210)","v":{"$error":"#VALUE!"}},{"$error":"#VALUE!"},{"$error":"#VALUE!"},{"$error":"#VALUE!"},{"$f":"ThreePosition_Basic2($E$3,$E$5,$B$3:$C$3,$B$5:$C$5,B210,D210)","v":{"$error":"#VALUE!"}},{"$error":"#VALUE!"},{"$error":"#VALUE!"},{"$error":"#VALUE!"}]
[101.5,1.7715091907742444,{"$f":"Burmester($B$3:$C$3,$B$4:$C$4,$B$5:$C$5,$E$3,$E$4,$E$5,B211)","v":{"$error":"#VALUE!"}},{"$error":"#VALUE!"},{"$f":"ThreePosition_Basic2($E$3,$E$5,$B$3:$C$3,$B$5:$C$5,B211,C211)","v":{"$error":"#VALUE!"}},{"$error":"#VALUE!"},{"$error":"#VALUE!"},{"$error":"#VALUE!"},{"$f":"ThreePosition_Basic2($E$3,$E$5,$B$3:$C$3,$B$5:$C$5,B211,D211)","v":{"$error":"#VALUE!"}},{"$error":"#VALUE!"},{"$error":"#VALUE!"},{"$error":"#VALUE!"}]
[102,1.780235837034216,{"$f":"Burmester($B$3:$C$3,$B$4:$C$4,$B$5:$C$5,$E$3,$E$4,$E$5,B212)","v":{"$error":"#VALUE!"}},{"$error":"#VALUE!"},{"$f":"ThreePosition_Basic2($E$3,$E$5,$B$3:$C$3,$B$5:$C$5,B212,C212)","v":{"$error":"#VALUE!"}},{"$error":"#VALUE!"},{"$error":"#VALUE!"},{"$error":"#VALUE!"},{"$f":"ThreePosition_Basic2($E$3,$E$5,$B$3:$C$3,$B$5:$C$5,B212,D212)","v":{"$error":"#VALUE!"}},{"$error":"#VALUE!"},{"$error":"#VALUE!"},{"$error":"#VALUE!"}]
[102.5,1.7889624832941877,{"$f":"Burmester($B$3:$C$3,$B$4:$C$4,$B$5:$C$5,$E$3,$E$4,$E$5,B213)","v":{"$error":"#VALUE!"}},{"$error":"#VALUE!"},{"$f":"ThreePosition_Basic2($E$3,$E$5,$B$3:$C$3,$B$5:$C$5,B213,C213)","v":{"$error":"#VALUE!"}},{"$error":"#VALUE!"},{"$error":"#VALUE!"},{"$error":"#VALUE!"},{"$f":"ThreePosition_Basic2($E$3,$E$5,$B$3:$C$3,$B$5:$C$5,B213,D213)","v":{"$error":"#VALUE!"}},{"$error":"#VALUE!"},{"$error":"#VALUE!"},{"$error":"#VALUE!"}]
[103,1.7976891295541593,{"$f":"Burmester($B$3:$C$3,$B$4:$C$4,$B$5:$C$5,$E$3,$E$4,$E$5,B214)","v":{"$error":"#VALUE!"}},{"$error":"#VALUE!"},{"$f":"ThreePosition_Basic2($E$3,$E$5,$B$3:$C$3,$B$5:$C$5,B214,C214)","v":{"$error":"#VALUE!"}},{"$error":"#VALUE!"},{"$error":"#VALUE!"},{"$error":"#VALUE!"},{"$f":"ThreePosition_Basic2($E$3,$E$5,$B$3:$C$3,$B$5:$C$5,B214,D214)","v":{"$error":"#VALUE!"}},{"$error":"#VALUE!"},{"$error":"#VALUE!"},{"$error":"#VALUE!"}]
[103.5,1.8064157758141308,{"$f":"Burmester($B$3:$C$3,$B$4:$C$4,$B$5:$C$5,$E$3,$E$4,$E$5,B215)","v":{"$error":"#VALUE!"}},{"$error":"#VALUE!"},{"$f":"ThreePosition_Basic2($E$3,$E$5,$B$3:$C$3,$B$5:$C$5,B215,C215)","v":{"$error":"#VALUE!"}},{"$error":"#VALUE!"},{"$error":"#VALUE!"},{"$error":"#VALUE!"},{"$f":"ThreePosition_Basic2($E$3,$E$5,$B$3:$C$3,$B$5:$C$5,B215,D215)","v":{"$error":"#VALUE!"}},{"$error":"#VALUE!"},{"$error":"#VALUE!"},{"$error":"#VALUE!"}]
[104,1.8151424220741028,{"$f":"Burmester($B$3:$C$3,$B$4:$C$4,$B$5:$C$5,$E$3,$E$4,$E$5,B216)","v":{"$error":"#VALUE!"}},{"$error":"#VALUE!"},{"$f":"ThreePosition_Basic2($E$3,$E$5,$B$3:$C$3,$B$5:$C$5,B216,C216)","v":{"$error":"#VALUE!"}},{"$error":"#VALUE!"},{"$error":"#VALUE!"},{"$error":"#VALUE!"},{"$f":"ThreePosition_Basic2($E$3,$E$5,$B$3:$C$3,$B$5:$C$5,B216,D216)","v":{"$error":"#VALUE!"}},{"$error":"#VALUE!"},{"$error":"#VALUE!"},{"$error":"#VALUE!"}]
[104.5,1.8238690683340744,{"$f":"Burmester($B$3:$C$3,$B$4:$C$4,$B$5:$C$5,$E$3,$E$4,$E$5,B217)","v":{"$error":"#VALUE!"}},{"$error":"#VALUE!"},{"$f":"ThreePosition_Basic2($E$3,$E$5,$B$3:$C$3,$B$5:$C$5,B217,C217)","v":{"$error":"#VALUE!"}},{"$error":"#VALUE!"},{"$error":"#VALUE!"},{"$error":"#VALUE!"},{"$f":"ThreePosition_Basic2($E$3,$E$5,$B$3:$C$3,$B$5:$C$5,B217,D217)","v":{"$error":"#VALUE!"}},{"$error":"#VALUE!"},{"$error":"#VALUE!"},{"$error":"#VALUE!"}]
[105,1.8325957145940461,{"$f":"Burmester($B$3:$C$3,$B$4:$C$4,$B$5:$C$5,$E$3,$E$4,$E$5,B218)","v":{"$error":"#VALUE!"}},{"$error":"#VALUE!"},{"$f":"ThreePosition_Basic2($E$3,$E$5,$B$3:$C$3,$B$5:$C$5,B218,C218)","v":{"$error":"#VALUE!"}},{"$error":"#VALUE!"},{"$error":"#VALUE!"},{"$error":"#VALUE!"},{"$f":"ThreePosition_Basic2($E$3,$E$5,$B$3:$C$3,$B$5:$C$5,B218,D218)","v":{"$error":"#VALUE!"}},{"$error":"#VALUE!"},{"$error":"#VALUE!"},{"$error":"#VALUE!"}]
[105.5,1.8413223608540177,{"$f":"Burmester($B$3:$C$3,$B$4:$C$4,$B$5:$C$5,$E$3,$E$4,$E$5,B219)","v":{"$error":"#VALUE!"}},{"$error":"#VALUE!"},{"$f":"ThreePosition_Basic2($E$3,$E$5,$B$3:$C$3,$B$5:$C$5,B219,C219)","v":{"$error":"#VALUE!"}},{"$error":"#VALUE!"},{"$error":"#VALUE!"},{"$error":"#VALUE!"},{"$f":"ThreePosition_Basic2($E$3,$E$5,$B$3:$C$3,$B$5:$C$5,B219,D219)","v":{"$error":"#VALUE!"}},{"$error":"#VALUE!"},{"$error":"#VALUE!"},{"$error":"#VALUE!"}]
[106,1.8500490071139892,{"$f":"Burmester($B$3:$C$3,$B$4:$C$4,$B$5:$C$5,$E$3,$E$4,$E$5,B220)","v":{"$error":"#VALUE!"}},{"$error":"#VALUE!"},{"$f":"ThreePosition_Basic2($E$3,$E$5,$B$3:$C$3,$B$5:$C$5,B220,C220)","v":{"$error":"#VALUE!"}},{"$error":"#VALUE!"},{"$error":"#VALUE!"},{"$error":"#VALUE!"},{"$f":"ThreePosition_Basic2($E$3,$E$5,$B$3:$C$3,$B$5:$C$5,B220,D220)","v":{"$error":"#VALUE!"}},{"$error":"#VALUE!"},{"$error":"#VALUE!"},{"$error":"#VALUE!"}]
[106.5,1.858775653373961,{"$f":"Burmester($B$3:$C$3,$B$4:$C$4,$B$5:$C$5,$E$3,$E$4,$E$5,B221)","v":{"$error":"#VALUE!"}},{"$error":"#VALUE!"},{"$f":"ThreePosition_Basic2($E$3,$E$5,$B$3:$C$3,$B$5:$C$5,B221,C221)","v":{"$error":"#VALUE!"}},{"$error":"#VALUE!"},{"$error":"#VALUE!"},{"$error":"#VALUE!"},{"$f":"ThreePosition_Basic2($E$3,$E$5,$B$3:$C$3,$B$5:$C$5,B221,D221)","v":{"$error":"#VALUE!"}},{"$error":"#VALUE!"},{"$error":"#VALUE!"},{"$error":"#VALUE!"}]
[107,1.8675022996339325,{"$f":"Burmester($B$3:$C$3,$B$4:$C$4,$B$5:$C$5,$E$3,$E$4,$E$5,B222)","v":{"$error":"#VALUE!"}},{"$error":"#VALUE!"},{"$f":"ThreePosition_Basic2($E$3,$E$5,$B$3:$C$3,$B$5:$C$5,B222,C222)","v":{"$error":"#VALUE!"}},{"$error":"#VALUE!"},{"$error":"#VALUE!"},{"$error":"#VALUE!"},{"$f":"ThreePosition_Basic2($E$3,$E$5,$B$3:$C$3,$B$5:$C$5,B222,D222)","v":{"$error":"#VALUE!"}},{"$error":"#VALUE!"},{"$error":"#VALUE!"},{"$error":"#VALUE!"}]
[107.5,1.8762289458939041,{"$f":"Burmester($B$3:$C$3,$B$4:$C$4,$B$5:$C$5,$E$3,$E$4,$E$5,B223)","v":{"$error":"#VALUE!"}},{"$error":"#VALUE!"},{"$f":"ThreePosition_Basic2($E$3,$E$5,$B$3:$C$3,$B$5:$C$5,B223,C223)","v":{"$error":"#VALUE!"}},{"$error":"#VALUE!"},{"$error":"#VALUE!"},{"$error":"#VALUE!"},{"$f":"ThreePosition_Basic2($E$3,$E$5,$B$3:$C$3,$B$5:$C$5,B223,D223)","v":{"$error":"#VALUE!"}},{"$error":"#VALUE!"},{"$error":"#VALUE!"},{"$error":"#VALUE!"}]
[108,1.8849555921538759,{"$f":"Burmester($B$3:$C$3,$B$4:$C$4,$B$5:$C$5,$E$3,$E$4,$E$5,B224)","v":{"$error":"#VALUE!"}},{"$error":"#VALUE!"},{"$f":"ThreePosition_Basic2($E$3,$E$5,$B$3:$C$3,$B$5:$C$5,B224,C224)","v":{"$error":"#VALUE!"}},{"$error":"#VALUE!"},{"$error":"#VALUE!"},{"$error":"#VALUE!"},{"$f":"ThreePosition_Basic2($E$3,$E$5,$B$3:$C$3,$B$5:$C$5,B224,D224)","v":{"$error":"#VALUE!"}},{"$error":"#VALUE!"},{"$error":"#VALUE!"},{"$error":"#VALUE!"}]
[108.5,1.8936822384138474,{"$f":"Burmester($B$3:$C$3,$B$4:$C$4,$B$5:$C$5,$E$3,$E$4,$E$5,B225)","v":{"$error":"#VALUE!"}},{"$error":"#VALUE!"},{"$f":"ThreePosition_Basic2($E$3,$E$5,$B$3:$C$3,$B$5:$C$5,B225,C225)","v":{"$error":"#VALUE!"}},{"$error":"#VALUE!"},{"$error":"#VALUE!"},{"$error":"#VALUE!"},{"$f":"ThreePosition_Basic2($E$3,$E$5,$B$3:$C$3,$B$5:$C$5,B225,D225)","v":{"$error":"#VALUE!"}},{"$error":"#VALUE!"},{"$error":"#VALUE!"},{"$error":"#VALUE!"}]
[109,1.902408884673819,{"$f":"Burmester($B$3:$C$3,$B$4:$C$4,$B$5:$C$5,$E$3,$E$4,$E$5,B226)","v":{"$error":"#VALUE!"}},{"$error":"#VALUE!"},{"$f":"ThreePosition_Basic2($E$3,$E$5,$B$3:$C$3,$B$5:$C$5,B226,C226)","v":{"$error":"#VALUE!"}},{"$error":"#VALUE!"},{"$error":"#VALUE!"},{"$error":"#VALUE!"},{"$f":"ThreePosition_Basic2($E$3,$E$5,$B$3:$C$3,$B$5:$C$5,B226,D226)","v":{"$error":"#VALUE!"}},{"$error":"#VALUE!"},{"$error":"#VALUE!"},{"$error":"#VALUE!"}]
[109.5,1.911135530933791,{"$f":"Burmester($B$3:$C$3,$B$4:$C$4,$B$5:$C$5,$E$3,$E$4,$E$5,B227)","v":{"$error":"#VALUE!"}},{"$error":"#VALUE!"},{"$f":"ThreePosition_Basic2($E$3,$E$5,$B$3:$C$3,$B$5:$C$5,B227,C227)","v":{"$error":"#VALUE!"}},{"$error":"#VALUE!"},{"$error":"#VALUE!"},{"$error":"#VALUE!"},{"$f":"ThreePosition_Basic2($E$3,$E$5,$B$3:$C$3,$B$5:$C$5,B227,D227)","v":{"$error":"#VALUE!"}},{"$error":"#VALUE!"},{"$error":"#VALUE!"},{"$error":"#VALUE!"}]
[110,1.9198621771937625,{"$f":"Burmester($B$3:$C$3,$B$4:$C$4,$B$5:$C$5,$E$3,$E$4,$E$5,B228)","v":{"$error":"#VALUE!"}},{"$error":"#VALUE!"},{"$f":"ThreePosition_Basic2($E$3,$E$5,$B$3:$C$3,$B$5:$C$5,B228,C228)","v":{"$error":"#VALUE!"}},{"$error":"#VALUE!"},{"$error":"#VALUE!"},{"$error":"#VALUE!"},{"$f":"ThreePosition_Basic2($E$3,$E$5,$B$3:$C$3,$B$5:$C$5,B228,D228)","v":{"$error":"#VALUE!"}},{"$error":"#VALUE!"},{"$error":"#VALUE!"},{"$error":"#VALUE!"}]
[110.5,1.9285888234537343,{"$f":"Burmester($B$3:$C$3,$B$4:$C$4,$B$5:$C$5,$E$3,$E$4,$E$5,B229)","v":{"$error":"#VALUE!"}},{"$error":"#VALUE!"},{"$f":"ThreePosition_Basic2($E$3,$E$5,$B$3:$C$3,$B$5:$C$5,B229,C229)","v":{"$error":"#VALUE!"}},{"$error":"#VALUE!"},{"$error":"#VALUE!"},{"$error":"#VALUE!"},{"$f":"ThreePosition_Basic2($E$3,$E$5,$B$3:$C$3,$B$5:$C$5,B229,D229)","v":{"$error":"#VALUE!"}},{"$error":"#VALUE!"},{"$error":"#VALUE!"},{"$error":"#VALUE!"}]
[111,1.9373154697137058,{"$f":"Burmester($B$3:$C$3,$B$4:$C$4,$B$5:$C$5,$E$3,$E$4,$E$5,B230)","v":{"$error":"#VALUE!"}},{"$error":"#VALUE!"},{"$f":"ThreePosition_Basic2($E$3,$E$5,$B$3:$C$3,$B$5:$C$5,B230,C230)","v":{"$error":"#VALUE!"}},{"$error":"#VALUE!"},{"$error":"#VALUE!"},{"$error":"#VALUE!"},{"$f":"ThreePosition_Basic2($E$3,$E$5,$B$3:$C$3,$B$5:$C$5,B230,D230)","v":{"$error":"#VALUE!"}},{"$error":"#VALUE!"},{"$error":"#VALUE!"},{"$error":"#VALUE!"}]
[111.5,1.9460421159736774,{"$f":"Burmester($B$3:$C$3,$B$4:$C$4,$B$5:$C$5,$E$3,$E$4,$E$5,B231)","v":{"$error":"#VALUE!"}},{"$error":"#VALUE!"},{"$f":"ThreePosition_Basic2($E$3,$E$5,$B$3:$C$3,$B$5:$C$5,B231,C231)","v":{"$error":"#VALUE!"}},{"$error":"#VALUE!"},{"$error":"#VALUE!"},{"$error":"#VALUE!"},{"$f":"ThreePosition_Basic2($E$3,$E$5,$B$3:$C$3,$B$5:$C$5,B231,D231)","v":{"$error":"#VALUE!"}},{"$error":"#VALUE!"},{"$error":"#VALUE!"},{"$error":"#VALUE!"}]
[112,1.9547687622336491,{"$f":"Burmester($B$3:$C$3,$B$4:$C$4,$B$5:$C$5,$E$3,$E$4,$E$5,B232)","v":{"$error":"#VALUE!"}},{"$error":"#VALUE!"},{"$f":"ThreePosition_Basic2($E$3,$E$5,$B$3:$C$3,$B$5:$C$5,B232,C232)","v":{"$error":"#VALUE!"}},{"$error":"#VALUE!"},{"$error":"#VALUE!"},{"$error":"#VALUE!"},{"$f":"ThreePosition_Basic2($E$3,$E$5,$B$3:$C$3,$B$5:$C$5,B232,D232)","v":{"$error":"#VALUE!"}},{"$error":"#VALUE!"},{"$error":"#VALUE!"},{"$error":"#VALUE!"}]
[112.5,1.9634954084936207,{"$f":"Burmester($B$3:$C$3,$B$4:$C$4,$B$5:$C$5,$E$3,$E$4,$E$5,B233)","v":{"$error":"#VALUE!"}},{"$error":"#VALUE!"},{"$f":"ThreePosition_Basic2($E$3,$E$5,$B$3:$C$3,$B$5:$C$5,B233,C233)","v":{"$error":"#VALUE!"}},{"$error":"#VALUE!"},{"$error":"#VALUE!"},{"$error":"#VALUE!"},{"$f":"ThreePosition_Basic2($E$3,$E$5,$B$3:$C$3,$B$5:$C$5,B233,D233)","v":{"$error":"#VALUE!"}},{"$error":"#VALUE!"},{"$error":"#VALUE!"},{"$error":"#VALUE!"}]
[113,1.9722220547535922,{"$f":"Burmester($B$3:$C$3,$B$4:$C$4,$B$5:$C$5,$E$3,$E$4,$E$5,B234)","v":3.7535398084297946},3.391522694824662,{"$f":"ThreePosition_Basic2($E$3,$E$5,$B$3:$C$3,$B$5:$C$5,B234,C234)","v":0.22692133411260912},2.0616272246832006,0.49567495299074782,2.8924655607486791,{"$f":"ThreePosition_Basic2($E$3,$E$5,$B$3:$C$3,$B$5:$C$5,B234,D234)","v":6.6099064612226088E-2},1.8566747935417685,0.36208073643413613,2.6876934296000443]
[113.5,1.9809487010135638,{"$f":"Burmester($B$3:$C$3,$B$4:$C$4,$B$5:$C$5,$E$3,$E$4,$E$5,B235)","v":3.8576779725273496},3.3072133104740256,{"$f":"ThreePosition_Basic2($E$3,$E$5,$B$3:$C$3,$B$5:$C$5,B235,C235)","v":0.24886787608242714},2.1280986728941023,0.51360607763834165,2.9528825551142663,{"$f":"ThreePosition_Basic2($E$3,$E$5,$B$3:$C$3,$B$5:$C$5,B235,D235)","v":9.2723150847244772E-3},1.8201212990364399,0.31467539437843095,2.6451666088401251]
[114,1.9896753472735356,{"$f":"Burmester($B$3:$C$3,$B$4:$C$4,$B$5:$C$5,$E$3,$E$4,$E$5,B236)","v":3.9374324350482426},3.2472256133706012,{"$f":"ThreePosition_Basic2($E$3,$E$5,$B$3:$C$3,$B$5:$C$5,B236,C236)","v":0.25894692393485924},2.1795226180459473,0.52166246987451748,2.9983371522658517,{"$f":"ThreePosition_Basic2($E$3,$E$5,$B$3:$C$3,$B$5:$C$5,B236,D236)","v":-3.5412446462438546E-2},1.7979252425005336,0.27738574596582166,2.6170490937052682]
[114.5,1.9984019935335071,{"$f":"Burmester($B$3:$C$3,$B$4:$C$4,$B$5:$C$5,$E$3,$E$4,$E$5,B237)","v":4.005661089774887},3.1987019775549772,{"$f":"ThreePosition_Basic2($E$3,$E$5,$B$3:$C$3,$B$5:$C$5,B237,C237)","v":0.26321301598177915},2.2234248716719458,0.52488099435948743,3.036346947094581,{"$f":"ThreePosition_Basic2($E$3,$E$5,$B$3:$C$3,$B$5:$C$5,B237,D237)","v":-7.4008794827198784E-2},1.7825797332415727,0.24517564472853454,2.5958391449894043]
[115,2.0071286397934789,{"$f":"Burmester($B$3:$C$3,$B$4:$C$4,$B$5:$C$5,$E$3,$E$4,$E$5,B238)","v":4.0668133744724653},3.1571932403057827,{"$f":"ThreePosition_Basic2($E$3,$E$5,$B$3:$C$3,$B$5:$C$5,B238,C238)","v":0.26381593850784218},2.262450506873853,0.5250512721881142,3.0695532259278875,{"$f":"ThreePosition_Basic2($E$3,$E$5,$B$3:$C$3,$B$5:$C$5,B238,D238)","v":-0.10866585539300946},1.771458052924946,0.21625592833719762,2.578910844466388]
[115.5,2.0158552860534509,{"$f":"Burmester($B$3:$C$3,$B$4:$C$4,$B$5:$C$5,$E$3,$E$4,$E$5,B239)","v":4.1230599111232458},3.1205290616104202,{"$f":"ThreePosition_Basic2($E$3,$E$5,$B$3:$C$3,$B$5:$C$5,B239,C239)","v":0.26183067597778487},2.2979107708642048,0.52306874641208312,3.0992646592734601,{"$f":"ThreePosition_Basic2($E$3,$E$5,$B$3:$C$3,$B$5:$C$5,B239,D239)","v":-0.14045823267127167},1.7632667592444458,0.18973137187639449,2.5649704163606577]
[116,2.0245819323134224,{"$f":"Burmester($B$3:$C$3,$B$4:$C$4,$B$5:$C$5,$E$3,$E$4,$E$5,B240)","v":4.1756523566689339},3.0874580731333117,{"$f":"ThreePosition_Basic2($E$3,$E$5,$B$3:$C$3,$B$5:$C$5,B240,C240)","v":0.25789229279960596},2.3305747860157306,0.5194627270429204,3.1262482882595366,{"$f":"ThreePosition_Basic2($E$3,$E$5,$B$3:$C$3,$B$5:$C$5,B240,D240)","v":-0.17002087173239627},1.7572540008046027,0.1650726604749243,2.5532652548644785]
[116.5,2.033308578573394,{"$f":"Burmester($B$3:$C$3,$B$4:$C$4,$B$5:$C$5,$E$3,$E$4,$E$5,B241)","v":4.2253899255188987},3.0571813554238871,{"$f":"ThreePosition_Basic2($E$3,$E$5,$B$3:$C$3,$B$5:$C$5,B241,C241)","v":0.25241600479454179},2.3609426640078315,0.51457947780169011,3.1510023952316009,{"$f":"ThreePosition_Basic2($E$3,$E$5,$B$3:$C$3,$B$5:$C$5,B241,D241)","v":-0.19776911059888894},1.7529364186073453,0.14193331909309739,2.5433110672271324]
[117,2.0420352248333655,{"$f":"Burmester($B$3:$C$3,$B$4:$C$4,$B$5:$C$5,$E$3,$E$4,$E$5,B242)","v":4.2728195836149769},3.0291522435736238,{"$f":"ThreePosition_Basic2($E$3,$E$5,$B$3:$C$3,$B$5:$C$5,B242,C242)","v":0.24569257899056063},2.3893633290106426,0.50866160415067563,3.1738742237183746,{"$f":"ThreePosition_Basic2($E$3,$E$5,$B$3:$C$3,$B$5:$C$5,B242,D242)","v":-0.22399406214388612},1.7499813381880827,0.12007033999618066,2.5347741671913617]
[117.5,2.0507618710933371,{"$f":"Burmester($B$3:$C$3,$B$4:$C$4,$B$5:$C$5,$E$3,$E$4,$E$5,B243)","v":4.3183350419326567},3.0029773334424035,{"$f":"ThreePosition_Basic2($E$3,$E$5,$B$3:$C$3,$B$5:$C$5,B243,C243)","v":0.23793598884318412},2.4160930841570272,0.50188772072615895,3.1951184947439861,{"$f":"ThreePosition_Basic2($E$3,$E$5,$B$3:$C$3,$B$5:$C$5,B243,D243)","v":-0.2489102525295617},1.7481482181392816,9.9304529855839013E-2,2.5274129717907901]
[118,2.0594885173533086,{"$f":"Burmester($B$3:$C$3,$B$4:$C$4,$B$5:$C$5,$E$3,$E$4,$E$5,B244)","v":4.3622308172401763},2.9783624206326524,{"$f":"ThreePosition_Basic2($E$3,$E$5,$B$3:$C$3,$B$5:$C$5,B244,C244)","v":0.22930970700371381},2.4413277604081753,0.49439434299171681,3.2149295288715134,{"$f":"ThreePosition_Basic2($E$3,$E$5,$B$3:$C$3,$B$5:$C$5,B244,D244)","v":-0.27268189824006173},1.7472565159068958,7.9498631717600132E-2,2.5210458921159691]
[118.5,2.0682151636132806,{"$f":"Burmester($B$3:$C$3,$B$4:$C$4,$B$5:$C$5,$E$3,$E$4,$E$5,B245)","v":4.4047340194864519},2.9550807128403815,{"$f":"ThreePosition_Basic2($E$3,$E$5,$B$3:$C$3,$B$5:$C$5,B245,C245)","v":0.21994232690576732},2.4652217173978572,0.48628889759610061,3.233460231632229,{"$f":"ThreePosition_Basic2($E$3,$E$5,$B$3:$C$3,$B$5:$C$5,B245,D245)","v":-0.2954385129179688},1.7471667012678134,6.0544327404604914E-2,2.5155323603894337]
[119,2.0769418098732522,{"$f":"Burmester($B$3:$C$3,$B$4:$C$4,$B$5:$C$5,$E$3,$E$4,$E$5,B246)","v":4.4460241461945227},2.9329530352064292,{"$f":"ThreePosition_Basic2($E$3,$E$5,$B$3:$C$3,$B$5:$C$5,B246,C246)","v":0.20993739401652634},2.4878997366674742,0.477657912644808,3.2508339773715011,{"$f":"ThreePosition_Basic2($E$3,$E$5,$B$3:$C$3,$B$5:$C$5,B246,D246)","v":-0.31728472479231867},1.7477683770713852,4.2354059199759819E-2,2.5107609583152395]
[119.5,2.0856684561332237,{"$f":"Burmester($B$3:$C$3,$B$4:$C$4,$B$5:$C$5,$E$3,$E$4,$E$5,B247)","v":4.4862459879560159},2.9118349245724349,{"$f":"ThreePosition_Basic2($E$3,$E$5,$B$3:$C$3,$B$5:$C$5,B247,C247)","v":0.19937988512005081},2.5094648161569562,0.46857241710119191,3.2671523977280899,{"$f":"ThreePosition_Basic2($E$3,$E$5,$B$3:$C$3,$B$5:$C$5,B247,D247)","v":-0.33830674301040953},1.7489724983770256,2.4855641638782566E-2,2.5066416404842138]
[120,2.0943951023931953,{"$f":"Burmester($B$3:$C$3,$B$4:$C$4,$B$5:$C$5,$E$3,$E$4,$E$5,B248)","v":4.5255183653537845},2.8916078923143518,{"$f":"ThreePosition_Basic2($E$3,$E$5,$B$3:$C$3,$B$5:$C$5,B248,C248)","v":0.18834064329519287},2.5300034747974349,0.45909163773104222,3.2825006821981533,{"$f":"ThreePosition_Basic2($E$3,$E$5,$B$3:$C$3,$B$5:$C$5,B248,D248)","v":-0.3585767804840328},1.7507060811404986,7.9885750456957783E-3,2.5031004453828833]
[120.5,2.1031217486531673,{"$f":"Burmester($B$3:$C$3,$B$4:$C$4,$B$5:$C$5,$E$3,$E$4,$E$5,B249)","v":4.5639402328261349},2.8721733202400768,{"$f":"ThreePosition_Basic2($E$3,$E$5,$B$3:$C$3,$B$5:$C$5,B249,C249)","v":0.1768795113154919},2.5495894782555455,0.44926561188854941,3.2969513010587841,{"$f":"ThreePosition_Basic2($E$3,$E$5,$B$3:$C$3,$B$5:$C$5,B249,D249)","v":-0.37815617592842693},1.7529084893989428,-8.2985574441183374E-3,2.5000757837316607]
[121,2.1118483949131388,{"$f":"Burmester($B$3:$C$3,$B$4:$C$4,$B$5:$C$5,$E$3,$E$4,$E$5,B250)","v":4.6015950583886909},2.8534480806351477,{"$f":"ThreePosition_Basic2($E$3,$E$5,$B$3:$C$3,$B$5:$C$5,B250,C250)","v":0.16504760586897538},2.5682865268263937,0.43913708448639738,3.3105666911982246,{"$f":"ThreePosition_Basic2($E$3,$E$5,$B$3:$C$3,$B$5:$C$5,B250,D250)","v":-0.3970976574457375},1.7555287599587257,-2.4049977675640377E-2,2.4975157636066267]
[121.5,2.1205750411731104,{"$f":"Burmester($B$3:$C$3,$B$4:$C$4,$B$5:$C$5,$E$3,$E$4,$E$5,B251)","v":4.6385540392083398},2.8353613204620141,{"$f":"ThreePosition_Basic2($E$3,$E$5,$B$3:$C$3,$B$5:$C$5,B251,C251)","v":0.15288900688350587},2.5861502398440641,0.42874291755927885,3.3234012389509866,{"$f":"ThreePosition_Basic2($E$3,$E$5,$B$3:$C$3,$B$5:$C$5,B251,D251)","v":-0.41544702189513327},1.7585236302194562,-3.930411345192486E-2,2.4953762182490165]
[122,2.1293016874330819,{"$f":"Burmester($B$3:$C$3,$B$4:$C$4,$B$5:$C$5,$E$3,$E$4,$E$5,B252)","v":4.6748785100642678},2.8178520526778552,{"$f":"ThreePosition_Basic2($E$3,$E$5,$B$3:$C$3,$B$5:$C$5,B252,C252)","v":0.14044203794460025},2.6032296504614041,0.41811515899716512,3.3355027736219913,{"$f":"ThreePosition_Basic2($E$3,$E$5,$B$3:$C$3,$B$5:$C$5,B252,D252)","v":-0.43324440599545011},1.761856055285441,-5.409465923819673E-2,2.4936192228813843]
[122.5,2.1380283336930535,{"$f":"Burmester($B$3:$C$3,$B$4:$C$4,$B$5:$C$5,$E$3,$E$4,$E$5,B253)","v":4.7106217791751455},2.8008673201918342,{"$f":"ThreePosition_Basic2($E$3,$E$5,$B$3:$C$3,$B$5:$C$5,B253,C253)","v":0.12774025412362824},2.6195683516809316,0.40728186734390404,3.3469137124751644,{"$f":"ThreePosition_Basic2($E$3,$E$5,$B$3:$C$3,$B$5:$C$5,B253,D253)","v":-0.45052526543970278},1.7654940734866427,-6.8451393454161624E-2,2.4922119597587917]
[123,2.1467549799530254,{"$f":"Burmester($B$3:$C$3,$B$4:$C$4,$B$5:$C$5,$E$3,$E$4,$E$5,B254)","v":4.7458305494249124},2.7843607744293202,{"$f":"ThreePosition_Basic2($E$3,$E$5,$B$3:$C$3,$B$5:$C$5,B254,C254)","v":0.11481321611837002},2.6352053888803422,0.3962677583997623,3.3576719523611116,{"$f":"ThreePosition_Basic2($E$3,$E$5,$B$3:$C$3,$B$5:$C$5,B254,D254)","v":-0.46732114088709581},1.769409925070174,-8.2400818061359626E-2,2.4911258362847053]
[123.5,2.155481626212997,{"$f":"Burmester($B$3:$C$3,$B$4:$C$4,$B$5:$C$5,$E$3,$E$4,$E$5,B255)","v":4.7805460339584913},2.7682915595316664,{"$f":"ThreePosition_Basic2($E$3,$E$5,$B$3:$C$3,$B$5:$C$5,B255,C255)","v":0.10168710546819629},2.6501759647087688,0.38509471926215633,3.3678115738147265,{"$f":"ThreePosition_Basic2($E$3,$E$5,$B$3:$C$3,$B$5:$C$5,B255,D255)","v":-0.48366026556052905},1.773579358191274,-9.5966666049838223E-2,2.490335790365549]
[124,2.1642082724729685,{"$f":"Burmester($B$3:$C$3,$B$4:$C$4,$B$5:$C$5,$E$3,$E$4,$E$5,B256)","v":4.8148048428309345},2.752623425508026,{"$f":"ThreePosition_Basic2($E$3,$E$5,$B$3:$C$3,$B$5:$C$5,B256,C256)","v":8.8385219634510917E-2},2.6645120028516009,0.37378222213523798,3.377363404090362,{"$f":"ThreePosition_Basic2($E$3,$E$5,$B$3:$C$3,$B$5:$C$5,B256,D256)","v":-0.49956805320810005},1.7779810757115844,-0.10917030912672865,2.4898197365415173]
[124.5,2.1729349187329401,{"$f":"Burmester($B$3:$C$3,$B$4:$C$4,$B$5:$C$5,$E$3,$E$4,$E$5,B257)","v":4.8486396956625306},2.7373240153865921,{"$f":"ThreePosition_Basic2($E$3,$E$5,$B$3:$C$3,$B$5:$C$5,B257,C257)","v":7.4928374930015598E-2},2.6782426040849692,0.36234766123597872,3.3863554725353748,{"$f":"ThreePosition_Basic2($E$3,$E$5,$B$3:$C$3,$B$5:$C$5,B257,D257)","v":-0.51506749438181088},1.7825962893895722,-0.12203108890785225,2.4895581194983283]
[125,2.1816615649929116,{"$f":"Burmester($B$3:$C$3,$B$4:$C$4,$B$5:$C$5,$E$3,$E$4,$E$5,B258)","v":4.8820800003302338},2.7223642863348627,{"$f":"ThreePosition_Basic2($E$3,$E$5,$B$3:$C$3,$B$5:$C$5,B258,C258)","v":6.1335237819005531E-2},2.6913944190378873,0.35080662990769784,3.394813382706297,{"$f":"ThreePosition_Basic2($E$3,$E$5,$B$3:$C$3,$B$5:$C$5,B258,D258)","v":-0.53017948152717387},1.7874083570514476,-0.13456658869839316,2.4895335505614873]
[125.5,2.1903882112528836,{"$f":"Burmester($B$3:$C$3,$B$4:$C$4,$B$5:$C$5,$E$3,$E$4,$E$5,B259)","v":4.9151523272913229},2.7077180351529408,{"$f":"ThreePosition_Basic2($E$3,$E$5,$B$3:$C$3,$B$5:$C$5,B259,C259)","v":4.7622599865051192E-2},2.7039919557680818,0.33917315068056691,3.4027606193243267,{"$f":"ThreePosition_Basic2($E$3,$E$5,$B$3:$C$3,$B$5:$C$5,B259,D259)","v":-0.54492307813325558},1.7924024846431397,-0.14679285857875923,2.4897305090823938]
[126,2.1991148575128552,{"$f":"Burmester($B$3:$C$3,$B$4:$C$4,$B$5:$C$5,$E$3,$E$4,$E$5,B260)","v":4.9478808017182221},2.69336150596089,{"$f":"ThreePosition_Basic2($E$3,$E$5,$B$3:$C$3,$B$5:$C$5,B260,C260)","v":3.3805607852928028E-2},2.7160578357591545,0.32745986789368398,3.4102188036714267,{"$f":"ThreePosition_Basic2($E$3,$E$5,$B$3:$C$3,$B$5:$C$5,B260,D260)","v":-0.55931574344480739},1.7975654795624776,-0.15872460338822753,2.4901350951211643]
[126.5,2.2078415037728267,{"$f":"Burmester($B$3:$C$3,$B$4:$C$4,$B$5:$C$5,$E$3,$E$4,$E$5,B261)","v":4.9802874302716322},2.6792730632529169,{"$f":"ThreePosition_Basic2($E$3,$E$5,$B$3:$C$3,$B$5:$C$5,B261,C261)","v":1.9897957891116137E-2},2.7276130086923893,0.31567821022559994,3.4172079077760307,{"$f":"ThreePosition_Basic2($E$3,$E$5,$B$3:$C$3,$B$5:$C$5,B261,D261)","v":-0.57337352151905163},1.8028855449252694,-0.17037534093252021,2.4907348230835336]
[127,2.2165681500327987,{"$f":"Burmester($B$3:$C$3,$B$4:$C$4,$B$5:$C$5,$E$3,$E$4,$E$5,B262)","v":5.01239237542441},2.6654329174058717,{"$f":"ThreePosition_Basic2($E$3,$E$5,$B$3:$C$3,$B$5:$C$5,B262,C262)","v":5.9120602998551418E-3},2.7386769339597437,0.30383852881170015,3.4237464353519926,{"$f":"ThreePosition_Basic2($E$3,$E$5,$B$3:$C$3,$B$5:$C$5,B262,D262)","v":-0.58711120140979534},1.8083521068057389,-0.18175753607426404,2.4915184483545079]
[127.5,2.2252947962927703,{"$f":"Burmester($B$3:$C$3,$B$4:$C$4,$B$5:$C$5,$E$3,$E$4,$E$5,B263)","v":5.0442141873488993},2.6518228926292933,{"$f":"ThreePosition_Basic2($E$3,$E$5,$B$3:$C$3,$B$5:$C$5,B263,C263)","v":-8.1408194012599043E-3},2.7492677351120012,0.29195021538363902,3.4298515756827985,{"$f":"ThreePosition_Basic2($E$3,$E$5,$B$3:$C$3,$B$5:$C$5,B263,D263)","v":-0.60054245377189663},1.8139556682645961,-0.19288271512325345,2.4924758207433002]
[128,2.2340214425527418,{"$f":"Burmester($B$3:$C$3,$B$4:$C$4,$B$5:$C$5,$E$3,$E$4,$E$5,B264)","v":5.07577000120747},2.6384262295171661,{"$f":"ThreePosition_Basic2($E$3,$E$5,$B$3:$C$3,$B$5:$C$5,B264,C264)","v":-2.2250439215971005E-2},2.7594023321040808,0.28002180392883674,3.4355393353117534,{"$f":"ThreePosition_Basic2($E$3,$E$5,$B$3:$C$3,$B$5:$C$5,B264,D264)","v":-0.61367994805652393},1.8196876853098798,-0.20376156400732909,2.4935977598852288]
[128.5,{"$f":"A265*PI()/180","v":2.2427480888127134},{"$f":"Burmester($B$3:$C$3,$B$4:$C$4,$B$5:$C$5,$E$3,$E$4,$E$5,B265)","v":5.107075706040181},2.6252274160073967,{"$f":"ThreePosition_Basic2($E$3,$E$5,$B$3:$C$3,$B$5:$C$5,B265,C265)","v":-3.6407475770454813E-2},2.7690965551879678,0.26806105865384533,3.4408246513877718,{"$f":"ThreePosition_Basic2($E$3,$E$5,$B$3:$C$3,$B$5:$C$5,B265,D265)","v":-0.62653545361252427},1.825540460947346,-0.21440401299150508,2.4948759487574579]
[128.6,2.2444934180647076,{"$f":"Burmester($B$3:$C$3,$B$4:$C$4,$B$5:$C$5,$E$3,$E$4,$E$5,B266)","v":5.11330815319244},2.6226101092401732,{"$f":"ThreePosition_Basic2($E$3,$E$5,$B$3:$C$3,$B$5:$C$5,B266,C266)","v":-3.924381181628555E-2},2.7709838772198596,0.26566566320132579,3.4418346664654003,{"$f":"ThreePosition_Basic2($E$3,$E$5,$B$3:$C$3,$B$5:$C$5,B266,D266)","v":-0.62907369368874266},1.826724883918631,-0.21650495988829099,2.49514965987]
[128.69999999999999,2.2462387473167018,{"$f":"Burmester($B$3:$C$3,$B$4:$C$4,$B$5:$C$5,$E$3,$E$4,$E$5,B267)","v":5.1195313040345916},2.6200000265543464,{"$f":"ThreePosition_Basic2($E$3,$E$5,$B$3:$C$3,$B$5:$C$5,B267,C267)","v":-4.2081638068219962E-2},2.7728542949700956,0.26326931267589693,3.4428292525873365,{"$f":"ThreePosition_Basic2($E$3,$E$5,$B$3:$C$3,$B$5:$C$5,B267,D267)","v":-0.63160117883028311},1.8279138052962161,-0.21859689359125034,2.4954292600584784]
[128.80000000000001,2.2479840765686965,{"$f":"Burmester($B$3:$C$3,$B$4:$C$4,$B$5:$C$5,$E$3,$E$4,$E$5,B268)","v":5.1257452704529562},2.6173970590941895,{"$f":"ThreePosition_Basic2($E$3,$E$5,$B$3:$C$3,$B$5:$C$5,B268,C268)","v":-4.4920891460009403E-2},2.7747079212339472,0.2608720595387044,3.4438085156861344,{"$f":"ThreePosition_Basic2($E$3,$E$5,$B$3:$C$3,$B$5:$C$5,B268,D268)","v":-0.63411799187094497},1.8291071740026288,-0.22067988403620475,2.4957146935108323]
[128.96100000000001,2.2507940566644078,{"$f":"Burmester($B$3:$C$3,$B$4:$C$4,$B$5:$C$5,$E$3,$E$4,$E$5,B269)","v":5.1357307380229162},2.6132209600244107,{"$f":"ThreePosition_Basic2($E$3,$E$5,$B$3:$C$3,$B$5:$C$5,B269,C269)","v":-4.949493180092588E-2},2.7776572608834065,0.25701071539645898,3.4453531986924348,{"$f":"ThreePosition_Basic2($E$3,$E$5,$B$3:$C$3,$B$5:$C$5,B269,D269)","v":-0.63814784438670225},1.8310377155554731,-0.2240148824753263,2.4961863593237825]
[129,2.2514747350726849,{"$f":"Burmester($B$3:$C$3,$B$4:$C$4,$B$5:$C$5,$E$3,$E$4,$E$5,B270)","v":5.1381460901846516},2.6122120418138377,{"$f":"ThreePosition_Basic2($E$3,$E$5,$B$3:$C$3,$B$5:$C$5,B270,C270)","v":-5.0603433113996406E-2},2.7783652435277313,0.25607505048560547,3.4457214897407038,{"$f":"ThreePosition_Basic2($E$3,$E$5,$B$3:$C$3,$B$5:$C$5,B270,D270)","v":-0.63911992735133438},1.8315070542531362,-0.22481931016421308,2.4963028422410947]
[129.1,2.2532200643246791,{"$f":"Burmester($B$3:$C$3,$B$4:$C$4,$B$5:$C$5,$E$3,$E$4,$E$5,B271)","v":5.1443331599955116},2.6096297815641036,{"$f":"ThreePosition_Basic2($E$3,$E$5,$B$3:$C$3,$B$5:$C$5,B271,C271)","v":-5.3446600893290251E-2},2.7801691582634405,0.2536753947595945,3.4466554058283378,{"$f":"ThreePosition_Basic2($E$3,$E$5,$B$3:$C$3,$B$5:$C$5,B271,D271)","v":-0.64160520988849867},1.8327134687391902,-0.22687588104086981,2.4966054511124285]
[129.19999999999999,2.2549653935766734,{"$f":"Burmester($B$3:$C$3,$B$4:$C$4,$B$5:$C$5,$E$3,$E$4,$E$5,B272)","v":5.1505114784446899},2.6070542156138119,{"$f":"ThreePosition_Basic2($E$3,$E$5,$B$3:$C$3,$B$5:$C$5,B272,C272)","v":-5.6290954803761603E-2},2.7819567189702683,0.25127503683760216,3.4475744092021721,{"$f":"ThreePosition_Basic2($E$3,$E$5,$B$3:$C$3,$B$5:$C$5,B272,D272)","v":-0.64408014056061902},1.8339241363965919,-0.22892377908109501,2.4969136803927983]
[132.5,2.3125612588924866,{"$f":"Burmester($B$3:$C$3,$B$4:$C$4,$B$5:$C$5,$E$3,$E$4,$E$5,B273)","v":5.3501123057392306},2.5252101350956573,{"$f":"ThreePosition_Basic2($E$3,$E$5,$B$3:$C$3,$B$5:$C$5,B273,C273)","v":-0.15049229174726328},2.832404599544839,0.17194146953814007,3.4701260409217509,{"$f":"ThreePosition_Basic2($E$3,$E$5,$B$3:$C$3,$B$5:$C$5,B273,D273)","v":-0.72040343036766907},1.8760040178256954,-0.2920259855464214,2.5099510996253862]
[133,2.3212879051524582,{"$f":"Burmester($B$3:$C$3,$B$4:$C$4,$B$5:$C$5,$E$3,$E$4,$E$5,B274)","v":5.3797355094750596},2.5132405837655378,{"$f":"ThreePosition_Basic2($E$3,$E$5,$B$3:$C$3,$B$5:$C$5,B274,C274)","v":-0.16477068923252935},2.8387082847523923,0.15994349127190088,3.4723250919258239,{"$f":"ThreePosition_Basic2($E$3,$E$5,$B$3:$C$3,$B$5:$C$5,B274,D274)","v":-0.73113798571377286},1.8827003588347235,-0.30089307497198553,2.5123668350474437]
[133.5,2.3300145514124297,{"$f":"Burmester($B$3:$C$3,$B$4:$C$4,$B$5:$C$5,$E$3,$E$4,$E$5,B275)","v":5.4092233722183796},2.501357920641448,{"$f":"ThreePosition_Basic2($E$3,$E$5,$B$3:$C$3,$B$5:$C$5,B275,C275)","v":-0.17903829488001788},2.8446866207090422,0.14796149283233551,3.4742287946407613,{"$f":"ThreePosition_Basic2($E$3,$E$5,$B$3:$C$3,$B$5:$C$5,B275,D275)","v":-0.74167357342650664},1.8894719914052298,-0.30959394841546961,2.5148879507078217]
[134,2.3387411976724013,{"$f":"Burmester($B$3:$C$3,$B$4:$C$4,$B$5:$C$5,$E$3,$E$4,$E$5,B276)","v":5.4385845947905649},2.4895538265314832,{"$f":"ThreePosition_Basic2($E$3,$E$5,$B$3:$C$3,$B$5:$C$5,B276,C276)","v":-0.19329173894648902},2.8503479006124346,0.13599825630033932,3.4758447384287194,{"$f":"ThreePosition_Basic2($E$3,$E$5,$B$3:$C$3,$B$5:$C$5,B276,D276)","v":-0.75201602745459095},1.896316542004314,-0.31813355157793571,2.5175116040305596]
[134.5,2.3474678439323733,{"$f":"Burmester($B$3:$C$3,$B$4:$C$4,$B$5:$C$5,$E$3,$E$4,$E$5,B277)","v":5.4678275780831829},2.4778202819084467,{"$f":"ThreePosition_Basic2($E$3,$E$5,$B$3:$C$3,$B$5:$C$5,B277,C277)","v":-0.20752796678449484},2.8556999714942339,0.12405630104237139,3.4771800807568995,{"$f":"ThreePosition_Basic2($E$3,$E$5,$B$3:$C$3,$B$5:$C$5,B277,D277)","v":-0.76217085620354297},1.9032319179271178,-0.32651655698751397,2.5202352449099887]
[135,2.3561944901923448,{"$f":"Burmester($B$3:$C$3,$B$4:$C$4,$B$5:$C$5,$E$3,$E$4,$E$5,B278)","v":5.4969604596910386},2.4661495301792931,{"$f":"ThreePosition_Basic2($E$3,$E$5,$B$3:$C$3,$B$5:$C$5,B278,C278)","v":-0.22174421651243589},2.8607502573374113,0.11213790254298447,3.4782415698509226,{"$f":"ThreePosition_Basic2($E$3,$E$5,$B$3:$C$3,$B$5:$C$5,B278,D278)","v":-0.77214326347845774},1.9102162893315804,-0.33474738166826656,2.5230565974788144]
[135.5,2.3649211364523164,{"$f":"Burmester($B$3:$C$3,$B$4:$C$4,$B$5:$C$5,$E$3,$E$4,$E$5,B279)","v":5.5259911478046524},2.4545340436988345,{"$f":"ThreePosition_Basic2($E$3,$E$5,$B$3:$C$3,$B$5:$C$5,B279,C279)","v":-0.23593799888766109},2.865505779775694,0.10024510939225095,3.4790355649351974,{"$f":"ThreePosition_Basic2($E$3,$E$5,$B$3:$C$3,$B$5:$C$5,B279,D279)","v":-0.78193816733819954},1.9172680735204286,-0.342830203062234,2.5259736441405902]
[136,2.3736477827122884,{"$f":"Burmester($B$3:$C$3,$B$4:$C$4,$B$5:$C$5,$E$3,$E$4,$E$5,B280)","v":5.5549273527849881},2.4429664921047443,{"$f":"ThreePosition_Basic2($E$3,$E$5,$B$3:$C$3,$B$5:$C$5,B280,C280)","v":-0.25010707915595864},2.8699731766079708,8.8379758618501392E-2,3.4795680542926424,{"$f":"ThreePosition_Basic2($E$3,$E$5,$B$3:$C$3,$B$5:$C$5,B280,D280)","v":-0.79156021708030877},1.9243859212431285,-0.35076897338871832,2.5289846116390908]
[136.5,2.3823744289722599,{"$f":"Burmester($B$3:$C$3,$B$4:$C$4,$B$5:$C$5,$E$3,$E$4,$E$5,B281)","v":5.583776616795344},2.4314397125989013,{"$f":"ThreePosition_Basic2($E$3,$E$5,$B$3:$C$3,$B$5:$C$5,B281,C281)","v":-0.26424946068230754},2.8741587183245274,7.6543489530461251E-2,3.4798446713401336,{"$f":"ThreePosition_Basic2($E$3,$E$5,$B$3:$C$3,$B$5:$C$5,B281,D281)","v":-0.80101380854495341},1.9315687048264203,-0.35856743259899437,2.5320879589730612]
[137,2.3911010752322315,{"$f":"Burmester($B$3:$C$3,$B$4:$C$4,$B$5:$C$5,$E$3,$E$4,$E$5,B282)","v":5.6125463418262287},2.4199466818391708,{"$f":"ThreePosition_Basic2($E$3,$E$5,$B$3:$C$3,$B$5:$C$5,B282,C282)","v":-0.27836337019469393},2.8780683228108863,6.4737756210398179E-2,3.4798707088848762,{"$f":"ThreePosition_Basic2($E$3,$E$5,$B$3:$C$3,$B$5:$C$5,B282,D282)","v":-0.81030309789966171},1.9388155079729195,-0.36622912006246927,2.5352823669957658]
[137.5,2.399827721492203,{"$f":"Burmester($B$3:$C$3,$B$4:$C$4,$B$5:$C$5,$E$3,$E$4,$E$5,B283)","v":5.6412438164176555},2.4084804891370704,{"$f":"ThreePosition_Basic2($E$3,$E$5,$B$3:$C$3,$B$5:$C$5,B283,C283)","v":-0.2924472444961182},2.8817075683679967,5.2963838780435257E-2,3.4796511316998133,{"$f":"ThreePosition_Basic2($E$3,$E$5,$B$3:$C$3,$B$5:$C$5,B283,D283)","v":-0.81943201404368071},1.9461256170941699,-0.37375738510122641,2.5385667295657615]
[138,2.4085543677521746,{"$f":"Burmester($B$3:$C$3,$B$4:$C$4,$B$5:$C$5,$E$3,$E$4,$E$5,B284)","v":5.6698762413585282},2.3970343106816081,{"$f":"ThreePosition_Basic2($E$3,$E$5,$B$3:$C$3,$B$5:$C$5,B284,C284)","v":-0.30649971852019031},2.885081705163663,4.1222853547290939E-2,3.4791905875322215,{"$f":"ThreePosition_Basic2($E$3,$E$5,$B$3:$C$3,$B$5:$C$5,B284,D284)","v":-0.82840426975087444},1.9534985140682788,-0.38115539647329177,2.5419401461391384]
[138.5,2.4172810140121466,{"$f":"Burmester($B$3:$C$3,$B$4:$C$4,$B$5:$C$5,$E$3,$E$4,$E$5,B285)","v":5.6984507546237797},2.3856013845285164,{"$f":"ThreePosition_Basic2($E$3,$E$5,$B$3:$C$3,$B$5:$C$5,B285,C285)","v":-0.32051961462351725},2.8881956652087601,2.951576211588941E-2,3.4784934166382424,{"$f":"ThreePosition_Basic2($E$3,$E$5,$B$3:$C$3,$B$5:$C$5,B285,D285)","v":-0.83722337165262917},1.9609338703333832,-0.38842615089045457,2.5454019157147156]
[139,2.4260076602721181,{"$f":"Burmester($B$3:$C$3,$B$4:$C$4,$B$5:$C$5,$E$3,$E$4,$E$5,B286)","v":5.7269744557962081},2.3741749861078825,{"$f":"ThreePosition_Basic2($E$3,$E$5,$B$3:$C$3,$B$5:$C$5,B286,C286)","v":-0.33450593302390252},2.891054070932479,1.7843379549126681E-2,3.477563659916675,{"$f":"ThreePosition_Basic2($E$3,$E$5,$B$3:$C$3,$B$5:$C$5,B286,D286)","v":-0.84589262914676244},1.9684315422474412,-0.39557248064362882,2.5489515320630183]
[139.5,2.4347343065320897,{"$f":"Burmester($B$3:$C$3,$B$4:$C$4,$B$5:$C$5,$E$3,$E$4,$E$5,B287)","v":5.7554544302108654},2.3627484040122191,{"$f":"ThreePosition_Basic2($E$3,$E$5,$B$3:$C$3,$B$5:$C$5,B287,C287)","v":-0.3484578433074676},2.8936612424129526,6.2063816394086202E-3,3.4764050656973691,{"$f":"ThreePosition_Basic2($E$3,$E$5,$B$3:$C$3,$B$5:$C$5,B287,D287)","v":-0.85441516230457937},1.9759915676625128,-0.4025970603972524,2.5525886801876783]
[140,2.4434609527920612,{"$f":"Burmester($B$3:$C$3,$B$4:$C$4,$B$5:$C$5,$E$3,$E$4,$E$5,B288)","v":5.7838977730555294},2.351314915831388,{"$f":"ThreePosition_Basic2($E$3,$E$5,$B$3:$C$3,$B$5:$C$5,B288,C288)","v":-0.36237467694073905},2.8960212033028299,-5.3946886531439087E-3,3.4750210952226297,{"$f":"ThreePosition_Basic2($E$3,$E$5,$B$3:$C$3,$B$5:$C$5,B288,D288)","v":-0.86279390883564588},1.9836141636783793,-0.40950241320384706,2.5563132339846977]
[140.5,2.4521875990520328,{"$f":"Burmester($B$3:$C$3,$B$4:$C$4,$B$5:$C$5,$E$3,$E$4,$E$5,B289)","v":5.8123116136606212},2.3398677638009069,{"$f":"ThreePosition_Basic2($E$3,$E$5,$B$3:$C$3,$B$5:$C$5,B289,C289)","v":-0.37625592073557335},2.898137685473209,-1.6959415550672874E-2,3.4734149268437773,{"$f":"ThreePosition_Basic2($E$3,$E$5,$B$3:$C$3,$B$5:$C$5,B289,D289)","v":-0.87103163015827545},1.9912997255564024,-0.41629091578031219,2.5601252550812506]
[141,2.4609142453120043,{"$f":"Burmester($B$3:$C$3,$B$4:$C$4,$B$5:$C$5,$E$3,$E$4,$E$5,B290)","v":5.8407031402163261},2.3284001300258446,{"$f":"ThreePosition_Basic2($E$3,$E$5,$B$3:$C$3,$B$5:$C$5,B290,C290)","v":-0.39010121122591279},2.9000141323833661,-2.8487505559738113E-2,3.4715894589388463,{"$f":"ThreePosition_Basic2($E$3,$E$5,$B$3:$C$3,$B$5:$C$5,B290,D290)","v":-0.87913091661279263},1.9990488267902407,-0.4229648030785545,2.564024992851567]
[141.9,2.4766222085799536,{"$f":"Burmester($B$3:$C$3,$B$4:$C$4,$B$5:$C$5,$E$3,$E$4,$E$5,B291)","v":5.8917749401393369},2.3076846685737915,{"$f":"ThreePosition_Basic2($E$3,$E$5,$B$3:$C$3,$B$5:$C$5,B291,C291)","v":-0.414931524534845},2.9027967432541266,-4.9145256061408571E-2,3.4677591675749513,{"$f":"ThreePosition_Basic2($E$3,$E$5,$B$3:$C$3,$B$5:$C$5,B291,D291)","v":-0.89336840842374532},2.0131598477002699,-0.43469557754989296,2.571267088089312,null,null,141.5,-0.40202772859093833]
[142,2.4783675378319479,{"$f":"Burmester($B$3:$C$3,$B$4:$C$4,$B$5:$C$5,$E$3,$E$4,$E$5,B292)","v":5.8974484515193444},2.3053756913945977,{"$f":"ThreePosition_Basic2($E$3,$E$5,$B$3:$C$3,$B$5:$C$5,B292,C292)","v":-0.41768319945046534},2.9030592634150456,-5.1433188029366583E-2,3.4672908266524933,{"$f":"ThreePosition_Basic2($E$3,$E$5,$B$3:$C$3,$B$5:$C$5,B292,D292)","v":-0.89492371637125223},2.014740841101021,-0.43597698549193492,2.5720895631071179,null,null,141.6,-0.40477929410799424]
[142.5,2.4870941840919198,{"$f":"Burmester($B$3:$C$3,$B$4:$C$4,$B$5:$C$5,$E$3,$E$4,$E$5,B293)","v":5.9258171404157673},2.2938047161327026,{"$f":"ThreePosition_Basic2($E$3,$E$5,$B$3:$C$3,$B$5:$C$5,B293,C293)","v":-0.43141988048580721},2.9042334045968334,-6.2850770889130714E-2,3.4648220671940244,{"$f":"ThreePosition_Basic2($E$3,$E$5,$B$3:$C$3,$B$5:$C$5,B293,D293)","v":-0.90262159034665967},2.0226858095270637,-0.44231907336685955,2.5762558500903774,null,null,141.69999999999999,-0.40753697578359488,-0.39762886498727928]
[143,2.4958208303518914,{"$f":"Burmester($B$3:$C$3,$B$4:$C$4,$B$5:$C$5,$E$3,$E$4,$E$5,B294)","v":5.9541933801576556},2.282184861618386,{"$f":"ThreePosition_Basic2($E$3,$E$5,$B$3:$C$3,$B$5:$C$5,B294,C294)","v":-0.44512056961602131},2.9051784220840005,-7.4231692810888705E-2,3.4621428145345785,{"$f":"ThreePosition_Basic2($E$3,$E$5,$B$3:$C$3,$B$5:$C$5,B294,D294)","v":-0.91018975550680192},2.0306984366840775,-0.44855413595458415,2.5805127714738609,null,null,142,null,-0.40362317391399888]
[143.5,2.5045474766118629,{"$f":"Burmester($B$3:$C$3,$B$4:$C$4,$B$5:$C$5,$E$3,$E$4,$E$5,B295)","v":5.9825850571348571},2.2705086046104537,{"$f":"ThreePosition_Basic2($E$3,$E$5,$B$3:$C$3,$B$5:$C$5,B295,C295)","v":-0.45878559801316654},2.9058963216688567,-8.5576223148989827E-2,3.4592545645076838,{"$f":"ThreePosition_Basic2($E$3,$E$5,$B$3:$C$3,$B$5:$C$5,B295,D295)","v":-0.9176299962932073},2.0387802306094294,-0.45468374446678478,2.584861558727868]
[144,2.5132741228718345,{"$f":"Burmester($B$3:$C$3,$B$4:$C$4,$B$5:$C$5,$E$3,$E$4,$E$5,B296)","v":6.0110002889656844},2.2587681890686322,{"$f":"ThreePosition_Basic2($E$3,$E$5,$B$3:$C$3,$B$5:$C$5,B296,C296)","v":-0.47241543101813926},2.9063888124870125,-9.6884739021435573E-2,3.4561585218106052,{"$f":"ThreePosition_Basic2($E$3,$E$5,$B$3:$C$3,$B$5:$C$5,B296,D296)","v":-0.92494394012030057},2.0469329042122806,-0.46070934172123368,2.589303657886548]
[144.5,2.522000769131806,{"$f":"Burmester($B$3:$C$3,$B$4:$C$4,$B$5:$C$5,$E$3,$E$4,$E$5,B297)","v":6.0394474602967874},2.2469555903120608,{"$f":"ThreePosition_Basic2($E$3,$E$5,$B$3:$C$3,$B$5:$C$5,B297,C297)","v":-0.48601066864887255},2.9066573002067573,-0.10815772539785024,3.4528555926487678,{"$f":"ThreePosition_Basic2($E$3,$E$5,$B$3:$C$3,$B$5:$C$5,B297,D297)","v":-0.93213305674889069},2.0551583848085437,-0.46663224197411957,2.5938407392169278]
[145,2.5307274153917776,{"$f":"Burmester($B$3:$C$3,$B$4:$C$4,$B$5:$C$5,$E$3,$E$4,$E$5,B298)","v":6.0679352617452142},2.2350624760377844,{"$f":"ThreePosition_Basic2($E$3,$E$5,$B$3:$C$3,$B$5:$C$5,B298,C298)","v":-0.49957204708823344},2.9067028783228421,-0.11939577597188045,3.449346375458429,{"$f":"ThreePosition_Basic2($E$3,$E$5,$B$3:$C$3,$B$5:$C$5,B298,D298)","v":-0.9391986567108993},2.0634588254626824,-0.47245362999406315,2.5984747087329412]
[145.5,2.5394540616517491,{"$f":"Burmester($B$3:$C$3,$B$4:$C$4,$B$5:$C$5,$E$3,$E$4,$E$5,B299)","v":6.0964727325422725},2.2230801636395872,{"$f":"ThreePosition_Basic2($E$3,$E$5,$B$3:$C$3,$B$5:$C$5,B299,C299)","v":-0.51310044122063592},2.9065263173556373,-0.13059959487026984,3.4456311495037393,{"$f":"ThreePosition_Basic2($E$3,$E$5,$B$3:$C$3,$B$5:$C$5,B299,D299)","v":-0.94614188871411942},2.071836618338446,-0.47817455932369457,2.6032077217610174]
[146,2.5481807079117211,{"$f":"Burmester($B$3:$C$3,$B$4:$C$4,$B$5:$C$5,$E$3,$E$4,$E$5,B300)","v":6.125069307529154},2.2109995731771352,{"$f":"ThreePosition_Basic2($E$3,$E$5,$B$3:$C$3,$B$5:$C$5,B300,C300)","v":-0.52659686830575358},2.9061280517141324,-0.14176999926611261,3.4417098611010228,{"$f":"ThreePosition_Basic2($E$3,$E$5,$B$3:$C$3,$B$5:$C$5,B300,D300)","v":-0.95296373593650674},2.0802944103029777,-0.48379594965947315,2.6080421988069009]
[146.5,2.5569073541716927,{"$f":"Burmester($B$3:$C$3,$B$4:$C$4,$B$5:$C$5,$E$3,$E$4,$E$5,B301)","v":6.1537348692649916},2.1988111752346944,{"$f":"ThreePosition_Basic2($E$3,$E$5,$B$3:$C$3,$B$5:$C$5,B301,C301)","v":-0.54006249290052721},2.9055081639305933,-0.1529079229817415,3.4375821071714867,{"$f":"ThreePosition_Basic2($E$3,$E$5,$B$3:$C$3,$B$5:$C$5,B301,D301)","v":-0.95966501109690605},2.0888351210793714,-0.48931858326265881,2.6129808440250497]
[147,2.5656340004316647,{"$f":"Burmester($B$3:$C$3,$B$4:$C$4,$B$5:$C$5,$E$3,$E$4,$E$5,B302)","v":6.1824798061438493},2.1865049327728672,{"$f":"ThreePosition_Basic2($E$3,$E$5,$B$3:$C$3,$B$5:$C$5,B302,C302)","v":-0.55349863316773806},2.9046663659136467,-0.1640144211879766,3.4332471157613194,{"$f":"ThreePosition_Basic2($E$3,$E$5,$B$3:$C$3,$B$5:$C$5,B302,D302)","v":-0.96624635016213767},2.0974619643036414,-0.49474310029316654,2.6180266666540177]
[147.5,2.5743606466916362,{"$f":"Burmester($B$3:$C$3,$B$4:$C$4,$B$5:$C$5,$E$3,$E$4,$E$5,B303)","v":6.2113150775843895},2.174070235909527,{"$f":"ThreePosition_Basic2($E$3,$E$5,$B$3:$C$3,$B$5:$C$5,B303,C303)","v":-0.56690676874190127},2.9036019767924959,-0.17509067633193631,3.4287037230926467,{"$f":"ThreePosition_Basic2($E$3,$E$5,$B$3:$C$3,$B$5:$C$5,B303,D303)","v":-0.97270820451790985},2.1061784719160204,-0.50006999293256693,2.6231830058566441]
[148,2.5830872929516078,{"$f":"Burmester($B$3:$C$3,$B$4:$C$4,$B$5:$C$5,$E$3,$E$4,$E$5,B304)","v":6.2402522875629076},2.1614958283592314,{"$f":"ThreePosition_Basic2($E$3,$E$5,$B$3:$C$3,$B$5:$C$5,B304,C304)","v":-0.58028855036284033},2.9023138968344608,-0.18613800545666809,3.4239503466164996,{"$f":"ThreePosition_Basic2($E$3,$E$5,$B$3:$C$3,$B$5:$C$5,B304,D304)","v":-0.97905083139168325},2.1149885224070033,-0.50529959813168657,2.6284535594961573]
[148.5,2.5918139392115793,{"$f":"Burmester($B$3:$C$3,$B$4:$C$4,$B$5:$C$5,$E$3,$E$4,$E$5,B305)","v":6.2693037680173447},2.1487697240034094,{"$f":"ThreePosition_Basic2($E$3,$E$5,$B$3:$C$3,$B$5:$C$5,B305,C305)","v":-0.59364581153568019},2.9008005768063772,-0.19715786911374872,3.4189849534251304,{"$f":"ThreePosition_Basic2($E$3,$E$5,$B$3:$C$3,$B$5:$C$5,B305,D305)","v":-0.98527428226718428},2.123896373550028,-0.51043208878031088,2.6338424174930002]
[149,2.6005405854715509,{"$f":"Burmester($B$3:$C$3,$B$4:$C$4,$B$5:$C$5,$E$3,$E$4,$E$5,B306)","v":1.52973667916115E-2},2.135879111742379,{"$f":"ThreePosition_Basic2($E$3,$E$5,$B$3:$C$3,$B$5:$C$5,B306,C306)","v":-0.60698058253597731},2.8990599820118552,-0.20815188211696889,3.4138050232397208,{"$f":"ThreePosition_Basic2($E$3,$E$5,$B$3:$C$3,$B$5:$C$5,B306,D306)","v":-0.99137838897046215},2.132906700391195,-0.51546746304969238,2.6393541005483883]
[149.5,2.6092672317315224,{"$f":"Burmester($B$3:$C$3,$B$4:$C$4,$B$5:$C$5,$E$3,$E$4,$E$5,B307)","v":4.4617785450291388E-2},2.1228102463765652,{"$f":"ThreePosition_Basic2($E$3,$E$5,$B$3:$C$3,$B$5:$C$5,B307,C307)","v":-0.6202951071535181},2.8970895500630434,-0.21912182644378442,3.4084075050127836,{"$f":"ThreePosition_Basic2($E$3,$E$5,$B$3:$C$3,$B$5:$C$5,B307,D307)","v":-0.99736274703264716},2.1420246394396818,-0.52040553160005487,2.6449936051973273]
[150,2.6179938779914944,{"$f":"Burmester($B$3:$C$3,$B$4:$C$4,$B$5:$C$5,$E$3,$E$4,$E$5,B308)","v":7.409486203349766E-2},2.1095483227533136,{"$f":"ThreePosition_Basic2($E$3,$E$5,$B$3:$C$3,$B$5:$C$5,B308,C308)","v":-0.63359186266247314},2.8948861412269533,-0.23006966666490386,3.4027887659616796,{"$f":"ThreePosition_Basic2($E$3,$E$5,$B$3:$C$3,$B$5:$C$5,B308,D308)","v":-1.0032266958404719},2.1512558402209998,-0.52524590227166001,2.6507664563765769]
[150.5,2.626720524251466,{"$f":"Burmester($B$3:$C$3,$B$4:$C$4,$B$5:$C$5,$E$3,$E$4,$E$5,B309)","v":0.10374494575843499},2.0960773297644071,{"$f":"ThreePosition_Basic2($E$3,$E$5,$B$3:$C$3,$B$5:$C$5,B309,C309)","v":-0.6468735836251972},2.8924459799086315,-0.24099756837598307,3.3969445315664428,{"$f":"ThreePosition_Basic2($E$3,$E$5,$B$3:$C$3,$B$5:$C$5,B309,D309)","v":-1.0089692949661129},2.1606065256329727,-0.52998796178447449,2.6566787689762608]
[151,2.6354471705114375,{"$f":"Burmester($B$3:$C$3,$B$4:$C$4,$B$5:$C$5,$E$3,$E$4,$E$5,B310)","v":0.13358576022556884},2.0823798799425504,{"$f":"ThreePosition_Basic2($E$3,$E$5,$B$3:$C$3,$B$5:$C$5,B310,C310)","v":-0.66014329029019747},2.8897645854773111,-0.25190792022530933,3.3908698147019924,{"$f":"ThreePosition_Basic2($E$3,$E$5,$B$3:$C$3,$B$5:$C$5,B310,D310)","v":-1.0145892959147451},2.1700835629003437,-0.53463085385163334,2.6627373202067948]
[151.5,2.6441738167714091,{"$f":"Burmester($B$3:$C$3,$B$4:$C$4,$B$5:$C$5,$E$3,$E$4,$E$5,B311)","v":0.16363660354274914},2.0684370093209345,{"$f":"ThreePosition_Basic2($E$3,$E$5,$B$3:$C$3,$B$5:$C$5,B311,C311)","v":-0.67340432254293692},2.8868366901812084,-0.26280336028641998,3.3845588316053594,{"$f":"ThreePosition_Basic2($E$3,$E$5,$B$3:$C$3,$B$5:$C$5,B311,D311)","v":-1.0200851083301177},2.1796945473843432,-0.53917345295687746,2.6689496350822655]
[152,2.6529004630313806,{"$f":"Burmester($B$3:$C$3,$B$4:$C$4,$B$5:$C$5,$E$3,$E$4,$E$5,B312)","v":0.19391858494135258},2.0542279408021811,{"$f":"ThreePosition_Basic2($E$3,$E$5,$B$3:$C$3,$B$5:$C$5,B312,C312)","v":-0.68666038062691215},2.8836561412953214,-0.27368680772712023,3.3780049017655296,{"$f":"ThreePosition_Basic2($E$3,$E$5,$B$3:$C$3,$B$5:$C$5,B312,D312)","v":-1.0254547594397747},2.1894479021048125,-0.54361433284370331,2.6753240879343485]
[152.5,2.6616271092913526,{"$f":"Burmester($B$3:$C$3,$B$4:$C$4,$B$5:$C$5,$E$3,$E$4,$E$5,B313)","v":0.22445490651025474},2.0397298024108137,{"$f":"ThreePosition_Basic2($E$3,$E$5,$B$3:$C$3,$B$5:$C$5,B313,C313)","v":-0.6999155741938361},2.8802157838536706,-0.28456150099355965,3.3712003280151834,{"$f":"ThreePosition_Basic2($E$3,$E$5,$B$3:$C$3,$B$5:$C$5,B313,D313)","v":-1.0306958451801873},2.1993529966252452,-0.54795172849679341,2.6818700236790303]
[153,2.6703537555513241,{"$f":"Burmester($B$3:$C$3,$B$4:$C$4,$B$5:$C$5,$E$3,$E$4,$E$5,B314)","v":0.25527120117236146},2.0249172893044731,{"$f":"ThreePosition_Basic2($E$3,$E$5,$B$3:$C$3,$B$5:$C$5,B314,C314)","v":-0.7131744816971427},2.8765073192602912,-0.29543104408448284,3.3641362520260323,{"$f":"ThreePosition_Basic2($E$3,$E$5,$B$3:$C$3,$B$5:$C$5,B314,D314)","v":-1.0358054709867175},2.2094202900082611,-0.55218349003987699,2.6885979036360497]
[153.5,2.6790804018112957,{"$f":"Burmester($B$3:$C$3,$B$4:$C$4,$B$5:$C$5,$E$3,$E$4,$E$5,B315)","v":0.28639594140263952},2.0097622550449028,{"$f":"ThreePosition_Basic2($E$3,$E$5,$B$3:$C$3,$B$5:$C$5,B315,C315)","v":-0.7264422227577545},2.8725211336473588,-0.30629946297200644,3.356802478955947,{"$f":"ThreePosition_Basic2($E$3,$E$5,$B$3:$C$3,$B$5:$C$5,B315,D315)","v":-1.0407801796187905},2.2196615039748613,-0.55630702649309649,2.6955194821543369]
[154,2.6878070480712677,{"$f":"Burmester($B$3:$C$3,$B$4:$C$4,$B$5:$C$5,$E$3,$E$4,$E$5,B316)","v":0.31786093780002517},1.9942332130162645,{"$f":"ThreePosition_Basic2($E$3,$E$5,$B$3:$C$3,$B$5:$C$5,B316,C316)","v":-0.73972454697118373},2.8682460879010865,-0.3171712748830211,3.3491872630108594,{"$f":"ThreePosition_Basic2($E$3,$E$5,$B$3:$C$3,$B$5:$C$5,B316,D316)","v":-1.0456158625503338},2.2300898343484525,-0.5603192366750247,2.7026480222818945]
[154.5,2.6965336943312392,{"$f":"Burmester($B$3:$C$3,$B$4:$C$4,$B$5:$C$5,$E$3,$E$4,$E$5,B317)","v":0.34970195302086687},1.9782947224830969,{"$f":"ThreePosition_Basic2($E$3,$E$5,$B$3:$C$3,$B$5:$C$5,B317,C317)","v":-0.75302794378974103},2.8636692585785259,-0.32805157406734131,3.3412770429351011,{"$f":"ThreePosition_Basic2($E$3,$E$5,$B$3:$C$3,$B$5:$C$5,B317,D317)","v":-1.0503076502911344},2.2407202115621501,-0.56421642362273827,2.7099985614678768]
[155,2.7052603405912108,{"$f":"Burmester($B$3:$C$3,$B$4:$C$4,$B$5:$C$5,$E$3,$E$4,$E$5,B318)","v":0.38195946557979393},1.9619066247819852,{"$f":"ThreePosition_Basic2($E$3,$E$5,$B$3:$C$3,$B$5:$C$5,B318,C318)","v":-0.76635977975211478},2.8587756151462469,-0.33894613896187864,3.3330561125791029,{"$f":"ThreePosition_Basic2($E$3,$E$5,$B$3:$C$3,$B$5:$C$5,B318,D318)","v":-1.0548497753661816},2.2515696247999228,-0.56799418762009379,2.7175882421492732]
[155.5,2.7139869868511823,{"$f":"Burmester($B$3:$C$3,$B$4:$C$4,$B$5:$C$5,$E$3,$E$4,$E$5,B319)","v":0.41467963089487991},1.9450230822700212,{"$f":"ThreePosition_Basic2($E$3,$E$5,$B$3:$C$3,$B$5:$C$5,B319,C319)","v":-0.77972847167633996},2.8535476135522257,-0.3498615674958454,3.324506206170319,{"$f":"ThreePosition_Basic2($E$3,$E$5,$B$3:$C$3,$B$5:$C$5,B319,D319)","v":-1.0592353993363641},2.2626575297617211,-0.57164729108868251,2.7254367275976104]
[156,2.7227136331111539,{"$f":"Burmester($B$3:$C$3,$B$4:$C$4,$B$5:$C$5,$E$3,$E$4,$E$5,B320)","v":0.44791550570105249},1.9275913539060727,{"$f":"ThreePosition_Basic2($E$3,$E$5,$B$3:$C$3,$B$5:$C$5,B320,C320)","v":-0.79314370784614896},2.8479646782550012,-0.36080544995635666,3.3156059698759055,{"$f":"ThreePosition_Basic2($E$3,$E$5,$B$3:$C$3,$B$5:$C$5,B320,D320)","v":-1.0634563918299851},2.2740063679300118,-0.57516948592163664,2.733566731438422]
[156.5,2.7314402793711254,{"$f":"Burmester($B$3:$C$3,$B$4:$C$4,$B$5:$C$5,$E$3,$E$4,$E$5,B321)","v":0.48172862981576148},1.9095502134808044,{"$f":"ThreePosition_Basic2($E$3,$E$5,$B$3:$C$3,$B$5:$C$5,B321,C321)","v":-0.80661673429450642},2.842002533122391,-0.37178659280895116,3.3063302793118186,{"$f":"ThreePosition_Basic2($E$3,$E$5,$B$3:$C$3,$B$5:$C$5,B321,D321)","v":-1.0675030444807749},2.2856422369267628,-0.57855328986532528,2.7420047011899848]
[157,2.740166925631097,{"$f":"Burmester($B$3:$C$3,$B$4:$C$4,$B$5:$C$5,$E$3,$E$4,$E$5,B322)","v":0.51619110158263892},1.8908278741696849,{"$f":"ThreePosition_Basic2($E$3,$E$5,$B$3:$C$3,$B$5:$C$5,B322,C322)","v":-0.82016073099996634},2.8356323238273542,-0.38281531291035797,3.2966493445320189,{"$f":"ThreePosition_Basic2($E$3,$E$5,$B$3:$C$3,$B$5:$C$5,B322,D322)","v":-1.071363694956279},2.2975957693346905,-0.58178969251120605,2.7507817142888369]
[157.5,2.748893571891069,{"$f":"Burmester($B$3:$C$3,$B$4:$C$4,$B$5:$C$5,$E$3,$E$4,$E$5,B323)","v":0.55138834930958824},1.8713392170925045,{"$f":"ThreePosition_Basic2($E$3,$E$5,$B$3:$C$3,$B$5:$C$5,B323,C323)","v":-0.83379131483175262},2.8288194466731222,-0.3939038309710014,3.2865275158140546,{"$f":"ThreePosition_Basic2($E$3,$E$5,$B$3:$C$3,$B$5:$C$5,B323,D323)","v":-1.0750242242402619},2.3099033050518871,-0.5848677620399545,2.759934673286879]
[158,2.7576202181510405,{"$f":"Burmester($B$3:$C$3,$B$4:$C$4,$B$5:$C$5,$E$3,$E$4,$E$5,B324)","v":0.58742290683561682},1.8509820157450463,{"$f":"ThreePosition_Basic2($E$3,$E$5,$B$3:$C$3,$B$5:$C$5,B324,C324)","v":-0.84752722535621849},2.8215219544060055,-0.4050668082338888,3.2759216583498727,{"$f":"ThreePosition_Basic2($E$3,$E$5,$B$3:$C$3,$B$5:$C$5,B324,D324)","v":-1.078467371056046},2.322608486622689,-0.58777410875086278,2.7695079321123082]
[158.5,2.7663468644110125,{"$f":"Burmester($B$3:$C$3,$B$4:$C$4,$B$5:$C$5,$E$3,$E$4,$E$5,B325)","v":0.62441967664377318},1.8296316728855324,{"$f":"ThreePosition_Basic2($E$3,$E$5,$B$3:$C$3,$B$5:$C$5,B325,C325)","v":-0.86139128155182931},2.8136883361315723,-0.41632209537048886,3.2647788891325473,{"$f":"ThreePosition_Basic2($E$3,$E$5,$B$3:$C$3,$B$5:$C$5,B325,D325)","v":-1.0816717753832734},2.3357644804303264,-0.59049213637559361,2.7795555601047637]
[159,2.7750735106709841,{"$f":"Burmester($B$3:$C$3,$B$4:$C$4,$B$5:$C$5,$E$3,$E$4,$E$5,B326)","v":0.66253346535840785},1.8071336850375703,{"$f":"ThreePosition_Basic2($E$3,$E$5,$B$3:$C$3,$B$5:$C$5,B326,C326)","v":-0.87541175240087321},2.8052543422609357,-0.42769180565397757,3.2530333407848637,{"$f":"ThreePosition_Basic2($E$3,$E$5,$B$3:$C$3,$B$5:$C$5,B326,D326)","v":-1.084610608099478},2.3494371528256948,-0.59300096911557065,2.7901445790796724]
[159.5,2.7838001569309556,{"$f":"Burmester($B$3:$C$3,$B$4:$C$4,$B$5:$C$5,$E$3,$E$4,$E$5,B327)","v":0.70196011791661483},1.7832925083197295,{"$f":"ThreePosition_Basic2($E$3,$E$5,$B$3:$C$3,$B$5:$C$5,B327,C327)","v":-0.88962438299303592},2.7961382989266657,-0.43920390183940827,3.2406013863737853,{"$f":"ThreePosition_Basic2($E$3,$E$5,$B$3:$C$3,$B$5:$C$5,B327,D327)","v":-1.0872495451110344},2.3637097567539436,-0.59527386497319501,2.8013597393788126]
[160,2.7925268031909272,{"$f":"Burmester($B$3:$C$3,$B$4:$C$4,$B$5:$C$5,$E$3,$E$4,$E$5,B328)","v":0.74295360084497108},1.7578544751705878,{"$f":"ThreePosition_Basic2($E$3,$E$5,$B$3:$C$3,$B$5:$C$5,B328,C328)","v":-0.90407550442138263},2.7862339282752728,-0.45089463255899231,3.2273743232827674,{"$f":"ThreePosition_Basic2($E$3,$E$5,$B$3:$C$3,$B$5:$C$5,B328,D328)","v":-1.0895436576926016},2.3786901124729507,-0.5972757795684196,2.8133108368360169]
[160.5,{"$f":"A329*PI()/180","v":2.8012534494508987},{"$f":"Burmester($B$3:$C$3,$B$4:$C$4,$B$5:$C$5,$E$3,$E$4,$E$5,B329)","v":0.78585344632213838},1.7304803502886554,{"$f":"ThreePosition_Basic2($E$3,$E$5,$B$3:$C$3,$B$5:$C$5,B329,C329)","v":-0.91882703144473277},2.7753988302957393,-0.46281244872596661,3.2132066375525539,{"$f":"ThreePosition_Basic2($E$3,$E$5,$B$3:$C$3,$B$5:$C$5,B329,D329)","v":-1.0914324150607795},2.3945221267052794,-0.59895944994695693,2.8261444492482921]
[161,2.8099800957108703,{"$f":"Burmester($B$3:$C$3,$B$4:$C$4,$B$5:$C$5,$E$3,$E$4,$E$5,B330)","v":0.83113144651440063},1.7006986363000749,{"$f":"ThreePosition_Basic2($E$3,$E$5,$B$3:$C$3,$B$5:$C$5,B330,C330)","v":-0.93396496812212804},2.763434913600439,-0.47502467076990745,3.1978960674310244,{"$f":"ThreePosition_Basic2($E$3,$E$5,$B$3:$C$3,$B$5:$C$5,B330,D330)","v":-1.0928311789760112},2.4114053628082615,-0.60025872755703436,2.8400638736126393]
[161.5,2.8187067419708423,{"$f":"Burmester($B$3:$C$3,$B$4:$C$4,$B$5:$C$5,$E$3,$E$4,$E$5,B331)","v":0.87947720159909293},1.6678200257391105,{"$f":"ThreePosition_Basic2($E$3,$E$5,$B$3:$C$3,$B$5:$C$5,B331,C331)","v":-0.94961499480247369},2.7500525964339633,-0.48762971001653305,3.1811471367079895,{"$f":"ThreePosition_Basic2($E$3,$E$5,$B$3:$C$3,$B$5:$C$5,B331,D331)","v":-1.0936156169894187},2.4296308406876834,-0.60107635708146867,2.8553655935535422]
[162,2.8274333882308138,{"$f":"Burmester($B$3:$C$3,$B$4:$C$4,$B$5:$C$5,$E$3,$E$4,$E$5,B332)","v":0.93197123082938904},1.6307642899879313,{"$f":"ThreePosition_Basic2($E$3,$E$5,$B$3:$C$3,$B$5:$C$5,B332,C332)","v":-0.96597401648817083},2.7347984772805267,-0.5007818118318309,3.162497484641245,{"$f":"ThreePosition_Basic2($E$3,$E$5,$B$3:$C$3,$B$5:$C$5,B332,D332)","v":-1.0935901543154685},2.4496533670853244,-0.60125923350497246,2.8725129501356017]
[162.5,2.8361600344907854,{"$f":"Burmester($B$3:$C$3,$B$4:$C$4,$B$5:$C$5,$E$3,$E$4,$E$5,B333)","v":0.99048871069093103},1.5876565411251831,{"$f":"ThreePosition_Basic2($E$3,$E$5,$B$3:$C$3,$B$5:$C$5,B333,C333)","v":-0.98338375725755578},2.7168869151127963,-0.51474879143387731,3.1411463439460761,{"$f":"ThreePosition_Basic2($E$3,$E$5,$B$3:$C$3,$B$5:$C$5,B333,D333)","v":-1.0924143796454933},2.472259956198386,-0.60054066651320859,2.8923076645898727]
[163,2.8448866807507569,{"$f":"Burmester($B$3:$C$3,$B$4:$C$4,$B$5:$C$5,$E$3,$E$4,$E$5,B334)","v":1.0588777402652927},1.5346489665683216,{"$f":"ThreePosition_Basic2($E$3,$E$5,$B$3:$C$3,$B$5:$C$5,B334,C334)","v":-1.0025455818312559},2.6947093465352205,-0.53008061361840919,3.1154548783361009,{"$f":"ThreePosition_Basic2($E$3,$E$5,$B$3:$C$3,$B$5:$C$5,B334,D334)","v":-1.0893882238167174},2.499060513378649,-0.59837180097731768,2.916389501466826]
[163.5,2.8536133270107289,{"$f":"Burmester($B$3:$C$3,$B$4:$C$4,$B$5:$C$5,$E$3,$E$4,$E$5,B335)","v":1.1482834679204823},1.4605967023894817,{"$f":"ThreePosition_Basic2($E$3,$E$5,$B$3:$C$3,$B$5:$C$5,B335,C335)","v":-1.0254913971439512},2.6636212781658655,-0.54837154702873803,3.0806929665331126,{"$f":"ThreePosition_Basic2($E$3,$E$5,$B$3:$C$3,$B$5:$C$5,B335,D335)","v":-1.082481058475139},2.5347008435681566,-0.59315946289320909,2.9494894852989471]
[164,2.8623399732707,{"$f":"Burmester($B$3:$C$3,$B$4:$C$4,$B$5:$C$5,$E$3,$E$4,$E$5,B336)","v":{"$error":"#VALUE!"}},{"$error":"#VALUE!"},{"$f":"ThreePosition_Basic2($E$3,$E$5,$B$3:$C$3,$B$5:$C$5,B336,C336)","v":{"$error":"#VALUE!"}},{"$error":"#VALUE!"},{"$error":"#VALUE!"},{"$error":"#VALUE!"},{"$f":"ThreePosition_Basic2($E$3,$E$5,$B$3:$C$3,$B$5:$C$5,B336,D336)","v":{"$error":"#VALUE!"}},{"$error":"#VALUE!"},{"$error":"#VALUE!"},{"$error":"#VALUE!"}]
[164.5,2.871066619530672,{"$f":"Burmester($B$3:$C$3,$B$4:$C$4,$B$5:$C$5,$E$3,$E$4,$E$5,B337)","v":{"$error":"#VALUE!"}},{"$error":"#VALUE!"},{"$f":"ThreePosition_Basic2($E$3,$E$5,$B$3:$C$3,$B$5:$C$5,B337,C337)","v":{"$error":"#VALUE!"}},{"$error":"#VALUE!"},{"$error":"#VALUE!"},{"$error":"#VALUE!"},{"$f":"ThreePosition_Basic2($E$3,$E$5,$B$3:$C$3,$B$5:$C$5,B337,D337)","v":{"$error":"#VALUE!"}},{"$error":"#VALUE!"},{"$error":"#VALUE!"},{"$error":"#VALUE!"}]
[165,2.8797932657906435,{"$f":"Burmester($B$3:$C$3,$B$4:$C$4,$B$5:$C$5,$E$3,$E$4,$E$5,B338)","v":{"$error":"#VALUE!"}},{"$error":"#VALUE!"},{"$f":"ThreePosition_Basic2($E$3,$E$5,$B$3:$C$3,$B$5:$C$5,B338,C338)","v":{"$error":"#VALUE!"}},{"$error":"#VALUE!"},{"$error":"#VALUE!"},{"$error":"#VALUE!"},{"$f":"ThreePosition_Basic2($E$3,$E$5,$B$3:$C$3,$B$5:$C$5,B338,D338)","v":{"$error":"#VALUE!"}},{"$error":"#VALUE!"},{"$error":"#VALUE!"},{"$error":"#VALUE!"}]
[165.5,2.8885199120506155,{"$f":"Burmester($B$3:$C$3,$B$4:$C$4,$B$5:$C$5,$E$3,$E$4,$E$5,B339)","v":{"$error":"#VALUE!"}},{"$error":"#VALUE!"},{"$f":"ThreePosition_Basic2($E$3,$E$5,$B$3:$C$3,$B$5:$C$5,B339,C339)","v":{"$error":"#VALUE!"}},{"$error":"#VALUE!"},{"$error":"#VALUE!"},{"$error":"#VALUE!"},{"$f":"ThreePosition_Basic2($E$3,$E$5,$B$3:$C$3,$B$5:$C$5,B339,D339)","v":{"$error":"#VALUE!"}},{"$error":"#VALUE!"},{"$error":"#VALUE!"},{"$error":"#VALUE!"}]
[166,2.8972465583105871,{"$f":"Burmester($B$3:$C$3,$B$4:$C$4,$B$5:$C$5,$E$3,$E$4,$E$5,B340)","v":{"$error":"#VALUE!"}},{"$error":"#VALUE!"},{"$f":"ThreePosition_Basic2($E$3,$E$5,$B$3:$C$3,$B$5:$C$5,B340,C340)","v":{"$error":"#VALUE!"}},{"$error":"#VALUE!"},{"$error":"#VALUE!"},{"$error":"#VALUE!"},{"$f":"ThreePosition_Basic2($E$3,$E$5,$B$3:$C$3,$B$5:$C$5,B340,D340)","v":{"$error":"#VALUE!"}},{"$error":"#VALUE!"},{"$error":"#VALUE!"},{"$error":"#VALUE!"}]
[166.5,2.9059732045705586,{"$f":"Burmester($B$3:$C$3,$B$4:$C$4,$B$5:$C$5,$E$3,$E$4,$E$5,B341)","v":{"$error":"#VALUE!"}},{"$error":"#VALUE!"},{"$f":"ThreePosition_Basic2($E$3,$E$5,$B$3:$C$3,$B$5:$C$5,B341,C341)","v":{"$error":"#VALUE!"}},{"$error":"#VALUE!"},{"$error":"#VALUE!"},{"$error":"#VALUE!"},{"$f":"ThreePosition_Basic2($E$3,$E$5,$B$3:$C$3,$B$5:$C$5,B341,D341)","v":{"$error":"#VALUE!"}},{"$error":"#VALUE!"},{"$error":"#VALUE!"},{"$error":"#VALUE!"}]
[167,2.9146998508305306,{"$f":"Burmester($B$3:$C$3,$B$4:$C$4,$B$5:$C$5,$E$3,$E$4,$E$5,B342)","v":{"$error":"#VALUE!"}},{"$error":"#VALUE!"},{"$f":"ThreePosition_Basic2($E$3,$E$5,$B$3:$C$3,$B$5:$C$5,B342,C342)","v":{"$error":"#VALUE!"}},{"$error":"#VALUE!"},{"$error":"#VALUE!"},{"$error":"#VALUE!"},{"$f":"ThreePosition_Basic2($E$3,$E$5,$B$3:$C$3,$B$5:$C$5,B342,D342)","v":{"$error":"#VALUE!"}},{"$error":"#VALUE!"},{"$error":"#VALUE!"},{"$error":"#VALUE!"}]
[167.5,2.9234264970905017,{"$f":"Burmester($B$3:$C$3,$B$4:$C$4,$B$5:$C$5,$E$3,$E$4,$E$5,B343)","v":{"$error":"#VALUE!"}},{"$error":"#VALUE!"},{"$f":"ThreePosition_Basic2($E$3,$E$5,$B$3:$C$3,$B$5:$C$5,B343,C343)","v":{"$error":"#VALUE!"}},{"$error":"#VALUE!"},{"$error":"#VALUE!"},{"$error":"#VALUE!"},{"$f":"ThreePosition_Basic2($E$3,$E$5,$B$3:$C$3,$B$5:$C$5,B343,D343)","v":{"$error":"#VALUE!"}},{"$error":"#VALUE!"},{"$error":"#VALUE!"},{"$error":"#VALUE!"}]
[168,2.9321531433504737,{"$f":"Burmester($B$3:$C$3,$B$4:$C$4,$B$5:$C$5,$E$3,$E$4,$E$5,B344)","v":{"$error":"#VALUE!"}},{"$error":"#VALUE!"},{"$f":"ThreePosition_Basic2($E$3,$E$5,$B$3:$C$3,$B$5:$C$5,B344,C344)","v":{"$error":"#VALUE!"}},{"$error":"#VALUE!"},{"$error":"#VALUE!"},{"$error":"#VALUE!"},{"$f":"ThreePosition_Basic2($E$3,$E$5,$B$3:$C$3,$B$5:$C$5,B344,D344)","v":{"$error":"#VALUE!"}},{"$error":"#VALUE!"},{"$error":"#VALUE!"},{"$error":"#VALUE!"}]
[168.5,2.9408797896104448,{"$f":"Burmester($B$3:$C$3,$B$4:$C$4,$B$5:$C$5,$E$3,$E$4,$E$5,B345)","v":{"$error":"#VALUE!"}},{"$error":"#VALUE!"},{"$f":"ThreePosition_Basic2($E$3,$E$5,$B$3:$C$3,$B$5:$C$5,B345,C345)","v":{"$error":"#VALUE!"}},{"$error":"#VALUE!"},{"$error":"#VALUE!"},{"$error":"#VALUE!"},{"$f":"ThreePosition_Basic2($E$3,$E$5,$B$3:$C$3,$B$5:$C$5,B345,D345)","v":{"$error":"#VALUE!"}},{"$error":"#VALUE!"},{"$error":"#VALUE!"},{"$error":"#VALUE!"}]
[169,2.9496064358704168,{"$f":"Burmester($B$3:$C$3,$B$4:$C$4,$B$5:$C$5,$E$3,$E$4,$E$5,B346)","v":{"$error":"#VALUE!"}},{"$error":"#VALUE!"},{"$f":"ThreePosition_Basic2($E$3,$E$5,$B$3:$C$3,$B$5:$C$5,B346,C346)","v":{"$error":"#VALUE!"}},{"$error":"#VALUE!"},{"$error":"#VALUE!"},{"$error":"#VALUE!"},{"$f":"ThreePosition_Basic2($E$3,$E$5,$B$3:$C$3,$B$5:$C$5,B346,D346)","v":{"$error":"#VALUE!"}},{"$error":"#VALUE!"},{"$error":"#VALUE!"},{"$error":"#VALUE!"}]
[169.5,2.9583330821303884,{"$f":"Burmester($B$3:$C$3,$B$4:$C$4,$B$5:$C$5,$E$3,$E$4,$E$5,B347)","v":{"$error":"#VALUE!"}},{"$error":"#VALUE!"},{"$f":"ThreePosition_Basic2($E$3,$E$5,$B$3:$C$3,$B$5:$C$5,B347,C347)","v":{"$error":"#VALUE!"}},{"$error":"#VALUE!"},{"$error":"#VALUE!"},{"$error":"#VALUE!"},{"$f":"ThreePosition_Basic2($E$3,$E$5,$B$3:$C$3,$B$5:$C$5,B347,D347)","v":{"$error":"#VALUE!"}},{"$error":"#VALUE!"},{"$error":"#VALUE!"},{"$error":"#VALUE!"}]
[170,2.9670597283903604,{"$f":"Burmester($B$3:$C$3,$B$4:$C$4,$B$5:$C$5,$E$3,$E$4,$E$5,B348)","v":{"$error":"#VALUE!"}},{"$error":"#VALUE!"},{"$f":"ThreePosition_Basic2($E$3,$E$5,$B$3:$C$3,$B$5:$C$5,B348,C348)","v":{"$error":"#VALUE!"}},{"$error":"#VALUE!"},{"$error":"#VALUE!"},{"$error":"#VALUE!"},{"$f":"ThreePosition_Basic2($E$3,$E$5,$B$3:$C$3,$B$5:$C$5,B348,D348)","v":{"$error":"#VALUE!"}},{"$error":"#VALUE!"},{"$error":"#VALUE!"},{"$error":"#VALUE!"}]
[170.5,2.9757863746503315,{"$f":"Burmester($B$3:$C$3,$B$4:$C$4,$B$5:$C$5,$E$3,$E$4,$E$5,B349)","v":{"$error":"#VALUE!"}},{"$error":"#VALUE!"},{"$f":"ThreePosition_Basic2($E$3,$E$5,$B$3:$C$3,$B$5:$C$5,B349,C349)","v":{"$error":"#VALUE!"}},{"$error":"#VALUE!"},{"$error":"#VALUE!"},{"$error":"#VALUE!"},{"$f":"ThreePosition_Basic2($E$3,$E$5,$B$3:$C$3,$B$5:$C$5,B349,D349)","v":{"$error":"#VALUE!"}},{"$error":"#VALUE!"},{"$error":"#VALUE!"},{"$error":"#VALUE!"}]
[171,2.9845130209103035,{"$f":"Burmester($B$3:$C$3,$B$4:$C$4,$B$5:$C$5,$E$3,$E$4,$E$5,B350)","v":{"$error":"#VALUE!"}},{"$error":"#VALUE!"},{"$f":"ThreePosition_Basic2($E$3,$E$5,$B$3:$C$3,$B$5:$C$5,B350,C350)","v":{"$error":"#VALUE!"}},{"$error":"#VALUE!"},{"$error":"#VALUE!"},{"$error":"#VALUE!"},{"$f":"ThreePosition_Basic2($E$3,$E$5,$B$3:$C$3,$B$5:$C$5,B350,D350)","v":{"$error":"#VALUE!"}},{"$error":"#VALUE!"},{"$error":"#VALUE!"},{"$error":"#VALUE!"}]
[171.5,2.9932396671702755,{"$f":"Burmester($B$3:$C$3,$B$4:$C$4,$B$5:$C$5,$E$3,$E$4,$E$5,B351)","v":{"$error":"#VALUE!"}},{"$error":"#VALUE!"},{"$f":"ThreePosition_Basic2($E$3,$E$5,$B$3:$C$3,$B$5:$C$5,B351,C351)","v":{"$error":"#VALUE!"}},{"$error":"#VALUE!"},{"$error":"#VALUE!"},{"$error":"#VALUE!"},{"$f":"ThreePosition_Basic2($E$3,$E$5,$B$3:$C$3,$B$5:$C$5,B351,D351)","v":{"$error":"#VALUE!"}},{"$error":"#VALUE!"},{"$error":"#VALUE!"},{"$error":"#VALUE!"}]
[172,3.0019663134302466,{"$f":"Burmester($B$3:$C$3,$B$4:$C$4,$B$5:$C$5,$E$3,$E$4,$E$5,B352)","v":{"$error":"#VALUE!"}},{"$error":"#VALUE!"},{"$f":"ThreePosition_Basic2($E$3,$E$5,$B$3:$C$3,$B$5:$C$5,B352,C352)","v":{"$error":"#VALUE!"}},{"$error":"#VALUE!"},{"$error":"#VALUE!"},{"$error":"#VALUE!"},{"$f":"ThreePosition_Basic2($E$3,$E$5,$B$3:$C$3,$B$5:$C$5,B352,D352)","v":{"$error":"#VALUE!"}},{"$error":"#VALUE!"},{"$error":"#VALUE!"},{"$error":"#VALUE!"}]
[172.5,3.0106929596902186,{"$f":"Burmester($B$3:$C$3,$B$4:$C$4,$B$5:$C$5,$E$3,$E$4,$E$5,B353)","v":{"$error":"#VALUE!"}},{"$error":"#VALUE!"},{"$f":"ThreePosition_Basic2($E$3,$E$5,$B$3:$C$3,$B$5:$C$5,B353,C353)","v":{"$error":"#VALUE!"}},{"$error":"#VALUE!"},{"$error":"#VALUE!"},{"$error":"#VALUE!"},{"$f":"ThreePosition_Basic2($E$3,$E$5,$B$3:$C$3,$B$5:$C$5,B353,D353)","v":{"$error":"#VALUE!"}},{"$error":"#VALUE!"},{"$error":"#VALUE!"},{"$error":"#VALUE!"}]
[173,3.0194196059501901,{"$f":"Burmester($B$3:$C$3,$B$4:$C$4,$B$5:$C$5,$E$3,$E$4,$E$5,B354)","v":{"$error":"#VALUE!"}},{"$error":"#VALUE!"},{"$f":"ThreePosition_Basic2($E$3,$E$5,$B$3:$C$3,$B$5:$C$5,B354,C354)","v":{"$error":"#VALUE!"}},{"$error":"#VALUE!"},{"$error":"#VALUE!"},{"$error":"#VALUE!"},{"$f":"ThreePosition_Basic2($E$3,$E$5,$B$3:$C$3,$B$5:$C$5,B354,D354)","v":{"$error":"#VALUE!"}},{"$error":"#VALUE!"},{"$error":"#VALUE!"},{"$error":"#VALUE!"}]
[173.5,3.0281462522101616,{"$f":"Burmester($B$3:$C$3,$B$4:$C$4,$B$5:$C$5,$E$3,$E$4,$E$5,B355)","v":{"$error":"#VALUE!"}},{"$error":"#VALUE!"},{"$f":"ThreePosition_Basic2($E$3,$E$5,$B$3:$C$3,$B$5:$C$5,B355,C355)","v":{"$error":"#VALUE!"}},{"$error":"#VALUE!"},{"$error":"#VALUE!"},{"$error":"#VALUE!"},{"$f":"ThreePosition_Basic2($E$3,$E$5,$B$3:$C$3,$B$5:$C$5,B355,D355)","v":{"$error":"#VALUE!"}},{"$error":"#VALUE!"},{"$error":"#VALUE!"},{"$error":"#VALUE!"}]
[174,3.0368728984701332,{"$f":"Burmester($B$3:$C$3,$B$4:$C$4,$B$5:$C$5,$E$3,$E$4,$E$5,B356)","v":{"$error":"#VALUE!"}},{"$error":"#VALUE!"},{"$f":"ThreePosition_Basic2($E$3,$E$5,$B$3:$C$3,$B$5:$C$5,B356,C356)","v":{"$error":"#VALUE!"}},{"$error":"#VALUE!"},{"$error":"#VALUE!"},{"$error":"#VALUE!"},{"$f":"ThreePosition_Basic2($E$3,$E$5,$B$3:$C$3,$B$5:$C$5,B356,D356)","v":{"$error":"#VALUE!"}},{"$error":"#VALUE!"},{"$error":"#VALUE!"},{"$error":"#VALUE!"}]
[174.5,3.0455995447301052,{"$f":"Burmester($B$3:$C$3,$B$4:$C$4,$B$5:$C$5,$E$3,$E$4,$E$5,B357)","v":{"$error":"#VALUE!"}},{"$error":"#VALUE!"},{"$f":"ThreePosition_Basic2($E$3,$E$5,$B$3:$C$3,$B$5:$C$5,B357,C357)","v":{"$error":"#VALUE!"}},{"$error":"#VALUE!"},{"$error":"#VALUE!"},{"$error":"#VALUE!"},{"$f":"ThreePosition_Basic2($E$3,$E$5,$B$3:$C$3,$B$5:$C$5,B357,D357)","v":{"$error":"#VALUE!"}},{"$error":"#VALUE!"},{"$error":"#VALUE!"},{"$error":"#VALUE!"}]
[175,3.0543261909900763,{"$f":"Burmester($B$3:$C$3,$B$4:$C$4,$B$5:$C$5,$E$3,$E$4,$E$5,B358)","v":{"$error":"#VALUE!"}},{"$error":"#VALUE!"},{"$f":"ThreePosition_Basic2($E$3,$E$5,$B$3:$C$3,$B$5:$C$5,B358,C358)","v":{"$error":"#VALUE!"}},{"$error":"#VALUE!"},{"$error":"#VALUE!"},{"$error":"#VALUE!"},{"$f":"ThreePosition_Basic2($E$3,$E$5,$B$3:$C$3,$B$5:$C$5,B358,D358)","v":{"$error":"#VALUE!"}},{"$error":"#VALUE!"},{"$error":"#VALUE!"},{"$error":"#VALUE!"}]
[175.5,3.0630528372500483,{"$f":"Burmester($B$3:$C$3,$B$4:$C$4,$B$5:$C$5,$E$3,$E$4,$E$5,B359)","v":{"$error":"#VALUE!"}},{"$error":"#VALUE!"},{"$f":"ThreePosition_Basic2($E$3,$E$5,$B$3:$C$3,$B$5:$C$5,B359,C359)","v":{"$error":"#VALUE!"}},{"$error":"#VALUE!"},{"$error":"#VALUE!"},{"$error":"#VALUE!"},{"$f":"ThreePosition_Basic2($E$3,$E$5,$B$3:$C$3,$B$5:$C$5,B359,D359)","v":{"$error":"#VALUE!"}},{"$error":"#VALUE!"},{"$error":"#VALUE!"},{"$error":"#VALUE!"}]
[176,3.0717794835100198,{"$f":"Burmester($B$3:$C$3,$B$4:$C$4,$B$5:$C$5,$E$3,$E$4,$E$5,B360)","v":{"$error":"#VALUE!"}},{"$error":"#VALUE!"},{"$f":"ThreePosition_Basic2($E$3,$E$5,$B$3:$C$3,$B$5:$C$5,B360,C360)","v":{"$error":"#VALUE!"}},{"$error":"#VALUE!"},{"$error":"#VALUE!"},{"$error":"#VALUE!"},{"$f":"ThreePosition_Basic2($E$3,$E$5,$B$3:$C$3,$B$5:$C$5,B360,D360)","v":{"$error":"#VALUE!"}},{"$error":"#VALUE!"},{"$error":"#VALUE!"},{"$error":"#VALUE!"}]
[176.5,3.0805061297699914,{"$f":"Burmester($B$3:$C$3,$B$4:$C$4,$B$5:$C$5,$E$3,$E$4,$E$5,B361)","v":{"$error":"#VALUE!"}},{"$error":"#VALUE!"},{"$f":"ThreePosition_Basic2($E$3,$E$5,$B$3:$C$3,$B$5:$C$5,B361,C361)","v":{"$error":"#VALUE!"}},{"$error":"#VALUE!"},{"$error":"#VALUE!"},{"$error":"#VALUE!"},{"$f":"ThreePosition_Basic2($E$3,$E$5,$B$3:$C$3,$B$5:$C$5,B361,D361)","v":{"$error":"#VALUE!"}},{"$error":"#VALUE!"},{"$error":"#VALUE!"},{"$error":"#VALUE!"}]
[177,3.0892327760299634,{"$f":"Burmester($B$3:$C$3,$B$4:$C$4,$B$5:$C$5,$E$3,$E$4,$E$5,B362)","v":{"$error":"#VALUE!"}},{"$error":"#VALUE!"},{"$f":"ThreePosition_Basic2($E$3,$E$5,$B$3:$C$3,$B$5:$C$5,B362,C362)","v":{"$error":"#VALUE!"}},{"$error":"#VALUE!"},{"$error":"#VALUE!"},{"$error":"#VALUE!"},{"$f":"ThreePosition_Basic2($E$3,$E$5,$B$3:$C$3,$B$5:$C$5,B362,D362)","v":{"$error":"#VALUE!"}},{"$error":"#VALUE!"},{"$error":"#VALUE!"},{"$error":"#VALUE!"}]
[177.5,3.0979594222899349,{"$f":"Burmester($B$3:$C$3,$B$4:$C$4,$B$5:$C$5,$E$3,$E$4,$E$5,B363)","v":{"$error":"#VALUE!"}},{"$error":"#VALUE!"},{"$f":"ThreePosition_Basic2($E$3,$E$5,$B$3:$C$3,$B$5:$C$5,B363,C363)","v":{"$error":"#VALUE!"}},{"$error":"#VALUE!"},{"$error":"#VALUE!"},{"$error":"#VALUE!"},{"$f":"ThreePosition_Basic2($E$3,$E$5,$B$3:$C$3,$B$5:$C$5,B363,D363)","v":{"$error":"#VALUE!"}},{"$error":"#VALUE!"},{"$error":"#VALUE!"},{"$error":"#VALUE!"}]
[178,3.1066860685499069,{"$f":"Burmester($B$3:$C$3,$B$4:$C$4,$B$5:$C$5,$E$3,$E$4,$E$5,B364)","v":{"$error":"#VALUE!"}},{"$error":"#VALUE!"},{"$f":"ThreePosition_Basic2($E$3,$E$5,$B$3:$C$3,$B$5:$C$5,B364,C364)","v":{"$error":"#VALUE!"}},{"$error":"#VALUE!"},{"$error":"#VALUE!"},{"$error":"#VALUE!"},{"$f":"ThreePosition_Basic2($E$3,$E$5,$B$3:$C$3,$B$5:$C$5,B364,D364)","v":{"$error":"#VALUE!"}},{"$error":"#VALUE!"},{"$error":"#VALUE!"},{"$error":"#VALUE!"}]
[178.5,3.115412714809878,{"$f":"Burmester($B$3:$C$3,$B$4:$C$4,$B$5:$C$5,$E$3,$E$4,$E$5,B365)","v":{"$error":"#VALUE!"}},{"$error":"#VALUE!"},{"$f":"ThreePosition_Basic2($E$3,$E$5,$B$3:$C$3,$B$5:$C$5,B365,C365)","v":{"$error":"#VALUE!"}},{"$error":"#VALUE!"},{"$error":"#VALUE!"},{"$error":"#VALUE!"},{"$f":"ThreePosition_Basic2($E$3,$E$5,$B$3:$C$3,$B$5:$C$5,B365,D365)","v":{"$error":"#VALUE!"}},{"$error":"#VALUE!"},{"$error":"#VALUE!"},{"$error":"#VALUE!"}]
[179,3.12413936106985,{"$f":"Burmester($B$3:$C$3,$B$4:$C$4,$B$5:$C$5,$E$3,$E$4,$E$5,B366)","v":{"$error":"#VALUE!"}},{"$error":"#VALUE!"},{"$f":"ThreePosition_Basic2($E$3,$E$5,$B$3:$C$3,$B$5:$C$5,B366,C366)","v":{"$error":"#VALUE!"}},{"$error":"#VALUE!"},{"$error":"#VALUE!"},{"$error":"#VALUE!"},{"$f":"ThreePosition_Basic2($E$3,$E$5,$B$3:$C$3,$B$5:$C$5,B366,D366)","v":{"$error":"#VALUE!"}},{"$error":"#VALUE!"},{"$error":"#VALUE!"},{"$error":"#VALUE!"}]
[179.5,3.1328660073298211,{"$f":"Burmester($B$3:$C$3,$B$4:$C$4,$B$5:$C$5,$E$3,$E$4,$E$5,B367)","v":{"$error":"#VALUE!"}},{"$error":"#VALUE!"},{"$f":"ThreePosition_Basic2($E$3,$E$5,$B$3:$C$3,$B$5:$C$5,B367,C367)","v":{"$error":"#VALUE!"}},{"$error":"#VALUE!"},{"$error":"#VALUE!"},{"$error":"#VALUE!"},{"$f":"ThreePosition_Basic2($E$3,$E$5,$B$3:$C$3,$B$5:$C$5,B367,D367)","v":{"$error":"#VALUE!"}},{"$error":"#VALUE!"},{"$error":"#VALUE!"},{"$error":"#VALUE!"}]
[180,3.1415926535897931,{"$f":"Burmester($B$3:$C$3,$B$4:$C$4,$B$5:$C$5,$E$3,$E$4,$E$5,B368)","v":{"$error":"#VALUE!"}},{"$error":"#VALUE!"},{"$f":"ThreePosition_Basic2($E$3,$E$5,$B$3:$C$3,$B$5:$C$5,B368,C368)","v":{"$error":"#VALUE!"}},{"$error":"#VALUE!"},{"$error":"#VALUE!"},{"$error":"#VALUE!"},{"$f":"ThreePosition_Basic2($E$3,$E$5,$B$3:$C$3,$B$5:$C$5,B368,D368)","v":{"$error":"#VALUE!"}},{"$error":"#VALUE!"},{"$error":"#VALUE!"},{"$error":"#VALUE!"}]
[180.5,3.1503192998497647,{"$f":"Burmester($B$3:$C$3,$B$4:$C$4,$B$5:$C$5,$E$3,$E$4,$E$5,B369)","v":{"$error":"#VALUE!"}},{"$error":"#VALUE!"},{"$f":"ThreePosition_Basic2($E$3,$E$5,$B$3:$C$3,$B$5:$C$5,B369,C369)","v":{"$error":"#VALUE!"}},{"$error":"#VALUE!"},{"$error":"#VALUE!"},{"$error":"#VALUE!"},{"$f":"ThreePosition_Basic2($E$3,$E$5,$B$3:$C$3,$B$5:$C$5,B369,D369)","v":{"$error":"#VALUE!"}},{"$error":"#VALUE!"},{"$error":"#VALUE!"},{"$error":"#VALUE!"}]
[181,3.1590459461097362,{"$f":"Burmester($B$3:$C$3,$B$4:$C$4,$B$5:$C$5,$E$3,$E$4,$E$5,B370)","v":{"$error":"#VALUE!"}},{"$error":"#VALUE!"},{"$f":"ThreePosition_Basic2($E$3,$E$5,$B$3:$C$3,$B$5:$C$5,B370,C370)","v":{"$error":"#VALUE!"}},{"$error":"#VALUE!"},{"$error":"#VALUE!"},{"$error":"#VALUE!"},{"$f":"ThreePosition_Basic2($E$3,$E$5,$B$3:$C$3,$B$5:$C$5,B370,D370)","v":{"$error":"#VALUE!"}},{"$error":"#VALUE!"},{"$error":"#VALUE!"},{"$error":"#VALUE!"}]
[181.5,3.1677725923697082,{"$f":"Burmester($B$3:$C$3,$B$4:$C$4,$B$5:$C$5,$E$3,$E$4,$E$5,B371)","v":{"$error":"#VALUE!"}},{"$error":"#VALUE!"},{"$f":"ThreePosition_Basic2($E$3,$E$5,$B$3:$C$3,$B$5:$C$5,B371,C371)","v":{"$error":"#VALUE!"}},{"$error":"#VALUE!"},{"$error":"#VALUE!"},{"$error":"#VALUE!"},{"$f":"ThreePosition_Basic2($E$3,$E$5,$B$3:$C$3,$B$5:$C$5,B371,D371)","v":{"$error":"#VALUE!"}},{"$error":"#VALUE!"},{"$error":"#VALUE!"},{"$error":"#VALUE!"}]
[182,3.1764992386296798,{"$f":"Burmester($B$3:$C$3,$B$4:$C$4,$B$5:$C$5,$E$3,$E$4,$E$5,B372)","v":{"$error":"#VALUE!"}},{"$error":"#VALUE!"},{"$f":"ThreePosition_Basic2($E$3,$E$5,$B$3:$C$3,$B$5:$C$5,B372,C372)","v":{"$error":"#VALUE!"}},{"$error":"#VALUE!"},{"$error":"#VALUE!"},{"$error":"#VALUE!"},{"$f":"ThreePosition_Basic2($E$3,$E$5,$B$3:$C$3,$B$5:$C$5,B372,D372)","v":{"$error":"#VALUE!"}},{"$error":"#VALUE!"},{"$error":"#VALUE!"},{"$error":"#VALUE!"}]
[182.5,3.1852258848896517,{"$f":"Burmester($B$3:$C$3,$B$4:$C$4,$B$5:$C$5,$E$3,$E$4,$E$5,B373)","v":{"$error":"#VALUE!"}},{"$error":"#VALUE!"},{"$f":"ThreePosition_Basic2($E$3,$E$5,$B$3:$C$3,$B$5:$C$5,B373,C373)","v":{"$error":"#VALUE!"}},{"$error":"#VALUE!"},{"$error":"#VALUE!"},{"$error":"#VALUE!"},{"$f":"ThreePosition_Basic2($E$3,$E$5,$B$3:$C$3,$B$5:$C$5,B373,D373)","v":{"$error":"#VALUE!"}},{"$error":"#VALUE!"},{"$error":"#VALUE!"},{"$error":"#VALUE!"}]
[183,3.1939525311496229,{"$f":"Burmester($B$3:$C$3,$B$4:$C$4,$B$5:$C$5,$E$3,$E$4,$E$5,B374)","v":{"$error":"#VALUE!"}},{"$error":"#VALUE!"},{"$f":"ThreePosition_Basic2($E$3,$E$5,$B$3:$C$3,$B$5:$C$5,B374,C374)","v":{"$error":"#VALUE!"}},{"$error":"#VALUE!"},{"$error":"#VALUE!"},{"$error":"#VALUE!"},{"$f":"ThreePosition_Basic2($E$3,$E$5,$B$3:$C$3,$B$5:$C$5,B374,D374)","v":{"$error":"#VALUE!"}},{"$error":"#VALUE!"},{"$error":"#VALUE!"},{"$error":"#VALUE!"}]
[183.5,3.2026791774095948,{"$f":"Burmester($B$3:$C$3,$B$4:$C$4,$B$5:$C$5,$E$3,$E$4,$E$5,B375)","v":{"$error":"#VALUE!"}},{"$error":"#VALUE!"},{"$f":"ThreePosition_Basic2($E$3,$E$5,$B$3:$C$3,$B$5:$C$5,B375,C375)","v":{"$error":"#VALUE!"}},{"$error":"#VALUE!"},{"$error":"#VALUE!"},{"$error":"#VALUE!"},{"$f":"ThreePosition_Basic2($E$3,$E$5,$B$3:$C$3,$B$5:$C$5,B375,D375)","v":{"$error":"#VALUE!"}},{"$error":"#VALUE!"},{"$error":"#VALUE!"},{"$error":"#VALUE!"}]
[184,3.211405823669566,{"$f":"Burmester($B$3:$C$3,$B$4:$C$4,$B$5:$C$5,$E$3,$E$4,$E$5,B376)","v":{"$error":"#VALUE!"}},{"$error":"#VALUE!"},{"$f":"ThreePosition_Basic2($E$3,$E$5,$B$3:$C$3,$B$5:$C$5,B376,C376)","v":{"$error":"#VALUE!"}},{"$error":"#VALUE!"},{"$error":"#VALUE!"},{"$error":"#VALUE!"},{"$f":"ThreePosition_Basic2($E$3,$E$5,$B$3:$C$3,$B$5:$C$5,B376,D376)","v":{"$error":"#VALUE!"}},{"$error":"#VALUE!"},{"$error":"#VALUE!"},{"$error":"#VALUE!"}]
[184.5,3.2201324699295379,{"$f":"Burmester($B$3:$C$3,$B$4:$C$4,$B$5:$C$5,$E$3,$E$4,$E$5,B377)","v":{"$error":"#VALUE!"}},{"$error":"#VALUE!"},{"$f":"ThreePosition_Basic2($E$3,$E$5,$B$3:$C$3,$B$5:$C$5,B377,C377)","v":{"$error":"#VALUE!"}},{"$error":"#VALUE!"},{"$error":"#VALUE!"},{"$error":"#VALUE!"},{"$f":"ThreePosition_Basic2($E$3,$E$5,$B$3:$C$3,$B$5:$C$5,B377,D377)","v":{"$error":"#VALUE!"}},{"$error":"#VALUE!"},{"$error":"#VALUE!"},{"$error":"#VALUE!"}]
[185,3.2288591161895095,{"$f":"Burmester($B$3:$C$3,$B$4:$C$4,$B$5:$C$5,$E$3,$E$4,$E$5,B378)","v":{"$error":"#VALUE!"}},{"$error":"#VALUE!"},{"$f":"ThreePosition_Basic2($E$3,$E$5,$B$3:$C$3,$B$5:$C$5,B378,C378)","v":{"$error":"#VALUE!"}},{"$error":"#VALUE!"},{"$error":"#VALUE!"},{"$error":"#VALUE!"},{"$f":"ThreePosition_Basic2($E$3,$E$5,$B$3:$C$3,$B$5:$C$5,B378,D378)","v":{"$error":"#VALUE!"}},{"$error":"#VALUE!"},{"$error":"#VALUE!"},{"$error":"#VALUE!"}]
[185.5,3.2375857624494815,{"$f":"Burmester($B$3:$C$3,$B$4:$C$4,$B$5:$C$5,$E$3,$E$4,$E$5,B379)","v":{"$error":"#VALUE!"}},{"$error":"#VALUE!"},{"$f":"ThreePosition_Basic2($E$3,$E$5,$B$3:$C$3,$B$5:$C$5,B379,C379)","v":{"$error":"#VALUE!"}},{"$error":"#VALUE!"},{"$error":"#VALUE!"},{"$error":"#VALUE!"},{"$f":"ThreePosition_Basic2($E$3,$E$5,$B$3:$C$3,$B$5:$C$5,B379,D379)","v":{"$error":"#VALUE!"}},{"$error":"#VALUE!"},{"$error":"#VALUE!"},{"$error":"#VALUE!"}]
[186,3.2463124087094526,{"$f":"Burmester($B$3:$C$3,$B$4:$C$4,$B$5:$C$5,$E$3,$E$4,$E$5,B380)","v":{"$error":"#VALUE!"}},{"$error":"#VALUE!"},{"$f":"ThreePosition_Basic2($E$3,$E$5,$B$3:$C$3,$B$5:$C$5,B380,C380)","v":{"$error":"#VALUE!"}},{"$error":"#VALUE!"},{"$error":"#VALUE!"},{"$error":"#VALUE!"},{"$f":"ThreePosition_Basic2($E$3,$E$5,$B$3:$C$3,$B$5:$C$5,B380,D380)","v":{"$error":"#VALUE!"}},{"$error":"#VALUE!"},{"$error":"#VALUE!"},{"$error":"#VALUE!"}]
[186.5,3.2550390549694246,{"$f":"Burmester($B$3:$C$3,$B$4:$C$4,$B$5:$C$5,$E$3,$E$4,$E$5,B381)","v":{"$error":"#VALUE!"}},{"$error":"#VALUE!"},{"$f":"ThreePosition_Basic2($E$3,$E$5,$B$3:$C$3,$B$5:$C$5,B381,C381)","v":{"$error":"#VALUE!"}},{"$error":"#VALUE!"},{"$error":"#VALUE!"},{"$error":"#VALUE!"},{"$f":"ThreePosition_Basic2($E$3,$E$5,$B$3:$C$3,$B$5:$C$5,B381,D381)","v":{"$error":"#VALUE!"}},{"$error":"#VALUE!"},{"$error":"#VALUE!"},{"$error":"#VALUE!"}]
[187,3.2637657012293966,{"$f":"Burmester($B$3:$C$3,$B$4:$C$4,$B$5:$C$5,$E$3,$E$4,$E$5,B382)","v":{"$error":"#VALUE!"}},{"$error":"#VALUE!"},{"$f":"ThreePosition_Basic2($E$3,$E$5,$B$3:$C$3,$B$5:$C$5,B382,C382)","v":{"$error":"#VALUE!"}},{"$error":"#VALUE!"},{"$error":"#VALUE!"},{"$error":"#VALUE!"},{"$f":"ThreePosition_Basic2($E$3,$E$5,$B$3:$C$3,$B$5:$C$5,B382,D382)","v":{"$error":"#VALUE!"}},{"$error":"#VALUE!"},{"$error":"#VALUE!"},{"$error":"#VALUE!"}]
[187.5,3.2724923474893677,{"$f":"Burmester($B$3:$C$3,$B$4:$C$4,$B$5:$C$5,$E$3,$E$4,$E$5,B383)","v":{"$error":"#VALUE!"}},{"$error":"#VALUE!"},{"$f":"ThreePosition_Basic2($E$3,$E$5,$B$3:$C$3,$B$5:$C$5,B383,C383)","v":{"$error":"#VALUE!"}},{"$error":"#VALUE!"},{"$error":"#VALUE!"},{"$error":"#VALUE!"},{"$f":"ThreePosition_Basic2($E$3,$E$5,$B$3:$C$3,$B$5:$C$5,B383,D383)","v":{"$error":"#VALUE!"}},{"$error":"#VALUE!"},{"$error":"#VALUE!"},{"$error":"#VALUE!"}]
[188,3.2812189937493397,{"$f":"Burmester($B$3:$C$3,$B$4:$C$4,$B$5:$C$5,$E$3,$E$4,$E$5,B384)","v":{"$error":"#VALUE!"}},{"$error":"#VALUE!"},{"$f":"ThreePosition_Basic2($E$3,$E$5,$B$3:$C$3,$B$5:$C$5,B384,C384)","v":{"$error":"#VALUE!"}},{"$error":"#VALUE!"},{"$error":"#VALUE!"},{"$error":"#VALUE!"},{"$f":"ThreePosition_Basic2($E$3,$E$5,$B$3:$C$3,$B$5:$C$5,B384,D384)","v":{"$error":"#VALUE!"}},{"$error":"#VALUE!"},{"$error":"#VALUE!"},{"$error":"#VALUE!"}]
[188.5,3.2899456400093112,{"$f":"Burmester($B$3:$C$3,$B$4:$C$4,$B$5:$C$5,$E$3,$E$4,$E$5,B385)","v":{"$error":"#VALUE!"}},{"$error":"#VALUE!"},{"$f":"ThreePosition_Basic2($E$3,$E$5,$B$3:$C$3,$B$5:$C$5,B385,C385)","v":{"$error":"#VALUE!"}},{"$error":"#VALUE!"},{"$error":"#VALUE!"},{"$error":"#VALUE!"},{"$f":"ThreePosition_Basic2($E$3,$E$5,$B$3:$C$3,$B$5:$C$5,B385,D385)","v":{"$error":"#VALUE!"}},{"$error":"#VALUE!"},{"$error":"#VALUE!"},{"$error":"#VALUE!"}]
[189,3.2986722862692828,{"$f":"Burmester($B$3:$C$3,$B$4:$C$4,$B$5:$C$5,$E$3,$E$4,$E$5,B386)","v":{"$error":"#VALUE!"}},{"$error":"#VALUE!"},{"$f":"ThreePosition_Basic2($E$3,$E$5,$B$3:$C$3,$B$5:$C$5,B386,C386)","v":{"$error":"#VALUE!"}},{"$error":"#VALUE!"},{"$error":"#VALUE!"},{"$error":"#VALUE!"},{"$f":"ThreePosition_Basic2($E$3,$E$5,$B$3:$C$3,$B$5:$C$5,B386,D386)","v":{"$error":"#VALUE!"}},{"$error":"#VALUE!"},{"$error":"#VALUE!"},{"$error":"#VALUE!"}]
[189.5,3.3073989325292543,{"$f":"Burmester($B$3:$C$3,$B$4:$C$4,$B$5:$C$5,$E$3,$E$4,$E$5,B387)","v":{"$error":"#VALUE!"}},{"$error":"#VALUE!"},{"$f":"ThreePosition_Basic2($E$3,$E$5,$B$3:$C$3,$B$5:$C$5,B387,C387)","v":{"$error":"#VALUE!"}},{"$error":"#VALUE!"},{"$error":"#VALUE!"},{"$error":"#VALUE!"},{"$f":"ThreePosition_Basic2($E$3,$E$5,$B$3:$C$3,$B$5:$C$5,B387,D387)","v":{"$error":"#VALUE!"}},{"$error":"#VALUE!"},{"$error":"#VALUE!"},{"$error":"#VALUE!"}]
[190,3.3161255787892263,{"$f":"Burmester($B$3:$C$3,$B$4:$C$4,$B$5:$C$5,$E$3,$E$4,$E$5,B388)","v":{"$error":"#VALUE!"}},{"$error":"#VALUE!"},{"$f":"ThreePosition_Basic2($E$3,$E$5,$B$3:$C$3,$B$5:$C$5,B388,C388)","v":{"$error":"#VALUE!"}},{"$error":"#VALUE!"},{"$error":"#VALUE!"},{"$error":"#VALUE!"},{"$f":"ThreePosition_Basic2($E$3,$E$5,$B$3:$C$3,$B$5:$C$5,B388,D388)","v":{"$error":"#VALUE!"}},{"$error":"#VALUE!"},{"$error":"#VALUE!"},{"$error":"#VALUE!"}]
[190.5,3.3248522250491974,{"$f":"Burmester($B$3:$C$3,$B$4:$C$4,$B$5:$C$5,$E$3,$E$4,$E$5,B389)","v":{"$error":"#VALUE!"}},{"$error":"#VALUE!"},{"$f":"ThreePosition_Basic2($E$3,$E$5,$B$3:$C$3,$B$5:$C$5,B389,C389)","v":{"$error":"#VALUE!"}},{"$error":"#VALUE!"},{"$error":"#VALUE!"},{"$error":"#VALUE!"},{"$f":"ThreePosition_Basic2($E$3,$E$5,$B$3:$C$3,$B$5:$C$5,B389,D389)","v":{"$error":"#VALUE!"}},{"$error":"#VALUE!"},{"$error":"#VALUE!"},{"$error":"#VALUE!"}]
[191,3.3335788713091694,{"$f":"Burmester($B$3:$C$3,$B$4:$C$4,$B$5:$C$5,$E$3,$E$4,$E$5,B390)","v":{"$error":"#VALUE!"}},{"$error":"#VALUE!"},{"$f":"ThreePosition_Basic2($E$3,$E$5,$B$3:$C$3,$B$5:$C$5,B390,C390)","v":{"$error":"#VALUE!"}},{"$error":"#VALUE!"},{"$error":"#VALUE!"},{"$error":"#VALUE!"},{"$f":"ThreePosition_Basic2($E$3,$E$5,$B$3:$C$3,$B$5:$C$5,B390,D390)","v":{"$error":"#VALUE!"}},{"$error":"#VALUE!"},{"$error":"#VALUE!"},{"$error":"#VALUE!"}]
[191.5,3.3423055175691405,{"$f":"Burmester($B$3:$C$3,$B$4:$C$4,$B$5:$C$5,$E$3,$E$4,$E$5,B391)","v":{"$error":"#VALUE!"}},{"$error":"#VALUE!"},{"$f":"ThreePosition_Basic2($E$3,$E$5,$B$3:$C$3,$B$5:$C$5,B391,C391)","v":{"$error":"#VALUE!"}},{"$error":"#VALUE!"},{"$error":"#VALUE!"},{"$error":"#VALUE!"},{"$f":"ThreePosition_Basic2($E$3,$E$5,$B$3:$C$3,$B$5:$C$5,B391,D391)","v":{"$error":"#VALUE!"}},{"$error":"#VALUE!"},{"$error":"#VALUE!"},{"$error":"#VALUE!"}]
[192,3.3510321638291125,{"$f":"Burmester($B$3:$C$3,$B$4:$C$4,$B$5:$C$5,$E$3,$E$4,$E$5,B392)","v":{"$error":"#VALUE!"}},{"$error":"#VALUE!"},{"$f":"ThreePosition_Basic2($E$3,$E$5,$B$3:$C$3,$B$5:$C$5,B392,C392)","v":{"$error":"#VALUE!"}},{"$error":"#VALUE!"},{"$error":"#VALUE!"},{"$error":"#VALUE!"},{"$f":"ThreePosition_Basic2($E$3,$E$5,$B$3:$C$3,$B$5:$C$5,B392,D392)","v":{"$error":"#VALUE!"}},{"$error":"#VALUE!"},{"$error":"#VALUE!"},{"$error":"#VALUE!"}]
[192.5,{"$f":"A393*PI()/180","v":3.3597588100890845},{"$f":"Burmester($B$3:$C$3,$B$4:$C$4,$B$5:$C$5,$E$3,$E$4,$E$5,B393)","v":{"$error":"#VALUE!"}},{"$error":"#VALUE!"},{"$f":"ThreePosition_Basic2($E$3,$E$5,$B$3:$C$3,$B$5:$C$5,B393,C393)","v":{"$error":"#VALUE!"}},{"$error":"#VALUE!"},{"$error":"#VALUE!"},{"$error":"#VALUE!"},{"$f":"ThreePosition_Basic2($E$3,$E$5,$B$3:$C$3,$B$5:$C$5,B393,D393)","v":{"$error":"#VALUE!"}},{"$error":"#VALUE!"},{"$error":"#VALUE!"},{"$error":"#VALUE!"}]
[193,3.3684854563490561,{"$f":"Burmester($B$3:$C$3,$B$4:$C$4,$B$5:$C$5,$E$3,$E$4,$E$5,B394)","v":{"$error":"#VALUE!"}},{"$error":"#VALUE!"},{"$f":"ThreePosition_Basic2($E$3,$E$5,$B$3:$C$3,$B$5:$C$5,B394,C394)","v":{"$error":"#VALUE!"}},{"$error":"#VALUE!"},{"$error":"#VALUE!"},{"$error":"#VALUE!"},{"$f":"ThreePosition_Basic2($E$3,$E$5,$B$3:$C$3,$B$5:$C$5,B394,D394)","v":{"$error":"#VALUE!"}},{"$error":"#VALUE!"},{"$error":"#VALUE!"},{"$error":"#VALUE!"}]
[193.5,3.377212102609028,{"$f":"Burmester($B$3:$C$3,$B$4:$C$4,$B$5:$C$5,$E$3,$E$4,$E$5,B395)","v":{"$error":"#VALUE!"}},{"$error":"#VALUE!"},{"$f":"ThreePosition_Basic2($E$3,$E$5,$B$3:$C$3,$B$5:$C$5,B395,C395)","v":{"$error":"#VALUE!"}},{"$error":"#VALUE!"},{"$error":"#VALUE!"},{"$error":"#VALUE!"},{"$f":"ThreePosition_Basic2($E$3,$E$5,$B$3:$C$3,$B$5:$C$5,B395,D395)","v":{"$error":"#VALUE!"}},{"$error":"#VALUE!"},{"$error":"#VALUE!"},{"$error":"#VALUE!"}]
[194,3.3859387488689991,{"$f":"Burmester($B$3:$C$3,$B$4:$C$4,$B$5:$C$5,$E$3,$E$4,$E$5,B396)","v":{"$error":"#VALUE!"}},{"$error":"#VALUE!"},{"$f":"ThreePosition_Basic2($E$3,$E$5,$B$3:$C$3,$B$5:$C$5,B396,C396)","v":{"$error":"#VALUE!"}},{"$error":"#VALUE!"},{"$error":"#VALUE!"},{"$error":"#VALUE!"},{"$f":"ThreePosition_Basic2($E$3,$E$5,$B$3:$C$3,$B$5:$C$5,B396,D396)","v":{"$error":"#VALUE!"}},{"$error":"#VALUE!"},{"$error":"#VALUE!"},{"$error":"#VALUE!"}]
[194.5,3.3946653951289711,{"$f":"Burmester($B$3:$C$3,$B$4:$C$4,$B$5:$C$5,$E$3,$E$4,$E$5,B397)","v":{"$error":"#VALUE!"}},{"$error":"#VALUE!"},{"$f":"ThreePosition_Basic2($E$3,$E$5,$B$3:$C$3,$B$5:$C$5,B397,C397)","v":{"$error":"#VALUE!"}},{"$error":"#VALUE!"},{"$error":"#VALUE!"},{"$error":"#VALUE!"},{"$f":"ThreePosition_Basic2($E$3,$E$5,$B$3:$C$3,$B$5:$C$5,B397,D397)","v":{"$error":"#VALUE!"}},{"$error":"#VALUE!"},{"$error":"#VALUE!"},{"$error":"#VALUE!"}]
[195,3.4033920413889422,{"$f":"Burmester($B$3:$C$3,$B$4:$C$4,$B$5:$C$5,$E$3,$E$4,$E$5,B398)","v":{"$error":"#VALUE!"}},{"$error":"#VALUE!"},{"$f":"ThreePosition_Basic2($E$3,$E$5,$B$3:$C$3,$B$5:$C$5,B398,C398)","v":{"$error":"#VALUE!"}},{"$error":"#VALUE!"},{"$error":"#VALUE!"},{"$error":"#VALUE!"},{"$f":"ThreePosition_Basic2($E$3,$E$5,$B$3:$C$3,$B$5:$C$5,B398,D398)","v":{"$error":"#VALUE!"}},{"$error":"#VALUE!"},{"$error":"#VALUE!"},{"$error":"#VALUE!"}]
[195.5,3.4121186876489142,{"$f":"Burmester($B$3:$C$3,$B$4:$C$4,$B$5:$C$5,$E$3,$E$4,$E$5,B399)","v":{"$error":"#VALUE!"}},{"$error":"#VALUE!"},{"$f":"ThreePosition_Basic2($E$3,$E$5,$B$3:$C$3,$B$5:$C$5,B399,C399)","v":{"$error":"#VALUE!"}},{"$error":"#VALUE!"},{"$error":"#VALUE!"},{"$error":"#VALUE!"},{"$f":"ThreePosition_Basic2($E$3,$E$5,$B$3:$C$3,$B$5:$C$5,B399,D399)","v":{"$error":"#VALUE!"}},{"$error":"#VALUE!"},{"$error":"#VALUE!"},{"$error":"#VALUE!"}]
[196,3.4208453339088858,{"$f":"Burmester($B$3:$C$3,$B$4:$C$4,$B$5:$C$5,$E$3,$E$4,$E$5,B400)","v":{"$error":"#VALUE!"}},{"$error":"#VALUE!"},{"$f":"ThreePosition_Basic2($E$3,$E$5,$B$3:$C$3,$B$5:$C$5,B400,C400)","v":{"$error":"#VALUE!"}},{"$error":"#VALUE!"},{"$error":"#VALUE!"},{"$error":"#VALUE!"},{"$f":"ThreePosition_Basic2($E$3,$E$5,$B$3:$C$3,$B$5:$C$5,B400,D400)","v":{"$error":"#VALUE!"}},{"$error":"#VALUE!"},{"$error":"#VALUE!"},{"$error":"#VALUE!"}]
[196.5,3.4295719801688573,{"$f":"Burmester($B$3:$C$3,$B$4:$C$4,$B$5:$C$5,$E$3,$E$4,$E$5,B401)","v":{"$error":"#VALUE!"}},{"$error":"#VALUE!"},{"$f":"ThreePosition_Basic2($E$3,$E$5,$B$3:$C$3,$B$5:$C$5,B401,C401)","v":{"$error":"#VALUE!"}},{"$error":"#VALUE!"},{"$error":"#VALUE!"},{"$error":"#VALUE!"},{"$f":"ThreePosition_Basic2($E$3,$E$5,$B$3:$C$3,$B$5:$C$5,B401,D401)","v":{"$error":"#VALUE!"}},{"$error":"#VALUE!"},{"$error":"#VALUE!"},{"$error":"#VALUE!"}]
[197,3.4382986264288289,{"$f":"Burmester($B$3:$C$3,$B$4:$C$4,$B$5:$C$5,$E$3,$E$4,$E$5,B402)","v":{"$error":"#VALUE!"}},{"$error":"#VALUE!"},{"$f":"ThreePosition_Basic2($E$3,$E$5,$B$3:$C$3,$B$5:$C$5,B402,C402)","v":{"$error":"#VALUE!"}},{"$error":"#VALUE!"},{"$error":"#VALUE!"},{"$error":"#VALUE!"},{"$f":"ThreePosition_Basic2($E$3,$E$5,$B$3:$C$3,$B$5:$C$5,B402,D402)","v":{"$error":"#VALUE!"}},{"$error":"#VALUE!"},{"$error":"#VALUE!"},{"$error":"#VALUE!"}]
[197.5,3.4470252726888009,{"$f":"Burmester($B$3:$C$3,$B$4:$C$4,$B$5:$C$5,$E$3,$E$4,$E$5,B403)","v":{"$error":"#VALUE!"}},{"$error":"#VALUE!"},{"$f":"ThreePosition_Basic2($E$3,$E$5,$B$3:$C$3,$B$5:$C$5,B403,C403)","v":{"$error":"#VALUE!"}},{"$error":"#VALUE!"},{"$error":"#VALUE!"},{"$error":"#VALUE!"},{"$f":"ThreePosition_Basic2($E$3,$E$5,$B$3:$C$3,$B$5:$C$5,B403,D403)","v":{"$error":"#VALUE!"}},{"$error":"#VALUE!"},{"$error":"#VALUE!"},{"$error":"#VALUE!"}]
[198,3.4557519189487729,{"$f":"Burmester($B$3:$C$3,$B$4:$C$4,$B$5:$C$5,$E$3,$E$4,$E$5,B404)","v":{"$error":"#VALUE!"}},{"$error":"#VALUE!"},{"$f":"ThreePosition_Basic2($E$3,$E$5,$B$3:$C$3,$B$5:$C$5,B404,C404)","v":{"$error":"#VALUE!"}},{"$error":"#VALUE!"},{"$error":"#VALUE!"},{"$error":"#VALUE!"},{"$f":"ThreePosition_Basic2($E$3,$E$5,$B$3:$C$3,$B$5:$C$5,B404,D404)","v":{"$error":"#VALUE!"}},{"$error":"#VALUE!"},{"$error":"#VALUE!"},{"$error":"#VALUE!"}]
[198.5,3.464478565208744,{"$f":"Burmester($B$3:$C$3,$B$4:$C$4,$B$5:$C$5,$E$3,$E$4,$E$5,B405)","v":{"$error":"#VALUE!"}},{"$error":"#VALUE!"},{"$f":"ThreePosition_Basic2($E$3,$E$5,$B$3:$C$3,$B$5:$C$5,B405,C405)","v":{"$error":"#VALUE!"}},{"$error":"#VALUE!"},{"$error":"#VALUE!"},{"$error":"#VALUE!"},{"$f":"ThreePosition_Basic2($E$3,$E$5,$B$3:$C$3,$B$5:$C$5,B405,D405)","v":{"$error":"#VALUE!"}},{"$error":"#VALUE!"},{"$error":"#VALUE!"},{"$error":"#VALUE!"}]
[199,3.473205211468716,{"$f":"Burmester($B$3:$C$3,$B$4:$C$4,$B$5:$C$5,$E$3,$E$4,$E$5,B406)","v":{"$error":"#VALUE!"}},{"$error":"#VALUE!"},{"$f":"ThreePosition_Basic2($E$3,$E$5,$B$3:$C$3,$B$5:$C$5,B406,C406)","v":{"$error":"#VALUE!"}},{"$error":"#VALUE!"},{"$error":"#VALUE!"},{"$error":"#VALUE!"},{"$f":"ThreePosition_Basic2($E$3,$E$5,$B$3:$C$3,$B$5:$C$5,B406,D406)","v":{"$error":"#VALUE!"}},{"$error":"#VALUE!"},{"$error":"#VALUE!"},{"$error":"#VALUE!"}]
[199.5,3.4819318577286871,{"$f":"Burmester($B$3:$C$3,$B$4:$C$4,$B$5:$C$5,$E$3,$E$4,$E$5,B407)","v":{"$error":"#VALUE!"}},{"$error":"#VALUE!"},{"$f":"ThreePosition_Basic2($E$3,$E$5,$B$3:$C$3,$B$5:$C$5,B407,C407)","v":{"$error":"#VALUE!"}},{"$error":"#VALUE!"},{"$error":"#VALUE!"},{"$error":"#VALUE!"},{"$f":"ThreePosition_Basic2($E$3,$E$5,$B$3:$C$3,$B$5:$C$5,B407,D407)","v":{"$error":"#VALUE!"}},{"$error":"#VALUE!"},{"$error":"#VALUE!"},{"$error":"#VALUE!"}]
[200,3.4906585039886591,{"$f":"Burmester($B$3:$C$3,$B$4:$C$4,$B$5:$C$5,$E$3,$E$4,$E$5,B408)","v":{"$error":"#VALUE!"}},{"$error":"#VALUE!"},{"$f":"ThreePosition_Basic2($E$3,$E$5,$B$3:$C$3,$B$5:$C$5,B408,C408)","v":{"$error":"#VALUE!"}},{"$error":"#VALUE!"},{"$error":"#VALUE!"},{"$error":"#VALUE!"},{"$f":"ThreePosition_Basic2($E$3,$E$5,$B$3:$C$3,$B$5:$C$5,B408,D408)","v":{"$error":"#VALUE!"}},{"$error":"#VALUE!"},{"$error":"#VALUE!"},{"$error":"#VALUE!"}]
[200.5,3.4993851502486306,{"$f":"Burmester($B$3:$C$3,$B$4:$C$4,$B$5:$C$5,$E$3,$E$4,$E$5,B409)","v":{"$error":"#VALUE!"}},{"$error":"#VALUE!"},{"$f":"ThreePosition_Basic2($E$3,$E$5,$B$3:$C$3,$B$5:$C$5,B409,C409)","v":{"$error":"#VALUE!"}},{"$error":"#VALUE!"},{"$error":"#VALUE!"},{"$error":"#VALUE!"},{"$f":"ThreePosition_Basic2($E$3,$E$5,$B$3:$C$3,$B$5:$C$5,B409,D409)","v":{"$error":"#VALUE!"}},{"$error":"#VALUE!"},{"$error":"#VALUE!"},{"$error":"#VALUE!"}]
[201,3.5081117965086026,{"$f":"Burmester($B$3:$C$3,$B$4:$C$4,$B$5:$C$5,$E$3,$E$4,$E$5,B410)","v":{"$error":"#VALUE!"}},{"$error":"#VALUE!"},{"$f":"ThreePosition_Basic2($E$3,$E$5,$B$3:$C$3,$B$5:$C$5,B410,C410)","v":{"$error":"#VALUE!"}},{"$error":"#VALUE!"},{"$error":"#VALUE!"},{"$error":"#VALUE!"},{"$f":"ThreePosition_Basic2($E$3,$E$5,$B$3:$C$3,$B$5:$C$5,B410,D410)","v":{"$error":"#VALUE!"}},{"$error":"#VALUE!"},{"$error":"#VALUE!"},{"$error":"#VALUE!"}]
[201.5,3.5168384427685737,{"$f":"Burmester($B$3:$C$3,$B$4:$C$4,$B$5:$C$5,$E$3,$E$4,$E$5,B411)","v":{"$error":"#VALUE!"}},{"$error":"#VALUE!"},{"$f":"ThreePosition_Basic2($E$3,$E$5,$B$3:$C$3,$B$5:$C$5,B411,C411)","v":{"$error":"#VALUE!"}},{"$error":"#VALUE!"},{"$error":"#VALUE!"},{"$error":"#VALUE!"},{"$f":"ThreePosition_Basic2($E$3,$E$5,$B$3:$C$3,$B$5:$C$5,B411,D411)","v":{"$error":"#VALUE!"}},{"$error":"#VALUE!"},{"$error":"#VALUE!"},{"$error":"#VALUE!"}]
[202,3.5255650890285457,{"$f":"Burmester($B$3:$C$3,$B$4:$C$4,$B$5:$C$5,$E$3,$E$4,$E$5,B412)","v":{"$error":"#VALUE!"}},{"$error":"#VALUE!"},{"$f":"ThreePosition_Basic2($E$3,$E$5,$B$3:$C$3,$B$5:$C$5,B412,C412)","v":{"$error":"#VALUE!"}},{"$error":"#VALUE!"},{"$error":"#VALUE!"},{"$error":"#VALUE!"},{"$f":"ThreePosition_Basic2($E$3,$E$5,$B$3:$C$3,$B$5:$C$5,B412,D412)","v":{"$error":"#VALUE!"}},{"$error":"#VALUE!"},{"$error":"#VALUE!"},{"$error":"#VALUE!"}]
[202.5,3.5342917352885168,{"$f":"Burmester($B$3:$C$3,$B$4:$C$4,$B$5:$C$5,$E$3,$E$4,$E$5,B413)","v":{"$error":"#VALUE!"}},{"$error":"#VALUE!"},{"$f":"ThreePosition_Basic2($E$3,$E$5,$B$3:$C$3,$B$5:$C$5,B413,C413)","v":{"$error":"#VALUE!"}},{"$error":"#VALUE!"},{"$error":"#VALUE!"},{"$error":"#VALUE!"},{"$f":"ThreePosition_Basic2($E$3,$E$5,$B$3:$C$3,$B$5:$C$5,B413,D413)","v":{"$error":"#VALUE!"}},{"$error":"#VALUE!"},{"$error":"#VALUE!"},{"$error":"#VALUE!"}]
[203,3.5430183815484888,{"$f":"Burmester($B$3:$C$3,$B$4:$C$4,$B$5:$C$5,$E$3,$E$4,$E$5,B414)","v":{"$error":"#VALUE!"}},{"$error":"#VALUE!"},{"$f":"ThreePosition_Basic2($E$3,$E$5,$B$3:$C$3,$B$5:$C$5,B414,C414)","v":{"$error":"#VALUE!"}},{"$error":"#VALUE!"},{"$error":"#VALUE!"},{"$error":"#VALUE!"},{"$f":"ThreePosition_Basic2($E$3,$E$5,$B$3:$C$3,$B$5:$C$5,B414,D414)","v":{"$error":"#VALUE!"}},{"$error":"#VALUE!"},{"$error":"#VALUE!"},{"$error":"#VALUE!"}]
[203.5,3.5517450278084608,{"$f":"Burmester($B$3:$C$3,$B$4:$C$4,$B$5:$C$5,$E$3,$E$4,$E$5,B415)","v":{"$error":"#VALUE!"}},{"$error":"#VALUE!"},{"$f":"ThreePosition_Basic2($E$3,$E$5,$B$3:$C$3,$B$5:$C$5,B415,C415)","v":{"$error":"#VALUE!"}},{"$error":"#VALUE!"},{"$error":"#VALUE!"},{"$error":"#VALUE!"},{"$f":"ThreePosition_Basic2($E$3,$E$5,$B$3:$C$3,$B$5:$C$5,B415,D415)","v":{"$error":"#VALUE!"}},{"$error":"#VALUE!"},{"$error":"#VALUE!"},{"$error":"#VALUE!"}]
[204,3.5604716740684319,{"$f":"Burmester($B$3:$C$3,$B$4:$C$4,$B$5:$C$5,$E$3,$E$4,$E$5,B416)","v":{"$error":"#VALUE!"}},{"$error":"#VALUE!"},{"$f":"ThreePosition_Basic2($E$3,$E$5,$B$3:$C$3,$B$5:$C$5,B416,C416)","v":{"$error":"#VALUE!"}},{"$error":"#VALUE!"},{"$error":"#VALUE!"},{"$error":"#VALUE!"},{"$f":"ThreePosition_Basic2($E$3,$E$5,$B$3:$C$3,$B$5:$C$5,B416,D416)","v":{"$error":"#VALUE!"}},{"$error":"#VALUE!"},{"$error":"#VALUE!"},{"$error":"#VALUE!"}]
[204.5,3.5691983203284039,{"$f":"Burmester($B$3:$C$3,$B$4:$C$4,$B$5:$C$5,$E$3,$E$4,$E$5,B417)","v":{"$error":"#VALUE!"}},{"$error":"#VALUE!"},{"$f":"ThreePosition_Basic2($E$3,$E$5,$B$3:$C$3,$B$5:$C$5,B417,C417)","v":{"$error":"#VALUE!"}},{"$error":"#VALUE!"},{"$error":"#VALUE!"},{"$error":"#VALUE!"},{"$f":"ThreePosition_Basic2($E$3,$E$5,$B$3:$C$3,$B$5:$C$5,B417,D417)","v":{"$error":"#VALUE!"}},{"$error":"#VALUE!"},{"$error":"#VALUE!"},{"$error":"#VALUE!"}]
[205,3.5779249665883754,{"$f":"Burmester($B$3:$C$3,$B$4:$C$4,$B$5:$C$5,$E$3,$E$4,$E$5,B418)","v":{"$error":"#VALUE!"}},{"$error":"#VALUE!"},{"$f":"ThreePosition_Basic2($E$3,$E$5,$B$3:$C$3,$B$5:$C$5,B418,C418)","v":{"$error":"#VALUE!"}},{"$error":"#VALUE!"},{"$error":"#VALUE!"},{"$error":"#VALUE!"},{"$f":"ThreePosition_Basic2($E$3,$E$5,$B$3:$C$3,$B$5:$C$5,B418,D418)","v":{"$error":"#VALUE!"}},{"$error":"#VALUE!"},{"$error":"#VALUE!"},{"$error":"#VALUE!"}]
[205.5,3.5866516128483474,{"$f":"Burmester($B$3:$C$3,$B$4:$C$4,$B$5:$C$5,$E$3,$E$4,$E$5,B419)","v":{"$error":"#VALUE!"}},{"$error":"#VALUE!"},{"$f":"ThreePosition_Basic2($E$3,$E$5,$B$3:$C$3,$B$5:$C$5,B419,C419)","v":{"$error":"#VALUE!"}},{"$error":"#VALUE!"},{"$error":"#VALUE!"},{"$error":"#VALUE!"},{"$f":"ThreePosition_Basic2($E$3,$E$5,$B$3:$C$3,$B$5:$C$5,B419,D419)","v":{"$error":"#VALUE!"}},{"$error":"#VALUE!"},{"$error":"#VALUE!"},{"$error":"#VALUE!"}]
[206,3.5953782591083185,{"$f":"Burmester($B$3:$C$3,$B$4:$C$4,$B$5:$C$5,$E$3,$E$4,$E$5,B420)","v":{"$error":"#VALUE!"}},{"$error":"#VALUE!"},{"$f":"ThreePosition_Basic2($E$3,$E$5,$B$3:$C$3,$B$5:$C$5,B420,C420)","v":{"$error":"#VALUE!"}},{"$error":"#VALUE!"},{"$error":"#VALUE!"},{"$error":"#VALUE!"},{"$f":"ThreePosition_Basic2($E$3,$E$5,$B$3:$C$3,$B$5:$C$5,B420,D420)","v":{"$error":"#VALUE!"}},{"$error":"#VALUE!"},{"$error":"#VALUE!"},{"$error":"#VALUE!"}]
[206.5,3.6041049053682905,{"$f":"Burmester($B$3:$C$3,$B$4:$C$4,$B$5:$C$5,$E$3,$E$4,$E$5,B421)","v":{"$error":"#VALUE!"}},{"$error":"#VALUE!"},{"$f":"ThreePosition_Basic2($E$3,$E$5,$B$3:$C$3,$B$5:$C$5,B421,C421)","v":{"$error":"#VALUE!"}},{"$error":"#VALUE!"},{"$error":"#VALUE!"},{"$error":"#VALUE!"},{"$f":"ThreePosition_Basic2($E$3,$E$5,$B$3:$C$3,$B$5:$C$5,B421,D421)","v":{"$error":"#VALUE!"}},{"$error":"#VALUE!"},{"$error":"#VALUE!"},{"$error":"#VALUE!"}]
[207,3.6128315516282616,{"$f":"Burmester($B$3:$C$3,$B$4:$C$4,$B$5:$C$5,$E$3,$E$4,$E$5,B422)","v":{"$error":"#VALUE!"}},{"$error":"#VALUE!"},{"$f":"ThreePosition_Basic2($E$3,$E$5,$B$3:$C$3,$B$5:$C$5,B422,C422)","v":{"$error":"#VALUE!"}},{"$error":"#VALUE!"},{"$error":"#VALUE!"},{"$error":"#VALUE!"},{"$f":"ThreePosition_Basic2($E$3,$E$5,$B$3:$C$3,$B$5:$C$5,B422,D422)","v":{"$error":"#VALUE!"}},{"$error":"#VALUE!"},{"$error":"#VALUE!"},{"$error":"#VALUE!"}]
[207.5,3.6215581978882336,{"$f":"Burmester($B$3:$C$3,$B$4:$C$4,$B$5:$C$5,$E$3,$E$4,$E$5,B423)","v":{"$error":"#VALUE!"}},{"$error":"#VALUE!"},{"$f":"ThreePosition_Basic2($E$3,$E$5,$B$3:$C$3,$B$5:$C$5,B423,C423)","v":{"$error":"#VALUE!"}},{"$error":"#VALUE!"},{"$error":"#VALUE!"},{"$error":"#VALUE!"},{"$f":"ThreePosition_Basic2($E$3,$E$5,$B$3:$C$3,$B$5:$C$5,B423,D423)","v":{"$error":"#VALUE!"}},{"$error":"#VALUE!"},{"$error":"#VALUE!"},{"$error":"#VALUE!"}]
[208,3.6302848441482056,{"$f":"Burmester($B$3:$C$3,$B$4:$C$4,$B$5:$C$5,$E$3,$E$4,$E$5,B424)","v":{"$error":"#VALUE!"}},{"$error":"#VALUE!"},{"$f":"ThreePosition_Basic2($E$3,$E$5,$B$3:$C$3,$B$5:$C$5,B424,C424)","v":{"$error":"#VALUE!"}},{"$error":"#VALUE!"},{"$error":"#VALUE!"},{"$error":"#VALUE!"},{"$f":"ThreePosition_Basic2($E$3,$E$5,$B$3:$C$3,$B$5:$C$5,B424,D424)","v":{"$error":"#VALUE!"}},{"$error":"#VALUE!"},{"$error":"#VALUE!"},{"$error":"#VALUE!"}]
[208.5,3.6390114904081772,{"$f":"Burmester($B$3:$C$3,$B$4:$C$4,$B$5:$C$5,$E$3,$E$4,$E$5,B425)","v":{"$error":"#VALUE!"}},{"$error":"#VALUE!"},{"$f":"ThreePosition_Basic2($E$3,$E$5,$B$3:$C$3,$B$5:$C$5,B425,C425)","v":{"$error":"#VALUE!"}},{"$error":"#VALUE!"},{"$error":"#VALUE!"},{"$error":"#VALUE!"},{"$f":"ThreePosition_Basic2($E$3,$E$5,$B$3:$C$3,$B$5:$C$5,B425,D425)","v":{"$error":"#VALUE!"}},{"$error":"#VALUE!"},{"$error":"#VALUE!"},{"$error":"#VALUE!"}]
[209,3.6477381366681487,{"$f":"Burmester($B$3:$C$3,$B$4:$C$4,$B$5:$C$5,$E$3,$E$4,$E$5,B426)","v":{"$error":"#VALUE!"}},{"$error":"#VALUE!"},{"$f":"ThreePosition_Basic2($E$3,$E$5,$B$3:$C$3,$B$5:$C$5,B426,C426)","v":{"$error":"#VALUE!"}},{"$error":"#VALUE!"},{"$error":"#VALUE!"},{"$error":"#VALUE!"},{"$f":"ThreePosition_Basic2($E$3,$E$5,$B$3:$C$3,$B$5:$C$5,B426,D426)","v":{"$error":"#VALUE!"}},{"$error":"#VALUE!"},{"$error":"#VALUE!"},{"$error":"#VALUE!"}]
[209.5,3.6564647829281203,{"$f":"Burmester($B$3:$C$3,$B$4:$C$4,$B$5:$C$5,$E$3,$E$4,$E$5,B427)","v":{"$error":"#VALUE!"}},{"$error":"#VALUE!"},{"$f":"ThreePosition_Basic2($E$3,$E$5,$B$3:$C$3,$B$5:$C$5,B427,C427)","v":{"$error":"#VALUE!"}},{"$error":"#VALUE!"},{"$error":"#VALUE!"},{"$error":"#VALUE!"},{"$f":"ThreePosition_Basic2($E$3,$E$5,$B$3:$C$3,$B$5:$C$5,B427,D427)","v":{"$error":"#VALUE!"}},{"$error":"#VALUE!"},{"$error":"#VALUE!"},{"$error":"#VALUE!"}]
[210,3.6651914291880923,{"$f":"Burmester($B$3:$C$3,$B$4:$C$4,$B$5:$C$5,$E$3,$E$4,$E$5,B428)","v":{"$error":"#VALUE!"}},{"$error":"#VALUE!"},{"$f":"ThreePosition_Basic2($E$3,$E$5,$B$3:$C$3,$B$5:$C$5,B428,C428)","v":{"$error":"#VALUE!"}},{"$error":"#VALUE!"},{"$error":"#VALUE!"},{"$error":"#VALUE!"},{"$f":"ThreePosition_Basic2($E$3,$E$5,$B$3:$C$3,$B$5:$C$5,B428,D428)","v":{"$error":"#VALUE!"}},{"$error":"#VALUE!"},{"$error":"#VALUE!"},{"$error":"#VALUE!"}]
[210.5,3.6739180754480634,{"$f":"Burmester($B$3:$C$3,$B$4:$C$4,$B$5:$C$5,$E$3,$E$4,$E$5,B429)","v":{"$error":"#VALUE!"}},{"$error":"#VALUE!"},{"$f":"ThreePosition_Basic2($E$3,$E$5,$B$3:$C$3,$B$5:$C$5,B429,C429)","v":{"$error":"#VALUE!"}},{"$error":"#VALUE!"},{"$error":"#VALUE!"},{"$error":"#VALUE!"},{"$f":"ThreePosition_Basic2($E$3,$E$5,$B$3:$C$3,$B$5:$C$5,B429,D429)","v":{"$error":"#VALUE!"}},{"$error":"#VALUE!"},{"$error":"#VALUE!"},{"$error":"#VALUE!"}]
[211,3.6826447217080354,{"$f":"Burmester($B$3:$C$3,$B$4:$C$4,$B$5:$C$5,$E$3,$E$4,$E$5,B430)","v":{"$error":"#VALUE!"}},{"$error":"#VALUE!"},{"$f":"ThreePosition_Basic2($E$3,$E$5,$B$3:$C$3,$B$5:$C$5,B430,C430)","v":{"$error":"#VALUE!"}},{"$error":"#VALUE!"},{"$error":"#VALUE!"},{"$error":"#VALUE!"},{"$f":"ThreePosition_Basic2($E$3,$E$5,$B$3:$C$3,$B$5:$C$5,B430,D430)","v":{"$error":"#VALUE!"}},{"$error":"#VALUE!"},{"$error":"#VALUE!"},{"$error":"#VALUE!"}]
[211.5,3.6913713679680069,{"$f":"Burmester($B$3:$C$3,$B$4:$C$4,$B$5:$C$5,$E$3,$E$4,$E$5,B431)","v":{"$error":"#VALUE!"}},{"$error":"#VALUE!"},{"$f":"ThreePosition_Basic2($E$3,$E$5,$B$3:$C$3,$B$5:$C$5,B431,C431)","v":{"$error":"#VALUE!"}},{"$error":"#VALUE!"},{"$error":"#VALUE!"},{"$error":"#VALUE!"},{"$f":"ThreePosition_Basic2($E$3,$E$5,$B$3:$C$3,$B$5:$C$5,B431,D431)","v":{"$error":"#VALUE!"}},{"$error":"#VALUE!"},{"$error":"#VALUE!"},{"$error":"#VALUE!"}]
[212,3.7000980142279785,{"$f":"Burmester($B$3:$C$3,$B$4:$C$4,$B$5:$C$5,$E$3,$E$4,$E$5,B432)","v":{"$error":"#VALUE!"}},{"$error":"#VALUE!"},{"$f":"ThreePosition_Basic2($E$3,$E$5,$B$3:$C$3,$B$5:$C$5,B432,C432)","v":{"$error":"#VALUE!"}},{"$error":"#VALUE!"},{"$error":"#VALUE!"},{"$error":"#VALUE!"},{"$f":"ThreePosition_Basic2($E$3,$E$5,$B$3:$C$3,$B$5:$C$5,B432,D432)","v":{"$error":"#VALUE!"}},{"$error":"#VALUE!"},{"$error":"#VALUE!"},{"$error":"#VALUE!"}]
[212.5,3.70882466048795,{"$f":"Burmester($B$3:$C$3,$B$4:$C$4,$B$5:$C$5,$E$3,$E$4,$E$5,B433)","v":{"$error":"#VALUE!"}},{"$error":"#VALUE!"},{"$f":"ThreePosition_Basic2($E$3,$E$5,$B$3:$C$3,$B$5:$C$5,B433,C433)","v":{"$error":"#VALUE!"}},{"$error":"#VALUE!"},{"$error":"#VALUE!"},{"$error":"#VALUE!"},{"$f":"ThreePosition_Basic2($E$3,$E$5,$B$3:$C$3,$B$5:$C$5,B433,D433)","v":{"$error":"#VALUE!"}},{"$error":"#VALUE!"},{"$error":"#VALUE!"},{"$error":"#VALUE!"}]
[213,3.717551306747922,{"$f":"Burmester($B$3:$C$3,$B$4:$C$4,$B$5:$C$5,$E$3,$E$4,$E$5,B434)","v":{"$error":"#VALUE!"}},{"$error":"#VALUE!"},{"$f":"ThreePosition_Basic2($E$3,$E$5,$B$3:$C$3,$B$5:$C$5,B434,C434)","v":{"$error":"#VALUE!"}},{"$error":"#VALUE!"},{"$error":"#VALUE!"},{"$error":"#VALUE!"},{"$f":"ThreePosition_Basic2($E$3,$E$5,$B$3:$C$3,$B$5:$C$5,B434,D434)","v":{"$error":"#VALUE!"}},{"$error":"#VALUE!"},{"$error":"#VALUE!"},{"$error":"#VALUE!"}]
[213.5,3.726277953007894,{"$f":"Burmester($B$3:$C$3,$B$4:$C$4,$B$5:$C$5,$E$3,$E$4,$E$5,B435)","v":{"$error":"#VALUE!"}},{"$error":"#VALUE!"},{"$f":"ThreePosition_Basic2($E$3,$E$5,$B$3:$C$3,$B$5:$C$5,B435,C435)","v":{"$error":"#VALUE!"}},{"$error":"#VALUE!"},{"$error":"#VALUE!"},{"$error":"#VALUE!"},{"$f":"ThreePosition_Basic2($E$3,$E$5,$B$3:$C$3,$B$5:$C$5,B435,D435)","v":{"$error":"#VALUE!"}},{"$error":"#VALUE!"},{"$error":"#VALUE!"},{"$error":"#VALUE!"}]
[214,3.7350045992678651,{"$f":"Burmester($B$3:$C$3,$B$4:$C$4,$B$5:$C$5,$E$3,$E$4,$E$5,B436)","v":{"$error":"#VALUE!"}},{"$error":"#VALUE!"},{"$f":"ThreePosition_Basic2($E$3,$E$5,$B$3:$C$3,$B$5:$C$5,B436,C436)","v":{"$error":"#VALUE!"}},{"$error":"#VALUE!"},{"$error":"#VALUE!"},{"$error":"#VALUE!"},{"$f":"ThreePosition_Basic2($E$3,$E$5,$B$3:$C$3,$B$5:$C$5,B436,D436)","v":{"$error":"#VALUE!"}},{"$error":"#VALUE!"},{"$error":"#VALUE!"},{"$error":"#VALUE!"}]
[214.5,3.7437312455278371,{"$f":"Burmester($B$3:$C$3,$B$4:$C$4,$B$5:$C$5,$E$3,$E$4,$E$5,B437)","v":{"$error":"#VALUE!"}},{"$error":"#VALUE!"},{"$f":"ThreePosition_Basic2($E$3,$E$5,$B$3:$C$3,$B$5:$C$5,B437,C437)","v":{"$error":"#VALUE!"}},{"$error":"#VALUE!"},{"$error":"#VALUE!"},{"$error":"#VALUE!"},{"$f":"ThreePosition_Basic2($E$3,$E$5,$B$3:$C$3,$B$5:$C$5,B437,D437)","v":{"$error":"#VALUE!"}},{"$error":"#VALUE!"},{"$error":"#VALUE!"},{"$error":"#VALUE!"}]
[215,3.7524578917878082,{"$f":"Burmester($B$3:$C$3,$B$4:$C$4,$B$5:$C$5,$E$3,$E$4,$E$5,B438)","v":{"$error":"#VALUE!"}},{"$error":"#VALUE!"},{"$f":"ThreePosition_Basic2($E$3,$E$5,$B$3:$C$3,$B$5:$C$5,B438,C438)","v":{"$error":"#VALUE!"}},{"$error":"#VALUE!"},{"$error":"#VALUE!"},{"$error":"#VALUE!"},{"$f":"ThreePosition_Basic2($E$3,$E$5,$B$3:$C$3,$B$5:$C$5,B438,D438)","v":{"$error":"#VALUE!"}},{"$error":"#VALUE!"},{"$error":"#VALUE!"},{"$error":"#VALUE!"}]
[215.5,3.7611845380477802,{"$f":"Burmester($B$3:$C$3,$B$4:$C$4,$B$5:$C$5,$E$3,$E$4,$E$5,B439)","v":{"$error":"#VALUE!"}},{"$error":"#VALUE!"},{"$f":"ThreePosition_Basic2($E$3,$E$5,$B$3:$C$3,$B$5:$C$5,B439,C439)","v":{"$error":"#VALUE!"}},{"$error":"#VALUE!"},{"$error":"#VALUE!"},{"$error":"#VALUE!"},{"$f":"ThreePosition_Basic2($E$3,$E$5,$B$3:$C$3,$B$5:$C$5,B439,D439)","v":{"$error":"#VALUE!"}},{"$error":"#VALUE!"},{"$error":"#VALUE!"},{"$error":"#VALUE!"}]
[216,3.7699111843077517,{"$f":"Burmester($B$3:$C$3,$B$4:$C$4,$B$5:$C$5,$E$3,$E$4,$E$5,B440)","v":{"$error":"#VALUE!"}},{"$error":"#VALUE!"},{"$f":"ThreePosition_Basic2($E$3,$E$5,$B$3:$C$3,$B$5:$C$5,B440,C440)","v":{"$error":"#VALUE!"}},{"$error":"#VALUE!"},{"$error":"#VALUE!"},{"$error":"#VALUE!"},{"$f":"ThreePosition_Basic2($E$3,$E$5,$B$3:$C$3,$B$5:$C$5,B440,D440)","v":{"$error":"#VALUE!"}},{"$error":"#VALUE!"},{"$error":"#VALUE!"},{"$error":"#VALUE!"}]
[216.5,3.7786378305677237,{"$f":"Burmester($B$3:$C$3,$B$4:$C$4,$B$5:$C$5,$E$3,$E$4,$E$5,B441)","v":{"$error":"#VALUE!"}},{"$error":"#VALUE!"},{"$f":"ThreePosition_Basic2($E$3,$E$5,$B$3:$C$3,$B$5:$C$5,B441,C441)","v":{"$error":"#VALUE!"}},{"$error":"#VALUE!"},{"$error":"#VALUE!"},{"$error":"#VALUE!"},{"$f":"ThreePosition_Basic2($E$3,$E$5,$B$3:$C$3,$B$5:$C$5,B441,D441)","v":{"$error":"#VALUE!"}},{"$error":"#VALUE!"},{"$error":"#VALUE!"},{"$error":"#VALUE!"}]
[217,3.7873644768276948,{"$f":"Burmester($B$3:$C$3,$B$4:$C$4,$B$5:$C$5,$E$3,$E$4,$E$5,B442)","v":{"$error":"#VALUE!"}},{"$error":"#VALUE!"},{"$f":"ThreePosition_Basic2($E$3,$E$5,$B$3:$C$3,$B$5:$C$5,B442,C442)","v":{"$error":"#VALUE!"}},{"$error":"#VALUE!"},{"$error":"#VALUE!"},{"$error":"#VALUE!"},{"$f":"ThreePosition_Basic2($E$3,$E$5,$B$3:$C$3,$B$5:$C$5,B442,D442)","v":{"$error":"#VALUE!"}},{"$error":"#VALUE!"},{"$error":"#VALUE!"},{"$error":"#VALUE!"}]
[217.5,3.7960911230876668,{"$f":"Burmester($B$3:$C$3,$B$4:$C$4,$B$5:$C$5,$E$3,$E$4,$E$5,B443)","v":{"$error":"#VALUE!"}},{"$error":"#VALUE!"},{"$f":"ThreePosition_Basic2($E$3,$E$5,$B$3:$C$3,$B$5:$C$5,B443,C443)","v":{"$error":"#VALUE!"}},{"$error":"#VALUE!"},{"$error":"#VALUE!"},{"$error":"#VALUE!"},{"$f":"ThreePosition_Basic2($E$3,$E$5,$B$3:$C$3,$B$5:$C$5,B443,D443)","v":{"$error":"#VALUE!"}},{"$error":"#VALUE!"},{"$error":"#VALUE!"},{"$error":"#VALUE!"}]
[218,3.8048177693476379,{"$f":"Burmester($B$3:$C$3,$B$4:$C$4,$B$5:$C$5,$E$3,$E$4,$E$5,B444)","v":{"$error":"#VALUE!"}},{"$error":"#VALUE!"},{"$f":"ThreePosition_Basic2($E$3,$E$5,$B$3:$C$3,$B$5:$C$5,B444,C444)","v":{"$error":"#VALUE!"}},{"$error":"#VALUE!"},{"$error":"#VALUE!"},{"$error":"#VALUE!"},{"$f":"ThreePosition_Basic2($E$3,$E$5,$B$3:$C$3,$B$5:$C$5,B444,D444)","v":{"$error":"#VALUE!"}},{"$error":"#VALUE!"},{"$error":"#VALUE!"},{"$error":"#VALUE!"}]
[218.5,3.8135444156076099,{"$f":"Burmester($B$3:$C$3,$B$4:$C$4,$B$5:$C$5,$E$3,$E$4,$E$5,B445)","v":{"$error":"#VALUE!"}},{"$error":"#VALUE!"},{"$f":"ThreePosition_Basic2($E$3,$E$5,$B$3:$C$3,$B$5:$C$5,B445,C445)","v":{"$error":"#VALUE!"}},{"$error":"#VALUE!"},{"$error":"#VALUE!"},{"$error":"#VALUE!"},{"$f":"ThreePosition_Basic2($E$3,$E$5,$B$3:$C$3,$B$5:$C$5,B445,D445)","v":{"$error":"#VALUE!"}},{"$error":"#VALUE!"},{"$error":"#VALUE!"},{"$error":"#VALUE!"}]
[219,3.8222710618675819,{"$f":"Burmester($B$3:$C$3,$B$4:$C$4,$B$5:$C$5,$E$3,$E$4,$E$5,B446)","v":{"$error":"#VALUE!"}},{"$error":"#VALUE!"},{"$f":"ThreePosition_Basic2($E$3,$E$5,$B$3:$C$3,$B$5:$C$5,B446,C446)","v":{"$error":"#VALUE!"}},{"$error":"#VALUE!"},{"$error":"#VALUE!"},{"$error":"#VALUE!"},{"$f":"ThreePosition_Basic2($E$3,$E$5,$B$3:$C$3,$B$5:$C$5,B446,D446)","v":{"$error":"#VALUE!"}},{"$error":"#VALUE!"},{"$error":"#VALUE!"},{"$error":"#VALUE!"}]
[219.5,3.830997708127553,{"$f":"Burmester($B$3:$C$3,$B$4:$C$4,$B$5:$C$5,$E$3,$E$4,$E$5,B447)","v":{"$error":"#VALUE!"}},{"$error":"#VALUE!"},{"$f":"ThreePosition_Basic2($E$3,$E$5,$B$3:$C$3,$B$5:$C$5,B447,C447)","v":{"$error":"#VALUE!"}},{"$error":"#VALUE!"},{"$error":"#VALUE!"},{"$error":"#VALUE!"},{"$f":"ThreePosition_Basic2($E$3,$E$5,$B$3:$C$3,$B$5:$C$5,B447,D447)","v":{"$error":"#VALUE!"}},{"$error":"#VALUE!"},{"$error":"#VALUE!"},{"$error":"#VALUE!"}]
[220,3.839724354387525,{"$f":"Burmester($B$3:$C$3,$B$4:$C$4,$B$5:$C$5,$E$3,$E$4,$E$5,B448)","v":{"$error":"#VALUE!"}},{"$error":"#VALUE!"},{"$f":"ThreePosition_Basic2($E$3,$E$5,$B$3:$C$3,$B$5:$C$5,B448,C448)","v":{"$error":"#VALUE!"}},{"$error":"#VALUE!"},{"$error":"#VALUE!"},{"$error":"#VALUE!"},{"$f":"ThreePosition_Basic2($E$3,$E$5,$B$3:$C$3,$B$5:$C$5,B448,D448)","v":{"$error":"#VALUE!"}},{"$error":"#VALUE!"},{"$error":"#VALUE!"},{"$error":"#VALUE!"}]
[220.5,3.8484510006474966,{"$f":"Burmester($B$3:$C$3,$B$4:$C$4,$B$5:$C$5,$E$3,$E$4,$E$5,B449)","v":{"$error":"#VALUE!"}},{"$error":"#VALUE!"},{"$f":"ThreePosition_Basic2($E$3,$E$5,$B$3:$C$3,$B$5:$C$5,B449,C449)","v":{"$error":"#VALUE!"}},{"$error":"#VALUE!"},{"$error":"#VALUE!"},{"$error":"#VALUE!"},{"$f":"ThreePosition_Basic2($E$3,$E$5,$B$3:$C$3,$B$5:$C$5,B449,D449)","v":{"$error":"#VALUE!"}},{"$error":"#VALUE!"},{"$error":"#VALUE!"},{"$error":"#VALUE!"}]
[221,3.8571776469074686,{"$f":"Burmester($B$3:$C$3,$B$4:$C$4,$B$5:$C$5,$E$3,$E$4,$E$5,B450)","v":{"$error":"#VALUE!"}},{"$error":"#VALUE!"},{"$f":"ThreePosition_Basic2($E$3,$E$5,$B$3:$C$3,$B$5:$C$5,B450,C450)","v":{"$error":"#VALUE!"}},{"$error":"#VALUE!"},{"$error":"#VALUE!"},{"$error":"#VALUE!"},{"$f":"ThreePosition_Basic2($E$3,$E$5,$B$3:$C$3,$B$5:$C$5,B450,D450)","v":{"$error":"#VALUE!"}},{"$error":"#VALUE!"},{"$error":"#VALUE!"},{"$error":"#VALUE!"}]
[221.5,3.8659042931674397,{"$f":"Burmester($B$3:$C$3,$B$4:$C$4,$B$5:$C$5,$E$3,$E$4,$E$5,B451)","v":{"$error":"#VALUE!"}},{"$error":"#VALUE!"},{"$f":"ThreePosition_Basic2($E$3,$E$5,$B$3:$C$3,$B$5:$C$5,B451,C451)","v":{"$error":"#VALUE!"}},{"$error":"#VALUE!"},{"$error":"#VALUE!"},{"$error":"#VALUE!"},{"$f":"ThreePosition_Basic2($E$3,$E$5,$B$3:$C$3,$B$5:$C$5,B451,D451)","v":{"$error":"#VALUE!"}},{"$error":"#VALUE!"},{"$error":"#VALUE!"},{"$error":"#VALUE!"}]
[222,3.8746309394274117,{"$f":"Burmester($B$3:$C$3,$B$4:$C$4,$B$5:$C$5,$E$3,$E$4,$E$5,B452)","v":{"$error":"#VALUE!"}},{"$error":"#VALUE!"},{"$f":"ThreePosition_Basic2($E$3,$E$5,$B$3:$C$3,$B$5:$C$5,B452,C452)","v":{"$error":"#VALUE!"}},{"$error":"#VALUE!"},{"$error":"#VALUE!"},{"$error":"#VALUE!"},{"$f":"ThreePosition_Basic2($E$3,$E$5,$B$3:$C$3,$B$5:$C$5,B452,D452)","v":{"$error":"#VALUE!"}},{"$error":"#VALUE!"},{"$error":"#VALUE!"},{"$error":"#VALUE!"}]
[222.5,3.8833575856873828,{"$f":"Burmester($B$3:$C$3,$B$4:$C$4,$B$5:$C$5,$E$3,$E$4,$E$5,B453)","v":{"$error":"#VALUE!"}},{"$error":"#VALUE!"},{"$f":"ThreePosition_Basic2($E$3,$E$5,$B$3:$C$3,$B$5:$C$5,B453,C453)","v":{"$error":"#VALUE!"}},{"$error":"#VALUE!"},{"$error":"#VALUE!"},{"$error":"#VALUE!"},{"$f":"ThreePosition_Basic2($E$3,$E$5,$B$3:$C$3,$B$5:$C$5,B453,D453)","v":{"$error":"#VALUE!"}},{"$error":"#VALUE!"},{"$error":"#VALUE!"},{"$error":"#VALUE!"}]
[223,3.8920842319473548,{"$f":"Burmester($B$3:$C$3,$B$4:$C$4,$B$5:$C$5,$E$3,$E$4,$E$5,B454)","v":{"$error":"#VALUE!"}},{"$error":"#VALUE!"},{"$f":"ThreePosition_Basic2($E$3,$E$5,$B$3:$C$3,$B$5:$C$5,B454,C454)","v":{"$error":"#VALUE!"}},{"$error":"#VALUE!"},{"$error":"#VALUE!"},{"$error":"#VALUE!"},{"$f":"ThreePosition_Basic2($E$3,$E$5,$B$3:$C$3,$B$5:$C$5,B454,D454)","v":{"$error":"#VALUE!"}},{"$error":"#VALUE!"},{"$error":"#VALUE!"},{"$error":"#VALUE!"}]
[223.5,3.9008108782073263,{"$f":"Burmester($B$3:$C$3,$B$4:$C$4,$B$5:$C$5,$E$3,$E$4,$E$5,B455)","v":{"$error":"#VALUE!"}},{"$error":"#VALUE!"},{"$f":"ThreePosition_Basic2($E$3,$E$5,$B$3:$C$3,$B$5:$C$5,B455,C455)","v":{"$error":"#VALUE!"}},{"$error":"#VALUE!"},{"$error":"#VALUE!"},{"$error":"#VALUE!"},{"$f":"ThreePosition_Basic2($E$3,$E$5,$B$3:$C$3,$B$5:$C$5,B455,D455)","v":{"$error":"#VALUE!"}},{"$error":"#VALUE!"},{"$error":"#VALUE!"},{"$error":"#VALUE!"}]
[224,3.9095375244672983,{"$f":"Burmester($B$3:$C$3,$B$4:$C$4,$B$5:$C$5,$E$3,$E$4,$E$5,B456)","v":{"$error":"#VALUE!"}},{"$error":"#VALUE!"},{"$f":"ThreePosition_Basic2($E$3,$E$5,$B$3:$C$3,$B$5:$C$5,B456,C456)","v":{"$error":"#VALUE!"}},{"$error":"#VALUE!"},{"$error":"#VALUE!"},{"$error":"#VALUE!"},{"$f":"ThreePosition_Basic2($E$3,$E$5,$B$3:$C$3,$B$5:$C$5,B456,D456)","v":{"$error":"#VALUE!"}},{"$error":"#VALUE!"},{"$error":"#VALUE!"},{"$error":"#VALUE!"}]
[224.5,{"$f":"A457*PI()/180","v":3.9182641707272698},{"$f":"Burmester($B$3:$C$3,$B$4:$C$4,$B$5:$C$5,$E$3,$E$4,$E$5,B457)","v":{"$error":"#VALUE!"}},{"$error":"#VALUE!"},{"$f":"ThreePosition_Basic2($E$3,$E$5,$B$3:$C$3,$B$5:$C$5,B457,C457)","v":{"$error":"#VALUE!"}},{"$error":"#VALUE!"},{"$error":"#VALUE!"},{"$error":"#VALUE!"},{"$f":"ThreePosition_Basic2($E$3,$E$5,$B$3:$C$3,$B$5:$C$5,B457,D457)","v":{"$error":"#VALUE!"}},{"$error":"#VALUE!"},{"$error":"#VALUE!"},{"$error":"#VALUE!"}]
[225,3.9269908169872414,{"$f":"Burmester($B$3:$C$3,$B$4:$C$4,$B$5:$C$5,$E$3,$E$4,$E$5,B458)","v":{"$error":"#VALUE!"}},{"$error":"#VALUE!"},{"$f":"ThreePosition_Basic2($E$3,$E$5,$B$3:$C$3,$B$5:$C$5,B458,C458)","v":{"$error":"#VALUE!"}},{"$error":"#VALUE!"},{"$error":"#VALUE!"},{"$error":"#VALUE!"},{"$f":"ThreePosition_Basic2($E$3,$E$5,$B$3:$C$3,$B$5:$C$5,B458,D458)","v":{"$error":"#VALUE!"}},{"$error":"#VALUE!"},{"$error":"#VALUE!"},{"$error":"#VALUE!"}]
[225.5,3.9357174632472134,{"$f":"Burmester($B$3:$C$3,$B$4:$C$4,$B$5:$C$5,$E$3,$E$4,$E$5,B459)","v":{"$error":"#VALUE!"}},{"$error":"#VALUE!"},{"$f":"ThreePosition_Basic2($E$3,$E$5,$B$3:$C$3,$B$5:$C$5,B459,C459)","v":{"$error":"#VALUE!"}},{"$error":"#VALUE!"},{"$error":"#VALUE!"},{"$error":"#VALUE!"},{"$f":"ThreePosition_Basic2($E$3,$E$5,$B$3:$C$3,$B$5:$C$5,B459,D459)","v":{"$error":"#VALUE!"}},{"$error":"#VALUE!"},{"$error":"#VALUE!"},{"$error":"#VALUE!"}]
[226,3.9444441095071845,{"$f":"Burmester($B$3:$C$3,$B$4:$C$4,$B$5:$C$5,$E$3,$E$4,$E$5,B460)","v":{"$error":"#VALUE!"}},{"$error":"#VALUE!"},{"$f":"ThreePosition_Basic2($E$3,$E$5,$B$3:$C$3,$B$5:$C$5,B460,C460)","v":{"$error":"#VALUE!"}},{"$error":"#VALUE!"},{"$error":"#VALUE!"},{"$error":"#VALUE!"},{"$f":"ThreePosition_Basic2($E$3,$E$5,$B$3:$C$3,$B$5:$C$5,B460,D460)","v":{"$error":"#VALUE!"}},{"$error":"#VALUE!"},{"$error":"#VALUE!"},{"$error":"#VALUE!"}]
[226.5,3.9531707557671565,{"$f":"Burmester($B$3:$C$3,$B$4:$C$4,$B$5:$C$5,$E$3,$E$4,$E$5,B461)","v":{"$error":"#VALUE!"}},{"$error":"#VALUE!"},{"$f":"ThreePosition_Basic2($E$3,$E$5,$B$3:$C$3,$B$5:$C$5,B461,C461)","v":{"$error":"#VALUE!"}},{"$error":"#VALUE!"},{"$error":"#VALUE!"},{"$error":"#VALUE!"},{"$f":"ThreePosition_Basic2($E$3,$E$5,$B$3:$C$3,$B$5:$C$5,B461,D461)","v":{"$error":"#VALUE!"}},{"$error":"#VALUE!"},{"$error":"#VALUE!"},{"$error":"#VALUE!"}]
[227,3.9618974020271276,{"$f":"Burmester($B$3:$C$3,$B$4:$C$4,$B$5:$C$5,$E$3,$E$4,$E$5,B462)","v":{"$error":"#VALUE!"}},{"$error":"#VALUE!"},{"$f":"ThreePosition_Basic2($E$3,$E$5,$B$3:$C$3,$B$5:$C$5,B462,C462)","v":{"$error":"#VALUE!"}},{"$error":"#VALUE!"},{"$error":"#VALUE!"},{"$error":"#VALUE!"},{"$f":"ThreePosition_Basic2($E$3,$E$5,$B$3:$C$3,$B$5:$C$5,B462,D462)","v":{"$error":"#VALUE!"}},{"$error":"#VALUE!"},{"$error":"#VALUE!"},{"$error":"#VALUE!"}]
[227.5,3.9706240482870996,{"$f":"Burmester($B$3:$C$3,$B$4:$C$4,$B$5:$C$5,$E$3,$E$4,$E$5,B463)","v":{"$error":"#VALUE!"}},{"$error":"#VALUE!"},{"$f":"ThreePosition_Basic2($E$3,$E$5,$B$3:$C$3,$B$5:$C$5,B463,C463)","v":{"$error":"#VALUE!"}},{"$error":"#VALUE!"},{"$error":"#VALUE!"},{"$error":"#VALUE!"},{"$f":"ThreePosition_Basic2($E$3,$E$5,$B$3:$C$3,$B$5:$C$5,B463,D463)","v":{"$error":"#VALUE!"}},{"$error":"#VALUE!"},{"$error":"#VALUE!"},{"$error":"#VALUE!"}]
[228,3.9793506945470711,{"$f":"Burmester($B$3:$C$3,$B$4:$C$4,$B$5:$C$5,$E$3,$E$4,$E$5,B464)","v":{"$error":"#VALUE!"}},{"$error":"#VALUE!"},{"$f":"ThreePosition_Basic2($E$3,$E$5,$B$3:$C$3,$B$5:$C$5,B464,C464)","v":{"$error":"#VALUE!"}},{"$error":"#VALUE!"},{"$error":"#VALUE!"},{"$error":"#VALUE!"},{"$f":"ThreePosition_Basic2($E$3,$E$5,$B$3:$C$3,$B$5:$C$5,B464,D464)","v":{"$error":"#VALUE!"}},{"$error":"#VALUE!"},{"$error":"#VALUE!"},{"$error":"#VALUE!"}]
[228.5,3.9880773408070431,{"$f":"Burmester($B$3:$C$3,$B$4:$C$4,$B$5:$C$5,$E$3,$E$4,$E$5,B465)","v":{"$error":"#VALUE!"}},{"$error":"#VALUE!"},{"$f":"ThreePosition_Basic2($E$3,$E$5,$B$3:$C$3,$B$5:$C$5,B465,C465)","v":{"$error":"#VALUE!"}},{"$error":"#VALUE!"},{"$error":"#VALUE!"},{"$error":"#VALUE!"},{"$f":"ThreePosition_Basic2($E$3,$E$5,$B$3:$C$3,$B$5:$C$5,B465,D465)","v":{"$error":"#VALUE!"}},{"$error":"#VALUE!"},{"$error":"#VALUE!"},{"$error":"#VALUE!"}]
[229,3.9968039870670142,{"$f":"Burmester($B$3:$C$3,$B$4:$C$4,$B$5:$C$5,$E$3,$E$4,$E$5,B466)","v":{"$error":"#VALUE!"}},{"$error":"#VALUE!"},{"$f":"ThreePosition_Basic2($E$3,$E$5,$B$3:$C$3,$B$5:$C$5,B466,C466)","v":{"$error":"#VALUE!"}},{"$error":"#VALUE!"},{"$error":"#VALUE!"},{"$error":"#VALUE!"},{"$f":"ThreePosition_Basic2($E$3,$E$5,$B$3:$C$3,$B$5:$C$5,B466,D466)","v":{"$error":"#VALUE!"}},{"$error":"#VALUE!"},{"$error":"#VALUE!"},{"$error":"#VALUE!"}]
[229.5,4.0055306333269858,{"$f":"Burmester($B$3:$C$3,$B$4:$C$4,$B$5:$C$5,$E$3,$E$4,$E$5,B467)","v":{"$error":"#VALUE!"}},{"$error":"#VALUE!"},{"$f":"ThreePosition_Basic2($E$3,$E$5,$B$3:$C$3,$B$5:$C$5,B467,C467)","v":{"$error":"#VALUE!"}},{"$error":"#VALUE!"},{"$error":"#VALUE!"},{"$error":"#VALUE!"},{"$f":"ThreePosition_Basic2($E$3,$E$5,$B$3:$C$3,$B$5:$C$5,B467,D467)","v":{"$error":"#VALUE!"}},{"$error":"#VALUE!"},{"$error":"#VALUE!"},{"$error":"#VALUE!"}]
[230,4.0142572795869578,{"$f":"Burmester($B$3:$C$3,$B$4:$C$4,$B$5:$C$5,$E$3,$E$4,$E$5,B468)","v":{"$error":"#VALUE!"}},{"$error":"#VALUE!"},{"$f":"ThreePosition_Basic2($E$3,$E$5,$B$3:$C$3,$B$5:$C$5,B468,C468)","v":{"$error":"#VALUE!"}},{"$error":"#VALUE!"},{"$error":"#VALUE!"},{"$error":"#VALUE!"},{"$f":"ThreePosition_Basic2($E$3,$E$5,$B$3:$C$3,$B$5:$C$5,B468,D468)","v":{"$error":"#VALUE!"}},{"$error":"#VALUE!"},{"$error":"#VALUE!"},{"$error":"#VALUE!"}]
[230.5,4.0229839258469298,{"$f":"Burmester($B$3:$C$3,$B$4:$C$4,$B$5:$C$5,$E$3,$E$4,$E$5,B469)","v":{"$error":"#VALUE!"}},{"$error":"#VALUE!"},{"$f":"ThreePosition_Basic2($E$3,$E$5,$B$3:$C$3,$B$5:$C$5,B469,C469)","v":{"$error":"#VALUE!"}},{"$error":"#VALUE!"},{"$error":"#VALUE!"},{"$error":"#VALUE!"},{"$f":"ThreePosition_Basic2($E$3,$E$5,$B$3:$C$3,$B$5:$C$5,B469,D469)","v":{"$error":"#VALUE!"}},{"$error":"#VALUE!"},{"$error":"#VALUE!"},{"$error":"#VALUE!"}]
[231,4.0317105721069018,{"$f":"Burmester($B$3:$C$3,$B$4:$C$4,$B$5:$C$5,$E$3,$E$4,$E$5,B470)","v":{"$error":"#VALUE!"}},{"$error":"#VALUE!"},{"$f":"ThreePosition_Basic2($E$3,$E$5,$B$3:$C$3,$B$5:$C$5,B470,C470)","v":{"$error":"#VALUE!"}},{"$error":"#VALUE!"},{"$error":"#VALUE!"},{"$error":"#VALUE!"},{"$f":"ThreePosition_Basic2($E$3,$E$5,$B$3:$C$3,$B$5:$C$5,B470,D470)","v":{"$error":"#VALUE!"}},{"$error":"#VALUE!"},{"$error":"#VALUE!"},{"$error":"#VALUE!"}]
[231.5,4.0404372183668729,{"$f":"Burmester($B$3:$C$3,$B$4:$C$4,$B$5:$C$5,$E$3,$E$4,$E$5,B471)","v":{"$error":"#VALUE!"}},{"$error":"#VALUE!"},{"$f":"ThreePosition_Basic2($E$3,$E$5,$B$3:$C$3,$B$5:$C$5,B471,C471)","v":{"$error":"#VALUE!"}},{"$error":"#VALUE!"},{"$error":"#VALUE!"},{"$error":"#VALUE!"},{"$f":"ThreePosition_Basic2($E$3,$E$5,$B$3:$C$3,$B$5:$C$5,B471,D471)","v":{"$error":"#VALUE!"}},{"$error":"#VALUE!"},{"$error":"#VALUE!"},{"$error":"#VALUE!"}]
[232,4.0491638646268449,{"$f":"Burmester($B$3:$C$3,$B$4:$C$4,$B$5:$C$5,$E$3,$E$4,$E$5,B472)","v":{"$error":"#VALUE!"}},{"$error":"#VALUE!"},{"$f":"ThreePosition_Basic2($E$3,$E$5,$B$3:$C$3,$B$5:$C$5,B472,C472)","v":{"$error":"#VALUE!"}},{"$error":"#VALUE!"},{"$error":"#VALUE!"},{"$error":"#VALUE!"},{"$f":"ThreePosition_Basic2($E$3,$E$5,$B$3:$C$3,$B$5:$C$5,B472,D472)","v":{"$error":"#VALUE!"}},{"$error":"#VALUE!"},{"$error":"#VALUE!"},{"$error":"#VALUE!"}]
[232.5,4.057890510886816,{"$f":"Burmester($B$3:$C$3,$B$4:$C$4,$B$5:$C$5,$E$3,$E$4,$E$5,B473)","v":{"$error":"#VALUE!"}},{"$error":"#VALUE!"},{"$f":"ThreePosition_Basic2($E$3,$E$5,$B$3:$C$3,$B$5:$C$5,B473,C473)","v":{"$error":"#VALUE!"}},{"$error":"#VALUE!"},{"$error":"#VALUE!"},{"$error":"#VALUE!"},{"$f":"ThreePosition_Basic2($E$3,$E$5,$B$3:$C$3,$B$5:$C$5,B473,D473)","v":{"$error":"#VALUE!"}},{"$error":"#VALUE!"},{"$error":"#VALUE!"},{"$error":"#VALUE!"}]
[233,4.066617157146788,{"$f":"Burmester($B$3:$C$3,$B$4:$C$4,$B$5:$C$5,$E$3,$E$4,$E$5,B474)","v":{"$error":"#VALUE!"}},{"$error":"#VALUE!"},{"$f":"ThreePosition_Basic2($E$3,$E$5,$B$3:$C$3,$B$5:$C$5,B474,C474)","v":{"$error":"#VALUE!"}},{"$error":"#VALUE!"},{"$error":"#VALUE!"},{"$error":"#VALUE!"},{"$f":"ThreePosition_Basic2($E$3,$E$5,$B$3:$C$3,$B$5:$C$5,B474,D474)","v":{"$error":"#VALUE!"}},{"$error":"#VALUE!"},{"$error":"#VALUE!"},{"$error":"#VALUE!"}]
[233.5,4.0753438034067591,{"$f":"Burmester($B$3:$C$3,$B$4:$C$4,$B$5:$C$5,$E$3,$E$4,$E$5,B475)","v":{"$error":"#VALUE!"}},{"$error":"#VALUE!"},{"$f":"ThreePosition_Basic2($E$3,$E$5,$B$3:$C$3,$B$5:$C$5,B475,C475)","v":{"$error":"#VALUE!"}},{"$error":"#VALUE!"},{"$error":"#VALUE!"},{"$error":"#VALUE!"},{"$f":"ThreePosition_Basic2($E$3,$E$5,$B$3:$C$3,$B$5:$C$5,B475,D475)","v":{"$error":"#VALUE!"}},{"$error":"#VALUE!"},{"$error":"#VALUE!"},{"$error":"#VALUE!"}]
[234,4.0840704496667311,{"$f":"Burmester($B$3:$C$3,$B$4:$C$4,$B$5:$C$5,$E$3,$E$4,$E$5,B476)","v":{"$error":"#VALUE!"}},{"$error":"#VALUE!"},{"$f":"ThreePosition_Basic2($E$3,$E$5,$B$3:$C$3,$B$5:$C$5,B476,C476)","v":{"$error":"#VALUE!"}},{"$error":"#VALUE!"},{"$error":"#VALUE!"},{"$error":"#VALUE!"},{"$f":"ThreePosition_Basic2($E$3,$E$5,$B$3:$C$3,$B$5:$C$5,B476,D476)","v":{"$error":"#VALUE!"}},{"$error":"#VALUE!"},{"$error":"#VALUE!"},{"$error":"#VALUE!"}]
[234.5,4.0927970959267022,{"$f":"Burmester($B$3:$C$3,$B$4:$C$4,$B$5:$C$5,$E$3,$E$4,$E$5,B477)","v":{"$error":"#VALUE!"}},{"$error":"#VALUE!"},{"$f":"ThreePosition_Basic2($E$3,$E$5,$B$3:$C$3,$B$5:$C$5,B477,C477)","v":{"$error":"#VALUE!"}},{"$error":"#VALUE!"},{"$error":"#VALUE!"},{"$error":"#VALUE!"},{"$f":"ThreePosition_Basic2($E$3,$E$5,$B$3:$C$3,$B$5:$C$5,B477,D477)","v":{"$error":"#VALUE!"}},{"$error":"#VALUE!"},{"$error":"#VALUE!"},{"$error":"#VALUE!"}]
[235,4.1015237421866741,{"$f":"Burmester($B$3:$C$3,$B$4:$C$4,$B$5:$C$5,$E$3,$E$4,$E$5,B478)","v":{"$error":"#VALUE!"}},{"$error":"#VALUE!"},{"$f":"ThreePosition_Basic2($E$3,$E$5,$B$3:$C$3,$B$5:$C$5,B478,C478)","v":{"$error":"#VALUE!"}},{"$error":"#VALUE!"},{"$error":"#VALUE!"},{"$error":"#VALUE!"},{"$f":"ThreePosition_Basic2($E$3,$E$5,$B$3:$C$3,$B$5:$C$5,B478,D478)","v":{"$error":"#VALUE!"}},{"$error":"#VALUE!"},{"$error":"#VALUE!"},{"$error":"#VALUE!"}]
[235.5,4.1102503884466461,{"$f":"Burmester($B$3:$C$3,$B$4:$C$4,$B$5:$C$5,$E$3,$E$4,$E$5,B479)","v":{"$error":"#VALUE!"}},{"$error":"#VALUE!"},{"$f":"ThreePosition_Basic2($E$3,$E$5,$B$3:$C$3,$B$5:$C$5,B479,C479)","v":{"$error":"#VALUE!"}},{"$error":"#VALUE!"},{"$error":"#VALUE!"},{"$error":"#VALUE!"},{"$f":"ThreePosition_Basic2($E$3,$E$5,$B$3:$C$3,$B$5:$C$5,B479,D479)","v":{"$error":"#VALUE!"}},{"$error":"#VALUE!"},{"$error":"#VALUE!"},{"$error":"#VALUE!"}]
[236,4.1189770347066172,{"$f":"Burmester($B$3:$C$3,$B$4:$C$4,$B$5:$C$5,$E$3,$E$4,$E$5,B480)","v":{"$error":"#VALUE!"}},{"$error":"#VALUE!"},{"$f":"ThreePosition_Basic2($E$3,$E$5,$B$3:$C$3,$B$5:$C$5,B480,C480)","v":{"$error":"#VALUE!"}},{"$error":"#VALUE!"},{"$error":"#VALUE!"},{"$error":"#VALUE!"},{"$f":"ThreePosition_Basic2($E$3,$E$5,$B$3:$C$3,$B$5:$C$5,B480,D480)","v":{"$error":"#VALUE!"}},{"$error":"#VALUE!"},{"$error":"#VALUE!"},{"$error":"#VALUE!"}]
[236.5,4.1277036809665892,{"$f":"Burmester($B$3:$C$3,$B$4:$C$4,$B$5:$C$5,$E$3,$E$4,$E$5,B481)","v":{"$error":"#VALUE!"}},{"$error":"#VALUE!"},{"$f":"ThreePosition_Basic2($E$3,$E$5,$B$3:$C$3,$B$5:$C$5,B481,C481)","v":{"$error":"#VALUE!"}},{"$error":"#VALUE!"},{"$error":"#VALUE!"},{"$error":"#VALUE!"},{"$f":"ThreePosition_Basic2($E$3,$E$5,$B$3:$C$3,$B$5:$C$5,B481,D481)","v":{"$error":"#VALUE!"}},{"$error":"#VALUE!"},{"$error":"#VALUE!"},{"$error":"#VALUE!"}]
[237,4.1364303272265612,{"$f":"Burmester($B$3:$C$3,$B$4:$C$4,$B$5:$C$5,$E$3,$E$4,$E$5,B482)","v":{"$error":"#VALUE!"}},{"$error":"#VALUE!"},{"$f":"ThreePosition_Basic2($E$3,$E$5,$B$3:$C$3,$B$5:$C$5,B482,C482)","v":{"$error":"#VALUE!"}},{"$error":"#VALUE!"},{"$error":"#VALUE!"},{"$error":"#VALUE!"},{"$f":"ThreePosition_Basic2($E$3,$E$5,$B$3:$C$3,$B$5:$C$5,B482,D482)","v":{"$error":"#VALUE!"}},{"$error":"#VALUE!"},{"$error":"#VALUE!"},{"$error":"#VALUE!"}]
[237.5,4.1451569734865323,{"$f":"Burmester($B$3:$C$3,$B$4:$C$4,$B$5:$C$5,$E$3,$E$4,$E$5,B483)","v":{"$error":"#VALUE!"}},{"$error":"#VALUE!"},{"$f":"ThreePosition_Basic2($E$3,$E$5,$B$3:$C$3,$B$5:$C$5,B483,C483)","v":{"$error":"#VALUE!"}},{"$error":"#VALUE!"},{"$error":"#VALUE!"},{"$error":"#VALUE!"},{"$f":"ThreePosition_Basic2($E$3,$E$5,$B$3:$C$3,$B$5:$C$5,B483,D483)","v":{"$error":"#VALUE!"}},{"$error":"#VALUE!"},{"$error":"#VALUE!"},{"$error":"#VALUE!"}]
[238,4.1538836197465043,{"$f":"Burmester($B$3:$C$3,$B$4:$C$4,$B$5:$C$5,$E$3,$E$4,$E$5,B484)","v":{"$error":"#VALUE!"}},{"$error":"#VALUE!"},{"$f":"ThreePosition_Basic2($E$3,$E$5,$B$3:$C$3,$B$5:$C$5,B484,C484)","v":{"$error":"#VALUE!"}},{"$error":"#VALUE!"},{"$error":"#VALUE!"},{"$error":"#VALUE!"},{"$f":"ThreePosition_Basic2($E$3,$E$5,$B$3:$C$3,$B$5:$C$5,B484,D484)","v":{"$error":"#VALUE!"}},{"$error":"#VALUE!"},{"$error":"#VALUE!"},{"$error":"#VALUE!"}]
[238.5,4.1626102660064763,{"$f":"Burmester($B$3:$C$3,$B$4:$C$4,$B$5:$C$5,$E$3,$E$4,$E$5,B485)","v":{"$error":"#VALUE!"}},{"$error":"#VALUE!"},{"$f":"ThreePosition_Basic2($E$3,$E$5,$B$3:$C$3,$B$5:$C$5,B485,C485)","v":{"$error":"#VALUE!"}},{"$error":"#VALUE!"},{"$error":"#VALUE!"},{"$error":"#VALUE!"},{"$f":"ThreePosition_Basic2($E$3,$E$5,$B$3:$C$3,$B$5:$C$5,B485,D485)","v":{"$error":"#VALUE!"}},{"$error":"#VALUE!"},{"$error":"#VALUE!"},{"$error":"#VALUE!"}]
[239,4.1713369122664474,{"$f":"Burmester($B$3:$C$3,$B$4:$C$4,$B$5:$C$5,$E$3,$E$4,$E$5,B486)","v":{"$error":"#VALUE!"}},{"$error":"#VALUE!"},{"$f":"ThreePosition_Basic2($E$3,$E$5,$B$3:$C$3,$B$5:$C$5,B486,C486)","v":{"$error":"#VALUE!"}},{"$error":"#VALUE!"},{"$error":"#VALUE!"},{"$error":"#VALUE!"},{"$f":"ThreePosition_Basic2($E$3,$E$5,$B$3:$C$3,$B$5:$C$5,B486,D486)","v":{"$error":"#VALUE!"}},{"$error":"#VALUE!"},{"$error":"#VALUE!"},{"$error":"#VALUE!"}]
[239.5,4.1800635585264194,{"$f":"Burmester($B$3:$C$3,$B$4:$C$4,$B$5:$C$5,$E$3,$E$4,$E$5,B487)","v":{"$error":"#VALUE!"}},{"$error":"#VALUE!"},{"$f":"ThreePosition_Basic2($E$3,$E$5,$B$3:$C$3,$B$5:$C$5,B487,C487)","v":{"$error":"#VALUE!"}},{"$error":"#VALUE!"},{"$error":"#VALUE!"},{"$error":"#VALUE!"},{"$f":"ThreePosition_Basic2($E$3,$E$5,$B$3:$C$3,$B$5:$C$5,B487,D487)","v":{"$error":"#VALUE!"}},{"$error":"#VALUE!"},{"$error":"#VALUE!"},{"$error":"#VALUE!"}]
[240,4.1887902047863905,{"$f":"Burmester($B$3:$C$3,$B$4:$C$4,$B$5:$C$5,$E$3,$E$4,$E$5,B488)","v":{"$error":"#VALUE!"}},{"$error":"#VALUE!"},{"$f":"ThreePosition_Basic2($E$3,$E$5,$B$3:$C$3,$B$5:$C$5,B488,C488)","v":{"$error":"#VALUE!"}},{"$error":"#VALUE!"},{"$error":"#VALUE!"},{"$error":"#VALUE!"},{"$f":"ThreePosition_Basic2($E$3,$E$5,$B$3:$C$3,$B$5:$C$5,B488,D488)","v":{"$error":"#VALUE!"}},{"$error":"#VALUE!"},{"$error":"#VALUE!"},{"$error":"#VALUE!"}]
[240.5,4.1975168510463625,{"$f":"Burmester($B$3:$C$3,$B$4:$C$4,$B$5:$C$5,$E$3,$E$4,$E$5,B489)","v":{"$error":"#VALUE!"}},{"$error":"#VALUE!"},{"$f":"ThreePosition_Basic2($E$3,$E$5,$B$3:$C$3,$B$5:$C$5,B489,C489)","v":{"$error":"#VALUE!"}},{"$error":"#VALUE!"},{"$error":"#VALUE!"},{"$error":"#VALUE!"},{"$f":"ThreePosition_Basic2($E$3,$E$5,$B$3:$C$3,$B$5:$C$5,B489,D489)","v":{"$error":"#VALUE!"}},{"$error":"#VALUE!"},{"$error":"#VALUE!"},{"$error":"#VALUE!"}]
[241,4.2062434973063345,{"$f":"Burmester($B$3:$C$3,$B$4:$C$4,$B$5:$C$5,$E$3,$E$4,$E$5,B490)","v":{"$error":"#VALUE!"}},{"$error":"#VALUE!"},{"$f":"ThreePosition_Basic2($E$3,$E$5,$B$3:$C$3,$B$5:$C$5,B490,C490)","v":{"$error":"#VALUE!"}},{"$error":"#VALUE!"},{"$error":"#VALUE!"},{"$error":"#VALUE!"},{"$f":"ThreePosition_Basic2($E$3,$E$5,$B$3:$C$3,$B$5:$C$5,B490,D490)","v":{"$error":"#VALUE!"}},{"$error":"#VALUE!"},{"$error":"#VALUE!"},{"$error":"#VALUE!"}]
[241.5,4.2149701435663056,{"$f":"Burmester($B$3:$C$3,$B$4:$C$4,$B$5:$C$5,$E$3,$E$4,$E$5,B491)","v":{"$error":"#VALUE!"}},{"$error":"#VALUE!"},{"$f":"ThreePosition_Basic2($E$3,$E$5,$B$3:$C$3,$B$5:$C$5,B491,C491)","v":{"$error":"#VALUE!"}},{"$error":"#VALUE!"},{"$error":"#VALUE!"},{"$error":"#VALUE!"},{"$f":"ThreePosition_Basic2($E$3,$E$5,$B$3:$C$3,$B$5:$C$5,B491,D491)","v":{"$error":"#VALUE!"}},{"$error":"#VALUE!"},{"$error":"#VALUE!"},{"$error":"#VALUE!"}]
[242,4.2236967898262776,{"$f":"Burmester($B$3:$C$3,$B$4:$C$4,$B$5:$C$5,$E$3,$E$4,$E$5,B492)","v":{"$error":"#VALUE!"}},{"$error":"#VALUE!"},{"$f":"ThreePosition_Basic2($E$3,$E$5,$B$3:$C$3,$B$5:$C$5,B492,C492)","v":{"$error":"#VALUE!"}},{"$error":"#VALUE!"},{"$error":"#VALUE!"},{"$error":"#VALUE!"},{"$f":"ThreePosition_Basic2($E$3,$E$5,$B$3:$C$3,$B$5:$C$5,B492,D492)","v":{"$error":"#VALUE!"}},{"$error":"#VALUE!"},{"$error":"#VALUE!"},{"$error":"#VALUE!"}]
[242.5,4.2324234360862487,{"$f":"Burmester($B$3:$C$3,$B$4:$C$4,$B$5:$C$5,$E$3,$E$4,$E$5,B493)","v":{"$error":"#VALUE!"}},{"$error":"#VALUE!"},{"$f":"ThreePosition_Basic2($E$3,$E$5,$B$3:$C$3,$B$5:$C$5,B493,C493)","v":{"$error":"#VALUE!"}},{"$error":"#VALUE!"},{"$error":"#VALUE!"},{"$error":"#VALUE!"},{"$f":"ThreePosition_Basic2($E$3,$E$5,$B$3:$C$3,$B$5:$C$5,B493,D493)","v":{"$error":"#VALUE!"}},{"$error":"#VALUE!"},{"$error":"#VALUE!"},{"$error":"#VALUE!"}]
[243,4.2411500823462207,{"$f":"Burmester($B$3:$C$3,$B$4:$C$4,$B$5:$C$5,$E$3,$E$4,$E$5,B494)","v":{"$error":"#VALUE!"}},{"$error":"#VALUE!"},{"$f":"ThreePosition_Basic2($E$3,$E$5,$B$3:$C$3,$B$5:$C$5,B494,C494)","v":{"$error":"#VALUE!"}},{"$error":"#VALUE!"},{"$error":"#VALUE!"},{"$error":"#VALUE!"},{"$f":"ThreePosition_Basic2($E$3,$E$5,$B$3:$C$3,$B$5:$C$5,B494,D494)","v":{"$error":"#VALUE!"}},{"$error":"#VALUE!"},{"$error":"#VALUE!"},{"$error":"#VALUE!"}]
[243.5,4.2498767286061918,{"$f":"Burmester($B$3:$C$3,$B$4:$C$4,$B$5:$C$5,$E$3,$E$4,$E$5,B495)","v":{"$error":"#VALUE!"}},{"$error":"#VALUE!"},{"$f":"ThreePosition_Basic2($E$3,$E$5,$B$3:$C$3,$B$5:$C$5,B495,C495)","v":{"$error":"#VALUE!"}},{"$error":"#VALUE!"},{"$error":"#VALUE!"},{"$error":"#VALUE!"},{"$f":"ThreePosition_Basic2($E$3,$E$5,$B$3:$C$3,$B$5:$C$5,B495,D495)","v":{"$error":"#VALUE!"}},{"$error":"#VALUE!"},{"$error":"#VALUE!"},{"$error":"#VALUE!"}]
[244,4.2586033748661638,{"$f":"Burmester($B$3:$C$3,$B$4:$C$4,$B$5:$C$5,$E$3,$E$4,$E$5,B496)","v":{"$error":"#VALUE!"}},{"$error":"#VALUE!"},{"$f":"ThreePosition_Basic2($E$3,$E$5,$B$3:$C$3,$B$5:$C$5,B496,C496)","v":{"$error":"#VALUE!"}},{"$error":"#VALUE!"},{"$error":"#VALUE!"},{"$error":"#VALUE!"},{"$f":"ThreePosition_Basic2($E$3,$E$5,$B$3:$C$3,$B$5:$C$5,B496,D496)","v":{"$error":"#VALUE!"}},{"$error":"#VALUE!"},{"$error":"#VALUE!"},{"$error":"#VALUE!"}]
[244.5,4.2673300211261358,{"$f":"Burmester($B$3:$C$3,$B$4:$C$4,$B$5:$C$5,$E$3,$E$4,$E$5,B497)","v":{"$error":"#VALUE!"}},{"$error":"#VALUE!"},{"$f":"ThreePosition_Basic2($E$3,$E$5,$B$3:$C$3,$B$5:$C$5,B497,C497)","v":{"$error":"#VALUE!"}},{"$error":"#VALUE!"},{"$error":"#VALUE!"},{"$error":"#VALUE!"},{"$f":"ThreePosition_Basic2($E$3,$E$5,$B$3:$C$3,$B$5:$C$5,B497,D497)","v":{"$error":"#VALUE!"}},{"$error":"#VALUE!"},{"$error":"#VALUE!"},{"$error":"#VALUE!"}]
[245,4.2760566673861069,{"$f":"Burmester($B$3:$C$3,$B$4:$C$4,$B$5:$C$5,$E$3,$E$4,$E$5,B498)","v":{"$error":"#VALUE!"}},{"$error":"#VALUE!"},{"$f":"ThreePosition_Basic2($E$3,$E$5,$B$3:$C$3,$B$5:$C$5,B498,C498)","v":{"$error":"#VALUE!"}},{"$error":"#VALUE!"},{"$error":"#VALUE!"},{"$error":"#VALUE!"},{"$f":"ThreePosition_Basic2($E$3,$E$5,$B$3:$C$3,$B$5:$C$5,B498,D498)","v":{"$error":"#VALUE!"}},{"$error":"#VALUE!"},{"$error":"#VALUE!"},{"$error":"#VALUE!"}]
[245.5,4.2847833136460789,{"$f":"Burmester($B$3:$C$3,$B$4:$C$4,$B$5:$C$5,$E$3,$E$4,$E$5,B499)","v":{"$error":"#VALUE!"}},{"$error":"#VALUE!"},{"$f":"ThreePosition_Basic2($E$3,$E$5,$B$3:$C$3,$B$5:$C$5,B499,C499)","v":{"$error":"#VALUE!"}},{"$error":"#VALUE!"},{"$error":"#VALUE!"},{"$error":"#VALUE!"},{"$f":"ThreePosition_Basic2($E$3,$E$5,$B$3:$C$3,$B$5:$C$5,B499,D499)","v":{"$error":"#VALUE!"}},{"$error":"#VALUE!"},{"$error":"#VALUE!"},{"$error":"#VALUE!"}]
[246,4.2935099599060509,{"$f":"Burmester($B$3:$C$3,$B$4:$C$4,$B$5:$C$5,$E$3,$E$4,$E$5,B500)","v":{"$error":"#VALUE!"}},{"$error":"#VALUE!"},{"$f":"ThreePosition_Basic2($E$3,$E$5,$B$3:$C$3,$B$5:$C$5,B500,C500)","v":{"$error":"#VALUE!"}},{"$error":"#VALUE!"},{"$error":"#VALUE!"},{"$error":"#VALUE!"},{"$f":"ThreePosition_Basic2($E$3,$E$5,$B$3:$C$3,$B$5:$C$5,B500,D500)","v":{"$error":"#VALUE!"}},{"$error":"#VALUE!"},{"$error":"#VALUE!"},{"$error":"#VALUE!"}]
[246.5,4.3022366061660229,{"$f":"Burmester($B$3:$C$3,$B$4:$C$4,$B$5:$C$5,$E$3,$E$4,$E$5,B501)","v":{"$error":"#VALUE!"}},{"$error":"#VALUE!"},{"$f":"ThreePosition_Basic2($E$3,$E$5,$B$3:$C$3,$B$5:$C$5,B501,C501)","v":{"$error":"#VALUE!"}},{"$error":"#VALUE!"},{"$error":"#VALUE!"},{"$error":"#VALUE!"},{"$f":"ThreePosition_Basic2($E$3,$E$5,$B$3:$C$3,$B$5:$C$5,B501,D501)","v":{"$error":"#VALUE!"}},{"$error":"#VALUE!"},{"$error":"#VALUE!"},{"$error":"#VALUE!"}]
[247,4.310963252425994,{"$f":"Burmester($B$3:$C$3,$B$4:$C$4,$B$5:$C$5,$E$3,$E$4,$E$5,B502)","v":{"$error":"#VALUE!"}},{"$error":"#VALUE!"},{"$f":"ThreePosition_Basic2($E$3,$E$5,$B$3:$C$3,$B$5:$C$5,B502,C502)","v":{"$error":"#VALUE!"}},{"$error":"#VALUE!"},{"$error":"#VALUE!"},{"$error":"#VALUE!"},{"$f":"ThreePosition_Basic2($E$3,$E$5,$B$3:$C$3,$B$5:$C$5,B502,D502)","v":{"$error":"#VALUE!"}},{"$error":"#VALUE!"},{"$error":"#VALUE!"},{"$error":"#VALUE!"}]
[247.5,4.319689898685966,{"$f":"Burmester($B$3:$C$3,$B$4:$C$4,$B$5:$C$5,$E$3,$E$4,$E$5,B503)","v":{"$error":"#VALUE!"}},{"$error":"#VALUE!"},{"$f":"ThreePosition_Basic2($E$3,$E$5,$B$3:$C$3,$B$5:$C$5,B503,C503)","v":{"$error":"#VALUE!"}},{"$error":"#VALUE!"},{"$error":"#VALUE!"},{"$error":"#VALUE!"},{"$f":"ThreePosition_Basic2($E$3,$E$5,$B$3:$C$3,$B$5:$C$5,B503,D503)","v":{"$error":"#VALUE!"}},{"$error":"#VALUE!"},{"$error":"#VALUE!"},{"$error":"#VALUE!"}]
[248,4.3284165449459371,{"$f":"Burmester($B$3:$C$3,$B$4:$C$4,$B$5:$C$5,$E$3,$E$4,$E$5,B504)","v":{"$error":"#VALUE!"}},{"$error":"#VALUE!"},{"$f":"ThreePosition_Basic2($E$3,$E$5,$B$3:$C$3,$B$5:$C$5,B504,C504)","v":{"$error":"#VALUE!"}},{"$error":"#VALUE!"},{"$error":"#VALUE!"},{"$error":"#VALUE!"},{"$f":"ThreePosition_Basic2($E$3,$E$5,$B$3:$C$3,$B$5:$C$5,B504,D504)","v":{"$error":"#VALUE!"}},{"$error":"#VALUE!"},{"$error":"#VALUE!"},{"$error":"#VALUE!"}]
[248.5,4.3371431912059091,{"$f":"Burmester($B$3:$C$3,$B$4:$C$4,$B$5:$C$5,$E$3,$E$4,$E$5,B505)","v":{"$error":"#VALUE!"}},{"$error":"#VALUE!"},{"$f":"ThreePosition_Basic2($E$3,$E$5,$B$3:$C$3,$B$5:$C$5,B505,C505)","v":{"$error":"#VALUE!"}},{"$error":"#VALUE!"},{"$error":"#VALUE!"},{"$error":"#VALUE!"},{"$f":"ThreePosition_Basic2($E$3,$E$5,$B$3:$C$3,$B$5:$C$5,B505,D505)","v":{"$error":"#VALUE!"}},{"$error":"#VALUE!"},{"$error":"#VALUE!"},{"$error":"#VALUE!"}]
[249,4.3458698374658802,{"$f":"Burmester($B$3:$C$3,$B$4:$C$4,$B$5:$C$5,$E$3,$E$4,$E$5,B506)","v":{"$error":"#VALUE!"}},{"$error":"#VALUE!"},{"$f":"ThreePosition_Basic2($E$3,$E$5,$B$3:$C$3,$B$5:$C$5,B506,C506)","v":{"$error":"#VALUE!"}},{"$error":"#VALUE!"},{"$error":"#VALUE!"},{"$error":"#VALUE!"},{"$f":"ThreePosition_Basic2($E$3,$E$5,$B$3:$C$3,$B$5:$C$5,B506,D506)","v":{"$error":"#VALUE!"}},{"$error":"#VALUE!"},{"$error":"#VALUE!"},{"$error":"#VALUE!"}]
[249.5,4.3545964837258522,{"$f":"Burmester($B$3:$C$3,$B$4:$C$4,$B$5:$C$5,$E$3,$E$4,$E$5,B507)","v":{"$error":"#VALUE!"}},{"$error":"#VALUE!"},{"$f":"ThreePosition_Basic2($E$3,$E$5,$B$3:$C$3,$B$5:$C$5,B507,C507)","v":{"$error":"#VALUE!"}},{"$error":"#VALUE!"},{"$error":"#VALUE!"},{"$error":"#VALUE!"},{"$f":"ThreePosition_Basic2($E$3,$E$5,$B$3:$C$3,$B$5:$C$5,B507,D507)","v":{"$error":"#VALUE!"}},{"$error":"#VALUE!"},{"$error":"#VALUE!"},{"$error":"#VALUE!"}]
[250,4.3633231299858233,{"$f":"Burmester($B$3:$C$3,$B$4:$C$4,$B$5:$C$5,$E$3,$E$4,$E$5,B508)","v":{"$error":"#VALUE!"}},{"$error":"#VALUE!"},{"$f":"ThreePosition_Basic2($E$3,$E$5,$B$3:$C$3,$B$5:$C$5,B508,C508)","v":{"$error":"#VALUE!"}},{"$error":"#VALUE!"},{"$error":"#VALUE!"},{"$error":"#VALUE!"},{"$f":"ThreePosition_Basic2($E$3,$E$5,$B$3:$C$3,$B$5:$C$5,B508,D508)","v":{"$error":"#VALUE!"}},{"$error":"#VALUE!"},{"$error":"#VALUE!"},{"$error":"#VALUE!"}]
[250.5,4.3720497762457953,{"$f":"Burmester($B$3:$C$3,$B$4:$C$4,$B$5:$C$5,$E$3,$E$4,$E$5,B509)","v":{"$error":"#VALUE!"}},{"$error":"#VALUE!"},{"$f":"ThreePosition_Basic2($E$3,$E$5,$B$3:$C$3,$B$5:$C$5,B509,C509)","v":{"$error":"#VALUE!"}},{"$error":"#VALUE!"},{"$error":"#VALUE!"},{"$error":"#VALUE!"},{"$f":"ThreePosition_Basic2($E$3,$E$5,$B$3:$C$3,$B$5:$C$5,B509,D509)","v":{"$error":"#VALUE!"}},{"$error":"#VALUE!"},{"$error":"#VALUE!"},{"$error":"#VALUE!"}]
[251,4.3807764225057673,{"$f":"Burmester($B$3:$C$3,$B$4:$C$4,$B$5:$C$5,$E$3,$E$4,$E$5,B510)","v":{"$error":"#VALUE!"}},{"$error":"#VALUE!"},{"$f":"ThreePosition_Basic2($E$3,$E$5,$B$3:$C$3,$B$5:$C$5,B510,C510)","v":{"$error":"#VALUE!"}},{"$error":"#VALUE!"},{"$error":"#VALUE!"},{"$error":"#VALUE!"},{"$f":"ThreePosition_Basic2($E$3,$E$5,$B$3:$C$3,$B$5:$C$5,B510,D510)","v":{"$error":"#VALUE!"}},{"$error":"#VALUE!"},{"$error":"#VALUE!"},{"$error":"#VALUE!"}]
[251.5,4.3895030687657384,{"$f":"Burmester($B$3:$C$3,$B$4:$C$4,$B$5:$C$5,$E$3,$E$4,$E$5,B511)","v":{"$error":"#VALUE!"}},{"$error":"#VALUE!"},{"$f":"ThreePosition_Basic2($E$3,$E$5,$B$3:$C$3,$B$5:$C$5,B511,C511)","v":{"$error":"#VALUE!"}},{"$error":"#VALUE!"},{"$error":"#VALUE!"},{"$error":"#VALUE!"},{"$f":"ThreePosition_Basic2($E$3,$E$5,$B$3:$C$3,$B$5:$C$5,B511,D511)","v":{"$error":"#VALUE!"}},{"$error":"#VALUE!"},{"$error":"#VALUE!"},{"$error":"#VALUE!"}]
[252,4.3982297150257104,{"$f":"Burmester($B$3:$C$3,$B$4:$C$4,$B$5:$C$5,$E$3,$E$4,$E$5,B512)","v":{"$error":"#VALUE!"}},{"$error":"#VALUE!"},{"$f":"ThreePosition_Basic2($E$3,$E$5,$B$3:$C$3,$B$5:$C$5,B512,C512)","v":{"$error":"#VALUE!"}},{"$error":"#VALUE!"},{"$error":"#VALUE!"},{"$error":"#VALUE!"},{"$f":"ThreePosition_Basic2($E$3,$E$5,$B$3:$C$3,$B$5:$C$5,B512,D512)","v":{"$error":"#VALUE!"}},{"$error":"#VALUE!"},{"$error":"#VALUE!"},{"$error":"#VALUE!"}]
[252.5,4.4069563612856815,{"$f":"Burmester($B$3:$C$3,$B$4:$C$4,$B$5:$C$5,$E$3,$E$4,$E$5,B513)","v":{"$error":"#VALUE!"}},{"$error":"#VALUE!"},{"$f":"ThreePosition_Basic2($E$3,$E$5,$B$3:$C$3,$B$5:$C$5,B513,C513)","v":{"$error":"#VALUE!"}},{"$error":"#VALUE!"},{"$error":"#VALUE!"},{"$error":"#VALUE!"},{"$f":"ThreePosition_Basic2($E$3,$E$5,$B$3:$C$3,$B$5:$C$5,B513,D513)","v":{"$error":"#VALUE!"}},{"$error":"#VALUE!"},{"$error":"#VALUE!"},{"$error":"#VALUE!"}]
[253,4.4156830075456535,{"$f":"Burmester($B$3:$C$3,$B$4:$C$4,$B$5:$C$5,$E$3,$E$4,$E$5,B514)","v":{"$error":"#VALUE!"}},{"$error":"#VALUE!"},{"$f":"ThreePosition_Basic2($E$3,$E$5,$B$3:$C$3,$B$5:$C$5,B514,C514)","v":{"$error":"#VALUE!"}},{"$error":"#VALUE!"},{"$error":"#VALUE!"},{"$error":"#VALUE!"},{"$f":"ThreePosition_Basic2($E$3,$E$5,$B$3:$C$3,$B$5:$C$5,B514,D514)","v":{"$error":"#VALUE!"}},{"$error":"#VALUE!"},{"$error":"#VALUE!"},{"$error":"#VALUE!"}]
[253.5,4.4244096538056255,{"$f":"Burmester($B$3:$C$3,$B$4:$C$4,$B$5:$C$5,$E$3,$E$4,$E$5,B515)","v":{"$error":"#VALUE!"}},{"$error":"#VALUE!"},{"$f":"ThreePosition_Basic2($E$3,$E$5,$B$3:$C$3,$B$5:$C$5,B515,C515)","v":{"$error":"#VALUE!"}},{"$error":"#VALUE!"},{"$error":"#VALUE!"},{"$error":"#VALUE!"},{"$f":"ThreePosition_Basic2($E$3,$E$5,$B$3:$C$3,$B$5:$C$5,B515,D515)","v":{"$error":"#VALUE!"}},{"$error":"#VALUE!"},{"$error":"#VALUE!"},{"$error":"#VALUE!"}]
[254,4.4331363000655974,{"$f":"Burmester($B$3:$C$3,$B$4:$C$4,$B$5:$C$5,$E$3,$E$4,$E$5,B516)","v":{"$error":"#VALUE!"}},{"$error":"#VALUE!"},{"$f":"ThreePosition_Basic2($E$3,$E$5,$B$3:$C$3,$B$5:$C$5,B516,C516)","v":{"$error":"#VALUE!"}},{"$error":"#VALUE!"},{"$error":"#VALUE!"},{"$error":"#VALUE!"},{"$f":"ThreePosition_Basic2($E$3,$E$5,$B$3:$C$3,$B$5:$C$5,B516,D516)","v":{"$error":"#VALUE!"}},{"$error":"#VALUE!"},{"$error":"#VALUE!"},{"$error":"#VALUE!"}]
[254.5,4.4418629463255686,{"$f":"Burmester($B$3:$C$3,$B$4:$C$4,$B$5:$C$5,$E$3,$E$4,$E$5,B517)","v":{"$error":"#VALUE!"}},{"$error":"#VALUE!"},{"$f":"ThreePosition_Basic2($E$3,$E$5,$B$3:$C$3,$B$5:$C$5,B517,C517)","v":{"$error":"#VALUE!"}},{"$error":"#VALUE!"},{"$error":"#VALUE!"},{"$error":"#VALUE!"},{"$f":"ThreePosition_Basic2($E$3,$E$5,$B$3:$C$3,$B$5:$C$5,B517,D517)","v":{"$error":"#VALUE!"}},{"$error":"#VALUE!"},{"$error":"#VALUE!"},{"$error":"#VALUE!"}]
[255,4.4505895925855405,{"$f":"Burmester($B$3:$C$3,$B$4:$C$4,$B$5:$C$5,$E$3,$E$4,$E$5,B518)","v":{"$error":"#VALUE!"}},{"$error":"#VALUE!"},{"$f":"ThreePosition_Basic2($E$3,$E$5,$B$3:$C$3,$B$5:$C$5,B518,C518)","v":{"$error":"#VALUE!"}},{"$error":"#VALUE!"},{"$error":"#VALUE!"},{"$error":"#VALUE!"},{"$f":"ThreePosition_Basic2($E$3,$E$5,$B$3:$C$3,$B$5:$C$5,B518,D518)","v":{"$error":"#VALUE!"}},{"$error":"#VALUE!"},{"$error":"#VALUE!"},{"$error":"#VALUE!"}]
[255.5,4.4593162388455116,{"$f":"Burmester($B$3:$C$3,$B$4:$C$4,$B$5:$C$5,$E$3,$E$4,$E$5,B519)","v":{"$error":"#VALUE!"}},{"$error":"#VALUE!"},{"$f":"ThreePosition_Basic2($E$3,$E$5,$B$3:$C$3,$B$5:$C$5,B519,C519)","v":{"$error":"#VALUE!"}},{"$error":"#VALUE!"},{"$error":"#VALUE!"},{"$error":"#VALUE!"},{"$f":"ThreePosition_Basic2($E$3,$E$5,$B$3:$C$3,$B$5:$C$5,B519,D519)","v":{"$error":"#VALUE!"}},{"$error":"#VALUE!"},{"$error":"#VALUE!"},{"$error":"#VALUE!"}]
[256,4.4680428851054836,{"$f":"Burmester($B$3:$C$3,$B$4:$C$4,$B$5:$C$5,$E$3,$E$4,$E$5,B520)","v":{"$error":"#VALUE!"}},{"$error":"#VALUE!"},{"$f":"ThreePosition_Basic2($E$3,$E$5,$B$3:$C$3,$B$5:$C$5,B520,C520)","v":{"$error":"#VALUE!"}},{"$error":"#VALUE!"},{"$error":"#VALUE!"},{"$error":"#VALUE!"},{"$f":"ThreePosition_Basic2($E$3,$E$5,$B$3:$C$3,$B$5:$C$5,B520,D520)","v":{"$error":"#VALUE!"}},{"$error":"#VALUE!"},{"$error":"#VALUE!"},{"$error":"#VALUE!"}]
[256.5,{"$f":"A521*PI()/180","v":4.4767695313654556},{"$f":"Burmester($B$3:$C$3,$B$4:$C$4,$B$5:$C$5,$E$3,$E$4,$E$5,B521)","v":{"$error":"#VALUE!"}},{"$error":"#VALUE!"},{"$f":"ThreePosition_Basic2($E$3,$E$5,$B$3:$C$3,$B$5:$C$5,B521,C521)","v":{"$error":"#VALUE!"}},{"$error":"#VALUE!"},{"$error":"#VALUE!"},{"$error":"#VALUE!"},{"$f":"ThreePosition_Basic2($E$3,$E$5,$B$3:$C$3,$B$5:$C$5,B521,D521)","v":{"$error":"#VALUE!"}},{"$error":"#VALUE!"},{"$error":"#VALUE!"},{"$error":"#VALUE!"}]
[257,4.4854961776254267,{"$f":"Burmester($B$3:$C$3,$B$4:$C$4,$B$5:$C$5,$E$3,$E$4,$E$5,B522)","v":{"$error":"#VALUE!"}},{"$error":"#VALUE!"},{"$f":"ThreePosition_Basic2($E$3,$E$5,$B$3:$C$3,$B$5:$C$5,B522,C522)","v":{"$error":"#VALUE!"}},{"$error":"#VALUE!"},{"$error":"#VALUE!"},{"$error":"#VALUE!"},{"$f":"ThreePosition_Basic2($E$3,$E$5,$B$3:$C$3,$B$5:$C$5,B522,D522)","v":{"$error":"#VALUE!"}},{"$error":"#VALUE!"},{"$error":"#VALUE!"},{"$error":"#VALUE!"}]
[257.5,4.4942228238853987,{"$f":"Burmester($B$3:$C$3,$B$4:$C$4,$B$5:$C$5,$E$3,$E$4,$E$5,B523)","v":{"$error":"#VALUE!"}},{"$error":"#VALUE!"},{"$f":"ThreePosition_Basic2($E$3,$E$5,$B$3:$C$3,$B$5:$C$5,B523,C523)","v":{"$error":"#VALUE!"}},{"$error":"#VALUE!"},{"$error":"#VALUE!"},{"$error":"#VALUE!"},{"$f":"ThreePosition_Basic2($E$3,$E$5,$B$3:$C$3,$B$5:$C$5,B523,D523)","v":{"$error":"#VALUE!"}},{"$error":"#VALUE!"},{"$error":"#VALUE!"},{"$error":"#VALUE!"}]
[258,4.5029494701453698,{"$f":"Burmester($B$3:$C$3,$B$4:$C$4,$B$5:$C$5,$E$3,$E$4,$E$5,B524)","v":{"$error":"#VALUE!"}},{"$error":"#VALUE!"},{"$f":"ThreePosition_Basic2($E$3,$E$5,$B$3:$C$3,$B$5:$C$5,B524,C524)","v":{"$error":"#VALUE!"}},{"$error":"#VALUE!"},{"$error":"#VALUE!"},{"$error":"#VALUE!"},{"$f":"ThreePosition_Basic2($E$3,$E$5,$B$3:$C$3,$B$5:$C$5,B524,D524)","v":{"$error":"#VALUE!"}},{"$error":"#VALUE!"},{"$error":"#VALUE!"},{"$error":"#VALUE!"}]
[258.5,4.5116761164053418,{"$f":"Burmester($B$3:$C$3,$B$4:$C$4,$B$5:$C$5,$E$3,$E$4,$E$5,B525)","v":{"$error":"#VALUE!"}},{"$error":"#VALUE!"},{"$f":"ThreePosition_Basic2($E$3,$E$5,$B$3:$C$3,$B$5:$C$5,B525,C525)","v":{"$error":"#VALUE!"}},{"$error":"#VALUE!"},{"$error":"#VALUE!"},{"$error":"#VALUE!"},{"$f":"ThreePosition_Basic2($E$3,$E$5,$B$3:$C$3,$B$5:$C$5,B525,D525)","v":{"$error":"#VALUE!"}},{"$error":"#VALUE!"},{"$error":"#VALUE!"},{"$error":"#VALUE!"}]
[259,4.5204027626653129,{"$f":"Burmester($B$3:$C$3,$B$4:$C$4,$B$5:$C$5,$E$3,$E$4,$E$5,B526)","v":{"$error":"#VALUE!"}},{"$error":"#VALUE!"},{"$f":"ThreePosition_Basic2($E$3,$E$5,$B$3:$C$3,$B$5:$C$5,B526,C526)","v":{"$error":"#VALUE!"}},{"$error":"#VALUE!"},{"$error":"#VALUE!"},{"$error":"#VALUE!"},{"$f":"ThreePosition_Basic2($E$3,$E$5,$B$3:$C$3,$B$5:$C$5,B526,D526)","v":{"$error":"#VALUE!"}},{"$error":"#VALUE!"},{"$error":"#VALUE!"},{"$error":"#VALUE!"}]
[259.5,4.5291294089252849,{"$f":"Burmester($B$3:$C$3,$B$4:$C$4,$B$5:$C$5,$E$3,$E$4,$E$5,B527)","v":{"$error":"#VALUE!"}},{"$error":"#VALUE!"},{"$f":"ThreePosition_Basic2($E$3,$E$5,$B$3:$C$3,$B$5:$C$5,B527,C527)","v":{"$error":"#VALUE!"}},{"$error":"#VALUE!"},{"$error":"#VALUE!"},{"$error":"#VALUE!"},{"$f":"ThreePosition_Basic2($E$3,$E$5,$B$3:$C$3,$B$5:$C$5,B527,D527)","v":{"$error":"#VALUE!"}},{"$error":"#VALUE!"},{"$error":"#VALUE!"},{"$error":"#VALUE!"}]
[260,4.5378560551852569,{"$f":"Burmester($B$3:$C$3,$B$4:$C$4,$B$5:$C$5,$E$3,$E$4,$E$5,B528)","v":{"$error":"#VALUE!"}},{"$error":"#VALUE!"},{"$f":"ThreePosition_Basic2($E$3,$E$5,$B$3:$C$3,$B$5:$C$5,B528,C528)","v":{"$error":"#VALUE!"}},{"$error":"#VALUE!"},{"$error":"#VALUE!"},{"$error":"#VALUE!"},{"$f":"ThreePosition_Basic2($E$3,$E$5,$B$3:$C$3,$B$5:$C$5,B528,D528)","v":{"$error":"#VALUE!"}},{"$error":"#VALUE!"},{"$error":"#VALUE!"},{"$error":"#VALUE!"}]
[260.5,4.546582701445228,{"$f":"Burmester($B$3:$C$3,$B$4:$C$4,$B$5:$C$5,$E$3,$E$4,$E$5,B529)","v":{"$error":"#VALUE!"}},{"$error":"#VALUE!"},{"$f":"ThreePosition_Basic2($E$3,$E$5,$B$3:$C$3,$B$5:$C$5,B529,C529)","v":{"$error":"#VALUE!"}},{"$error":"#VALUE!"},{"$error":"#VALUE!"},{"$error":"#VALUE!"},{"$f":"ThreePosition_Basic2($E$3,$E$5,$B$3:$C$3,$B$5:$C$5,B529,D529)","v":{"$error":"#VALUE!"}},{"$error":"#VALUE!"},{"$error":"#VALUE!"},{"$error":"#VALUE!"}]
[261,4.5553093477052,{"$f":"Burmester($B$3:$C$3,$B$4:$C$4,$B$5:$C$5,$E$3,$E$4,$E$5,B530)","v":{"$error":"#VALUE!"}},{"$error":"#VALUE!"},{"$f":"ThreePosition_Basic2($E$3,$E$5,$B$3:$C$3,$B$5:$C$5,B530,C530)","v":{"$error":"#VALUE!"}},{"$error":"#VALUE!"},{"$error":"#VALUE!"},{"$error":"#VALUE!"},{"$f":"ThreePosition_Basic2($E$3,$E$5,$B$3:$C$3,$B$5:$C$5,B530,D530)","v":{"$error":"#VALUE!"}},{"$error":"#VALUE!"},{"$error":"#VALUE!"},{"$error":"#VALUE!"}]
[261.5,4.564035993965172,{"$f":"Burmester($B$3:$C$3,$B$4:$C$4,$B$5:$C$5,$E$3,$E$4,$E$5,B531)","v":{"$error":"#VALUE!"}},{"$error":"#VALUE!"},{"$f":"ThreePosition_Basic2($E$3,$E$5,$B$3:$C$3,$B$5:$C$5,B531,C531)","v":{"$error":"#VALUE!"}},{"$error":"#VALUE!"},{"$error":"#VALUE!"},{"$error":"#VALUE!"},{"$f":"ThreePosition_Basic2($E$3,$E$5,$B$3:$C$3,$B$5:$C$5,B531,D531)","v":{"$error":"#VALUE!"}},{"$error":"#VALUE!"},{"$error":"#VALUE!"},{"$error":"#VALUE!"}]
[262,4.572762640225144,{"$f":"Burmester($B$3:$C$3,$B$4:$C$4,$B$5:$C$5,$E$3,$E$4,$E$5,B532)","v":{"$error":"#VALUE!"}},{"$error":"#VALUE!"},{"$f":"ThreePosition_Basic2($E$3,$E$5,$B$3:$C$3,$B$5:$C$5,B532,C532)","v":{"$error":"#VALUE!"}},{"$error":"#VALUE!"},{"$error":"#VALUE!"},{"$error":"#VALUE!"},{"$f":"ThreePosition_Basic2($E$3,$E$5,$B$3:$C$3,$B$5:$C$5,B532,D532)","v":{"$error":"#VALUE!"}},{"$error":"#VALUE!"},{"$error":"#VALUE!"},{"$error":"#VALUE!"}]
[262.5,4.5814892864851151,{"$f":"Burmester($B$3:$C$3,$B$4:$C$4,$B$5:$C$5,$E$3,$E$4,$E$5,B533)","v":{"$error":"#VALUE!"}},{"$error":"#VALUE!"},{"$f":"ThreePosition_Basic2($E$3,$E$5,$B$3:$C$3,$B$5:$C$5,B533,C533)","v":{"$error":"#VALUE!"}},{"$error":"#VALUE!"},{"$error":"#VALUE!"},{"$error":"#VALUE!"},{"$f":"ThreePosition_Basic2($E$3,$E$5,$B$3:$C$3,$B$5:$C$5,B533,D533)","v":{"$error":"#VALUE!"}},{"$error":"#VALUE!"},{"$error":"#VALUE!"},{"$error":"#VALUE!"}]
[263,4.5902159327450871,{"$f":"Burmester($B$3:$C$3,$B$4:$C$4,$B$5:$C$5,$E$3,$E$4,$E$5,B534)","v":{"$error":"#VALUE!"}},{"$error":"#VALUE!"},{"$f":"ThreePosition_Basic2($E$3,$E$5,$B$3:$C$3,$B$5:$C$5,B534,C534)","v":{"$error":"#VALUE!"}},{"$error":"#VALUE!"},{"$error":"#VALUE!"},{"$error":"#VALUE!"},{"$f":"ThreePosition_Basic2($E$3,$E$5,$B$3:$C$3,$B$5:$C$5,B534,D534)","v":{"$error":"#VALUE!"}},{"$error":"#VALUE!"},{"$error":"#VALUE!"},{"$error":"#VALUE!"}]
[263.5,4.5989425790050582,{"$f":"Burmester($B$3:$C$3,$B$4:$C$4,$B$5:$C$5,$E$3,$E$4,$E$5,B535)","v":{"$error":"#VALUE!"}},{"$error":"#VALUE!"},{"$f":"ThreePosition_Basic2($E$3,$E$5,$B$3:$C$3,$B$5:$C$5,B535,C535)","v":{"$error":"#VALUE!"}},{"$error":"#VALUE!"},{"$error":"#VALUE!"},{"$error":"#VALUE!"},{"$f":"ThreePosition_Basic2($E$3,$E$5,$B$3:$C$3,$B$5:$C$5,B535,D535)","v":{"$error":"#VALUE!"}},{"$error":"#VALUE!"},{"$error":"#VALUE!"},{"$error":"#VALUE!"}]
[264,4.6076692252650302,{"$f":"Burmester($B$3:$C$3,$B$4:$C$4,$B$5:$C$5,$E$3,$E$4,$E$5,B536)","v":{"$error":"#VALUE!"}},{"$error":"#VALUE!"},{"$f":"ThreePosition_Basic2($E$3,$E$5,$B$3:$C$3,$B$5:$C$5,B536,C536)","v":{"$error":"#VALUE!"}},{"$error":"#VALUE!"},{"$error":"#VALUE!"},{"$error":"#VALUE!"},{"$f":"ThreePosition_Basic2($E$3,$E$5,$B$3:$C$3,$B$5:$C$5,B536,D536)","v":{"$error":"#VALUE!"}},{"$error":"#VALUE!"},{"$error":"#VALUE!"},{"$error":"#VALUE!"}]
[264.5,4.6163958715250013,{"$f":"Burmester($B$3:$C$3,$B$4:$C$4,$B$5:$C$5,$E$3,$E$4,$E$5,B537)","v":{"$error":"#VALUE!"}},{"$error":"#VALUE!"},{"$f":"ThreePosition_Basic2($E$3,$E$5,$B$3:$C$3,$B$5:$C$5,B537,C537)","v":{"$error":"#VALUE!"}},{"$error":"#VALUE!"},{"$error":"#VALUE!"},{"$error":"#VALUE!"},{"$f":"ThreePosition_Basic2($E$3,$E$5,$B$3:$C$3,$B$5:$C$5,B537,D537)","v":{"$error":"#VALUE!"}},{"$error":"#VALUE!"},{"$error":"#VALUE!"},{"$error":"#VALUE!"}]
[265,4.6251225177849733,{"$f":"Burmester($B$3:$C$3,$B$4:$C$4,$B$5:$C$5,$E$3,$E$4,$E$5,B538)","v":{"$error":"#VALUE!"}},{"$error":"#VALUE!"},{"$f":"ThreePosition_Basic2($E$3,$E$5,$B$3:$C$3,$B$5:$C$5,B538,C538)","v":{"$error":"#VALUE!"}},{"$error":"#VALUE!"},{"$error":"#VALUE!"},{"$error":"#VALUE!"},{"$f":"ThreePosition_Basic2($E$3,$E$5,$B$3:$C$3,$B$5:$C$5,B538,D538)","v":{"$error":"#VALUE!"}},{"$error":"#VALUE!"},{"$error":"#VALUE!"},{"$error":"#VALUE!"}]
[265.5,4.6338491640449444,{"$f":"Burmester($B$3:$C$3,$B$4:$C$4,$B$5:$C$5,$E$3,$E$4,$E$5,B539)","v":{"$error":"#VALUE!"}},{"$error":"#VALUE!"},{"$f":"ThreePosition_Basic2($E$3,$E$5,$B$3:$C$3,$B$5:$C$5,B539,C539)","v":{"$error":"#VALUE!"}},{"$error":"#VALUE!"},{"$error":"#VALUE!"},{"$error":"#VALUE!"},{"$f":"ThreePosition_Basic2($E$3,$E$5,$B$3:$C$3,$B$5:$C$5,B539,D539)","v":{"$error":"#VALUE!"}},{"$error":"#VALUE!"},{"$error":"#VALUE!"},{"$error":"#VALUE!"}]
[266,4.6425758103049164,{"$f":"Burmester($B$3:$C$3,$B$4:$C$4,$B$5:$C$5,$E$3,$E$4,$E$5,B540)","v":{"$error":"#VALUE!"}},{"$error":"#VALUE!"},{"$f":"ThreePosition_Basic2($E$3,$E$5,$B$3:$C$3,$B$5:$C$5,B540,C540)","v":{"$error":"#VALUE!"}},{"$error":"#VALUE!"},{"$error":"#VALUE!"},{"$error":"#VALUE!"},{"$f":"ThreePosition_Basic2($E$3,$E$5,$B$3:$C$3,$B$5:$C$5,B540,D540)","v":{"$error":"#VALUE!"}},{"$error":"#VALUE!"},{"$error":"#VALUE!"},{"$error":"#VALUE!"}]
[266.5,4.6513024565648875,{"$f":"Burmester($B$3:$C$3,$B$4:$C$4,$B$5:$C$5,$E$3,$E$4,$E$5,B541)","v":{"$error":"#VALUE!"}},{"$error":"#VALUE!"},{"$f":"ThreePosition_Basic2($E$3,$E$5,$B$3:$C$3,$B$5:$C$5,B541,C541)","v":{"$error":"#VALUE!"}},{"$error":"#VALUE!"},{"$error":"#VALUE!"},{"$error":"#VALUE!"},{"$f":"ThreePosition_Basic2($E$3,$E$5,$B$3:$C$3,$B$5:$C$5,B541,D541)","v":{"$error":"#VALUE!"}},{"$error":"#VALUE!"},{"$error":"#VALUE!"},{"$error":"#VALUE!"}]
[267,4.6600291028248595,{"$f":"Burmester($B$3:$C$3,$B$4:$C$4,$B$5:$C$5,$E$3,$E$4,$E$5,B542)","v":{"$error":"#VALUE!"}},{"$error":"#VALUE!"},{"$f":"ThreePosition_Basic2($E$3,$E$5,$B$3:$C$3,$B$5:$C$5,B542,C542)","v":{"$error":"#VALUE!"}},{"$error":"#VALUE!"},{"$error":"#VALUE!"},{"$error":"#VALUE!"},{"$f":"ThreePosition_Basic2($E$3,$E$5,$B$3:$C$3,$B$5:$C$5,B542,D542)","v":{"$error":"#VALUE!"}},{"$error":"#VALUE!"},{"$error":"#VALUE!"},{"$error":"#VALUE!"}]
[267.5,4.6687557490848315,{"$f":"Burmester($B$3:$C$3,$B$4:$C$4,$B$5:$C$5,$E$3,$E$4,$E$5,B543)","v":{"$error":"#VALUE!"}},{"$error":"#VALUE!"},{"$f":"ThreePosition_Basic2($E$3,$E$5,$B$3:$C$3,$B$5:$C$5,B543,C543)","v":{"$error":"#VALUE!"}},{"$error":"#VALUE!"},{"$error":"#VALUE!"},{"$error":"#VALUE!"},{"$f":"ThreePosition_Basic2($E$3,$E$5,$B$3:$C$3,$B$5:$C$5,B543,D543)","v":{"$error":"#VALUE!"}},{"$error":"#VALUE!"},{"$error":"#VALUE!"},{"$error":"#VALUE!"}]
[268,4.6774823953448026,{"$f":"Burmester($B$3:$C$3,$B$4:$C$4,$B$5:$C$5,$E$3,$E$4,$E$5,B544)","v":{"$error":"#VALUE!"}},{"$error":"#VALUE!"},{"$f":"ThreePosition_Basic2($E$3,$E$5,$B$3:$C$3,$B$5:$C$5,B544,C544)","v":{"$error":"#VALUE!"}},{"$error":"#VALUE!"},{"$error":"#VALUE!"},{"$error":"#VALUE!"},{"$f":"ThreePosition_Basic2($E$3,$E$5,$B$3:$C$3,$B$5:$C$5,B544,D544)","v":{"$error":"#VALUE!"}},{"$error":"#VALUE!"},{"$error":"#VALUE!"},{"$error":"#VALUE!"}]
[268.5,4.6862090416047746,{"$f":"Burmester($B$3:$C$3,$B$4:$C$4,$B$5:$C$5,$E$3,$E$4,$E$5,B545)","v":{"$error":"#VALUE!"}},{"$error":"#VALUE!"},{"$f":"ThreePosition_Basic2($E$3,$E$5,$B$3:$C$3,$B$5:$C$5,B545,C545)","v":{"$error":"#VALUE!"}},{"$error":"#VALUE!"},{"$error":"#VALUE!"},{"$error":"#VALUE!"},{"$f":"ThreePosition_Basic2($E$3,$E$5,$B$3:$C$3,$B$5:$C$5,B545,D545)","v":{"$error":"#VALUE!"}},{"$error":"#VALUE!"},{"$error":"#VALUE!"},{"$error":"#VALUE!"}]
[269,4.6949356878647466,{"$f":"Burmester($B$3:$C$3,$B$4:$C$4,$B$5:$C$5,$E$3,$E$4,$E$5,B546)","v":{"$error":"#VALUE!"}},{"$error":"#VALUE!"},{"$f":"ThreePosition_Basic2($E$3,$E$5,$B$3:$C$3,$B$5:$C$5,B546,C546)","v":{"$error":"#VALUE!"}},{"$error":"#VALUE!"},{"$error":"#VALUE!"},{"$error":"#VALUE!"},{"$f":"ThreePosition_Basic2($E$3,$E$5,$B$3:$C$3,$B$5:$C$5,B546,D546)","v":{"$error":"#VALUE!"}},{"$error":"#VALUE!"},{"$error":"#VALUE!"},{"$error":"#VALUE!"}]
[269.5,4.7036623341247186,{"$f":"Burmester($B$3:$C$3,$B$4:$C$4,$B$5:$C$5,$E$3,$E$4,$E$5,B547)","v":{"$error":"#VALUE!"}},{"$error":"#VALUE!"},{"$f":"ThreePosition_Basic2($E$3,$E$5,$B$3:$C$3,$B$5:$C$5,B547,C547)","v":{"$error":"#VALUE!"}},{"$error":"#VALUE!"},{"$error":"#VALUE!"},{"$error":"#VALUE!"},{"$f":"ThreePosition_Basic2($E$3,$E$5,$B$3:$C$3,$B$5:$C$5,B547,D547)","v":{"$error":"#VALUE!"}},{"$error":"#VALUE!"},{"$error":"#VALUE!"},{"$error":"#VALUE!"}]
[270,4.7123889803846897,{"$f":"Burmester($B$3:$C$3,$B$4:$C$4,$B$5:$C$5,$E$3,$E$4,$E$5,B548)","v":{"$error":"#VALUE!"}},{"$error":"#VALUE!"},{"$f":"ThreePosition_Basic2($E$3,$E$5,$B$3:$C$3,$B$5:$C$5,B548,C548)","v":{"$error":"#VALUE!"}},{"$error":"#VALUE!"},{"$error":"#VALUE!"},{"$error":"#VALUE!"},{"$f":"ThreePosition_Basic2($E$3,$E$5,$B$3:$C$3,$B$5:$C$5,B548,D548)","v":{"$error":"#VALUE!"}},{"$error":"#VALUE!"},{"$error":"#VALUE!"},{"$error":"#VALUE!"}]
[270.5,4.7211156266446617,{"$f":"Burmester($B$3:$C$3,$B$4:$C$4,$B$5:$C$5,$E$3,$E$4,$E$5,B549)","v":{"$error":"#VALUE!"}},{"$error":"#VALUE!"},{"$f":"ThreePosition_Basic2($E$3,$E$5,$B$3:$C$3,$B$5:$C$5,B549,C549)","v":{"$error":"#VALUE!"}},{"$error":"#VALUE!"},{"$error":"#VALUE!"},{"$error":"#VALUE!"},{"$f":"ThreePosition_Basic2($E$3,$E$5,$B$3:$C$3,$B$5:$C$5,B549,D549)","v":{"$error":"#VALUE!"}},{"$error":"#VALUE!"},{"$error":"#VALUE!"},{"$error":"#VALUE!"}]
[271,4.7298422729046328,{"$f":"Burmester($B$3:$C$3,$B$4:$C$4,$B$5:$C$5,$E$3,$E$4,$E$5,B550)","v":{"$error":"#VALUE!"}},{"$error":"#VALUE!"},{"$f":"ThreePosition_Basic2($E$3,$E$5,$B$3:$C$3,$B$5:$C$5,B550,C550)","v":{"$error":"#VALUE!"}},{"$error":"#VALUE!"},{"$error":"#VALUE!"},{"$error":"#VALUE!"},{"$f":"ThreePosition_Basic2($E$3,$E$5,$B$3:$C$3,$B$5:$C$5,B550,D550)","v":{"$error":"#VALUE!"}},{"$error":"#VALUE!"},{"$error":"#VALUE!"},{"$error":"#VALUE!"}]
[271.5,4.7385689191646048,{"$f":"Burmester($B$3:$C$3,$B$4:$C$4,$B$5:$C$5,$E$3,$E$4,$E$5,B551)","v":{"$error":"#VALUE!"}},{"$error":"#VALUE!"},{"$f":"ThreePosition_Basic2($E$3,$E$5,$B$3:$C$3,$B$5:$C$5,B551,C551)","v":{"$error":"#VALUE!"}},{"$error":"#VALUE!"},{"$error":"#VALUE!"},{"$error":"#VALUE!"},{"$f":"ThreePosition_Basic2($E$3,$E$5,$B$3:$C$3,$B$5:$C$5,B551,D551)","v":{"$error":"#VALUE!"}},{"$error":"#VALUE!"},{"$error":"#VALUE!"},{"$error":"#VALUE!"}]
[272,4.7472955654245768,{"$f":"Burmester($B$3:$C$3,$B$4:$C$4,$B$5:$C$5,$E$3,$E$4,$E$5,B552)","v":{"$error":"#VALUE!"}},{"$error":"#VALUE!"},{"$f":"ThreePosition_Basic2($E$3,$E$5,$B$3:$C$3,$B$5:$C$5,B552,C552)","v":{"$error":"#VALUE!"}},{"$error":"#VALUE!"},{"$error":"#VALUE!"},{"$error":"#VALUE!"},{"$f":"ThreePosition_Basic2($E$3,$E$5,$B$3:$C$3,$B$5:$C$5,B552,D552)","v":{"$error":"#VALUE!"}},{"$error":"#VALUE!"},{"$error":"#VALUE!"},{"$error":"#VALUE!"}]
[272.5,4.7560222116845479,{"$f":"Burmester($B$3:$C$3,$B$4:$C$4,$B$5:$C$5,$E$3,$E$4,$E$5,B553)","v":{"$error":"#VALUE!"}},{"$error":"#VALUE!"},{"$f":"ThreePosition_Basic2($E$3,$E$5,$B$3:$C$3,$B$5:$C$5,B553,C553)","v":{"$error":"#VALUE!"}},{"$error":"#VALUE!"},{"$error":"#VALUE!"},{"$error":"#VALUE!"},{"$f":"ThreePosition_Basic2($E$3,$E$5,$B$3:$C$3,$B$5:$C$5,B553,D553)","v":{"$error":"#VALUE!"}},{"$error":"#VALUE!"},{"$error":"#VALUE!"},{"$error":"#VALUE!"}]
[273,4.7647488579445199,{"$f":"Burmester($B$3:$C$3,$B$4:$C$4,$B$5:$C$5,$E$3,$E$4,$E$5,B554)","v":{"$error":"#VALUE!"}},{"$error":"#VALUE!"},{"$f":"ThreePosition_Basic2($E$3,$E$5,$B$3:$C$3,$B$5:$C$5,B554,C554)","v":{"$error":"#VALUE!"}},{"$error":"#VALUE!"},{"$error":"#VALUE!"},{"$error":"#VALUE!"},{"$f":"ThreePosition_Basic2($E$3,$E$5,$B$3:$C$3,$B$5:$C$5,B554,D554)","v":{"$error":"#VALUE!"}},{"$error":"#VALUE!"},{"$error":"#VALUE!"},{"$error":"#VALUE!"}]
[273.5,4.773475504204491,{"$f":"Burmester($B$3:$C$3,$B$4:$C$4,$B$5:$C$5,$E$3,$E$4,$E$5,B555)","v":{"$error":"#VALUE!"}},{"$error":"#VALUE!"},{"$f":"ThreePosition_Basic2($E$3,$E$5,$B$3:$C$3,$B$5:$C$5,B555,C555)","v":{"$error":"#VALUE!"}},{"$error":"#VALUE!"},{"$error":"#VALUE!"},{"$error":"#VALUE!"},{"$f":"ThreePosition_Basic2($E$3,$E$5,$B$3:$C$3,$B$5:$C$5,B555,D555)","v":{"$error":"#VALUE!"}},{"$error":"#VALUE!"},{"$error":"#VALUE!"},{"$error":"#VALUE!"}]
[274,4.782202150464463,{"$f":"Burmester($B$3:$C$3,$B$4:$C$4,$B$5:$C$5,$E$3,$E$4,$E$5,B556)","v":{"$error":"#VALUE!"}},{"$error":"#VALUE!"},{"$f":"ThreePosition_Basic2($E$3,$E$5,$B$3:$C$3,$B$5:$C$5,B556,C556)","v":{"$error":"#VALUE!"}},{"$error":"#VALUE!"},{"$error":"#VALUE!"},{"$error":"#VALUE!"},{"$f":"ThreePosition_Basic2($E$3,$E$5,$B$3:$C$3,$B$5:$C$5,B556,D556)","v":{"$error":"#VALUE!"}},{"$error":"#VALUE!"},{"$error":"#VALUE!"},{"$error":"#VALUE!"}]
[274.5,4.7909287967244341,{"$f":"Burmester($B$3:$C$3,$B$4:$C$4,$B$5:$C$5,$E$3,$E$4,$E$5,B557)","v":{"$error":"#VALUE!"}},{"$error":"#VALUE!"},{"$f":"ThreePosition_Basic2($E$3,$E$5,$B$3:$C$3,$B$5:$C$5,B557,C557)","v":{"$error":"#VALUE!"}},{"$error":"#VALUE!"},{"$error":"#VALUE!"},{"$error":"#VALUE!"},{"$f":"ThreePosition_Basic2($E$3,$E$5,$B$3:$C$3,$B$5:$C$5,B557,D557)","v":{"$error":"#VALUE!"}},{"$error":"#VALUE!"},{"$error":"#VALUE!"},{"$error":"#VALUE!"}]
[275,4.7996554429844061,{"$f":"Burmester($B$3:$C$3,$B$4:$C$4,$B$5:$C$5,$E$3,$E$4,$E$5,B558)","v":{"$error":"#VALUE!"}},{"$error":"#VALUE!"},{"$f":"ThreePosition_Basic2($E$3,$E$5,$B$3:$C$3,$B$5:$C$5,B558,C558)","v":{"$error":"#VALUE!"}},{"$error":"#VALUE!"},{"$error":"#VALUE!"},{"$error":"#VALUE!"},{"$f":"ThreePosition_Basic2($E$3,$E$5,$B$3:$C$3,$B$5:$C$5,B558,D558)","v":{"$error":"#VALUE!"}},{"$error":"#VALUE!"},{"$error":"#VALUE!"},{"$error":"#VALUE!"}]
[275.5,4.8083820892443772,{"$f":"Burmester($B$3:$C$3,$B$4:$C$4,$B$5:$C$5,$E$3,$E$4,$E$5,B559)","v":{"$error":"#VALUE!"}},{"$error":"#VALUE!"},{"$f":"ThreePosition_Basic2($E$3,$E$5,$B$3:$C$3,$B$5:$C$5,B559,C559)","v":{"$error":"#VALUE!"}},{"$error":"#VALUE!"},{"$error":"#VALUE!"},{"$error":"#VALUE!"},{"$f":"ThreePosition_Basic2($E$3,$E$5,$B$3:$C$3,$B$5:$C$5,B559,D559)","v":{"$error":"#VALUE!"}},{"$error":"#VALUE!"},{"$error":"#VALUE!"},{"$error":"#VALUE!"}]
[276,4.8171087355043491,{"$f":"Burmester($B$3:$C$3,$B$4:$C$4,$B$5:$C$5,$E$3,$E$4,$E$5,B560)","v":{"$error":"#VALUE!"}},{"$error":"#VALUE!"},{"$f":"ThreePosition_Basic2($E$3,$E$5,$B$3:$C$3,$B$5:$C$5,B560,C560)","v":{"$error":"#VALUE!"}},{"$error":"#VALUE!"},{"$error":"#VALUE!"},{"$error":"#VALUE!"},{"$f":"ThreePosition_Basic2($E$3,$E$5,$B$3:$C$3,$B$5:$C$5,B560,D560)","v":{"$error":"#VALUE!"}},{"$error":"#VALUE!"},{"$error":"#VALUE!"},{"$error":"#VALUE!"}]
[276.5,4.8258353817643211,{"$f":"Burmester($B$3:$C$3,$B$4:$C$4,$B$5:$C$5,$E$3,$E$4,$E$5,B561)","v":{"$error":"#VALUE!"}},{"$error":"#VALUE!"},{"$f":"ThreePosition_Basic2($E$3,$E$5,$B$3:$C$3,$B$5:$C$5,B561,C561)","v":{"$error":"#VALUE!"}},{"$error":"#VALUE!"},{"$error":"#VALUE!"},{"$error":"#VALUE!"},{"$f":"ThreePosition_Basic2($E$3,$E$5,$B$3:$C$3,$B$5:$C$5,B561,D561)","v":{"$error":"#VALUE!"}},{"$error":"#VALUE!"},{"$error":"#VALUE!"},{"$error":"#VALUE!"}]
[277,4.8345620280242931,{"$f":"Burmester($B$3:$C$3,$B$4:$C$4,$B$5:$C$5,$E$3,$E$4,$E$5,B562)","v":{"$error":"#VALUE!"}},{"$error":"#VALUE!"},{"$f":"ThreePosition_Basic2($E$3,$E$5,$B$3:$C$3,$B$5:$C$5,B562,C562)","v":{"$error":"#VALUE!"}},{"$error":"#VALUE!"},{"$error":"#VALUE!"},{"$error":"#VALUE!"},{"$f":"ThreePosition_Basic2($E$3,$E$5,$B$3:$C$3,$B$5:$C$5,B562,D562)","v":{"$error":"#VALUE!"}},{"$error":"#VALUE!"},{"$error":"#VALUE!"},{"$error":"#VALUE!"}]
[277.5,4.8432886742842651,{"$f":"Burmester($B$3:$C$3,$B$4:$C$4,$B$5:$C$5,$E$3,$E$4,$E$5,B563)","v":{"$error":"#VALUE!"}},{"$error":"#VALUE!"},{"$f":"ThreePosition_Basic2($E$3,$E$5,$B$3:$C$3,$B$5:$C$5,B563,C563)","v":{"$error":"#VALUE!"}},{"$error":"#VALUE!"},{"$error":"#VALUE!"},{"$error":"#VALUE!"},{"$f":"ThreePosition_Basic2($E$3,$E$5,$B$3:$C$3,$B$5:$C$5,B563,D563)","v":{"$error":"#VALUE!"}},{"$error":"#VALUE!"},{"$error":"#VALUE!"},{"$error":"#VALUE!"}]
[278,4.8520153205442362,{"$f":"Burmester($B$3:$C$3,$B$4:$C$4,$B$5:$C$5,$E$3,$E$4,$E$5,B564)","v":{"$error":"#VALUE!"}},{"$error":"#VALUE!"},{"$f":"ThreePosition_Basic2($E$3,$E$5,$B$3:$C$3,$B$5:$C$5,B564,C564)","v":{"$error":"#VALUE!"}},{"$error":"#VALUE!"},{"$error":"#VALUE!"},{"$error":"#VALUE!"},{"$f":"ThreePosition_Basic2($E$3,$E$5,$B$3:$C$3,$B$5:$C$5,B564,D564)","v":{"$error":"#VALUE!"}},{"$error":"#VALUE!"},{"$error":"#VALUE!"},{"$error":"#VALUE!"}]
[278.5,4.8607419668042082,{"$f":"Burmester($B$3:$C$3,$B$4:$C$4,$B$5:$C$5,$E$3,$E$4,$E$5,B565)","v":{"$error":"#VALUE!"}},{"$error":"#VALUE!"},{"$f":"ThreePosition_Basic2($E$3,$E$5,$B$3:$C$3,$B$5:$C$5,B565,C565)","v":{"$error":"#VALUE!"}},{"$error":"#VALUE!"},{"$error":"#VALUE!"},{"$error":"#VALUE!"},{"$f":"ThreePosition_Basic2($E$3,$E$5,$B$3:$C$3,$B$5:$C$5,B565,D565)","v":{"$error":"#VALUE!"}},{"$error":"#VALUE!"},{"$error":"#VALUE!"},{"$error":"#VALUE!"}]
[279,4.8694686130641793,{"$f":"Burmester($B$3:$C$3,$B$4:$C$4,$B$5:$C$5,$E$3,$E$4,$E$5,B566)","v":{"$error":"#VALUE!"}},{"$error":"#VALUE!"},{"$f":"ThreePosition_Basic2($E$3,$E$5,$B$3:$C$3,$B$5:$C$5,B566,C566)","v":{"$error":"#VALUE!"}},{"$error":"#VALUE!"},{"$error":"#VALUE!"},{"$error":"#VALUE!"},{"$f":"ThreePosition_Basic2($E$3,$E$5,$B$3:$C$3,$B$5:$C$5,B566,D566)","v":{"$error":"#VALUE!"}},{"$error":"#VALUE!"},{"$error":"#VALUE!"},{"$error":"#VALUE!"}]
[279.5,4.8781952593241513,{"$f":"Burmester($B$3:$C$3,$B$4:$C$4,$B$5:$C$5,$E$3,$E$4,$E$5,B567)","v":{"$error":"#VALUE!"}},{"$error":"#VALUE!"},{"$f":"ThreePosition_Basic2($E$3,$E$5,$B$3:$C$3,$B$5:$C$5,B567,C567)","v":{"$error":"#VALUE!"}},{"$error":"#VALUE!"},{"$error":"#VALUE!"},{"$error":"#VALUE!"},{"$f":"ThreePosition_Basic2($E$3,$E$5,$B$3:$C$3,$B$5:$C$5,B567,D567)","v":{"$error":"#VALUE!"}},{"$error":"#VALUE!"},{"$error":"#VALUE!"},{"$error":"#VALUE!"}]
[280,4.8869219055841224,{"$f":"Burmester($B$3:$C$3,$B$4:$C$4,$B$5:$C$5,$E$3,$E$4,$E$5,B568)","v":{"$error":"#VALUE!"}},{"$error":"#VALUE!"},{"$f":"ThreePosition_Basic2($E$3,$E$5,$B$3:$C$3,$B$5:$C$5,B568,C568)","v":{"$error":"#VALUE!"}},{"$error":"#VALUE!"},{"$error":"#VALUE!"},{"$error":"#VALUE!"},{"$f":"ThreePosition_Basic2($E$3,$E$5,$B$3:$C$3,$B$5:$C$5,B568,D568)","v":{"$error":"#VALUE!"}},{"$error":"#VALUE!"},{"$error":"#VALUE!"},{"$error":"#VALUE!"}]
[280.5,4.8956485518440944,{"$f":"Burmester($B$3:$C$3,$B$4:$C$4,$B$5:$C$5,$E$3,$E$4,$E$5,B569)","v":{"$error":"#VALUE!"}},{"$error":"#VALUE!"},{"$f":"ThreePosition_Basic2($E$3,$E$5,$B$3:$C$3,$B$5:$C$5,B569,C569)","v":{"$error":"#VALUE!"}},{"$error":"#VALUE!"},{"$error":"#VALUE!"},{"$error":"#VALUE!"},{"$f":"ThreePosition_Basic2($E$3,$E$5,$B$3:$C$3,$B$5:$C$5,B569,D569)","v":{"$error":"#VALUE!"}},{"$error":"#VALUE!"},{"$error":"#VALUE!"},{"$error":"#VALUE!"}]
[281,4.9043751981040655,{"$f":"Burmester($B$3:$C$3,$B$4:$C$4,$B$5:$C$5,$E$3,$E$4,$E$5,B570)","v":{"$error":"#VALUE!"}},{"$error":"#VALUE!"},{"$f":"ThreePosition_Basic2($E$3,$E$5,$B$3:$C$3,$B$5:$C$5,B570,C570)","v":{"$error":"#VALUE!"}},{"$error":"#VALUE!"},{"$error":"#VALUE!"},{"$error":"#VALUE!"},{"$f":"ThreePosition_Basic2($E$3,$E$5,$B$3:$C$3,$B$5:$C$5,B570,D570)","v":{"$error":"#VALUE!"}},{"$error":"#VALUE!"},{"$error":"#VALUE!"},{"$error":"#VALUE!"}]
[281.5,4.9131018443640375,{"$f":"Burmester($B$3:$C$3,$B$4:$C$4,$B$5:$C$5,$E$3,$E$4,$E$5,B571)","v":{"$error":"#VALUE!"}},{"$error":"#VALUE!"},{"$f":"ThreePosition_Basic2($E$3,$E$5,$B$3:$C$3,$B$5:$C$5,B571,C571)","v":{"$error":"#VALUE!"}},{"$error":"#VALUE!"},{"$error":"#VALUE!"},{"$error":"#VALUE!"},{"$f":"ThreePosition_Basic2($E$3,$E$5,$B$3:$C$3,$B$5:$C$5,B571,D571)","v":{"$error":"#VALUE!"}},{"$error":"#VALUE!"},{"$error":"#VALUE!"},{"$error":"#VALUE!"}]
[282,4.9218284906240086,{"$f":"Burmester($B$3:$C$3,$B$4:$C$4,$B$5:$C$5,$E$3,$E$4,$E$5,B572)","v":{"$error":"#VALUE!"}},{"$error":"#VALUE!"},{"$f":"ThreePosition_Basic2($E$3,$E$5,$B$3:$C$3,$B$5:$C$5,B572,C572)","v":{"$error":"#VALUE!"}},{"$error":"#VALUE!"},{"$error":"#VALUE!"},{"$error":"#VALUE!"},{"$f":"ThreePosition_Basic2($E$3,$E$5,$B$3:$C$3,$B$5:$C$5,B572,D572)","v":{"$error":"#VALUE!"}},{"$error":"#VALUE!"},{"$error":"#VALUE!"},{"$error":"#VALUE!"}]
[282.5,4.9305551368839806,{"$f":"Burmester($B$3:$C$3,$B$4:$C$4,$B$5:$C$5,$E$3,$E$4,$E$5,B573)","v":{"$error":"#VALUE!"}},{"$error":"#VALUE!"},{"$f":"ThreePosition_Basic2($E$3,$E$5,$B$3:$C$3,$B$5:$C$5,B573,C573)","v":{"$error":"#VALUE!"}},{"$error":"#VALUE!"},{"$error":"#VALUE!"},{"$error":"#VALUE!"},{"$f":"ThreePosition_Basic2($E$3,$E$5,$B$3:$C$3,$B$5:$C$5,B573,D573)","v":{"$error":"#VALUE!"}},{"$error":"#VALUE!"},{"$error":"#VALUE!"},{"$error":"#VALUE!"}]
[283,4.9392817831439526,{"$f":"Burmester($B$3:$C$3,$B$4:$C$4,$B$5:$C$5,$E$3,$E$4,$E$5,B574)","v":{"$error":"#VALUE!"}},{"$error":"#VALUE!"},{"$f":"ThreePosition_Basic2($E$3,$E$5,$B$3:$C$3,$B$5:$C$5,B574,C574)","v":{"$error":"#VALUE!"}},{"$error":"#VALUE!"},{"$error":"#VALUE!"},{"$error":"#VALUE!"},{"$f":"ThreePosition_Basic2($E$3,$E$5,$B$3:$C$3,$B$5:$C$5,B574,D574)","v":{"$error":"#VALUE!"}},{"$error":"#VALUE!"},{"$error":"#VALUE!"},{"$error":"#VALUE!"}]
[283.5,4.9480084294039237,{"$f":"Burmester($B$3:$C$3,$B$4:$C$4,$B$5:$C$5,$E$3,$E$4,$E$5,B575)","v":{"$error":"#VALUE!"}},{"$error":"#VALUE!"},{"$f":"ThreePosition_Basic2($E$3,$E$5,$B$3:$C$3,$B$5:$C$5,B575,C575)","v":{"$error":"#VALUE!"}},{"$error":"#VALUE!"},{"$error":"#VALUE!"},{"$error":"#VALUE!"},{"$f":"ThreePosition_Basic2($E$3,$E$5,$B$3:$C$3,$B$5:$C$5,B575,D575)","v":{"$error":"#VALUE!"}},{"$error":"#VALUE!"},{"$error":"#VALUE!"},{"$error":"#VALUE!"}]
[284,4.9567350756638957,{"$f":"Burmester($B$3:$C$3,$B$4:$C$4,$B$5:$C$5,$E$3,$E$4,$E$5,B576)","v":{"$error":"#VALUE!"}},{"$error":"#VALUE!"},{"$f":"ThreePosition_Basic2($E$3,$E$5,$B$3:$C$3,$B$5:$C$5,B576,C576)","v":{"$error":"#VALUE!"}},{"$error":"#VALUE!"},{"$error":"#VALUE!"},{"$error":"#VALUE!"},{"$f":"ThreePosition_Basic2($E$3,$E$5,$B$3:$C$3,$B$5:$C$5,B576,D576)","v":{"$error":"#VALUE!"}},{"$error":"#VALUE!"},{"$error":"#VALUE!"},{"$error":"#VALUE!"}]
[284.5,4.9654617219238677,{"$f":"Burmester($B$3:$C$3,$B$4:$C$4,$B$5:$C$5,$E$3,$E$4,$E$5,B577)","v":{"$error":"#VALUE!"}},{"$error":"#VALUE!"},{"$f":"ThreePosition_Basic2($E$3,$E$5,$B$3:$C$3,$B$5:$C$5,B577,C577)","v":{"$error":"#VALUE!"}},{"$error":"#VALUE!"},{"$error":"#VALUE!"},{"$error":"#VALUE!"},{"$f":"ThreePosition_Basic2($E$3,$E$5,$B$3:$C$3,$B$5:$C$5,B577,D577)","v":{"$error":"#VALUE!"}},{"$error":"#VALUE!"},{"$error":"#VALUE!"},{"$error":"#VALUE!"}]
[285,4.9741883681838397,{"$f":"Burmester($B$3:$C$3,$B$4:$C$4,$B$5:$C$5,$E$3,$E$4,$E$5,B578)","v":{"$error":"#VALUE!"}},{"$error":"#VALUE!"},{"$f":"ThreePosition_Basic2($E$3,$E$5,$B$3:$C$3,$B$5:$C$5,B578,C578)","v":{"$error":"#VALUE!"}},{"$error":"#VALUE!"},{"$error":"#VALUE!"},{"$error":"#VALUE!"},{"$f":"ThreePosition_Basic2($E$3,$E$5,$B$3:$C$3,$B$5:$C$5,B578,D578)","v":{"$error":"#VALUE!"}},{"$error":"#VALUE!"},{"$error":"#VALUE!"},{"$error":"#VALUE!"}]
[285.5,4.9829150144438108,{"$f":"Burmester($B$3:$C$3,$B$4:$C$4,$B$5:$C$5,$E$3,$E$4,$E$5,B579)","v":{"$error":"#VALUE!"}},{"$error":"#VALUE!"},{"$f":"ThreePosition_Basic2($E$3,$E$5,$B$3:$C$3,$B$5:$C$5,B579,C579)","v":{"$error":"#VALUE!"}},{"$error":"#VALUE!"},{"$error":"#VALUE!"},{"$error":"#VALUE!"},{"$f":"ThreePosition_Basic2($E$3,$E$5,$B$3:$C$3,$B$5:$C$5,B579,D579)","v":{"$error":"#VALUE!"}},{"$error":"#VALUE!"},{"$error":"#VALUE!"},{"$error":"#VALUE!"}]
[286,4.9916416607037828,{"$f":"Burmester($B$3:$C$3,$B$4:$C$4,$B$5:$C$5,$E$3,$E$4,$E$5,B580)","v":{"$error":"#VALUE!"}},{"$error":"#VALUE!"},{"$f":"ThreePosition_Basic2($E$3,$E$5,$B$3:$C$3,$B$5:$C$5,B580,C580)","v":{"$error":"#VALUE!"}},{"$error":"#VALUE!"},{"$error":"#VALUE!"},{"$error":"#VALUE!"},{"$f":"ThreePosition_Basic2($E$3,$E$5,$B$3:$C$3,$B$5:$C$5,B580,D580)","v":{"$error":"#VALUE!"}},{"$error":"#VALUE!"},{"$error":"#VALUE!"},{"$error":"#VALUE!"}]
[286.5,5.0003683069637539,{"$f":"Burmester($B$3:$C$3,$B$4:$C$4,$B$5:$C$5,$E$3,$E$4,$E$5,B581)","v":{"$error":"#VALUE!"}},{"$error":"#VALUE!"},{"$f":"ThreePosition_Basic2($E$3,$E$5,$B$3:$C$3,$B$5:$C$5,B581,C581)","v":{"$error":"#VALUE!"}},{"$error":"#VALUE!"},{"$error":"#VALUE!"},{"$error":"#VALUE!"},{"$f":"ThreePosition_Basic2($E$3,$E$5,$B$3:$C$3,$B$5:$C$5,B581,D581)","v":{"$error":"#VALUE!"}},{"$error":"#VALUE!"},{"$error":"#VALUE!"},{"$error":"#VALUE!"}]
[287,5.0090949532237259,{"$f":"Burmester($B$3:$C$3,$B$4:$C$4,$B$5:$C$5,$E$3,$E$4,$E$5,B582)","v":{"$error":"#VALUE!"}},{"$error":"#VALUE!"},{"$f":"ThreePosition_Basic2($E$3,$E$5,$B$3:$C$3,$B$5:$C$5,B582,C582)","v":{"$error":"#VALUE!"}},{"$error":"#VALUE!"},{"$error":"#VALUE!"},{"$error":"#VALUE!"},{"$f":"ThreePosition_Basic2($E$3,$E$5,$B$3:$C$3,$B$5:$C$5,B582,D582)","v":{"$error":"#VALUE!"}},{"$error":"#VALUE!"},{"$error":"#VALUE!"},{"$error":"#VALUE!"}]
[287.5,5.017821599483697,{"$f":"Burmester($B$3:$C$3,$B$4:$C$4,$B$5:$C$5,$E$3,$E$4,$E$5,B583)","v":{"$error":"#VALUE!"}},{"$error":"#VALUE!"},{"$f":"ThreePosition_Basic2($E$3,$E$5,$B$3:$C$3,$B$5:$C$5,B583,C583)","v":{"$error":"#VALUE!"}},{"$error":"#VALUE!"},{"$error":"#VALUE!"},{"$error":"#VALUE!"},{"$f":"ThreePosition_Basic2($E$3,$E$5,$B$3:$C$3,$B$5:$C$5,B583,D583)","v":{"$error":"#VALUE!"}},{"$error":"#VALUE!"},{"$error":"#VALUE!"},{"$error":"#VALUE!"}]
[288,5.026548245743669,{"$f":"Burmester($B$3:$C$3,$B$4:$C$4,$B$5:$C$5,$E$3,$E$4,$E$5,B584)","v":{"$error":"#VALUE!"}},{"$error":"#VALUE!"},{"$f":"ThreePosition_Basic2($E$3,$E$5,$B$3:$C$3,$B$5:$C$5,B584,C584)","v":{"$error":"#VALUE!"}},{"$error":"#VALUE!"},{"$error":"#VALUE!"},{"$error":"#VALUE!"},{"$f":"ThreePosition_Basic2($E$3,$E$5,$B$3:$C$3,$B$5:$C$5,B584,D584)","v":{"$error":"#VALUE!"}},{"$error":"#VALUE!"},{"$error":"#VALUE!"},{"$error":"#VALUE!"}]
[288.5,{"$f":"A585*PI()/180","v":5.035274892003641},{"$f":"Burmester($B$3:$C$3,$B$4:$C$4,$B$5:$C$5,$E$3,$E$4,$E$5,B585)","v":{"$error":"#VALUE!"}},{"$error":"#VALUE!"},{"$f":"ThreePosition_Basic2($E$3,$E$5,$B$3:$C$3,$B$5:$C$5,B585,C585)","v":{"$error":"#VALUE!"}},{"$error":"#VALUE!"},{"$error":"#VALUE!"},{"$error":"#VALUE!"},{"$f":"ThreePosition_Basic2($E$3,$E$5,$B$3:$C$3,$B$5:$C$5,B585,D585)","v":{"$error":"#VALUE!"}},{"$error":"#VALUE!"},{"$error":"#VALUE!"},{"$error":"#VALUE!"}]
[289,5.0440015382636121,{"$f":"Burmester($B$3:$C$3,$B$4:$C$4,$B$5:$C$5,$E$3,$E$4,$E$5,B586)","v":{"$error":"#VALUE!"}},{"$error":"#VALUE!"},{"$f":"ThreePosition_Basic2($E$3,$E$5,$B$3:$C$3,$B$5:$C$5,B586,C586)","v":{"$error":"#VALUE!"}},{"$error":"#VALUE!"},{"$error":"#VALUE!"},{"$error":"#VALUE!"},{"$f":"ThreePosition_Basic2($E$3,$E$5,$B$3:$C$3,$B$5:$C$5,B586,D586)","v":{"$error":"#VALUE!"}},{"$error":"#VALUE!"},{"$error":"#VALUE!"},{"$error":"#VALUE!"}]
[289.5,5.0527281845235841,{"$f":"Burmester($B$3:$C$3,$B$4:$C$4,$B$5:$C$5,$E$3,$E$4,$E$5,B587)","v":{"$error":"#VALUE!"}},{"$error":"#VALUE!"},{"$f":"ThreePosition_Basic2($E$3,$E$5,$B$3:$C$3,$B$5:$C$5,B587,C587)","v":{"$error":"#VALUE!"}},{"$error":"#VALUE!"},{"$error":"#VALUE!"},{"$error":"#VALUE!"},{"$f":"ThreePosition_Basic2($E$3,$E$5,$B$3:$C$3,$B$5:$C$5,B587,D587)","v":{"$error":"#VALUE!"}},{"$error":"#VALUE!"},{"$error":"#VALUE!"},{"$error":"#VALUE!"}]
[290,5.0614548307835552,{"$f":"Burmester($B$3:$C$3,$B$4:$C$4,$B$5:$C$5,$E$3,$E$4,$E$5,B588)","v":{"$error":"#VALUE!"}},{"$error":"#VALUE!"},{"$f":"ThreePosition_Basic2($E$3,$E$5,$B$3:$C$3,$B$5:$C$5,B588,C588)","v":{"$error":"#VALUE!"}},{"$error":"#VALUE!"},{"$error":"#VALUE!"},{"$error":"#VALUE!"},{"$f":"ThreePosition_Basic2($E$3,$E$5,$B$3:$C$3,$B$5:$C$5,B588,D588)","v":{"$error":"#VALUE!"}},{"$error":"#VALUE!"},{"$error":"#VALUE!"},{"$error":"#VALUE!"}]
[290.5,5.0701814770435272,{"$f":"Burmester($B$3:$C$3,$B$4:$C$4,$B$5:$C$5,$E$3,$E$4,$E$5,B589)","v":{"$error":"#VALUE!"}},{"$error":"#VALUE!"},{"$f":"ThreePosition_Basic2($E$3,$E$5,$B$3:$C$3,$B$5:$C$5,B589,C589)","v":{"$error":"#VALUE!"}},{"$error":"#VALUE!"},{"$error":"#VALUE!"},{"$error":"#VALUE!"},{"$f":"ThreePosition_Basic2($E$3,$E$5,$B$3:$C$3,$B$5:$C$5,B589,D589)","v":{"$error":"#VALUE!"}},{"$error":"#VALUE!"},{"$error":"#VALUE!"},{"$error":"#VALUE!"}]
[291,5.0789081233034983,{"$f":"Burmester($B$3:$C$3,$B$4:$C$4,$B$5:$C$5,$E$3,$E$4,$E$5,B590)","v":{"$error":"#VALUE!"}},{"$error":"#VALUE!"},{"$f":"ThreePosition_Basic2($E$3,$E$5,$B$3:$C$3,$B$5:$C$5,B590,C590)","v":{"$error":"#VALUE!"}},{"$error":"#VALUE!"},{"$error":"#VALUE!"},{"$error":"#VALUE!"},{"$f":"ThreePosition_Basic2($E$3,$E$5,$B$3:$C$3,$B$5:$C$5,B590,D590)","v":{"$error":"#VALUE!"}},{"$error":"#VALUE!"},{"$error":"#VALUE!"},{"$error":"#VALUE!"}]
[291.5,5.0876347695634703,{"$f":"Burmester($B$3:$C$3,$B$4:$C$4,$B$5:$C$5,$E$3,$E$4,$E$5,B591)","v":{"$error":"#VALUE!"}},{"$error":"#VALUE!"},{"$f":"ThreePosition_Basic2($E$3,$E$5,$B$3:$C$3,$B$5:$C$5,B591,C591)","v":{"$error":"#VALUE!"}},{"$error":"#VALUE!"},{"$error":"#VALUE!"},{"$error":"#VALUE!"},{"$f":"ThreePosition_Basic2($E$3,$E$5,$B$3:$C$3,$B$5:$C$5,B591,D591)","v":{"$error":"#VALUE!"}},{"$error":"#VALUE!"},{"$error":"#VALUE!"},{"$error":"#VALUE!"}]
[292,5.0963614158234423,{"$f":"Burmester($B$3:$C$3,$B$4:$C$4,$B$5:$C$5,$E$3,$E$4,$E$5,B592)","v":{"$error":"#VALUE!"}},{"$error":"#VALUE!"},{"$f":"ThreePosition_Basic2($E$3,$E$5,$B$3:$C$3,$B$5:$C$5,B592,C592)","v":{"$error":"#VALUE!"}},{"$error":"#VALUE!"},{"$error":"#VALUE!"},{"$error":"#VALUE!"},{"$f":"ThreePosition_Basic2($E$3,$E$5,$B$3:$C$3,$B$5:$C$5,B592,D592)","v":{"$error":"#VALUE!"}},{"$error":"#VALUE!"},{"$error":"#VALUE!"},{"$error":"#VALUE!"}]
[292.5,5.1050880620834143,{"$f":"Burmester($B$3:$C$3,$B$4:$C$4,$B$5:$C$5,$E$3,$E$4,$E$5,B593)","v":{"$error":"#VALUE!"}},{"$error":"#VALUE!"},{"$f":"ThreePosition_Basic2($E$3,$E$5,$B$3:$C$3,$B$5:$C$5,B593,C593)","v":{"$error":"#VALUE!"}},{"$error":"#VALUE!"},{"$error":"#VALUE!"},{"$error":"#VALUE!"},{"$f":"ThreePosition_Basic2($E$3,$E$5,$B$3:$C$3,$B$5:$C$5,B593,D593)","v":{"$error":"#VALUE!"}},{"$error":"#VALUE!"},{"$error":"#VALUE!"},{"$error":"#VALUE!"}]
[293,5.1138147083433854,{"$f":"Burmester($B$3:$C$3,$B$4:$C$4,$B$5:$C$5,$E$3,$E$4,$E$5,B594)","v":{"$error":"#VALUE!"}},{"$error":"#VALUE!"},{"$f":"ThreePosition_Basic2($E$3,$E$5,$B$3:$C$3,$B$5:$C$5,B594,C594)","v":{"$error":"#VALUE!"}},{"$error":"#VALUE!"},{"$error":"#VALUE!"},{"$error":"#VALUE!"},{"$f":"ThreePosition_Basic2($E$3,$E$5,$B$3:$C$3,$B$5:$C$5,B594,D594)","v":{"$error":"#VALUE!"}},{"$error":"#VALUE!"},{"$error":"#VALUE!"},{"$error":"#VALUE!"}]
[293.5,5.1225413546033574,{"$f":"Burmester($B$3:$C$3,$B$4:$C$4,$B$5:$C$5,$E$3,$E$4,$E$5,B595)","v":{"$error":"#VALUE!"}},{"$error":"#VALUE!"},{"$f":"ThreePosition_Basic2($E$3,$E$5,$B$3:$C$3,$B$5:$C$5,B595,C595)","v":{"$error":"#VALUE!"}},{"$error":"#VALUE!"},{"$error":"#VALUE!"},{"$error":"#VALUE!"},{"$f":"ThreePosition_Basic2($E$3,$E$5,$B$3:$C$3,$B$5:$C$5,B595,D595)","v":{"$error":"#VALUE!"}},{"$error":"#VALUE!"},{"$error":"#VALUE!"},{"$error":"#VALUE!"}]
[294,5.1312680008633293,{"$f":"Burmester($B$3:$C$3,$B$4:$C$4,$B$5:$C$5,$E$3,$E$4,$E$5,B596)","v":{"$error":"#VALUE!"}},{"$error":"#VALUE!"},{"$f":"ThreePosition_Basic2($E$3,$E$5,$B$3:$C$3,$B$5:$C$5,B596,C596)","v":{"$error":"#VALUE!"}},{"$error":"#VALUE!"},{"$error":"#VALUE!"},{"$error":"#VALUE!"},{"$f":"ThreePosition_Basic2($E$3,$E$5,$B$3:$C$3,$B$5:$C$5,B596,D596)","v":{"$error":"#VALUE!"}},{"$error":"#VALUE!"},{"$error":"#VALUE!"},{"$error":"#VALUE!"}]
[294.5,5.1399946471233005,{"$f":"Burmester($B$3:$C$3,$B$4:$C$4,$B$5:$C$5,$E$3,$E$4,$E$5,B597)","v":{"$error":"#VALUE!"}},{"$error":"#VALUE!"},{"$f":"ThreePosition_Basic2($E$3,$E$5,$B$3:$C$3,$B$5:$C$5,B597,C597)","v":{"$error":"#VALUE!"}},{"$error":"#VALUE!"},{"$error":"#VALUE!"},{"$error":"#VALUE!"},{"$f":"ThreePosition_Basic2($E$3,$E$5,$B$3:$C$3,$B$5:$C$5,B597,D597)","v":{"$error":"#VALUE!"}},{"$error":"#VALUE!"},{"$error":"#VALUE!"},{"$error":"#VALUE!"}]
[295,5.1487212933832724,{"$f":"Burmester($B$3:$C$3,$B$4:$C$4,$B$5:$C$5,$E$3,$E$4,$E$5,B598)","v":{"$error":"#VALUE!"}},{"$error":"#VALUE!"},{"$f":"ThreePosition_Basic2($E$3,$E$5,$B$3:$C$3,$B$5:$C$5,B598,C598)","v":{"$error":"#VALUE!"}},{"$error":"#VALUE!"},{"$error":"#VALUE!"},{"$error":"#VALUE!"},{"$f":"ThreePosition_Basic2($E$3,$E$5,$B$3:$C$3,$B$5:$C$5,B598,D598)","v":{"$error":"#VALUE!"}},{"$error":"#VALUE!"},{"$error":"#VALUE!"},{"$error":"#VALUE!"}]
[295.5,5.1574479396432436,{"$f":"Burmester($B$3:$C$3,$B$4:$C$4,$B$5:$C$5,$E$3,$E$4,$E$5,B599)","v":{"$error":"#VALUE!"}},{"$error":"#VALUE!"},{"$f":"ThreePosition_Basic2($E$3,$E$5,$B$3:$C$3,$B$5:$C$5,B599,C599)","v":{"$error":"#VALUE!"}},{"$error":"#VALUE!"},{"$error":"#VALUE!"},{"$error":"#VALUE!"},{"$f":"ThreePosition_Basic2($E$3,$E$5,$B$3:$C$3,$B$5:$C$5,B599,D599)","v":{"$error":"#VALUE!"}},{"$error":"#VALUE!"},{"$error":"#VALUE!"},{"$error":"#VALUE!"}]
[296,5.1661745859032155,{"$f":"Burmester($B$3:$C$3,$B$4:$C$4,$B$5:$C$5,$E$3,$E$4,$E$5,B600)","v":{"$error":"#VALUE!"}},{"$error":"#VALUE!"},{"$f":"ThreePosition_Basic2($E$3,$E$5,$B$3:$C$3,$B$5:$C$5,B600,C600)","v":{"$error":"#VALUE!"}},{"$error":"#VALUE!"},{"$error":"#VALUE!"},{"$error":"#VALUE!"},{"$f":"ThreePosition_Basic2($E$3,$E$5,$B$3:$C$3,$B$5:$C$5,B600,D600)","v":{"$error":"#VALUE!"}},{"$error":"#VALUE!"},{"$error":"#VALUE!"},{"$error":"#VALUE!"}]
[296.5,5.1749012321631866,{"$f":"Burmester($B$3:$C$3,$B$4:$C$4,$B$5:$C$5,$E$3,$E$4,$E$5,B601)","v":{"$error":"#VALUE!"}},{"$error":"#VALUE!"},{"$f":"ThreePosition_Basic2($E$3,$E$5,$B$3:$C$3,$B$5:$C$5,B601,C601)","v":{"$error":"#VALUE!"}},{"$error":"#VALUE!"},{"$error":"#VALUE!"},{"$error":"#VALUE!"},{"$f":"ThreePosition_Basic2($E$3,$E$5,$B$3:$C$3,$B$5:$C$5,B601,D601)","v":{"$error":"#VALUE!"}},{"$error":"#VALUE!"},{"$error":"#VALUE!"},{"$error":"#VALUE!"}]
[297,5.1836278784231586,{"$f":"Burmester($B$3:$C$3,$B$4:$C$4,$B$5:$C$5,$E$3,$E$4,$E$5,B602)","v":{"$error":"#VALUE!"}},{"$error":"#VALUE!"},{"$f":"ThreePosition_Basic2($E$3,$E$5,$B$3:$C$3,$B$5:$C$5,B602,C602)","v":{"$error":"#VALUE!"}},{"$error":"#VALUE!"},{"$error":"#VALUE!"},{"$error":"#VALUE!"},{"$f":"ThreePosition_Basic2($E$3,$E$5,$B$3:$C$3,$B$5:$C$5,B602,D602)","v":{"$error":"#VALUE!"}},{"$error":"#VALUE!"},{"$error":"#VALUE!"},{"$error":"#VALUE!"}]
[297.5,5.1923545246831297,{"$f":"Burmester($B$3:$C$3,$B$4:$C$4,$B$5:$C$5,$E$3,$E$4,$E$5,B603)","v":{"$error":"#VALUE!"}},{"$error":"#VALUE!"},{"$f":"ThreePosition_Basic2($E$3,$E$5,$B$3:$C$3,$B$5:$C$5,B603,C603)","v":{"$error":"#VALUE!"}},{"$error":"#VALUE!"},{"$error":"#VALUE!"},{"$error":"#VALUE!"},{"$f":"ThreePosition_Basic2($E$3,$E$5,$B$3:$C$3,$B$5:$C$5,B603,D603)","v":{"$error":"#VALUE!"}},{"$error":"#VALUE!"},{"$error":"#VALUE!"},{"$error":"#VALUE!"}]
[298,5.2010811709431017,{"$f":"Burmester($B$3:$C$3,$B$4:$C$4,$B$5:$C$5,$E$3,$E$4,$E$5,B604)","v":{"$error":"#VALUE!"}},{"$error":"#VALUE!"},{"$f":"ThreePosition_Basic2($E$3,$E$5,$B$3:$C$3,$B$5:$C$5,B604,C604)","v":{"$error":"#VALUE!"}},{"$error":"#VALUE!"},{"$error":"#VALUE!"},{"$error":"#VALUE!"},{"$f":"ThreePosition_Basic2($E$3,$E$5,$B$3:$C$3,$B$5:$C$5,B604,D604)","v":{"$error":"#VALUE!"}},{"$error":"#VALUE!"},{"$error":"#VALUE!"},{"$error":"#VALUE!"}]
[298.5,5.2098078172030728,{"$f":"Burmester($B$3:$C$3,$B$4:$C$4,$B$5:$C$5,$E$3,$E$4,$E$5,B605)","v":{"$error":"#VALUE!"}},{"$error":"#VALUE!"},{"$f":"ThreePosition_Basic2($E$3,$E$5,$B$3:$C$3,$B$5:$C$5,B605,C605)","v":{"$error":"#VALUE!"}},{"$error":"#VALUE!"},{"$error":"#VALUE!"},{"$error":"#VALUE!"},{"$f":"ThreePosition_Basic2($E$3,$E$5,$B$3:$C$3,$B$5:$C$5,B605,D605)","v":{"$error":"#VALUE!"}},{"$error":"#VALUE!"},{"$error":"#VALUE!"},{"$error":"#VALUE!"}]
[299,5.2185344634630448,{"$f":"Burmester($B$3:$C$3,$B$4:$C$4,$B$5:$C$5,$E$3,$E$4,$E$5,B606)","v":{"$error":"#VALUE!"}},{"$error":"#VALUE!"},{"$f":"ThreePosition_Basic2($E$3,$E$5,$B$3:$C$3,$B$5:$C$5,B606,C606)","v":{"$error":"#VALUE!"}},{"$error":"#VALUE!"},{"$error":"#VALUE!"},{"$error":"#VALUE!"},{"$f":"ThreePosition_Basic2($E$3,$E$5,$B$3:$C$3,$B$5:$C$5,B606,D606)","v":{"$error":"#VALUE!"}},{"$error":"#VALUE!"},{"$error":"#VALUE!"},{"$error":"#VALUE!"}]
[299.5,5.2272611097230168,{"$f":"Burmester($B$3:$C$3,$B$4:$C$4,$B$5:$C$5,$E$3,$E$4,$E$5,B607)","v":{"$error":"#VALUE!"}},{"$error":"#VALUE!"},{"$f":"ThreePosition_Basic2($E$3,$E$5,$B$3:$C$3,$B$5:$C$5,B607,C607)","v":{"$error":"#VALUE!"}},{"$error":"#VALUE!"},{"$error":"#VALUE!"},{"$error":"#VALUE!"},{"$f":"ThreePosition_Basic2($E$3,$E$5,$B$3:$C$3,$B$5:$C$5,B607,D607)","v":{"$error":"#VALUE!"}},{"$error":"#VALUE!"},{"$error":"#VALUE!"},{"$error":"#VALUE!"}]
[300,5.2359877559829888,{"$f":"Burmester($B$3:$C$3,$B$4:$C$4,$B$5:$C$5,$E$3,$E$4,$E$5,B608)","v":{"$error":"#VALUE!"}},{"$error":"#VALUE!"},{"$f":"ThreePosition_Basic2($E$3,$E$5,$B$3:$C$3,$B$5:$C$5,B608,C608)","v":{"$error":"#VALUE!"}},{"$error":"#VALUE!"},{"$error":"#VALUE!"},{"$error":"#VALUE!"},{"$f":"ThreePosition_Basic2($E$3,$E$5,$B$3:$C$3,$B$5:$C$5,B608,D608)","v":{"$error":"#VALUE!"}},{"$error":"#VALUE!"},{"$error":"#VALUE!"},{"$error":"#VALUE!"}]
[300.5,5.2447144022429608,{"$f":"Burmester($B$3:$C$3,$B$4:$C$4,$B$5:$C$5,$E$3,$E$4,$E$5,B609)","v":{"$error":"#VALUE!"}},{"$error":"#VALUE!"},{"$f":"ThreePosition_Basic2($E$3,$E$5,$B$3:$C$3,$B$5:$C$5,B609,C609)","v":{"$error":"#VALUE!"}},{"$error":"#VALUE!"},{"$error":"#VALUE!"},{"$error":"#VALUE!"},{"$f":"ThreePosition_Basic2($E$3,$E$5,$B$3:$C$3,$B$5:$C$5,B609,D609)","v":{"$error":"#VALUE!"}},{"$error":"#VALUE!"},{"$error":"#VALUE!"},{"$error":"#VALUE!"}]
[301,5.2534410485029319,{"$f":"Burmester($B$3:$C$3,$B$4:$C$4,$B$5:$C$5,$E$3,$E$4,$E$5,B610)","v":{"$error":"#VALUE!"}},{"$error":"#VALUE!"},{"$f":"ThreePosition_Basic2($E$3,$E$5,$B$3:$C$3,$B$5:$C$5,B610,C610)","v":{"$error":"#VALUE!"}},{"$error":"#VALUE!"},{"$error":"#VALUE!"},{"$error":"#VALUE!"},{"$f":"ThreePosition_Basic2($E$3,$E$5,$B$3:$C$3,$B$5:$C$5,B610,D610)","v":{"$error":"#VALUE!"}},{"$error":"#VALUE!"},{"$error":"#VALUE!"},{"$error":"#VALUE!"}]
[301.5,5.2621676947629039,{"$f":"Burmester($B$3:$C$3,$B$4:$C$4,$B$5:$C$5,$E$3,$E$4,$E$5,B611)","v":{"$error":"#VALUE!"}},{"$error":"#VALUE!"},{"$f":"ThreePosition_Basic2($E$3,$E$5,$B$3:$C$3,$B$5:$C$5,B611,C611)","v":{"$error":"#VALUE!"}},{"$error":"#VALUE!"},{"$error":"#VALUE!"},{"$error":"#VALUE!"},{"$f":"ThreePosition_Basic2($E$3,$E$5,$B$3:$C$3,$B$5:$C$5,B611,D611)","v":{"$error":"#VALUE!"}},{"$error":"#VALUE!"},{"$error":"#VALUE!"},{"$error":"#VALUE!"}]
[302,5.270894341022875,{"$f":"Burmester($B$3:$C$3,$B$4:$C$4,$B$5:$C$5,$E$3,$E$4,$E$5,B612)","v":{"$error":"#VALUE!"}},{"$error":"#VALUE!"},{"$f":"ThreePosition_Basic2($E$3,$E$5,$B$3:$C$3,$B$5:$C$5,B612,C612)","v":{"$error":"#VALUE!"}},{"$error":"#VALUE!"},{"$error":"#VALUE!"},{"$error":"#VALUE!"},{"$f":"ThreePosition_Basic2($E$3,$E$5,$B$3:$C$3,$B$5:$C$5,B612,D612)","v":{"$error":"#VALUE!"}},{"$error":"#VALUE!"},{"$error":"#VALUE!"},{"$error":"#VALUE!"}]
[302.5,5.279620987282847,{"$f":"Burmester($B$3:$C$3,$B$4:$C$4,$B$5:$C$5,$E$3,$E$4,$E$5,B613)","v":{"$error":"#VALUE!"}},{"$error":"#VALUE!"},{"$f":"ThreePosition_Basic2($E$3,$E$5,$B$3:$C$3,$B$5:$C$5,B613,C613)","v":{"$error":"#VALUE!"}},{"$error":"#VALUE!"},{"$error":"#VALUE!"},{"$error":"#VALUE!"},{"$f":"ThreePosition_Basic2($E$3,$E$5,$B$3:$C$3,$B$5:$C$5,B613,D613)","v":{"$error":"#VALUE!"}},{"$error":"#VALUE!"},{"$error":"#VALUE!"},{"$error":"#VALUE!"}]
[303,5.2883476335428181,{"$f":"Burmester($B$3:$C$3,$B$4:$C$4,$B$5:$C$5,$E$3,$E$4,$E$5,B614)","v":{"$error":"#VALUE!"}},{"$error":"#VALUE!"},{"$f":"ThreePosition_Basic2($E$3,$E$5,$B$3:$C$3,$B$5:$C$5,B614,C614)","v":{"$error":"#VALUE!"}},{"$error":"#VALUE!"},{"$error":"#VALUE!"},{"$error":"#VALUE!"},{"$f":"ThreePosition_Basic2($E$3,$E$5,$B$3:$C$3,$B$5:$C$5,B614,D614)","v":{"$error":"#VALUE!"}},{"$error":"#VALUE!"},{"$error":"#VALUE!"},{"$error":"#VALUE!"}]
[303.5,5.2970742798027901,{"$f":"Burmester($B$3:$C$3,$B$4:$C$4,$B$5:$C$5,$E$3,$E$4,$E$5,B615)","v":{"$error":"#VALUE!"}},{"$error":"#VALUE!"},{"$f":"ThreePosition_Basic2($E$3,$E$5,$B$3:$C$3,$B$5:$C$5,B615,C615)","v":{"$error":"#VALUE!"}},{"$error":"#VALUE!"},{"$error":"#VALUE!"},{"$error":"#VALUE!"},{"$f":"ThreePosition_Basic2($E$3,$E$5,$B$3:$C$3,$B$5:$C$5,B615,D615)","v":{"$error":"#VALUE!"}},{"$error":"#VALUE!"},{"$error":"#VALUE!"},{"$error":"#VALUE!"}]
[304,5.3058009260627612,{"$f":"Burmester($B$3:$C$3,$B$4:$C$4,$B$5:$C$5,$E$3,$E$4,$E$5,B616)","v":{"$error":"#VALUE!"}},{"$error":"#VALUE!"},{"$f":"ThreePosition_Basic2($E$3,$E$5,$B$3:$C$3,$B$5:$C$5,B616,C616)","v":{"$error":"#VALUE!"}},{"$error":"#VALUE!"},{"$error":"#VALUE!"},{"$error":"#VALUE!"},{"$f":"ThreePosition_Basic2($E$3,$E$5,$B$3:$C$3,$B$5:$C$5,B616,D616)","v":{"$error":"#VALUE!"}},{"$error":"#VALUE!"},{"$error":"#VALUE!"},{"$error":"#VALUE!"}]
[304.5,5.3145275723227332,{"$f":"Burmester($B$3:$C$3,$B$4:$C$4,$B$5:$C$5,$E$3,$E$4,$E$5,B617)","v":{"$error":"#VALUE!"}},{"$error":"#VALUE!"},{"$f":"ThreePosition_Basic2($E$3,$E$5,$B$3:$C$3,$B$5:$C$5,B617,C617)","v":{"$error":"#VALUE!"}},{"$error":"#VALUE!"},{"$error":"#VALUE!"},{"$error":"#VALUE!"},{"$f":"ThreePosition_Basic2($E$3,$E$5,$B$3:$C$3,$B$5:$C$5,B617,D617)","v":{"$error":"#VALUE!"}},{"$error":"#VALUE!"},{"$error":"#VALUE!"},{"$error":"#VALUE!"}]
[305,5.3232542185827052,{"$f":"Burmester($B$3:$C$3,$B$4:$C$4,$B$5:$C$5,$E$3,$E$4,$E$5,B618)","v":{"$error":"#VALUE!"}},{"$error":"#VALUE!"},{"$f":"ThreePosition_Basic2($E$3,$E$5,$B$3:$C$3,$B$5:$C$5,B618,C618)","v":{"$error":"#VALUE!"}},{"$error":"#VALUE!"},{"$error":"#VALUE!"},{"$error":"#VALUE!"},{"$f":"ThreePosition_Basic2($E$3,$E$5,$B$3:$C$3,$B$5:$C$5,B618,D618)","v":{"$error":"#VALUE!"}},{"$error":"#VALUE!"},{"$error":"#VALUE!"},{"$error":"#VALUE!"}]
[305.5,5.3319808648426763,{"$f":"Burmester($B$3:$C$3,$B$4:$C$4,$B$5:$C$5,$E$3,$E$4,$E$5,B619)","v":{"$error":"#VALUE!"}},{"$error":"#VALUE!"},{"$f":"ThreePosition_Basic2($E$3,$E$5,$B$3:$C$3,$B$5:$C$5,B619,C619)","v":{"$error":"#VALUE!"}},{"$error":"#VALUE!"},{"$error":"#VALUE!"},{"$error":"#VALUE!"},{"$f":"ThreePosition_Basic2($E$3,$E$5,$B$3:$C$3,$B$5:$C$5,B619,D619)","v":{"$error":"#VALUE!"}},{"$error":"#VALUE!"},{"$error":"#VALUE!"},{"$error":"#VALUE!"}]
[306,5.3407075111026483,{"$f":"Burmester($B$3:$C$3,$B$4:$C$4,$B$5:$C$5,$E$3,$E$4,$E$5,B620)","v":{"$error":"#VALUE!"}},{"$error":"#VALUE!"},{"$f":"ThreePosition_Basic2($E$3,$E$5,$B$3:$C$3,$B$5:$C$5,B620,C620)","v":{"$error":"#VALUE!"}},{"$error":"#VALUE!"},{"$error":"#VALUE!"},{"$error":"#VALUE!"},{"$f":"ThreePosition_Basic2($E$3,$E$5,$B$3:$C$3,$B$5:$C$5,B620,D620)","v":{"$error":"#VALUE!"}},{"$error":"#VALUE!"},{"$error":"#VALUE!"},{"$error":"#VALUE!"}]
[306.5,5.3494341573626194,{"$f":"Burmester($B$3:$C$3,$B$4:$C$4,$B$5:$C$5,$E$3,$E$4,$E$5,B621)","v":{"$error":"#VALUE!"}},{"$error":"#VALUE!"},{"$f":"ThreePosition_Basic2($E$3,$E$5,$B$3:$C$3,$B$5:$C$5,B621,C621)","v":{"$error":"#VALUE!"}},{"$error":"#VALUE!"},{"$error":"#VALUE!"},{"$error":"#VALUE!"},{"$f":"ThreePosition_Basic2($E$3,$E$5,$B$3:$C$3,$B$5:$C$5,B621,D621)","v":{"$error":"#VALUE!"}},{"$error":"#VALUE!"},{"$error":"#VALUE!"},{"$error":"#VALUE!"}]
[307,5.3581608036225914,{"$f":"Burmester($B$3:$C$3,$B$4:$C$4,$B$5:$C$5,$E$3,$E$4,$E$5,B622)","v":{"$error":"#VALUE!"}},{"$error":"#VALUE!"},{"$f":"ThreePosition_Basic2($E$3,$E$5,$B$3:$C$3,$B$5:$C$5,B622,C622)","v":{"$error":"#VALUE!"}},{"$error":"#VALUE!"},{"$error":"#VALUE!"},{"$error":"#VALUE!"},{"$f":"ThreePosition_Basic2($E$3,$E$5,$B$3:$C$3,$B$5:$C$5,B622,D622)","v":{"$error":"#VALUE!"}},{"$error":"#VALUE!"},{"$error":"#VALUE!"},{"$error":"#VALUE!"}]
[307.5,5.3668874498825634,{"$f":"Burmester($B$3:$C$3,$B$4:$C$4,$B$5:$C$5,$E$3,$E$4,$E$5,B623)","v":{"$error":"#VALUE!"}},{"$error":"#VALUE!"},{"$f":"ThreePosition_Basic2($E$3,$E$5,$B$3:$C$3,$B$5:$C$5,B623,C623)","v":{"$error":"#VALUE!"}},{"$error":"#VALUE!"},{"$error":"#VALUE!"},{"$error":"#VALUE!"},{"$f":"ThreePosition_Basic2($E$3,$E$5,$B$3:$C$3,$B$5:$C$5,B623,D623)","v":{"$error":"#VALUE!"}},{"$error":"#VALUE!"},{"$error":"#VALUE!"},{"$error":"#VALUE!"}]
[308,5.3756140961425354,{"$f":"Burmester($B$3:$C$3,$B$4:$C$4,$B$5:$C$5,$E$3,$E$4,$E$5,B624)","v":{"$error":"#VALUE!"}},{"$error":"#VALUE!"},{"$f":"ThreePosition_Basic2($E$3,$E$5,$B$3:$C$3,$B$5:$C$5,B624,C624)","v":{"$error":"#VALUE!"}},{"$error":"#VALUE!"},{"$error":"#VALUE!"},{"$error":"#VALUE!"},{"$f":"ThreePosition_Basic2($E$3,$E$5,$B$3:$C$3,$B$5:$C$5,B624,D624)","v":{"$error":"#VALUE!"}},{"$error":"#VALUE!"},{"$error":"#VALUE!"},{"$error":"#VALUE!"}]
[308.5,5.3843407424025065,{"$f":"Burmester($B$3:$C$3,$B$4:$C$4,$B$5:$C$5,$E$3,$E$4,$E$5,B625)","v":{"$error":"#VALUE!"}},{"$error":"#VALUE!"},{"$f":"ThreePosition_Basic2($E$3,$E$5,$B$3:$C$3,$B$5:$C$5,B625,C625)","v":{"$error":"#VALUE!"}},{"$error":"#VALUE!"},{"$error":"#VALUE!"},{"$error":"#VALUE!"},{"$f":"ThreePosition_Basic2($E$3,$E$5,$B$3:$C$3,$B$5:$C$5,B625,D625)","v":{"$error":"#VALUE!"}},{"$error":"#VALUE!"},{"$error":"#VALUE!"},{"$error":"#VALUE!"}]
[309,5.3930673886624785,{"$f":"Burmester($B$3:$C$3,$B$4:$C$4,$B$5:$C$5,$E$3,$E$4,$E$5,B626)","v":{"$error":"#VALUE!"}},{"$error":"#VALUE!"},{"$f":"ThreePosition_Basic2($E$3,$E$5,$B$3:$C$3,$B$5:$C$5,B626,C626)","v":{"$error":"#VALUE!"}},{"$error":"#VALUE!"},{"$error":"#VALUE!"},{"$error":"#VALUE!"},{"$f":"ThreePosition_Basic2($E$3,$E$5,$B$3:$C$3,$B$5:$C$5,B626,D626)","v":{"$error":"#VALUE!"}},{"$error":"#VALUE!"},{"$error":"#VALUE!"},{"$error":"#VALUE!"}]
[309.5,5.4017940349224505,{"$f":"Burmester($B$3:$C$3,$B$4:$C$4,$B$5:$C$5,$E$3,$E$4,$E$5,B627)","v":{"$error":"#VALUE!"}},{"$error":"#VALUE!"},{"$f":"ThreePosition_Basic2($E$3,$E$5,$B$3:$C$3,$B$5:$C$5,B627,C627)","v":{"$error":"#VALUE!"}},{"$error":"#VALUE!"},{"$error":"#VALUE!"},{"$error":"#VALUE!"},{"$f":"ThreePosition_Basic2($E$3,$E$5,$B$3:$C$3,$B$5:$C$5,B627,D627)","v":{"$error":"#VALUE!"}},{"$error":"#VALUE!"},{"$error":"#VALUE!"},{"$error":"#VALUE!"}]
[310,5.4105206811824216,{"$f":"Burmester($B$3:$C$3,$B$4:$C$4,$B$5:$C$5,$E$3,$E$4,$E$5,B628)","v":{"$error":"#VALUE!"}},{"$error":"#VALUE!"},{"$f":"ThreePosition_Basic2($E$3,$E$5,$B$3:$C$3,$B$5:$C$5,B628,C628)","v":{"$error":"#VALUE!"}},{"$error":"#VALUE!"},{"$error":"#VALUE!"},{"$error":"#VALUE!"},{"$f":"ThreePosition_Basic2($E$3,$E$5,$B$3:$C$3,$B$5:$C$5,B628,D628)","v":{"$error":"#VALUE!"}},{"$error":"#VALUE!"},{"$error":"#VALUE!"},{"$error":"#VALUE!"}]
[310.5,5.4192473274423936,{"$f":"Burmester($B$3:$C$3,$B$4:$C$4,$B$5:$C$5,$E$3,$E$4,$E$5,B629)","v":{"$error":"#VALUE!"}},{"$error":"#VALUE!"},{"$f":"ThreePosition_Basic2($E$3,$E$5,$B$3:$C$3,$B$5:$C$5,B629,C629)","v":{"$error":"#VALUE!"}},{"$error":"#VALUE!"},{"$error":"#VALUE!"},{"$error":"#VALUE!"},{"$f":"ThreePosition_Basic2($E$3,$E$5,$B$3:$C$3,$B$5:$C$5,B629,D629)","v":{"$error":"#VALUE!"}},{"$error":"#VALUE!"},{"$error":"#VALUE!"},{"$error":"#VALUE!"}]
[311,5.4279739737023647,{"$f":"Burmester($B$3:$C$3,$B$4:$C$4,$B$5:$C$5,$E$3,$E$4,$E$5,B630)","v":{"$error":"#VALUE!"}},{"$error":"#VALUE!"},{"$f":"ThreePosition_Basic2($E$3,$E$5,$B$3:$C$3,$B$5:$C$5,B630,C630)","v":{"$error":"#VALUE!"}},{"$error":"#VALUE!"},{"$error":"#VALUE!"},{"$error":"#VALUE!"},{"$f":"ThreePosition_Basic2($E$3,$E$5,$B$3:$C$3,$B$5:$C$5,B630,D630)","v":{"$error":"#VALUE!"}},{"$error":"#VALUE!"},{"$error":"#VALUE!"},{"$error":"#VALUE!"}]
[311.5,5.4367006199623367,{"$f":"Burmester($B$3:$C$3,$B$4:$C$4,$B$5:$C$5,$E$3,$E$4,$E$5,B631)","v":{"$error":"#VALUE!"}},{"$error":"#VALUE!"},{"$f":"ThreePosition_Basic2($E$3,$E$5,$B$3:$C$3,$B$5:$C$5,B631,C631)","v":{"$error":"#VALUE!"}},{"$error":"#VALUE!"},{"$error":"#VALUE!"},{"$error":"#VALUE!"},{"$f":"ThreePosition_Basic2($E$3,$E$5,$B$3:$C$3,$B$5:$C$5,B631,D631)","v":{"$error":"#VALUE!"}},{"$error":"#VALUE!"},{"$error":"#VALUE!"},{"$error":"#VALUE!"}]
[312,5.4454272662223078,{"$f":"Burmester($B$3:$C$3,$B$4:$C$4,$B$5:$C$5,$E$3,$E$4,$E$5,B632)","v":{"$error":"#VALUE!"}},{"$error":"#VALUE!"},{"$f":"ThreePosition_Basic2($E$3,$E$5,$B$3:$C$3,$B$5:$C$5,B632,C632)","v":{"$error":"#VALUE!"}},{"$error":"#VALUE!"},{"$error":"#VALUE!"},{"$error":"#VALUE!"},{"$f":"ThreePosition_Basic2($E$3,$E$5,$B$3:$C$3,$B$5:$C$5,B632,D632)","v":{"$error":"#VALUE!"}},{"$error":"#VALUE!"},{"$error":"#VALUE!"},{"$error":"#VALUE!"}]
[312.5,5.4541539124822798,{"$f":"Burmester($B$3:$C$3,$B$4:$C$4,$B$5:$C$5,$E$3,$E$4,$E$5,B633)","v":{"$error":"#VALUE!"}},{"$error":"#VALUE!"},{"$f":"ThreePosition_Basic2($E$3,$E$5,$B$3:$C$3,$B$5:$C$5,B633,C633)","v":{"$error":"#VALUE!"}},{"$error":"#VALUE!"},{"$error":"#VALUE!"},{"$error":"#VALUE!"},{"$f":"ThreePosition_Basic2($E$3,$E$5,$B$3:$C$3,$B$5:$C$5,B633,D633)","v":{"$error":"#VALUE!"}},{"$error":"#VALUE!"},{"$error":"#VALUE!"},{"$error":"#VALUE!"}]
[313,5.4628805587422509,{"$f":"Burmester($B$3:$C$3,$B$4:$C$4,$B$5:$C$5,$E$3,$E$4,$E$5,B634)","v":{"$error":"#VALUE!"}},{"$error":"#VALUE!"},{"$f":"ThreePosition_Basic2($E$3,$E$5,$B$3:$C$3,$B$5:$C$5,B634,C634)","v":{"$error":"#VALUE!"}},{"$error":"#VALUE!"},{"$error":"#VALUE!"},{"$error":"#VALUE!"},{"$f":"ThreePosition_Basic2($E$3,$E$5,$B$3:$C$3,$B$5:$C$5,B634,D634)","v":{"$error":"#VALUE!"}},{"$error":"#VALUE!"},{"$error":"#VALUE!"},{"$error":"#VALUE!"}]
[313.5,5.4716072050022229,{"$f":"Burmester($B$3:$C$3,$B$4:$C$4,$B$5:$C$5,$E$3,$E$4,$E$5,B635)","v":{"$error":"#VALUE!"}},{"$error":"#VALUE!"},{"$f":"ThreePosition_Basic2($E$3,$E$5,$B$3:$C$3,$B$5:$C$5,B635,C635)","v":{"$error":"#VALUE!"}},{"$error":"#VALUE!"},{"$error":"#VALUE!"},{"$error":"#VALUE!"},{"$f":"ThreePosition_Basic2($E$3,$E$5,$B$3:$C$3,$B$5:$C$5,B635,D635)","v":{"$error":"#VALUE!"}},{"$error":"#VALUE!"},{"$error":"#VALUE!"},{"$error":"#VALUE!"}]
[314,5.480333851262194,{"$f":"Burmester($B$3:$C$3,$B$4:$C$4,$B$5:$C$5,$E$3,$E$4,$E$5,B636)","v":{"$error":"#VALUE!"}},{"$error":"#VALUE!"},{"$f":"ThreePosition_Basic2($E$3,$E$5,$B$3:$C$3,$B$5:$C$5,B636,C636)","v":{"$error":"#VALUE!"}},{"$error":"#VALUE!"},{"$error":"#VALUE!"},{"$error":"#VALUE!"},{"$f":"ThreePosition_Basic2($E$3,$E$5,$B$3:$C$3,$B$5:$C$5,B636,D636)","v":{"$error":"#VALUE!"}},{"$error":"#VALUE!"},{"$error":"#VALUE!"},{"$error":"#VALUE!"}]
[314.5,5.489060497522166,{"$f":"Burmester($B$3:$C$3,$B$4:$C$4,$B$5:$C$5,$E$3,$E$4,$E$5,B637)","v":{"$error":"#VALUE!"}},{"$error":"#VALUE!"},{"$f":"ThreePosition_Basic2($E$3,$E$5,$B$3:$C$3,$B$5:$C$5,B637,C637)","v":{"$error":"#VALUE!"}},{"$error":"#VALUE!"},{"$error":"#VALUE!"},{"$error":"#VALUE!"},{"$f":"ThreePosition_Basic2($E$3,$E$5,$B$3:$C$3,$B$5:$C$5,B637,D637)","v":{"$error":"#VALUE!"}},{"$error":"#VALUE!"},{"$error":"#VALUE!"},{"$error":"#VALUE!"}]
[315,5.497787143782138,{"$f":"Burmester($B$3:$C$3,$B$4:$C$4,$B$5:$C$5,$E$3,$E$4,$E$5,B638)","v":{"$error":"#VALUE!"}},{"$error":"#VALUE!"},{"$f":"ThreePosition_Basic2($E$3,$E$5,$B$3:$C$3,$B$5:$C$5,B638,C638)","v":{"$error":"#VALUE!"}},{"$error":"#VALUE!"},{"$error":"#VALUE!"},{"$error":"#VALUE!"},{"$f":"ThreePosition_Basic2($E$3,$E$5,$B$3:$C$3,$B$5:$C$5,B638,D638)","v":{"$error":"#VALUE!"}},{"$error":"#VALUE!"},{"$error":"#VALUE!"},{"$error":"#VALUE!"}]
[315.5,5.5065137900421099,{"$f":"Burmester($B$3:$C$3,$B$4:$C$4,$B$5:$C$5,$E$3,$E$4,$E$5,B639)","v":{"$error":"#VALUE!"}},{"$error":"#VALUE!"},{"$f":"ThreePosition_Basic2($E$3,$E$5,$B$3:$C$3,$B$5:$C$5,B639,C639)","v":{"$error":"#VALUE!"}},{"$error":"#VALUE!"},{"$error":"#VALUE!"},{"$error":"#VALUE!"},{"$f":"ThreePosition_Basic2($E$3,$E$5,$B$3:$C$3,$B$5:$C$5,B639,D639)","v":{"$error":"#VALUE!"}},{"$error":"#VALUE!"},{"$error":"#VALUE!"},{"$error":"#VALUE!"}]
[316,5.5152404363020811,{"$f":"Burmester($B$3:$C$3,$B$4:$C$4,$B$5:$C$5,$E$3,$E$4,$E$5,B640)","v":{"$error":"#VALUE!"}},{"$error":"#VALUE!"},{"$f":"ThreePosition_Basic2($E$3,$E$5,$B$3:$C$3,$B$5:$C$5,B640,C640)","v":{"$error":"#VALUE!"}},{"$error":"#VALUE!"},{"$error":"#VALUE!"},{"$error":"#VALUE!"},{"$f":"ThreePosition_Basic2($E$3,$E$5,$B$3:$C$3,$B$5:$C$5,B640,D640)","v":{"$error":"#VALUE!"}},{"$error":"#VALUE!"},{"$error":"#VALUE!"},{"$error":"#VALUE!"}]
[316.5,5.523967082562053,{"$f":"Burmester($B$3:$C$3,$B$4:$C$4,$B$5:$C$5,$E$3,$E$4,$E$5,B641)","v":{"$error":"#VALUE!"}},{"$error":"#VALUE!"},{"$f":"ThreePosition_Basic2($E$3,$E$5,$B$3:$C$3,$B$5:$C$5,B641,C641)","v":{"$error":"#VALUE!"}},{"$error":"#VALUE!"},{"$error":"#VALUE!"},{"$error":"#VALUE!"},{"$f":"ThreePosition_Basic2($E$3,$E$5,$B$3:$C$3,$B$5:$C$5,B641,D641)","v":{"$error":"#VALUE!"}},{"$error":"#VALUE!"},{"$error":"#VALUE!"},{"$error":"#VALUE!"}]
[317,5.532693728822025,{"$f":"Burmester($B$3:$C$3,$B$4:$C$4,$B$5:$C$5,$E$3,$E$4,$E$5,B642)","v":{"$error":"#VALUE!"}},{"$error":"#VALUE!"},{"$f":"ThreePosition_Basic2($E$3,$E$5,$B$3:$C$3,$B$5:$C$5,B642,C642)","v":{"$error":"#VALUE!"}},{"$error":"#VALUE!"},{"$error":"#VALUE!"},{"$error":"#VALUE!"},{"$f":"ThreePosition_Basic2($E$3,$E$5,$B$3:$C$3,$B$5:$C$5,B642,D642)","v":{"$error":"#VALUE!"}},{"$error":"#VALUE!"},{"$error":"#VALUE!"},{"$error":"#VALUE!"}]
[317.5,5.5414203750819961,{"$f":"Burmester($B$3:$C$3,$B$4:$C$4,$B$5:$C$5,$E$3,$E$4,$E$5,B643)","v":{"$error":"#VALUE!"}},{"$error":"#VALUE!"},{"$f":"ThreePosition_Basic2($E$3,$E$5,$B$3:$C$3,$B$5:$C$5,B643,C643)","v":{"$error":"#VALUE!"}},{"$error":"#VALUE!"},{"$error":"#VALUE!"},{"$error":"#VALUE!"},{"$f":"ThreePosition_Basic2($E$3,$E$5,$B$3:$C$3,$B$5:$C$5,B643,D643)","v":{"$error":"#VALUE!"}},{"$error":"#VALUE!"},{"$error":"#VALUE!"},{"$error":"#VALUE!"}]
[318,5.5501470213419681,{"$f":"Burmester($B$3:$C$3,$B$4:$C$4,$B$5:$C$5,$E$3,$E$4,$E$5,B644)","v":{"$error":"#VALUE!"}},{"$error":"#VALUE!"},{"$f":"ThreePosition_Basic2($E$3,$E$5,$B$3:$C$3,$B$5:$C$5,B644,C644)","v":{"$error":"#VALUE!"}},{"$error":"#VALUE!"},{"$error":"#VALUE!"},{"$error":"#VALUE!"},{"$f":"ThreePosition_Basic2($E$3,$E$5,$B$3:$C$3,$B$5:$C$5,B644,D644)","v":{"$error":"#VALUE!"}},{"$error":"#VALUE!"},{"$error":"#VALUE!"},{"$error":"#VALUE!"}]
[318.5,5.5588736676019392,{"$f":"Burmester($B$3:$C$3,$B$4:$C$4,$B$5:$C$5,$E$3,$E$4,$E$5,B645)","v":{"$error":"#VALUE!"}},{"$error":"#VALUE!"},{"$f":"ThreePosition_Basic2($E$3,$E$5,$B$3:$C$3,$B$5:$C$5,B645,C645)","v":{"$error":"#VALUE!"}},{"$error":"#VALUE!"},{"$error":"#VALUE!"},{"$error":"#VALUE!"},{"$f":"ThreePosition_Basic2($E$3,$E$5,$B$3:$C$3,$B$5:$C$5,B645,D645)","v":{"$error":"#VALUE!"}},{"$error":"#VALUE!"},{"$error":"#VALUE!"},{"$error":"#VALUE!"}]
[319,5.5676003138619112,{"$f":"Burmester($B$3:$C$3,$B$4:$C$4,$B$5:$C$5,$E$3,$E$4,$E$5,B646)","v":{"$error":"#VALUE!"}},{"$error":"#VALUE!"},{"$f":"ThreePosition_Basic2($E$3,$E$5,$B$3:$C$3,$B$5:$C$5,B646,C646)","v":{"$error":"#VALUE!"}},{"$error":"#VALUE!"},{"$error":"#VALUE!"},{"$error":"#VALUE!"},{"$f":"ThreePosition_Basic2($E$3,$E$5,$B$3:$C$3,$B$5:$C$5,B646,D646)","v":{"$error":"#VALUE!"}},{"$error":"#VALUE!"},{"$error":"#VALUE!"},{"$error":"#VALUE!"}]
[319.5,5.5763269601218823,{"$f":"Burmester($B$3:$C$3,$B$4:$C$4,$B$5:$C$5,$E$3,$E$4,$E$5,B647)","v":{"$error":"#VALUE!"}},{"$error":"#VALUE!"},{"$f":"ThreePosition_Basic2($E$3,$E$5,$B$3:$C$3,$B$5:$C$5,B647,C647)","v":{"$error":"#VALUE!"}},{"$error":"#VALUE!"},{"$error":"#VALUE!"},{"$error":"#VALUE!"},{"$f":"ThreePosition_Basic2($E$3,$E$5,$B$3:$C$3,$B$5:$C$5,B647,D647)","v":{"$error":"#VALUE!"}},{"$error":"#VALUE!"},{"$error":"#VALUE!"},{"$error":"#VALUE!"}]
[320,5.5850536063818543,{"$f":"Burmester($B$3:$C$3,$B$4:$C$4,$B$5:$C$5,$E$3,$E$4,$E$5,B648)","v":{"$error":"#VALUE!"}},{"$error":"#VALUE!"},{"$f":"ThreePosition_Basic2($E$3,$E$5,$B$3:$C$3,$B$5:$C$5,B648,C648)","v":{"$error":"#VALUE!"}},{"$error":"#VALUE!"},{"$error":"#VALUE!"},{"$error":"#VALUE!"},{"$f":"ThreePosition_Basic2($E$3,$E$5,$B$3:$C$3,$B$5:$C$5,B648,D648)","v":{"$error":"#VALUE!"}},{"$error":"#VALUE!"},{"$error":"#VALUE!"},{"$error":"#VALUE!"}]
[320.5,{"$f":"A649*PI()/180","v":5.5937802526418263},{"$f":"Burmester($B$3:$C$3,$B$4:$C$4,$B$5:$C$5,$E$3,$E$4,$E$5,B649)","v":3.3590203778523784},3.6636584999489541,{"$f":"ThreePosition_Basic2($E$3,$E$5,$B$3:$C$3,$B$5:$C$5,B649,C649)","v":-2.8842551366973379},2.9063556707402385,-1.8703088254021041,1.6367405298235518,{"$f":"ThreePosition_Basic2($E$3,$E$5,$B$3:$C$3,$B$5:$C$5,B649,D649)","v":-2.9064094136866618},2.5874102272812918,-1.86321221406785,1.2406965740918798]
[321,5.6025068989017974,{"$f":"Burmester($B$3:$C$3,$B$4:$C$4,$B$5:$C$5,$E$3,$E$4,$E$5,B650)","v":3.2836592857311144},3.7543720261329887,{"$f":"ThreePosition_Basic2($E$3,$E$5,$B$3:$C$3,$B$5:$C$5,B650,C650)","v":-2.8862565984232398},2.9954038359580482,-1.8755613946267009,1.7266307132746928,{"$f":"ThreePosition_Basic2($E$3,$E$5,$B$3:$C$3,$B$5:$C$5,B650,D650)","v":-2.9199196295556553},2.4998875853793567,-1.8635703800117913,1.1097411151669003]
[321.5,5.6112335451617694,{"$f":"Burmester($B$3:$C$3,$B$4:$C$4,$B$5:$C$5,$E$3,$E$4,$E$5,B651)","v":3.2301555497668826},3.8232561772248519,{"$f":"ThreePosition_Basic2($E$3,$E$5,$B$3:$C$3,$B$5:$C$5,B651,C651)","v":-2.8900509569659034},3.0623534485455508,-1.8805357298244674,1.7890116672162248,{"$f":"ThreePosition_Basic2($E$3,$E$5,$B$3:$C$3,$B$5:$C$5,B651,D651)","v":-2.9317368240158372},2.4345509512305847,-1.8641048237744811,1.005363919926666]
[322,5.6199601914217405,{"$f":"Burmester($B$3:$C$3,$B$4:$C$4,$B$5:$C$5,$E$3,$E$4,$E$5,B652)","v":3.1867693371869028},3.8820510703614763,{"$f":"ThreePosition_Basic2($E$3,$E$5,$B$3:$C$3,$B$5:$C$5,B652,C652)","v":-2.8947523055610214},3.1193384292281361,-1.8854447680794408,1.838848995378318,{"$f":"ThreePosition_Basic2($E$3,$E$5,$B$3:$C$3,$B$5:$C$5,B652,D652)","v":-2.9427486733587691},2.379270554744219,-1.8645969287425534,0.91256453364015711]
[322.5,5.6286868376817125,{"$f":"Burmester($B$3:$C$3,$B$4:$C$4,$B$5:$C$5,$E$3,$E$4,$E$5,B653)","v":3.1495302171134147},3.9347274228434221,{"$f":"ThreePosition_Basic2($E$3,$E$5,$B$3:$C$3,$B$5:$C$5,B653,C653)","v":-2.9000582674902229},3.1704467180357714,-1.8903534061975102,1.8811666614758755,{"$f":"ThreePosition_Basic2($E$3,$E$5,$B$3:$C$3,$B$5:$C$5,B653,D653)","v":-2.9532593714779241},2.3299628141497757,-1.8649757853754376,0.82628232853114114]
[323,5.6374134839416845,{"$f":"Burmester($B$3:$C$3,$B$4:$C$4,$B$5:$C$5,$E$3,$E$4,$E$5,B654)","v":3.11651964187869},3.9832040708262428,{"$f":"ThreePosition_Basic2($E$3,$E$5,$B$3:$C$3,$B$5:$C$5,B654,C654)","v":-2.9058222090309376},3.2176491477347908,-1.8952902348170724,1.9183764938840049,{"$f":"ThreePosition_Basic2($E$3,$E$5,$B$3:$C$3,$B$5:$C$5,B654,D654)","v":-2.9634174190896903},2.284661474569142,-1.8652064342078523,0.74406687786608505]
[323.5,5.6461401302016565,{"$f":"Burmester($B$3:$C$3,$B$4:$C$4,$B$5:$C$5,$E$3,$E$4,$E$5,B655)","v":3.0866374333877458},4.0285814829636042,{"$f":"ThreePosition_Basic2($E$3,$E$5,$B$3:$C$3,$B$5:$C$5,B655,C655)","v":-2.9119602268216176},3.2620750948130763,-1.9002703620660675,1.9518532698236559,{"$f":"ThreePosition_Basic2($E$3,$E$5,$B$3:$C$3,$B$5:$C$5,B655,D655)","v":-2.9733086386747116},2.2422419698398568,-1.8652670174223811,0.66450274060656067]
[324,5.6548667764616276,{"$f":"Burmester($B$3:$C$3,$B$4:$C$4,$B$5:$C$5,$E$3,$E$4,$E$5,B656)","v":3.059183709507717},4.071559834023124,{"$f":"ThreePosition_Basic2($E$3,$E$5,$B$3:$C$3,$B$5:$C$5,B656,C656)","v":-2.9184194094125844},3.3044438042441149,-1.9053027673124157,1.9824667058321619,{"$f":"ThreePosition_Basic2($E$3,$E$5,$B$3:$C$3,$B$5:$C$5,B656,D656)","v":-2.9829879153797432},2.2019901114265452,-1.8651413982623111,0.58667732888805579]
[324.5,5.6635934227215996,{"$f":"Burmester($B$3:$C$3,$B$4:$C$4,$B$5:$C$5,$E$3,$E$4,$E$5,B657)","v":3.0336807795825962},4.1126171093762389,{"$f":"ThreePosition_Basic2($E$3,$E$5,$B$3:$C$3,$B$5:$C$5,B657,C657)","v":-2.9251642320007805},3.3452477311749242,-1.9103932814941718,2.0108073509658042,{"$f":"ThreePosition_Basic2($E$3,$E$5,$B$3:$C$3,$B$5:$C$5,B657,D657)","v":-2.9924928048932316},2.1634187613432161,-1.8648161515950463,0.50995486080579888]
[325,5.6723200689815707,{"$f":"Burmester($B$3:$C$3,$B$4:$C$4,$B$5:$C$5,$E$3,$E$4,$E$5,B658)","v":3.0097855102360951},4.1520967391992709,{"$f":"ThreePosition_Basic2($E$3,$E$5,$B$3:$C$3,$B$5:$C$5,B658,C658)","v":-2.9321698235169342},3.3848425643166959,-1.9155459819234459,2.0372973851181895,{"$f":"ThreePosition_Basic2($E$3,$E$5,$B$3:$C$3,$B$5:$C$5,B658,D658)","v":-3.0018502691383304},2.1261778243814775,-1.8642791375052592,0.43386539492934251]
[325.5,5.6810467152415427,{"$f":"Burmester($B$3:$C$3,$B$4:$C$4,$B$5:$C$5,$E$3,$E$4,$E$5,B659)","v":2.9872416427985007},4.1902552810498488,{"$f":"ThreePosition_Basic2($E$3,$E$5,$B$3:$C$3,$B$5:$C$5,B659,C659)","v":-2.9394182839235921},3.4234961142548035,-1.9207639137528338,2.0622507213599075,{"$f":"ThreePosition_Basic2($E$3,$E$5,$B$3:$C$3,$B$5:$C$5,B659,D659)","v":-3.0110803619386601},2.090005376508616,-1.8635187454763016,0.35804454630729743]
[326,5.6897733615015138,{"$f":"Burmester($B$3:$C$3,$B$4:$C$4,$B$5:$C$5,$E$3,$E$4,$E$5,B660)","v":2.9658518356082926},4.2272903775678312,{"$f":"ThreePosition_Basic2($E$3,$E$5,$B$3:$C$3,$B$5:$C$5,B660,C660)","v":-2.9468965149288415},3.4614169286946717,-1.926049491862392,2.0859081409373053,{"$f":"ThreePosition_Basic2($E$3,$E$5,$B$3:$C$3,$B$5:$C$5,B660,D660)","v":-3.0201984014666206},2.0546990675069146,-1.8625234551191154,0.28219815383470248]
[326.5,5.6985000077614867,{"$f":"Burmester($B$3:$C$3,$B$4:$C$4,$B$5:$C$5,$E$3,$E$4,$E$5,B661)","v":2.9454602939545396},4.2633581265347384,{"$f":"ThreePosition_Basic2($E$3,$E$5,$B$3:$C$3,$B$5:$C$5,B661,C661)","v":-2.9545948670483182},3.4987720451846269,-1.9314047379537604,2.1084590592676511,{"$f":"ThreePosition_Basic2($E$3,$E$5,$B$3:$C$3,$B$5:$C$5,B661,D661)","v":-3.0292163265579384},2.0200983874091984,-1.8612815583457392,0.20608029897798397]
[327,5.7072266540214578,{"$f":"Burmester($B$3:$C$3,$B$4:$C$4,$B$5:$C$5,$E$3,$E$4,$E$5,B662)","v":2.9259414663748822},4.298584384576797,{"$f":"ThreePosition_Basic2($E$3,$E$5,$B$3:$C$3,$B$5:$C$5,B662,C662)","v":-2.9625062567282403},3.535698531253435,-1.936831427020042,2.1300556502714043,{"$f":"ThreePosition_Basic2($E$3,$E$5,$B$3:$C$3,$B$5:$C$5,B662,D662)","v":-3.03814358319738},1.9860731468979618,-1.8597809684642101,0.12947894664732007]
[327.5,5.7159533002814289,{"$f":"Burmester($B$3:$C$3,$B$4:$C$4,$B$5:$C$5,$E$3,$E$4,$E$5,B663)","v":2.9071924041499058},4.3330724076708229,{"$f":"ThreePosition_Basic2($E$3,$E$5,$B$3:$C$3,$B$5:$C$5,B663,C663)","v":-2.9706255687658691},3.5723112800989805,-1.9423311813531945,2.1508223671267905,{"$f":"ThreePosition_Basic2($E$3,$E$5,$B$3:$C$3,$B$5:$C$5,B663,D663)","v":-3.046987725958652},1.9525157036465883,-1.8580090776347862,5.220616803118916E-2]
[328,5.7246799465414,{"$f":"Burmester($B$3:$C$3,$B$4:$C$4,$B$5:$C$5,$E$3,$E$4,$E$5,B664)","v":2.889127430565479},4.3669081818812892,{"$f":"ThreePosition_Basic2($E$3,$E$5,$B$3:$C$3,$B$5:$C$5,B664,C664)","v":-2.9789492395872337},3.608708449996501,-1.9479055328849746,2.1708625670732857,{"$f":"ThreePosition_Basic2($E$3,$E$5,$B$3:$C$3,$B$5:$C$5,B664,D664)","v":-3.0557548388598863},1.9193355465602504,-1.8559526414435144,-2.5908764595393485E-2]
[328.5,5.7334065928013729,{"$f":"Burmester($B$3:$C$3,$B$4:$C$4,$B$5:$C$5,$E$3,$E$4,$E$5,B665)","v":2.8716743203355857},4.4001642439360342,{"$f":"ThreePosition_Basic2($E$3,$E$5,$B$3:$C$3,$B$5:$C$5,B665,C665)","v":-2.9874749594621033},3.6449753665114897,-1.9535559657440702,2.1902632471659338,{"$f":"ThreePosition_Basic2($E$3,$E$5,$B$3:$C$3,$B$5:$C$5,B665,D665)","v":-3.0644498375781417},1.8864554189696392,-1.8535976782056733,-0.10502442065301176]
[329,5.742133239061344,{"$f":"Burmester($B$3:$C$3,$B$4:$C$4,$B$5:$C$5,$E$3,$E$4,$E$5,B666)","v":2.854771497345276},4.4329024834809392,{"$f":"ThreePosition_Basic2($E$3,$E$5,$B$3:$C$3,$B$5:$C$5,B666,C666)","v":-2.9962014554441616},3.6811873907360058,-1.9592839460948328,2.2090985091376885,{"$f":"ThreePosition_Basic2($E$3,$E$5,$B$3:$C$3,$B$5:$C$5,B666,D666)","v":-3.0730766912605874},1.8538084777104733,-1.8509293753637832,-0.18529101279287596]
[329.5,5.7508598853213151,{"$f":"Burmester($B$3:$C$3,$B$4:$C$4,$B$5:$C$5,$E$3,$E$4,$E$5,B667)","v":2.8383659375793728},4.4651762401479429,{"$f":"ThreePosition_Basic2($E$3,$E$5,$B$3:$C$3,$B$5:$C$5,B667,C667)","v":-3.0051283306364924},3.7174120735819876,-1.9650909436037707,2.2274321461787219,{"$f":"ThreePosition_Basic2($E$3,$E$5,$B$3:$C$3,$B$5:$C$5,B667,D667)","v":-3.0816385883604869},1.8213361682220339,-1.8479319979893216,-0.26685335339336169]
[330,5.7595865315812871,{"$f":"Burmester($B$3:$C$3,$B$4:$C$4,$B$5:$C$5,$E$3,$E$4,$E$5,B668)","v":2.8224115718483644},4.4970319008248634,{"$f":"ThreePosition_Basic2($E$3,$E$5,$B$3:$C$3,$B$5:$C$5,B668,C668)","v":-3.0142559437382821},3.7537108058558695,-1.9709784472870826,2.245319608799222,{"$f":"ThreePosition_Basic2($E$3,$E$5,$B$3:$C$3,$B$5:$C$5,B668,D668)","v":-3.0901380625732453},1.7889866061240212,-1.8445887959045513,-0.34985322703693544]
[330.5,5.7683131778412591,{"$f":"Burmester($B$3:$C$3,$B$4:$C$4,$B$5:$C$5,$E$3,$E$4,$E$5,B669)","v":2.8068680500399719},4.5285101353985509,{"$f":"ThreePosition_Basic2($E$3,$E$5,$B$3:$C$3,$B$5:$C$5,B669,C669)","v":-3.023585318051766},3.7901401052138928,-1.9769479775288206,2.2628095225863603,{"$f":"ThreePosition_Basic2($E$3,$E$5,$B$3:$C$3,$B$5:$C$5,B669,D669)","v":-3.0985770897276845},1.7567133243744668,-1.8408819068052089,-0.43443135615336548]
[331,5.7770398241012311,{"$f":"Burmester($B$3:$C$3,$B$4:$C$4,$B$5:$C$5,$E$3,$E$4,$E$5,B670)","v":2.7916997716470076},4.5596468662206897,{"$f":"ThreePosition_Basic2($E$3,$E$5,$B$3:$C$3,$B$5:$C$5,B670,C670)","v":-3.0331180724887798},3.8267526371695162,-1.9830010954599071,2.2799448766820687,{"$f":"ThreePosition_Basic2($E$3,$E$5,$B$3:$C$3,$B$5:$C$5,B670,D670)","v":-3.1069571631310886},1.7244742890604718,-1.8367922532501131,-0.5207290836340186]
[331.5,5.7857664703612022,{"$f":"Burmester($B$3:$C$3,$B$4:$C$4,$B$5:$C$5,$E$3,$E$4,$E$5,B671)","v":2.77687511560495},4.5904740382628066,{"$f":"ThreePosition_Basic2($E$3,$E$5,$B$3:$C$3,$B$5:$C$5,B671,C671)","v":-3.0428563693342312},3.8635980384898452,-1.98913941050615,2.2967639663763837,{"$f":"ThreePosition_Basic2($E$3,$E$5,$B$3:$C$3,$B$5:$C$5,B671,D671)","v":-3.1152793526524971},1.6922311157310153,-1.8322994316332721,-0.60888986148896262]
[332,5.7944931166211742,{"$f":"Burmester($B$3:$C$3,$B$4:$C$4,$B$5:$C$5,$E$3,$E$4,$E$5,B672)","v":2.7623658214892317},4.6210202379104226,{"$f":"ThreePosition_Basic2($E$3,$E$5,$B$3:$C$3,$B$5:$C$5,B672,C672)","v":-3.0528028750218477},3.9007235919647045,-1.9953645866645289,2.3133011494262172,{"$f":"ThreePosition_Basic2($E$3,$E$5,$B$3:$C$3,$B$5:$C$5,B672,D672)","v":-3.123544351335223},1.6599484375606277,-1.8273815913494047,-0.69906061164447575]
[332.5,5.8032197628811462,{"$f":"Burmester($B$3:$C$3,$B$4:$C$4,$B$5:$C$5,$E$3,$E$4,$E$5,B673)","v":2.7481464871690573},4.6513111952995123,{"$f":"ThreePosition_Basic2($E$3,$E$5,$B$3:$C$3,$B$5:$C$5,B673,C673)","v":-3.0629607312108047},3.9381747882820348,-2.0016783479018265,2.3295874594173274,{"$f":"ThreePosition_Basic2($E$3,$E$5,$B$3:$C$3,$B$5:$C$5,B673,D673)","v":-3.1317525123011443},1.62759338991159,-1.8220153023499941,-0.7913930096300652]
[333,5.8119464091411173,{"$f":"Burmester($B$3:$C$3,$B$4:$C$4,$B$5:$C$5,$E$3,$E$4,$E$5,B674)","v":2.7341941571299637},4.6813701959829883,{"$f":"ThreePosition_Basic2($E$3,$E$5,$B$3:$C$3,$B$5:$C$5,B674,C674)","v":-3.0733335341786825},3.975995801510801,-2.0080824829582875,2.345651108122917,{"$f":"ThreePosition_Basic2($E$3,$E$5,$B$3:$C$3,$B$5:$C$5,B674,D674)","v":-3.1399038779883734},1.595135185127724,-1.8161754091900755,-0.88604473164055242]
[333.5,5.8206730554010884,{"$f":"Burmester($B$3:$C$3,$B$4:$C$4,$B$5:$C$5,$E$3,$E$4,$E$5,B675)","v":2.7204879821519943},4.711218421240341,{"$f":"ThreePosition_Basic2($E$3,$E$5,$B$3:$C$3,$B$5:$C$5,B675,C675)","v":-3.0839253210666429},4.0142298981575983,-2.0145788497625632,2.3615179007531939,{"$f":"ThreePosition_Basic2($E$3,$E$5,$B$3:$C$3,$B$5:$C$5,B675,D675)","v":-3.1479982032493621},1.5625447579642713,-1.8098348694979598,-0.98318069868757441]
[334,5.8293997016610613,{"$f":"Burmester($B$3:$C$3,$B$4:$C$4,$B$5:$C$5,$E$3,$E$4,$E$5,B676)","v":2.707008935698735},4.7408752316750844,{"$f":"ThreePosition_Basic2($E$3,$E$5,$B$3:$C$3,$B$5:$C$5,B676,C676)","v":-3.0947405618925754},4.0529197950738753,-2.0211693796115053,2.3772115821892301,{"$f":"ThreePosition_Basic2($E$3,$E$5,$B$3:$C$3,$B$5:$C$5,B676,D676)","v":-3.1560349734641622},1.5297944667892627,-1.802964574567018,-1.082974347264114]
[334.5,5.8381263479210324,{"$f":"Burmester($B$3:$C$3,$B$4:$C$4,$B$5:$C$5,$E$3,$E$4,$E$5,B677)","v":2.6937395757851212},4.7703584053320816,{"$f":"ThreePosition_Basic2($E$3,$E$5,$B$3:$C$3,$B$5:$C$5,B677,C677)","v":-3.1057841565295643},4.0921079780852097,-2.027856081231219,2.3927541280606448,{"$f":"ThreePosition_Basic2($E$3,$E$5,$B$3:$C$3,$B$5:$C$5,B677,D677)","v":-3.1640134185495574},1.4968578391435126,-1.7955331494686129,-1.1856089534893786]
[335,5.8468529941810035,{"$f":"Burmester($B$3:$C$3,$B$4:$C$4,$B$5:$C$5,$E$3,$E$4,$E$5,B678)","v":2.6806638436181167},4.7996843390406205,{"$f":"ThreePosition_Basic2($E$3,$E$5,$B$3:$C$3,$B$5:$C$5,B678,C678)","v":-3.1170614360603199},4.1318369907172325,-2.0346410448099457,2.4081659913983859,{"$f":"ThreePosition_Basic2($E$3,$E$5,$B$3:$C$3,$B$5:$C$5,B678,D678)","v":-3.1719325235408404},1.4637093527959701,-1.7875067297140439,-1.2912790366702012]
[335.5,5.8555796404409746,{"$f":"Burmester($B$3:$C$3,$B$4:$C$4,$B$5:$C$5,$E$3,$E$4,$E$5,B679)","v":2.6677668921964504},4.8288682197969637,{"$f":"ThreePosition_Basic2($E$3,$E$5,$B$3:$C$3,$B$5:$C$5,B679,C679)","v":-3.1285781680822931},4.1721497005474202,-2.0415264460748297,2.4234663132549468,{"$f":"ThreePosition_Basic2($E$3,$E$5,$B$3:$C$3,$B$5:$C$5,B679,D679)","v":-3.179791036268937},1.4303242453358278,-1.778848711041475,-1.4001918683579917]
[336,5.8643062867009474,{"$f":"Burmester($B$3:$C$3,$B$4:$C$4,$B$5:$C$5,$E$3,$E$4,$E$5,B680)","v":2.6550349394875283},4.8579241715682269,{"$f":"ThreePosition_Basic2($E$3,$E$5,$B$3:$C$3,$B$5:$C$5,B680,C680)","v":-3.1403405656677159},4.2130895493429863,-2.0485145504717406,2.4386731039177909,{"$f":"ThreePosition_Basic2($E$3,$E$5,$B$3:$C$3,$B$5:$C$5,B680,D680)","v":-3.1875874725376439},1.3966783467790365,-1.7695194683580431,-1.5125691141619322]
[336.5,5.8730329329609186,{"$f":"Burmester($B$3:$C$3,$B$4:$C$4,$B$5:$C$5,$E$3,$E$4,$E$5,B681)","v":2.6424551418946667},4.8868653818043848,{"$f":"ThreePosition_Basic2($E$3,$E$5,$B$3:$C$3,$B$5:$C$5,B681,C681)","v":-3.1523552997872248},4.2547007921276929,-2.0556077174983383,2.4538033999938165,{"$f":"ThreePosition_Basic2($E$3,$E$5,$B$3:$C$3,$B$5:$C$5,B681,D681)","v":-3.1953201191145646},1.3627479307606505,-1.7594760392111086,-1.6286486377427996]
[337,5.8817595792208897,{"$f":"Burmester($B$3:$C$3,$B$4:$C$4,$B$5:$C$5,$E$3,$E$4,$E$5,B682)","v":2.6300154845723629},4.9157042111006533,{"$f":"ThreePosition_Basic2($E$3,$E$5,$B$3:$C$3,$B$5:$C$5,B682,C682)","v":-3.1646295150923796},4.2970287295686651,-2.0628084052343869,2.4688734016054692,{"$f":"ThreePosition_Basic2($E$3,$E$5,$B$3:$C$3,$B$5:$C$5,B682,D682)","v":-3.2029870347775358},1.3285095807228544,-1.7486717663730003,-1.7486864995743028]
[337.5,5.8904862254808625,{"$f":"Burmester($B$3:$C$3,$B$4:$C$4,$B$5:$C$5,$E$3,$E$4,$E$5,B683)","v":2.617704685804715},4.9444522887950493,{"$f":"ThreePosition_Basic2($E$3,$E$5,$B$3:$C$3,$B$5:$C$5,B683,C683)","v":-3.1771708490264605},4.3401199375252011,-2.0701191751093528,2.4838985931341,{"$f":"ThreePosition_Basic2($E$3,$E$5,$B$3:$C$3,$B$5:$C$5,B683,D683)","v":-3.2105860496011633},1.2939400681562889,-1.7370558931728384,-1.8729591872922555]
[338,5.8992128717408336,{"$f":"Burmester($B$3:$C$3,$B$4:$C$4,$B$5:$C$5,$E$3,$E$4,$E$5,B684)","v":2.6055121131775021},4.9731205967705714,{"$f":"ThreePosition_Basic2($E$3,$E$5,$B$3:$C$3,$B$5:$C$5,B684,C684)","v":-3.1899874542985516},4.3840224972121229,-2.07754269694495,2.4988938503171445,{"$f":"ThreePosition_Basic2($E$3,$E$5,$B$3:$C$3,$B$5:$C$5,B684,D684)","v":-3.2181147626219784},1.2590162404544001,-1.7245731040613466,-2.0017661198932277]
[338.5,5.9079395180008056,{"$f":"Burmester($B$3:$C$3,$B$4:$C$4,$B$5:$C$5,$E$3,$E$4,$E$5,B685)","v":2.5934277096817033},5.0017195433242057,{"$f":"ThreePosition_Basic2($E$3,$E$5,$B$3:$C$3,$B$5:$C$5,B685,C685)","v":-3.2030880248162354},4.4287862291679136,-2.0850817543094049,2.5138735360107427,{"$f":"ThreePosition_Basic2($E$3,$E$5,$B$3:$C$3,$B$5:$C$5,B685,D685)","v":-3.2255705379826978},1.2237149163316574,-1.7111630015049555,-2.1354324748894884]
[339,5.9166661642607767,{"$f":"Burmester($B$3:$C$3,$B$4:$C$4,$B$5:$C$5,$E$3,$E$4,$E$5,B686)","v":2.5814419282100762},5.0302590286410069,{"$f":"ThreePosition_Basic2($E$3,$E$5,$B$3:$C$3,$B$5:$C$5,B686,C686)","v":-3.2164818252292493},4.4744629340603606,-2.0927392502199633,2.5288515865376988,{"$f":"ThreePosition_Basic2($E$3,$E$5,$B$3:$C$3,$B$5:$C$5,B686,D686)","v":-3.2329504996239971},1.1880127870611021,-1.6967595086165084,-2.274312396047987]
[339.5,5.9253928105207487,{"$f":"Burmester($B$3:$C$3,$B$4:$C$4,$B$5:$C$5,$E$3,$E$4,$E$5,B687)","v":2.5695456731675779},5.0587485031524846,{"$f":"ThreePosition_Basic2($E$3,$E$5,$B$3:$C$3,$B$5:$C$5,B687,C687)","v":-3.2301787242932396},4.521106643295278,-2.1005182132313838,2.5438415902295448,{"$f":"ThreePosition_Basic2($E$3,$E$5,$B$3:$C$3,$B$5:$C$5,B687,D687)","v":-3.240251524565251},1.1518863220233901,-1.6812901848700044,-2.4187926499003298]
[340,5.9341194567807207,{"$f":"Burmester($B$3:$C$3,$B$4:$C$4,$B$5:$C$5,$E$3,$E$4,$E$5,B688)","v":2.5577302481248836},5.0871970198499259,{"$f":"ThreePosition_Basic2($E$3,$E$5,$B$3:$C$3,$B$5:$C$5,B688,C688)","v":-3.2441892323200028},4.5687738824052291,-2.108421803949537,2.558856859523075,{"$f":"ThreePosition_Basic2($E$3,$E$5,$B$3:$C$3,$B$5:$C$5,B688,D688)","v":-3.2474702347912436},1.1153116772423057,-1.664675439721826,-2.5692968122769022]
[340.5,5.9428461030406918,{"$f":"Burmester($B$3:$C$3,$B$4:$C$4,$B$5:$C$5,$E$3,$E$4,$E$5,B689)","v":2.5459873086128946},5.1156132814547295,{"$f":"ThreePosition_Basic2($E$3,$E$5,$B$3:$C$3,$B$5:$C$5,B689,C689)","v":-3.258524543041069},4.6175239502804519,-2.1164533220119131,2.5739104977733231,{"$f":"ThreePosition_Basic2($E$3,$E$5,$B$3:$C$3,$B$5:$C$5,B689,D689)","v":-3.2546029877407983},1.0782646057209779,-1.6468276258542558,-2.7262900823084353]
[341,5.9515727493006629,{"$f":"Burmester($B$3:$C$3,$B$4:$C$4,$B$5:$C$5,$E$3,$E$4,$E$5,B690)","v":2.5343088192929502},5.1440056832109722,{"$f":"ThreePosition_Basic2($E$3,$E$5,$B$3:$C$3,$B$5:$C$5,B690,C690)","v":-3.2731965802760326},4.6674192174596412,-2.1246162135797317,2.5890154617862851,{"$f":"ThreePosition_Basic2($E$3,$E$5,$B$3:$C$3,$B$5:$C$5,B690,D690)","v":-3.261645865372818},1.0407203684963338,-1.627649989913093,-2.890284841448838]
[341.5,5.9602993955606358,{"$f":"Burmester($B$3:$C$3,$B$4:$C$4,$B$5:$C$5,$E$3,$E$4,$E$5,B691)","v":2.5226870148490219},5.1723823519538472,{"$f":"ThreePosition_Basic2($E$3,$E$5,$B$3:$C$3,$B$5:$C$5,B691,C691)","v":-3.2882180498678819},4.7185254469247022,-2.1329140793902397,2.6041846209481534,{"$f":"ThreePosition_Basic2($E$3,$E$5,$B$3:$C$3,$B$5:$C$5,B691,D691)","v":-3.2685946617665542},1.002653645402954,-1.6070354538336304,-3.0618471001463181]
[342,5.9690260418206069,{"$f":"Burmester($B$3:$C$3,$B$4:$C$4,$B$5:$C$5,$E$3,$E$4,$E$5,B692)","v":2.511114364039166},5.2007511820166483,{"$f":"ThreePosition_Basic2($E$3,$E$5,$B$3:$C$3,$B$5:$C$5,B692,C692)","v":-3.3036024974263212},4.7709121411440645,-2.1413506834222416,2.6194308137276243,{"$f":"ThreePosition_Basic2($E$3,$E$5,$B$3:$C$3,$B$5:$C$5,B692,D692)","v":-3.2754448691938798},0.96403844458505583,-1.5848651938763174,-3.2416040061893052]
[342.5,5.977752688080578,{"$f":"Burmester($B$3:$C$3,$B$4:$C$4,$B$5:$C$5,$E$3,$E$4,$E$5,B693)","v":2.4995835364179637},5.229119868464517,{"$f":"ThreePosition_Basic2($E$3,$E$5,$B$3:$C$3,$B$5:$C$5,B693,C693)","v":-3.3193643725088591},4.8246529194891945,-2.149929962233232,2.6347669022491664,{"$f":"ThreePosition_Basic2($E$3,$E$5,$B$3:$C$3,$B$5:$C$5,B693,D693)","v":-3.2821916625831209},0.92484800982048698,-1.5610069769863122,-3.4302526282752219]
[343,5.9864793343405509,{"$f":"Burmester($B$3:$C$3,$B$4:$C$4,$B$5:$C$5,$E$3,$E$4,$E$5,B694)","v":2.4880873713024925},5.2574959380822932,{"$f":"ThreePosition_Basic2($E$3,$E$5,$B$3:$C$3,$B$5:$C$5,B694,C694)","v":-3.3355190999703006},4.8798259306168914,-2.1586560350324939,2.6502058255747958,{"$f":"ThreePosition_Basic2($E$3,$E$5,$B$3:$C$3,$B$5:$C$5,B694,D694)","v":-3.2888298822740816},0.88505472472519853,-1.5353132045961801,-3.628570278370578]
[343.5,5.995205980600522,{"$f":"Burmester($B$3:$C$3,$B$4:$C$4,$B$5:$C$5,$E$3,$E$4,$E$5,B695)","v":2.4766188486038923},5.2858867784943957,{"$f":"ThreePosition_Basic2($E$3,$E$5,$B$3:$C$3,$B$5:$C$5,B695,C695)","v":-3.3520831593273264},4.9365143049778526,-2.1675332145616468,2.6657606522870729,{"$f":"ThreePosition_Basic2($E$3,$E$5,$B$3:$C$3,$B$5:$C$5,B695,D695)","v":-3.2953540149437286},0.84463001289164075,-1.5076186019079876,-3.8374267001275979]
[344,6.0039326268604931,{"$f":"Burmester($B$3:$C$3,$B$4:$C$4,$B$5:$C$5,$E$3,$E$4,$E$5,B696)","v":2.4651710611866506},5.3142996657544979,{"$f":"ThreePosition_Basic2($E$3,$E$5,$B$3:$C$3,$B$5:$C$5,B696,C696)","v":-3.3690741731187916},4.9948066532943711,-2.1765660188621272,2.6814446329349022,{"$f":"ThreePosition_Basic2($E$3,$E$5,$B$3:$C$3,$B$5:$C$5,B696,D696)","v":-3.301758172560302},0.80354423298099931,-1.4777374752109071,-4.0577985322589933]
[344.5,6.0126592731204642,{"$f":"Burmester($B$3:$C$3,$B$4:$C$4,$B$5:$C$5,$E$3,$E$4,$E$5,B697)","v":2.4537371884499786},5.342741790710571,{"$f":"ThreePosition_Basic2($E$3,$E$5,$B$3:$C$3,$B$5:$C$5,B697,C697)","v":-3.3865110053980931},5.0547976176651952,-2.1857591840183108,2.6972712528844753,{"$f":"ThreePosition_Basic2($E$3,$E$5,$B$3:$C$3,$B$5:$C$5,B697,D697)","v":-3.3080360691991464},0.7617665677366845,-1.4454604398162492,-4.2907865611298295]
[345,6.0213859193804371,{"$f":"Burmester($B$3:$C$3,$B$4:$C$4,$B$5:$C$5,$E$3,$E$4,$E$5,B698)","v":2.4423104708508099},5.3712202844256813,{"$f":"ThreePosition_Basic2($E$3,$E$5,$B$3:$C$3,$B$5:$C$5,B698,C698)","v":-3.404413871676168},5.1165884829287922,-2.1951176779756039,2.7132542861100513,{"$f":"ThreePosition_Basic2($E$3,$E$5,$B$3:$C$3,$B$5:$C$5,B698,D698)","v":-3.3141809955277206},0.71926490581414115,-1.410550495228212,-4.5376364138098673]
[345.5,6.0301125656404082,{"$f":"Burmester($B$3:$C$3,$B$4:$C$4,$B$5:$C$5,$E$3,$E$4,$E$5,B699)","v":2.430884185107351},5.3997422429155382,{"$f":"ThreePosition_Basic2($E$3,$E$5,$B$3:$C$3,$B$5:$C$5,B699,C699)","v":-3.4228044618474205},5.1802878570747835,-2.2046467155449525,2.7294078504617625,{"$f":"ThreePosition_Basic2($E$3,$E$5,$B$3:$C$3,$B$5:$C$5,B699,D699)","v":-3.3201857907371615},0.67600571522900099,-1.3727382901478704,-4.7997635223362032]
[346,6.0388392119003802,{"$f":"Burmester($B$3:$C$3,$B$4:$C$4,$B$5:$C$5,$E$3,$E$4,$E$5,B700)","v":2.4194516198359599},5.4283147514499763,{"$f":"ThreePosition_Basic2($E$3,$E$5,$B$3:$C$3,$B$5:$C$5,B700,C700)","v":-3.4417060778831177},5.246012430875747,-2.2143517747190975,2.7457464649609964,{"$f":"ThreePosition_Basic2($E$3,$E$5,$B$3:$C$3,$B$5:$C$5,B700,D700)","v":-3.3260428116646152},0.63195390710915422,-1.3317163749547511,-5.0787834271539749]
[346.5,6.0475658581603513,{"$f":"Burmester($B$3:$C$3,$B$4:$C$4,$B$5:$C$5,$E$3,$E$4,$E$5,B701)","v":2.4080060513833579},5.4569449086562152,{"$f":"ThreePosition_Basic2($E$3,$E$5,$B$3:$C$3,$B$5:$C$5,B701,C701)","v":-3.4611437883755354},5.3138878285609437,-2.2242386144420125,2.762285109697205,{"$f":"ThreePosition_Basic2($E$3,$E$5,$B$3:$C$3,$B$5:$C$5,B701,D701)","v":-3.3317438988125629},0.58707268829472414,-1.2871321793755488,-5.3765488039952531]
[347,6.0562925044203233,{"$f":"Burmester($B$3:$C$3,$B$4:$C$4,$B$5:$C$5,$E$3,$E$4,$E$5,B702)","v":2.3965407196205568},5.485639850657523,{"$f":"ThreePosition_Basic2($E$3,$E$5,$B$3:$C$3,$B$5:$C$5,B702,C702)","v":-3.4811446023714669},5.3840495633286025,-2.2343132939914243,2.7790392889348277,{"$f":"ThreePosition_Basic2($E$3,$E$5,$B$3:$C$3,$B$5:$C$5,B702,D702)","v":-3.3372803389278056},0.54132340115833544,-1.2385793723705167,-5.6951950242424756]
[347.5,6.0650191506802953,{"$f":"Burmester($B$3:$C$3,$B$4:$C$4,$B$5:$C$5,$E$3,$E$4,$E$5,B703)","v":2.3850488034650654},5.5144067754805706,{"$f":"ThreePosition_Basic2($E$3,$E$5,$B$3:$C$3,$B$5:$C$5,B703,C703)","v":-3.5017376653579371},5.4566441138614481,-2.2445821941555701,2.7960250980849879,{"$f":"ThreePosition_Basic2($E$3,$E$5,$B$3:$C$3,$B$5:$C$5,B703,D703)","v":-3.3426428237525942},0.49466534881336693,-1.1855871515489858,-6.0371966378859927]
[348,6.0737457969402664,{"$f":"Burmester($B$3:$C$3,$B$4:$C$4,$B$5:$C$5,$E$3,$E$4,$E$5,B704)","v":2.3735233958936162},5.5432529679692069,{"$f":"ThreePosition_Basic2($E$3,$E$5,$B$3:$C$3,$B$5:$C$5,B704,C704)","v":-3.5229544807718547},5.5318301408613806,-2.2550520404102308,2.8132592952559454,{"$f":"ThreePosition_Basic2($E$3,$E$5,$B$3:$C$3,$B$5:$C$5,B704,D704)","v":-3.3478214045026329},0.44705560363346397,-1.1276068585666597,-6.4054379643971728]
[348.5,6.0824724432002393,{"$f":"Burmester($B$3:$C$3,$B$4:$C$4,$B$5:$C$5,$E$3,$E$4,$E$5,B705)","v":2.3619574781988302},5.5721858254511316,{"$f":"ThreePosition_Basic2($E$3,$E$5,$B$3:$C$3,$B$5:$C$5,B705,C705)","v":-3.5448291610179781},5.609779866061432,-2.265729928330722,2.8307593781697107,{"$f":"ThreePosition_Basic2($E$3,$E$5,$B$3:$C$3,$B$5:$C$5,B705,D705)","v":-3.3528054415589374},0.39844879671594435,-1.0639951070717748,-6.8033020845997951]
[349,6.0911990894602104,{"$f":"Burmester($B$3:$C$3,$B$4:$C$4,$B$5:$C$5,$E$3,$E$4,$E$5,B706)","v":2.3503438932296881},5.6012128844175022,{"$f":"ThreePosition_Basic2($E$3,$E$5,$B$3:$C$3,$B$5:$C$5,B706,C706)","v":-3.5673987127204452},5.6906806403459056,-2.2766233515069878,2.8485436673222178,{"$f":"ThreePosition_Basic2($E$3,$E$5,$B$3:$C$3,$B$5:$C$5,B706,D706)","v":-3.3575835487818},0.34879688557639443,-0.99399231402743471,-7.234784087545906]
[349.5,6.0999257357201815,{"$f":"Burmester($B$3:$C$3,$B$4:$C$4,$B$5:$C$5,$E$3,$E$4,$E$5,B707)","v":2.3386753173368118},5.6303418484944388,{"$f":"ThreePosition_Basic2($E$3,$E$5,$B$3:$C$3,$B$5:$C$5,B707,C707)","v":-3.5907033618332522},5.7747367326886918,-2.2877402322691571,2.8666313963737013,{"$f":"ThreePosition_Basic2($E$3,$E$5,$B$3:$C$3,$B$5:$C$5,B707,D707)","v":-3.3621435317625474},0.29804889695022724,-0.91669510275985466,-7.704636656276346]
[350,6.1086523819801526,{"$f":"Burmester($B$3:$C$3,$B$4:$C$4,$B$5:$C$5,$E$3,$E$4,$E$5,B708)","v":2.3269442307191355},5.6595806180097128,{"$f":"ThreePosition_Basic2($E$3,$E$5,$B$3:$C$3,$B$5:$C$5,B708,C708)","v":-3.6147869253332203},5.8621713778265949,-2.2990889555767637,2.8850428108871262,{"$f":"ThreePosition_Basic2($E$3,$E$5,$B$3:$C$3,$B$5:$C$5,B708,D708)","v":-3.3664723192196631},0.24615064108758988,-0.83102043350199883,-8.2185593096300344]
[350.5,6.1173790282401255,{"$f":"Burmester($B$3:$C$3,$B$4:$C$4,$B$5:$C$5,$E$3,$E$4,$E$5,B709)","v":2.3151428858372536},5.6889373214892718,{"$f":"ThreePosition_Basic2($E$3,$E$5,$B$3:$C$3,$B$5:$C$5,B709,C709)","v":-3.6396972375657839},5.9532291282074494,-2.3106784064788228,2.9037992766906853,{"$f":"ThreePosition_Basic2($E$3,$E$5,$B$3:$C$3,$B$5:$C$5,B709,D709)","v":-3.3705558866167586},0.19304439334245427,-0.7356584144645546,-8.7834473820783465]
[351,6.1261056745000966,{"$f":"Burmester($B$3:$C$3,$B$4:$C$4,$B$5:$C$5,$E$3,$E$4,$E$5,B710)","v":2.3032632735201695},5.7184203494567774,{"$f":"ThreePosition_Basic2($E$3,$E$5,$B$3:$C$3,$B$5:$C$5,B710,C710)","v":-3.6654866409732145},6.0481785651568369,-2.3225180116157857,2.9229233993297457,{"$f":"ThreePosition_Basic2($E$3,$E$5,$B$3:$C$3,$B$5:$C$5,B710,D710)","v":-3.3743791709265256},0.13866853815633301,-0.62900939237891951,-9.4077239707236533]
[351.5,6.1348323207600677,{"$f":"Burmester($B$3:$C$3,$B$4:$C$4,$B$5:$C$5,$E$3,$E$4,$E$5,B711)","v":2.2912970863443545},5.7480383909572144,{"$f":"ThreePosition_Basic2($E$3,$E$5,$B$3:$C$3,$B$5:$C$5,B711,C711)","v":-3.6922125529907017},6.1473154358706115,-2.334617785309983,2.9424391563013943,{"$f":"ThreePosition_Basic2($E$3,$E$5,$B$3:$C$3,$B$5:$C$5,B711,D711)","v":-3.3779259752812854},8.295716969486451E-2,-0.50909885051950887,-10.10178900950172]
[352,6.1435589670200397,{"$f":"Burmester($B$3:$C$3,$B$4:$C$4,$B$5:$C$5,$E$3,$E$4,$E$5,B712)","v":2.2792356788059345},5.777800473283583,{"$f":"ThreePosition_Basic2($E$3,$E$5,$B$3:$C$3,$B$5:$C$5,B712,C712)","v":-3.7199381234556044},6.2509662973812121,-2.3469883808811192,2.9623720440383265,{"$f":"ThreePosition_Basic2($E$3,$E$5,$B$3:$C$3,$B$5:$C$5,B712,D712)","v":-3.3811788620316836},2.5839642380781028E-2,-0.37346040640538725,-10.878636710068193]
[352.5,{"$f":"A713*PI()/180","v":6.1522856132800117},{"$f":"Burmester($B$3:$C$3,$B$4:$C$4,$B$5:$C$5,$E$3,$E$4,$E$5,B713)","v":2.2670700237357182},5.8077160054569417,{"$f":"ThreePosition_Basic2($E$3,$E$5,$B$3:$C$3,$B$5:$C$5,B713,C713)","v":-3.7487330000825101},6.3594927668795629,-2.3596411479310255,2.9827492419389507,{"$f":"ThreePosition_Basic2($E$3,$E$5,$B$3:$C$3,$B$5:$C$5,B713,D713)","v":-3.3841190324700432},-3.2759936662401387E-2,-0.21897202412140748,-11.754719935856675]
[353,6.1610122595399828,{"$f":"Burmester($B$3:$C$3,$B$4:$C$4,$B$5:$C$5,$E$3,$E$4,$E$5,B714)","v":2.2547906643203861},5.8377948260963706,{"$f":"ThreePosition_Basic2($E$3,$E$5,$B$3:$C$3,$B$5:$C$5,B714,C714)","v":-3.7786742235982089},6.4732965007737642,-2.372588196470959,3.0035997961396608,{"$f":"ThreePosition_Basic2($E$3,$E$5,$B$3:$C$3,$B$5:$C$5,B714,D714)","v":-3.3867261911552795},-9.2923282735367055E-2,-4.1622050752744499E-2,-12.751184970015172]
[353.5,6.1697389057999548,{"$f":"Burmester($B$3:$C$3,$B$4:$C$4,$B$5:$C$5,$E$3,$E$4,$E$5,B715)","v":2.2423876609878217},5.8680472564207991,{"$f":"ThreePosition_Basic2($E$3,$E$5,$B$3:$C$3,$B$5:$C$5,B715,C715)","v":-3.8098472792566209},6.5928250540608202,-2.3858424689204236,3.0249548262093877,{"$f":"ThreePosition_Basic2($E$3,$E$5,$B$3:$C$3,$B$5:$C$5,B715,D715)","v":-3.3889783923865897},-0.15473858756052991,0.16383270734567734,-13.895676112570552]
[354,6.1784655520599268,{"$f":"Burmester($B$3:$C$3,$B$4:$C$4,$B$5:$C$5,$E$3,$E$4,$E$5,B716)","v":2.229850532286016},5.8984841592531518,{"$f":"ThreePosition_Basic2($E$3,$E$5,$B$3:$C$3,$B$5:$C$5,B716,C716)","v":-3.8423473379982815},6.7185788088956295,-2.3994178211952821,3.046847758536944,{"$f":"ThreePosition_Basic2($E$3,$E$5,$B$3:$C$3,$B$5:$C$5,B716,D716)","v":-3.3908518658982225},-0.21830126569479108,0.40437984173650454,-15.225042497538494]
[354.5,6.1871921983198979,{"$f":"Burmester($B$3:$C$3,$B$4:$C$4,$B$5:$C$5,$E$3,$E$4,$E$5,B717)","v":2.2171681887273738},5.9291170050549429,{"$f":"ThreePosition_Basic2($E$3,$E$5,$B$3:$C$3,$B$5:$C$5,B717,C717)","v":-3.8762807289347943},6.8511192092535529,-2.4133291143326954,3.0693145909040127,{"$f":"ThreePosition_Basic2($E$3,$E$5,$B$3:$C$3,$B$5:$C$5,B717,D717)","v":-3.392320818261922},-0.28371480966234475,0.68954390393531018,-16.789521257381768]
[355,6.1959188445798699,{"$f":"Burmester($B$3:$C$3,$B$4:$C$4,$B$5:$C$5,$E$3,$E$4,$E$5,B718)","v":2.2043288583767504},5.9599579462128718,{"$f":"ThreePosition_Basic2($E$3,$E$5,$B$3:$C$3,$B$5:$C$5,B718,C718)","v":-3.9117666957414352},6.9910786008337062,-2.427592318381965,3.0923941936256831,{"$f":"ThreePosition_Basic2($E$3,$E$5,$B$3:$C$3,$B$5:$C$5,B718,D718)","v":-3.3933572057627108},-0.35109177353786442,1.0326544599080769,-18.659430461432144]
[355.5,6.204645490839841,{"$f":"Burmester($B$3:$C$3,$B$4:$C$4,$B$5:$C$5,$E$3,$E$4,$E$5,B719)","v":2.1913200027223709},5.991019901038185,{"$f":"ThreePosition_Basic2($E$3,$E$5,$B$3:$C$3,$B$5:$C$5,B719,C719)","v":-3.9489395037793025},7.1391720567050445,-2.4422246306368844,3.1161286537397554,{"$f":"ThreePosition_Basic2($E$3,$E$5,$B$3:$C$3,$B$5:$C$5,B719,D719)","v":-3.393930473614243},-0.42055490898421805,1.4529594568851349,-20.936323852638559]
[356,6.2133721370998138,{"$f":"Burmester($B$3:$C$3,$B$4:$C$4,$B$5:$C$5,$E$3,$E$4,$E$5,B720)","v":2.1781282210720132},6.0223166492363625,{"$f":"ThreePosition_Basic2($E$3,$E$5,$B$3:$C$3,$B$5:$C$5,B720,C720)","v":-3.9879509835201641},7.2962116764204827,-2.4572446107147954,3.1405636700940907,{"$f":"ThreePosition_Basic2($E$3,$E$5,$B$3:$C$3,$B$5:$C$5,B720,D720)","v":-3.3940072552581335},-0.49223848311447754,1.9793235405391632,-23.772511426261577]
[356.5,6.2220987833597849,{"$f":"Burmester($B$3:$C$3,$B$4:$C$4,$B$5:$C$5,$E$3,$E$4,$E$5,B721)","v":2.1647391413463657},6.0538629409750895,{"$f":"ThreePosition_Basic2($E$3,$E$5,$B$3:$C$3,$B$5:$C$5,B721,C721)","v":-4.0289736207661138},7.4631239889119509,-2.4726723355227964,3.165749008893207,{"$f":"ThreePosition_Basic2($E$3,$E$5,$B$3:$C$3,$B$5:$C$5,B721,D721)","v":-3.3935510240757756},-0.56628981432603853,2.6570962588612508,-27.407311650991581]
[357,6.2308254296197561,{"$f":"Burmester($B$3:$C$3,$B$4:$C$4,$B$5:$C$5,$E$3,$E$4,$E$5,B722)","v":2.1511372946760234},6.0856746221440332,{"$f":"ThreePosition_Basic2($E$3,$E$5,$B$3:$C$3,$B$5:$C$5,B722,C722)","v":-4.072204337591109},7.6409712809273254,-2.4885295778238254,3.1917390314232463,{"$f":"ThreePosition_Basic2($E$3,$E$5,$B$3:$C$3,$B$5:$C$5,B722,D722)","v":-3.3925216880489302},-0.64287107088154427,3.5618483341162772,-32.239555523042853]
[357.5,6.2395520758797289,{"$f":"Burmester($B$3:$C$3,$B$4:$C$4,$B$5:$C$5,$E$3,$E$4,$E$5,B723)","v":2.1373059706200923},6.1177687789883013,{"$f":"ThreePosition_Basic2($E$3,$E$5,$B$3:$C$3,$B$5:$C$5,B723,C723)","v":-4.11786915325479},7.830977932460895,-2.5048400129647086,3.2185933084117933,{"$f":"ThreePosition_Basic2($E$3,$E$5,$B$3:$C$3,$B$5:$C$5,B723,D723)","v":-3.3908751156127308},-0.72216138806609753,4.8295912693539922,-38.987094932603014]
[358,6.2482787221397,{"$f":"Burmester($B$3:$C$3,$B$4:$C$4,$B$5:$C$5,$E$3,$E$4,$E$5,B724)","v":2.1232270490745528},6.1501639060473803,{"$f":"ThreePosition_Basic2($E$3,$E$5,$B$3:$C$3,$B$5:$C$5,B724,C724)","v":-4.1662289764592568},8.0345631967895432,-2.5216294594108533,3.2463773389801043,{"$f":"ThreePosition_Basic2($E$3,$E$5,$B$3:$C$3,$B$5:$C$5,B724,D724)","v":-3.3885625779957582},-0.80435937403574886,6.7323260808327028,-49.085572755393187]
[358.5,6.2570053683996711,{"$f":"Burmester($B$3:$C$3,$B$4:$C$4,$B$5:$C$5,$E$3,$E$4,$E$5,B725)","v":2.108880803975719},6.1828801022941766,{"$f":"ThreePosition_Basic2($E$3,$E$5,$B$3:$C$3,$B$5:$C$5,B725,C725)","v":-4.2175868664741571},8.253382356988725,-2.5389261601219739,3.2751633966570806,{"$f":"ThreePosition_Basic2($E$3,$E$5,$B$3:$C$3,$B$5:$C$5,B725,D725)","v":-3.3855300895084746},-0.88968609308155477,9.9046890443124962,-65.884731806082229]
[359,6.2657320146596422,{"$f":"Burmester($B$3:$C$3,$B$4:$C$4,$B$5:$C$5,$E$3,$E$4,$E$5,B726)","v":2.0942456726575625},6.215939301615232,{"$f":"ThreePosition_Basic2($E$3,$E$5,$B$3:$C$3,$B$5:$C$5,B726,C726)","v":-4.2722972216766166},8.4893788855035996,-2.5567611136039017,3.305031530790794,{"$f":"ThreePosition_Basic2($E$3,$E$5,$B$3:$C$3,$B$5:$C$5,B726,D726)","v":-3.3817176222243899},-0.97838863949947208,16.250533868540344,-99.433648253157642]
[359.5,6.2744586609196151,{"$f":"Burmester($B$3:$C$3,$B$4:$C$4,$B$5:$C$5,$E$3,$E$4,$E$5,B727)","v":2.0792979830922049},6.2493655454028145,{"$f":"ThreePosition_Basic2($E$3,$E$5,$B$3:$C$3,$B$5:$C$5,B727,C727)","v":-4.3307775264112065},8.7448512233065738,-2.5751684658256826,3.3360707593913697,{"$f":"ThreePosition_Basic2($E$3,$E$5,$B$3:$C$3,$B$5:$C$5,B727,D727)","v":-3.3770581648506286},-1.0707444477292229,35.28900494757734,-199.97735967290345]
[360,6.2831853071795862,{"$f":"Burmester($B$3:$C$3,$B$4:$C$4,$B$5:$C$5,$E$3,$E$4,$E$5,B728)","v":2.0640116290927297},6.2831853071795853,{"$f":"ThreePosition_Basic2($E$3,$E$5,$B$3:$C$3,$B$5:$C$5,B728,C728)","v":-4.3935235362426024},9.0225392270710074,-2.5941859773005165,3.3683804996420648,{"$f":"ThreePosition_Basic2($E$3,$E$5,$B$3:$C$3,$B$5:$C$5,B728,D728)","v":-2.6998421477931198},-0.53878647383028333,-376504155654992.94,-4241693945216753]
[{"$f":"'1234'!A729","v":0.1},null,null,null,"-Z1",null,"R1",null,"-Z2",null,"R2"]
[{"$f":"'1234'!A730","v":331},{"$f":"A730*PI()/180","v":5.7770398241012311},{"$f":"Burmester($B$3:$C$3,$B$4:$C$4,$B$5:$C$5,$E$3,$E$4,$E$5,B730)","v":2.7916997716470076},4.5596468662206897,{"$f":"ThreePosition_Basic2($E$3,$E$5,$B$3:$C$3,$B$5:$C$5,B730,C730)","v":-3.0331180724887798},3.8267526371695162,-1.9830010954599071,2.2799448766820687,{"$f":"ThreePosition_Basic2($E$3,$E$5,$B$3:$C$3,$B$5:$C$5,B730,D730)","v":-3.1069571631310886},1.7244742890604718,-1.8367922532501131,-0.5207290836340186]
[{"$f":"A730+$A$729","v":331.1},{"$f":"A731*PI()/180","v":5.7787851533532253},{"$f":"Burmester($B$3:$C$3,$B$4:$C$4,$B$5:$C$5,$E$3,$E$4,$E$5,B731)","v":2.7887082998898922},4.5658361056909147,{"$f":"ThreePosition_Basic2($E$3,$E$5,$B$3:$C$3,$B$5:$C$5,B731,C731)","v":-3.0350492101884199},3.8341015447909155,-1.9842218902742259,2.2833328438839899,{"$f":"ThreePosition_Basic2($E$3,$E$5,$B$3:$C$3,$B$5:$C$5,B731,D731)","v":-3.1086262044016353},1.71802715705842,-1.8359266199519095,-0.53820755194157077]
[{"$f":"A731+$A$729","v":331.20000000000005},5.7805304826052204,{"$f":"Burmester($B$3:$C$3,$B$4:$C$4,$B$5:$C$5,$E$3,$E$4,$E$5,B732)","v":2.7857303265324598},4.5720132118988523,{"$f":"ThreePosition_Basic2($E$3,$E$5,$B$3:$C$3,$B$5:$C$5,B732,C732)","v":-3.0369885877567291},3.8414601593080495,-1.9854461059245554,2.2867084592318196,{"$f":"ThreePosition_Basic2($E$3,$E$5,$B$3:$C$3,$B$5:$C$5,B732,D732)","v":-3.1102929381909679},1.7115795584103437,-1.8350446946261187,-0.55576169289076693]
[331.30000000000007,5.7822758118572146,{"$f":"Burmester($B$3:$C$3,$B$4:$C$4,$B$5:$C$5,$E$3,$E$4,$E$5,B733)","v":2.7827656209607166},4.5781784180629117,{"$f":"ThreePosition_Basic2($E$3,$E$5,$B$3:$C$3,$B$5:$C$5,B733,C733)","v":-3.0389362257686918},3.8488288618097677,-1.9866737556266261,2.2900720028540178,{"$f":"ThreePosition_Basic2($E$3,$E$5,$B$3:$C$3,$B$5:$C$5,B733,D733)","v":-3.1119573705837},1.7051312062206458,-1.8341463049891709,-0.5733926742312192]
[331.40000000000009,5.7840211411092088,{"$f":"Burmester($B$3:$C$3,$B$4:$C$4,$B$5:$C$5,$E$3,$E$4,$E$5,B734)","v":2.7798139575698206},4.5843319523956296,{"$f":"ThreePosition_Basic2($E$3,$E$5,$B$3:$C$3,$B$5:$C$5,B734,C734)","v":-3.0408921455832671},3.856208030022795,-1.9879048526872793,2.2934237490283982,{"$f":"ThreePosition_Basic2($E$3,$E$5,$B$3:$C$3,$B$5:$C$5,B734,D734)","v":-3.1136195070890524},1.6986818180457961,-1.8332312763631078,-0.59110167011181902]
[331.50000000000011,5.7857664703612048,{"$f":"Burmester($B$3:$C$3,$B$4:$C$4,$B$5:$C$5,$E$3,$E$4,$E$5,B735)","v":2.776875115604946},4.5904740382628146,{"$f":"ThreePosition_Basic2($E$3,$E$5,$B$3:$C$3,$B$5:$C$5,B735,C735)","v":-3.0428563693342352},3.8635980384898563,-1.9891394105061528,2.296763966376389,{"$f":"ThreePosition_Basic2($E$3,$E$5,$B$3:$C$3,$B$5:$C$5,B735,D735)","v":-3.1152793526525016},1.6922311157310077,-1.8322994316332737,-0.60888986148898749]
[331.60000000000014,5.7875117996131991,{"$f":"Burmester($B$3:$C$3,$B$4:$C$4,$B$5:$C$5,$E$3,$E$4,$E$5,B736)","v":2.7739488790084579},4.5966048943363411,{"$f":"ThreePosition_Basic2($E$3,$E$5,$B$3:$C$3,$B$5:$C$5,B736,C736)","v":-3.0448289199216463},3.8709992587417577,-1.9903774425773622,2.3000929180495899,{"$f":"ThreePosition_Basic2($E$3,$E$5,$B$3:$C$3,$B$5:$C$5,B736,D736)","v":-3.1169369116669463},1.6857788252532673,-1.831350591205283,-0.62675843653160546]
[331.70000000000016,5.7892571288651942,{"$f":"Burmester($B$3:$C$3,$B$4:$C$4,$B$5:$C$5,$E$3,$E$4,$E$5,B737)","v":2.7710350362730503},4.6027247347410389,{"$f":"ThreePosition_Basic2($E$3,$E$5,$B$3:$C$3,$B$5:$C$5,B737,C737)","v":-3.0468098210038046},3.8784120594637987,-1.9916189624911214,2.303410861909005,{"$f":"ThreePosition_Basic2($E$3,$E$5,$B$3:$C$3,$B$5:$C$5,B737,D737)","v":-3.1185921879833547},1.6793246765702199,-1.830384572961085,-0.64470859102347133]
[331.80000000000018,5.7910024581171884,{"$f":"Burmester($B$3:$C$3,$B$4:$C$4,$B$5:$C$5,$E$3,$E$4,$E$5,B738)","v":2.7681333803006218},4.6088337691957957,{"$f":"ThreePosition_Basic2($E$3,$E$5,$B$3:$C$3,$B$5:$C$5,B738,C738)","v":-3.0487990969897822},3.8858368066566813,-1.9928639839353399,2.3067180506972669,{"$f":"ThreePosition_Basic2($E$3,$E$5,$B$3:$C$3,$B$5:$C$5,B738,D738)","v":-3.1202451849209205},1.672868403474828,-1.8294011922141988,-0.66274152876327053]
[331.9000000000002,5.7927477873691826,{"$f":"Burmester($B$3:$C$3,$B$4:$C$4,$B$5:$C$5,$E$3,$E$4,$E$5,B739)","v":2.7652437082665591},4.6149322031492774,{"$f":"ThreePosition_Basic2($E$3,$E$5,$B$3:$C$3,$B$5:$C$5,B739,C739)","v":-3.0507967730324221},3.8932738637923174,-1.994112520697167,2.3100147322042313,{"$f":"ThreePosition_Basic2($E$3,$E$5,$B$3:$C$3,$B$5:$C$5,B739,D739)","v":-3.1218959052767707},1.6664097434553693,-1.8284002616640496,-0.68085846196292787]
[332.00000000000023,5.7944931166211786,{"$f":"Burmester($B$3:$C$3,$B$4:$C$4,$B$5:$C$5,$E$3,$E$4,$E$5,B740)","v":2.7623658214892237},4.6210202379104395,{"$f":"ThreePosition_Basic2($E$3,$E$5,$B$3:$C$3,$B$5:$C$5,B740,C740)","v":-3.0528028750218512},3.9007235919647223,-1.9953645866645304,2.3133011494262243,{"$f":"ThreePosition_Basic2($E$3,$E$5,$B$3:$C$3,$B$5:$C$5,B740,D740)","v":-3.1235443513352257},1.6599484375606088,-1.8273815913493991,-0.69906061164452526]
[332.10000000000025,5.7962384458731728,{"$f":"Burmester($B$3:$C$3,$B$4:$C$4,$B$5:$C$5,$E$3,$E$4,$E$5,B741)","v":2.7594995253043724},4.6270980707740872,{"$f":"ThreePosition_Basic2($E$3,$E$5,$B$3:$C$3,$B$5:$C$5,B741,C741)","v":-3.0548174295794235},3.9081863500362526,-1.9966201958276149,2.3165775407192561,{"$f":"ThreePosition_Basic2($E$3,$E$5,$B$3:$C$3,$B$5:$C$5,B741,D741)","v":-3.1251905248766265},1.6534842302698944,-1.8263449886008347,-0.71734920803622737]
[332.20000000000027,5.797983775125167,{"$f":"Burmester($B$3:$C$3,$B$4:$C$4,$B$5:$C$5,$E$3,$E$4,$E$5,B742)","v":2.756644628944275},4.6331658951417776,{"$f":"ThreePosition_Basic2($E$3,$E$5,$B$3:$C$3,$B$5:$C$5,B742,C742)","v":-3.0568404640521472},3.9156624947794945,-1.9978793622803404,2.3198441399464897,{"$f":"ThreePosition_Basic2($E$3,$E$5,$B$3:$C$3,$B$5:$C$5,B742,D742)","v":-3.1268344271857824},1.6470168693678402,-1.8252902579922821,-0.73572549096788764]
[332.3000000000003,5.7997291043771622,{"$f":"Burmester($B$3:$C$3,$B$4:$C$4,$B$5:$C$5,$E$3,$E$4,$E$5,B743)","v":2.7538009454213479},4.6392239006381706,{"$f":"ThreePosition_Basic2($E$3,$E$5,$B$3:$C$3,$B$5:$C$5,B743,C743)","v":-3.0588720065075377},3.9231523810149218,-1.9991421002218148,2.3231011766202183,{"$f":"ThreePosition_Basic2($E$3,$E$5,$B$3:$C$3,$B$5:$C$5,B743,D743)","v":-3.1284760590600054},1.6405461058235336,-1.8242172012915314,-0.75419071026633944]
[]
[]
[null,null,null,null,"-Z1",null,"R1",null,"-Z2",null,"R2"]
[{"$f":"'1234'!A747","v":318},{"$f":"A747*PI()/180","v":5.5501470213419681},{"$f":"Burmester($B$3:$C$3,$B$4:$C$4,$B$5:$C$5,$E$3,$E$4,$E$5,B747)","v":{"$error":"#VALUE!"}},{"$error":"#VALUE!"},{"$f":"ThreePosition_Basic2($E$3,$E$5,$B$3:$C$3,$B$5:$C$5,B747,C747)","v":{"$error":"#VALUE!"}},{"$error":"#VALUE!"},{"$error":"#VALUE!"},{"$error":"#VALUE!"},{"$f":"ThreePosition_Basic2($E$3,$E$5,$B$3:$C$3,$B$5:$C$5,B747,D747)","v":{"$error":"#VALUE!"}},{"$error":"#VALUE!"},{"$error":"#VALUE!"},{"$error":"#VALUE!"}]
[{"$f":"'1234'!A748","v":318.10000000000002},{"$f":"A748*PI()/180","v":5.5518923505939632},{"$f":"Burmester($B$3:$C$3,$B$4:$C$4,$B$5:$C$5,$E$3,$E$4,$E$5,B748)","v":{"$error":"#VALUE!"}},{"$error":"#VALUE!"},{"$f":"ThreePosition_Basic2($E$3,$E$5,$B$3:$C$3,$B$5:$C$5,B748,C748)","v":{"$error":"#VALUE!"}},{"$error":"#VALUE!"},{"$error":"#VALUE!"},{"$error":"#VALUE!"},{"$f":"ThreePosition_Basic2($E$3,$E$5,$B$3:$C$3,$B$5:$C$5,B748,D748)","v":{"$error":"#VALUE!"}},{"$error":"#VALUE!"},{"$error":"#VALUE!"},{"$error":"#VALUE!"}]
[{"$f":"'1234'!A749","v":318.20000000000005},5.5536376798459575,{"$f":"Burmester($B$3:$C$3,$B$4:$C$4,$B$5:$C$5,$E$3,$E$4,$E$5,B749)","v":{"$error":"#VALUE!"}},{"$error":"#VALUE!"},{"$f":"ThreePosition_Basic2($E$3,$E$5,$B$3:$C$3,$B$5:$C$5,B749,C749)","v":{"$error":"#VALUE!"}},{"$error":"#VALUE!"},{"$error":"#VALUE!"},{"$error":"#VALUE!"},{"$f":"ThreePosition_Basic2($E$3,$E$5,$B$3:$C$3,$B$5:$C$5,B749,D749)","v":{"$error":"#VALUE!"}},{"$error":"#VALUE!"},{"$error":"#VALUE!"},{"$error":"#VALUE!"}]
[{"$f":"'1234'!A750","v":318.30000000000007},5.5553830090979517,{"$f":"Burmester($B$3:$C$3,$B$4:$C$4,$B$5:$C$5,$E$3,$E$4,$E$5,B750)","v":{"$error":"#VALUE!"}},{"$error":"#VALUE!"},{"$f":"ThreePosition_Basic2($E$3,$E$5,$B$3:$C$3,$B$5:$C$5,B750,C750)","v":{"$error":"#VALUE!"}},{"$error":"#VALUE!"},{"$error":"#VALUE!"},{"$error":"#VALUE!"},{"$f":"ThreePosition_Basic2($E$3,$E$5,$B$3:$C$3,$B$5:$C$5,B750,D750)","v":{"$error":"#VALUE!"}},{"$error":"#VALUE!"},{"$error":"#VALUE!"},{"$error":"#VALUE!"}]
[{"$f":"'1234'!A751","v":318.40000000000009},5.5571283383499468,{"$f":"Burmester($B$3:$C$3,$B$4:$C$4,$B$5:$C$5,$E$3,$E$4,$E$5,B751)","v":{"$error":"#VALUE!"}},{"$error":"#VALUE!"},{"$f":"ThreePosition_Basic2($E$3,$E$5,$B$3:$C$3,$B$5:$C$5,B751,C751)","v":{"$error":"#VALUE!"}},{"$error":"#VALUE!"},{"$error":"#VALUE!"},{"$error":"#VALUE!"},{"$f":"ThreePosition_Basic2($E$3,$E$5,$B$3:$C$3,$B$5:$C$5,B751,D751)","v":{"$error":"#VALUE!"}},{"$error":"#VALUE!"},{"$error":"#VALUE!"},{"$error":"#VALUE!"}]
[{"$f":"'1234'!A752","v":318.50000000000011},5.5588736676019419,{"$f":"Burmester($B$3:$C$3,$B$4:$C$4,$B$5:$C$5,$E$3,$E$4,$E$5,B752)","v":{"$error":"#VALUE!"}},{"$error":"#VALUE!"},{"$f":"ThreePosition_Basic2($E$3,$E$5,$B$3:$C$3,$B$5:$C$5,B752,C752)","v":{"$error":"#VALUE!"}},{"$error":"#VALUE!"},{"$error":"#VALUE!"},{"$error":"#VALUE!"},{"$f":"ThreePosition_Basic2($E$3,$E$5,$B$3:$C$3,$B$5:$C$5,B752,D752)","v":{"$error":"#VALUE!"}},{"$error":"#VALUE!"},{"$error":"#VALUE!"},{"$error":"#VALUE!"}]
[{"$f":"'1234'!A753","v":318.60000000000014},5.5606189968539361,{"$f":"Burmester($B$3:$C$3,$B$4:$C$4,$B$5:$C$5,$E$3,$E$4,$E$5,B753)","v":{"$error":"#VALUE!"}},{"$error":"#VALUE!"},{"$f":"ThreePosition_Basic2($E$3,$E$5,$B$3:$C$3,$B$5:$C$5,B753,C753)","v":{"$error":"#VALUE!"}},{"$error":"#VALUE!"},{"$error":"#VALUE!"},{"$error":"#VALUE!"},{"$f":"ThreePosition_Basic2($E$3,$E$5,$B$3:$C$3,$B$5:$C$5,B753,D753)","v":{"$error":"#VALUE!"}},{"$error":"#VALUE!"},{"$error":"#VALUE!"},{"$error":"#VALUE!"}]
[{"$f":"'1234'!A754","v":318.70000000000016},5.5623643261059312,{"$f":"Burmester($B$3:$C$3,$B$4:$C$4,$B$5:$C$5,$E$3,$E$4,$E$5,B754)","v":{"$error":"#VALUE!"}},{"$error":"#VALUE!"},{"$f":"ThreePosition_Basic2($E$3,$E$5,$B$3:$C$3,$B$5:$C$5,B754,C754)","v":{"$error":"#VALUE!"}},{"$error":"#VALUE!"},{"$error":"#VALUE!"},{"$error":"#VALUE!"},{"$f":"ThreePosition_Basic2($E$3,$E$5,$B$3:$C$3,$B$5:$C$5,B754,D754)","v":{"$error":"#VALUE!"}},{"$error":"#VALUE!"},{"$error":"#VALUE!"},{"$error":"#VALUE!"}]
[{"$f":"'1234'!A755","v":318.80000000000018},5.5641096553579255,{"$f":"Burmester($B$3:$C$3,$B$4:$C$4,$B$5:$C$5,$E$3,$E$4,$E$5,B755)","v":{"$error":"#VALUE!"}},{"$error":"#VALUE!"},{"$f":"ThreePosition_Basic2($E$3,$E$5,$B$3:$C$3,$B$5:$C$5,B755,C755)","v":{"$error":"#VALUE!"}},{"$error":"#VALUE!"},{"$error":"#VALUE!"},{"$error":"#VALUE!"},{"$f":"ThreePosition_Basic2($E$3,$E$5,$B$3:$C$3,$B$5:$C$5,B755,D755)","v":{"$error":"#VALUE!"}},{"$error":"#VALUE!"},{"$error":"#VALUE!"},{"$error":"#VALUE!"}]
[{"$f":"'1234'!A756","v":318.9000000000002},5.5658549846099197,{"$f":"Burmester($B$3:$C$3,$B$4:$C$4,$B$5:$C$5,$E$3,$E$4,$E$5,B756)","v":{"$error":"#VALUE!"}},{"$error":"#VALUE!"},{"$f":"ThreePosition_Basic2($E$3,$E$5,$B$3:$C$3,$B$5:$C$5,B756,C756)","v":{"$error":"#VALUE!"}},{"$error":"#VALUE!"},{"$error":"#VALUE!"},{"$error":"#VALUE!"},{"$f":"ThreePosition_Basic2($E$3,$E$5,$B$3:$C$3,$B$5:$C$5,B756,D756)","v":{"$error":"#VALUE!"}},{"$error":"#VALUE!"},{"$error":"#VALUE!"},{"$error":"#VALUE!"}]
[{"$f":"'1234'!A757","v":319.00000000000023},5.5676003138619148,{"$f":"Burmester($B$3:$C$3,$B$4:$C$4,$B$5:$C$5,$E$3,$E$4,$E$5,B757)","v":{"$error":"#VALUE!"}},{"$error":"#VALUE!"},{"$f":"ThreePosition_Basic2($E$3,$E$5,$B$3:$C$3,$B$5:$C$5,B757,C757)","v":{"$error":"#VALUE!"}},{"$error":"#VALUE!"},{"$error":"#VALUE!"},{"$error":"#VALUE!"},{"$f":"ThreePosition_Basic2($E$3,$E$5,$B$3:$C$3,$B$5:$C$5,B757,D757)","v":{"$error":"#VALUE!"}},{"$error":"#VALUE!"},{"$error":"#VALUE!"},{"$error":"#VALUE!"}]
[{"$f":"'1234'!A758","v":319.10000000000025},5.5693456431139099,{"$f":"Burmester($B$3:$C$3,$B$4:$C$4,$B$5:$C$5,$E$3,$E$4,$E$5,B758)","v":{"$error":"#VALUE!"}},{"$error":"#VALUE!"},{"$f":"ThreePosition_Basic2($E$3,$E$5,$B$3:$C$3,$B$5:$C$5,B758,C758)","v":{"$error":"#VALUE!"}},{"$error":"#VALUE!"},{"$error":"#VALUE!"},{"$error":"#VALUE!"},{"$f":"ThreePosition_Basic2($E$3,$E$5,$B$3:$C$3,$B$5:$C$5,B758,D758)","v":{"$error":"#VALUE!"}},{"$error":"#VALUE!"},{"$error":"#VALUE!"},{"$error":"#VALUE!"}]
[{"$f":"'1234'!A759","v":319.20000000000027},5.571090972365905,{"$f":"Burmester($B$3:$C$3,$B$4:$C$4,$B$5:$C$5,$E$3,$E$4,$E$5,B759)","v":{"$error":"#VALUE!"}},{"$error":"#VALUE!"},{"$f":"ThreePosition_Basic2($E$3,$E$5,$B$3:$C$3,$B$5:$C$5,B759,C759)","v":{"$error":"#VALUE!"}},{"$error":"#VALUE!"},{"$error":"#VALUE!"},{"$error":"#VALUE!"},{"$f":"ThreePosition_Basic2($E$3,$E$5,$B$3:$C$3,$B$5:$C$5,B759,D759)","v":{"$error":"#VALUE!"}},{"$error":"#VALUE!"},{"$error":"#VALUE!"},{"$error":"#VALUE!"}]
[]
[]
[null,null,null,null,"-Z1",null,"R1",null,"-Z2",null,"R2"]
[{"$f":"'1234'!A763","v":8.8825000000000003},{"$f":"A763*PI()/180","v":0.15502887080839634},{"$f":"Burmester($B$3:$C$3,$B$4:$C$4,$B$5:$C$5,$E$3,$E$4,$E$5,B763)","v":1.6692572135032997},0.7335304460251848,{"$f":"ThreePosition_Basic2($E$3,$E$5,$B$3:$C$3,$B$5:$C$5,B763,C763)","v":-11.207184648520823},46.189070864775914,-3.1307895635931668,4.4346330791799033,{"$f":"ThreePosition_Basic2($E$3,$E$5,$B$3:$C$3,$B$5:$C$5,B763,D763)","v":-2.8941254162394321},-4.5471112425310869,-4.7305669448765384,10.708449605981848]
[{"$f":"'1234'!A764","v":8.8826000000000001},{"$f":"A764*PI()/180","v":0.15503061613764832},{"$f":"Burmester($B$3:$C$3,$B$4:$C$4,$B$5:$C$5,$E$3,$E$4,$E$5,B764)","v":1.6692496974300843},0.73354188135439879,{"$f":"ThreePosition_Basic2($E$3,$E$5,$B$3:$C$3,$B$5:$C$5,B764,C764)","v":-11.207803596008294},46.192607876306063,-3.1308002831158444,4.4346582645041792,{"$f":"ThreePosition_Basic2($E$3,$E$5,$B$3:$C$3,$B$5:$C$5,B764,D764)","v":-2.8941092132572783},-4.5471993501116019,-4.7305359983463457,10.708290680620053]
[{"$f":"'1234'!A765","v":8.8826999999999998},0.1550323614669003,{"$f":"Burmester($B$3:$C$3,$B$4:$C$4,$B$5:$C$5,$E$3,$E$4,$E$5,B765)","v":1.6692421811815052},0.73355331686142078,{"$f":"ThreePosition_Basic2($E$3,$E$5,$B$3:$C$3,$B$5:$C$5,B765,C765)","v":-11.208422651266213},46.196145509795265,-3.1308110028988008,4.4346834506287749,{"$f":"ThreePosition_Basic2($E$3,$E$5,$B$3:$C$3,$B$5:$C$5,B765,D765)","v":-2.8940930095691337},-4.547287461094994,-4.7305050521005914,10.708131757302141]
[{"$f":"'1234'!A766","v":8.8827999999999996},0.15503410679615229,{"$f":"Burmester($B$3:$C$3,$B$4:$C$4,$B$5:$C$5,$E$3,$E$4,$E$5,B766)","v":1.669234664757556},0.7335647525462573,{"$f":"ThreePosition_Basic2($E$3,$E$5,$B$3:$C$3,$B$5:$C$5,B766,C766)","v":-11.209041814323088},46.199683765409056,-3.1308217229420965,4.4347086375537685,{"$f":"ThreePosition_Basic2($E$3,$E$5,$B$3:$C$3,$B$5:$C$5,B766,D766)","v":-2.8940768051749295},-4.5473755754814391,-4.7304741061392415,10.707972836027977]
[{"$f":"'1234'!A767","v":8.8828999999999994},0.15503585212540427,{"$f":"Burmester($B$3:$C$3,$B$4:$C$4,$B$5:$C$5,$E$3,$E$4,$E$5,B767)","v":1.6692271481582224},0.73357618840892314,{"$f":"ThreePosition_Basic2($E$3,$E$5,$B$3:$C$3,$B$5:$C$5,B767,C767)","v":-11.209661085208118},46.203222643314369,-3.1308324432457102,4.4347338252791673,{"$f":"ThreePosition_Basic2($E$3,$E$5,$B$3:$C$3,$B$5:$C$5,B767,D767)","v":-2.8940606000746474},-4.5474636932712702,-4.7304431604622543,10.707813916797431]
[{"$f":"'1234'!A768","v":8.8829999999999991},0.15503759745465626,{"$f":"Burmester($B$3:$C$3,$B$4:$C$4,$B$5:$C$5,$E$3,$E$4,$E$5,B768)","v":1.6692196313834968},0.73358762444942516,{"$f":"ThreePosition_Basic2($E$3,$E$5,$B$3:$C$3,$B$5:$C$5,B768,C768)","v":-11.210280463949577},46.206762143677516,-3.1308431638096899,4.4347590138050847,{"$f":"ThreePosition_Basic2($E$3,$E$5,$B$3:$C$3,$B$5:$C$5,B768,D768)","v":-2.8940443942681866},-4.5475518144646836,-4.7304122150696077,10.707654999610309]
[{"$f":"'1234'!A769","v":8.8830999999999989},0.15503934278390827,{"$f":"Burmester($B$3:$C$3,$B$4:$C$4,$B$5:$C$5,$E$3,$E$4,$E$5,B769)","v":1.6692121144333658},0.73359906066777714,{"$f":"ThreePosition_Basic2($E$3,$E$5,$B$3:$C$3,$B$5:$C$5,B769,C769)","v":-11.210899950576971},46.210302266665167,-3.1308538846340426,4.434784203131521,{"$f":"ThreePosition_Basic2($E$3,$E$5,$B$3:$C$3,$B$5:$C$5,B769,D769)","v":-2.8940281877555338},-4.5476399390619715,-4.7303812699612475,10.707496084466477]
[{"$f":"'1234'!A770","v":8.8831999999999987},0.15504108811316025,{"$f":"Burmester($B$3:$C$3,$B$4:$C$4,$B$5:$C$5,$E$3,$E$4,$E$5,B770)","v":1.6692045973078222},0.73361049706398596,{"$f":"ThreePosition_Basic2($E$3,$E$5,$B$3:$C$3,$B$5:$C$5,B770,C770)","v":-11.211519545118284},46.213843012443355,-3.1308646057187861,4.4348093932585755,{"$f":"ThreePosition_Basic2($E$3,$E$5,$B$3:$C$3,$B$5:$C$5,B770,D770)","v":-2.8940119805366069},-4.5477280670633506,-4.7303503251371639,10.707337171365811]
[{"$f":"'1234'!A771","v":8.8832999999999984},0.15504283344241226,{"$f":"Burmester($B$3:$C$3,$B$4:$C$4,$B$5:$C$5,$E$3,$E$4,$E$5,B771)","v":1.6691970800068503},0.73362193363806816,{"$f":"ThreePosition_Basic2($E$3,$E$5,$B$3:$C$3,$B$5:$C$5,B771,C771)","v":-11.212139247603238},46.217384381179656,-3.130875327063892,4.4348345841862482,{"$f":"ThreePosition_Basic2($E$3,$E$5,$B$3:$C$3,$B$5:$C$5,B771,D771)","v":-2.8939957726113943},-4.5478161984691701,-4.7303193805973045,10.707178260308133]
[{"$f":"'1234'!A772","v":8.8833999999999982},0.15504457877166425,{"$f":"Burmester($B$3:$C$3,$B$4:$C$4,$B$5:$C$5,$E$3,$E$4,$E$5,B772)","v":1.6691895625304385},0.7336333703900344,{"$f":"ThreePosition_Basic2($E$3,$E$5,$B$3:$C$3,$B$5:$C$5,B772,C772)","v":-11.212759058060723},46.220926373040797,-3.1308860486693764,4.4348597759145676,{"$f":"ThreePosition_Basic2($E$3,$E$5,$B$3:$C$3,$B$5:$C$5,B772,D772)","v":-2.8939795639798493},-4.5479043332796891,-4.7302884363416258,10.707019351293306]

{"sheet":" 12345 Circle","index":2,"n_rows":735,"n_cols":34,"rows_kept":735,"cut":false,"hidden":false,"merged":[]}
[]
[null,null,null,null,null,null,null,null,null,null,"b2","(radians)","b41","b42","-Z1x","-Z1y","R1x","R1y","-Z2x","-Z2y","R2x","R12y"]
["d2",1.5,0.9,"a2",{"$f":"F3*PI()/180","v":0.17453292519943295},10,null,null,null,140,{"$f":"J3+0.01*J4+0.0001*J5","v":140.4616},{"$f":"K3*PI()/180","v":2.4515173926192673},{"$f":"Burmester(B3:C3,B4:C4,B5:C5,E3,E4,E5,L3)","v":3.766225103748829},3.4556488248201851,{"$f":"ThreePosition_Basic2(E3,E5,B3:C3,B5:C5,L3,M3)","v":-0.69914564131181722},2.2017768460566938,-0.26891021571832052,2.7771108585193174,{"$f":"ThreePosition_Basic2(E3,E5,B3:C3,B5:C5,L3,N3)","v":-0.87041439709738233},1.9906958800164427,-0.41578277264712504,2.5598175950407995]
["d3",1.6,1.5,"a3",{"$f":"F4*PI()/180","v":0.3490658503988659},20,null,null,null,46,null,null,null,null,null,null,null,null,null,null,null,null,null,null,null,null,"b2","(radians)","b41","b51","-Z1x","-Z1y","R1x","R1y"]
["d4",2,3,"a4",{"$f":"F5*PI()/180","v":1.0471975511965976},60,null,null,null,16,{"$f":"K3","v":140.4616},{"$f":"K5*PI()/180","v":2.4515173926192673},{"$f":"Burmester(B3:C3,B4:C4,B6:C6,E3,E4,E6,L5)","v":5.8101303136708902},2.340747543960509,{"$f":"ThreePosition_Basic2(E3,E6,B3:C3,B6:C6,L5,M5)","v":-0.37519111206144479},2.8979836911646153,-1.6072540332642382E-2,3.4735460901114501,{"$f":"ThreePosition_Basic2(E3,E6,B3:C3,B6:C6,L5,N5)","v":-0.87040391272943241},1.9907072302689008,-0.41577364958099688,2.5598293865523738,null,null,null,null,156.93,2.7389451951547015,4.6702663504392703,2.9865781264258522,-0.81830862687714401,2.836384946710762,-0.38130156894658979,3.2978653456122369]
["d5",2.2999999999999998,3.5,"a5",{"$f":"F6*PI()/180","v":1.5707963267948966},90]
[null,null,null,null,null,null,null,null,null,null,null,null,null,null,{"$f":"SQRT((O3-O5)^2+(P3-P5)^2)","v":0.76788704130031771},{"$f":"SQRT((O3-S5)^2+(P3-T5)^2)","v":0.2718083483591997},{"$f":"SQRT((S3-O5)^2+(T3-P5)^2)","v":1.0336427208178982},{"$f":"SQRT((S3-S5)^2+(T3-T5)^2)","v":1.545154368251717E-5}]
[]
[null,null,null,null,null,null,null,null,null,null,null,null,null,null,null,null,null,null,null,null,null,null,null,null,null,null,"b2","(radians)","b42","b52","-Z2x","-Z2y","R2x","R12y"]
[null,null,null,null,null,null,null,null,null,null,null,null,null,null,null,null,null,null,null,null,null,null,null,null,null,null,140.46146905654527,2.4515151072248482,3.4556643008938499,2.3407505437953016,-0.87040177325116186,1.9907052078812515,-0.41577188666519327,2.5598283757997256]
[null,"k1234",null,null,null,null,null,null,null,null,null,null,null,"k1235"]
[null,null,null,null,null,null,null,null,null,null,null,null,null,null,null,null,null,null,null,null,null,null,null,null,null,null,"Only one four-bar solution exists and this four-bar cannot pass throgh all five specified positions without disassembling and reassembling."]
[]
["b2",null,"b41","b42","-Z1",null,"R1",null,"-Z2",null,"R2",null,null,"b51","b52","-Z1",null,"R1",null,"-Z2",null,"R2"]
[0,{"$f":"A15*PI()/180","v":0},{"$f":"Burmester($B$3:$C$3,$B$4:$C$4,$B$5:$C$5,$E$3,$E$4,$E$5,B15)","v":1.3683482609981219},5.896775921361303E-16,{"$f":"ThreePosition_Basic2($E$3,$E$5,$B$3:$C$3,$B$5:$C$5,B15,C15)","v":-4.3935235362426051},9.0225392270710092,-2.9429146278537717,4.1470440994798805,{"$f":"ThreePosition_Basic2($E$3,$E$5,$B$3:$C$3,$B$5:$C$5,B15,D15)","v":-4.2749066317972284},8.2295004644302843,8475236477337089,-5450197813944790,null,{"$f":"Burmester($B$3:$C$3,$B$4:$C$4,$B$6:$C$6,$E$3,$E$4,$E$6,B15)","v":2.0640116290927288},4.7181678084098374E-16,{"$f":"ThreePosition_Basic2($E$3,$E$6,$B$3:$C$3,$B$6:$C$6,B15,N15)","v":-4.3935235362426059},9.0225392270710163,-2.5941859773005174,3.3683804996420674,{"$f":"ThreePosition_Basic2($E$3,$E$6,$B$3:$C$3,$B$6:$C$6,B15,O15)","v":-26110.450217565405},-15666.270130539244,9.3629052685457367E+18,6.4832528644183884E+19]
[0.5,{"$f":"A16*PI()/180","v":8.7266462599716477E-3},{"$f":"Burmester($B$3:$C$3,$B$4:$C$4,$B$5:$C$5,$E$3,$E$4,$E$5,B16)","v":1.3607715038230399},2.5116497645406487E-2,{"$f":"ThreePosition_Basic2($E$3,$E$5,$B$3:$C$3,$B$5:$C$5,B16,C16)","v":-4.4464589225011455},9.2833438044313379,-2.9613340715343028,4.1793043909287642,{"$f":"ThreePosition_Basic2($E$3,$E$5,$B$3:$C$3,$B$5:$C$5,B16,D16)","v":-3.4683530765540134},-1.9840550610513106,-40.090531949196119,215.58385410873242,null,{"$f":"Burmester($B$3:$C$3,$B$4:$C$4,$B$6:$C$6,$E$3,$E$4,$E$6,B16)","v":2.0483576806888393},3.4242574865750434E-2,{"$f":"ThreePosition_Basic2($E$3,$E$6,$B$3:$C$3,$B$6:$C$6,B16,N16)","v":-4.4611291477867709},9.3257374378421645,-2.6138555837795483,3.4020722959847385,{"$f":"ThreePosition_Basic2($E$3,$E$6,$B$3:$C$3,$B$6:$C$6,B16,O16)","v":-3.3648882557926165},-1.2677098756182692,-40.86176292859038,201.86943310636224]
[1,1.7453292519943295E-2,{"$f":"Burmester($B$3:$C$3,$B$4:$C$4,$B$5:$C$5,$E$3,$E$4,$E$5,B17)","v":1.3528290083134085},5.0636680621846154E-2,{"$f":"ThreePosition_Basic2($E$3,$E$5,$B$3:$C$3,$B$5:$C$5,B17,C17)","v":-4.5034797563877902},9.5691045126779795,-2.9803924825667787,4.2133068653847738,{"$f":"ThreePosition_Basic2($E$3,$E$5,$B$3:$C$3,$B$5:$C$5,B17,D17)","v":-3.456328507790277},-2.0949138679069694,-21.499349389419045,107.86329838564689,null,{"$f":"Burmester($B$3:$C$3,$B$4:$C$4,$B$6:$C$6,$E$3,$E$4,$E$6,B17)","v":2.0323039130154585},6.8940550425935054E-2,{"$f":"ThreePosition_Basic2($E$3,$E$6,$B$3:$C$3,$B$6:$C$6,B17,N17)","v":-4.5343127468928186},9.6584454747353679,-2.6342240746134582,3.4372719242132383,{"$f":"ThreePosition_Basic2($E$3,$E$6,$B$3:$C$3,$B$6:$C$6,B17,O17)","v":-3.3571973432476274},-1.3730793836811854,-21.821599224597598,101.32039892116403]
[1.5,2.6179938779914941E-2,{"$f":"Burmester($B$3:$C$3,$B$4:$C$4,$B$5:$C$5,$E$3,$E$4,$E$5,B18)","v":1.3444913821274664},7.6590177142768612E-2,{"$f":"ThreePosition_Basic2($E$3,$E$5,$B$3:$C$3,$B$5:$C$5,B18,C18)","v":-4.5652155115231539},9.8838801965030498,-3.0001420927600382,4.2492197832751319,{"$f":"ThreePosition_Basic2($E$3,$E$5,$B$3:$C$3,$B$5:$C$5,B18,D18)","v":-3.4430100675392548},-2.2123357294549431,-15.29828418514775,71.919209730302541,null,{"$f":"Burmester($B$3:$C$3,$B$4:$C$4,$B$6:$C$6,$E$3,$E$4,$E$6,B18)","v":2.0158142317651349},0.10413038115116535,{"$f":"ThreePosition_Basic2($E$3,$E$6,$B$3:$C$3,$B$6:$C$6,B18,N18)","v":-4.6139526640822108},10.025570663668669,-2.6553439205040128,3.4741219754393358,{"$f":"ThreePosition_Basic2($E$3,$E$6,$B$3:$C$3,$B$6:$C$6,B18,O18)","v":-3.3482947242867169},-1.4836397006033724,-15.47291658010486,67.762562512700029]
[2,3.4906585039886591E-2,{"$f":"Burmester($B$3:$C$3,$B$4:$C$4,$B$5:$C$5,$E$3,$E$4,$E$5,B19)","v":1.3357251571109652},0.10301069015947452,{"$f":"ThreePosition_Basic2($E$3,$E$5,$B$3:$C$3,$B$5:$C$5,B19,C19)","v":-4.6324424718900117},10.232695012856388,-3.0206424106103524,4.2872368811524675,{"$f":"ThreePosition_Basic2($E$3,$E$5,$B$3:$C$3,$B$5:$C$5,B19,D19)","v":-3.4282542021606601},-2.337089151986866,-12.194191864719405,53.917422079960424,null,{"$f":"Burmester($B$3:$C$3,$B$4:$C$4,$B$6:$C$6,$E$3,$E$4,$E$6,B19)","v":1.9988479659291511},0.13985309544264524,{"$f":"ThreePosition_Basic2($E$3,$E$6,$B$3:$C$3,$B$6:$C$6,B19,N19)","v":-4.7011356674846771},10.433205504120076,-2.6772742929998099,3.5127850591852132,{"$f":"ThreePosition_Basic2($E$3,$E$6,$B$3:$C$3,$B$6:$C$6,B19,O19)","v":-3.3380553530040196},-1.5999276342915552,-12.296544898087006,50.950811560884269]
[2.5,4.3633231299858237E-2,{"$f":"Burmester($B$3:$C$3,$B$4:$C$4,$B$5:$C$5,$E$3,$E$4,$E$5,B20)","v":1.326491962374692},0.12993682420629568,{"$f":"ThreePosition_Basic2($E$3,$E$5,$B$3:$C$3,$B$5:$C$5,B20,C20)","v":-4.7061306594692756},10.621849695189132,-3.0419617208927963,4.3275828485112529,{"$f":"ThreePosition_Basic2($E$3,$E$5,$B$3:$C$3,$B$5:$C$5,B20,D20)","v":-3.4118926064118362},-2.4700831702634138,-10.328386069364122,43.090912653373714,null,{"$f":"Burmester($B$3:$C$3,$B$4:$C$4,$B$6:$C$6,$E$3,$E$4,$E$6,B20)","v":1.9813589882514335},0.17615517497941902,{"$f":"ThreePosition_Basic2($E$3,$E$6,$B$3:$C$3,$B$6:$C$6,B20,N20)","v":-4.7972245001382845},10.889014539050475,-2.7000823330561086,3.5534478148483597,{"$f":"ThreePosition_Basic2($E$3,$E$6,$B$3:$C$3,$B$6:$C$6,B20,O20)","v":-3.3263349433179048},-1.7225679315014637,-10.388593375949263,40.835961693114498]
[3,5.2359877559829883E-2,{"$f":"Burmester($B$3:$C$3,$B$4:$C$4,$B$5:$C$5,$E$3,$E$4,$E$5,B21)","v":1.3167474687739376},0.15741314084189187,{"$f":"ThreePosition_Basic2($E$3,$E$5,$B$3:$C$3,$B$5:$C$5,B21,C21)","v":-4.7875103186058467},11.059363141084296,-3.064179005049894,4.3705203799849413,{"$f":"ThreePosition_Basic2($E$3,$E$5,$B$3:$C$3,$B$5:$C$5,B21,D21)","v":-3.393726116641143},-2.6124031703981929,-9.0812474924899416,35.850482962374137,null,{"$f":"Burmester($B$3:$C$3,$B$4:$C$4,$B$6:$C$6,$E$3,$E$4,$E$6,B21)","v":1.9632946090978489},0.21308966064477827,{"$f":"ThreePosition_Basic2($E$3,$E$6,$B$3:$C$3,$B$6:$C$6,B21,N21)","v":-4.9039538714183513},11.402784802927167,-2.7238447473944234,3.5963259925765616,{"$f":"ThreePosition_Basic2($E$3,$E$6,$B$3:$C$3,$B$6:$C$6,B21,O21)","v":-3.3129657216764192},-1.8522935934420959,-9.1143760457551917,34.068124541426897]
[3.5,6.1086523819801536E-2,{"$f":"Burmester($B$3:$C$3,$B$4:$C$4,$B$5:$C$5,$E$3,$E$4,$E$5,B22)","v":1.3064400225297816},0.18549152494674995,{"$f":"ThreePosition_Basic2($E$3,$E$5,$B$3:$C$3,$B$5:$C$5,B22,C22)","v":-4.8781682814293994},11.555613314823804,-3.087386435764194,4.416359386576155,{"$f":"ThreePosition_Basic2($E$3,$E$5,$B$3:$C$3,$B$5:$C$5,B22,D22)","v":-3.3735165909969917},-2.7653587508411253,-8.1871657906778381,30.657705037040408,null,{"$f":"Burmester($B$3:$C$3,$B$4:$C$4,$B$6:$C$6,$E$3,$E$4,$E$6,B22)","v":1.944594168019864},0.25071756075280466,{"$f":"ThreePosition_Basic2($E$3,$E$6,$B$3:$C$3,$B$6:$C$6,B22,N22)","v":-5.0235700570109714},11.987227139666571,-2.7486498426044665,3.6416709695763387,{"$f":"ThreePosition_Basic2($E$3,$E$6,$B$3:$C$3,$B$6:$C$6,B22,O22)","v":-3.2977509190405945},-1.9899723814176484,-8.2018278937610702,29.211468811650203]
[4,6.9813170079773182E-2,{"$f":"Burmester($B$3:$C$3,$B$4:$C$4,$B$5:$C$5,$E$3,$E$4,$E$5,B23)","v":1.2955088482943609},0.21423298157471307,{"$f":"ThreePosition_Basic2($E$3,$E$5,$B$3:$C$3,$B$5:$C$5,B23,C23)","v":-4.9801913227012813},12.124291870934087,-3.1116926696662111,4.4654692211994664,{"$f":"ThreePosition_Basic2($E$3,$E$5,$B$3:$C$3,$B$5:$C$5,B23,D23)","v":-3.3509759247349562},-2.9305487826764889,-7.5132723896599103,26.743148058129279,null,{"$f":"Burmester($B$3:$C$3,$B$4:$C$4,$B$6:$C$6,$E$3,$E$4,$E$6,B23)","v":1.9251872154850125},0.28910966910255476,{"$f":"ThreePosition_Basic2($E$3,$E$6,$B$3:$C$3,$B$6:$C$6,B23,N23)","v":-5.1590392914938876},12.659173521435012,-2.7746001533282096,3.6897782245243835,{"$f":"ThreePosition_Basic2($E$3,$E$6,$B$3:$C$3,$B$6:$C$6,B23,O23)","v":-3.2804575212988345},-2.1366419134318306,-7.5148567625052509,25.547903700297748]
[4.5,7.8539816339744828E-2,{"$f":"Burmester($B$3:$C$3,$B$4:$C$4,$B$5:$C$5,$E$3,$E$4,$E$5,B24)","v":1.2838816433753226},0.24371004164331614,{"$f":"ThreePosition_Basic2($E$3,$E$5,$B$3:$C$3,$B$5:$C$5,B24,C24)","v":-5.0963858874130219},12.78386912063762,-3.137227272919155,4.518295201630707,{"$f":"ThreePosition_Basic2($E$3,$E$5,$B$3:$C$3,$B$5:$C$5,B24,D24)","v":-3.3257508966348355},-3.1099515955538219,-6.9856814224382786,23.679108119123448,null,{"$f":"Burmester($B$3:$C$3,$B$4:$C$4,$B$6:$C$6,$E$3,$E$4,$E$6,B24)","v":1.9049911289592749},0.32834894867473835,{"$f":"ThreePosition_Basic2($E$3,$E$6,$B$3:$C$3,$B$6:$C$6,B24,N24)","v":-5.3143683329431353},13.441420461848015,-2.8018158914120761,3.7409985317763432,{"$f":"ThreePosition_Basic2($E$3,$E$6,$B$3:$C$3,$B$6:$C$6,B24,O24)","v":-3.2608065679105205},-2.2935569116391141,-6.9777914040445097,22.678298326224901]
[5,8.7266462599716474E-2,{"$f":"Burmester($B$3:$C$3,$B$4:$C$4,$B$5:$C$5,$E$3,$E$4,$E$5,B25)","v":1.2714712904454795},0.27401004913688665,{"$f":"ThreePosition_Basic2($E$3,$E$5,$B$3:$C$3,$B$5:$C$5,B25,C25)","v":-5.2306267864441507},13.559921511392993,-3.164146793516343,4.5753814077418369,{"$f":"ThreePosition_Basic2($E$3,$E$5,$B$3:$C$3,$B$5:$C$5,B25,D25)","v":-3.2974017940311513},-3.306052807345552,-6.559981800089119,21.208683942108593,null,{"$f":"Burmester($B$3:$C$3,$B$4:$C$4,$B$6:$C$6,$E$3,$E$4,$E$6,B25)","v":1.8839079323596277},0.36853371195259782,{"$f":"ThreePosition_Basic2($E$3,$E$6,$B$3:$C$3,$B$6:$C$6,B25,N25)","v":-5.495115078275898},14.365667689041278,-2.8304395529071629,3.7957530110835691,{"$f":"ThreePosition_Basic2($E$3,$E$6,$B$3:$C$3,$B$6:$C$6,B25,O25)","v":-3.2384599246840913},-2.4622540055384277,-6.5451574665272449,20.362958927090322]
[5.5,9.599310885968812E-2,{"$f":"Burmester($B$3:$C$3,$B$4:$C$4,$B$5:$C$5,$E$3,$E$4,$E$5,B26)","v":1.2581712588556802},0.30523975970438094,{"$f":"ThreePosition_Basic2($E$3,$E$5,$B$3:$C$3,$B$5:$C$5,B26,C26)","v":-5.3884336656258025},14.488983597381928,-3.1926432934616016,4.63740289319413,{"$f":"ThreePosition_Basic2($E$3,$E$5,$B$3:$C$3,$B$5:$C$5,B26,D26)","v":-3.2653714808694727},-3.5220312103265661,-6.2078187423588478,19.16806217124055,null,{"$f":"Burmester($B$3:$C$3,$B$4:$C$4,$B$6:$C$6,$E$3,$E$4,$E$6,B26)","v":1.8618199675251301},0.4097819492185853,{"$f":"ThreePosition_Basic2($E$3,$E$6,$B$3:$C$3,$B$6:$C$6,B26,N26)","v":-5.7092359733146978},15.47739872231471,-2.860642196241455,3.854553770648069,{"$f":"ThreePosition_Basic2($E$3,$E$6,$B$3:$C$3,$B$6:$C$6,B26,O26)","v":-3.2130018621222285},-2.6446425201962711,-6.187935115045045,18.449104688005743]
[6,0.10471975511965977,{"$f":"Burmester($B$3:$C$3,$B$4:$C$4,$B$5:$C$5,$E$3,$E$4,$E$5,B27)","v":1.2438489925928236},0.33753195261001567,{"$f":"ThreePosition_Basic2($E$3,$E$5,$B$3:$C$3,$B$5:$C$5,B27,C27)","v":-5.5779718125894533},15.625242172202906,-3.2229566739281141,4.7052124788952856,{"$f":"ThreePosition_Basic2($E$3,$E$5,$B$3:$C$3,$B$5:$C$5,B27,D27)","v":-3.228939283938113},-3.7620372550244308,-5.9101764817130684,17.447629331150438,null,{"$f":"Burmester($B$3:$C$3,$B$4:$C$4,$B$6:$C$6,$E$3,$E$4,$E$6,B27)","v":1.8385838672714148},0.45223735526194775,{"$f":"ThreePosition_Basic2($E$3,$E$6,$B$3:$C$3,$B$6:$C$6,B27,N27)","v":-5.9685630410607855},16.844393336191818,-2.8926321972483584,3.9180328826255106,{"$f":"ThreePosition_Basic2($E$3,$E$6,$B$3:$C$3,$B$6:$C$6,B27,O27)","v":-3.1839127667178588},-2.8431348045181952,-5.8866822191426298,16.834586998342125]
[6.5,0.11344640137963143,{"$f":"Burmester($B$3:$C$3,$B$4:$C$4,$B$5:$C$5,$E$3,$E$4,$E$5,B28)","v":1.2283360904583216},0.37105525046136817,{"$f":"ThreePosition_Basic2($E$3,$E$5,$B$3:$C$3,$B$5:$C$5,B28,C28)","v":-5.8118963621956548},17.052883164052588,-3.2553930711175214,4.7799109905797934,{"$f":"ThreePosition_Basic2($E$3,$E$5,$B$3:$C$3,$B$5:$C$5,B28,D28)","v":-3.187149792610946},-4.0316251674864896,-5.6537494964832806,15.970987070480941,null,{"$f":"Burmester($B$3:$C$3,$B$4:$C$4,$B$6:$C$6,$E$3,$E$4,$E$6,B28)","v":1.8140219378425586},0.49607794668321986,{"$f":"ThreePosition_Basic2($E$3,$E$6,$B$3:$C$3,$B$6:$C$6,B28,N28)","v":-6.2915367147596513},18.572486841199623,-2.9266677895796369,3.9869841585674077,{"$f":"ThreePosition_Basic2($E$3,$E$6,$B$3:$C$3,$B$6:$C$6,B28,O28)","v":-3.1505305505317338},-3.0608386814111319,-5.6278236207667494,15.448327490394442]
[7,0.12217304763960307,{"$f":"Burmester($B$3:$C$3,$B$4:$C$4,$B$5:$C$5,$E$3,$E$4,$E$5,B29)","v":1.2114131439862941},0.40602928119564929,{"$f":"ThreePosition_Basic2($E$3,$E$5,$B$3:$C$3,$B$5:$C$5,B29,C29)","v":-6.1110129592221281},18.910620494553459,-3.2903534107600079,4.8629569073104228,{"$f":"ThreePosition_Basic2($E$3,$E$5,$B$3:$C$3,$B$5:$C$5,B29,D29)","v":-3.1386982110870671},-4.3384522505646759,-5.4288508851737642,14.682891359148055,null,{"$f":"Burmester($B$3:$C$3,$B$4:$C$4,$B$6:$C$6,$E$3,$E$4,$E$6,B29)","v":1.7879094459221916},0.54152877463375559,{"$f":"ThreePosition_Basic2($E$3,$E$6,$B$3:$C$3,$B$6:$C$6,B29,N29)","v":-6.7086528983489382},20.836997530345627,-2.9630756023273603,4.0624253084223447,{"$f":"ThreePosition_Basic2($E$3,$E$6,$B$3:$C$3,$B$6:$C$6,B29,O29)","v":-3.1119920909840628},-3.3018512247482406,-5.401519337507569,14.23910148537767]
[7.5,0.1308996938995747,{"$f":"Burmester($B$3:$C$3,$B$4:$C$4,$B$5:$C$5,$E$3,$E$4,$E$5,B30)","v":1.1927851852252345},0.44274923020039814,{"$f":"ThreePosition_Basic2($E$3,$E$5,$B$3:$C$3,$B$5:$C$5,B30,C30)","v":-6.5122733149212282},21.445312423807891,-3.3283799087480141,4.9563459558952232,{"$f":"ThreePosition_Basic2($E$3,$E$5,$B$3:$C$3,$B$5:$C$5,B30,D30)","v":-3.0817360404364136},-4.6934702003351418,-5.2281280211084029,13.541902200843882,null,{"$f":"Burmester($B$3:$C$3,$B$4:$C$4,$B$6:$C$6,$E$3,$E$4,$E$6,B30)","v":1.759955149321875},0.58888139387225713,{"$f":"ThreePosition_Basic2($E$3,$E$6,$B$3:$C$3,$B$6:$C$6,B30,N30)","v":-7.2744101384275748},23.951687340060662,-3.002279114873657,4.1456939811680869,{"$f":"ThreePosition_Basic2($E$3,$E$6,$B$3:$C$3,$B$6:$C$6,B30,O30)","v":-3.0671407785482563},-3.57172533736167,-5.2003681455429147,13.168749312934878]
[8,0.13962634015954636,{"$f":"Burmester($B$3:$C$3,$B$4:$C$4,$B$5:$C$5,$E$3,$E$4,$E$5,B31)","v":1.1720394807362646},0.4816280462154684,{"$f":"ThreePosition_Basic2($E$3,$E$5,$B$3:$C$3,$B$5:$C$5,B31,C31)","v":-7.08862948654797},25.145188349514079,-3.3702364913363434,5.0629235313760645,{"$f":"ThreePosition_Basic2($E$3,$E$5,$B$3:$C$3,$B$5:$C$5,B31,D31)","v":-3.0135199031452062},-5.113089331126937,-5.0457084773114156,12.515589528889027,null,{"$f":"Burmester($B$3:$C$3,$B$4:$C$4,$B$6:$C$6,$E$3,$E$4,$E$6,B31)","v":1.7297700904330084},0.63852506905204609,{"$f":"ThreePosition_Basic2($E$3,$E$6,$B$3:$C$3,$B$6:$C$6,B31,N31)","v":-8.0970996030372415},28.540774661774002,-3.0448443850681732,4.2386031263615997,{"$f":"ThreePosition_Basic2($E$3,$E$6,$B$3:$C$3,$B$6:$C$6,B31,O31)","v":-3.0143733626355353},-3.8782473426355359,-5.0185693683741999,12.207838047008217]
[8.5,0.14835298641951802,{"$f":"Burmester($B$3:$C$3,$B$4:$C$4,$B$5:$C$5,$E$3,$E$4,$E$5,B32)","v":1.1485671343272166},0.52327483849705414,{"$f":"ThreePosition_Basic2($E$3,$E$5,$B$3:$C$3,$B$5:$C$5,B32,C32)","v":-8.0082327305246963},31.137308828537108,-3.4170591469080076,5.1869722795456461,{"$f":"ThreePosition_Basic2($E$3,$E$5,$B$3:$C$3,$B$5:$C$5,B32,D32)","v":-2.9297220127465131},-5.6234508715630076,-4.8765490725589498,11.577045710322245,null,{"$f":"Burmester($B$3:$C$3,$B$4:$C$4,$B$6:$C$6,$E$3,$E$4,$E$6,B32)","v":1.696814649417369},0.69099972126397624,{"$f":"ThreePosition_Basic2($E$3,$E$6,$B$3:$C$3,$B$6:$C$6,B32,N32)","v":-9.4279849569190599},36.054016019146353,-3.0915578632090179,4.3437071260208349,{"$f":"ThreePosition_Basic2($E$3,$E$6,$B$3:$C$3,$B$6:$C$6,B32,O32)","v":-2.9513705865943787},-4.2328129849298533,-4.8513322729575634,11.332688787448589]
[9,0.15707963267948966,{"$f":"Burmester($B$3:$C$3,$B$4:$C$4,$B$5:$C$5,$E$3,$E$4,$E$5,B33)","v":1.1214013449706552},0.56865661879563933,{"$f":"ThreePosition_Basic2($E$3,$E$5,$B$3:$C$3,$B$5:$C$5,B33,C33)","v":-9.769985270324959},42.769752478713684,-3.4706683008887165,5.335440344201686,{"$f":"ThreePosition_Basic2($E$3,$E$5,$B$3:$C$3,$B$5:$C$5,B33,D33)","v":-2.8229157137546821},-6.2698629594704993,-4.7157897597579908,10.70172402265924,null,{"$f":"Burmester($B$3:$C$3,$B$4:$C$4,$B$6:$C$6,$E$3,$E$4,$E$6,B33)","v":1.6603018920839416},0.7470925798873489,{"$f":"ThreePosition_Basic2($E$3,$E$6,$B$3:$C$3,$B$6:$C$6,B33,N33)","v":-12.017456035856371},50.82415844981395,-3.1435689113953593,4.4647925005499687,{"$f":"ThreePosition_Basic2($E$3,$E$6,$B$3:$C$3,$B$6:$C$6,B33,O33)","v":-2.8745856123648439},-4.6530570788169889,-4.6943916836814177,10.523081560771029]
[9.5,0.16580627893946129,{"$f":"Burmester($B$3:$C$3,$B$4:$C$4,$B$5:$C$5,$E$3,$E$4,$E$5,B34)","v":1.0888289517503518},0.61948675630334815,{"$f":"ThreePosition_Basic2($E$3,$E$5,$B$3:$C$3,$B$5:$C$5,B34,C34)","v":-14.845712036213582},76.645381548161737,-3.534324826155526,5.5209328255568977,{"$f":"ThreePosition_Basic2($E$3,$E$5,$B$3:$C$3,$B$5:$C$5,B34,D34)","v":-2.6786649315504243},-7.1413098536835014,-4.5577692674663783,9.8631244273544887,null,{"$f":"Burmester($B$3:$C$3,$B$4:$C$4,$B$6:$C$6,$E$3,$E$4,$E$6,B34)","v":1.6190029462732218},0.80803280592767268,{"$f":"ThreePosition_Basic2($E$3,$E$6,$B$3:$C$3,$B$6:$C$6,B34,N34)","v":-19.605600318979228},94.456268737236812,-3.202677869409591,4.6078765103641928,{"$f":"ThreePosition_Basic2($E$3,$E$6,$B$3:$C$3,$B$6:$C$6,B34,O34)","v":-2.7781673647111473},-5.1684235630680337,-4.5434860009168174,9.7600221314805147]
[10,0.17453292519943295,{"$f":"Burmester($B$3:$C$3,$B$4:$C$4,$B$5:$C$5,$E$3,$E$4,$E$5,B35)","v":1.0471975511965979},0.67941786021030282,{"$f":"ThreePosition_Basic2($E$3,$E$5,$B$3:$C$3,$B$5:$C$5,B35,C35)","v":{"$error":"#VALUE!"}},{"$error":"#VALUE!"},{"$error":"#VALUE!"},{"$error":"#VALUE!"},{"$f":"ThreePosition_Basic2($E$3,$E$5,$B$3:$C$3,$B$5:$C$5,B35,D35)","v":-2.4624105599096975},-8.4531736785675999,-4.3935235362426042,9.0225392270710127,null,{"$f":"Burmester($B$3:$C$3,$B$4:$C$4,$B$6:$C$6,$E$3,$E$4,$E$6,B35)","v":1.5707963267948959},0.87594216679539683,{"$f":"ThreePosition_Basic2($E$3,$E$6,$B$3:$C$3,$B$6:$C$6,B35,N35)","v":-2285865544078560},-1.5828254063521452E+16,-4.5,8,{"$f":"ThreePosition_Basic2($E$3,$E$6,$B$3:$C$3,$B$6:$C$6,B35,O35)","v":-2.6513388406921519},-5.8338203745167512,-4.3935235362426042,9.0225392270710092]
[10.5,0.18325957145940461,{"$f":"Burmester($B$3:$C$3,$B$4:$C$4,$B$5:$C$5,$E$3,$E$4,$E$5,B36)","v":0.98480799544219244},0.76014928143815197,{"$f":"ThreePosition_Basic2($E$3,$E$5,$B$3:$C$3,$B$5:$C$5,B36,C36)","v":4.144961301978995},-51.625667269817647,-3.7358517591881437,6.1769849908852308,{"$f":"ThreePosition_Basic2($E$3,$E$5,$B$3:$C$3,$B$5:$C$5,B36,D36)","v":-2.0435982423403778},-11.029624274767491,-4.1985540920454234,8.0797449352152899,null,{"$f":"Burmester($B$3:$C$3,$B$4:$C$4,$B$6:$C$6,$E$3,$E$4,$E$6,B36)","v":1.5113682086505178},0.95513476279404164,{"$f":"ThreePosition_Basic2($E$3,$E$6,$B$3:$C$3,$B$6:$C$6,B36,N36)","v":9.9139358607267827},-76.616704536075204,-3.3579370019565111,5.0137835755520257,{"$f":"ThreePosition_Basic2($E$3,$E$6,$B$3:$C$3,$B$6:$C$6,B36,O36)","v":-2.4703737287706233},-6.7717125482342482,-4.236523888417719,8.2802396537101615]
[11,0.19198621771937624,{"$f":"Burmester($B$3:$C$3,$B$4:$C$4,$B$5:$C$5,$E$3,$E$4,$E$5,B37)","v":{"$error":"#VALUE!"}},{"$error":"#VALUE!"},{"$f":"ThreePosition_Basic2($E$3,$E$5,$B$3:$C$3,$B$5:$C$5,B37,C37)","v":{"$error":"#VALUE!"}},{"$error":"#VALUE!"},{"$error":"#VALUE!"},{"$error":"#VALUE!"},{"$f":"ThreePosition_Basic2($E$3,$E$5,$B$3:$C$3,$B$5:$C$5,B37,D37)","v":{"$error":"#VALUE!"}},{"$error":"#VALUE!"},{"$error":"#VALUE!"},{"$error":"#VALUE!"},null,{"$f":"Burmester($B$3:$C$3,$B$4:$C$4,$B$6:$C$6,$E$3,$E$4,$E$6,B37)","v":1.4284943637783378},1.0578350900806242,{"$f":"ThreePosition_Basic2($E$3,$E$6,$B$3:$C$3,$B$6:$C$6,B37,N37)","v":2.1122022180979014},-31.899995640343889,-3.4787123353489164,5.3624397399300818,{"$f":"ThreePosition_Basic2($E$3,$E$6,$B$3:$C$3,$B$6:$C$6,B37,O37)","v":-2.16047740507714},-8.3737961056766643,-4.052937824930563,7.4623900364816471]
[11.5,0.20071286397934787,{"$f":"Burmester($B$3:$C$3,$B$4:$C$4,$B$5:$C$5,$E$3,$E$4,$E$5,B38)","v":{"$error":"#VALUE!"}},{"$error":"#VALUE!"},{"$f":"ThreePosition_Basic2($E$3,$E$5,$B$3:$C$3,$B$5:$C$5,B38,C38)","v":{"$error":"#VALUE!"}},{"$error":"#VALUE!"},{"$error":"#VALUE!"},{"$error":"#VALUE!"},{"$f":"ThreePosition_Basic2($E$3,$E$5,$B$3:$C$3,$B$5:$C$5,B38,D38)","v":{"$error":"#VALUE!"}},{"$error":"#VALUE!"},{"$error":"#VALUE!"},{"$error":"#VALUE!"},null,{"$f":"Burmester($B$3:$C$3,$B$4:$C$4,$B$6:$C$6,$E$3,$E$4,$E$6,B38)","v":{"$error":"#VALUE!"}},{"$error":"#VALUE!"},{"$f":"ThreePosition_Basic2($E$3,$E$6,$B$3:$C$3,$B$6:$C$6,B38,N38)","v":{"$error":"#VALUE!"}},{"$error":"#VALUE!"},{"$error":"#VALUE!"},{"$error":"#VALUE!"},{"$f":"ThreePosition_Basic2($E$3,$E$6,$B$3:$C$3,$B$6:$C$6,B38,O38)","v":{"$error":"#VALUE!"}},{"$error":"#VALUE!"},{"$error":"#VALUE!"},{"$error":"#VALUE!"}]
[12,0.20943951023931953,{"$f":"Burmester($B$3:$C$3,$B$4:$C$4,$B$5:$C$5,$E$3,$E$4,$E$5,B39)","v":{"$error":"#VALUE!"}},{"$error":"#VALUE!"},{"$f":"ThreePosition_Basic2($E$3,$E$5,$B$3:$C$3,$B$5:$C$5,B39,C39)","v":{"$error":"#VALUE!"}},{"$error":"#VALUE!"},{"$error":"#VALUE!"},{"$error":"#VALUE!"},{"$f":"ThreePosition_Basic2($E$3,$E$5,$B$3:$C$3,$B$5:$C$5,B39,D39)","v":{"$error":"#VALUE!"}},{"$error":"#VALUE!"},{"$error":"#VALUE!"},{"$error":"#VALUE!"},null,{"$f":"Burmester($B$3:$C$3,$B$4:$C$4,$B$6:$C$6,$E$3,$E$4,$E$6,B39)","v":{"$error":"#VALUE!"}},{"$error":"#VALUE!"},{"$f":"ThreePosition_Basic2($E$3,$E$6,$B$3:$C$3,$B$6:$C$6,B39,N39)","v":{"$error":"#VALUE!"}},{"$error":"#VALUE!"},{"$error":"#VALUE!"},{"$error":"#VALUE!"},{"$f":"ThreePosition_Basic2($E$3,$E$6,$B$3:$C$3,$B$6:$C$6,B39,O39)","v":{"$error":"#VALUE!"}},{"$error":"#VALUE!"},{"$error":"#VALUE!"},{"$error":"#VALUE!"}]
[12.5,0.21816615649929119,{"$f":"Burmester($B$3:$C$3,$B$4:$C$4,$B$5:$C$5,$E$3,$E$4,$E$5,B40)","v":{"$error":"#VALUE!"}},{"$error":"#VALUE!"},{"$f":"ThreePosition_Basic2($E$3,$E$5,$B$3:$C$3,$B$5:$C$5,B40,C40)","v":{"$error":"#VALUE!"}},{"$error":"#VALUE!"},{"$error":"#VALUE!"},{"$error":"#VALUE!"},{"$f":"ThreePosition_Basic2($E$3,$E$5,$B$3:$C$3,$B$5:$C$5,B40,D40)","v":{"$error":"#VALUE!"}},{"$error":"#VALUE!"},{"$error":"#VALUE!"},{"$error":"#VALUE!"},null,{"$f":"Burmester($B$3:$C$3,$B$4:$C$4,$B$6:$C$6,$E$3,$E$4,$E$6,B40)","v":{"$error":"#VALUE!"}},{"$error":"#VALUE!"},{"$f":"ThreePosition_Basic2($E$3,$E$6,$B$3:$C$3,$B$6:$C$6,B40,N40)","v":{"$error":"#VALUE!"}},{"$error":"#VALUE!"},{"$error":"#VALUE!"},{"$error":"#VALUE!"},{"$f":"ThreePosition_Basic2($E$3,$E$6,$B$3:$C$3,$B$6:$C$6,B40,O40)","v":{"$error":"#VALUE!"}},{"$error":"#VALUE!"},{"$error":"#VALUE!"},{"$error":"#VALUE!"}]
[13,0.22689280275926285,{"$f":"Burmester($B$3:$C$3,$B$4:$C$4,$B$5:$C$5,$E$3,$E$4,$E$5,B41)","v":{"$error":"#VALUE!"}},{"$error":"#VALUE!"},{"$f":"ThreePosition_Basic2($E$3,$E$5,$B$3:$C$3,$B$5:$C$5,B41,C41)","v":{"$error":"#VALUE!"}},{"$error":"#VALUE!"},{"$error":"#VALUE!"},{"$error":"#VALUE!"},{"$f":"ThreePosition_Basic2($E$3,$E$5,$B$3:$C$3,$B$5:$C$5,B41,D41)","v":{"$error":"#VALUE!"}},{"$error":"#VALUE!"},{"$error":"#VALUE!"},{"$error":"#VALUE!"},null,{"$f":"Burmester($B$3:$C$3,$B$4:$C$4,$B$6:$C$6,$E$3,$E$4,$E$6,B41)","v":{"$error":"#VALUE!"}},{"$error":"#VALUE!"},{"$f":"ThreePosition_Basic2($E$3,$E$6,$B$3:$C$3,$B$6:$C$6,B41,N41)","v":{"$error":"#VALUE!"}},{"$error":"#VALUE!"},{"$error":"#VALUE!"},{"$error":"#VALUE!"},{"$f":"ThreePosition_Basic2($E$3,$E$6,$B$3:$C$3,$B$6:$C$6,B41,O41)","v":{"$error":"#VALUE!"}},{"$error":"#VALUE!"},{"$error":"#VALUE!"},{"$error":"#VALUE!"}]
[13.5,0.23561944901923448,{"$f":"Burmester($B$3:$C$3,$B$4:$C$4,$B$5:$C$5,$E$3,$E$4,$E$5,B42)","v":{"$error":"#VALUE!"}},{"$error":"#VALUE!"},{"$f":"ThreePosition_Basic2($E$3,$E$5,$B$3:$C$3,$B$5:$C$5,B42,C42)","v":{"$error":"#VALUE!"}},{"$error":"#VALUE!"},{"$error":"#VALUE!"},{"$error":"#VALUE!"},{"$f":"ThreePosition_Basic2($E$3,$E$5,$B$3:$C$3,$B$5:$C$5,B42,D42)","v":{"$error":"#VALUE!"}},{"$error":"#VALUE!"},{"$error":"#VALUE!"},{"$error":"#VALUE!"},null,{"$f":"Burmester($B$3:$C$3,$B$4:$C$4,$B$6:$C$6,$E$3,$E$4,$E$6,B42)","v":{"$error":"#VALUE!"}},{"$error":"#VALUE!"},{"$f":"ThreePosition_Basic2($E$3,$E$6,$B$3:$C$3,$B$6:$C$6,B42,N42)","v":{"$error":"#VALUE!"}},{"$error":"#VALUE!"},{"$error":"#VALUE!"},{"$error":"#VALUE!"},{"$f":"ThreePosition_Basic2($E$3,$E$6,$B$3:$C$3,$B$6:$C$6,B42,O42)","v":{"$error":"#VALUE!"}},{"$error":"#VALUE!"},{"$error":"#VALUE!"},{"$error":"#VALUE!"}]
[14,0.24434609527920614,{"$f":"Burmester($B$3:$C$3,$B$4:$C$4,$B$5:$C$5,$E$3,$E$4,$E$5,B43)","v":{"$error":"#VALUE!"}},{"$error":"#VALUE!"},{"$f":"ThreePosition_Basic2($E$3,$E$5,$B$3:$C$3,$B$5:$C$5,B43,C43)","v":{"$error":"#VALUE!"}},{"$error":"#VALUE!"},{"$error":"#VALUE!"},{"$error":"#VALUE!"},{"$f":"ThreePosition_Basic2($E$3,$E$5,$B$3:$C$3,$B$5:$C$5,B43,D43)","v":{"$error":"#VALUE!"}},{"$error":"#VALUE!"},{"$error":"#VALUE!"},{"$error":"#VALUE!"},null,{"$f":"Burmester($B$3:$C$3,$B$4:$C$4,$B$6:$C$6,$E$3,$E$4,$E$6,B43)","v":{"$error":"#VALUE!"}},{"$error":"#VALUE!"},{"$f":"ThreePosition_Basic2($E$3,$E$6,$B$3:$C$3,$B$6:$C$6,B43,N43)","v":{"$error":"#VALUE!"}},{"$error":"#VALUE!"},{"$error":"#VALUE!"},{"$error":"#VALUE!"},{"$f":"ThreePosition_Basic2($E$3,$E$6,$B$3:$C$3,$B$6:$C$6,B43,O43)","v":{"$error":"#VALUE!"}},{"$error":"#VALUE!"},{"$error":"#VALUE!"},{"$error":"#VALUE!"}]
[14.5,0.2530727415391778,{"$f":"Burmester($B$3:$C$3,$B$4:$C$4,$B$5:$C$5,$E$3,$E$4,$E$5,B44)","v":{"$error":"#VALUE!"}},{"$error":"#VALUE!"},{"$f":"ThreePosition_Basic2($E$3,$E$5,$B$3:$C$3,$B$5:$C$5,B44,C44)","v":{"$error":"#VALUE!"}},{"$error":"#VALUE!"},{"$error":"#VALUE!"},{"$error":"#VALUE!"},{"$f":"ThreePosition_Basic2($E$3,$E$5,$B$3:$C$3,$B$5:$C$5,B44,D44)","v":{"$error":"#VALUE!"}},{"$error":"#VALUE!"},{"$error":"#VALUE!"},{"$error":"#VALUE!"},null,{"$f":"Burmester($B$3:$C$3,$B$4:$C$4,$B$6:$C$6,$E$3,$E$4,$E$6,B44)","v":{"$error":"#VALUE!"}},{"$error":"#VALUE!"},{"$f":"ThreePosition_Basic2($E$3,$E$6,$B$3:$C$3,$B$6:$C$6,B44,N44)","v":{"$error":"#VALUE!"}},{"$error":"#VALUE!"},{"$error":"#VALUE!"},{"$error":"#VALUE!"},{"$f":"ThreePosition_Basic2($E$3,$E$6,$B$3:$C$3,$B$6:$C$6,B44,O44)","v":{"$error":"#VALUE!"}},{"$error":"#VALUE!"},{"$error":"#VALUE!"},{"$error":"#VALUE!"}]
[15,0.26179938779914941,{"$f":"Burmester($B$3:$C$3,$B$4:$C$4,$B$5:$C$5,$E$3,$E$4,$E$5,B45)","v":{"$error":"#VALUE!"}},{"$error":"#VALUE!"},{"$f":"ThreePosition_Basic2($E$3,$E$5,$B$3:$C$3,$B$5:$C$5,B45,C45)","v":{"$error":"#VALUE!"}},{"$error":"#VALUE!"},{"$error":"#VALUE!"},{"$error":"#VALUE!"},{"$f":"ThreePosition_Basic2($E$3,$E$5,$B$3:$C$3,$B$5:$C$5,B45,D45)","v":{"$error":"#VALUE!"}},{"$error":"#VALUE!"},{"$error":"#VALUE!"},{"$error":"#VALUE!"},null,{"$f":"Burmester($B$3:$C$3,$B$4:$C$4,$B$6:$C$6,$E$3,$E$4,$E$6,B45)","v":{"$error":"#VALUE!"}},{"$error":"#VALUE!"},{"$f":"ThreePosition_Basic2($E$3,$E$6,$B$3:$C$3,$B$6:$C$6,B45,N45)","v":{"$error":"#VALUE!"}},{"$error":"#VALUE!"},{"$error":"#VALUE!"},{"$error":"#VALUE!"},{"$f":"ThreePosition_Basic2($E$3,$E$6,$B$3:$C$3,$B$6:$C$6,B45,O45)","v":{"$error":"#VALUE!"}},{"$error":"#VALUE!"},{"$error":"#VALUE!"},{"$error":"#VALUE!"}]
[15.5,0.27052603405912107,{"$f":"Burmester($B$3:$C$3,$B$4:$C$4,$B$5:$C$5,$E$3,$E$4,$E$5,B46)","v":{"$error":"#VALUE!"}},{"$error":"#VALUE!"},{"$f":"ThreePosition_Basic2($E$3,$E$5,$B$3:$C$3,$B$5:$C$5,B46,C46)","v":{"$error":"#VALUE!"}},{"$error":"#VALUE!"},{"$error":"#VALUE!"},{"$error":"#VALUE!"},{"$f":"ThreePosition_Basic2($E$3,$E$5,$B$3:$C$3,$B$5:$C$5,B46,D46)","v":{"$error":"#VALUE!"}},{"$error":"#VALUE!"},{"$error":"#VALUE!"},{"$error":"#VALUE!"},null,{"$f":"Burmester($B$3:$C$3,$B$4:$C$4,$B$6:$C$6,$E$3,$E$4,$E$6,B46)","v":{"$error":"#VALUE!"}},{"$error":"#VALUE!"},{"$f":"ThreePosition_Basic2($E$3,$E$6,$B$3:$C$3,$B$6:$C$6,B46,N46)","v":{"$error":"#VALUE!"}},{"$error":"#VALUE!"},{"$error":"#VALUE!"},{"$error":"#VALUE!"},{"$f":"ThreePosition_Basic2($E$3,$E$6,$B$3:$C$3,$B$6:$C$6,B46,O46)","v":{"$error":"#VALUE!"}},{"$error":"#VALUE!"},{"$error":"#VALUE!"},{"$error":"#VALUE!"}]
[16,0.27925268031909273,{"$f":"Burmester($B$3:$C$3,$B$4:$C$4,$B$5:$C$5,$E$3,$E$4,$E$5,B47)","v":{"$error":"#VALUE!"}},{"$error":"#VALUE!"},{"$f":"ThreePosition_Basic2($E$3,$E$5,$B$3:$C$3,$B$5:$C$5,B47,C47)","v":{"$error":"#VALUE!"}},{"$error":"#VALUE!"},{"$error":"#VALUE!"},{"$error":"#VALUE!"},{"$f":"ThreePosition_Basic2($E$3,$E$5,$B$3:$C$3,$B$5:$C$5,B47,D47)","v":{"$error":"#VALUE!"}},{"$error":"#VALUE!"},{"$error":"#VALUE!"},{"$error":"#VALUE!"},null,{"$f":"Burmester($B$3:$C$3,$B$4:$C$4,$B$6:$C$6,$E$3,$E$4,$E$6,B47)","v":{"$error":"#VALUE!"}},{"$error":"#VALUE!"},{"$f":"ThreePosition_Basic2($E$3,$E$6,$B$3:$C$3,$B$6:$C$6,B47,N47)","v":{"$error":"#VALUE!"}},{"$error":"#VALUE!"},{"$error":"#VALUE!"},{"$error":"#VALUE!"},{"$f":"ThreePosition_Basic2($E$3,$E$6,$B$3:$C$3,$B$6:$C$6,B47,O47)","v":{"$error":"#VALUE!"}},{"$error":"#VALUE!"},{"$error":"#VALUE!"},{"$error":"#VALUE!"}]
[16.5,0.28797932657906439,{"$f":"Burmester($B$3:$C$3,$B$4:$C$4,$B$5:$C$5,$E$3,$E$4,$E$5,B48)","v":{"$error":"#VALUE!"}},{"$error":"#VALUE!"},{"$f":"ThreePosition_Basic2($E$3,$E$5,$B$3:$C$3,$B$5:$C$5,B48,C48)","v":{"$error":"#VALUE!"}},{"$error":"#VALUE!"},{"$error":"#VALUE!"},{"$error":"#VALUE!"},{"$f":"ThreePosition_Basic2($E$3,$E$5,$B$3:$C$3,$B$5:$C$5,B48,D48)","v":{"$error":"#VALUE!"}},{"$error":"#VALUE!"},{"$error":"#VALUE!"},{"$error":"#VALUE!"},null,{"$f":"Burmester($B$3:$C$3,$B$4:$C$4,$B$6:$C$6,$E$3,$E$4,$E$6,B48)","v":{"$error":"#VALUE!"}},{"$error":"#VALUE!"},{"$f":"ThreePosition_Basic2($E$3,$E$6,$B$3:$C$3,$B$6:$C$6,B48,N48)","v":{"$error":"#VALUE!"}},{"$error":"#VALUE!"},{"$error":"#VALUE!"},{"$error":"#VALUE!"},{"$f":"ThreePosition_Basic2($E$3,$E$6,$B$3:$C$3,$B$6:$C$6,B48,O48)","v":{"$error":"#VALUE!"}},{"$error":"#VALUE!"},{"$error":"#VALUE!"},{"$error":"#VALUE!"}]
[17,0.29670597283903605,{"$f":"Burmester($B$3:$C$3,$B$4:$C$4,$B$5:$C$5,$E$3,$E$4,$E$5,B49)","v":{"$error":"#VALUE!"}},{"$error":"#VALUE!"},{"$f":"ThreePosition_Basic2($E$3,$E$5,$B$3:$C$3,$B$5:$C$5,B49,C49)","v":{"$error":"#VALUE!"}},{"$error":"#VALUE!"},{"$error":"#VALUE!"},{"$error":"#VALUE!"},{"$f":"ThreePosition_Basic2($E$3,$E$5,$B$3:$C$3,$B$5:$C$5,B49,D49)","v":{"$error":"#VALUE!"}},{"$error":"#VALUE!"},{"$error":"#VALUE!"},{"$error":"#VALUE!"},null,{"$f":"Burmester($B$3:$C$3,$B$4:$C$4,$B$6:$C$6,$E$3,$E$4,$E$6,B49)","v":{"$error":"#VALUE!"}},{"$error":"#VALUE!"},{"$f":"ThreePosition_Basic2($E$3,$E$6,$B$3:$C$3,$B$6:$C$6,B49,N49)","v":{"$error":"#VALUE!"}},{"$error":"#VALUE!"},{"$error":"#VALUE!"},{"$error":"#VALUE!"},{"$f":"ThreePosition_Basic2($E$3,$E$6,$B$3:$C$3,$B$6:$C$6,B49,O49)","v":{"$error":"#VALUE!"}},{"$error":"#VALUE!"},{"$error":"#VALUE!"},{"$error":"#VALUE!"}]
[17.5,0.30543261909900765,{"$f":"Burmester($B$3:$C$3,$B$4:$C$4,$B$5:$C$5,$E$3,$E$4,$E$5,B50)","v":{"$error":"#VALUE!"}},{"$error":"#VALUE!"},{"$f":"ThreePosition_Basic2($E$3,$E$5,$B$3:$C$3,$B$5:$C$5,B50,C50)","v":{"$error":"#VALUE!"}},{"$error":"#VALUE!"},{"$error":"#VALUE!"},{"$error":"#VALUE!"},{"$f":"ThreePosition_Basic2($E$3,$E$5,$B$3:$C$3,$B$5:$C$5,B50,D50)","v":{"$error":"#VALUE!"}},{"$error":"#VALUE!"},{"$error":"#VALUE!"},{"$error":"#VALUE!"},null,{"$f":"Burmester($B$3:$C$3,$B$4:$C$4,$B$6:$C$6,$E$3,$E$4,$E$6,B50)","v":{"$error":"#VALUE!"}},{"$error":"#VALUE!"},{"$f":"ThreePosition_Basic2($E$3,$E$6,$B$3:$C$3,$B$6:$C$6,B50,N50)","v":{"$error":"#VALUE!"}},{"$error":"#VALUE!"},{"$error":"#VALUE!"},{"$error":"#VALUE!"},{"$f":"ThreePosition_Basic2($E$3,$E$6,$B$3:$C$3,$B$6:$C$6,B50,O50)","v":{"$error":"#VALUE!"}},{"$error":"#VALUE!"},{"$error":"#VALUE!"},{"$error":"#VALUE!"}]
[18,0.31415926535897931,{"$f":"Burmester($B$3:$C$3,$B$4:$C$4,$B$5:$C$5,$E$3,$E$4,$E$5,B51)","v":{"$error":"#VALUE!"}},{"$error":"#VALUE!"},{"$f":"ThreePosition_Basic2($E$3,$E$5,$B$3:$C$3,$B$5:$C$5,B51,C51)","v":{"$error":"#VALUE!"}},{"$error":"#VALUE!"},{"$error":"#VALUE!"},{"$error":"#VALUE!"},{"$f":"ThreePosition_Basic2($E$3,$E$5,$B$3:$C$3,$B$5:$C$5,B51,D51)","v":{"$error":"#VALUE!"}},{"$error":"#VALUE!"},{"$error":"#VALUE!"},{"$error":"#VALUE!"},null,{"$f":"Burmester($B$3:$C$3,$B$4:$C$4,$B$6:$C$6,$E$3,$E$4,$E$6,B51)","v":{"$error":"#VALUE!"}},{"$error":"#VALUE!"},{"$f":"ThreePosition_Basic2($E$3,$E$6,$B$3:$C$3,$B$6:$C$6,B51,N51)","v":{"$error":"#VALUE!"}},{"$error":"#VALUE!"},{"$error":"#VALUE!"},{"$error":"#VALUE!"},{"$f":"ThreePosition_Basic2($E$3,$E$6,$B$3:$C$3,$B$6:$C$6,B51,O51)","v":{"$error":"#VALUE!"}},{"$error":"#VALUE!"},{"$error":"#VALUE!"},{"$error":"#VALUE!"}]
[18.5,0.32288591161895097,{"$f":"Burmester($B$3:$C$3,$B$4:$C$4,$B$5:$C$5,$E$3,$E$4,$E$5,B52)","v":{"$error":"#VALUE!"}},{"$error":"#VALUE!"},{"$f":"ThreePosition_Basic2($E$3,$E$5,$B$3:$C$3,$B$5:$C$5,B52,C52)","v":{"$error":"#VALUE!"}},{"$error":"#VALUE!"},{"$error":"#VALUE!"},{"$error":"#VALUE!"},{"$f":"ThreePosition_Basic2($E$3,$E$5,$B$3:$C$3,$B$5:$C$5,B52,D52)","v":{"$error":"#VALUE!"}},{"$error":"#VALUE!"},{"$error":"#VALUE!"},{"$error":"#VALUE!"},null,{"$f":"Burmester($B$3:$C$3,$B$4:$C$4,$B$6:$C$6,$E$3,$E$4,$E$6,B52)","v":{"$error":"#VALUE!"}},{"$error":"#VALUE!"},{"$f":"ThreePosition_Basic2($E$3,$E$6,$B$3:$C$3,$B$6:$C$6,B52,N52)","v":{"$error":"#VALUE!"}},{"$error":"#VALUE!"},{"$error":"#VALUE!"},{"$error":"#VALUE!"},{"$f":"ThreePosition_Basic2($E$3,$E$6,$B$3:$C$3,$B$6:$C$6,B52,O52)","v":{"$error":"#VALUE!"}},{"$error":"#VALUE!"},{"$error":"#VALUE!"},{"$error":"#VALUE!"}]
[19,0.33161255787892258,{"$f":"Burmester($B$3:$C$3,$B$4:$C$4,$B$5:$C$5,$E$3,$E$4,$E$5,B53)","v":{"$error":"#VALUE!"}},{"$error":"#VALUE!"},{"$f":"ThreePosition_Basic2($E$3,$E$5,$B$3:$C$3,$B$5:$C$5,B53,C53)","v":{"$error":"#VALUE!"}},{"$error":"#VALUE!"},{"$error":"#VALUE!"},{"$error":"#VALUE!"},{"$f":"ThreePosition_Basic2($E$3,$E$5,$B$3:$C$3,$B$5:$C$5,B53,D53)","v":{"$error":"#VALUE!"}},{"$error":"#VALUE!"},{"$error":"#VALUE!"},{"$error":"#VALUE!"},null,{"$f":"Burmester($B$3:$C$3,$B$4:$C$4,$B$6:$C$6,$E$3,$E$4,$E$6,B53)","v":{"$error":"#VALUE!"}},{"$error":"#VALUE!"},{"$f":"ThreePosition_Basic2($E$3,$E$6,$B$3:$C$3,$B$6:$C$6,B53,N53)","v":{"$error":"#VALUE!"}},{"$error":"#VALUE!"},{"$error":"#VALUE!"},{"$error":"#VALUE!"},{"$f":"ThreePosition_Basic2($E$3,$E$6,$B$3:$C$3,$B$6:$C$6,B53,O53)","v":{"$error":"#VALUE!"}},{"$error":"#VALUE!"},{"$error":"#VALUE!"},{"$error":"#VALUE!"}]
[19.5,0.34033920413889424,{"$f":"Burmester($B$3:$C$3,$B$4:$C$4,$B$5:$C$5,$E$3,$E$4,$E$5,B54)","v":{"$error":"#VALUE!"}},{"$error":"#VALUE!"},{"$f":"ThreePosition_Basic2($E$3,$E$5,$B$3:$C$3,$B$5:$C$5,B54,C54)","v":{"$error":"#VALUE!"}},{"$error":"#VALUE!"},{"$error":"#VALUE!"},{"$error":"#VALUE!"},{"$f":"ThreePosition_Basic2($E$3,$E$5,$B$3:$C$3,$B$5:$C$5,B54,D54)","v":{"$error":"#VALUE!"}},{"$error":"#VALUE!"},{"$error":"#VALUE!"},{"$error":"#VALUE!"},null,{"$f":"Burmester($B$3:$C$3,$B$4:$C$4,$B$6:$C$6,$E$3,$E$4,$E$6,B54)","v":{"$error":"#VALUE!"}},{"$error":"#VALUE!"},{"$f":"ThreePosition_Basic2($E$3,$E$6,$B$3:$C$3,$B$6:$C$6,B54,N54)","v":{"$error":"#VALUE!"}},{"$error":"#VALUE!"},{"$error":"#VALUE!"},{"$error":"#VALUE!"},{"$f":"ThreePosition_Basic2($E$3,$E$6,$B$3:$C$3,$B$6:$C$6,B54,O54)","v":{"$error":"#VALUE!"}},{"$error":"#VALUE!"},{"$error":"#VALUE!"},{"$error":"#VALUE!"}]
[20,0.3490658503988659,{"$f":"Burmester($B$3:$C$3,$B$4:$C$4,$B$5:$C$5,$E$3,$E$4,$E$5,B55)","v":{"$error":"#VALUE!"}},{"$error":"#VALUE!"},{"$f":"ThreePosition_Basic2($E$3,$E$5,$B$3:$C$3,$B$5:$C$5,B55,C55)","v":{"$error":"#VALUE!"}},{"$error":"#VALUE!"},{"$error":"#VALUE!"},{"$error":"#VALUE!"},{"$f":"ThreePosition_Basic2($E$3,$E$5,$B$3:$C$3,$B$5:$C$5,B55,D55)","v":{"$error":"#VALUE!"}},{"$error":"#VALUE!"},{"$error":"#VALUE!"},{"$error":"#VALUE!"},null,{"$f":"Burmester($B$3:$C$3,$B$4:$C$4,$B$6:$C$6,$E$3,$E$4,$E$6,B55)","v":{"$error":"#VALUE!"}},{"$error":"#VALUE!"},{"$f":"ThreePosition_Basic2($E$3,$E$6,$B$3:$C$3,$B$6:$C$6,B55,N55)","v":{"$error":"#VALUE!"}},{"$error":"#VALUE!"},{"$error":"#VALUE!"},{"$error":"#VALUE!"},{"$f":"ThreePosition_Basic2($E$3,$E$6,$B$3:$C$3,$B$6:$C$6,B55,O55)","v":{"$error":"#VALUE!"}},{"$error":"#VALUE!"},{"$error":"#VALUE!"},{"$error":"#VALUE!"}]
[20.5,0.3577924966588375,{"$f":"Burmester($B$3:$C$3,$B$4:$C$4,$B$5:$C$5,$E$3,$E$4,$E$5,B56)","v":{"$error":"#VALUE!"}},{"$error":"#VALUE!"},{"$f":"ThreePosition_Basic2($E$3,$E$5,$B$3:$C$3,$B$5:$C$5,B56,C56)","v":{"$error":"#VALUE!"}},{"$error":"#VALUE!"},{"$error":"#VALUE!"},{"$error":"#VALUE!"},{"$f":"ThreePosition_Basic2($E$3,$E$5,$B$3:$C$3,$B$5:$C$5,B56,D56)","v":{"$error":"#VALUE!"}},{"$error":"#VALUE!"},{"$error":"#VALUE!"},{"$error":"#VALUE!"},null,{"$f":"Burmester($B$3:$C$3,$B$4:$C$4,$B$6:$C$6,$E$3,$E$4,$E$6,B56)","v":{"$error":"#VALUE!"}},{"$error":"#VALUE!"},{"$f":"ThreePosition_Basic2($E$3,$E$6,$B$3:$C$3,$B$6:$C$6,B56,N56)","v":{"$error":"#VALUE!"}},{"$error":"#VALUE!"},{"$error":"#VALUE!"},{"$error":"#VALUE!"},{"$f":"ThreePosition_Basic2($E$3,$E$6,$B$3:$C$3,$B$6:$C$6,B56,O56)","v":{"$error":"#VALUE!"}},{"$error":"#VALUE!"},{"$error":"#VALUE!"},{"$error":"#VALUE!"}]
[21,0.36651914291880922,{"$f":"Burmester($B$3:$C$3,$B$4:$C$4,$B$5:$C$5,$E$3,$E$4,$E$5,B57)","v":{"$error":"#VALUE!"}},{"$error":"#VALUE!"},{"$f":"ThreePosition_Basic2($E$3,$E$5,$B$3:$C$3,$B$5:$C$5,B57,C57)","v":{"$error":"#VALUE!"}},{"$error":"#VALUE!"},{"$error":"#VALUE!"},{"$error":"#VALUE!"},{"$f":"ThreePosition_Basic2($E$3,$E$5,$B$3:$C$3,$B$5:$C$5,B57,D57)","v":{"$error":"#VALUE!"}},{"$error":"#VALUE!"},{"$error":"#VALUE!"},{"$error":"#VALUE!"},null,{"$f":"Burmester($B$3:$C$3,$B$4:$C$4,$B$6:$C$6,$E$3,$E$4,$E$6,B57)","v":{"$error":"#VALUE!"}},{"$error":"#VALUE!"},{"$f":"ThreePosition_Basic2($E$3,$E$6,$B$3:$C$3,$B$6:$C$6,B57,N57)","v":{"$error":"#VALUE!"}},{"$error":"#VALUE!"},{"$error":"#VALUE!"},{"$error":"#VALUE!"},{"$f":"ThreePosition_Basic2($E$3,$E$6,$B$3:$C$3,$B$6:$C$6,B57,O57)","v":{"$error":"#VALUE!"}},{"$error":"#VALUE!"},{"$error":"#VALUE!"},{"$error":"#VALUE!"}]
[21.5,0.37524578917878082,{"$f":"Burmester($B$3:$C$3,$B$4:$C$4,$B$5:$C$5,$E$3,$E$4,$E$5,B58)","v":{"$error":"#VALUE!"}},{"$error":"#VALUE!"},{"$f":"ThreePosition_Basic2($E$3,$E$5,$B$3:$C$3,$B$5:$C$5,B58,C58)","v":{"$error":"#VALUE!"}},{"$error":"#VALUE!"},{"$error":"#VALUE!"},{"$error":"#VALUE!"},{"$f":"ThreePosition_Basic2($E$3,$E$5,$B$3:$C$3,$B$5:$C$5,B58,D58)","v":{"$error":"#VALUE!"}},{"$error":"#VALUE!"},{"$error":"#VALUE!"},{"$error":"#VALUE!"},null,{"$f":"Burmester($B$3:$C$3,$B$4:$C$4,$B$6:$C$6,$E$3,$E$4,$E$6,B58)","v":{"$error":"#VALUE!"}},{"$error":"#VALUE!"},{"$f":"ThreePosition_Basic2($E$3,$E$6,$B$3:$C$3,$B$6:$C$6,B58,N58)","v":{"$error":"#VALUE!"}},{"$error":"#VALUE!"},{"$error":"#VALUE!"},{"$error":"#VALUE!"},{"$f":"ThreePosition_Basic2($E$3,$E$6,$B$3:$C$3,$B$6:$C$6,B58,O58)","v":{"$error":"#VALUE!"}},{"$error":"#VALUE!"},{"$error":"#VALUE!"},{"$error":"#VALUE!"}]
[22,0.38397243543875248,{"$f":"Burmester($B$3:$C$3,$B$4:$C$4,$B$5:$C$5,$E$3,$E$4,$E$5,B59)","v":{"$error":"#VALUE!"}},{"$error":"#VALUE!"},{"$f":"ThreePosition_Basic2($E$3,$E$5,$B$3:$C$3,$B$5:$C$5,B59,C59)","v":{"$error":"#VALUE!"}},{"$error":"#VALUE!"},{"$error":"#VALUE!"},{"$error":"#VALUE!"},{"$f":"ThreePosition_Basic2($E$3,$E$5,$B$3:$C$3,$B$5:$C$5,B59,D59)","v":{"$error":"#VALUE!"}},{"$error":"#VALUE!"},{"$error":"#VALUE!"},{"$error":"#VALUE!"},null,{"$f":"Burmester($B$3:$C$3,$B$4:$C$4,$B$6:$C$6,$E$3,$E$4,$E$6,B59)","v":{"$error":"#VALUE!"}},{"$error":"#VALUE!"},{"$f":"ThreePosition_Basic2($E$3,$E$6,$B$3:$C$3,$B$6:$C$6,B59,N59)","v":{"$error":"#VALUE!"}},{"$error":"#VALUE!"},{"$error":"#VALUE!"},{"$error":"#VALUE!"},{"$f":"ThreePosition_Basic2($E$3,$E$6,$B$3:$C$3,$B$6:$C$6,B59,O59)","v":{"$error":"#VALUE!"}},{"$error":"#VALUE!"},{"$error":"#VALUE!"},{"$error":"#VALUE!"}]
[22.5,0.39269908169872414,{"$f":"Burmester($B$3:$C$3,$B$4:$C$4,$B$5:$C$5,$E$3,$E$4,$E$5,B60)","v":{"$error":"#VALUE!"}},{"$error":"#VALUE!"},{"$f":"ThreePosition_Basic2($E$3,$E$5,$B$3:$C$3,$B$5:$C$5,B60,C60)","v":{"$error":"#VALUE!"}},{"$error":"#VALUE!"},{"$error":"#VALUE!"},{"$error":"#VALUE!"},{"$f":"ThreePosition_Basic2($E$3,$E$5,$B$3:$C$3,$B$5:$C$5,B60,D60)","v":{"$error":"#VALUE!"}},{"$error":"#VALUE!"},{"$error":"#VALUE!"},{"$error":"#VALUE!"},null,{"$f":"Burmester($B$3:$C$3,$B$4:$C$4,$B$6:$C$6,$E$3,$E$4,$E$6,B60)","v":{"$error":"#VALUE!"}},{"$error":"#VALUE!"},{"$f":"ThreePosition_Basic2($E$3,$E$6,$B$3:$C$3,$B$6:$C$6,B60,N60)","v":{"$error":"#VALUE!"}},{"$error":"#VALUE!"},{"$error":"#VALUE!"},{"$error":"#VALUE!"},{"$f":"ThreePosition_Basic2($E$3,$E$6,$B$3:$C$3,$B$6:$C$6,B60,O60)","v":{"$error":"#VALUE!"}},{"$error":"#VALUE!"},{"$error":"#VALUE!"},{"$error":"#VALUE!"}]
[23,0.40142572795869574,{"$f":"Burmester($B$3:$C$3,$B$4:$C$4,$B$5:$C$5,$E$3,$E$4,$E$5,B61)","v":{"$error":"#VALUE!"}},{"$error":"#VALUE!"},{"$f":"ThreePosition_Basic2($E$3,$E$5,$B$3:$C$3,$B$5:$C$5,B61,C61)","v":{"$error":"#VALUE!"}},{"$error":"#VALUE!"},{"$error":"#VALUE!"},{"$error":"#VALUE!"},{"$f":"ThreePosition_Basic2($E$3,$E$5,$B$3:$C$3,$B$5:$C$5,B61,D61)","v":{"$error":"#VALUE!"}},{"$error":"#VALUE!"},{"$error":"#VALUE!"},{"$error":"#VALUE!"},null,{"$f":"Burmester($B$3:$C$3,$B$4:$C$4,$B$6:$C$6,$E$3,$E$4,$E$6,B61)","v":{"$error":"#VALUE!"}},{"$error":"#VALUE!"},{"$f":"ThreePosition_Basic2($E$3,$E$6,$B$3:$C$3,$B$6:$C$6,B61,N61)","v":{"$error":"#VALUE!"}},{"$error":"#VALUE!"},{"$error":"#VALUE!"},{"$error":"#VALUE!"},{"$f":"ThreePosition_Basic2($E$3,$E$6,$B$3:$C$3,$B$6:$C$6,B61,O61)","v":{"$error":"#VALUE!"}},{"$error":"#VALUE!"},{"$error":"#VALUE!"},{"$error":"#VALUE!"}]
[23.5,0.41015237421866746,{"$f":"Burmester($B$3:$C$3,$B$4:$C$4,$B$5:$C$5,$E$3,$E$4,$E$5,B62)","v":{"$error":"#VALUE!"}},{"$error":"#VALUE!"},{"$f":"ThreePosition_Basic2($E$3,$E$5,$B$3:$C$3,$B$5:$C$5,B62,C62)","v":{"$error":"#VALUE!"}},{"$error":"#VALUE!"},{"$error":"#VALUE!"},{"$error":"#VALUE!"},{"$f":"ThreePosition_Basic2($E$3,$E$5,$B$3:$C$3,$B$5:$C$5,B62,D62)","v":{"$error":"#VALUE!"}},{"$error":"#VALUE!"},{"$error":"#VALUE!"},{"$error":"#VALUE!"},null,{"$f":"Burmester($B$3:$C$3,$B$4:$C$4,$B$6:$C$6,$E$3,$E$4,$E$6,B62)","v":{"$error":"#VALUE!"}},{"$error":"#VALUE!"},{"$f":"ThreePosition_Basic2($E$3,$E$6,$B$3:$C$3,$B$6:$C$6,B62,N62)","v":{"$error":"#VALUE!"}},{"$error":"#VALUE!"},{"$error":"#VALUE!"},{"$error":"#VALUE!"},{"$f":"ThreePosition_Basic2($E$3,$E$6,$B$3:$C$3,$B$6:$C$6,B62,O62)","v":{"$error":"#VALUE!"}},{"$error":"#VALUE!"},{"$error":"#VALUE!"},{"$error":"#VALUE!"}]
[24,0.41887902047863906,{"$f":"Burmester($B$3:$C$3,$B$4:$C$4,$B$5:$C$5,$E$3,$E$4,$E$5,B63)","v":{"$error":"#VALUE!"}},{"$error":"#VALUE!"},{"$f":"ThreePosition_Basic2($E$3,$E$5,$B$3:$C$3,$B$5:$C$5,B63,C63)","v":{"$error":"#VALUE!"}},{"$error":"#VALUE!"},{"$error":"#VALUE!"},{"$error":"#VALUE!"},{"$f":"ThreePosition_Basic2($E$3,$E$5,$B$3:$C$3,$B$5:$C$5,B63,D63)","v":{"$error":"#VALUE!"}},{"$error":"#VALUE!"},{"$error":"#VALUE!"},{"$error":"#VALUE!"},null,{"$f":"Burmester($B$3:$C$3,$B$4:$C$4,$B$6:$C$6,$E$3,$E$4,$E$6,B63)","v":{"$error":"#VALUE!"}},{"$error":"#VALUE!"},{"$f":"ThreePosition_Basic2($E$3,$E$6,$B$3:$C$3,$B$6:$C$6,B63,N63)","v":{"$error":"#VALUE!"}},{"$error":"#VALUE!"},{"$error":"#VALUE!"},{"$error":"#VALUE!"},{"$f":"ThreePosition_Basic2($E$3,$E$6,$B$3:$C$3,$B$6:$C$6,B63,O63)","v":{"$error":"#VALUE!"}},{"$error":"#VALUE!"},{"$error":"#VALUE!"},{"$error":"#VALUE!"}]
[24.5,0.42760566673861072,{"$f":"Burmester($B$3:$C$3,$B$4:$C$4,$B$5:$C$5,$E$3,$E$4,$E$5,B64)","v":{"$error":"#VALUE!"}},{"$error":"#VALUE!"},{"$f":"ThreePosition_Basic2($E$3,$E$5,$B$3:$C$3,$B$5:$C$5,B64,C64)","v":{"$error":"#VALUE!"}},{"$error":"#VALUE!"},{"$error":"#VALUE!"},{"$error":"#VALUE!"},{"$f":"ThreePosition_Basic2($E$3,$E$5,$B$3:$C$3,$B$5:$C$5,B64,D64)","v":{"$error":"#VALUE!"}},{"$error":"#VALUE!"},{"$error":"#VALUE!"},{"$error":"#VALUE!"},null,{"$f":"Burmester($B$3:$C$3,$B$4:$C$4,$B$6:$C$6,$E$3,$E$4,$E$6,B64)","v":{"$error":"#VALUE!"}},{"$error":"#VALUE!"},{"$f":"ThreePosition_Basic2($E$3,$E$6,$B$3:$C$3,$B$6:$C$6,B64,N64)","v":{"$error":"#VALUE!"}},{"$error":"#VALUE!"},{"$error":"#VALUE!"},{"$error":"#VALUE!"},{"$f":"ThreePosition_Basic2($E$3,$E$6,$B$3:$C$3,$B$6:$C$6,B64,O64)","v":{"$error":"#VALUE!"}},{"$error":"#VALUE!"},{"$error":"#VALUE!"},{"$error":"#VALUE!"}]
[25,0.43633231299858238,{"$f":"Burmester($B$3:$C$3,$B$4:$C$4,$B$5:$C$5,$E$3,$E$4,$E$5,B65)","v":{"$error":"#VALUE!"}},{"$error":"#VALUE!"},{"$f":"ThreePosition_Basic2($E$3,$E$5,$B$3:$C$3,$B$5:$C$5,B65,C65)","v":{"$error":"#VALUE!"}},{"$error":"#VALUE!"},{"$error":"#VALUE!"},{"$error":"#VALUE!"},{"$f":"ThreePosition_Basic2($E$3,$E$5,$B$3:$C$3,$B$5:$C$5,B65,D65)","v":{"$error":"#VALUE!"}},{"$error":"#VALUE!"},{"$error":"#VALUE!"},{"$error":"#VALUE!"},null,{"$f":"Burmester($B$3:$C$3,$B$4:$C$4,$B$6:$C$6,$E$3,$E$4,$E$6,B65)","v":{"$error":"#VALUE!"}},{"$error":"#VALUE!"},{"$f":"ThreePosition_Basic2($E$3,$E$6,$B$3:$C$3,$B$6:$C$6,B65,N65)","v":{"$error":"#VALUE!"}},{"$error":"#VALUE!"},{"$error":"#VALUE!"},{"$error":"#VALUE!"},{"$f":"ThreePosition_Basic2($E$3,$E$6,$B$3:$C$3,$B$6:$C$6,B65,O65)","v":{"$error":"#VALUE!"}},{"$error":"#VALUE!"},{"$error":"#VALUE!"},{"$error":"#VALUE!"}]
[25.5,0.44505895925855399,{"$f":"Burmester($B$3:$C$3,$B$4:$C$4,$B$5:$C$5,$E$3,$E$4,$E$5,B66)","v":{"$error":"#VALUE!"}},{"$error":"#VALUE!"},{"$f":"ThreePosition_Basic2($E$3,$E$5,$B$3:$C$3,$B$5:$C$5,B66,C66)","v":{"$error":"#VALUE!"}},{"$error":"#VALUE!"},{"$error":"#VALUE!"},{"$error":"#VALUE!"},{"$f":"ThreePosition_Basic2($E$3,$E$5,$B$3:$C$3,$B$5:$C$5,B66,D66)","v":{"$error":"#VALUE!"}},{"$error":"#VALUE!"},{"$error":"#VALUE!"},{"$error":"#VALUE!"},null,{"$f":"Burmester($B$3:$C$3,$B$4:$C$4,$B$6:$C$6,$E$3,$E$4,$E$6,B66)","v":{"$error":"#VALUE!"}},{"$error":"#VALUE!"},{"$f":"ThreePosition_Basic2($E$3,$E$6,$B$3:$C$3,$B$6:$C$6,B66,N66)","v":{"$error":"#VALUE!"}},{"$error":"#VALUE!"},{"$error":"#VALUE!"},{"$error":"#VALUE!"},{"$f":"ThreePosition_Basic2($E$3,$E$6,$B$3:$C$3,$B$6:$C$6,B66,O66)","v":{"$error":"#VALUE!"}},{"$error":"#VALUE!"},{"$error":"#VALUE!"},{"$error":"#VALUE!"}]
[26,0.4537856055185257,{"$f":"Burmester($B$3:$C$3,$B$4:$C$4,$B$5:$C$5,$E$3,$E$4,$E$5,B67)","v":{"$error":"#VALUE!"}},{"$error":"#VALUE!"},{"$f":"ThreePosition_Basic2($E$3,$E$5,$B$3:$C$3,$B$5:$C$5,B67,C67)","v":{"$error":"#VALUE!"}},{"$error":"#VALUE!"},{"$error":"#VALUE!"},{"$error":"#VALUE!"},{"$f":"ThreePosition_Basic2($E$3,$E$5,$B$3:$C$3,$B$5:$C$5,B67,D67)","v":{"$error":"#VALUE!"}},{"$error":"#VALUE!"},{"$error":"#VALUE!"},{"$error":"#VALUE!"},null,{"$f":"Burmester($B$3:$C$3,$B$4:$C$4,$B$6:$C$6,$E$3,$E$4,$E$6,B67)","v":{"$error":"#VALUE!"}},{"$error":"#VALUE!"},{"$f":"ThreePosition_Basic2($E$3,$E$6,$B$3:$C$3,$B$6:$C$6,B67,N67)","v":{"$error":"#VALUE!"}},{"$error":"#VALUE!"},{"$error":"#VALUE!"},{"$error":"#VALUE!"},{"$f":"ThreePosition_Basic2($E$3,$E$6,$B$3:$C$3,$B$6:$C$6,B67,O67)","v":{"$error":"#VALUE!"}},{"$error":"#VALUE!"},{"$error":"#VALUE!"},{"$error":"#VALUE!"}]
[26.5,0.46251225177849731,{"$f":"Burmester($B$3:$C$3,$B$4:$C$4,$B$5:$C$5,$E$3,$E$4,$E$5,B68)","v":{"$error":"#VALUE!"}},{"$error":"#VALUE!"},{"$f":"ThreePosition_Basic2($E$3,$E$5,$B$3:$C$3,$B$5:$C$5,B68,C68)","v":{"$error":"#VALUE!"}},{"$error":"#VALUE!"},{"$error":"#VALUE!"},{"$error":"#VALUE!"},{"$f":"ThreePosition_Basic2($E$3,$E$5,$B$3:$C$3,$B$5:$C$5,B68,D68)","v":{"$error":"#VALUE!"}},{"$error":"#VALUE!"},{"$error":"#VALUE!"},{"$error":"#VALUE!"},null,{"$f":"Burmester($B$3:$C$3,$B$4:$C$4,$B$6:$C$6,$E$3,$E$4,$E$6,B68)","v":{"$error":"#VALUE!"}},{"$error":"#VALUE!"},{"$f":"ThreePosition_Basic2($E$3,$E$6,$B$3:$C$3,$B$6:$C$6,B68,N68)","v":{"$error":"#VALUE!"}},{"$error":"#VALUE!"},{"$error":"#VALUE!"},{"$error":"#VALUE!"},{"$f":"ThreePosition_Basic2($E$3,$E$6,$B$3:$C$3,$B$6:$C$6,B68,O68)","v":{"$error":"#VALUE!"}},{"$error":"#VALUE!"},{"$error":"#VALUE!"},{"$error":"#VALUE!"}]
[27,0.47123889803846897,{"$f":"Burmester($B$3:$C$3,$B$4:$C$4,$B$5:$C$5,$E$3,$E$4,$E$5,B69)","v":{"$error":"#VALUE!"}},{"$error":"#VALUE!"},{"$f":"ThreePosition_Basic2($E$3,$E$5,$B$3:$C$3,$B$5:$C$5,B69,C69)","v":{"$error":"#VALUE!"}},{"$error":"#VALUE!"},{"$error":"#VALUE!"},{"$error":"#VALUE!"},{"$f":"ThreePosition_Basic2($E$3,$E$5,$B$3:$C$3,$B$5:$C$5,B69,D69)","v":{"$error":"#VALUE!"}},{"$error":"#VALUE!"},{"$error":"#VALUE!"},{"$error":"#VALUE!"},null,{"$f":"Burmester($B$3:$C$3,$B$4:$C$4,$B$6:$C$6,$E$3,$E$4,$E$6,B69)","v":{"$error":"#VALUE!"}},{"$error":"#VALUE!"},{"$f":"ThreePosition_Basic2($E$3,$E$6,$B$3:$C$3,$B$6:$C$6,B69,N69)","v":{"$error":"#VALUE!"}},{"$error":"#VALUE!"},{"$error":"#VALUE!"},{"$error":"#VALUE!"},{"$f":"ThreePosition_Basic2($E$3,$E$6,$B$3:$C$3,$B$6:$C$6,B69,O69)","v":{"$error":"#VALUE!"}},{"$error":"#VALUE!"},{"$error":"#VALUE!"},{"$error":"#VALUE!"}]
[27.5,0.47996554429844063,{"$f":"Burmester($B$3:$C$3,$B$4:$C$4,$B$5:$C$5,$E$3,$E$4,$E$5,B70)","v":{"$error":"#VALUE!"}},{"$error":"#VALUE!"},{"$f":"ThreePosition_Basic2($E$3,$E$5,$B$3:$C$3,$B$5:$C$5,B70,C70)","v":{"$error":"#VALUE!"}},{"$error":"#VALUE!"},{"$error":"#VALUE!"},{"$error":"#VALUE!"},{"$f":"ThreePosition_Basic2($E$3,$E$5,$B$3:$C$3,$B$5:$C$5,B70,D70)","v":{"$error":"#VALUE!"}},{"$error":"#VALUE!"},{"$error":"#VALUE!"},{"$error":"#VALUE!"},null,{"$f":"Burmester($B$3:$C$3,$B$4:$C$4,$B$6:$C$6,$E$3,$E$4,$E$6,B70)","v":{"$error":"#VALUE!"}},{"$error":"#VALUE!"},{"$f":"ThreePosition_Basic2($E$3,$E$6,$B$3:$C$3,$B$6:$C$6,B70,N70)","v":{"$error":"#VALUE!"}},{"$error":"#VALUE!"},{"$error":"#VALUE!"},{"$error":"#VALUE!"},{"$f":"ThreePosition_Basic2($E$3,$E$6,$B$3:$C$3,$B$6:$C$6,B70,O70)","v":{"$error":"#VALUE!"}},{"$error":"#VALUE!"},{"$error":"#VALUE!"},{"$error":"#VALUE!"}]
[28,0.48869219055841229,{"$f":"Burmester($B$3:$C$3,$B$4:$C$4,$B$5:$C$5,$E$3,$E$4,$E$5,B71)","v":{"$error":"#VALUE!"}},{"$error":"#VALUE!"},{"$f":"ThreePosition_Basic2($E$3,$E$5,$B$3:$C$3,$B$5:$C$5,B71,C71)","v":{"$error":"#VALUE!"}},{"$error":"#VALUE!"},{"$error":"#VALUE!"},{"$error":"#VALUE!"},{"$f":"ThreePosition_Basic2($E$3,$E$5,$B$3:$C$3,$B$5:$C$5,B71,D71)","v":{"$error":"#VALUE!"}},{"$error":"#VALUE!"},{"$error":"#VALUE!"},{"$error":"#VALUE!"},null,{"$f":"Burmester($B$3:$C$3,$B$4:$C$4,$B$6:$C$6,$E$3,$E$4,$E$6,B71)","v":{"$error":"#VALUE!"}},{"$error":"#VALUE!"},{"$f":"ThreePosition_Basic2($E$3,$E$6,$B$3:$C$3,$B$6:$C$6,B71,N71)","v":{"$error":"#VALUE!"}},{"$error":"#VALUE!"},{"$error":"#VALUE!"},{"$error":"#VALUE!"},{"$f":"ThreePosition_Basic2($E$3,$E$6,$B$3:$C$3,$B$6:$C$6,B71,O71)","v":{"$error":"#VALUE!"}},{"$error":"#VALUE!"},{"$error":"#VALUE!"},{"$error":"#VALUE!"}]
[28.5,0.49741883681838389,{"$f":"Burmester($B$3:$C$3,$B$4:$C$4,$B$5:$C$5,$E$3,$E$4,$E$5,B72)","v":{"$error":"#VALUE!"}},{"$error":"#VALUE!"},{"$f":"ThreePosition_Basic2($E$3,$E$5,$B$3:$C$3,$B$5:$C$5,B72,C72)","v":{"$error":"#VALUE!"}},{"$error":"#VALUE!"},{"$error":"#VALUE!"},{"$error":"#VALUE!"},{"$f":"ThreePosition_Basic2($E$3,$E$5,$B$3:$C$3,$B$5:$C$5,B72,D72)","v":{"$error":"#VALUE!"}},{"$error":"#VALUE!"},{"$error":"#VALUE!"},{"$error":"#VALUE!"},null,{"$f":"Burmester($B$3:$C$3,$B$4:$C$4,$B$6:$C$6,$E$3,$E$4,$E$6,B72)","v":{"$error":"#VALUE!"}},{"$error":"#VALUE!"},{"$f":"ThreePosition_Basic2($E$3,$E$6,$B$3:$C$3,$B$6:$C$6,B72,N72)","v":{"$error":"#VALUE!"}},{"$error":"#VALUE!"},{"$error":"#VALUE!"},{"$error":"#VALUE!"},{"$f":"ThreePosition_Basic2($E$3,$E$6,$B$3:$C$3,$B$6:$C$6,B72,O72)","v":{"$error":"#VALUE!"}},{"$error":"#VALUE!"},{"$error":"#VALUE!"},{"$error":"#VALUE!"}]
[29,0.50614548307835561,{"$f":"Burmester($B$3:$C$3,$B$4:$C$4,$B$5:$C$5,$E$3,$E$4,$E$5,B73)","v":{"$error":"#VALUE!"}},{"$error":"#VALUE!"},{"$f":"ThreePosition_Basic2($E$3,$E$5,$B$3:$C$3,$B$5:$C$5,B73,C73)","v":{"$error":"#VALUE!"}},{"$error":"#VALUE!"},{"$error":"#VALUE!"},{"$error":"#VALUE!"},{"$f":"ThreePosition_Basic2($E$3,$E$5,$B$3:$C$3,$B$5:$C$5,B73,D73)","v":{"$error":"#VALUE!"}},{"$error":"#VALUE!"},{"$error":"#VALUE!"},{"$error":"#VALUE!"},null,{"$f":"Burmester($B$3:$C$3,$B$4:$C$4,$B$6:$C$6,$E$3,$E$4,$E$6,B73)","v":{"$error":"#VALUE!"}},{"$error":"#VALUE!"},{"$f":"ThreePosition_Basic2($E$3,$E$6,$B$3:$C$3,$B$6:$C$6,B73,N73)","v":{"$error":"#VALUE!"}},{"$error":"#VALUE!"},{"$error":"#VALUE!"},{"$error":"#VALUE!"},{"$f":"ThreePosition_Basic2($E$3,$E$6,$B$3:$C$3,$B$6:$C$6,B73,O73)","v":{"$error":"#VALUE!"}},{"$error":"#VALUE!"},{"$error":"#VALUE!"},{"$error":"#VALUE!"}]
[29.5,0.51487212933832716,{"$f":"Burmester($B$3:$C$3,$B$4:$C$4,$B$5:$C$5,$E$3,$E$4,$E$5,B74)","v":{"$error":"#VALUE!"}},{"$error":"#VALUE!"},{"$f":"ThreePosition_Basic2($E$3,$E$5,$B$3:$C$3,$B$5:$C$5,B74,C74)","v":{"$error":"#VALUE!"}},{"$error":"#VALUE!"},{"$error":"#VALUE!"},{"$error":"#VALUE!"},{"$f":"ThreePosition_Basic2($E$3,$E$5,$B$3:$C$3,$B$5:$C$5,B74,D74)","v":{"$error":"#VALUE!"}},{"$error":"#VALUE!"},{"$error":"#VALUE!"},{"$error":"#VALUE!"},null,{"$f":"Burmester($B$3:$C$3,$B$4:$C$4,$B$6:$C$6,$E$3,$E$4,$E$6,B74)","v":{"$error":"#VALUE!"}},{"$error":"#VALUE!"},{"$f":"ThreePosition_Basic2($E$3,$E$6,$B$3:$C$3,$B$6:$C$6,B74,N74)","v":{"$error":"#VALUE!"}},{"$error":"#VALUE!"},{"$error":"#VALUE!"},{"$error":"#VALUE!"},{"$f":"ThreePosition_Basic2($E$3,$E$6,$B$3:$C$3,$B$6:$C$6,B74,O74)","v":{"$error":"#VALUE!"}},{"$error":"#VALUE!"},{"$error":"#VALUE!"},{"$error":"#VALUE!"}]
[30,0.52359877559829882,{"$f":"Burmester($B$3:$C$3,$B$4:$C$4,$B$5:$C$5,$E$3,$E$4,$E$5,B75)","v":{"$error":"#VALUE!"}},{"$error":"#VALUE!"},{"$f":"ThreePosition_Basic2($E$3,$E$5,$B$3:$C$3,$B$5:$C$5,B75,C75)","v":{"$error":"#VALUE!"}},{"$error":"#VALUE!"},{"$error":"#VALUE!"},{"$error":"#VALUE!"},{"$f":"ThreePosition_Basic2($E$3,$E$5,$B$3:$C$3,$B$5:$C$5,B75,D75)","v":{"$error":"#VALUE!"}},{"$error":"#VALUE!"},{"$error":"#VALUE!"},{"$error":"#VALUE!"},null,{"$f":"Burmester($B$3:$C$3,$B$4:$C$4,$B$6:$C$6,$E$3,$E$4,$E$6,B75)","v":{"$error":"#VALUE!"}},{"$error":"#VALUE!"},{"$f":"ThreePosition_Basic2($E$3,$E$6,$B$3:$C$3,$B$6:$C$6,B75,N75)","v":{"$error":"#VALUE!"}},{"$error":"#VALUE!"},{"$error":"#VALUE!"},{"$error":"#VALUE!"},{"$f":"ThreePosition_Basic2($E$3,$E$6,$B$3:$C$3,$B$6:$C$6,B75,O75)","v":{"$error":"#VALUE!"}},{"$error":"#VALUE!"},{"$error":"#VALUE!"},{"$error":"#VALUE!"}]
[30.5,0.53232542185827048,{"$f":"Burmester($B$3:$C$3,$B$4:$C$4,$B$5:$C$5,$E$3,$E$4,$E$5,B76)","v":{"$error":"#VALUE!"}},{"$error":"#VALUE!"},{"$f":"ThreePosition_Basic2($E$3,$E$5,$B$3:$C$3,$B$5:$C$5,B76,C76)","v":{"$error":"#VALUE!"}},{"$error":"#VALUE!"},{"$error":"#VALUE!"},{"$error":"#VALUE!"},{"$f":"ThreePosition_Basic2($E$3,$E$5,$B$3:$C$3,$B$5:$C$5,B76,D76)","v":{"$error":"#VALUE!"}},{"$error":"#VALUE!"},{"$error":"#VALUE!"},{"$error":"#VALUE!"},null,{"$f":"Burmester($B$3:$C$3,$B$4:$C$4,$B$6:$C$6,$E$3,$E$4,$E$6,B76)","v":{"$error":"#VALUE!"}},{"$error":"#VALUE!"},{"$f":"ThreePosition_Basic2($E$3,$E$6,$B$3:$C$3,$B$6:$C$6,B76,N76)","v":{"$error":"#VALUE!"}},{"$error":"#VALUE!"},{"$error":"#VALUE!"},{"$error":"#VALUE!"},{"$f":"ThreePosition_Basic2($E$3,$E$6,$B$3:$C$3,$B$6:$C$6,B76,O76)","v":{"$error":"#VALUE!"}},{"$error":"#VALUE!"},{"$error":"#VALUE!"},{"$error":"#VALUE!"}]
[31,0.54105206811824214,{"$f":"Burmester($B$3:$C$3,$B$4:$C$4,$B$5:$C$5,$E$3,$E$4,$E$5,B77)","v":{"$error":"#VALUE!"}},{"$error":"#VALUE!"},{"$f":"ThreePosition_Basic2($E$3,$E$5,$B$3:$C$3,$B$5:$C$5,B77,C77)","v":{"$error":"#VALUE!"}},{"$error":"#VALUE!"},{"$error":"#VALUE!"},{"$error":"#VALUE!"},{"$f":"ThreePosition_Basic2($E$3,$E$5,$B$3:$C$3,$B$5:$C$5,B77,D77)","v":{"$error":"#VALUE!"}},{"$error":"#VALUE!"},{"$error":"#VALUE!"},{"$error":"#VALUE!"},null,{"$f":"Burmester($B$3:$C$3,$B$4:$C$4,$B$6:$C$6,$E$3,$E$4,$E$6,B77)","v":{"$error":"#VALUE!"}},{"$error":"#VALUE!"},{"$f":"ThreePosition_Basic2($E$3,$E$6,$B$3:$C$3,$B$6:$C$6,B77,N77)","v":{"$error":"#VALUE!"}},{"$error":"#VALUE!"},{"$error":"#VALUE!"},{"$error":"#VALUE!"},{"$f":"ThreePosition_Basic2($E$3,$E$6,$B$3:$C$3,$B$6:$C$6,B77,O77)","v":{"$error":"#VALUE!"}},{"$error":"#VALUE!"},{"$error":"#VALUE!"},{"$error":"#VALUE!"}]
[31.5,0.5497787143782138,{"$f":"Burmester($B$3:$C$3,$B$4:$C$4,$B$5:$C$5,$E$3,$E$4,$E$5,B78)","v":{"$error":"#VALUE!"}},{"$error":"#VALUE!"},{"$f":"ThreePosition_Basic2($E$3,$E$5,$B$3:$C$3,$B$5:$C$5,B78,C78)","v":{"$error":"#VALUE!"}},{"$error":"#VALUE!"},{"$error":"#VALUE!"},{"$error":"#VALUE!"},{"$f":"ThreePosition_Basic2($E$3,$E$5,$B$3:$C$3,$B$5:$C$5,B78,D78)","v":{"$error":"#VALUE!"}},{"$error":"#VALUE!"},{"$error":"#VALUE!"},{"$error":"#VALUE!"},null,{"$f":"Burmester($B$3:$C$3,$B$4:$C$4,$B$6:$C$6,$E$3,$E$4,$E$6,B78)","v":{"$error":"#VALUE!"}},{"$error":"#VALUE!"},{"$f":"ThreePosition_Basic2($E$3,$E$6,$B$3:$C$3,$B$6:$C$6,B78,N78)","v":{"$error":"#VALUE!"}},{"$error":"#VALUE!"},{"$error":"#VALUE!"},{"$error":"#VALUE!"},{"$f":"ThreePosition_Basic2($E$3,$E$6,$B$3:$C$3,$B$6:$C$6,B78,O78)","v":{"$error":"#VALUE!"}},{"$error":"#VALUE!"},{"$error":"#VALUE!"},{"$error":"#VALUE!"}]
[32,0.55850536063818546,{"$f":"Burmester($B$3:$C$3,$B$4:$C$4,$B$5:$C$5,$E$3,$E$4,$E$5,B79)","v":{"$error":"#VALUE!"}},{"$error":"#VALUE!"},{"$f":"ThreePosition_Basic2($E$3,$E$5,$B$3:$C$3,$B$5:$C$5,B79,C79)","v":{"$error":"#VALUE!"}},{"$error":"#VALUE!"},{"$error":"#VALUE!"},{"$error":"#VALUE!"},{"$f":"ThreePosition_Basic2($E$3,$E$5,$B$3:$C$3,$B$5:$C$5,B79,D79)","v":{"$error":"#VALUE!"}},{"$error":"#VALUE!"},{"$error":"#VALUE!"},{"$error":"#VALUE!"},null,{"$f":"Burmester($B$3:$C$3,$B$4:$C$4,$B$6:$C$6,$E$3,$E$4,$E$6,B79)","v":{"$error":"#VALUE!"}},{"$error":"#VALUE!"},{"$f":"ThreePosition_Basic2($E$3,$E$6,$B$3:$C$3,$B$6:$C$6,B79,N79)","v":{"$error":"#VALUE!"}},{"$error":"#VALUE!"},{"$error":"#VALUE!"},{"$error":"#VALUE!"},{"$f":"ThreePosition_Basic2($E$3,$E$6,$B$3:$C$3,$B$6:$C$6,B79,O79)","v":{"$error":"#VALUE!"}},{"$error":"#VALUE!"},{"$error":"#VALUE!"},{"$error":"#VALUE!"}]
[32.5,{"$f":"A80*PI()/180","v":0.56723200689815712},{"$f":"Burmester($B$3:$C$3,$B$4:$C$4,$B$5:$C$5,$E$3,$E$4,$E$5,B80)","v":{"$error":"#VALUE!"}},{"$error":"#VALUE!"},{"$f":"ThreePosition_Basic2($E$3,$E$5,$B$3:$C$3,$B$5:$C$5,B80,C80)","v":{"$error":"#VALUE!"}},{"$error":"#VALUE!"},{"$error":"#VALUE!"},{"$error":"#VALUE!"},{"$f":"ThreePosition_Basic2($E$3,$E$5,$B$3:$C$3,$B$5:$C$5,B80,D80)","v":{"$error":"#VALUE!"}},{"$error":"#VALUE!"},{"$error":"#VALUE!"},{"$error":"#VALUE!"},null,{"$f":"Burmester($B$3:$C$3,$B$4:$C$4,$B$6:$C$6,$E$3,$E$4,$E$6,B80)","v":{"$error":"#VALUE!"}},{"$error":"#VALUE!"},{"$f":"ThreePosition_Basic2($E$3,$E$6,$B$3:$C$3,$B$6:$C$6,B80,N80)","v":{"$error":"#VALUE!"}},{"$error":"#VALUE!"},{"$error":"#VALUE!"},{"$error":"#VALUE!"},{"$f":"ThreePosition_Basic2($E$3,$E$6,$B$3:$C$3,$B$6:$C$6,B80,O80)","v":{"$error":"#VALUE!"}},{"$error":"#VALUE!"},{"$error":"#VALUE!"},{"$error":"#VALUE!"}]
[33,0.57595865315812877,{"$f":"Burmester($B$3:$C$3,$B$4:$C$4,$B$5:$C$5,$E$3,$E$4,$E$5,B81)","v":{"$error":"#VALUE!"}},{"$error":"#VALUE!"},{"$f":"ThreePosition_Basic2($E$3,$E$5,$B$3:$C$3,$B$5:$C$5,B81,C81)","v":{"$error":"#VALUE!"}},{"$error":"#VALUE!"},{"$error":"#VALUE!"},{"$error":"#VALUE!"},{"$f":"ThreePosition_Basic2($E$3,$E$5,$B$3:$C$3,$B$5:$C$5,B81,D81)","v":{"$error":"#VALUE!"}},{"$error":"#VALUE!"},{"$error":"#VALUE!"},{"$error":"#VALUE!"},null,{"$f":"Burmester($B$3:$C$3,$B$4:$C$4,$B$6:$C$6,$E$3,$E$4,$E$6,B81)","v":{"$error":"#VALUE!"}},{"$error":"#VALUE!"},{"$f":"ThreePosition_Basic2($E$3,$E$6,$B$3:$C$3,$B$6:$C$6,B81,N81)","v":{"$error":"#VALUE!"}},{"$error":"#VALUE!"},{"$error":"#VALUE!"},{"$error":"#VALUE!"},{"$f":"ThreePosition_Basic2($E$3,$E$6,$B$3:$C$3,$B$6:$C$6,B81,O81)","v":{"$error":"#VALUE!"}},{"$error":"#VALUE!"},{"$error":"#VALUE!"},{"$error":"#VALUE!"}]
[33.5,0.58468529941810032,{"$f":"Burmester($B$3:$C$3,$B$4:$C$4,$B$5:$C$5,$E$3,$E$4,$E$5,B82)","v":{"$error":"#VALUE!"}},{"$error":"#VALUE!"},{"$f":"ThreePosition_Basic2($E$3,$E$5,$B$3:$C$3,$B$5:$C$5,B82,C82)","v":{"$error":"#VALUE!"}},{"$error":"#VALUE!"},{"$error":"#VALUE!"},{"$error":"#VALUE!"},{"$f":"ThreePosition_Basic2($E$3,$E$5,$B$3:$C$3,$B$5:$C$5,B82,D82)","v":{"$error":"#VALUE!"}},{"$error":"#VALUE!"},{"$error":"#VALUE!"},{"$error":"#VALUE!"},null,{"$f":"Burmester($B$3:$C$3,$B$4:$C$4,$B$6:$C$6,$E$3,$E$4,$E$6,B82)","v":{"$error":"#VALUE!"}},{"$error":"#VALUE!"},{"$f":"ThreePosition_Basic2($E$3,$E$6,$B$3:$C$3,$B$6:$C$6,B82,N82)","v":{"$error":"#VALUE!"}},{"$error":"#VALUE!"},{"$error":"#VALUE!"},{"$error":"#VALUE!"},{"$f":"ThreePosition_Basic2($E$3,$E$6,$B$3:$C$3,$B$6:$C$6,B82,O82)","v":{"$error":"#VALUE!"}},{"$error":"#VALUE!"},{"$error":"#VALUE!"},{"$error":"#VALUE!"}]
[34,0.59341194567807209,{"$f":"Burmester($B$3:$C$3,$B$4:$C$4,$B$5:$C$5,$E$3,$E$4,$E$5,B83)","v":{"$error":"#VALUE!"}},{"$error":"#VALUE!"},{"$f":"ThreePosition_Basic2($E$3,$E$5,$B$3:$C$3,$B$5:$C$5,B83,C83)","v":{"$error":"#VALUE!"}},{"$error":"#VALUE!"},{"$error":"#VALUE!"},{"$error":"#VALUE!"},{"$f":"ThreePosition_Basic2($E$3,$E$5,$B$3:$C$3,$B$5:$C$5,B83,D83)","v":{"$error":"#VALUE!"}},{"$error":"#VALUE!"},{"$error":"#VALUE!"},{"$error":"#VALUE!"},null,{"$f":"Burmester($B$3:$C$3,$B$4:$C$4,$B$6:$C$6,$E$3,$E$4,$E$6,B83)","v":{"$error":"#VALUE!"}},{"$error":"#VALUE!"},{"$f":"ThreePosition_Basic2($E$3,$E$6,$B$3:$C$3,$B$6:$C$6,B83,N83)","v":{"$error":"#VALUE!"}},{"$error":"#VALUE!"},{"$error":"#VALUE!"},{"$error":"#VALUE!"},{"$f":"ThreePosition_Basic2($E$3,$E$6,$B$3:$C$3,$B$6:$C$6,B83,O83)","v":{"$error":"#VALUE!"}},{"$error":"#VALUE!"},{"$error":"#VALUE!"},{"$error":"#VALUE!"}]
[34.5,0.60213859193804364,{"$f":"Burmester($B$3:$C$3,$B$4:$C$4,$B$5:$C$5,$E$3,$E$4,$E$5,B84)","v":{"$error":"#VALUE!"}},{"$error":"#VALUE!"},{"$f":"ThreePosition_Basic2($E$3,$E$5,$B$3:$C$3,$B$5:$C$5,B84,C84)","v":{"$error":"#VALUE!"}},{"$error":"#VALUE!"},{"$error":"#VALUE!"},{"$error":"#VALUE!"},{"$f":"ThreePosition_Basic2($E$3,$E$5,$B$3:$C$3,$B$5:$C$5,B84,D84)","v":{"$error":"#VALUE!"}},{"$error":"#VALUE!"},{"$error":"#VALUE!"},{"$error":"#VALUE!"},null,{"$f":"Burmester($B$3:$C$3,$B$4:$C$4,$B$6:$C$6,$E$3,$E$4,$E$6,B84)","v":{"$error":"#VALUE!"}},{"$error":"#VALUE!"},{"$f":"ThreePosition_Basic2($E$3,$E$6,$B$3:$C$3,$B$6:$C$6,B84,N84)","v":{"$error":"#VALUE!"}},{"$error":"#VALUE!"},{"$error":"#VALUE!"},{"$error":"#VALUE!"},{"$f":"ThreePosition_Basic2($E$3,$E$6,$B$3:$C$3,$B$6:$C$6,B84,O84)","v":{"$error":"#VALUE!"}},{"$error":"#VALUE!"},{"$error":"#VALUE!"},{"$error":"#VALUE!"}]
[35,0.6108652381980153,{"$f":"Burmester($B$3:$C$3,$B$4:$C$4,$B$5:$C$5,$E$3,$E$4,$E$5,B85)","v":{"$error":"#VALUE!"}},{"$error":"#VALUE!"},{"$f":"ThreePosition_Basic2($E$3,$E$5,$B$3:$C$3,$B$5:$C$5,B85,C85)","v":{"$error":"#VALUE!"}},{"$error":"#VALUE!"},{"$error":"#VALUE!"},{"$error":"#VALUE!"},{"$f":"ThreePosition_Basic2($E$3,$E$5,$B$3:$C$3,$B$5:$C$5,B85,D85)","v":{"$error":"#VALUE!"}},{"$error":"#VALUE!"},{"$error":"#VALUE!"},{"$error":"#VALUE!"},null,{"$f":"Burmester($B$3:$C$3,$B$4:$C$4,$B$6:$C$6,$E$3,$E$4,$E$6,B85)","v":{"$error":"#VALUE!"}},{"$error":"#VALUE!"},{"$f":"ThreePosition_Basic2($E$3,$E$6,$B$3:$C$3,$B$6:$C$6,B85,N85)","v":{"$error":"#VALUE!"}},{"$error":"#VALUE!"},{"$error":"#VALUE!"},{"$error":"#VALUE!"},{"$f":"ThreePosition_Basic2($E$3,$E$6,$B$3:$C$3,$B$6:$C$6,B85,O85)","v":{"$error":"#VALUE!"}},{"$error":"#VALUE!"},{"$error":"#VALUE!"},{"$error":"#VALUE!"}]
[35.5,0.61959188445798696,{"$f":"Burmester($B$3:$C$3,$B$4:$C$4,$B$5:$C$5,$E$3,$E$4,$E$5,B86)","v":{"$error":"#VALUE!"}},{"$error":"#VALUE!"},{"$f":"ThreePosition_Basic2($E$3,$E$5,$B$3:$C$3,$B$5:$C$5,B86,C86)","v":{"$error":"#VALUE!"}},{"$error":"#VALUE!"},{"$error":"#VALUE!"},{"$error":"#VALUE!"},{"$f":"ThreePosition_Basic2($E$3,$E$5,$B$3:$C$3,$B$5:$C$5,B86,D86)","v":{"$error":"#VALUE!"}},{"$error":"#VALUE!"},{"$error":"#VALUE!"},{"$error":"#VALUE!"},null,{"$f":"Burmester($B$3:$C$3,$B$4:$C$4,$B$6:$C$6,$E$3,$E$4,$E$6,B86)","v":{"$error":"#VALUE!"}},{"$error":"#VALUE!"},{"$f":"ThreePosition_Basic2($E$3,$E$6,$B$3:$C$3,$B$6:$C$6,B86,N86)","v":{"$error":"#VALUE!"}},{"$error":"#VALUE!"},{"$error":"#VALUE!"},{"$error":"#VALUE!"},{"$f":"ThreePosition_Basic2($E$3,$E$6,$B$3:$C$3,$B$6:$C$6,B86,O86)","v":{"$error":"#VALUE!"}},{"$error":"#VALUE!"},{"$error":"#VALUE!"},{"$error":"#VALUE!"}]
[36,0.62831853071795862,{"$f":"Burmester($B$3:$C$3,$B$4:$C$4,$B$5:$C$5,$E$3,$E$4,$E$5,B87)","v":{"$error":"#VALUE!"}},{"$error":"#VALUE!"},{"$f":"ThreePosition_Basic2($E$3,$E$5,$B$3:$C$3,$B$5:$C$5,B87,C87)","v":{"$error":"#VALUE!"}},{"$error":"#VALUE!"},{"$error":"#VALUE!"},{"$error":"#VALUE!"},{"$f":"ThreePosition_Basic2($E$3,$E$5,$B$3:$C$3,$B$5:$C$5,B87,D87)","v":{"$error":"#VALUE!"}},{"$error":"#VALUE!"},{"$error":"#VALUE!"},{"$error":"#VALUE!"},null,{"$f":"Burmester($B$3:$C$3,$B$4:$C$4,$B$6:$C$6,$E$3,$E$4,$E$6,B87)","v":{"$error":"#VALUE!"}},{"$error":"#VALUE!"},{"$f":"ThreePosition_Basic2($E$3,$E$6,$B$3:$C$3,$B$6:$C$6,B87,N87)","v":{"$error":"#VALUE!"}},{"$error":"#VALUE!"},{"$error":"#VALUE!"},{"$error":"#VALUE!"},{"$f":"ThreePosition_Basic2($E$3,$E$6,$B$3:$C$3,$B$6:$C$6,B87,O87)","v":{"$error":"#VALUE!"}},{"$error":"#VALUE!"},{"$error":"#VALUE!"},{"$error":"#VALUE!"}]
[36.5,0.63704517697793028,{"$f":"Burmester($B$3:$C$3,$B$4:$C$4,$B$5:$C$5,$E$3,$E$4,$E$5,B88)","v":{"$error":"#VALUE!"}},{"$error":"#VALUE!"},{"$f":"ThreePosition_Basic2($E$3,$E$5,$B$3:$C$3,$B$5:$C$5,B88,C88)","v":{"$error":"#VALUE!"}},{"$error":"#VALUE!"},{"$error":"#VALUE!"},{"$error":"#VALUE!"},{"$f":"ThreePosition_Basic2($E$3,$E$5,$B$3:$C$3,$B$5:$C$5,B88,D88)","v":{"$error":"#VALUE!"}},{"$error":"#VALUE!"},{"$error":"#VALUE!"},{"$error":"#VALUE!"},null,{"$f":"Burmester($B$3:$C$3,$B$4:$C$4,$B$6:$C$6,$E$3,$E$4,$E$6,B88)","v":{"$error":"#VALUE!"}},{"$error":"#VALUE!"},{"$f":"ThreePosition_Basic2($E$3,$E$6,$B$3:$C$3,$B$6:$C$6,B88,N88)","v":{"$error":"#VALUE!"}},{"$error":"#VALUE!"},{"$error":"#VALUE!"},{"$error":"#VALUE!"},{"$f":"ThreePosition_Basic2($E$3,$E$6,$B$3:$C$3,$B$6:$C$6,B88,O88)","v":{"$error":"#VALUE!"}},{"$error":"#VALUE!"},{"$error":"#VALUE!"},{"$error":"#VALUE!"}]
[37,0.64577182323790194,{"$f":"Burmester($B$3:$C$3,$B$4:$C$4,$B$5:$C$5,$E$3,$E$4,$E$5,B89)","v":{"$error":"#VALUE!"}},{"$error":"#VALUE!"},{"$f":"ThreePosition_Basic2($E$3,$E$5,$B$3:$C$3,$B$5:$C$5,B89,C89)","v":{"$error":"#VALUE!"}},{"$error":"#VALUE!"},{"$error":"#VALUE!"},{"$error":"#VALUE!"},{"$f":"ThreePosition_Basic2($E$3,$E$5,$B$3:$C$3,$B$5:$C$5,B89,D89)","v":{"$error":"#VALUE!"}},{"$error":"#VALUE!"},{"$error":"#VALUE!"},{"$error":"#VALUE!"},null,{"$f":"Burmester($B$3:$C$3,$B$4:$C$4,$B$6:$C$6,$E$3,$E$4,$E$6,B89)","v":{"$error":"#VALUE!"}},{"$error":"#VALUE!"},{"$f":"ThreePosition_Basic2($E$3,$E$6,$B$3:$C$3,$B$6:$C$6,B89,N89)","v":{"$error":"#VALUE!"}},{"$error":"#VALUE!"},{"$error":"#VALUE!"},{"$error":"#VALUE!"},{"$f":"ThreePosition_Basic2($E$3,$E$6,$B$3:$C$3,$B$6:$C$6,B89,O89)","v":{"$error":"#VALUE!"}},{"$error":"#VALUE!"},{"$error":"#VALUE!"},{"$error":"#VALUE!"}]
[37.5,0.6544984694978736,{"$f":"Burmester($B$3:$C$3,$B$4:$C$4,$B$5:$C$5,$E$3,$E$4,$E$5,B90)","v":{"$error":"#VALUE!"}},{"$error":"#VALUE!"},{"$f":"ThreePosition_Basic2($E$3,$E$5,$B$3:$C$3,$B$5:$C$5,B90,C90)","v":{"$error":"#VALUE!"}},{"$error":"#VALUE!"},{"$error":"#VALUE!"},{"$error":"#VALUE!"},{"$f":"ThreePosition_Basic2($E$3,$E$5,$B$3:$C$3,$B$5:$C$5,B90,D90)","v":{"$error":"#VALUE!"}},{"$error":"#VALUE!"},{"$error":"#VALUE!"},{"$error":"#VALUE!"},null,{"$f":"Burmester($B$3:$C$3,$B$4:$C$4,$B$6:$C$6,$E$3,$E$4,$E$6,B90)","v":{"$error":"#VALUE!"}},{"$error":"#VALUE!"},{"$f":"ThreePosition_Basic2($E$3,$E$6,$B$3:$C$3,$B$6:$C$6,B90,N90)","v":{"$error":"#VALUE!"}},{"$error":"#VALUE!"},{"$error":"#VALUE!"},{"$error":"#VALUE!"},{"$f":"ThreePosition_Basic2($E$3,$E$6,$B$3:$C$3,$B$6:$C$6,B90,O90)","v":{"$error":"#VALUE!"}},{"$error":"#VALUE!"},{"$error":"#VALUE!"},{"$error":"#VALUE!"}]
[38,0.66322511575784515,{"$f":"Burmester($B$3:$C$3,$B$4:$C$4,$B$5:$C$5,$E$3,$E$4,$E$5,B91)","v":{"$error":"#VALUE!"}},{"$error":"#VALUE!"},{"$f":"ThreePosition_Basic2($E$3,$E$5,$B$3:$C$3,$B$5:$C$5,B91,C91)","v":{"$error":"#VALUE!"}},{"$error":"#VALUE!"},{"$error":"#VALUE!"},{"$error":"#VALUE!"},{"$f":"ThreePosition_Basic2($E$3,$E$5,$B$3:$C$3,$B$5:$C$5,B91,D91)","v":{"$error":"#VALUE!"}},{"$error":"#VALUE!"},{"$error":"#VALUE!"},{"$error":"#VALUE!"},null,{"$f":"Burmester($B$3:$C$3,$B$4:$C$4,$B$6:$C$6,$E$3,$E$4,$E$6,B91)","v":{"$error":"#VALUE!"}},{"$error":"#VALUE!"},{"$f":"ThreePosition_Basic2($E$3,$E$6,$B$3:$C$3,$B$6:$C$6,B91,N91)","v":{"$error":"#VALUE!"}},{"$error":"#VALUE!"},{"$error":"#VALUE!"},{"$error":"#VALUE!"},{"$f":"ThreePosition_Basic2($E$3,$E$6,$B$3:$C$3,$B$6:$C$6,B91,O91)","v":{"$error":"#VALUE!"}},{"$error":"#VALUE!"},{"$error":"#VALUE!"},{"$error":"#VALUE!"}]
[38.5,0.67195176201781692,{"$f":"Burmester($B$3:$C$3,$B$4:$C$4,$B$5:$C$5,$E$3,$E$4,$E$5,B92)","v":{"$error":"#VALUE!"}},{"$error":"#VALUE!"},{"$f":"ThreePosition_Basic2($E$3,$E$5,$B$3:$C$3,$B$5:$C$5,B92,C92)","v":{"$error":"#VALUE!"}},{"$error":"#VALUE!"},{"$error":"#VALUE!"},{"$error":"#VALUE!"},{"$f":"ThreePosition_Basic2($E$3,$E$5,$B$3:$C$3,$B$5:$C$5,B92,D92)","v":{"$error":"#VALUE!"}},{"$error":"#VALUE!"},{"$error":"#VALUE!"},{"$error":"#VALUE!"},null,{"$f":"Burmester($B$3:$C$3,$B$4:$C$4,$B$6:$C$6,$E$3,$E$4,$E$6,B92)","v":{"$error":"#VALUE!"}},{"$error":"#VALUE!"},{"$f":"ThreePosition_Basic2($E$3,$E$6,$B$3:$C$3,$B$6:$C$6,B92,N92)","v":{"$error":"#VALUE!"}},{"$error":"#VALUE!"},{"$error":"#VALUE!"},{"$error":"#VALUE!"},{"$f":"ThreePosition_Basic2($E$3,$E$6,$B$3:$C$3,$B$6:$C$6,B92,O92)","v":{"$error":"#VALUE!"}},{"$error":"#VALUE!"},{"$error":"#VALUE!"},{"$error":"#VALUE!"}]
[39,0.68067840827778847,{"$f":"Burmester($B$3:$C$3,$B$4:$C$4,$B$5:$C$5,$E$3,$E$4,$E$5,B93)","v":{"$error":"#VALUE!"}},{"$error":"#VALUE!"},{"$f":"ThreePosition_Basic2($E$3,$E$5,$B$3:$C$3,$B$5:$C$5,B93,C93)","v":{"$error":"#VALUE!"}},{"$error":"#VALUE!"},{"$error":"#VALUE!"},{"$error":"#VALUE!"},{"$f":"ThreePosition_Basic2($E$3,$E$5,$B$3:$C$3,$B$5:$C$5,B93,D93)","v":{"$error":"#VALUE!"}},{"$error":"#VALUE!"},{"$error":"#VALUE!"},{"$error":"#VALUE!"},null,{"$f":"Burmester($B$3:$C$3,$B$4:$C$4,$B$6:$C$6,$E$3,$E$4,$E$6,B93)","v":{"$error":"#VALUE!"}},{"$error":"#VALUE!"},{"$f":"ThreePosition_Basic2($E$3,$E$6,$B$3:$C$3,$B$6:$C$6,B93,N93)","v":{"$error":"#VALUE!"}},{"$error":"#VALUE!"},{"$error":"#VALUE!"},{"$error":"#VALUE!"},{"$f":"ThreePosition_Basic2($E$3,$E$6,$B$3:$C$3,$B$6:$C$6,B93,O93)","v":{"$error":"#VALUE!"}},{"$error":"#VALUE!"},{"$error":"#VALUE!"},{"$error":"#VALUE!"}]
[39.5,0.68940505453776013,{"$f":"Burmester($B$3:$C$3,$B$4:$C$4,$B$5:$C$5,$E$3,$E$4,$E$5,B94)","v":{"$error":"#VALUE!"}},{"$error":"#VALUE!"},{"$f":"ThreePosition_Basic2($E$3,$E$5,$B$3:$C$3,$B$5:$C$5,B94,C94)","v":{"$error":"#VALUE!"}},{"$error":"#VALUE!"},{"$error":"#VALUE!"},{"$error":"#VALUE!"},{"$f":"ThreePosition_Basic2($E$3,$E$5,$B$3:$C$3,$B$5:$C$5,B94,D94)","v":{"$error":"#VALUE!"}},{"$error":"#VALUE!"},{"$error":"#VALUE!"},{"$error":"#VALUE!"},null,{"$f":"Burmester($B$3:$C$3,$B$4:$C$4,$B$6:$C$6,$E$3,$E$4,$E$6,B94)","v":{"$error":"#VALUE!"}},{"$error":"#VALUE!"},{"$f":"ThreePosition_Basic2($E$3,$E$6,$B$3:$C$3,$B$6:$C$6,B94,N94)","v":{"$error":"#VALUE!"}},{"$error":"#VALUE!"},{"$error":"#VALUE!"},{"$error":"#VALUE!"},{"$f":"ThreePosition_Basic2($E$3,$E$6,$B$3:$C$3,$B$6:$C$6,B94,O94)","v":{"$error":"#VALUE!"}},{"$error":"#VALUE!"},{"$error":"#VALUE!"},{"$error":"#VALUE!"}]
[40,0.69813170079773179,{"$f":"Burmester($B$3:$C$3,$B$4:$C$4,$B$5:$C$5,$E$3,$E$4,$E$5,B95)","v":{"$error":"#VALUE!"}},{"$error":"#VALUE!"},{"$f":"ThreePosition_Basic2($E$3,$E$5,$B$3:$C$3,$B$5:$C$5,B95,C95)","v":{"$error":"#VALUE!"}},{"$error":"#VALUE!"},{"$error":"#VALUE!"},{"$error":"#VALUE!"},{"$f":"ThreePosition_Basic2($E$3,$E$5,$B$3:$C$3,$B$5:$C$5,B95,D95)","v":{"$error":"#VALUE!"}},{"$error":"#VALUE!"},{"$error":"#VALUE!"},{"$error":"#VALUE!"},null,{"$f":"Burmester($B$3:$C$3,$B$4:$C$4,$B$6:$C$6,$E$3,$E$4,$E$6,B95)","v":{"$error":"#VALUE!"}},{"$error":"#VALUE!"},{"$f":"ThreePosition_Basic2($E$3,$E$6,$B$3:$C$3,$B$6:$C$6,B95,N95)","v":{"$error":"#VALUE!"}},{"$error":"#VALUE!"},{"$error":"#VALUE!"},{"$error":"#VALUE!"},{"$f":"ThreePosition_Basic2($E$3,$E$6,$B$3:$C$3,$B$6:$C$6,B95,O95)","v":{"$error":"#VALUE!"}},{"$error":"#VALUE!"},{"$error":"#VALUE!"},{"$error":"#VALUE!"}]
[40.5,0.70685834705770345,{"$f":"Burmester($B$3:$C$3,$B$4:$C$4,$B$5:$C$5,$E$3,$E$4,$E$5,B96)","v":{"$error":"#VALUE!"}},{"$error":"#VALUE!"},{"$f":"ThreePosition_Basic2($E$3,$E$5,$B$3:$C$3,$B$5:$C$5,B96,C96)","v":{"$error":"#VALUE!"}},{"$error":"#VALUE!"},{"$error":"#VALUE!"},{"$error":"#VALUE!"},{"$f":"ThreePosition_Basic2($E$3,$E$5,$B$3:$C$3,$B$5:$C$5,B96,D96)","v":{"$error":"#VALUE!"}},{"$error":"#VALUE!"},{"$error":"#VALUE!"},{"$error":"#VALUE!"},null,{"$f":"Burmester($B$3:$C$3,$B$4:$C$4,$B$6:$C$6,$E$3,$E$4,$E$6,B96)","v":{"$error":"#VALUE!"}},{"$error":"#VALUE!"},{"$f":"ThreePosition_Basic2($E$3,$E$6,$B$3:$C$3,$B$6:$C$6,B96,N96)","v":{"$error":"#VALUE!"}},{"$error":"#VALUE!"},{"$error":"#VALUE!"},{"$error":"#VALUE!"},{"$f":"ThreePosition_Basic2($E$3,$E$6,$B$3:$C$3,$B$6:$C$6,B96,O96)","v":{"$error":"#VALUE!"}},{"$error":"#VALUE!"},{"$error":"#VALUE!"},{"$error":"#VALUE!"}]
[41,0.715584993317675,{"$f":"Burmester($B$3:$C$3,$B$4:$C$4,$B$5:$C$5,$E$3,$E$4,$E$5,B97)","v":{"$error":"#VALUE!"}},{"$error":"#VALUE!"},{"$f":"ThreePosition_Basic2($E$3,$E$5,$B$3:$C$3,$B$5:$C$5,B97,C97)","v":{"$error":"#VALUE!"}},{"$error":"#VALUE!"},{"$error":"#VALUE!"},{"$error":"#VALUE!"},{"$f":"ThreePosition_Basic2($E$3,$E$5,$B$3:$C$3,$B$5:$C$5,B97,D97)","v":{"$error":"#VALUE!"}},{"$error":"#VALUE!"},{"$error":"#VALUE!"},{"$error":"#VALUE!"},null,{"$f":"Burmester($B$3:$C$3,$B$4:$C$4,$B$6:$C$6,$E$3,$E$4,$E$6,B97)","v":{"$error":"#VALUE!"}},{"$error":"#VALUE!"},{"$f":"ThreePosition_Basic2($E$3,$E$6,$B$3:$C$3,$B$6:$C$6,B97,N97)","v":{"$error":"#VALUE!"}},{"$error":"#VALUE!"},{"$error":"#VALUE!"},{"$error":"#VALUE!"},{"$f":"ThreePosition_Basic2($E$3,$E$6,$B$3:$C$3,$B$6:$C$6,B97,O97)","v":{"$error":"#VALUE!"}},{"$error":"#VALUE!"},{"$error":"#VALUE!"},{"$error":"#VALUE!"}]
[41.5,0.72431163957764677,{"$f":"Burmester($B$3:$C$3,$B$4:$C$4,$B$5:$C$5,$E$3,$E$4,$E$5,B98)","v":{"$error":"#VALUE!"}},{"$error":"#VALUE!"},{"$f":"ThreePosition_Basic2($E$3,$E$5,$B$3:$C$3,$B$5:$C$5,B98,C98)","v":{"$error":"#VALUE!"}},{"$error":"#VALUE!"},{"$error":"#VALUE!"},{"$error":"#VALUE!"},{"$f":"ThreePosition_Basic2($E$3,$E$5,$B$3:$C$3,$B$5:$C$5,B98,D98)","v":{"$error":"#VALUE!"}},{"$error":"#VALUE!"},{"$error":"#VALUE!"},{"$error":"#VALUE!"},null,{"$f":"Burmester($B$3:$C$3,$B$4:$C$4,$B$6:$C$6,$E$3,$E$4,$E$6,B98)","v":{"$error":"#VALUE!"}},{"$error":"#VALUE!"},{"$f":"ThreePosition_Basic2($E$3,$E$6,$B$3:$C$3,$B$6:$C$6,B98,N98)","v":{"$error":"#VALUE!"}},{"$error":"#VALUE!"},{"$error":"#VALUE!"},{"$error":"#VALUE!"},{"$f":"ThreePosition_Basic2($E$3,$E$6,$B$3:$C$3,$B$6:$C$6,B98,O98)","v":{"$error":"#VALUE!"}},{"$error":"#VALUE!"},{"$error":"#VALUE!"},{"$error":"#VALUE!"}]
[42,0.73303828583761843,{"$f":"Burmester($B$3:$C$3,$B$4:$C$4,$B$5:$C$5,$E$3,$E$4,$E$5,B99)","v":{"$error":"#VALUE!"}},{"$error":"#VALUE!"},{"$f":"ThreePosition_Basic2($E$3,$E$5,$B$3:$C$3,$B$5:$C$5,B99,C99)","v":{"$error":"#VALUE!"}},{"$error":"#VALUE!"},{"$error":"#VALUE!"},{"$error":"#VALUE!"},{"$f":"ThreePosition_Basic2($E$3,$E$5,$B$3:$C$3,$B$5:$C$5,B99,D99)","v":{"$error":"#VALUE!"}},{"$error":"#VALUE!"},{"$error":"#VALUE!"},{"$error":"#VALUE!"},null,{"$f":"Burmester($B$3:$C$3,$B$4:$C$4,$B$6:$C$6,$E$3,$E$4,$E$6,B99)","v":{"$error":"#VALUE!"}},{"$error":"#VALUE!"},{"$f":"ThreePosition_Basic2($E$3,$E$6,$B$3:$C$3,$B$6:$C$6,B99,N99)","v":{"$error":"#VALUE!"}},{"$error":"#VALUE!"},{"$error":"#VALUE!"},{"$error":"#VALUE!"},{"$f":"ThreePosition_Basic2($E$3,$E$6,$B$3:$C$3,$B$6:$C$6,B99,O99)","v":{"$error":"#VALUE!"}},{"$error":"#VALUE!"},{"$error":"#VALUE!"},{"$error":"#VALUE!"}]
[42.5,0.74176493209759009,{"$f":"Burmester($B$3:$C$3,$B$4:$C$4,$B$5:$C$5,$E$3,$E$4,$E$5,B100)","v":{"$error":"#VALUE!"}},{"$error":"#VALUE!"},{"$f":"ThreePosition_Basic2($E$3,$E$5,$B$3:$C$3,$B$5:$C$5,B100,C100)","v":{"$error":"#VALUE!"}},{"$error":"#VALUE!"},{"$error":"#VALUE!"},{"$error":"#VALUE!"},{"$f":"ThreePosition_Basic2($E$3,$E$5,$B$3:$C$3,$B$5:$C$5,B100,D100)","v":{"$error":"#VALUE!"}},{"$error":"#VALUE!"},{"$error":"#VALUE!"},{"$error":"#VALUE!"},null,{"$f":"Burmester($B$3:$C$3,$B$4:$C$4,$B$6:$C$6,$E$3,$E$4,$E$6,B100)","v":{"$error":"#VALUE!"}},{"$error":"#VALUE!"},{"$f":"ThreePosition_Basic2($E$3,$E$6,$B$3:$C$3,$B$6:$C$6,B100,N100)","v":{"$error":"#VALUE!"}},{"$error":"#VALUE!"},{"$error":"#VALUE!"},{"$error":"#VALUE!"},{"$f":"ThreePosition_Basic2($E$3,$E$6,$B$3:$C$3,$B$6:$C$6,B100,O100)","v":{"$error":"#VALUE!"}},{"$error":"#VALUE!"},{"$error":"#VALUE!"},{"$error":"#VALUE!"}]
[43,0.75049157835756164,{"$f":"Burmester($B$3:$C$3,$B$4:$C$4,$B$5:$C$5,$E$3,$E$4,$E$5,B101)","v":{"$error":"#VALUE!"}},{"$error":"#VALUE!"},{"$f":"ThreePosition_Basic2($E$3,$E$5,$B$3:$C$3,$B$5:$C$5,B101,C101)","v":{"$error":"#VALUE!"}},{"$error":"#VALUE!"},{"$error":"#VALUE!"},{"$error":"#VALUE!"},{"$f":"ThreePosition_Basic2($E$3,$E$5,$B$3:$C$3,$B$5:$C$5,B101,D101)","v":{"$error":"#VALUE!"}},{"$error":"#VALUE!"},{"$error":"#VALUE!"},{"$error":"#VALUE!"},null,{"$f":"Burmester($B$3:$C$3,$B$4:$C$4,$B$6:$C$6,$E$3,$E$4,$E$6,B101)","v":{"$error":"#VALUE!"}},{"$error":"#VALUE!"},{"$f":"ThreePosition_Basic2($E$3,$E$6,$B$3:$C$3,$B$6:$C$6,B101,N101)","v":{"$error":"#VALUE!"}},{"$error":"#VALUE!"},{"$error":"#VALUE!"},{"$error":"#VALUE!"},{"$f":"ThreePosition_Basic2($E$3,$E$6,$B$3:$C$3,$B$6:$C$6,B101,O101)","v":{"$error":"#VALUE!"}},{"$error":"#VALUE!"},{"$error":"#VALUE!"},{"$error":"#VALUE!"}]
[43.5,0.7592182246175333,{"$f":"Burmester($B$3:$C$3,$B$4:$C$4,$B$5:$C$5,$E$3,$E$4,$E$5,B102)","v":{"$error":"#VALUE!"}},{"$error":"#VALUE!"},{"$f":"ThreePosition_Basic2($E$3,$E$5,$B$3:$C$3,$B$5:$C$5,B102,C102)","v":{"$error":"#VALUE!"}},{"$error":"#VALUE!"},{"$error":"#VALUE!"},{"$error":"#VALUE!"},{"$f":"ThreePosition_Basic2($E$3,$E$5,$B$3:$C$3,$B$5:$C$5,B102,D102)","v":{"$error":"#VALUE!"}},{"$error":"#VALUE!"},{"$error":"#VALUE!"},{"$error":"#VALUE!"},null,{"$f":"Burmester($B$3:$C$3,$B$4:$C$4,$B$6:$C$6,$E$3,$E$4,$E$6,B102)","v":{"$error":"#VALUE!"}},{"$error":"#VALUE!"},{"$f":"ThreePosition_Basic2($E$3,$E$6,$B$3:$C$3,$B$6:$C$6,B102,N102)","v":{"$error":"#VALUE!"}},{"$error":"#VALUE!"},{"$error":"#VALUE!"},{"$error":"#VALUE!"},{"$f":"ThreePosition_Basic2($E$3,$E$6,$B$3:$C$3,$B$6:$C$6,B102,O102)","v":{"$error":"#VALUE!"}},{"$error":"#VALUE!"},{"$error":"#VALUE!"},{"$error":"#VALUE!"}]
[44,0.76794487087750496,{"$f":"Burmester($B$3:$C$3,$B$4:$C$4,$B$5:$C$5,$E$3,$E$4,$E$5,B103)","v":{"$error":"#VALUE!"}},{"$error":"#VALUE!"},{"$f":"ThreePosition_Basic2($E$3,$E$5,$B$3:$C$3,$B$5:$C$5,B103,C103)","v":{"$error":"#VALUE!"}},{"$error":"#VALUE!"},{"$error":"#VALUE!"},{"$error":"#VALUE!"},{"$f":"ThreePosition_Basic2($E$3,$E$5,$B$3:$C$3,$B$5:$C$5,B103,D103)","v":{"$error":"#VALUE!"}},{"$error":"#VALUE!"},{"$error":"#VALUE!"},{"$error":"#VALUE!"},null,{"$f":"Burmester($B$3:$C$3,$B$4:$C$4,$B$6:$C$6,$E$3,$E$4,$E$6,B103)","v":{"$error":"#VALUE!"}},{"$error":"#VALUE!"},{"$f":"ThreePosition_Basic2($E$3,$E$6,$B$3:$C$3,$B$6:$C$6,B103,N103)","v":{"$error":"#VALUE!"}},{"$error":"#VALUE!"},{"$error":"#VALUE!"},{"$error":"#VALUE!"},{"$f":"ThreePosition_Basic2($E$3,$E$6,$B$3:$C$3,$B$6:$C$6,B103,O103)","v":{"$error":"#VALUE!"}},{"$error":"#VALUE!"},{"$error":"#VALUE!"},{"$error":"#VALUE!"}]
[44.5,0.77667151713747673,{"$f":"Burmester($B$3:$C$3,$B$4:$C$4,$B$5:$C$5,$E$3,$E$4,$E$5,B104)","v":{"$error":"#VALUE!"}},{"$error":"#VALUE!"},{"$f":"ThreePosition_Basic2($E$3,$E$5,$B$3:$C$3,$B$5:$C$5,B104,C104)","v":{"$error":"#VALUE!"}},{"$error":"#VALUE!"},{"$error":"#VALUE!"},{"$error":"#VALUE!"},{"$f":"ThreePosition_Basic2($E$3,$E$5,$B$3:$C$3,$B$5:$C$5,B104,D104)","v":{"$error":"#VALUE!"}},{"$error":"#VALUE!"},{"$error":"#VALUE!"},{"$error":"#VALUE!"},null,{"$f":"Burmester($B$3:$C$3,$B$4:$C$4,$B$6:$C$6,$E$3,$E$4,$E$6,B104)","v":{"$error":"#VALUE!"}},{"$error":"#VALUE!"},{"$f":"ThreePosition_Basic2($E$3,$E$6,$B$3:$C$3,$B$6:$C$6,B104,N104)","v":{"$error":"#VALUE!"}},{"$error":"#VALUE!"},{"$error":"#VALUE!"},{"$error":"#VALUE!"},{"$f":"ThreePosition_Basic2($E$3,$E$6,$B$3:$C$3,$B$6:$C$6,B104,O104)","v":{"$error":"#VALUE!"}},{"$error":"#VALUE!"},{"$error":"#VALUE!"},{"$error":"#VALUE!"}]
[45,0.78539816339744828,{"$f":"Burmester($B$3:$C$3,$B$4:$C$4,$B$5:$C$5,$E$3,$E$4,$E$5,B105)","v":{"$error":"#VALUE!"}},{"$error":"#VALUE!"},{"$f":"ThreePosition_Basic2($E$3,$E$5,$B$3:$C$3,$B$5:$C$5,B105,C105)","v":{"$error":"#VALUE!"}},{"$error":"#VALUE!"},{"$error":"#VALUE!"},{"$error":"#VALUE!"},{"$f":"ThreePosition_Basic2($E$3,$E$5,$B$3:$C$3,$B$5:$C$5,B105,D105)","v":{"$error":"#VALUE!"}},{"$error":"#VALUE!"},{"$error":"#VALUE!"},{"$error":"#VALUE!"},null,{"$f":"Burmester($B$3:$C$3,$B$4:$C$4,$B$6:$C$6,$E$3,$E$4,$E$6,B105)","v":{"$error":"#VALUE!"}},{"$error":"#VALUE!"},{"$f":"ThreePosition_Basic2($E$3,$E$6,$B$3:$C$3,$B$6:$C$6,B105,N105)","v":{"$error":"#VALUE!"}},{"$error":"#VALUE!"},{"$error":"#VALUE!"},{"$error":"#VALUE!"},{"$f":"ThreePosition_Basic2($E$3,$E$6,$B$3:$C$3,$B$6:$C$6,B105,O105)","v":{"$error":"#VALUE!"}},{"$error":"#VALUE!"},{"$error":"#VALUE!"},{"$error":"#VALUE!"}]
[45.5,0.79412480965741994,{"$f":"Burmester($B$3:$C$3,$B$4:$C$4,$B$5:$C$5,$E$3,$E$4,$E$5,B106)","v":{"$error":"#VALUE!"}},{"$error":"#VALUE!"},{"$f":"ThreePosition_Basic2($E$3,$E$5,$B$3:$C$3,$B$5:$C$5,B106,C106)","v":{"$error":"#VALUE!"}},{"$error":"#VALUE!"},{"$error":"#VALUE!"},{"$error":"#VALUE!"},{"$f":"ThreePosition_Basic2($E$3,$E$5,$B$3:$C$3,$B$5:$C$5,B106,D106)","v":{"$error":"#VALUE!"}},{"$error":"#VALUE!"},{"$error":"#VALUE!"},{"$error":"#VALUE!"},null,{"$f":"Burmester($B$3:$C$3,$B$4:$C$4,$B$6:$C$6,$E$3,$E$4,$E$6,B106)","v":{"$error":"#VALUE!"}},{"$error":"#VALUE!"},{"$f":"ThreePosition_Basic2($E$3,$E$6,$B$3:$C$3,$B$6:$C$6,B106,N106)","v":{"$error":"#VALUE!"}},{"$error":"#VALUE!"},{"$error":"#VALUE!"},{"$error":"#VALUE!"},{"$f":"ThreePosition_Basic2($E$3,$E$6,$B$3:$C$3,$B$6:$C$6,B106,O106)","v":{"$error":"#VALUE!"}},{"$error":"#VALUE!"},{"$error":"#VALUE!"},{"$error":"#VALUE!"}]
[46,0.80285145591739149,{"$f":"Burmester($B$3:$C$3,$B$4:$C$4,$B$5:$C$5,$E$3,$E$4,$E$5,B107)","v":{"$error":"#VALUE!"}},{"$error":"#VALUE!"},{"$f":"ThreePosition_Basic2($E$3,$E$5,$B$3:$C$3,$B$5:$C$5,B107,C107)","v":{"$error":"#VALUE!"}},{"$error":"#VALUE!"},{"$error":"#VALUE!"},{"$error":"#VALUE!"},{"$f":"ThreePosition_Basic2($E$3,$E$5,$B$3:$C$3,$B$5:$C$5,B107,D107)","v":{"$error":"#VALUE!"}},{"$error":"#VALUE!"},{"$error":"#VALUE!"},{"$error":"#VALUE!"},null,{"$f":"Burmester($B$3:$C$3,$B$4:$C$4,$B$6:$C$6,$E$3,$E$4,$E$6,B107)","v":{"$error":"#VALUE!"}},{"$error":"#VALUE!"},{"$f":"ThreePosition_Basic2($E$3,$E$6,$B$3:$C$3,$B$6:$C$6,B107,N107)","v":{"$error":"#VALUE!"}},{"$error":"#VALUE!"},{"$error":"#VALUE!"},{"$error":"#VALUE!"},{"$f":"ThreePosition_Basic2($E$3,$E$6,$B$3:$C$3,$B$6:$C$6,B107,O107)","v":{"$error":"#VALUE!"}},{"$error":"#VALUE!"},{"$error":"#VALUE!"},{"$error":"#VALUE!"}]
[46.5,0.81157810217736315,{"$f":"Burmester($B$3:$C$3,$B$4:$C$4,$B$5:$C$5,$E$3,$E$4,$E$5,B108)","v":{"$error":"#VALUE!"}},{"$error":"#VALUE!"},{"$f":"ThreePosition_Basic2($E$3,$E$5,$B$3:$C$3,$B$5:$C$5,B108,C108)","v":{"$error":"#VALUE!"}},{"$error":"#VALUE!"},{"$error":"#VALUE!"},{"$error":"#VALUE!"},{"$f":"ThreePosition_Basic2($E$3,$E$5,$B$3:$C$3,$B$5:$C$5,B108,D108)","v":{"$error":"#VALUE!"}},{"$error":"#VALUE!"},{"$error":"#VALUE!"},{"$error":"#VALUE!"},null,{"$f":"Burmester($B$3:$C$3,$B$4:$C$4,$B$6:$C$6,$E$3,$E$4,$E$6,B108)","v":{"$error":"#VALUE!"}},{"$error":"#VALUE!"},{"$f":"ThreePosition_Basic2($E$3,$E$6,$B$3:$C$3,$B$6:$C$6,B108,N108)","v":{"$error":"#VALUE!"}},{"$error":"#VALUE!"},{"$error":"#VALUE!"},{"$error":"#VALUE!"},{"$f":"ThreePosition_Basic2($E$3,$E$6,$B$3:$C$3,$B$6:$C$6,B108,O108)","v":{"$error":"#VALUE!"}},{"$error":"#VALUE!"},{"$error":"#VALUE!"},{"$error":"#VALUE!"}]
[47,0.82030474843733492,{"$f":"Burmester($B$3:$C$3,$B$4:$C$4,$B$5:$C$5,$E$3,$E$4,$E$5,B109)","v":{"$error":"#VALUE!"}},{"$error":"#VALUE!"},{"$f":"ThreePosition_Basic2($E$3,$E$5,$B$3:$C$3,$B$5:$C$5,B109,C109)","v":{"$error":"#VALUE!"}},{"$error":"#VALUE!"},{"$error":"#VALUE!"},{"$error":"#VALUE!"},{"$f":"ThreePosition_Basic2($E$3,$E$5,$B$3:$C$3,$B$5:$C$5,B109,D109)","v":{"$error":"#VALUE!"}},{"$error":"#VALUE!"},{"$error":"#VALUE!"},{"$error":"#VALUE!"},null,{"$f":"Burmester($B$3:$C$3,$B$4:$C$4,$B$6:$C$6,$E$3,$E$4,$E$6,B109)","v":{"$error":"#VALUE!"}},{"$error":"#VALUE!"},{"$f":"ThreePosition_Basic2($E$3,$E$6,$B$3:$C$3,$B$6:$C$6,B109,N109)","v":{"$error":"#VALUE!"}},{"$error":"#VALUE!"},{"$error":"#VALUE!"},{"$error":"#VALUE!"},{"$f":"ThreePosition_Basic2($E$3,$E$6,$B$3:$C$3,$B$6:$C$6,B109,O109)","v":{"$error":"#VALUE!"}},{"$error":"#VALUE!"},{"$error":"#VALUE!"},{"$error":"#VALUE!"}]
[47.5,0.82903139469730658,{"$f":"Burmester($B$3:$C$3,$B$4:$C$4,$B$5:$C$5,$E$3,$E$4,$E$5,B110)","v":{"$error":"#VALUE!"}},{"$error":"#VALUE!"},{"$f":"ThreePosition_Basic2($E$3,$E$5,$B$3:$C$3,$B$5:$C$5,B110,C110)","v":{"$error":"#VALUE!"}},{"$error":"#VALUE!"},{"$error":"#VALUE!"},{"$error":"#VALUE!"},{"$f":"ThreePosition_Basic2($E$3,$E$5,$B$3:$C$3,$B$5:$C$5,B110,D110)","v":{"$error":"#VALUE!"}},{"$error":"#VALUE!"},{"$error":"#VALUE!"},{"$error":"#VALUE!"},null,{"$f":"Burmester($B$3:$C$3,$B$4:$C$4,$B$6:$C$6,$E$3,$E$4,$E$6,B110)","v":{"$error":"#VALUE!"}},{"$error":"#VALUE!"},{"$f":"ThreePosition_Basic2($E$3,$E$6,$B$3:$C$3,$B$6:$C$6,B110,N110)","v":{"$error":"#VALUE!"}},{"$error":"#VALUE!"},{"$error":"#VALUE!"},{"$error":"#VALUE!"},{"$f":"ThreePosition_Basic2($E$3,$E$6,$B$3:$C$3,$B$6:$C$6,B110,O110)","v":{"$error":"#VALUE!"}},{"$error":"#VALUE!"},{"$error":"#VALUE!"},{"$error":"#VALUE!"}]
[48,0.83775804095727813,{"$f":"Burmester($B$3:$C$3,$B$4:$C$4,$B$5:$C$5,$E$3,$E$4,$E$5,B111)","v":{"$error":"#VALUE!"}},{"$error":"#VALUE!"},{"$f":"ThreePosition_Basic2($E$3,$E$5,$B$3:$C$3,$B$5:$C$5,B111,C111)","v":{"$error":"#VALUE!"}},{"$error":"#VALUE!"},{"$error":"#VALUE!"},{"$error":"#VALUE!"},{"$f":"ThreePosition_Basic2($E$3,$E$5,$B$3:$C$3,$B$5:$C$5,B111,D111)","v":{"$error":"#VALUE!"}},{"$error":"#VALUE!"},{"$error":"#VALUE!"},{"$error":"#VALUE!"},null,{"$f":"Burmester($B$3:$C$3,$B$4:$C$4,$B$6:$C$6,$E$3,$E$4,$E$6,B111)","v":{"$error":"#VALUE!"}},{"$error":"#VALUE!"},{"$f":"ThreePosition_Basic2($E$3,$E$6,$B$3:$C$3,$B$6:$C$6,B111,N111)","v":{"$error":"#VALUE!"}},{"$error":"#VALUE!"},{"$error":"#VALUE!"},{"$error":"#VALUE!"},{"$f":"ThreePosition_Basic2($E$3,$E$6,$B$3:$C$3,$B$6:$C$6,B111,O111)","v":{"$error":"#VALUE!"}},{"$error":"#VALUE!"},{"$error":"#VALUE!"},{"$error":"#VALUE!"}]
[48.5,0.84648468721724979,{"$f":"Burmester($B$3:$C$3,$B$4:$C$4,$B$5:$C$5,$E$3,$E$4,$E$5,B112)","v":{"$error":"#VALUE!"}},{"$error":"#VALUE!"},{"$f":"ThreePosition_Basic2($E$3,$E$5,$B$3:$C$3,$B$5:$C$5,B112,C112)","v":{"$error":"#VALUE!"}},{"$error":"#VALUE!"},{"$error":"#VALUE!"},{"$error":"#VALUE!"},{"$f":"ThreePosition_Basic2($E$3,$E$5,$B$3:$C$3,$B$5:$C$5,B112,D112)","v":{"$error":"#VALUE!"}},{"$error":"#VALUE!"},{"$error":"#VALUE!"},{"$error":"#VALUE!"},null,{"$f":"Burmester($B$3:$C$3,$B$4:$C$4,$B$6:$C$6,$E$3,$E$4,$E$6,B112)","v":{"$error":"#VALUE!"}},{"$error":"#VALUE!"},{"$f":"ThreePosition_Basic2($E$3,$E$6,$B$3:$C$3,$B$6:$C$6,B112,N112)","v":{"$error":"#VALUE!"}},{"$error":"#VALUE!"},{"$error":"#VALUE!"},{"$error":"#VALUE!"},{"$f":"ThreePosition_Basic2($E$3,$E$6,$B$3:$C$3,$B$6:$C$6,B112,O112)","v":{"$error":"#VALUE!"}},{"$error":"#VALUE!"},{"$error":"#VALUE!"},{"$error":"#VALUE!"}]
[49,0.85521133347722145,{"$f":"Burmester($B$3:$C$3,$B$4:$C$4,$B$5:$C$5,$E$3,$E$4,$E$5,B113)","v":{"$error":"#VALUE!"}},{"$error":"#VALUE!"},{"$f":"ThreePosition_Basic2($E$3,$E$5,$B$3:$C$3,$B$5:$C$5,B113,C113)","v":{"$error":"#VALUE!"}},{"$error":"#VALUE!"},{"$error":"#VALUE!"},{"$error":"#VALUE!"},{"$f":"ThreePosition_Basic2($E$3,$E$5,$B$3:$C$3,$B$5:$C$5,B113,D113)","v":{"$error":"#VALUE!"}},{"$error":"#VALUE!"},{"$error":"#VALUE!"},{"$error":"#VALUE!"},null,{"$f":"Burmester($B$3:$C$3,$B$4:$C$4,$B$6:$C$6,$E$3,$E$4,$E$6,B113)","v":{"$error":"#VALUE!"}},{"$error":"#VALUE!"},{"$f":"ThreePosition_Basic2($E$3,$E$6,$B$3:$C$3,$B$6:$C$6,B113,N113)","v":{"$error":"#VALUE!"}},{"$error":"#VALUE!"},{"$error":"#VALUE!"},{"$error":"#VALUE!"},{"$f":"ThreePosition_Basic2($E$3,$E$6,$B$3:$C$3,$B$6:$C$6,B113,O113)","v":{"$error":"#VALUE!"}},{"$error":"#VALUE!"},{"$error":"#VALUE!"},{"$error":"#VALUE!"}]
[49.5,0.86393797973719322,{"$f":"Burmester($B$3:$C$3,$B$4:$C$4,$B$5:$C$5,$E$3,$E$4,$E$5,B114)","v":{"$error":"#VALUE!"}},{"$error":"#VALUE!"},{"$f":"ThreePosition_Basic2($E$3,$E$5,$B$3:$C$3,$B$5:$C$5,B114,C114)","v":{"$error":"#VALUE!"}},{"$error":"#VALUE!"},{"$error":"#VALUE!"},{"$error":"#VALUE!"},{"$f":"ThreePosition_Basic2($E$3,$E$5,$B$3:$C$3,$B$5:$C$5,B114,D114)","v":{"$error":"#VALUE!"}},{"$error":"#VALUE!"},{"$error":"#VALUE!"},{"$error":"#VALUE!"},null,{"$f":"Burmester($B$3:$C$3,$B$4:$C$4,$B$6:$C$6,$E$3,$E$4,$E$6,B114)","v":{"$error":"#VALUE!"}},{"$error":"#VALUE!"},{"$f":"ThreePosition_Basic2($E$3,$E$6,$B$3:$C$3,$B$6:$C$6,B114,N114)","v":{"$error":"#VALUE!"}},{"$error":"#VALUE!"},{"$error":"#VALUE!"},{"$error":"#VALUE!"},{"$f":"ThreePosition_Basic2($E$3,$E$6,$B$3:$C$3,$B$6:$C$6,B114,O114)","v":{"$error":"#VALUE!"}},{"$error":"#VALUE!"},{"$error":"#VALUE!"},{"$error":"#VALUE!"}]
[50,0.87266462599716477,{"$f":"Burmester($B$3:$C$3,$B$4:$C$4,$B$5:$C$5,$E$3,$E$4,$E$5,B115)","v":{"$error":"#VALUE!"}},{"$error":"#VALUE!"},{"$f":"ThreePosition_Basic2($E$3,$E$5,$B$3:$C$3,$B$5:$C$5,B115,C115)","v":{"$error":"#VALUE!"}},{"$error":"#VALUE!"},{"$error":"#VALUE!"},{"$error":"#VALUE!"},{"$f":"ThreePosition_Basic2($E$3,$E$5,$B$3:$C$3,$B$5:$C$5,B115,D115)","v":{"$error":"#VALUE!"}},{"$error":"#VALUE!"},{"$error":"#VALUE!"},{"$error":"#VALUE!"},null,{"$f":"Burmester($B$3:$C$3,$B$4:$C$4,$B$6:$C$6,$E$3,$E$4,$E$6,B115)","v":{"$error":"#VALUE!"}},{"$error":"#VALUE!"},{"$f":"ThreePosition_Basic2($E$3,$E$6,$B$3:$C$3,$B$6:$C$6,B115,N115)","v":{"$error":"#VALUE!"}},{"$error":"#VALUE!"},{"$error":"#VALUE!"},{"$error":"#VALUE!"},{"$f":"ThreePosition_Basic2($E$3,$E$6,$B$3:$C$3,$B$6:$C$6,B115,O115)","v":{"$error":"#VALUE!"}},{"$error":"#VALUE!"},{"$error":"#VALUE!"},{"$error":"#VALUE!"}]
[50.5,0.88139127225713643,{"$f":"Burmester($B$3:$C$3,$B$4:$C$4,$B$5:$C$5,$E$3,$E$4,$E$5,B116)","v":{"$error":"#VALUE!"}},{"$error":"#VALUE!"},{"$f":"ThreePosition_Basic2($E$3,$E$5,$B$3:$C$3,$B$5:$C$5,B116,C116)","v":{"$error":"#VALUE!"}},{"$error":"#VALUE!"},{"$error":"#VALUE!"},{"$error":"#VALUE!"},{"$f":"ThreePosition_Basic2($E$3,$E$5,$B$3:$C$3,$B$5:$C$5,B116,D116)","v":{"$error":"#VALUE!"}},{"$error":"#VALUE!"},{"$error":"#VALUE!"},{"$error":"#VALUE!"},null,{"$f":"Burmester($B$3:$C$3,$B$4:$C$4,$B$6:$C$6,$E$3,$E$4,$E$6,B116)","v":{"$error":"#VALUE!"}},{"$error":"#VALUE!"},{"$f":"ThreePosition_Basic2($E$3,$E$6,$B$3:$C$3,$B$6:$C$6,B116,N116)","v":{"$error":"#VALUE!"}},{"$error":"#VALUE!"},{"$error":"#VALUE!"},{"$error":"#VALUE!"},{"$f":"ThreePosition_Basic2($E$3,$E$6,$B$3:$C$3,$B$6:$C$6,B116,O116)","v":{"$error":"#VALUE!"}},{"$error":"#VALUE!"},{"$error":"#VALUE!"},{"$error":"#VALUE!"}]
[51,0.89011791851710798,{"$f":"Burmester($B$3:$C$3,$B$4:$C$4,$B$5:$C$5,$E$3,$E$4,$E$5,B117)","v":{"$error":"#VALUE!"}},{"$error":"#VALUE!"},{"$f":"ThreePosition_Basic2($E$3,$E$5,$B$3:$C$3,$B$5:$C$5,B117,C117)","v":{"$error":"#VALUE!"}},{"$error":"#VALUE!"},{"$error":"#VALUE!"},{"$error":"#VALUE!"},{"$f":"ThreePosition_Basic2($E$3,$E$5,$B$3:$C$3,$B$5:$C$5,B117,D117)","v":{"$error":"#VALUE!"}},{"$error":"#VALUE!"},{"$error":"#VALUE!"},{"$error":"#VALUE!"},null,{"$f":"Burmester($B$3:$C$3,$B$4:$C$4,$B$6:$C$6,$E$3,$E$4,$E$6,B117)","v":{"$error":"#VALUE!"}},{"$error":"#VALUE!"},{"$f":"ThreePosition_Basic2($E$3,$E$6,$B$3:$C$3,$B$6:$C$6,B117,N117)","v":{"$error":"#VALUE!"}},{"$error":"#VALUE!"},{"$error":"#VALUE!"},{"$error":"#VALUE!"},{"$f":"ThreePosition_Basic2($E$3,$E$6,$B$3:$C$3,$B$6:$C$6,B117,O117)","v":{"$error":"#VALUE!"}},{"$error":"#VALUE!"},{"$error":"#VALUE!"},{"$error":"#VALUE!"}]
[51.5,0.89884456477707964,{"$f":"Burmester($B$3:$C$3,$B$4:$C$4,$B$5:$C$5,$E$3,$E$4,$E$5,B118)","v":{"$error":"#VALUE!"}},{"$error":"#VALUE!"},{"$f":"ThreePosition_Basic2($E$3,$E$5,$B$3:$C$3,$B$5:$C$5,B118,C118)","v":{"$error":"#VALUE!"}},{"$error":"#VALUE!"},{"$error":"#VALUE!"},{"$error":"#VALUE!"},{"$f":"ThreePosition_Basic2($E$3,$E$5,$B$3:$C$3,$B$5:$C$5,B118,D118)","v":{"$error":"#VALUE!"}},{"$error":"#VALUE!"},{"$error":"#VALUE!"},{"$error":"#VALUE!"},null,{"$f":"Burmester($B$3:$C$3,$B$4:$C$4,$B$6:$C$6,$E$3,$E$4,$E$6,B118)","v":{"$error":"#VALUE!"}},{"$error":"#VALUE!"},{"$f":"ThreePosition_Basic2($E$3,$E$6,$B$3:$C$3,$B$6:$C$6,B118,N118)","v":{"$error":"#VALUE!"}},{"$error":"#VALUE!"},{"$error":"#VALUE!"},{"$error":"#VALUE!"},{"$f":"ThreePosition_Basic2($E$3,$E$6,$B$3:$C$3,$B$6:$C$6,B118,O118)","v":{"$error":"#VALUE!"}},{"$error":"#VALUE!"},{"$error":"#VALUE!"},{"$error":"#VALUE!"}]
[52,0.90757121103705141,{"$f":"Burmester($B$3:$C$3,$B$4:$C$4,$B$5:$C$5,$E$3,$E$4,$E$5,B119)","v":{"$error":"#VALUE!"}},{"$error":"#VALUE!"},{"$f":"ThreePosition_Basic2($E$3,$E$5,$B$3:$C$3,$B$5:$C$5,B119,C119)","v":{"$error":"#VALUE!"}},{"$error":"#VALUE!"},{"$error":"#VALUE!"},{"$error":"#VALUE!"},{"$f":"ThreePosition_Basic2($E$3,$E$5,$B$3:$C$3,$B$5:$C$5,B119,D119)","v":{"$error":"#VALUE!"}},{"$error":"#VALUE!"},{"$error":"#VALUE!"},{"$error":"#VALUE!"},null,{"$f":"Burmester($B$3:$C$3,$B$4:$C$4,$B$6:$C$6,$E$3,$E$4,$E$6,B119)","v":{"$error":"#VALUE!"}},{"$error":"#VALUE!"},{"$f":"ThreePosition_Basic2($E$3,$E$6,$B$3:$C$3,$B$6:$C$6,B119,N119)","v":{"$error":"#VALUE!"}},{"$error":"#VALUE!"},{"$error":"#VALUE!"},{"$error":"#VALUE!"},{"$f":"ThreePosition_Basic2($E$3,$E$6,$B$3:$C$3,$B$6:$C$6,B119,O119)","v":{"$error":"#VALUE!"}},{"$error":"#VALUE!"},{"$error":"#VALUE!"},{"$error":"#VALUE!"}]
[52.5,0.91629785729702307,{"$f":"Burmester($B$3:$C$3,$B$4:$C$4,$B$5:$C$5,$E$3,$E$4,$E$5,B120)","v":{"$error":"#VALUE!"}},{"$error":"#VALUE!"},{"$f":"ThreePosition_Basic2($E$3,$E$5,$B$3:$C$3,$B$5:$C$5,B120,C120)","v":{"$error":"#VALUE!"}},{"$error":"#VALUE!"},{"$error":"#VALUE!"},{"$error":"#VALUE!"},{"$f":"ThreePosition_Basic2($E$3,$E$5,$B$3:$C$3,$B$5:$C$5,B120,D120)","v":{"$error":"#VALUE!"}},{"$error":"#VALUE!"},{"$error":"#VALUE!"},{"$error":"#VALUE!"},null,{"$f":"Burmester($B$3:$C$3,$B$4:$C$4,$B$6:$C$6,$E$3,$E$4,$E$6,B120)","v":{"$error":"#VALUE!"}},{"$error":"#VALUE!"},{"$f":"ThreePosition_Basic2($E$3,$E$6,$B$3:$C$3,$B$6:$C$6,B120,N120)","v":{"$error":"#VALUE!"}},{"$error":"#VALUE!"},{"$error":"#VALUE!"},{"$error":"#VALUE!"},{"$f":"ThreePosition_Basic2($E$3,$E$6,$B$3:$C$3,$B$6:$C$6,B120,O120)","v":{"$error":"#VALUE!"}},{"$error":"#VALUE!"},{"$error":"#VALUE!"},{"$error":"#VALUE!"}]
[53,0.92502450355699462,{"$f":"Burmester($B$3:$C$3,$B$4:$C$4,$B$5:$C$5,$E$3,$E$4,$E$5,B121)","v":{"$error":"#VALUE!"}},{"$error":"#VALUE!"},{"$f":"ThreePosition_Basic2($E$3,$E$5,$B$3:$C$3,$B$5:$C$5,B121,C121)","v":{"$error":"#VALUE!"}},{"$error":"#VALUE!"},{"$error":"#VALUE!"},{"$error":"#VALUE!"},{"$f":"ThreePosition_Basic2($E$3,$E$5,$B$3:$C$3,$B$5:$C$5,B121,D121)","v":{"$error":"#VALUE!"}},{"$error":"#VALUE!"},{"$error":"#VALUE!"},{"$error":"#VALUE!"},null,{"$f":"Burmester($B$3:$C$3,$B$4:$C$4,$B$6:$C$6,$E$3,$E$4,$E$6,B121)","v":{"$error":"#VALUE!"}},{"$error":"#VALUE!"},{"$f":"ThreePosition_Basic2($E$3,$E$6,$B$3:$C$3,$B$6:$C$6,B121,N121)","v":{"$error":"#VALUE!"}},{"$error":"#VALUE!"},{"$error":"#VALUE!"},{"$error":"#VALUE!"},{"$f":"ThreePosition_Basic2($E$3,$E$6,$B$3:$C$3,$B$6:$C$6,B121,O121)","v":{"$error":"#VALUE!"}},{"$error":"#VALUE!"},{"$error":"#VALUE!"},{"$error":"#VALUE!"}]
[53.5,0.93375114981696627,{"$f":"Burmester($B$3:$C$3,$B$4:$C$4,$B$5:$C$5,$E$3,$E$4,$E$5,B122)","v":{"$error":"#VALUE!"}},{"$error":"#VALUE!"},{"$f":"ThreePosition_Basic2($E$3,$E$5,$B$3:$C$3,$B$5:$C$5,B122,C122)","v":{"$error":"#VALUE!"}},{"$error":"#VALUE!"},{"$error":"#VALUE!"},{"$error":"#VALUE!"},{"$f":"ThreePosition_Basic2($E$3,$E$5,$B$3:$C$3,$B$5:$C$5,B122,D122)","v":{"$error":"#VALUE!"}},{"$error":"#VALUE!"},{"$error":"#VALUE!"},{"$error":"#VALUE!"},null,{"$f":"Burmester($B$3:$C$3,$B$4:$C$4,$B$6:$C$6,$E$3,$E$4,$E$6,B122)","v":{"$error":"#VALUE!"}},{"$error":"#VALUE!"},{"$f":"ThreePosition_Basic2($E$3,$E$6,$B$3:$C$3,$B$6:$C$6,B122,N122)","v":{"$error":"#VALUE!"}},{"$error":"#VALUE!"},{"$error":"#VALUE!"},{"$error":"#VALUE!"},{"$f":"ThreePosition_Basic2($E$3,$E$6,$B$3:$C$3,$B$6:$C$6,B122,O122)","v":{"$error":"#VALUE!"}},{"$error":"#VALUE!"},{"$error":"#VALUE!"},{"$error":"#VALUE!"}]
[54,0.94247779607693793,{"$f":"Burmester($B$3:$C$3,$B$4:$C$4,$B$5:$C$5,$E$3,$E$4,$E$5,B123)","v":{"$error":"#VALUE!"}},{"$error":"#VALUE!"},{"$f":"ThreePosition_Basic2($E$3,$E$5,$B$3:$C$3,$B$5:$C$5,B123,C123)","v":{"$error":"#VALUE!"}},{"$error":"#VALUE!"},{"$error":"#VALUE!"},{"$error":"#VALUE!"},{"$f":"ThreePosition_Basic2($E$3,$E$5,$B$3:$C$3,$B$5:$C$5,B123,D123)","v":{"$error":"#VALUE!"}},{"$error":"#VALUE!"},{"$error":"#VALUE!"},{"$error":"#VALUE!"},null,{"$f":"Burmester($B$3:$C$3,$B$4:$C$4,$B$6:$C$6,$E$3,$E$4,$E$6,B123)","v":{"$error":"#VALUE!"}},{"$error":"#VALUE!"},{"$f":"ThreePosition_Basic2($E$3,$E$6,$B$3:$C$3,$B$6:$C$6,B123,N123)","v":{"$error":"#VALUE!"}},{"$error":"#VALUE!"},{"$error":"#VALUE!"},{"$error":"#VALUE!"},{"$f":"ThreePosition_Basic2($E$3,$E$6,$B$3:$C$3,$B$6:$C$6,B123,O123)","v":{"$error":"#VALUE!"}},{"$error":"#VALUE!"},{"$error":"#VALUE!"},{"$error":"#VALUE!"}]
[54.5,0.95120444233690948,{"$f":"Burmester($B$3:$C$3,$B$4:$C$4,$B$5:$C$5,$E$3,$E$4,$E$5,B124)","v":{"$error":"#VALUE!"}},{"$error":"#VALUE!"},{"$f":"ThreePosition_Basic2($E$3,$E$5,$B$3:$C$3,$B$5:$C$5,B124,C124)","v":{"$error":"#VALUE!"}},{"$error":"#VALUE!"},{"$error":"#VALUE!"},{"$error":"#VALUE!"},{"$f":"ThreePosition_Basic2($E$3,$E$5,$B$3:$C$3,$B$5:$C$5,B124,D124)","v":{"$error":"#VALUE!"}},{"$error":"#VALUE!"},{"$error":"#VALUE!"},{"$error":"#VALUE!"},null,{"$f":"Burmester($B$3:$C$3,$B$4:$C$4,$B$6:$C$6,$E$3,$E$4,$E$6,B124)","v":{"$error":"#VALUE!"}},{"$error":"#VALUE!"},{"$f":"ThreePosition_Basic2($E$3,$E$6,$B$3:$C$3,$B$6:$C$6,B124,N124)","v":{"$error":"#VALUE!"}},{"$error":"#VALUE!"},{"$error":"#VALUE!"},{"$error":"#VALUE!"},{"$f":"ThreePosition_Basic2($E$3,$E$6,$B$3:$C$3,$B$6:$C$6,B124,O124)","v":{"$error":"#VALUE!"}},{"$error":"#VALUE!"},{"$error":"#VALUE!"},{"$error":"#VALUE!"}]
[55,0.95993108859688125,{"$f":"Burmester($B$3:$C$3,$B$4:$C$4,$B$5:$C$5,$E$3,$E$4,$E$5,B125)","v":{"$error":"#VALUE!"}},{"$error":"#VALUE!"},{"$f":"ThreePosition_Basic2($E$3,$E$5,$B$3:$C$3,$B$5:$C$5,B125,C125)","v":{"$error":"#VALUE!"}},{"$error":"#VALUE!"},{"$error":"#VALUE!"},{"$error":"#VALUE!"},{"$f":"ThreePosition_Basic2($E$3,$E$5,$B$3:$C$3,$B$5:$C$5,B125,D125)","v":{"$error":"#VALUE!"}},{"$error":"#VALUE!"},{"$error":"#VALUE!"},{"$error":"#VALUE!"},null,{"$f":"Burmester($B$3:$C$3,$B$4:$C$4,$B$6:$C$6,$E$3,$E$4,$E$6,B125)","v":{"$error":"#VALUE!"}},{"$error":"#VALUE!"},{"$f":"ThreePosition_Basic2($E$3,$E$6,$B$3:$C$3,$B$6:$C$6,B125,N125)","v":{"$error":"#VALUE!"}},{"$error":"#VALUE!"},{"$error":"#VALUE!"},{"$error":"#VALUE!"},{"$f":"ThreePosition_Basic2($E$3,$E$6,$B$3:$C$3,$B$6:$C$6,B125,O125)","v":{"$error":"#VALUE!"}},{"$error":"#VALUE!"},{"$error":"#VALUE!"},{"$error":"#VALUE!"}]
[55.5,0.96865773485685291,{"$f":"Burmester($B$3:$C$3,$B$4:$C$4,$B$5:$C$5,$E$3,$E$4,$E$5,B126)","v":{"$error":"#VALUE!"}},{"$error":"#VALUE!"},{"$f":"ThreePosition_Basic2($E$3,$E$5,$B$3:$C$3,$B$5:$C$5,B126,C126)","v":{"$error":"#VALUE!"}},{"$error":"#VALUE!"},{"$error":"#VALUE!"},{"$error":"#VALUE!"},{"$f":"ThreePosition_Basic2($E$3,$E$5,$B$3:$C$3,$B$5:$C$5,B126,D126)","v":{"$error":"#VALUE!"}},{"$error":"#VALUE!"},{"$error":"#VALUE!"},{"$error":"#VALUE!"},null,{"$f":"Burmester($B$3:$C$3,$B$4:$C$4,$B$6:$C$6,$E$3,$E$4,$E$6,B126)","v":{"$error":"#VALUE!"}},{"$error":"#VALUE!"},{"$f":"ThreePosition_Basic2($E$3,$E$6,$B$3:$C$3,$B$6:$C$6,B126,N126)","v":{"$error":"#VALUE!"}},{"$error":"#VALUE!"},{"$error":"#VALUE!"},{"$error":"#VALUE!"},{"$f":"ThreePosition_Basic2($E$3,$E$6,$B$3:$C$3,$B$6:$C$6,B126,O126)","v":{"$error":"#VALUE!"}},{"$error":"#VALUE!"},{"$error":"#VALUE!"},{"$error":"#VALUE!"}]
[56,0.97738438111682457,{"$f":"Burmester($B$3:$C$3,$B$4:$C$4,$B$5:$C$5,$E$3,$E$4,$E$5,B127)","v":{"$error":"#VALUE!"}},{"$error":"#VALUE!"},{"$f":"ThreePosition_Basic2($E$3,$E$5,$B$3:$C$3,$B$5:$C$5,B127,C127)","v":{"$error":"#VALUE!"}},{"$error":"#VALUE!"},{"$error":"#VALUE!"},{"$error":"#VALUE!"},{"$f":"ThreePosition_Basic2($E$3,$E$5,$B$3:$C$3,$B$5:$C$5,B127,D127)","v":{"$error":"#VALUE!"}},{"$error":"#VALUE!"},{"$error":"#VALUE!"},{"$error":"#VALUE!"},null,{"$f":"Burmester($B$3:$C$3,$B$4:$C$4,$B$6:$C$6,$E$3,$E$4,$E$6,B127)","v":{"$error":"#VALUE!"}},{"$error":"#VALUE!"},{"$f":"ThreePosition_Basic2($E$3,$E$6,$B$3:$C$3,$B$6:$C$6,B127,N127)","v":{"$error":"#VALUE!"}},{"$error":"#VALUE!"},{"$error":"#VALUE!"},{"$error":"#VALUE!"},{"$f":"ThreePosition_Basic2($E$3,$E$6,$B$3:$C$3,$B$6:$C$6,B127,O127)","v":{"$error":"#VALUE!"}},{"$error":"#VALUE!"},{"$error":"#VALUE!"},{"$error":"#VALUE!"}]
[56.5,0.98611102737679612,{"$f":"Burmester($B$3:$C$3,$B$4:$C$4,$B$5:$C$5,$E$3,$E$4,$E$5,B128)","v":{"$error":"#VALUE!"}},{"$error":"#VALUE!"},{"$f":"ThreePosition_Basic2($E$3,$E$5,$B$3:$C$3,$B$5:$C$5,B128,C128)","v":{"$error":"#VALUE!"}},{"$error":"#VALUE!"},{"$error":"#VALUE!"},{"$error":"#VALUE!"},{"$f":"ThreePosition_Basic2($E$3,$E$5,$B$3:$C$3,$B$5:$C$5,B128,D128)","v":{"$error":"#VALUE!"}},{"$error":"#VALUE!"},{"$error":"#VALUE!"},{"$error":"#VALUE!"},null,{"$f":"Burmester($B$3:$C$3,$B$4:$C$4,$B$6:$C$6,$E$3,$E$4,$E$6,B128)","v":{"$error":"#VALUE!"}},{"$error":"#VALUE!"},{"$f":"ThreePosition_Basic2($E$3,$E$6,$B$3:$C$3,$B$6:$C$6,B128,N128)","v":{"$error":"#VALUE!"}},{"$error":"#VALUE!"},{"$error":"#VALUE!"},{"$error":"#VALUE!"},{"$f":"ThreePosition_Basic2($E$3,$E$6,$B$3:$C$3,$B$6:$C$6,B128,O128)","v":{"$error":"#VALUE!"}},{"$error":"#VALUE!"},{"$error":"#VALUE!"},{"$error":"#VALUE!"}]
[57,0.99483767363676778,{"$f":"Burmester($B$3:$C$3,$B$4:$C$4,$B$5:$C$5,$E$3,$E$4,$E$5,B129)","v":{"$error":"#VALUE!"}},{"$error":"#VALUE!"},{"$f":"ThreePosition_Basic2($E$3,$E$5,$B$3:$C$3,$B$5:$C$5,B129,C129)","v":{"$error":"#VALUE!"}},{"$error":"#VALUE!"},{"$error":"#VALUE!"},{"$error":"#VALUE!"},{"$f":"ThreePosition_Basic2($E$3,$E$5,$B$3:$C$3,$B$5:$C$5,B129,D129)","v":{"$error":"#VALUE!"}},{"$error":"#VALUE!"},{"$error":"#VALUE!"},{"$error":"#VALUE!"},null,{"$f":"Burmester($B$3:$C$3,$B$4:$C$4,$B$6:$C$6,$E$3,$E$4,$E$6,B129)","v":{"$error":"#VALUE!"}},{"$error":"#VALUE!"},{"$f":"ThreePosition_Basic2($E$3,$E$6,$B$3:$C$3,$B$6:$C$6,B129,N129)","v":{"$error":"#VALUE!"}},{"$error":"#VALUE!"},{"$error":"#VALUE!"},{"$error":"#VALUE!"},{"$f":"ThreePosition_Basic2($E$3,$E$6,$B$3:$C$3,$B$6:$C$6,B129,O129)","v":{"$error":"#VALUE!"}},{"$error":"#VALUE!"},{"$error":"#VALUE!"},{"$error":"#VALUE!"}]
[57.5,1.0035643198967394,{"$f":"Burmester($B$3:$C$3,$B$4:$C$4,$B$5:$C$5,$E$3,$E$4,$E$5,B130)","v":{"$error":"#VALUE!"}},{"$error":"#VALUE!"},{"$f":"ThreePosition_Basic2($E$3,$E$5,$B$3:$C$3,$B$5:$C$5,B130,C130)","v":{"$error":"#VALUE!"}},{"$error":"#VALUE!"},{"$error":"#VALUE!"},{"$error":"#VALUE!"},{"$f":"ThreePosition_Basic2($E$3,$E$5,$B$3:$C$3,$B$5:$C$5,B130,D130)","v":{"$error":"#VALUE!"}},{"$error":"#VALUE!"},{"$error":"#VALUE!"},{"$error":"#VALUE!"},null,{"$f":"Burmester($B$3:$C$3,$B$4:$C$4,$B$6:$C$6,$E$3,$E$4,$E$6,B130)","v":{"$error":"#VALUE!"}},{"$error":"#VALUE!"},{"$f":"ThreePosition_Basic2($E$3,$E$6,$B$3:$C$3,$B$6:$C$6,B130,N130)","v":{"$error":"#VALUE!"}},{"$error":"#VALUE!"},{"$error":"#VALUE!"},{"$error":"#VALUE!"},{"$f":"ThreePosition_Basic2($E$3,$E$6,$B$3:$C$3,$B$6:$C$6,B130,O130)","v":{"$error":"#VALUE!"}},{"$error":"#VALUE!"},{"$error":"#VALUE!"},{"$error":"#VALUE!"}]
[58,1.0122909661567112,{"$f":"Burmester($B$3:$C$3,$B$4:$C$4,$B$5:$C$5,$E$3,$E$4,$E$5,B131)","v":{"$error":"#VALUE!"}},{"$error":"#VALUE!"},{"$f":"ThreePosition_Basic2($E$3,$E$5,$B$3:$C$3,$B$5:$C$5,B131,C131)","v":{"$error":"#VALUE!"}},{"$error":"#VALUE!"},{"$error":"#VALUE!"},{"$error":"#VALUE!"},{"$f":"ThreePosition_Basic2($E$3,$E$5,$B$3:$C$3,$B$5:$C$5,B131,D131)","v":{"$error":"#VALUE!"}},{"$error":"#VALUE!"},{"$error":"#VALUE!"},{"$error":"#VALUE!"},null,{"$f":"Burmester($B$3:$C$3,$B$4:$C$4,$B$6:$C$6,$E$3,$E$4,$E$6,B131)","v":{"$error":"#VALUE!"}},{"$error":"#VALUE!"},{"$f":"ThreePosition_Basic2($E$3,$E$6,$B$3:$C$3,$B$6:$C$6,B131,N131)","v":{"$error":"#VALUE!"}},{"$error":"#VALUE!"},{"$error":"#VALUE!"},{"$error":"#VALUE!"},{"$f":"ThreePosition_Basic2($E$3,$E$6,$B$3:$C$3,$B$6:$C$6,B131,O131)","v":{"$error":"#VALUE!"}},{"$error":"#VALUE!"},{"$error":"#VALUE!"},{"$error":"#VALUE!"}]
[58.5,1.0210176124166828,{"$f":"Burmester($B$3:$C$3,$B$4:$C$4,$B$5:$C$5,$E$3,$E$4,$E$5,B132)","v":{"$error":"#VALUE!"}},{"$error":"#VALUE!"},{"$f":"ThreePosition_Basic2($E$3,$E$5,$B$3:$C$3,$B$5:$C$5,B132,C132)","v":{"$error":"#VALUE!"}},{"$error":"#VALUE!"},{"$error":"#VALUE!"},{"$error":"#VALUE!"},{"$f":"ThreePosition_Basic2($E$3,$E$5,$B$3:$C$3,$B$5:$C$5,B132,D132)","v":{"$error":"#VALUE!"}},{"$error":"#VALUE!"},{"$error":"#VALUE!"},{"$error":"#VALUE!"},null,{"$f":"Burmester($B$3:$C$3,$B$4:$C$4,$B$6:$C$6,$E$3,$E$4,$E$6,B132)","v":{"$error":"#VALUE!"}},{"$error":"#VALUE!"},{"$f":"ThreePosition_Basic2($E$3,$E$6,$B$3:$C$3,$B$6:$C$6,B132,N132)","v":{"$error":"#VALUE!"}},{"$error":"#VALUE!"},{"$error":"#VALUE!"},{"$error":"#VALUE!"},{"$f":"ThreePosition_Basic2($E$3,$E$6,$B$3:$C$3,$B$6:$C$6,B132,O132)","v":{"$error":"#VALUE!"}},{"$error":"#VALUE!"},{"$error":"#VALUE!"},{"$error":"#VALUE!"}]
[59,1.0297442586766543,{"$f":"Burmester($B$3:$C$3,$B$4:$C$4,$B$5:$C$5,$E$3,$E$4,$E$5,B133)","v":{"$error":"#VALUE!"}},{"$error":"#VALUE!"},{"$f":"ThreePosition_Basic2($E$3,$E$5,$B$3:$C$3,$B$5:$C$5,B133,C133)","v":{"$error":"#VALUE!"}},{"$error":"#VALUE!"},{"$error":"#VALUE!"},{"$error":"#VALUE!"},{"$f":"ThreePosition_Basic2($E$3,$E$5,$B$3:$C$3,$B$5:$C$5,B133,D133)","v":{"$error":"#VALUE!"}},{"$error":"#VALUE!"},{"$error":"#VALUE!"},{"$error":"#VALUE!"},null,{"$f":"Burmester($B$3:$C$3,$B$4:$C$4,$B$6:$C$6,$E$3,$E$4,$E$6,B133)","v":{"$error":"#VALUE!"}},{"$error":"#VALUE!"},{"$f":"ThreePosition_Basic2($E$3,$E$6,$B$3:$C$3,$B$6:$C$6,B133,N133)","v":{"$error":"#VALUE!"}},{"$error":"#VALUE!"},{"$error":"#VALUE!"},{"$error":"#VALUE!"},{"$f":"ThreePosition_Basic2($E$3,$E$6,$B$3:$C$3,$B$6:$C$6,B133,O133)","v":{"$error":"#VALUE!"}},{"$error":"#VALUE!"},{"$error":"#VALUE!"},{"$error":"#VALUE!"}]
[59.5,1.0384709049366261,{"$f":"Burmester($B$3:$C$3,$B$4:$C$4,$B$5:$C$5,$E$3,$E$4,$E$5,B134)","v":{"$error":"#VALUE!"}},{"$error":"#VALUE!"},{"$f":"ThreePosition_Basic2($E$3,$E$5,$B$3:$C$3,$B$5:$C$5,B134,C134)","v":{"$error":"#VALUE!"}},{"$error":"#VALUE!"},{"$error":"#VALUE!"},{"$error":"#VALUE!"},{"$f":"ThreePosition_Basic2($E$3,$E$5,$B$3:$C$3,$B$5:$C$5,B134,D134)","v":{"$error":"#VALUE!"}},{"$error":"#VALUE!"},{"$error":"#VALUE!"},{"$error":"#VALUE!"},null,{"$f":"Burmester($B$3:$C$3,$B$4:$C$4,$B$6:$C$6,$E$3,$E$4,$E$6,B134)","v":{"$error":"#VALUE!"}},{"$error":"#VALUE!"},{"$f":"ThreePosition_Basic2($E$3,$E$6,$B$3:$C$3,$B$6:$C$6,B134,N134)","v":{"$error":"#VALUE!"}},{"$error":"#VALUE!"},{"$error":"#VALUE!"},{"$error":"#VALUE!"},{"$f":"ThreePosition_Basic2($E$3,$E$6,$B$3:$C$3,$B$6:$C$6,B134,O134)","v":{"$error":"#VALUE!"}},{"$error":"#VALUE!"},{"$error":"#VALUE!"},{"$error":"#VALUE!"}]
[60,1.0471975511965976,{"$f":"Burmester($B$3:$C$3,$B$4:$C$4,$B$5:$C$5,$E$3,$E$4,$E$5,B135)","v":{"$error":"#VALUE!"}},{"$error":"#VALUE!"},{"$f":"ThreePosition_Basic2($E$3,$E$5,$B$3:$C$3,$B$5:$C$5,B135,C135)","v":{"$error":"#VALUE!"}},{"$error":"#VALUE!"},{"$error":"#VALUE!"},{"$error":"#VALUE!"},{"$f":"ThreePosition_Basic2($E$3,$E$5,$B$3:$C$3,$B$5:$C$5,B135,D135)","v":{"$error":"#VALUE!"}},{"$error":"#VALUE!"},{"$error":"#VALUE!"},{"$error":"#VALUE!"},null,{"$f":"Burmester($B$3:$C$3,$B$4:$C$4,$B$6:$C$6,$E$3,$E$4,$E$6,B135)","v":{"$error":"#VALUE!"}},{"$error":"#VALUE!"},{"$f":"ThreePosition_Basic2($E$3,$E$6,$B$3:$C$3,$B$6:$C$6,B135,N135)","v":{"$error":"#VALUE!"}},{"$error":"#VALUE!"},{"$error":"#VALUE!"},{"$error":"#VALUE!"},{"$f":"ThreePosition_Basic2($E$3,$E$6,$B$3:$C$3,$B$6:$C$6,B135,O135)","v":{"$error":"#VALUE!"}},{"$error":"#VALUE!"},{"$error":"#VALUE!"},{"$error":"#VALUE!"}]
[60.5,1.0559241974565694,{"$f":"Burmester($B$3:$C$3,$B$4:$C$4,$B$5:$C$5,$E$3,$E$4,$E$5,B136)","v":{"$error":"#VALUE!"}},{"$error":"#VALUE!"},{"$f":"ThreePosition_Basic2($E$3,$E$5,$B$3:$C$3,$B$5:$C$5,B136,C136)","v":{"$error":"#VALUE!"}},{"$error":"#VALUE!"},{"$error":"#VALUE!"},{"$error":"#VALUE!"},{"$f":"ThreePosition_Basic2($E$3,$E$5,$B$3:$C$3,$B$5:$C$5,B136,D136)","v":{"$error":"#VALUE!"}},{"$error":"#VALUE!"},{"$error":"#VALUE!"},{"$error":"#VALUE!"},null,{"$f":"Burmester($B$3:$C$3,$B$4:$C$4,$B$6:$C$6,$E$3,$E$4,$E$6,B136)","v":{"$error":"#VALUE!"}},{"$error":"#VALUE!"},{"$f":"ThreePosition_Basic2($E$3,$E$6,$B$3:$C$3,$B$6:$C$6,B136,N136)","v":{"$error":"#VALUE!"}},{"$error":"#VALUE!"},{"$error":"#VALUE!"},{"$error":"#VALUE!"},{"$f":"ThreePosition_Basic2($E$3,$E$6,$B$3:$C$3,$B$6:$C$6,B136,O136)","v":{"$error":"#VALUE!"}},{"$error":"#VALUE!"},{"$error":"#VALUE!"},{"$error":"#VALUE!"}]
[61,1.064650843716541,{"$f":"Burmester($B$3:$C$3,$B$4:$C$4,$B$5:$C$5,$E$3,$E$4,$E$5,B137)","v":{"$error":"#VALUE!"}},{"$error":"#VALUE!"},{"$f":"ThreePosition_Basic2($E$3,$E$5,$B$3:$C$3,$B$5:$C$5,B137,C137)","v":{"$error":"#VALUE!"}},{"$error":"#VALUE!"},{"$error":"#VALUE!"},{"$error":"#VALUE!"},{"$f":"ThreePosition_Basic2($E$3,$E$5,$B$3:$C$3,$B$5:$C$5,B137,D137)","v":{"$error":"#VALUE!"}},{"$error":"#VALUE!"},{"$error":"#VALUE!"},{"$error":"#VALUE!"},null,{"$f":"Burmester($B$3:$C$3,$B$4:$C$4,$B$6:$C$6,$E$3,$E$4,$E$6,B137)","v":{"$error":"#VALUE!"}},{"$error":"#VALUE!"},{"$f":"ThreePosition_Basic2($E$3,$E$6,$B$3:$C$3,$B$6:$C$6,B137,N137)","v":{"$error":"#VALUE!"}},{"$error":"#VALUE!"},{"$error":"#VALUE!"},{"$error":"#VALUE!"},{"$f":"ThreePosition_Basic2($E$3,$E$6,$B$3:$C$3,$B$6:$C$6,B137,O137)","v":{"$error":"#VALUE!"}},{"$error":"#VALUE!"},{"$error":"#VALUE!"},{"$error":"#VALUE!"}]
[61.5,1.0733774899765127,{"$f":"Burmester($B$3:$C$3,$B$4:$C$4,$B$5:$C$5,$E$3,$E$4,$E$5,B138)","v":{"$error":"#VALUE!"}},{"$error":"#VALUE!"},{"$f":"ThreePosition_Basic2($E$3,$E$5,$B$3:$C$3,$B$5:$C$5,B138,C138)","v":{"$error":"#VALUE!"}},{"$error":"#VALUE!"},{"$error":"#VALUE!"},{"$error":"#VALUE!"},{"$f":"ThreePosition_Basic2($E$3,$E$5,$B$3:$C$3,$B$5:$C$5,B138,D138)","v":{"$error":"#VALUE!"}},{"$error":"#VALUE!"},{"$error":"#VALUE!"},{"$error":"#VALUE!"},null,{"$f":"Burmester($B$3:$C$3,$B$4:$C$4,$B$6:$C$6,$E$3,$E$4,$E$6,B138)","v":{"$error":"#VALUE!"}},{"$error":"#VALUE!"},{"$f":"ThreePosition_Basic2($E$3,$E$6,$B$3:$C$3,$B$6:$C$6,B138,N138)","v":{"$error":"#VALUE!"}},{"$error":"#VALUE!"},{"$error":"#VALUE!"},{"$error":"#VALUE!"},{"$f":"ThreePosition_Basic2($E$3,$E$6,$B$3:$C$3,$B$6:$C$6,B138,O138)","v":{"$error":"#VALUE!"}},{"$error":"#VALUE!"},{"$error":"#VALUE!"},{"$error":"#VALUE!"}]
[62,1.0821041362364843,{"$f":"Burmester($B$3:$C$3,$B$4:$C$4,$B$5:$C$5,$E$3,$E$4,$E$5,B139)","v":{"$error":"#VALUE!"}},{"$error":"#VALUE!"},{"$f":"ThreePosition_Basic2($E$3,$E$5,$B$3:$C$3,$B$5:$C$5,B139,C139)","v":{"$error":"#VALUE!"}},{"$error":"#VALUE!"},{"$error":"#VALUE!"},{"$error":"#VALUE!"},{"$f":"ThreePosition_Basic2($E$3,$E$5,$B$3:$C$3,$B$5:$C$5,B139,D139)","v":{"$error":"#VALUE!"}},{"$error":"#VALUE!"},{"$error":"#VALUE!"},{"$error":"#VALUE!"},null,{"$f":"Burmester($B$3:$C$3,$B$4:$C$4,$B$6:$C$6,$E$3,$E$4,$E$6,B139)","v":{"$error":"#VALUE!"}},{"$error":"#VALUE!"},{"$f":"ThreePosition_Basic2($E$3,$E$6,$B$3:$C$3,$B$6:$C$6,B139,N139)","v":{"$error":"#VALUE!"}},{"$error":"#VALUE!"},{"$error":"#VALUE!"},{"$error":"#VALUE!"},{"$f":"ThreePosition_Basic2($E$3,$E$6,$B$3:$C$3,$B$6:$C$6,B139,O139)","v":{"$error":"#VALUE!"}},{"$error":"#VALUE!"},{"$error":"#VALUE!"},{"$error":"#VALUE!"}]
[62.5,1.0908307824964558,{"$f":"Burmester($B$3:$C$3,$B$4:$C$4,$B$5:$C$5,$E$3,$E$4,$E$5,B140)","v":{"$error":"#VALUE!"}},{"$error":"#VALUE!"},{"$f":"ThreePosition_Basic2($E$3,$E$5,$B$3:$C$3,$B$5:$C$5,B140,C140)","v":{"$error":"#VALUE!"}},{"$error":"#VALUE!"},{"$error":"#VALUE!"},{"$error":"#VALUE!"},{"$f":"ThreePosition_Basic2($E$3,$E$5,$B$3:$C$3,$B$5:$C$5,B140,D140)","v":{"$error":"#VALUE!"}},{"$error":"#VALUE!"},{"$error":"#VALUE!"},{"$error":"#VALUE!"},null,{"$f":"Burmester($B$3:$C$3,$B$4:$C$4,$B$6:$C$6,$E$3,$E$4,$E$6,B140)","v":{"$error":"#VALUE!"}},{"$error":"#VALUE!"},{"$f":"ThreePosition_Basic2($E$3,$E$6,$B$3:$C$3,$B$6:$C$6,B140,N140)","v":{"$error":"#VALUE!"}},{"$error":"#VALUE!"},{"$error":"#VALUE!"},{"$error":"#VALUE!"},{"$f":"ThreePosition_Basic2($E$3,$E$6,$B$3:$C$3,$B$6:$C$6,B140,O140)","v":{"$error":"#VALUE!"}},{"$error":"#VALUE!"},{"$error":"#VALUE!"},{"$error":"#VALUE!"}]
[63,1.0995574287564276,{"$f":"Burmester($B$3:$C$3,$B$4:$C$4,$B$5:$C$5,$E$3,$E$4,$E$5,B141)","v":{"$error":"#VALUE!"}},{"$error":"#VALUE!"},{"$f":"ThreePosition_Basic2($E$3,$E$5,$B$3:$C$3,$B$5:$C$5,B141,C141)","v":{"$error":"#VALUE!"}},{"$error":"#VALUE!"},{"$error":"#VALUE!"},{"$error":"#VALUE!"},{"$f":"ThreePosition_Basic2($E$3,$E$5,$B$3:$C$3,$B$5:$C$5,B141,D141)","v":{"$error":"#VALUE!"}},{"$error":"#VALUE!"},{"$error":"#VALUE!"},{"$error":"#VALUE!"},null,{"$f":"Burmester($B$3:$C$3,$B$4:$C$4,$B$6:$C$6,$E$3,$E$4,$E$6,B141)","v":{"$error":"#VALUE!"}},{"$error":"#VALUE!"},{"$f":"ThreePosition_Basic2($E$3,$E$6,$B$3:$C$3,$B$6:$C$6,B141,N141)","v":{"$error":"#VALUE!"}},{"$error":"#VALUE!"},{"$error":"#VALUE!"},{"$error":"#VALUE!"},{"$f":"ThreePosition_Basic2($E$3,$E$6,$B$3:$C$3,$B$6:$C$6,B141,O141)","v":{"$error":"#VALUE!"}},{"$error":"#VALUE!"},{"$error":"#VALUE!"},{"$error":"#VALUE!"}]
[63.5,1.1082840750163994,{"$f":"Burmester($B$3:$C$3,$B$4:$C$4,$B$5:$C$5,$E$3,$E$4,$E$5,B142)","v":{"$error":"#VALUE!"}},{"$error":"#VALUE!"},{"$f":"ThreePosition_Basic2($E$3,$E$5,$B$3:$C$3,$B$5:$C$5,B142,C142)","v":{"$error":"#VALUE!"}},{"$error":"#VALUE!"},{"$error":"#VALUE!"},{"$error":"#VALUE!"},{"$f":"ThreePosition_Basic2($E$3,$E$5,$B$3:$C$3,$B$5:$C$5,B142,D142)","v":{"$error":"#VALUE!"}},{"$error":"#VALUE!"},{"$error":"#VALUE!"},{"$error":"#VALUE!"},null,{"$f":"Burmester($B$3:$C$3,$B$4:$C$4,$B$6:$C$6,$E$3,$E$4,$E$6,B142)","v":{"$error":"#VALUE!"}},{"$error":"#VALUE!"},{"$f":"ThreePosition_Basic2($E$3,$E$6,$B$3:$C$3,$B$6:$C$6,B142,N142)","v":{"$error":"#VALUE!"}},{"$error":"#VALUE!"},{"$error":"#VALUE!"},{"$error":"#VALUE!"},{"$f":"ThreePosition_Basic2($E$3,$E$6,$B$3:$C$3,$B$6:$C$6,B142,O142)","v":{"$error":"#VALUE!"}},{"$error":"#VALUE!"},{"$error":"#VALUE!"},{"$error":"#VALUE!"}]
[64,1.1170107212763709,{"$f":"Burmester($B$3:$C$3,$B$4:$C$4,$B$5:$C$5,$E$3,$E$4,$E$5,B143)","v":{"$error":"#VALUE!"}},{"$error":"#VALUE!"},{"$f":"ThreePosition_Basic2($E$3,$E$5,$B$3:$C$3,$B$5:$C$5,B143,C143)","v":{"$error":"#VALUE!"}},{"$error":"#VALUE!"},{"$error":"#VALUE!"},{"$error":"#VALUE!"},{"$f":"ThreePosition_Basic2($E$3,$E$5,$B$3:$C$3,$B$5:$C$5,B143,D143)","v":{"$error":"#VALUE!"}},{"$error":"#VALUE!"},{"$error":"#VALUE!"},{"$error":"#VALUE!"},null,{"$f":"Burmester($B$3:$C$3,$B$4:$C$4,$B$6:$C$6,$E$3,$E$4,$E$6,B143)","v":{"$error":"#VALUE!"}},{"$error":"#VALUE!"},{"$f":"ThreePosition_Basic2($E$3,$E$6,$B$3:$C$3,$B$6:$C$6,B143,N143)","v":{"$error":"#VALUE!"}},{"$error":"#VALUE!"},{"$error":"#VALUE!"},{"$error":"#VALUE!"},{"$f":"ThreePosition_Basic2($E$3,$E$6,$B$3:$C$3,$B$6:$C$6,B143,O143)","v":{"$error":"#VALUE!"}},{"$error":"#VALUE!"},{"$error":"#VALUE!"},{"$error":"#VALUE!"}]
[64.5,{"$f":"A144*PI()/180","v":1.1257373675363425},{"$f":"Burmester($B$3:$C$3,$B$4:$C$4,$B$5:$C$5,$E$3,$E$4,$E$5,B144)","v":{"$error":"#VALUE!"}},{"$error":"#VALUE!"},{"$f":"ThreePosition_Basic2($E$3,$E$5,$B$3:$C$3,$B$5:$C$5,B144,C144)","v":{"$error":"#VALUE!"}},{"$error":"#VALUE!"},{"$error":"#VALUE!"},{"$error":"#VALUE!"},{"$f":"ThreePosition_Basic2($E$3,$E$5,$B$3:$C$3,$B$5:$C$5,B144,D144)","v":{"$error":"#VALUE!"}},{"$error":"#VALUE!"},{"$error":"#VALUE!"},{"$error":"#VALUE!"},null,{"$f":"Burmester($B$3:$C$3,$B$4:$C$4,$B$6:$C$6,$E$3,$E$4,$E$6,B144)","v":{"$error":"#VALUE!"}},{"$error":"#VALUE!"},{"$f":"ThreePosition_Basic2($E$3,$E$6,$B$3:$C$3,$B$6:$C$6,B144,N144)","v":{"$error":"#VALUE!"}},{"$error":"#VALUE!"},{"$error":"#VALUE!"},{"$error":"#VALUE!"},{"$f":"ThreePosition_Basic2($E$3,$E$6,$B$3:$C$3,$B$6:$C$6,B144,O144)","v":{"$error":"#VALUE!"}},{"$error":"#VALUE!"},{"$error":"#VALUE!"},{"$error":"#VALUE!"}]
[65,1.1344640137963142,{"$f":"Burmester($B$3:$C$3,$B$4:$C$4,$B$5:$C$5,$E$3,$E$4,$E$5,B145)","v":{"$error":"#VALUE!"}},{"$error":"#VALUE!"},{"$f":"ThreePosition_Basic2($E$3,$E$5,$B$3:$C$3,$B$5:$C$5,B145,C145)","v":{"$error":"#VALUE!"}},{"$error":"#VALUE!"},{"$error":"#VALUE!"},{"$error":"#VALUE!"},{"$f":"ThreePosition_Basic2($E$3,$E$5,$B$3:$C$3,$B$5:$C$5,B145,D145)","v":{"$error":"#VALUE!"}},{"$error":"#VALUE!"},{"$error":"#VALUE!"},{"$error":"#VALUE!"},null,{"$f":"Burmester($B$3:$C$3,$B$4:$C$4,$B$6:$C$6,$E$3,$E$4,$E$6,B145)","v":{"$error":"#VALUE!"}},{"$error":"#VALUE!"},{"$f":"ThreePosition_Basic2($E$3,$E$6,$B$3:$C$3,$B$6:$C$6,B145,N145)","v":{"$error":"#VALUE!"}},{"$error":"#VALUE!"},{"$error":"#VALUE!"},{"$error":"#VALUE!"},{"$f":"ThreePosition_Basic2($E$3,$E$6,$B$3:$C$3,$B$6:$C$6,B145,O145)","v":{"$error":"#VALUE!"}},{"$error":"#VALUE!"},{"$error":"#VALUE!"},{"$error":"#VALUE!"}]
[65.5,1.143190660056286,{"$f":"Burmester($B$3:$C$3,$B$4:$C$4,$B$5:$C$5,$E$3,$E$4,$E$5,B146)","v":{"$error":"#VALUE!"}},{"$error":"#VALUE!"},{"$f":"ThreePosition_Basic2($E$3,$E$5,$B$3:$C$3,$B$5:$C$5,B146,C146)","v":{"$error":"#VALUE!"}},{"$error":"#VALUE!"},{"$error":"#VALUE!"},{"$error":"#VALUE!"},{"$f":"ThreePosition_Basic2($E$3,$E$5,$B$3:$C$3,$B$5:$C$5,B146,D146)","v":{"$error":"#VALUE!"}},{"$error":"#VALUE!"},{"$error":"#VALUE!"},{"$error":"#VALUE!"},null,{"$f":"Burmester($B$3:$C$3,$B$4:$C$4,$B$6:$C$6,$E$3,$E$4,$E$6,B146)","v":{"$error":"#VALUE!"}},{"$error":"#VALUE!"},{"$f":"ThreePosition_Basic2($E$3,$E$6,$B$3:$C$3,$B$6:$C$6,B146,N146)","v":{"$error":"#VALUE!"}},{"$error":"#VALUE!"},{"$error":"#VALUE!"},{"$error":"#VALUE!"},{"$f":"ThreePosition_Basic2($E$3,$E$6,$B$3:$C$3,$B$6:$C$6,B146,O146)","v":{"$error":"#VALUE!"}},{"$error":"#VALUE!"},{"$error":"#VALUE!"},{"$error":"#VALUE!"}]
[66,1.1519173063162575,{"$f":"Burmester($B$3:$C$3,$B$4:$C$4,$B$5:$C$5,$E$3,$E$4,$E$5,B147)","v":{"$error":"#VALUE!"}},{"$error":"#VALUE!"},{"$f":"ThreePosition_Basic2($E$3,$E$5,$B$3:$C$3,$B$5:$C$5,B147,C147)","v":{"$error":"#VALUE!"}},{"$error":"#VALUE!"},{"$error":"#VALUE!"},{"$error":"#VALUE!"},{"$f":"ThreePosition_Basic2($E$3,$E$5,$B$3:$C$3,$B$5:$C$5,B147,D147)","v":{"$error":"#VALUE!"}},{"$error":"#VALUE!"},{"$error":"#VALUE!"},{"$error":"#VALUE!"},null,{"$f":"Burmester($B$3:$C$3,$B$4:$C$4,$B$6:$C$6,$E$3,$E$4,$E$6,B147)","v":{"$error":"#VALUE!"}},{"$error":"#VALUE!"},{"$f":"ThreePosition_Basic2($E$3,$E$6,$B$3:$C$3,$B$6:$C$6,B147,N147)","v":{"$error":"#VALUE!"}},{"$error":"#VALUE!"},{"$error":"#VALUE!"},{"$error":"#VALUE!"},{"$f":"ThreePosition_Basic2($E$3,$E$6,$B$3:$C$3,$B$6:$C$6,B147,O147)","v":{"$error":"#VALUE!"}},{"$error":"#VALUE!"},{"$error":"#VALUE!"},{"$error":"#VALUE!"}]
[66.5,1.1606439525762291,{"$f":"Burmester($B$3:$C$3,$B$4:$C$4,$B$5:$C$5,$E$3,$E$4,$E$5,B148)","v":{"$error":"#VALUE!"}},{"$error":"#VALUE!"},{"$f":"ThreePosition_Basic2($E$3,$E$5,$B$3:$C$3,$B$5:$C$5,B148,C148)","v":{"$error":"#VALUE!"}},{"$error":"#VALUE!"},{"$error":"#VALUE!"},{"$error":"#VALUE!"},{"$f":"ThreePosition_Basic2($E$3,$E$5,$B$3:$C$3,$B$5:$C$5,B148,D148)","v":{"$error":"#VALUE!"}},{"$error":"#VALUE!"},{"$error":"#VALUE!"},{"$error":"#VALUE!"},null,{"$f":"Burmester($B$3:$C$3,$B$4:$C$4,$B$6:$C$6,$E$3,$E$4,$E$6,B148)","v":{"$error":"#VALUE!"}},{"$error":"#VALUE!"},{"$f":"ThreePosition_Basic2($E$3,$E$6,$B$3:$C$3,$B$6:$C$6,B148,N148)","v":{"$error":"#VALUE!"}},{"$error":"#VALUE!"},{"$error":"#VALUE!"},{"$error":"#VALUE!"},{"$f":"ThreePosition_Basic2($E$3,$E$6,$B$3:$C$3,$B$6:$C$6,B148,O148)","v":{"$error":"#VALUE!"}},{"$error":"#VALUE!"},{"$error":"#VALUE!"},{"$error":"#VALUE!"}]
[67,1.1693705988362006,{"$f":"Burmester($B$3:$C$3,$B$4:$C$4,$B$5:$C$5,$E$3,$E$4,$E$5,B149)","v":{"$error":"#VALUE!"}},{"$error":"#VALUE!"},{"$f":"ThreePosition_Basic2($E$3,$E$5,$B$3:$C$3,$B$5:$C$5,B149,C149)","v":{"$error":"#VALUE!"}},{"$error":"#VALUE!"},{"$error":"#VALUE!"},{"$error":"#VALUE!"},{"$f":"ThreePosition_Basic2($E$3,$E$5,$B$3:$C$3,$B$5:$C$5,B149,D149)","v":{"$error":"#VALUE!"}},{"$error":"#VALUE!"},{"$error":"#VALUE!"},{"$error":"#VALUE!"},null,{"$f":"Burmester($B$3:$C$3,$B$4:$C$4,$B$6:$C$6,$E$3,$E$4,$E$6,B149)","v":{"$error":"#VALUE!"}},{"$error":"#VALUE!"},{"$f":"ThreePosition_Basic2($E$3,$E$6,$B$3:$C$3,$B$6:$C$6,B149,N149)","v":{"$error":"#VALUE!"}},{"$error":"#VALUE!"},{"$error":"#VALUE!"},{"$error":"#VALUE!"},{"$f":"ThreePosition_Basic2($E$3,$E$6,$B$3:$C$3,$B$6:$C$6,B149,O149)","v":{"$error":"#VALUE!"}},{"$error":"#VALUE!"},{"$error":"#VALUE!"},{"$error":"#VALUE!"}]
[67.5,1.1780972450961724,{"$f":"Burmester($B$3:$C$3,$B$4:$C$4,$B$5:$C$5,$E$3,$E$4,$E$5,B150)","v":{"$error":"#VALUE!"}},{"$error":"#VALUE!"},{"$f":"ThreePosition_Basic2($E$3,$E$5,$B$3:$C$3,$B$5:$C$5,B150,C150)","v":{"$error":"#VALUE!"}},{"$error":"#VALUE!"},{"$error":"#VALUE!"},{"$error":"#VALUE!"},{"$f":"ThreePosition_Basic2($E$3,$E$5,$B$3:$C$3,$B$5:$C$5,B150,D150)","v":{"$error":"#VALUE!"}},{"$error":"#VALUE!"},{"$error":"#VALUE!"},{"$error":"#VALUE!"},null,{"$f":"Burmester($B$3:$C$3,$B$4:$C$4,$B$6:$C$6,$E$3,$E$4,$E$6,B150)","v":{"$error":"#VALUE!"}},{"$error":"#VALUE!"},{"$f":"ThreePosition_Basic2($E$3,$E$6,$B$3:$C$3,$B$6:$C$6,B150,N150)","v":{"$error":"#VALUE!"}},{"$error":"#VALUE!"},{"$error":"#VALUE!"},{"$error":"#VALUE!"},{"$f":"ThreePosition_Basic2($E$3,$E$6,$B$3:$C$3,$B$6:$C$6,B150,O150)","v":{"$error":"#VALUE!"}},{"$error":"#VALUE!"},{"$error":"#VALUE!"},{"$error":"#VALUE!"}]
[68,1.1868238913561442,{"$f":"Burmester($B$3:$C$3,$B$4:$C$4,$B$5:$C$5,$E$3,$E$4,$E$5,B151)","v":{"$error":"#VALUE!"}},{"$error":"#VALUE!"},{"$f":"ThreePosition_Basic2($E$3,$E$5,$B$3:$C$3,$B$5:$C$5,B151,C151)","v":{"$error":"#VALUE!"}},{"$error":"#VALUE!"},{"$error":"#VALUE!"},{"$error":"#VALUE!"},{"$f":"ThreePosition_Basic2($E$3,$E$5,$B$3:$C$3,$B$5:$C$5,B151,D151)","v":{"$error":"#VALUE!"}},{"$error":"#VALUE!"},{"$error":"#VALUE!"},{"$error":"#VALUE!"},null,{"$f":"Burmester($B$3:$C$3,$B$4:$C$4,$B$6:$C$6,$E$3,$E$4,$E$6,B151)","v":{"$error":"#VALUE!"}},{"$error":"#VALUE!"},{"$f":"ThreePosition_Basic2($E$3,$E$6,$B$3:$C$3,$B$6:$C$6,B151,N151)","v":{"$error":"#VALUE!"}},{"$error":"#VALUE!"},{"$error":"#VALUE!"},{"$error":"#VALUE!"},{"$f":"ThreePosition_Basic2($E$3,$E$6,$B$3:$C$3,$B$6:$C$6,B151,O151)","v":{"$error":"#VALUE!"}},{"$error":"#VALUE!"},{"$error":"#VALUE!"},{"$error":"#VALUE!"}]
[68.5,1.1955505376161157,{"$f":"Burmester($B$3:$C$3,$B$4:$C$4,$B$5:$C$5,$E$3,$E$4,$E$5,B152)","v":{"$error":"#VALUE!"}},{"$error":"#VALUE!"},{"$f":"ThreePosition_Basic2($E$3,$E$5,$B$3:$C$3,$B$5:$C$5,B152,C152)","v":{"$error":"#VALUE!"}},{"$error":"#VALUE!"},{"$error":"#VALUE!"},{"$error":"#VALUE!"},{"$f":"ThreePosition_Basic2($E$3,$E$5,$B$3:$C$3,$B$5:$C$5,B152,D152)","v":{"$error":"#VALUE!"}},{"$error":"#VALUE!"},{"$error":"#VALUE!"},{"$error":"#VALUE!"},null,{"$f":"Burmester($B$3:$C$3,$B$4:$C$4,$B$6:$C$6,$E$3,$E$4,$E$6,B152)","v":{"$error":"#VALUE!"}},{"$error":"#VALUE!"},{"$f":"ThreePosition_Basic2($E$3,$E$6,$B$3:$C$3,$B$6:$C$6,B152,N152)","v":{"$error":"#VALUE!"}},{"$error":"#VALUE!"},{"$error":"#VALUE!"},{"$error":"#VALUE!"},{"$f":"ThreePosition_Basic2($E$3,$E$6,$B$3:$C$3,$B$6:$C$6,B152,O152)","v":{"$error":"#VALUE!"}},{"$error":"#VALUE!"},{"$error":"#VALUE!"},{"$error":"#VALUE!"}]
[69,1.2042771838760873,{"$f":"Burmester($B$3:$C$3,$B$4:$C$4,$B$5:$C$5,$E$3,$E$4,$E$5,B153)","v":{"$error":"#VALUE!"}},{"$error":"#VALUE!"},{"$f":"ThreePosition_Basic2($E$3,$E$5,$B$3:$C$3,$B$5:$C$5,B153,C153)","v":{"$error":"#VALUE!"}},{"$error":"#VALUE!"},{"$error":"#VALUE!"},{"$error":"#VALUE!"},{"$f":"ThreePosition_Basic2($E$3,$E$5,$B$3:$C$3,$B$5:$C$5,B153,D153)","v":{"$error":"#VALUE!"}},{"$error":"#VALUE!"},{"$error":"#VALUE!"},{"$error":"#VALUE!"},null,{"$f":"Burmester($B$3:$C$3,$B$4:$C$4,$B$6:$C$6,$E$3,$E$4,$E$6,B153)","v":{"$error":"#VALUE!"}},{"$error":"#VALUE!"},{"$f":"ThreePosition_Basic2($E$3,$E$6,$B$3:$C$3,$B$6:$C$6,B153,N153)","v":{"$error":"#VALUE!"}},{"$error":"#VALUE!"},{"$error":"#VALUE!"},{"$error":"#VALUE!"},{"$f":"ThreePosition_Basic2($E$3,$E$6,$B$3:$C$3,$B$6:$C$6,B153,O153)","v":{"$error":"#VALUE!"}},{"$error":"#VALUE!"},{"$error":"#VALUE!"},{"$error":"#VALUE!"}]
[69.5,1.2130038301360591,{"$f":"Burmester($B$3:$C$3,$B$4:$C$4,$B$5:$C$5,$E$3,$E$4,$E$5,B154)","v":{"$error":"#VALUE!"}},{"$error":"#VALUE!"},{"$f":"ThreePosition_Basic2($E$3,$E$5,$B$3:$C$3,$B$5:$C$5,B154,C154)","v":{"$error":"#VALUE!"}},{"$error":"#VALUE!"},{"$error":"#VALUE!"},{"$error":"#VALUE!"},{"$f":"ThreePosition_Basic2($E$3,$E$5,$B$3:$C$3,$B$5:$C$5,B154,D154)","v":{"$error":"#VALUE!"}},{"$error":"#VALUE!"},{"$error":"#VALUE!"},{"$error":"#VALUE!"},null,{"$f":"Burmester($B$3:$C$3,$B$4:$C$4,$B$6:$C$6,$E$3,$E$4,$E$6,B154)","v":{"$error":"#VALUE!"}},{"$error":"#VALUE!"},{"$f":"ThreePosition_Basic2($E$3,$E$6,$B$3:$C$3,$B$6:$C$6,B154,N154)","v":{"$error":"#VALUE!"}},{"$error":"#VALUE!"},{"$error":"#VALUE!"},{"$error":"#VALUE!"},{"$f":"ThreePosition_Basic2($E$3,$E$6,$B$3:$C$3,$B$6:$C$6,B154,O154)","v":{"$error":"#VALUE!"}},{"$error":"#VALUE!"},{"$error":"#VALUE!"},{"$error":"#VALUE!"}]
[70,1.2217304763960306,{"$f":"Burmester($B$3:$C$3,$B$4:$C$4,$B$5:$C$5,$E$3,$E$4,$E$5,B155)","v":{"$error":"#VALUE!"}},{"$error":"#VALUE!"},{"$f":"ThreePosition_Basic2($E$3,$E$5,$B$3:$C$3,$B$5:$C$5,B155,C155)","v":{"$error":"#VALUE!"}},{"$error":"#VALUE!"},{"$error":"#VALUE!"},{"$error":"#VALUE!"},{"$f":"ThreePosition_Basic2($E$3,$E$5,$B$3:$C$3,$B$5:$C$5,B155,D155)","v":{"$error":"#VALUE!"}},{"$error":"#VALUE!"},{"$error":"#VALUE!"},{"$error":"#VALUE!"},null,{"$f":"Burmester($B$3:$C$3,$B$4:$C$4,$B$6:$C$6,$E$3,$E$4,$E$6,B155)","v":{"$error":"#VALUE!"}},{"$error":"#VALUE!"},{"$f":"ThreePosition_Basic2($E$3,$E$6,$B$3:$C$3,$B$6:$C$6,B155,N155)","v":{"$error":"#VALUE!"}},{"$error":"#VALUE!"},{"$error":"#VALUE!"},{"$error":"#VALUE!"},{"$f":"ThreePosition_Basic2($E$3,$E$6,$B$3:$C$3,$B$6:$C$6,B155,O155)","v":{"$error":"#VALUE!"}},{"$error":"#VALUE!"},{"$error":"#VALUE!"},{"$error":"#VALUE!"}]
[70.5,1.2304571226560022,{"$f":"Burmester($B$3:$C$3,$B$4:$C$4,$B$5:$C$5,$E$3,$E$4,$E$5,B156)","v":{"$error":"#VALUE!"}},{"$error":"#VALUE!"},{"$f":"ThreePosition_Basic2($E$3,$E$5,$B$3:$C$3,$B$5:$C$5,B156,C156)","v":{"$error":"#VALUE!"}},{"$error":"#VALUE!"},{"$error":"#VALUE!"},{"$error":"#VALUE!"},{"$f":"ThreePosition_Basic2($E$3,$E$5,$B$3:$C$3,$B$5:$C$5,B156,D156)","v":{"$error":"#VALUE!"}},{"$error":"#VALUE!"},{"$error":"#VALUE!"},{"$error":"#VALUE!"},null,{"$f":"Burmester($B$3:$C$3,$B$4:$C$4,$B$6:$C$6,$E$3,$E$4,$E$6,B156)","v":{"$error":"#VALUE!"}},{"$error":"#VALUE!"},{"$f":"ThreePosition_Basic2($E$3,$E$6,$B$3:$C$3,$B$6:$C$6,B156,N156)","v":{"$error":"#VALUE!"}},{"$error":"#VALUE!"},{"$error":"#VALUE!"},{"$error":"#VALUE!"},{"$f":"ThreePosition_Basic2($E$3,$E$6,$B$3:$C$3,$B$6:$C$6,B156,O156)","v":{"$error":"#VALUE!"}},{"$error":"#VALUE!"},{"$error":"#VALUE!"},{"$error":"#VALUE!"}]
[71,1.2391837689159739,{"$f":"Burmester($B$3:$C$3,$B$4:$C$4,$B$5:$C$5,$E$3,$E$4,$E$5,B157)","v":{"$error":"#VALUE!"}},{"$error":"#VALUE!"},{"$f":"ThreePosition_Basic2($E$3,$E$5,$B$3:$C$3,$B$5:$C$5,B157,C157)","v":{"$error":"#VALUE!"}},{"$error":"#VALUE!"},{"$error":"#VALUE!"},{"$error":"#VALUE!"},{"$f":"ThreePosition_Basic2($E$3,$E$5,$B$3:$C$3,$B$5:$C$5,B157,D157)","v":{"$error":"#VALUE!"}},{"$error":"#VALUE!"},{"$error":"#VALUE!"},{"$error":"#VALUE!"},null,{"$f":"Burmester($B$3:$C$3,$B$4:$C$4,$B$6:$C$6,$E$3,$E$4,$E$6,B157)","v":{"$error":"#VALUE!"}},{"$error":"#VALUE!"},{"$f":"ThreePosition_Basic2($E$3,$E$6,$B$3:$C$3,$B$6:$C$6,B157,N157)","v":{"$error":"#VALUE!"}},{"$error":"#VALUE!"},{"$error":"#VALUE!"},{"$error":"#VALUE!"},{"$f":"ThreePosition_Basic2($E$3,$E$6,$B$3:$C$3,$B$6:$C$6,B157,O157)","v":{"$error":"#VALUE!"}},{"$error":"#VALUE!"},{"$error":"#VALUE!"},{"$error":"#VALUE!"}]
[71.5,1.2479104151759457,{"$f":"Burmester($B$3:$C$3,$B$4:$C$4,$B$5:$C$5,$E$3,$E$4,$E$5,B158)","v":{"$error":"#VALUE!"}},{"$error":"#VALUE!"},{"$f":"ThreePosition_Basic2($E$3,$E$5,$B$3:$C$3,$B$5:$C$5,B158,C158)","v":{"$error":"#VALUE!"}},{"$error":"#VALUE!"},{"$error":"#VALUE!"},{"$error":"#VALUE!"},{"$f":"ThreePosition_Basic2($E$3,$E$5,$B$3:$C$3,$B$5:$C$5,B158,D158)","v":{"$error":"#VALUE!"}},{"$error":"#VALUE!"},{"$error":"#VALUE!"},{"$error":"#VALUE!"},null,{"$f":"Burmester($B$3:$C$3,$B$4:$C$4,$B$6:$C$6,$E$3,$E$4,$E$6,B158)","v":{"$error":"#VALUE!"}},{"$error":"#VALUE!"},{"$f":"ThreePosition_Basic2($E$3,$E$6,$B$3:$C$3,$B$6:$C$6,B158,N158)","v":{"$error":"#VALUE!"}},{"$error":"#VALUE!"},{"$error":"#VALUE!"},{"$error":"#VALUE!"},{"$f":"ThreePosition_Basic2($E$3,$E$6,$B$3:$C$3,$B$6:$C$6,B158,O158)","v":{"$error":"#VALUE!"}},{"$error":"#VALUE!"},{"$error":"#VALUE!"},{"$error":"#VALUE!"}]
[72,1.2566370614359172,{"$f":"Burmester($B$3:$C$3,$B$4:$C$4,$B$5:$C$5,$E$3,$E$4,$E$5,B159)","v":{"$error":"#VALUE!"}},{"$error":"#VALUE!"},{"$f":"ThreePosition_Basic2($E$3,$E$5,$B$3:$C$3,$B$5:$C$5,B159,C159)","v":{"$error":"#VALUE!"}},{"$error":"#VALUE!"},{"$error":"#VALUE!"},{"$error":"#VALUE!"},{"$f":"ThreePosition_Basic2($E$3,$E$5,$B$3:$C$3,$B$5:$C$5,B159,D159)","v":{"$error":"#VALUE!"}},{"$error":"#VALUE!"},{"$error":"#VALUE!"},{"$error":"#VALUE!"},null,{"$f":"Burmester($B$3:$C$3,$B$4:$C$4,$B$6:$C$6,$E$3,$E$4,$E$6,B159)","v":{"$error":"#VALUE!"}},{"$error":"#VALUE!"},{"$f":"ThreePosition_Basic2($E$3,$E$6,$B$3:$C$3,$B$6:$C$6,B159,N159)","v":{"$error":"#VALUE!"}},{"$error":"#VALUE!"},{"$error":"#VALUE!"},{"$error":"#VALUE!"},{"$f":"ThreePosition_Basic2($E$3,$E$6,$B$3:$C$3,$B$6:$C$6,B159,O159)","v":{"$error":"#VALUE!"}},{"$error":"#VALUE!"},{"$error":"#VALUE!"},{"$error":"#VALUE!"}]
[72.5,1.2653637076958888,{"$f":"Burmester($B$3:$C$3,$B$4:$C$4,$B$5:$C$5,$E$3,$E$4,$E$5,B160)","v":{"$error":"#VALUE!"}},{"$error":"#VALUE!"},{"$f":"ThreePosition_Basic2($E$3,$E$5,$B$3:$C$3,$B$5:$C$5,B160,C160)","v":{"$error":"#VALUE!"}},{"$error":"#VALUE!"},{"$error":"#VALUE!"},{"$error":"#VALUE!"},{"$f":"ThreePosition_Basic2($E$3,$E$5,$B$3:$C$3,$B$5:$C$5,B160,D160)","v":{"$error":"#VALUE!"}},{"$error":"#VALUE!"},{"$error":"#VALUE!"},{"$error":"#VALUE!"},null,{"$f":"Burmester($B$3:$C$3,$B$4:$C$4,$B$6:$C$6,$E$3,$E$4,$E$6,B160)","v":{"$error":"#VALUE!"}},{"$error":"#VALUE!"},{"$f":"ThreePosition_Basic2($E$3,$E$6,$B$3:$C$3,$B$6:$C$6,B160,N160)","v":{"$error":"#VALUE!"}},{"$error":"#VALUE!"},{"$error":"#VALUE!"},{"$error":"#VALUE!"},{"$f":"ThreePosition_Basic2($E$3,$E$6,$B$3:$C$3,$B$6:$C$6,B160,O160)","v":{"$error":"#VALUE!"}},{"$error":"#VALUE!"},{"$error":"#VALUE!"},{"$error":"#VALUE!"}]
[73,1.2740903539558606,{"$f":"Burmester($B$3:$C$3,$B$4:$C$4,$B$5:$C$5,$E$3,$E$4,$E$5,B161)","v":{"$error":"#VALUE!"}},{"$error":"#VALUE!"},{"$f":"ThreePosition_Basic2($E$3,$E$5,$B$3:$C$3,$B$5:$C$5,B161,C161)","v":{"$error":"#VALUE!"}},{"$error":"#VALUE!"},{"$error":"#VALUE!"},{"$error":"#VALUE!"},{"$f":"ThreePosition_Basic2($E$3,$E$5,$B$3:$C$3,$B$5:$C$5,B161,D161)","v":{"$error":"#VALUE!"}},{"$error":"#VALUE!"},{"$error":"#VALUE!"},{"$error":"#VALUE!"},null,{"$f":"Burmester($B$3:$C$3,$B$4:$C$4,$B$6:$C$6,$E$3,$E$4,$E$6,B161)","v":{"$error":"#VALUE!"}},{"$error":"#VALUE!"},{"$f":"ThreePosition_Basic2($E$3,$E$6,$B$3:$C$3,$B$6:$C$6,B161,N161)","v":{"$error":"#VALUE!"}},{"$error":"#VALUE!"},{"$error":"#VALUE!"},{"$error":"#VALUE!"},{"$f":"ThreePosition_Basic2($E$3,$E$6,$B$3:$C$3,$B$6:$C$6,B161,O161)","v":{"$error":"#VALUE!"}},{"$error":"#VALUE!"},{"$error":"#VALUE!"},{"$error":"#VALUE!"}]
[73.5,1.2828170002158323,{"$f":"Burmester($B$3:$C$3,$B$4:$C$4,$B$5:$C$5,$E$3,$E$4,$E$5,B162)","v":{"$error":"#VALUE!"}},{"$error":"#VALUE!"},{"$f":"ThreePosition_Basic2($E$3,$E$5,$B$3:$C$3,$B$5:$C$5,B162,C162)","v":{"$error":"#VALUE!"}},{"$error":"#VALUE!"},{"$error":"#VALUE!"},{"$error":"#VALUE!"},{"$f":"ThreePosition_Basic2($E$3,$E$5,$B$3:$C$3,$B$5:$C$5,B162,D162)","v":{"$error":"#VALUE!"}},{"$error":"#VALUE!"},{"$error":"#VALUE!"},{"$error":"#VALUE!"},null,{"$f":"Burmester($B$3:$C$3,$B$4:$C$4,$B$6:$C$6,$E$3,$E$4,$E$6,B162)","v":{"$error":"#VALUE!"}},{"$error":"#VALUE!"},{"$f":"ThreePosition_Basic2($E$3,$E$6,$B$3:$C$3,$B$6:$C$6,B162,N162)","v":{"$error":"#VALUE!"}},{"$error":"#VALUE!"},{"$error":"#VALUE!"},{"$error":"#VALUE!"},{"$f":"ThreePosition_Basic2($E$3,$E$6,$B$3:$C$3,$B$6:$C$6,B162,O162)","v":{"$error":"#VALUE!"}},{"$error":"#VALUE!"},{"$error":"#VALUE!"},{"$error":"#VALUE!"}]
[74,1.2915436464758039,{"$f":"Burmester($B$3:$C$3,$B$4:$C$4,$B$5:$C$5,$E$3,$E$4,$E$5,B163)","v":{"$error":"#VALUE!"}},{"$error":"#VALUE!"},{"$f":"ThreePosition_Basic2($E$3,$E$5,$B$3:$C$3,$B$5:$C$5,B163,C163)","v":{"$error":"#VALUE!"}},{"$error":"#VALUE!"},{"$error":"#VALUE!"},{"$error":"#VALUE!"},{"$f":"ThreePosition_Basic2($E$3,$E$5,$B$3:$C$3,$B$5:$C$5,B163,D163)","v":{"$error":"#VALUE!"}},{"$error":"#VALUE!"},{"$error":"#VALUE!"},{"$error":"#VALUE!"},null,{"$f":"Burmester($B$3:$C$3,$B$4:$C$4,$B$6:$C$6,$E$3,$E$4,$E$6,B163)","v":{"$error":"#VALUE!"}},{"$error":"#VALUE!"},{"$f":"ThreePosition_Basic2($E$3,$E$6,$B$3:$C$3,$B$6:$C$6,B163,N163)","v":{"$error":"#VALUE!"}},{"$error":"#VALUE!"},{"$error":"#VALUE!"},{"$error":"#VALUE!"},{"$f":"ThreePosition_Basic2($E$3,$E$6,$B$3:$C$3,$B$6:$C$6,B163,O163)","v":{"$error":"#VALUE!"}},{"$error":"#VALUE!"},{"$error":"#VALUE!"},{"$error":"#VALUE!"}]
[74.5,1.3002702927357754,{"$f":"Burmester($B$3:$C$3,$B$4:$C$4,$B$5:$C$5,$E$3,$E$4,$E$5,B164)","v":{"$error":"#VALUE!"}},{"$error":"#VALUE!"},{"$f":"ThreePosition_Basic2($E$3,$E$5,$B$3:$C$3,$B$5:$C$5,B164,C164)","v":{"$error":"#VALUE!"}},{"$error":"#VALUE!"},{"$error":"#VALUE!"},{"$error":"#VALUE!"},{"$f":"ThreePosition_Basic2($E$3,$E$5,$B$3:$C$3,$B$5:$C$5,B164,D164)","v":{"$error":"#VALUE!"}},{"$error":"#VALUE!"},{"$error":"#VALUE!"},{"$error":"#VALUE!"},null,{"$f":"Burmester($B$3:$C$3,$B$4:$C$4,$B$6:$C$6,$E$3,$E$4,$E$6,B164)","v":{"$error":"#VALUE!"}},{"$error":"#VALUE!"},{"$f":"ThreePosition_Basic2($E$3,$E$6,$B$3:$C$3,$B$6:$C$6,B164,N164)","v":{"$error":"#VALUE!"}},{"$error":"#VALUE!"},{"$error":"#VALUE!"},{"$error":"#VALUE!"},{"$f":"ThreePosition_Basic2($E$3,$E$6,$B$3:$C$3,$B$6:$C$6,B164,O164)","v":{"$error":"#VALUE!"}},{"$error":"#VALUE!"},{"$error":"#VALUE!"},{"$error":"#VALUE!"}]
[75,1.3089969389957472,{"$f":"Burmester($B$3:$C$3,$B$4:$C$4,$B$5:$C$5,$E$3,$E$4,$E$5,B165)","v":{"$error":"#VALUE!"}},{"$error":"#VALUE!"},{"$f":"ThreePosition_Basic2($E$3,$E$5,$B$3:$C$3,$B$5:$C$5,B165,C165)","v":{"$error":"#VALUE!"}},{"$error":"#VALUE!"},{"$error":"#VALUE!"},{"$error":"#VALUE!"},{"$f":"ThreePosition_Basic2($E$3,$E$5,$B$3:$C$3,$B$5:$C$5,B165,D165)","v":{"$error":"#VALUE!"}},{"$error":"#VALUE!"},{"$error":"#VALUE!"},{"$error":"#VALUE!"},null,{"$f":"Burmester($B$3:$C$3,$B$4:$C$4,$B$6:$C$6,$E$3,$E$4,$E$6,B165)","v":{"$error":"#VALUE!"}},{"$error":"#VALUE!"},{"$f":"ThreePosition_Basic2($E$3,$E$6,$B$3:$C$3,$B$6:$C$6,B165,N165)","v":{"$error":"#VALUE!"}},{"$error":"#VALUE!"},{"$error":"#VALUE!"},{"$error":"#VALUE!"},{"$f":"ThreePosition_Basic2($E$3,$E$6,$B$3:$C$3,$B$6:$C$6,B165,O165)","v":{"$error":"#VALUE!"}},{"$error":"#VALUE!"},{"$error":"#VALUE!"},{"$error":"#VALUE!"}]
[75.5,1.3177235852557188,{"$f":"Burmester($B$3:$C$3,$B$4:$C$4,$B$5:$C$5,$E$3,$E$4,$E$5,B166)","v":{"$error":"#VALUE!"}},{"$error":"#VALUE!"},{"$f":"ThreePosition_Basic2($E$3,$E$5,$B$3:$C$3,$B$5:$C$5,B166,C166)","v":{"$error":"#VALUE!"}},{"$error":"#VALUE!"},{"$error":"#VALUE!"},{"$error":"#VALUE!"},{"$f":"ThreePosition_Basic2($E$3,$E$5,$B$3:$C$3,$B$5:$C$5,B166,D166)","v":{"$error":"#VALUE!"}},{"$error":"#VALUE!"},{"$error":"#VALUE!"},{"$error":"#VALUE!"},null,{"$f":"Burmester($B$3:$C$3,$B$4:$C$4,$B$6:$C$6,$E$3,$E$4,$E$6,B166)","v":{"$error":"#VALUE!"}},{"$error":"#VALUE!"},{"$f":"ThreePosition_Basic2($E$3,$E$6,$B$3:$C$3,$B$6:$C$6,B166,N166)","v":{"$error":"#VALUE!"}},{"$error":"#VALUE!"},{"$error":"#VALUE!"},{"$error":"#VALUE!"},{"$f":"ThreePosition_Basic2($E$3,$E$6,$B$3:$C$3,$B$6:$C$6,B166,O166)","v":{"$error":"#VALUE!"}},{"$error":"#VALUE!"},{"$error":"#VALUE!"},{"$error":"#VALUE!"}]
[76,1.3264502315156903,{"$f":"Burmester($B$3:$C$3,$B$4:$C$4,$B$5:$C$5,$E$3,$E$4,$E$5,B167)","v":{"$error":"#VALUE!"}},{"$error":"#VALUE!"},{"$f":"ThreePosition_Basic2($E$3,$E$5,$B$3:$C$3,$B$5:$C$5,B167,C167)","v":{"$error":"#VALUE!"}},{"$error":"#VALUE!"},{"$error":"#VALUE!"},{"$error":"#VALUE!"},{"$f":"ThreePosition_Basic2($E$3,$E$5,$B$3:$C$3,$B$5:$C$5,B167,D167)","v":{"$error":"#VALUE!"}},{"$error":"#VALUE!"},{"$error":"#VALUE!"},{"$error":"#VALUE!"},null,{"$f":"Burmester($B$3:$C$3,$B$4:$C$4,$B$6:$C$6,$E$3,$E$4,$E$6,B167)","v":{"$error":"#VALUE!"}},{"$error":"#VALUE!"},{"$f":"ThreePosition_Basic2($E$3,$E$6,$B$3:$C$3,$B$6:$C$6,B167,N167)","v":{"$error":"#VALUE!"}},{"$error":"#VALUE!"},{"$error":"#VALUE!"},{"$error":"#VALUE!"},{"$f":"ThreePosition_Basic2($E$3,$E$6,$B$3:$C$3,$B$6:$C$6,B167,O167)","v":{"$error":"#VALUE!"}},{"$error":"#VALUE!"},{"$error":"#VALUE!"},{"$error":"#VALUE!"}]
[76.5,1.3351768777756621,{"$f":"Burmester($B$3:$C$3,$B$4:$C$4,$B$5:$C$5,$E$3,$E$4,$E$5,B168)","v":{"$error":"#VALUE!"}},{"$error":"#VALUE!"},{"$f":"ThreePosition_Basic2($E$3,$E$5,$B$3:$C$3,$B$5:$C$5,B168,C168)","v":{"$error":"#VALUE!"}},{"$error":"#VALUE!"},{"$error":"#VALUE!"},{"$error":"#VALUE!"},{"$f":"ThreePosition_Basic2($E$3,$E$5,$B$3:$C$3,$B$5:$C$5,B168,D168)","v":{"$error":"#VALUE!"}},{"$error":"#VALUE!"},{"$error":"#VALUE!"},{"$error":"#VALUE!"},null,{"$f":"Burmester($B$3:$C$3,$B$4:$C$4,$B$6:$C$6,$E$3,$E$4,$E$6,B168)","v":{"$error":"#VALUE!"}},{"$error":"#VALUE!"},{"$f":"ThreePosition_Basic2($E$3,$E$6,$B$3:$C$3,$B$6:$C$6,B168,N168)","v":{"$error":"#VALUE!"}},{"$error":"#VALUE!"},{"$error":"#VALUE!"},{"$error":"#VALUE!"},{"$f":"ThreePosition_Basic2($E$3,$E$6,$B$3:$C$3,$B$6:$C$6,B168,O168)","v":{"$error":"#VALUE!"}},{"$error":"#VALUE!"},{"$error":"#VALUE!"},{"$error":"#VALUE!"}]
[77,1.3439035240356338,{"$f":"Burmester($B$3:$C$3,$B$4:$C$4,$B$5:$C$5,$E$3,$E$4,$E$5,B169)","v":{"$error":"#VALUE!"}},{"$error":"#VALUE!"},{"$f":"ThreePosition_Basic2($E$3,$E$5,$B$3:$C$3,$B$5:$C$5,B169,C169)","v":{"$error":"#VALUE!"}},{"$error":"#VALUE!"},{"$error":"#VALUE!"},{"$error":"#VALUE!"},{"$f":"ThreePosition_Basic2($E$3,$E$5,$B$3:$C$3,$B$5:$C$5,B169,D169)","v":{"$error":"#VALUE!"}},{"$error":"#VALUE!"},{"$error":"#VALUE!"},{"$error":"#VALUE!"},null,{"$f":"Burmester($B$3:$C$3,$B$4:$C$4,$B$6:$C$6,$E$3,$E$4,$E$6,B169)","v":{"$error":"#VALUE!"}},{"$error":"#VALUE!"},{"$f":"ThreePosition_Basic2($E$3,$E$6,$B$3:$C$3,$B$6:$C$6,B169,N169)","v":{"$error":"#VALUE!"}},{"$error":"#VALUE!"},{"$error":"#VALUE!"},{"$error":"#VALUE!"},{"$f":"ThreePosition_Basic2($E$3,$E$6,$B$3:$C$3,$B$6:$C$6,B169,O169)","v":{"$error":"#VALUE!"}},{"$error":"#VALUE!"},{"$error":"#VALUE!"},{"$error":"#VALUE!"}]
[77.5,1.3526301702956054,{"$f":"Burmester($B$3:$C$3,$B$4:$C$4,$B$5:$C$5,$E$3,$E$4,$E$5,B170)","v":{"$error":"#VALUE!"}},{"$error":"#VALUE!"},{"$f":"ThreePosition_Basic2($E$3,$E$5,$B$3:$C$3,$B$5:$C$5,B170,C170)","v":{"$error":"#VALUE!"}},{"$error":"#VALUE!"},{"$error":"#VALUE!"},{"$error":"#VALUE!"},{"$f":"ThreePosition_Basic2($E$3,$E$5,$B$3:$C$3,$B$5:$C$5,B170,D170)","v":{"$error":"#VALUE!"}},{"$error":"#VALUE!"},{"$error":"#VALUE!"},{"$error":"#VALUE!"},null,{"$f":"Burmester($B$3:$C$3,$B$4:$C$4,$B$6:$C$6,$E$3,$E$4,$E$6,B170)","v":{"$error":"#VALUE!"}},{"$error":"#VALUE!"},{"$f":"ThreePosition_Basic2($E$3,$E$6,$B$3:$C$3,$B$6:$C$6,B170,N170)","v":{"$error":"#VALUE!"}},{"$error":"#VALUE!"},{"$error":"#VALUE!"},{"$error":"#VALUE!"},{"$f":"ThreePosition_Basic2($E$3,$E$6,$B$3:$C$3,$B$6:$C$6,B170,O170)","v":{"$error":"#VALUE!"}},{"$error":"#VALUE!"},{"$error":"#VALUE!"},{"$error":"#VALUE!"}]
[78,1.3613568165555769,{"$f":"Burmester($B$3:$C$3,$B$4:$C$4,$B$5:$C$5,$E$3,$E$4,$E$5,B171)","v":{"$error":"#VALUE!"}},{"$error":"#VALUE!"},{"$f":"ThreePosition_Basic2($E$3,$E$5,$B$3:$C$3,$B$5:$C$5,B171,C171)","v":{"$error":"#VALUE!"}},{"$error":"#VALUE!"},{"$error":"#VALUE!"},{"$error":"#VALUE!"},{"$f":"ThreePosition_Basic2($E$3,$E$5,$B$3:$C$3,$B$5:$C$5,B171,D171)","v":{"$error":"#VALUE!"}},{"$error":"#VALUE!"},{"$error":"#VALUE!"},{"$error":"#VALUE!"},null,{"$f":"Burmester($B$3:$C$3,$B$4:$C$4,$B$6:$C$6,$E$3,$E$4,$E$6,B171)","v":{"$error":"#VALUE!"}},{"$error":"#VALUE!"},{"$f":"ThreePosition_Basic2($E$3,$E$6,$B$3:$C$3,$B$6:$C$6,B171,N171)","v":{"$error":"#VALUE!"}},{"$error":"#VALUE!"},{"$error":"#VALUE!"},{"$error":"#VALUE!"},{"$f":"ThreePosition_Basic2($E$3,$E$6,$B$3:$C$3,$B$6:$C$6,B171,O171)","v":{"$error":"#VALUE!"}},{"$error":"#VALUE!"},{"$error":"#VALUE!"},{"$error":"#VALUE!"}]
[78.5,1.3700834628155485,{"$f":"Burmester($B$3:$C$3,$B$4:$C$4,$B$5:$C$5,$E$3,$E$4,$E$5,B172)","v":{"$error":"#VALUE!"}},{"$error":"#VALUE!"},{"$f":"ThreePosition_Basic2($E$3,$E$5,$B$3:$C$3,$B$5:$C$5,B172,C172)","v":{"$error":"#VALUE!"}},{"$error":"#VALUE!"},{"$error":"#VALUE!"},{"$error":"#VALUE!"},{"$f":"ThreePosition_Basic2($E$3,$E$5,$B$3:$C$3,$B$5:$C$5,B172,D172)","v":{"$error":"#VALUE!"}},{"$error":"#VALUE!"},{"$error":"#VALUE!"},{"$error":"#VALUE!"},null,{"$f":"Burmester($B$3:$C$3,$B$4:$C$4,$B$6:$C$6,$E$3,$E$4,$E$6,B172)","v":{"$error":"#VALUE!"}},{"$error":"#VALUE!"},{"$f":"ThreePosition_Basic2($E$3,$E$6,$B$3:$C$3,$B$6:$C$6,B172,N172)","v":{"$error":"#VALUE!"}},{"$error":"#VALUE!"},{"$error":"#VALUE!"},{"$error":"#VALUE!"},{"$f":"ThreePosition_Basic2($E$3,$E$6,$B$3:$C$3,$B$6:$C$6,B172,O172)","v":{"$error":"#VALUE!"}},{"$error":"#VALUE!"},{"$error":"#VALUE!"},{"$error":"#VALUE!"}]
[79,1.3788101090755203,{"$f":"Burmester($B$3:$C$3,$B$4:$C$4,$B$5:$C$5,$E$3,$E$4,$E$5,B173)","v":{"$error":"#VALUE!"}},{"$error":"#VALUE!"},{"$f":"ThreePosition_Basic2($E$3,$E$5,$B$3:$C$3,$B$5:$C$5,B173,C173)","v":{"$error":"#VALUE!"}},{"$error":"#VALUE!"},{"$error":"#VALUE!"},{"$error":"#VALUE!"},{"$f":"ThreePosition_Basic2($E$3,$E$5,$B$3:$C$3,$B$5:$C$5,B173,D173)","v":{"$error":"#VALUE!"}},{"$error":"#VALUE!"},{"$error":"#VALUE!"},{"$error":"#VALUE!"},null,{"$f":"Burmester($B$3:$C$3,$B$4:$C$4,$B$6:$C$6,$E$3,$E$4,$E$6,B173)","v":{"$error":"#VALUE!"}},{"$error":"#VALUE!"},{"$f":"ThreePosition_Basic2($E$3,$E$6,$B$3:$C$3,$B$6:$C$6,B173,N173)","v":{"$error":"#VALUE!"}},{"$error":"#VALUE!"},{"$error":"#VALUE!"},{"$error":"#VALUE!"},{"$f":"ThreePosition_Basic2($E$3,$E$6,$B$3:$C$3,$B$6:$C$6,B173,O173)","v":{"$error":"#VALUE!"}},{"$error":"#VALUE!"},{"$error":"#VALUE!"},{"$error":"#VALUE!"}]
[79.5,1.387536755335492,{"$f":"Burmester($B$3:$C$3,$B$4:$C$4,$B$5:$C$5,$E$3,$E$4,$E$5,B174)","v":{"$error":"#VALUE!"}},{"$error":"#VALUE!"},{"$f":"ThreePosition_Basic2($E$3,$E$5,$B$3:$C$3,$B$5:$C$5,B174,C174)","v":{"$error":"#VALUE!"}},{"$error":"#VALUE!"},{"$error":"#VALUE!"},{"$error":"#VALUE!"},{"$f":"ThreePosition_Basic2($E$3,$E$5,$B$3:$C$3,$B$5:$C$5,B174,D174)","v":{"$error":"#VALUE!"}},{"$error":"#VALUE!"},{"$error":"#VALUE!"},{"$error":"#VALUE!"},null,{"$f":"Burmester($B$3:$C$3,$B$4:$C$4,$B$6:$C$6,$E$3,$E$4,$E$6,B174)","v":{"$error":"#VALUE!"}},{"$error":"#VALUE!"},{"$f":"ThreePosition_Basic2($E$3,$E$6,$B$3:$C$3,$B$6:$C$6,B174,N174)","v":{"$error":"#VALUE!"}},{"$error":"#VALUE!"},{"$error":"#VALUE!"},{"$error":"#VALUE!"},{"$f":"ThreePosition_Basic2($E$3,$E$6,$B$3:$C$3,$B$6:$C$6,B174,O174)","v":{"$error":"#VALUE!"}},{"$error":"#VALUE!"},{"$error":"#VALUE!"},{"$error":"#VALUE!"}]
[80,1.3962634015954636,{"$f":"Burmester($B$3:$C$3,$B$4:$C$4,$B$5:$C$5,$E$3,$E$4,$E$5,B175)","v":{"$error":"#VALUE!"}},{"$error":"#VALUE!"},{"$f":"ThreePosition_Basic2($E$3,$E$5,$B$3:$C$3,$B$5:$C$5,B175,C175)","v":{"$error":"#VALUE!"}},{"$error":"#VALUE!"},{"$error":"#VALUE!"},{"$error":"#VALUE!"},{"$f":"ThreePosition_Basic2($E$3,$E$5,$B$3:$C$3,$B$5:$C$5,B175,D175)","v":{"$error":"#VALUE!"}},{"$error":"#VALUE!"},{"$error":"#VALUE!"},{"$error":"#VALUE!"},null,{"$f":"Burmester($B$3:$C$3,$B$4:$C$4,$B$6:$C$6,$E$3,$E$4,$E$6,B175)","v":{"$error":"#VALUE!"}},{"$error":"#VALUE!"},{"$f":"ThreePosition_Basic2($E$3,$E$6,$B$3:$C$3,$B$6:$C$6,B175,N175)","v":{"$error":"#VALUE!"}},{"$error":"#VALUE!"},{"$error":"#VALUE!"},{"$error":"#VALUE!"},{"$f":"ThreePosition_Basic2($E$3,$E$6,$B$3:$C$3,$B$6:$C$6,B175,O175)","v":{"$error":"#VALUE!"}},{"$error":"#VALUE!"},{"$error":"#VALUE!"},{"$error":"#VALUE!"}]
[80.5,1.4049900478554351,{"$f":"Burmester($B$3:$C$3,$B$4:$C$4,$B$5:$C$5,$E$3,$E$4,$E$5,B176)","v":{"$error":"#VALUE!"}},{"$error":"#VALUE!"},{"$f":"ThreePosition_Basic2($E$3,$E$5,$B$3:$C$3,$B$5:$C$5,B176,C176)","v":{"$error":"#VALUE!"}},{"$error":"#VALUE!"},{"$error":"#VALUE!"},{"$error":"#VALUE!"},{"$f":"ThreePosition_Basic2($E$3,$E$5,$B$3:$C$3,$B$5:$C$5,B176,D176)","v":{"$error":"#VALUE!"}},{"$error":"#VALUE!"},{"$error":"#VALUE!"},{"$error":"#VALUE!"},null,{"$f":"Burmester($B$3:$C$3,$B$4:$C$4,$B$6:$C$6,$E$3,$E$4,$E$6,B176)","v":{"$error":"#VALUE!"}},{"$error":"#VALUE!"},{"$f":"ThreePosition_Basic2($E$3,$E$6,$B$3:$C$3,$B$6:$C$6,B176,N176)","v":{"$error":"#VALUE!"}},{"$error":"#VALUE!"},{"$error":"#VALUE!"},{"$error":"#VALUE!"},{"$f":"ThreePosition_Basic2($E$3,$E$6,$B$3:$C$3,$B$6:$C$6,B176,O176)","v":{"$error":"#VALUE!"}},{"$error":"#VALUE!"},{"$error":"#VALUE!"},{"$error":"#VALUE!"}]
[81,1.4137166941154069,{"$f":"Burmester($B$3:$C$3,$B$4:$C$4,$B$5:$C$5,$E$3,$E$4,$E$5,B177)","v":{"$error":"#VALUE!"}},{"$error":"#VALUE!"},{"$f":"ThreePosition_Basic2($E$3,$E$5,$B$3:$C$3,$B$5:$C$5,B177,C177)","v":{"$error":"#VALUE!"}},{"$error":"#VALUE!"},{"$error":"#VALUE!"},{"$error":"#VALUE!"},{"$f":"ThreePosition_Basic2($E$3,$E$5,$B$3:$C$3,$B$5:$C$5,B177,D177)","v":{"$error":"#VALUE!"}},{"$error":"#VALUE!"},{"$error":"#VALUE!"},{"$error":"#VALUE!"},null,{"$f":"Burmester($B$3:$C$3,$B$4:$C$4,$B$6:$C$6,$E$3,$E$4,$E$6,B177)","v":{"$error":"#VALUE!"}},{"$error":"#VALUE!"},{"$f":"ThreePosition_Basic2($E$3,$E$6,$B$3:$C$3,$B$6:$C$6,B177,N177)","v":{"$error":"#VALUE!"}},{"$error":"#VALUE!"},{"$error":"#VALUE!"},{"$error":"#VALUE!"},{"$f":"ThreePosition_Basic2($E$3,$E$6,$B$3:$C$3,$B$6:$C$6,B177,O177)","v":{"$error":"#VALUE!"}},{"$error":"#VALUE!"},{"$error":"#VALUE!"},{"$error":"#VALUE!"}]
[81.5,1.4224433403753785,{"$f":"Burmester($B$3:$C$3,$B$4:$C$4,$B$5:$C$5,$E$3,$E$4,$E$5,B178)","v":{"$error":"#VALUE!"}},{"$error":"#VALUE!"},{"$f":"ThreePosition_Basic2($E$3,$E$5,$B$3:$C$3,$B$5:$C$5,B178,C178)","v":{"$error":"#VALUE!"}},{"$error":"#VALUE!"},{"$error":"#VALUE!"},{"$error":"#VALUE!"},{"$f":"ThreePosition_Basic2($E$3,$E$5,$B$3:$C$3,$B$5:$C$5,B178,D178)","v":{"$error":"#VALUE!"}},{"$error":"#VALUE!"},{"$error":"#VALUE!"},{"$error":"#VALUE!"},null,{"$f":"Burmester($B$3:$C$3,$B$4:$C$4,$B$6:$C$6,$E$3,$E$4,$E$6,B178)","v":{"$error":"#VALUE!"}},{"$error":"#VALUE!"},{"$f":"ThreePosition_Basic2($E$3,$E$6,$B$3:$C$3,$B$6:$C$6,B178,N178)","v":{"$error":"#VALUE!"}},{"$error":"#VALUE!"},{"$error":"#VALUE!"},{"$error":"#VALUE!"},{"$f":"ThreePosition_Basic2($E$3,$E$6,$B$3:$C$3,$B$6:$C$6,B178,O178)","v":{"$error":"#VALUE!"}},{"$error":"#VALUE!"},{"$error":"#VALUE!"},{"$error":"#VALUE!"}]
[82,1.43116998663535,{"$f":"Burmester($B$3:$C$3,$B$4:$C$4,$B$5:$C$5,$E$3,$E$4,$E$5,B179)","v":{"$error":"#VALUE!"}},{"$error":"#VALUE!"},{"$f":"ThreePosition_Basic2($E$3,$E$5,$B$3:$C$3,$B$5:$C$5,B179,C179)","v":{"$error":"#VALUE!"}},{"$error":"#VALUE!"},{"$error":"#VALUE!"},{"$error":"#VALUE!"},{"$f":"ThreePosition_Basic2($E$3,$E$5,$B$3:$C$3,$B$5:$C$5,B179,D179)","v":{"$error":"#VALUE!"}},{"$error":"#VALUE!"},{"$error":"#VALUE!"},{"$error":"#VALUE!"},null,{"$f":"Burmester($B$3:$C$3,$B$4:$C$4,$B$6:$C$6,$E$3,$E$4,$E$6,B179)","v":{"$error":"#VALUE!"}},{"$error":"#VALUE!"},{"$f":"ThreePosition_Basic2($E$3,$E$6,$B$3:$C$3,$B$6:$C$6,B179,N179)","v":{"$error":"#VALUE!"}},{"$error":"#VALUE!"},{"$error":"#VALUE!"},{"$error":"#VALUE!"},{"$f":"ThreePosition_Basic2($E$3,$E$6,$B$3:$C$3,$B$6:$C$6,B179,O179)","v":{"$error":"#VALUE!"}},{"$error":"#VALUE!"},{"$error":"#VALUE!"},{"$error":"#VALUE!"}]
[82.5,1.4398966328953218,{"$f":"Burmester($B$3:$C$3,$B$4:$C$4,$B$5:$C$5,$E$3,$E$4,$E$5,B180)","v":{"$error":"#VALUE!"}},{"$error":"#VALUE!"},{"$f":"ThreePosition_Basic2($E$3,$E$5,$B$3:$C$3,$B$5:$C$5,B180,C180)","v":{"$error":"#VALUE!"}},{"$error":"#VALUE!"},{"$error":"#VALUE!"},{"$error":"#VALUE!"},{"$f":"ThreePosition_Basic2($E$3,$E$5,$B$3:$C$3,$B$5:$C$5,B180,D180)","v":{"$error":"#VALUE!"}},{"$error":"#VALUE!"},{"$error":"#VALUE!"},{"$error":"#VALUE!"},null,{"$f":"Burmester($B$3:$C$3,$B$4:$C$4,$B$6:$C$6,$E$3,$E$4,$E$6,B180)","v":{"$error":"#VALUE!"}},{"$error":"#VALUE!"},{"$f":"ThreePosition_Basic2($E$3,$E$6,$B$3:$C$3,$B$6:$C$6,B180,N180)","v":{"$error":"#VALUE!"}},{"$error":"#VALUE!"},{"$error":"#VALUE!"},{"$error":"#VALUE!"},{"$f":"ThreePosition_Basic2($E$3,$E$6,$B$3:$C$3,$B$6:$C$6,B180,O180)","v":{"$error":"#VALUE!"}},{"$error":"#VALUE!"},{"$error":"#VALUE!"},{"$error":"#VALUE!"}]
[83,1.4486232791552935,{"$f":"Burmester($B$3:$C$3,$B$4:$C$4,$B$5:$C$5,$E$3,$E$4,$E$5,B181)","v":{"$error":"#VALUE!"}},{"$error":"#VALUE!"},{"$f":"ThreePosition_Basic2($E$3,$E$5,$B$3:$C$3,$B$5:$C$5,B181,C181)","v":{"$error":"#VALUE!"}},{"$error":"#VALUE!"},{"$error":"#VALUE!"},{"$error":"#VALUE!"},{"$f":"ThreePosition_Basic2($E$3,$E$5,$B$3:$C$3,$B$5:$C$5,B181,D181)","v":{"$error":"#VALUE!"}},{"$error":"#VALUE!"},{"$error":"#VALUE!"},{"$error":"#VALUE!"},null,{"$f":"Burmester($B$3:$C$3,$B$4:$C$4,$B$6:$C$6,$E$3,$E$4,$E$6,B181)","v":{"$error":"#VALUE!"}},{"$error":"#VALUE!"},{"$f":"ThreePosition_Basic2($E$3,$E$6,$B$3:$C$3,$B$6:$C$6,B181,N181)","v":{"$error":"#VALUE!"}},{"$error":"#VALUE!"},{"$error":"#VALUE!"},{"$error":"#VALUE!"},{"$f":"ThreePosition_Basic2($E$3,$E$6,$B$3:$C$3,$B$6:$C$6,B181,O181)","v":{"$error":"#VALUE!"}},{"$error":"#VALUE!"},{"$error":"#VALUE!"},{"$error":"#VALUE!"}]
[83.5,1.4573499254152653,{"$f":"Burmester($B$3:$C$3,$B$4:$C$4,$B$5:$C$5,$E$3,$E$4,$E$5,B182)","v":{"$error":"#VALUE!"}},{"$error":"#VALUE!"},{"$f":"ThreePosition_Basic2($E$3,$E$5,$B$3:$C$3,$B$5:$C$5,B182,C182)","v":{"$error":"#VALUE!"}},{"$error":"#VALUE!"},{"$error":"#VALUE!"},{"$error":"#VALUE!"},{"$f":"ThreePosition_Basic2($E$3,$E$5,$B$3:$C$3,$B$5:$C$5,B182,D182)","v":{"$error":"#VALUE!"}},{"$error":"#VALUE!"},{"$error":"#VALUE!"},{"$error":"#VALUE!"},null,{"$f":"Burmester($B$3:$C$3,$B$4:$C$4,$B$6:$C$6,$E$3,$E$4,$E$6,B182)","v":{"$error":"#VALUE!"}},{"$error":"#VALUE!"},{"$f":"ThreePosition_Basic2($E$3,$E$6,$B$3:$C$3,$B$6:$C$6,B182,N182)","v":{"$error":"#VALUE!"}},{"$error":"#VALUE!"},{"$error":"#VALUE!"},{"$error":"#VALUE!"},{"$f":"ThreePosition_Basic2($E$3,$E$6,$B$3:$C$3,$B$6:$C$6,B182,O182)","v":{"$error":"#VALUE!"}},{"$error":"#VALUE!"},{"$error":"#VALUE!"},{"$error":"#VALUE!"}]
[84,1.4660765716752369,{"$f":"Burmester($B$3:$C$3,$B$4:$C$4,$B$5:$C$5,$E$3,$E$4,$E$5,B183)","v":{"$error":"#VALUE!"}},{"$error":"#VALUE!"},{"$f":"ThreePosition_Basic2($E$3,$E$5,$B$3:$C$3,$B$5:$C$5,B183,C183)","v":{"$error":"#VALUE!"}},{"$error":"#VALUE!"},{"$error":"#VALUE!"},{"$error":"#VALUE!"},{"$f":"ThreePosition_Basic2($E$3,$E$5,$B$3:$C$3,$B$5:$C$5,B183,D183)","v":{"$error":"#VALUE!"}},{"$error":"#VALUE!"},{"$error":"#VALUE!"},{"$error":"#VALUE!"},null,{"$f":"Burmester($B$3:$C$3,$B$4:$C$4,$B$6:$C$6,$E$3,$E$4,$E$6,B183)","v":{"$error":"#VALUE!"}},{"$error":"#VALUE!"},{"$f":"ThreePosition_Basic2($E$3,$E$6,$B$3:$C$3,$B$6:$C$6,B183,N183)","v":{"$error":"#VALUE!"}},{"$error":"#VALUE!"},{"$error":"#VALUE!"},{"$error":"#VALUE!"},{"$f":"ThreePosition_Basic2($E$3,$E$6,$B$3:$C$3,$B$6:$C$6,B183,O183)","v":{"$error":"#VALUE!"}},{"$error":"#VALUE!"},{"$error":"#VALUE!"},{"$error":"#VALUE!"}]
[84.5,1.4748032179352084,{"$f":"Burmester($B$3:$C$3,$B$4:$C$4,$B$5:$C$5,$E$3,$E$4,$E$5,B184)","v":{"$error":"#VALUE!"}},{"$error":"#VALUE!"},{"$f":"ThreePosition_Basic2($E$3,$E$5,$B$3:$C$3,$B$5:$C$5,B184,C184)","v":{"$error":"#VALUE!"}},{"$error":"#VALUE!"},{"$error":"#VALUE!"},{"$error":"#VALUE!"},{"$f":"ThreePosition_Basic2($E$3,$E$5,$B$3:$C$3,$B$5:$C$5,B184,D184)","v":{"$error":"#VALUE!"}},{"$error":"#VALUE!"},{"$error":"#VALUE!"},{"$error":"#VALUE!"},null,{"$f":"Burmester($B$3:$C$3,$B$4:$C$4,$B$6:$C$6,$E$3,$E$4,$E$6,B184)","v":{"$error":"#VALUE!"}},{"$error":"#VALUE!"},{"$f":"ThreePosition_Basic2($E$3,$E$6,$B$3:$C$3,$B$6:$C$6,B184,N184)","v":{"$error":"#VALUE!"}},{"$error":"#VALUE!"},{"$error":"#VALUE!"},{"$error":"#VALUE!"},{"$f":"ThreePosition_Basic2($E$3,$E$6,$B$3:$C$3,$B$6:$C$6,B184,O184)","v":{"$error":"#VALUE!"}},{"$error":"#VALUE!"},{"$error":"#VALUE!"},{"$error":"#VALUE!"}]
[85,1.4835298641951802,{"$f":"Burmester($B$3:$C$3,$B$4:$C$4,$B$5:$C$5,$E$3,$E$4,$E$5,B185)","v":{"$error":"#VALUE!"}},{"$error":"#VALUE!"},{"$f":"ThreePosition_Basic2($E$3,$E$5,$B$3:$C$3,$B$5:$C$5,B185,C185)","v":{"$error":"#VALUE!"}},{"$error":"#VALUE!"},{"$error":"#VALUE!"},{"$error":"#VALUE!"},{"$f":"ThreePosition_Basic2($E$3,$E$5,$B$3:$C$3,$B$5:$C$5,B185,D185)","v":{"$error":"#VALUE!"}},{"$error":"#VALUE!"},{"$error":"#VALUE!"},{"$error":"#VALUE!"},null,{"$f":"Burmester($B$3:$C$3,$B$4:$C$4,$B$6:$C$6,$E$3,$E$4,$E$6,B185)","v":{"$error":"#VALUE!"}},{"$error":"#VALUE!"},{"$f":"ThreePosition_Basic2($E$3,$E$6,$B$3:$C$3,$B$6:$C$6,B185,N185)","v":{"$error":"#VALUE!"}},{"$error":"#VALUE!"},{"$error":"#VALUE!"},{"$error":"#VALUE!"},{"$f":"ThreePosition_Basic2($E$3,$E$6,$B$3:$C$3,$B$6:$C$6,B185,O185)","v":{"$error":"#VALUE!"}},{"$error":"#VALUE!"},{"$error":"#VALUE!"},{"$error":"#VALUE!"}]
[85.5,1.4922565104551517,{"$f":"Burmester($B$3:$C$3,$B$4:$C$4,$B$5:$C$5,$E$3,$E$4,$E$5,B186)","v":{"$error":"#VALUE!"}},{"$error":"#VALUE!"},{"$f":"ThreePosition_Basic2($E$3,$E$5,$B$3:$C$3,$B$5:$C$5,B186,C186)","v":{"$error":"#VALUE!"}},{"$error":"#VALUE!"},{"$error":"#VALUE!"},{"$error":"#VALUE!"},{"$f":"ThreePosition_Basic2($E$3,$E$5,$B$3:$C$3,$B$5:$C$5,B186,D186)","v":{"$error":"#VALUE!"}},{"$error":"#VALUE!"},{"$error":"#VALUE!"},{"$error":"#VALUE!"},null,{"$f":"Burmester($B$3:$C$3,$B$4:$C$4,$B$6:$C$6,$E$3,$E$4,$E$6,B186)","v":{"$error":"#VALUE!"}},{"$error":"#VALUE!"},{"$f":"ThreePosition_Basic2($E$3,$E$6,$B$3:$C$3,$B$6:$C$6,B186,N186)","v":{"$error":"#VALUE!"}},{"$error":"#VALUE!"},{"$error":"#VALUE!"},{"$error":"#VALUE!"},{"$f":"ThreePosition_Basic2($E$3,$E$6,$B$3:$C$3,$B$6:$C$6,B186,O186)","v":{"$error":"#VALUE!"}},{"$error":"#VALUE!"},{"$error":"#VALUE!"},{"$error":"#VALUE!"}]
[86,1.5009831567151233,{"$f":"Burmester($B$3:$C$3,$B$4:$C$4,$B$5:$C$5,$E$3,$E$4,$E$5,B187)","v":{"$error":"#VALUE!"}},{"$error":"#VALUE!"},{"$f":"ThreePosition_Basic2($E$3,$E$5,$B$3:$C$3,$B$5:$C$5,B187,C187)","v":{"$error":"#VALUE!"}},{"$error":"#VALUE!"},{"$error":"#VALUE!"},{"$error":"#VALUE!"},{"$f":"ThreePosition_Basic2($E$3,$E$5,$B$3:$C$3,$B$5:$C$5,B187,D187)","v":{"$error":"#VALUE!"}},{"$error":"#VALUE!"},{"$error":"#VALUE!"},{"$error":"#VALUE!"},null,{"$f":"Burmester($B$3:$C$3,$B$4:$C$4,$B$6:$C$6,$E$3,$E$4,$E$6,B187)","v":{"$error":"#VALUE!"}},{"$error":"#VALUE!"},{"$f":"ThreePosition_Basic2($E$3,$E$6,$B$3:$C$3,$B$6:$C$6,B187,N187)","v":{"$error":"#VALUE!"}},{"$error":"#VALUE!"},{"$error":"#VALUE!"},{"$error":"#VALUE!"},{"$f":"ThreePosition_Basic2($E$3,$E$6,$B$3:$C$3,$B$6:$C$6,B187,O187)","v":{"$error":"#VALUE!"}},{"$error":"#VALUE!"},{"$error":"#VALUE!"},{"$error":"#VALUE!"}]
[86.5,1.509709802975095,{"$f":"Burmester($B$3:$C$3,$B$4:$C$4,$B$5:$C$5,$E$3,$E$4,$E$5,B188)","v":{"$error":"#VALUE!"}},{"$error":"#VALUE!"},{"$f":"ThreePosition_Basic2($E$3,$E$5,$B$3:$C$3,$B$5:$C$5,B188,C188)","v":{"$error":"#VALUE!"}},{"$error":"#VALUE!"},{"$error":"#VALUE!"},{"$error":"#VALUE!"},{"$f":"ThreePosition_Basic2($E$3,$E$5,$B$3:$C$3,$B$5:$C$5,B188,D188)","v":{"$error":"#VALUE!"}},{"$error":"#VALUE!"},{"$error":"#VALUE!"},{"$error":"#VALUE!"},null,{"$f":"Burmester($B$3:$C$3,$B$4:$C$4,$B$6:$C$6,$E$3,$E$4,$E$6,B188)","v":{"$error":"#VALUE!"}},{"$error":"#VALUE!"},{"$f":"ThreePosition_Basic2($E$3,$E$6,$B$3:$C$3,$B$6:$C$6,B188,N188)","v":{"$error":"#VALUE!"}},{"$error":"#VALUE!"},{"$error":"#VALUE!"},{"$error":"#VALUE!"},{"$f":"ThreePosition_Basic2($E$3,$E$6,$B$3:$C$3,$B$6:$C$6,B188,O188)","v":{"$error":"#VALUE!"}},{"$error":"#VALUE!"},{"$error":"#VALUE!"},{"$error":"#VALUE!"}]
[87,1.5184364492350666,{"$f":"Burmester($B$3:$C$3,$B$4:$C$4,$B$5:$C$5,$E$3,$E$4,$E$5,B189)","v":{"$error":"#VALUE!"}},{"$error":"#VALUE!"},{"$f":"ThreePosition_Basic2($E$3,$E$5,$B$3:$C$3,$B$5:$C$5,B189,C189)","v":{"$error":"#VALUE!"}},{"$error":"#VALUE!"},{"$error":"#VALUE!"},{"$error":"#VALUE!"},{"$f":"ThreePosition_Basic2($E$3,$E$5,$B$3:$C$3,$B$5:$C$5,B189,D189)","v":{"$error":"#VALUE!"}},{"$error":"#VALUE!"},{"$error":"#VALUE!"},{"$error":"#VALUE!"},null,{"$f":"Burmester($B$3:$C$3,$B$4:$C$4,$B$6:$C$6,$E$3,$E$4,$E$6,B189)","v":{"$error":"#VALUE!"}},{"$error":"#VALUE!"},{"$f":"ThreePosition_Basic2($E$3,$E$6,$B$3:$C$3,$B$6:$C$6,B189,N189)","v":{"$error":"#VALUE!"}},{"$error":"#VALUE!"},{"$error":"#VALUE!"},{"$error":"#VALUE!"},{"$f":"ThreePosition_Basic2($E$3,$E$6,$B$3:$C$3,$B$6:$C$6,B189,O189)","v":{"$error":"#VALUE!"}},{"$error":"#VALUE!"},{"$error":"#VALUE!"},{"$error":"#VALUE!"}]
[87.5,1.5271630954950381,{"$f":"Burmester($B$3:$C$3,$B$4:$C$4,$B$5:$C$5,$E$3,$E$4,$E$5,B190)","v":{"$error":"#VALUE!"}},{"$error":"#VALUE!"},{"$f":"ThreePosition_Basic2($E$3,$E$5,$B$3:$C$3,$B$5:$C$5,B190,C190)","v":{"$error":"#VALUE!"}},{"$error":"#VALUE!"},{"$error":"#VALUE!"},{"$error":"#VALUE!"},{"$f":"ThreePosition_Basic2($E$3,$E$5,$B$3:$C$3,$B$5:$C$5,B190,D190)","v":{"$error":"#VALUE!"}},{"$error":"#VALUE!"},{"$error":"#VALUE!"},{"$error":"#VALUE!"},null,{"$f":"Burmester($B$3:$C$3,$B$4:$C$4,$B$6:$C$6,$E$3,$E$4,$E$6,B190)","v":{"$error":"#VALUE!"}},{"$error":"#VALUE!"},{"$f":"ThreePosition_Basic2($E$3,$E$6,$B$3:$C$3,$B$6:$C$6,B190,N190)","v":{"$error":"#VALUE!"}},{"$error":"#VALUE!"},{"$error":"#VALUE!"},{"$error":"#VALUE!"},{"$f":"ThreePosition_Basic2($E$3,$E$6,$B$3:$C$3,$B$6:$C$6,B190,O190)","v":{"$error":"#VALUE!"}},{"$error":"#VALUE!"},{"$error":"#VALUE!"},{"$error":"#VALUE!"}]
[88,1.5358897417550099,{"$f":"Burmester($B$3:$C$3,$B$4:$C$4,$B$5:$C$5,$E$3,$E$4,$E$5,B191)","v":{"$error":"#VALUE!"}},{"$error":"#VALUE!"},{"$f":"ThreePosition_Basic2($E$3,$E$5,$B$3:$C$3,$B$5:$C$5,B191,C191)","v":{"$error":"#VALUE!"}},{"$error":"#VALUE!"},{"$error":"#VALUE!"},{"$error":"#VALUE!"},{"$f":"ThreePosition_Basic2($E$3,$E$5,$B$3:$C$3,$B$5:$C$5,B191,D191)","v":{"$error":"#VALUE!"}},{"$error":"#VALUE!"},{"$error":"#VALUE!"},{"$error":"#VALUE!"},null,{"$f":"Burmester($B$3:$C$3,$B$4:$C$4,$B$6:$C$6,$E$3,$E$4,$E$6,B191)","v":{"$error":"#VALUE!"}},{"$error":"#VALUE!"},{"$f":"ThreePosition_Basic2($E$3,$E$6,$B$3:$C$3,$B$6:$C$6,B191,N191)","v":{"$error":"#VALUE!"}},{"$error":"#VALUE!"},{"$error":"#VALUE!"},{"$error":"#VALUE!"},{"$f":"ThreePosition_Basic2($E$3,$E$6,$B$3:$C$3,$B$6:$C$6,B191,O191)","v":{"$error":"#VALUE!"}},{"$error":"#VALUE!"},{"$error":"#VALUE!"},{"$error":"#VALUE!"}]
[88.5,1.5446163880149817,{"$f":"Burmester($B$3:$C$3,$B$4:$C$4,$B$5:$C$5,$E$3,$E$4,$E$5,B192)","v":{"$error":"#VALUE!"}},{"$error":"#VALUE!"},{"$f":"ThreePosition_Basic2($E$3,$E$5,$B$3:$C$3,$B$5:$C$5,B192,C192)","v":{"$error":"#VALUE!"}},{"$error":"#VALUE!"},{"$error":"#VALUE!"},{"$error":"#VALUE!"},{"$f":"ThreePosition_Basic2($E$3,$E$5,$B$3:$C$3,$B$5:$C$5,B192,D192)","v":{"$error":"#VALUE!"}},{"$error":"#VALUE!"},{"$error":"#VALUE!"},{"$error":"#VALUE!"},null,{"$f":"Burmester($B$3:$C$3,$B$4:$C$4,$B$6:$C$6,$E$3,$E$4,$E$6,B192)","v":{"$error":"#VALUE!"}},{"$error":"#VALUE!"},{"$f":"ThreePosition_Basic2($E$3,$E$6,$B$3:$C$3,$B$6:$C$6,B192,N192)","v":{"$error":"#VALUE!"}},{"$error":"#VALUE!"},{"$error":"#VALUE!"},{"$error":"#VALUE!"},{"$f":"ThreePosition_Basic2($E$3,$E$6,$B$3:$C$3,$B$6:$C$6,B192,O192)","v":{"$error":"#VALUE!"}},{"$error":"#VALUE!"},{"$error":"#VALUE!"},{"$error":"#VALUE!"}]
[89,1.5533430342749535,{"$f":"Burmester($B$3:$C$3,$B$4:$C$4,$B$5:$C$5,$E$3,$E$4,$E$5,B193)","v":{"$error":"#VALUE!"}},{"$error":"#VALUE!"},{"$f":"ThreePosition_Basic2($E$3,$E$5,$B$3:$C$3,$B$5:$C$5,B193,C193)","v":{"$error":"#VALUE!"}},{"$error":"#VALUE!"},{"$error":"#VALUE!"},{"$error":"#VALUE!"},{"$f":"ThreePosition_Basic2($E$3,$E$5,$B$3:$C$3,$B$5:$C$5,B193,D193)","v":{"$error":"#VALUE!"}},{"$error":"#VALUE!"},{"$error":"#VALUE!"},{"$error":"#VALUE!"},null,{"$f":"Burmester($B$3:$C$3,$B$4:$C$4,$B$6:$C$6,$E$3,$E$4,$E$6,B193)","v":{"$error":"#VALUE!"}},{"$error":"#VALUE!"},{"$f":"ThreePosition_Basic2($E$3,$E$6,$B$3:$C$3,$B$6:$C$6,B193,N193)","v":{"$error":"#VALUE!"}},{"$error":"#VALUE!"},{"$error":"#VALUE!"},{"$error":"#VALUE!"},{"$f":"ThreePosition_Basic2($E$3,$E$6,$B$3:$C$3,$B$6:$C$6,B193,O193)","v":{"$error":"#VALUE!"}},{"$error":"#VALUE!"},{"$error":"#VALUE!"},{"$error":"#VALUE!"}]
[89.5,1.562069680534925,{"$f":"Burmester($B$3:$C$3,$B$4:$C$4,$B$5:$C$5,$E$3,$E$4,$E$5,B194)","v":{"$error":"#VALUE!"}},{"$error":"#VALUE!"},{"$f":"ThreePosition_Basic2($E$3,$E$5,$B$3:$C$3,$B$5:$C$5,B194,C194)","v":{"$error":"#VALUE!"}},{"$error":"#VALUE!"},{"$error":"#VALUE!"},{"$error":"#VALUE!"},{"$f":"ThreePosition_Basic2($E$3,$E$5,$B$3:$C$3,$B$5:$C$5,B194,D194)","v":{"$error":"#VALUE!"}},{"$error":"#VALUE!"},{"$error":"#VALUE!"},{"$error":"#VALUE!"},null,{"$f":"Burmester($B$3:$C$3,$B$4:$C$4,$B$6:$C$6,$E$3,$E$4,$E$6,B194)","v":{"$error":"#VALUE!"}},{"$error":"#VALUE!"},{"$f":"ThreePosition_Basic2($E$3,$E$6,$B$3:$C$3,$B$6:$C$6,B194,N194)","v":{"$error":"#VALUE!"}},{"$error":"#VALUE!"},{"$error":"#VALUE!"},{"$error":"#VALUE!"},{"$f":"ThreePosition_Basic2($E$3,$E$6,$B$3:$C$3,$B$6:$C$6,B194,O194)","v":{"$error":"#VALUE!"}},{"$error":"#VALUE!"},{"$error":"#VALUE!"},{"$error":"#VALUE!"}]
[90,1.5707963267948966,{"$f":"Burmester($B$3:$C$3,$B$4:$C$4,$B$5:$C$5,$E$3,$E$4,$E$5,B195)","v":{"$error":"#VALUE!"}},{"$error":"#VALUE!"},{"$f":"ThreePosition_Basic2($E$3,$E$5,$B$3:$C$3,$B$5:$C$5,B195,C195)","v":{"$error":"#VALUE!"}},{"$error":"#VALUE!"},{"$error":"#VALUE!"},{"$error":"#VALUE!"},{"$f":"ThreePosition_Basic2($E$3,$E$5,$B$3:$C$3,$B$5:$C$5,B195,D195)","v":{"$error":"#VALUE!"}},{"$error":"#VALUE!"},{"$error":"#VALUE!"},{"$error":"#VALUE!"},null,{"$f":"Burmester($B$3:$C$3,$B$4:$C$4,$B$6:$C$6,$E$3,$E$4,$E$6,B195)","v":{"$error":"#VALUE!"}},{"$error":"#VALUE!"},{"$f":"ThreePosition_Basic2($E$3,$E$6,$B$3:$C$3,$B$6:$C$6,B195,N195)","v":{"$error":"#VALUE!"}},{"$error":"#VALUE!"},{"$error":"#VALUE!"},{"$error":"#VALUE!"},{"$f":"ThreePosition_Basic2($E$3,$E$6,$B$3:$C$3,$B$6:$C$6,B195,O195)","v":{"$error":"#VALUE!"}},{"$error":"#VALUE!"},{"$error":"#VALUE!"},{"$error":"#VALUE!"}]
[90.5,1.5795229730548681,{"$f":"Burmester($B$3:$C$3,$B$4:$C$4,$B$5:$C$5,$E$3,$E$4,$E$5,B196)","v":{"$error":"#VALUE!"}},{"$error":"#VALUE!"},{"$f":"ThreePosition_Basic2($E$3,$E$5,$B$3:$C$3,$B$5:$C$5,B196,C196)","v":{"$error":"#VALUE!"}},{"$error":"#VALUE!"},{"$error":"#VALUE!"},{"$error":"#VALUE!"},{"$f":"ThreePosition_Basic2($E$3,$E$5,$B$3:$C$3,$B$5:$C$5,B196,D196)","v":{"$error":"#VALUE!"}},{"$error":"#VALUE!"},{"$error":"#VALUE!"},{"$error":"#VALUE!"},null,{"$f":"Burmester($B$3:$C$3,$B$4:$C$4,$B$6:$C$6,$E$3,$E$4,$E$6,B196)","v":{"$error":"#VALUE!"}},{"$error":"#VALUE!"},{"$f":"ThreePosition_Basic2($E$3,$E$6,$B$3:$C$3,$B$6:$C$6,B196,N196)","v":{"$error":"#VALUE!"}},{"$error":"#VALUE!"},{"$error":"#VALUE!"},{"$error":"#VALUE!"},{"$f":"ThreePosition_Basic2($E$3,$E$6,$B$3:$C$3,$B$6:$C$6,B196,O196)","v":{"$error":"#VALUE!"}},{"$error":"#VALUE!"},{"$error":"#VALUE!"},{"$error":"#VALUE!"}]
[91,1.5882496193148399,{"$f":"Burmester($B$3:$C$3,$B$4:$C$4,$B$5:$C$5,$E$3,$E$4,$E$5,B197)","v":{"$error":"#VALUE!"}},{"$error":"#VALUE!"},{"$f":"ThreePosition_Basic2($E$3,$E$5,$B$3:$C$3,$B$5:$C$5,B197,C197)","v":{"$error":"#VALUE!"}},{"$error":"#VALUE!"},{"$error":"#VALUE!"},{"$error":"#VALUE!"},{"$f":"ThreePosition_Basic2($E$3,$E$5,$B$3:$C$3,$B$5:$C$5,B197,D197)","v":{"$error":"#VALUE!"}},{"$error":"#VALUE!"},{"$error":"#VALUE!"},{"$error":"#VALUE!"},null,{"$f":"Burmester($B$3:$C$3,$B$4:$C$4,$B$6:$C$6,$E$3,$E$4,$E$6,B197)","v":{"$error":"#VALUE!"}},{"$error":"#VALUE!"},{"$f":"ThreePosition_Basic2($E$3,$E$6,$B$3:$C$3,$B$6:$C$6,B197,N197)","v":{"$error":"#VALUE!"}},{"$error":"#VALUE!"},{"$error":"#VALUE!"},{"$error":"#VALUE!"},{"$f":"ThreePosition_Basic2($E$3,$E$6,$B$3:$C$3,$B$6:$C$6,B197,O197)","v":{"$error":"#VALUE!"}},{"$error":"#VALUE!"},{"$error":"#VALUE!"},{"$error":"#VALUE!"}]
[91.5,1.5969762655748114,{"$f":"Burmester($B$3:$C$3,$B$4:$C$4,$B$5:$C$5,$E$3,$E$4,$E$5,B198)","v":{"$error":"#VALUE!"}},{"$error":"#VALUE!"},{"$f":"ThreePosition_Basic2($E$3,$E$5,$B$3:$C$3,$B$5:$C$5,B198,C198)","v":{"$error":"#VALUE!"}},{"$error":"#VALUE!"},{"$error":"#VALUE!"},{"$error":"#VALUE!"},{"$f":"ThreePosition_Basic2($E$3,$E$5,$B$3:$C$3,$B$5:$C$5,B198,D198)","v":{"$error":"#VALUE!"}},{"$error":"#VALUE!"},{"$error":"#VALUE!"},{"$error":"#VALUE!"},null,{"$f":"Burmester($B$3:$C$3,$B$4:$C$4,$B$6:$C$6,$E$3,$E$4,$E$6,B198)","v":{"$error":"#VALUE!"}},{"$error":"#VALUE!"},{"$f":"ThreePosition_Basic2($E$3,$E$6,$B$3:$C$3,$B$6:$C$6,B198,N198)","v":{"$error":"#VALUE!"}},{"$error":"#VALUE!"},{"$error":"#VALUE!"},{"$error":"#VALUE!"},{"$f":"ThreePosition_Basic2($E$3,$E$6,$B$3:$C$3,$B$6:$C$6,B198,O198)","v":{"$error":"#VALUE!"}},{"$error":"#VALUE!"},{"$error":"#VALUE!"},{"$error":"#VALUE!"}]
[92,1.605702911834783,{"$f":"Burmester($B$3:$C$3,$B$4:$C$4,$B$5:$C$5,$E$3,$E$4,$E$5,B199)","v":{"$error":"#VALUE!"}},{"$error":"#VALUE!"},{"$f":"ThreePosition_Basic2($E$3,$E$5,$B$3:$C$3,$B$5:$C$5,B199,C199)","v":{"$error":"#VALUE!"}},{"$error":"#VALUE!"},{"$error":"#VALUE!"},{"$error":"#VALUE!"},{"$f":"ThreePosition_Basic2($E$3,$E$5,$B$3:$C$3,$B$5:$C$5,B199,D199)","v":{"$error":"#VALUE!"}},{"$error":"#VALUE!"},{"$error":"#VALUE!"},{"$error":"#VALUE!"},null,{"$f":"Burmester($B$3:$C$3,$B$4:$C$4,$B$6:$C$6,$E$3,$E$4,$E$6,B199)","v":{"$error":"#VALUE!"}},{"$error":"#VALUE!"},{"$f":"ThreePosition_Basic2($E$3,$E$6,$B$3:$C$3,$B$6:$C$6,B199,N199)","v":{"$error":"#VALUE!"}},{"$error":"#VALUE!"},{"$error":"#VALUE!"},{"$error":"#VALUE!"},{"$f":"ThreePosition_Basic2($E$3,$E$6,$B$3:$C$3,$B$6:$C$6,B199,O199)","v":{"$error":"#VALUE!"}},{"$error":"#VALUE!"},{"$error":"#VALUE!"},{"$error":"#VALUE!"}]
[92.5,1.6144295580947547,{"$f":"Burmester($B$3:$C$3,$B$4:$C$4,$B$5:$C$5,$E$3,$E$4,$E$5,B200)","v":{"$error":"#VALUE!"}},{"$error":"#VALUE!"},{"$f":"ThreePosition_Basic2($E$3,$E$5,$B$3:$C$3,$B$5:$C$5,B200,C200)","v":{"$error":"#VALUE!"}},{"$error":"#VALUE!"},{"$error":"#VALUE!"},{"$error":"#VALUE!"},{"$f":"ThreePosition_Basic2($E$3,$E$5,$B$3:$C$3,$B$5:$C$5,B200,D200)","v":{"$error":"#VALUE!"}},{"$error":"#VALUE!"},{"$error":"#VALUE!"},{"$error":"#VALUE!"},null,{"$f":"Burmester($B$3:$C$3,$B$4:$C$4,$B$6:$C$6,$E$3,$E$4,$E$6,B200)","v":{"$error":"#VALUE!"}},{"$error":"#VALUE!"},{"$f":"ThreePosition_Basic2($E$3,$E$6,$B$3:$C$3,$B$6:$C$6,B200,N200)","v":{"$error":"#VALUE!"}},{"$error":"#VALUE!"},{"$error":"#VALUE!"},{"$error":"#VALUE!"},{"$f":"ThreePosition_Basic2($E$3,$E$6,$B$3:$C$3,$B$6:$C$6,B200,O200)","v":{"$error":"#VALUE!"}},{"$error":"#VALUE!"},{"$error":"#VALUE!"},{"$error":"#VALUE!"}]
[93,1.6231562043547263,{"$f":"Burmester($B$3:$C$3,$B$4:$C$4,$B$5:$C$5,$E$3,$E$4,$E$5,B201)","v":{"$error":"#VALUE!"}},{"$error":"#VALUE!"},{"$f":"ThreePosition_Basic2($E$3,$E$5,$B$3:$C$3,$B$5:$C$5,B201,C201)","v":{"$error":"#VALUE!"}},{"$error":"#VALUE!"},{"$error":"#VALUE!"},{"$error":"#VALUE!"},{"$f":"ThreePosition_Basic2($E$3,$E$5,$B$3:$C$3,$B$5:$C$5,B201,D201)","v":{"$error":"#VALUE!"}},{"$error":"#VALUE!"},{"$error":"#VALUE!"},{"$error":"#VALUE!"},null,{"$f":"Burmester($B$3:$C$3,$B$4:$C$4,$B$6:$C$6,$E$3,$E$4,$E$6,B201)","v":{"$error":"#VALUE!"}},{"$error":"#VALUE!"},{"$f":"ThreePosition_Basic2($E$3,$E$6,$B$3:$C$3,$B$6:$C$6,B201,N201)","v":{"$error":"#VALUE!"}},{"$error":"#VALUE!"},{"$error":"#VALUE!"},{"$error":"#VALUE!"},{"$f":"ThreePosition_Basic2($E$3,$E$6,$B$3:$C$3,$B$6:$C$6,B201,O201)","v":{"$error":"#VALUE!"}},{"$error":"#VALUE!"},{"$error":"#VALUE!"},{"$error":"#VALUE!"}]
[93.5,1.6318828506146983,{"$f":"Burmester($B$3:$C$3,$B$4:$C$4,$B$5:$C$5,$E$3,$E$4,$E$5,B202)","v":{"$error":"#VALUE!"}},{"$error":"#VALUE!"},{"$f":"ThreePosition_Basic2($E$3,$E$5,$B$3:$C$3,$B$5:$C$5,B202,C202)","v":{"$error":"#VALUE!"}},{"$error":"#VALUE!"},{"$error":"#VALUE!"},{"$error":"#VALUE!"},{"$f":"ThreePosition_Basic2($E$3,$E$5,$B$3:$C$3,$B$5:$C$5,B202,D202)","v":{"$error":"#VALUE!"}},{"$error":"#VALUE!"},{"$error":"#VALUE!"},{"$error":"#VALUE!"},null,{"$f":"Burmester($B$3:$C$3,$B$4:$C$4,$B$6:$C$6,$E$3,$E$4,$E$6,B202)","v":{"$error":"#VALUE!"}},{"$error":"#VALUE!"},{"$f":"ThreePosition_Basic2($E$3,$E$6,$B$3:$C$3,$B$6:$C$6,B202,N202)","v":{"$error":"#VALUE!"}},{"$error":"#VALUE!"},{"$error":"#VALUE!"},{"$error":"#VALUE!"},{"$f":"ThreePosition_Basic2($E$3,$E$6,$B$3:$C$3,$B$6:$C$6,B202,O202)","v":{"$error":"#VALUE!"}},{"$error":"#VALUE!"},{"$error":"#VALUE!"},{"$error":"#VALUE!"}]
[94,1.6406094968746698,{"$f":"Burmester($B$3:$C$3,$B$4:$C$4,$B$5:$C$5,$E$3,$E$4,$E$5,B203)","v":{"$error":"#VALUE!"}},{"$error":"#VALUE!"},{"$f":"ThreePosition_Basic2($E$3,$E$5,$B$3:$C$3,$B$5:$C$5,B203,C203)","v":{"$error":"#VALUE!"}},{"$error":"#VALUE!"},{"$error":"#VALUE!"},{"$error":"#VALUE!"},{"$f":"ThreePosition_Basic2($E$3,$E$5,$B$3:$C$3,$B$5:$C$5,B203,D203)","v":{"$error":"#VALUE!"}},{"$error":"#VALUE!"},{"$error":"#VALUE!"},{"$error":"#VALUE!"},null,{"$f":"Burmester($B$3:$C$3,$B$4:$C$4,$B$6:$C$6,$E$3,$E$4,$E$6,B203)","v":{"$error":"#VALUE!"}},{"$error":"#VALUE!"},{"$f":"ThreePosition_Basic2($E$3,$E$6,$B$3:$C$3,$B$6:$C$6,B203,N203)","v":{"$error":"#VALUE!"}},{"$error":"#VALUE!"},{"$error":"#VALUE!"},{"$error":"#VALUE!"},{"$f":"ThreePosition_Basic2($E$3,$E$6,$B$3:$C$3,$B$6:$C$6,B203,O203)","v":{"$error":"#VALUE!"}},{"$error":"#VALUE!"},{"$error":"#VALUE!"},{"$error":"#VALUE!"}]
[94.5,1.6493361431346414,{"$f":"Burmester($B$3:$C$3,$B$4:$C$4,$B$5:$C$5,$E$3,$E$4,$E$5,B204)","v":{"$error":"#VALUE!"}},{"$error":"#VALUE!"},{"$f":"ThreePosition_Basic2($E$3,$E$5,$B$3:$C$3,$B$5:$C$5,B204,C204)","v":{"$error":"#VALUE!"}},{"$error":"#VALUE!"},{"$error":"#VALUE!"},{"$error":"#VALUE!"},{"$f":"ThreePosition_Basic2($E$3,$E$5,$B$3:$C$3,$B$5:$C$5,B204,D204)","v":{"$error":"#VALUE!"}},{"$error":"#VALUE!"},{"$error":"#VALUE!"},{"$error":"#VALUE!"},null,{"$f":"Burmester($B$3:$C$3,$B$4:$C$4,$B$6:$C$6,$E$3,$E$4,$E$6,B204)","v":{"$error":"#VALUE!"}},{"$error":"#VALUE!"},{"$f":"ThreePosition_Basic2($E$3,$E$6,$B$3:$C$3,$B$6:$C$6,B204,N204)","v":{"$error":"#VALUE!"}},{"$error":"#VALUE!"},{"$error":"#VALUE!"},{"$error":"#VALUE!"},{"$f":"ThreePosition_Basic2($E$3,$E$6,$B$3:$C$3,$B$6:$C$6,B204,O204)","v":{"$error":"#VALUE!"}},{"$error":"#VALUE!"},{"$error":"#VALUE!"},{"$error":"#VALUE!"}]
[95,1.6580627893946132,{"$f":"Burmester($B$3:$C$3,$B$4:$C$4,$B$5:$C$5,$E$3,$E$4,$E$5,B205)","v":{"$error":"#VALUE!"}},{"$error":"#VALUE!"},{"$f":"ThreePosition_Basic2($E$3,$E$5,$B$3:$C$3,$B$5:$C$5,B205,C205)","v":{"$error":"#VALUE!"}},{"$error":"#VALUE!"},{"$error":"#VALUE!"},{"$error":"#VALUE!"},{"$f":"ThreePosition_Basic2($E$3,$E$5,$B$3:$C$3,$B$5:$C$5,B205,D205)","v":{"$error":"#VALUE!"}},{"$error":"#VALUE!"},{"$error":"#VALUE!"},{"$error":"#VALUE!"},null,{"$f":"Burmester($B$3:$C$3,$B$4:$C$4,$B$6:$C$6,$E$3,$E$4,$E$6,B205)","v":{"$error":"#VALUE!"}},{"$error":"#VALUE!"},{"$f":"ThreePosition_Basic2($E$3,$E$6,$B$3:$C$3,$B$6:$C$6,B205,N205)","v":{"$error":"#VALUE!"}},{"$error":"#VALUE!"},{"$error":"#VALUE!"},{"$error":"#VALUE!"},{"$f":"ThreePosition_Basic2($E$3,$E$6,$B$3:$C$3,$B$6:$C$6,B205,O205)","v":{"$error":"#VALUE!"}},{"$error":"#VALUE!"},{"$error":"#VALUE!"},{"$error":"#VALUE!"}]
[95.5,1.6667894356545847,{"$f":"Burmester($B$3:$C$3,$B$4:$C$4,$B$5:$C$5,$E$3,$E$4,$E$5,B206)","v":{"$error":"#VALUE!"}},{"$error":"#VALUE!"},{"$f":"ThreePosition_Basic2($E$3,$E$5,$B$3:$C$3,$B$5:$C$5,B206,C206)","v":{"$error":"#VALUE!"}},{"$error":"#VALUE!"},{"$error":"#VALUE!"},{"$error":"#VALUE!"},{"$f":"ThreePosition_Basic2($E$3,$E$5,$B$3:$C$3,$B$5:$C$5,B206,D206)","v":{"$error":"#VALUE!"}},{"$error":"#VALUE!"},{"$error":"#VALUE!"},{"$error":"#VALUE!"},null,{"$f":"Burmester($B$3:$C$3,$B$4:$C$4,$B$6:$C$6,$E$3,$E$4,$E$6,B206)","v":{"$error":"#VALUE!"}},{"$error":"#VALUE!"},{"$f":"ThreePosition_Basic2($E$3,$E$6,$B$3:$C$3,$B$6:$C$6,B206,N206)","v":{"$error":"#VALUE!"}},{"$error":"#VALUE!"},{"$error":"#VALUE!"},{"$error":"#VALUE!"},{"$f":"ThreePosition_Basic2($E$3,$E$6,$B$3:$C$3,$B$6:$C$6,B206,O206)","v":{"$error":"#VALUE!"}},{"$error":"#VALUE!"},{"$error":"#VALUE!"},{"$error":"#VALUE!"}]
[96,1.6755160819145563,{"$f":"Burmester($B$3:$C$3,$B$4:$C$4,$B$5:$C$5,$E$3,$E$4,$E$5,B207)","v":{"$error":"#VALUE!"}},{"$error":"#VALUE!"},{"$f":"ThreePosition_Basic2($E$3,$E$5,$B$3:$C$3,$B$5:$C$5,B207,C207)","v":{"$error":"#VALUE!"}},{"$error":"#VALUE!"},{"$error":"#VALUE!"},{"$error":"#VALUE!"},{"$f":"ThreePosition_Basic2($E$3,$E$5,$B$3:$C$3,$B$5:$C$5,B207,D207)","v":{"$error":"#VALUE!"}},{"$error":"#VALUE!"},{"$error":"#VALUE!"},{"$error":"#VALUE!"},null,{"$f":"Burmester($B$3:$C$3,$B$4:$C$4,$B$6:$C$6,$E$3,$E$4,$E$6,B207)","v":{"$error":"#VALUE!"}},{"$error":"#VALUE!"},{"$f":"ThreePosition_Basic2($E$3,$E$6,$B$3:$C$3,$B$6:$C$6,B207,N207)","v":{"$error":"#VALUE!"}},{"$error":"#VALUE!"},{"$error":"#VALUE!"},{"$error":"#VALUE!"},{"$f":"ThreePosition_Basic2($E$3,$E$6,$B$3:$C$3,$B$6:$C$6,B207,O207)","v":{"$error":"#VALUE!"}},{"$error":"#VALUE!"},{"$error":"#VALUE!"},{"$error":"#VALUE!"}]
[96.5,{"$f":"A208*PI()/180","v":1.684242728174528},{"$f":"Burmester($B$3:$C$3,$B$4:$C$4,$B$5:$C$5,$E$3,$E$4,$E$5,B208)","v":{"$error":"#VALUE!"}},{"$error":"#VALUE!"},{"$f":"ThreePosition_Basic2($E$3,$E$5,$B$3:$C$3,$B$5:$C$5,B208,C208)","v":{"$error":"#VALUE!"}},{"$error":"#VALUE!"},{"$error":"#VALUE!"},{"$error":"#VALUE!"},{"$f":"ThreePosition_Basic2($E$3,$E$5,$B$3:$C$3,$B$5:$C$5,B208,D208)","v":{"$error":"#VALUE!"}},{"$error":"#VALUE!"},{"$error":"#VALUE!"},{"$error":"#VALUE!"},null,{"$f":"Burmester($B$3:$C$3,$B$4:$C$4,$B$6:$C$6,$E$3,$E$4,$E$6,B208)","v":{"$error":"#VALUE!"}},{"$error":"#VALUE!"},{"$f":"ThreePosition_Basic2($E$3,$E$6,$B$3:$C$3,$B$6:$C$6,B208,N208)","v":{"$error":"#VALUE!"}},{"$error":"#VALUE!"},{"$error":"#VALUE!"},{"$error":"#VALUE!"},{"$f":"ThreePosition_Basic2($E$3,$E$6,$B$3:$C$3,$B$6:$C$6,B208,O208)","v":{"$error":"#VALUE!"}},{"$error":"#VALUE!"},{"$error":"#VALUE!"},{"$error":"#VALUE!"}]
[97,1.6929693744344996,{"$f":"Burmester($B$3:$C$3,$B$4:$C$4,$B$5:$C$5,$E$3,$E$4,$E$5,B209)","v":{"$error":"#VALUE!"}},{"$error":"#VALUE!"},{"$f":"ThreePosition_Basic2($E$3,$E$5,$B$3:$C$3,$B$5:$C$5,B209,C209)","v":{"$error":"#VALUE!"}},{"$error":"#VALUE!"},{"$error":"#VALUE!"},{"$error":"#VALUE!"},{"$f":"ThreePosition_Basic2($E$3,$E$5,$B$3:$C$3,$B$5:$C$5,B209,D209)","v":{"$error":"#VALUE!"}},{"$error":"#VALUE!"},{"$error":"#VALUE!"},{"$error":"#VALUE!"},null,{"$f":"Burmester($B$3:$C$3,$B$4:$C$4,$B$6:$C$6,$E$3,$E$4,$E$6,B209)","v":{"$error":"#VALUE!"}},{"$error":"#VALUE!"},{"$f":"ThreePosition_Basic2($E$3,$E$6,$B$3:$C$3,$B$6:$C$6,B209,N209)","v":{"$error":"#VALUE!"}},{"$error":"#VALUE!"},{"$error":"#VALUE!"},{"$error":"#VALUE!"},{"$f":"ThreePosition_Basic2($E$3,$E$6,$B$3:$C$3,$B$6:$C$6,B209,O209)","v":{"$error":"#VALUE!"}},{"$error":"#VALUE!"},{"$error":"#VALUE!"},{"$error":"#VALUE!"}]
[97.5,1.7016960206944711,{"$f":"Burmester($B$3:$C$3,$B$4:$C$4,$B$5:$C$5,$E$3,$E$4,$E$5,B210)","v":{"$error":"#VALUE!"}},{"$error":"#VALUE!"},{"$f":"ThreePosition_Basic2($E$3,$E$5,$B$3:$C$3,$B$5:$C$5,B210,C210)","v":{"$error":"#VALUE!"}},{"$error":"#VALUE!"},{"$error":"#VALUE!"},{"$error":"#VALUE!"},{"$f":"ThreePosition_Basic2($E$3,$E$5,$B$3:$C$3,$B$5:$C$5,B210,D210)","v":{"$error":"#VALUE!"}},{"$error":"#VALUE!"},{"$error":"#VALUE!"},{"$error":"#VALUE!"},null,{"$f":"Burmester($B$3:$C$3,$B$4:$C$4,$B$6:$C$6,$E$3,$E$4,$E$6,B210)","v":{"$error":"#VALUE!"}},{"$error":"#VALUE!"},{"$f":"ThreePosition_Basic2($E$3,$E$6,$B$3:$C$3,$B$6:$C$6,B210,N210)","v":{"$error":"#VALUE!"}},{"$error":"#VALUE!"},{"$error":"#VALUE!"},{"$error":"#VALUE!"},{"$f":"ThreePosition_Basic2($E$3,$E$6,$B$3:$C$3,$B$6:$C$6,B210,O210)","v":{"$error":"#VALUE!"}},{"$error":"#VALUE!"},{"$error":"#VALUE!"},{"$error":"#VALUE!"}]
[98,1.7104226669544429,{"$f":"Burmester($B$3:$C$3,$B$4:$C$4,$B$5:$C$5,$E$3,$E$4,$E$5,B211)","v":{"$error":"#VALUE!"}},{"$error":"#VALUE!"},{"$f":"ThreePosition_Basic2($E$3,$E$5,$B$3:$C$3,$B$5:$C$5,B211,C211)","v":{"$error":"#VALUE!"}},{"$error":"#VALUE!"},{"$error":"#VALUE!"},{"$error":"#VALUE!"},{"$f":"ThreePosition_Basic2($E$3,$E$5,$B$3:$C$3,$B$5:$C$5,B211,D211)","v":{"$error":"#VALUE!"}},{"$error":"#VALUE!"},{"$error":"#VALUE!"},{"$error":"#VALUE!"},null,{"$f":"Burmester($B$3:$C$3,$B$4:$C$4,$B$6:$C$6,$E$3,$E$4,$E$6,B211)","v":{"$error":"#VALUE!"}},{"$error":"#VALUE!"},{"$f":"ThreePosition_Basic2($E$3,$E$6,$B$3:$C$3,$B$6:$C$6,B211,N211)","v":{"$error":"#VALUE!"}},{"$error":"#VALUE!"},{"$error":"#VALUE!"},{"$error":"#VALUE!"},{"$f":"ThreePosition_Basic2($E$3,$E$6,$B$3:$C$3,$B$6:$C$6,B211,O211)","v":{"$error":"#VALUE!"}},{"$error":"#VALUE!"},{"$error":"#VALUE!"},{"$error":"#VALUE!"}]
[98.5,1.7191493132144144,{"$f":"Burmester($B$3:$C$3,$B$4:$C$4,$B$5:$C$5,$E$3,$E$4,$E$5,B212)","v":{"$error":"#VALUE!"}},{"$error":"#VALUE!"},{"$f":"ThreePosition_Basic2($E$3,$E$5,$B$3:$C$3,$B$5:$C$5,B212,C212)","v":{"$error":"#VALUE!"}},{"$error":"#VALUE!"},{"$error":"#VALUE!"},{"$error":"#VALUE!"},{"$f":"ThreePosition_Basic2($E$3,$E$5,$B$3:$C$3,$B$5:$C$5,B212,D212)","v":{"$error":"#VALUE!"}},{"$error":"#VALUE!"},{"$error":"#VALUE!"},{"$error":"#VALUE!"},null,{"$f":"Burmester($B$3:$C$3,$B$4:$C$4,$B$6:$C$6,$E$3,$E$4,$E$6,B212)","v":{"$error":"#VALUE!"}},{"$error":"#VALUE!"},{"$f":"ThreePosition_Basic2($E$3,$E$6,$B$3:$C$3,$B$6:$C$6,B212,N212)","v":{"$error":"#VALUE!"}},{"$error":"#VALUE!"},{"$error":"#VALUE!"},{"$error":"#VALUE!"},{"$f":"ThreePosition_Basic2($E$3,$E$6,$B$3:$C$3,$B$6:$C$6,B212,O212)","v":{"$error":"#VALUE!"}},{"$error":"#VALUE!"},{"$error":"#VALUE!"},{"$error":"#VALUE!"}]
[99,1.7278759594743864,{"$f":"Burmester($B$3:$C$3,$B$4:$C$4,$B$5:$C$5,$E$3,$E$4,$E$5,B213)","v":{"$error":"#VALUE!"}},{"$error":"#VALUE!"},{"$f":"ThreePosition_Basic2($E$3,$E$5,$B$3:$C$3,$B$5:$C$5,B213,C213)","v":{"$error":"#VALUE!"}},{"$error":"#VALUE!"},{"$error":"#VALUE!"},{"$error":"#VALUE!"},{"$f":"ThreePosition_Basic2($E$3,$E$5,$B$3:$C$3,$B$5:$C$5,B213,D213)","v":{"$error":"#VALUE!"}},{"$error":"#VALUE!"},{"$error":"#VALUE!"},{"$error":"#VALUE!"},null,{"$f":"Burmester($B$3:$C$3,$B$4:$C$4,$B$6:$C$6,$E$3,$E$4,$E$6,B213)","v":{"$error":"#VALUE!"}},{"$error":"#VALUE!"},{"$f":"ThreePosition_Basic2($E$3,$E$6,$B$3:$C$3,$B$6:$C$6,B213,N213)","v":{"$error":"#VALUE!"}},{"$error":"#VALUE!"},{"$error":"#VALUE!"},{"$error":"#VALUE!"},{"$f":"ThreePosition_Basic2($E$3,$E$6,$B$3:$C$3,$B$6:$C$6,B213,O213)","v":{"$error":"#VALUE!"}},{"$error":"#VALUE!"},{"$error":"#VALUE!"},{"$error":"#VALUE!"}]
[99.5,1.736602605734358,{"$f":"Burmester($B$3:$C$3,$B$4:$C$4,$B$5:$C$5,$E$3,$E$4,$E$5,B214)","v":{"$error":"#VALUE!"}},{"$error":"#VALUE!"},{"$f":"ThreePosition_Basic2($E$3,$E$5,$B$3:$C$3,$B$5:$C$5,B214,C214)","v":{"$error":"#VALUE!"}},{"$error":"#VALUE!"},{"$error":"#VALUE!"},{"$error":"#VALUE!"},{"$f":"ThreePosition_Basic2($E$3,$E$5,$B$3:$C$3,$B$5:$C$5,B214,D214)","v":{"$error":"#VALUE!"}},{"$error":"#VALUE!"},{"$error":"#VALUE!"},{"$error":"#VALUE!"},null,{"$f":"Burmester($B$3:$C$3,$B$4:$C$4,$B$6:$C$6,$E$3,$E$4,$E$6,B214)","v":{"$error":"#VALUE!"}},{"$error":"#VALUE!"},{"$f":"ThreePosition_Basic2($E$3,$E$6,$B$3:$C$3,$B$6:$C$6,B214,N214)","v":{"$error":"#VALUE!"}},{"$error":"#VALUE!"},{"$error":"#VALUE!"},{"$error":"#VALUE!"},{"$f":"ThreePosition_Basic2($E$3,$E$6,$B$3:$C$3,$B$6:$C$6,B214,O214)","v":{"$error":"#VALUE!"}},{"$error":"#VALUE!"},{"$error":"#VALUE!"},{"$error":"#VALUE!"}]
[100,1.7453292519943295,{"$f":"Burmester($B$3:$C$3,$B$4:$C$4,$B$5:$C$5,$E$3,$E$4,$E$5,B215)","v":{"$error":"#VALUE!"}},{"$error":"#VALUE!"},{"$f":"ThreePosition_Basic2($E$3,$E$5,$B$3:$C$3,$B$5:$C$5,B215,C215)","v":{"$error":"#VALUE!"}},{"$error":"#VALUE!"},{"$error":"#VALUE!"},{"$error":"#VALUE!"},{"$f":"ThreePosition_Basic2($E$3,$E$5,$B$3:$C$3,$B$5:$C$5,B215,D215)","v":{"$error":"#VALUE!"}},{"$error":"#VALUE!"},{"$error":"#VALUE!"},{"$error":"#VALUE!"},null,{"$f":"Burmester($B$3:$C$3,$B$4:$C$4,$B$6:$C$6,$E$3,$E$4,$E$6,B215)","v":{"$error":"#VALUE!"}},{"$error":"#VALUE!"},{"$f":"ThreePosition_Basic2($E$3,$E$6,$B$3:$C$3,$B$6:$C$6,B215,N215)","v":{"$error":"#VALUE!"}},{"$error":"#VALUE!"},{"$error":"#VALUE!"},{"$error":"#VALUE!"},{"$f":"ThreePosition_Basic2($E$3,$E$6,$B$3:$C$3,$B$6:$C$6,B215,O215)","v":{"$error":"#VALUE!"}},{"$error":"#VALUE!"},{"$error":"#VALUE!"},{"$error":"#VALUE!"}]
[100.5,1.7540558982543013,{"$f":"Burmester($B$3:$C$3,$B$4:$C$4,$B$5:$C$5,$E$3,$E$4,$E$5,B216)","v":{"$error":"#VALUE!"}},{"$error":"#VALUE!"},{"$f":"ThreePosition_Basic2($E$3,$E$5,$B$3:$C$3,$B$5:$C$5,B216,C216)","v":{"$error":"#VALUE!"}},{"$error":"#VALUE!"},{"$error":"#VALUE!"},{"$error":"#VALUE!"},{"$f":"ThreePosition_Basic2($E$3,$E$5,$B$3:$C$3,$B$5:$C$5,B216,D216)","v":{"$error":"#VALUE!"}},{"$error":"#VALUE!"},{"$error":"#VALUE!"},{"$error":"#VALUE!"},null,{"$f":"Burmester($B$3:$C$3,$B$4:$C$4,$B$6:$C$6,$E$3,$E$4,$E$6,B216)","v":{"$error":"#VALUE!"}},{"$error":"#VALUE!"},{"$f":"ThreePosition_Basic2($E$3,$E$6,$B$3:$C$3,$B$6:$C$6,B216,N216)","v":{"$error":"#VALUE!"}},{"$error":"#VALUE!"},{"$error":"#VALUE!"},{"$error":"#VALUE!"},{"$f":"ThreePosition_Basic2($E$3,$E$6,$B$3:$C$3,$B$6:$C$6,B216,O216)","v":{"$error":"#VALUE!"}},{"$error":"#VALUE!"},{"$error":"#VALUE!"},{"$error":"#VALUE!"}]
[101,1.7627825445142729,{"$f":"Burmester($B$3:$C$3,$B$4:$C$4,$B$5:$C$5,$E$3,$E$4,$E$5,B217)","v":{"$error":"#VALUE!"}},{"$error":"#VALUE!"},{"$f":"ThreePosition_Basic2($E$3,$E$5,$B$3:$C$3,$B$5:$C$5,B217,C217)","v":{"$error":"#VALUE!"}},{"$error":"#VALUE!"},{"$error":"#VALUE!"},{"$error":"#VALUE!"},{"$f":"ThreePosition_Basic2($E$3,$E$5,$B$3:$C$3,$B$5:$C$5,B217,D217)","v":{"$error":"#VALUE!"}},{"$error":"#VALUE!"},{"$error":"#VALUE!"},{"$error":"#VALUE!"},null,{"$f":"Burmester($B$3:$C$3,$B$4:$C$4,$B$6:$C$6,$E$3,$E$4,$E$6,B217)","v":{"$error":"#VALUE!"}},{"$error":"#VALUE!"},{"$f":"ThreePosition_Basic2($E$3,$E$6,$B$3:$C$3,$B$6:$C$6,B217,N217)","v":{"$error":"#VALUE!"}},{"$error":"#VALUE!"},{"$error":"#VALUE!"},{"$error":"#VALUE!"},{"$f":"ThreePosition_Basic2($E$3,$E$6,$B$3:$C$3,$B$6:$C$6,B217,O217)","v":{"$error":"#VALUE!"}},{"$error":"#VALUE!"},{"$error":"#VALUE!"},{"$error":"#VALUE!"}]
[101.5,1.7715091907742444,{"$f":"Burmester($B$3:$C$3,$B$4:$C$4,$B$5:$C$5,$E$3,$E$4,$E$5,B218)","v":{"$error":"#VALUE!"}},{"$error":"#VALUE!"},{"$f":"ThreePosition_Basic2($E$3,$E$5,$B$3:$C$3,$B$5:$C$5,B218,C218)","v":{"$error":"#VALUE!"}},{"$error":"#VALUE!"},{"$error":"#VALUE!"},{"$error":"#VALUE!"},{"$f":"ThreePosition_Basic2($E$3,$E$5,$B$3:$C$3,$B$5:$C$5,B218,D218)","v":{"$error":"#VALUE!"}},{"$error":"#VALUE!"},{"$error":"#VALUE!"},{"$error":"#VALUE!"},null,{"$f":"Burmester($B$3:$C$3,$B$4:$C$4,$B$6:$C$6,$E$3,$E$4,$E$6,B218)","v":{"$error":"#VALUE!"}},{"$error":"#VALUE!"},{"$f":"ThreePosition_Basic2($E$3,$E$6,$B$3:$C$3,$B$6:$C$6,B218,N218)","v":{"$error":"#VALUE!"}},{"$error":"#VALUE!"},{"$error":"#VALUE!"},{"$error":"#VALUE!"},{"$f":"ThreePosition_Basic2($E$3,$E$6,$B$3:$C$3,$B$6:$C$6,B218,O218)","v":{"$error":"#VALUE!"}},{"$error":"#VALUE!"},{"$error":"#VALUE!"},{"$error":"#VALUE!"}]
[102,1.780235837034216,{"$f":"Burmester($B$3:$C$3,$B$4:$C$4,$B$5:$C$5,$E$3,$E$4,$E$5,B219)","v":{"$error":"#VALUE!"}},{"$error":"#VALUE!"},{"$f":"ThreePosition_Basic2($E$3,$E$5,$B$3:$C$3,$B$5:$C$5,B219,C219)","v":{"$error":"#VALUE!"}},{"$error":"#VALUE!"},{"$error":"#VALUE!"},{"$error":"#VALUE!"},{"$f":"ThreePosition_Basic2($E$3,$E$5,$B$3:$C$3,$B$5:$C$5,B219,D219)","v":{"$error":"#VALUE!"}},{"$error":"#VALUE!"},{"$error":"#VALUE!"},{"$error":"#VALUE!"},null,{"$f":"Burmester($B$3:$C$3,$B$4:$C$4,$B$6:$C$6,$E$3,$E$4,$E$6,B219)","v":{"$error":"#VALUE!"}},{"$error":"#VALUE!"},{"$f":"ThreePosition_Basic2($E$3,$E$6,$B$3:$C$3,$B$6:$C$6,B219,N219)","v":{"$error":"#VALUE!"}},{"$error":"#VALUE!"},{"$error":"#VALUE!"},{"$error":"#VALUE!"},{"$f":"ThreePosition_Basic2($E$3,$E$6,$B$3:$C$3,$B$6:$C$6,B219,O219)","v":{"$error":"#VALUE!"}},{"$error":"#VALUE!"},{"$error":"#VALUE!"},{"$error":"#VALUE!"}]
[102.5,1.7889624832941877,{"$f":"Burmester($B$3:$C$3,$B$4:$C$4,$B$5:$C$5,$E$3,$E$4,$E$5,B220)","v":{"$error":"#VALUE!"}},{"$error":"#VALUE!"},{"$f":"ThreePosition_Basic2($E$3,$E$5,$B$3:$C$3,$B$5:$C$5,B220,C220)","v":{"$error":"#VALUE!"}},{"$error":"#VALUE!"},{"$error":"#VALUE!"},{"$error":"#VALUE!"},{"$f":"ThreePosition_Basic2($E$3,$E$5,$B$3:$C$3,$B$5:$C$5,B220,D220)","v":{"$error":"#VALUE!"}},{"$error":"#VALUE!"},{"$error":"#VALUE!"},{"$error":"#VALUE!"},null,{"$f":"Burmester($B$3:$C$3,$B$4:$C$4,$B$6:$C$6,$E$3,$E$4,$E$6,B220)","v":{"$error":"#VALUE!"}},{"$error":"#VALUE!"},{"$f":"ThreePosition_Basic2($E$3,$E$6,$B$3:$C$3,$B$6:$C$6,B220,N220)","v":{"$error":"#VALUE!"}},{"$error":"#VALUE!"},{"$error":"#VALUE!"},{"$error":"#VALUE!"},{"$f":"ThreePosition_Basic2($E$3,$E$6,$B$3:$C$3,$B$6:$C$6,B220,O220)","v":{"$error":"#VALUE!"}},{"$error":"#VALUE!"},{"$error":"#VALUE!"},{"$error":"#VALUE!"}]
[103,1.7976891295541593,{"$f":"Burmester($B$3:$C$3,$B$4:$C$4,$B$5:$C$5,$E$3,$E$4,$E$5,B221)","v":{"$error":"#VALUE!"}},{"$error":"#VALUE!"},{"$f":"ThreePosition_Basic2($E$3,$E$5,$B$3:$C$3,$B$5:$C$5,B221,C221)","v":{"$error":"#VALUE!"}},{"$error":"#VALUE!"},{"$error":"#VALUE!"},{"$error":"#VALUE!"},{"$f":"ThreePosition_Basic2($E$3,$E$5,$B$3:$C$3,$B$5:$C$5,B221,D221)","v":{"$error":"#VALUE!"}},{"$error":"#VALUE!"},{"$error":"#VALUE!"},{"$error":"#VALUE!"},null,{"$f":"Burmester($B$3:$C$3,$B$4:$C$4,$B$6:$C$6,$E$3,$E$4,$E$6,B221)","v":{"$error":"#VALUE!"}},{"$error":"#VALUE!"},{"$f":"ThreePosition_Basic2($E$3,$E$6,$B$3:$C$3,$B$6:$C$6,B221,N221)","v":{"$error":"#VALUE!"}},{"$error":"#VALUE!"},{"$error":"#VALUE!"},{"$error":"#VALUE!"},{"$f":"ThreePosition_Basic2($E$3,$E$6,$B$3:$C$3,$B$6:$C$6,B221,O221)","v":{"$error":"#VALUE!"}},{"$error":"#VALUE!"},{"$error":"#VALUE!"},{"$error":"#VALUE!"}]
[103.5,1.8064157758141308,{"$f":"Burmester($B$3:$C$3,$B$4:$C$4,$B$5:$C$5,$E$3,$E$4,$E$5,B222)","v":{"$error":"#VALUE!"}},{"$error":"#VALUE!"},{"$f":"ThreePosition_Basic2($E$3,$E$5,$B$3:$C$3,$B$5:$C$5,B222,C222)","v":{"$error":"#VALUE!"}},{"$error":"#VALUE!"},{"$error":"#VALUE!"},{"$error":"#VALUE!"},{"$f":"ThreePosition_Basic2($E$3,$E$5,$B$3:$C$3,$B$5:$C$5,B222,D222)","v":{"$error":"#VALUE!"}},{"$error":"#VALUE!"},{"$error":"#VALUE!"},{"$error":"#VALUE!"},null,{"$f":"Burmester($B$3:$C$3,$B$4:$C$4,$B$6:$C$6,$E$3,$E$4,$E$6,B222)","v":{"$error":"#VALUE!"}},{"$error":"#VALUE!"},{"$f":"ThreePosition_Basic2($E$3,$E$6,$B$3:$C$3,$B$6:$C$6,B222,N222)","v":{"$error":"#VALUE!"}},{"$error":"#VALUE!"},{"$error":"#VALUE!"},{"$error":"#VALUE!"},{"$f":"ThreePosition_Basic2($E$3,$E$6,$B$3:$C$3,$B$6:$C$6,B222,O222)","v":{"$error":"#VALUE!"}},{"$error":"#VALUE!"},{"$error":"#VALUE!"},{"$error":"#VALUE!"}]
[104,1.8151424220741028,{"$f":"Burmester($B$3:$C$3,$B$4:$C$4,$B$5:$C$5,$E$3,$E$4,$E$5,B223)","v":{"$error":"#VALUE!"}},{"$error":"#VALUE!"},{"$f":"ThreePosition_Basic2($E$3,$E$5,$B$3:$C$3,$B$5:$C$5,B223,C223)","v":{"$error":"#VALUE!"}},{"$error":"#VALUE!"},{"$error":"#VALUE!"},{"$error":"#VALUE!"},{"$f":"ThreePosition_Basic2($E$3,$E$5,$B$3:$C$3,$B$5:$C$5,B223,D223)","v":{"$error":"#VALUE!"}},{"$error":"#VALUE!"},{"$error":"#VALUE!"},{"$error":"#VALUE!"},null,{"$f":"Burmester($B$3:$C$3,$B$4:$C$4,$B$6:$C$6,$E$3,$E$4,$E$6,B223)","v":{"$error":"#VALUE!"}},{"$error":"#VALUE!"},{"$f":"ThreePosition_Basic2($E$3,$E$6,$B$3:$C$3,$B$6:$C$6,B223,N223)","v":{"$error":"#VALUE!"}},{"$error":"#VALUE!"},{"$error":"#VALUE!"},{"$error":"#VALUE!"},{"$f":"ThreePosition_Basic2($E$3,$E$6,$B$3:$C$3,$B$6:$C$6,B223,O223)","v":{"$error":"#VALUE!"}},{"$error":"#VALUE!"},{"$error":"#VALUE!"},{"$error":"#VALUE!"}]
[104.5,1.8238690683340744,{"$f":"Burmester($B$3:$C$3,$B$4:$C$4,$B$5:$C$5,$E$3,$E$4,$E$5,B224)","v":{"$error":"#VALUE!"}},{"$error":"#VALUE!"},{"$f":"ThreePosition_Basic2($E$3,$E$5,$B$3:$C$3,$B$5:$C$5,B224,C224)","v":{"$error":"#VALUE!"}},{"$error":"#VALUE!"},{"$error":"#VALUE!"},{"$error":"#VALUE!"},{"$f":"ThreePosition_Basic2($E$3,$E$5,$B$3:$C$3,$B$5:$C$5,B224,D224)","v":{"$error":"#VALUE!"}},{"$error":"#VALUE!"},{"$error":"#VALUE!"},{"$error":"#VALUE!"},null,{"$f":"Burmester($B$3:$C$3,$B$4:$C$4,$B$6:$C$6,$E$3,$E$4,$E$6,B224)","v":{"$error":"#VALUE!"}},{"$error":"#VALUE!"},{"$f":"ThreePosition_Basic2($E$3,$E$6,$B$3:$C$3,$B$6:$C$6,B224,N224)","v":{"$error":"#VALUE!"}},{"$error":"#VALUE!"},{"$error":"#VALUE!"},{"$error":"#VALUE!"},{"$f":"ThreePosition_Basic2($E$3,$E$6,$B$3:$C$3,$B$6:$C$6,B224,O224)","v":{"$error":"#VALUE!"}},{"$error":"#VALUE!"},{"$error":"#VALUE!"},{"$error":"#VALUE!"}]
[105,1.8325957145940461,{"$f":"Burmester($B$3:$C$3,$B$4:$C$4,$B$5:$C$5,$E$3,$E$4,$E$5,B225)","v":{"$error":"#VALUE!"}},{"$error":"#VALUE!"},{"$f":"ThreePosition_Basic2($E$3,$E$5,$B$3:$C$3,$B$5:$C$5,B225,C225)","v":{"$error":"#VALUE!"}},{"$error":"#VALUE!"},{"$error":"#VALUE!"},{"$error":"#VALUE!"},{"$f":"ThreePosition_Basic2($E$3,$E$5,$B$3:$C$3,$B$5:$C$5,B225,D225)","v":{"$error":"#VALUE!"}},{"$error":"#VALUE!"},{"$error":"#VALUE!"},{"$error":"#VALUE!"},null,{"$f":"Burmester($B$3:$C$3,$B$4:$C$4,$B$6:$C$6,$E$3,$E$4,$E$6,B225)","v":{"$error":"#VALUE!"}},{"$error":"#VALUE!"},{"$f":"ThreePosition_Basic2($E$3,$E$6,$B$3:$C$3,$B$6:$C$6,B225,N225)","v":{"$error":"#VALUE!"}},{"$error":"#VALUE!"},{"$error":"#VALUE!"},{"$error":"#VALUE!"},{"$f":"ThreePosition_Basic2($E$3,$E$6,$B$3:$C$3,$B$6:$C$6,B225,O225)","v":{"$error":"#VALUE!"}},{"$error":"#VALUE!"},{"$error":"#VALUE!"},{"$error":"#VALUE!"}]
[105.5,1.8413223608540177,{"$f":"Burmester($B$3:$C$3,$B$4:$C$4,$B$5:$C$5,$E$3,$E$4,$E$5,B226)","v":{"$error":"#VALUE!"}},{"$error":"#VALUE!"},{"$f":"ThreePosition_Basic2($E$3,$E$5,$B$3:$C$3,$B$5:$C$5,B226,C226)","v":{"$error":"#VALUE!"}},{"$error":"#VALUE!"},{"$error":"#VALUE!"},{"$error":"#VALUE!"},{"$f":"ThreePosition_Basic2($E$3,$E$5,$B$3:$C$3,$B$5:$C$5,B226,D226)","v":{"$error":"#VALUE!"}},{"$error":"#VALUE!"},{"$error":"#VALUE!"},{"$error":"#VALUE!"},null,{"$f":"Burmester($B$3:$C$3,$B$4:$C$4,$B$6:$C$6,$E$3,$E$4,$E$6,B226)","v":{"$error":"#VALUE!"}},{"$error":"#VALUE!"},{"$f":"ThreePosition_Basic2($E$3,$E$6,$B$3:$C$3,$B$6:$C$6,B226,N226)","v":{"$error":"#VALUE!"}},{"$error":"#VALUE!"},{"$error":"#VALUE!"},{"$error":"#VALUE!"},{"$f":"ThreePosition_Basic2($E$3,$E$6,$B$3:$C$3,$B$6:$C$6,B226,O226)","v":{"$error":"#VALUE!"}},{"$error":"#VALUE!"},{"$error":"#VALUE!"},{"$error":"#VALUE!"}]
[106,1.8500490071139892,{"$f":"Burmester($B$3:$C$3,$B$4:$C$4,$B$5:$C$5,$E$3,$E$4,$E$5,B227)","v":{"$error":"#VALUE!"}},{"$error":"#VALUE!"},{"$f":"ThreePosition_Basic2($E$3,$E$5,$B$3:$C$3,$B$5:$C$5,B227,C227)","v":{"$error":"#VALUE!"}},{"$error":"#VALUE!"},{"$error":"#VALUE!"},{"$error":"#VALUE!"},{"$f":"ThreePosition_Basic2($E$3,$E$5,$B$3:$C$3,$B$5:$C$5,B227,D227)","v":{"$error":"#VALUE!"}},{"$error":"#VALUE!"},{"$error":"#VALUE!"},{"$error":"#VALUE!"},null,{"$f":"Burmester($B$3:$C$3,$B$4:$C$4,$B$6:$C$6,$E$3,$E$4,$E$6,B227)","v":{"$error":"#VALUE!"}},{"$error":"#VALUE!"},{"$f":"ThreePosition_Basic2($E$3,$E$6,$B$3:$C$3,$B$6:$C$6,B227,N227)","v":{"$error":"#VALUE!"}},{"$error":"#VALUE!"},{"$error":"#VALUE!"},{"$error":"#VALUE!"},{"$f":"ThreePosition_Basic2($E$3,$E$6,$B$3:$C$3,$B$6:$C$6,B227,O227)","v":{"$error":"#VALUE!"}},{"$error":"#VALUE!"},{"$error":"#VALUE!"},{"$error":"#VALUE!"}]
[106.5,1.858775653373961,{"$f":"Burmester($B$3:$C$3,$B$4:$C$4,$B$5:$C$5,$E$3,$E$4,$E$5,B228)","v":{"$error":"#VALUE!"}},{"$error":"#VALUE!"},{"$f":"ThreePosition_Basic2($E$3,$E$5,$B$3:$C$3,$B$5:$C$5,B228,C228)","v":{"$error":"#VALUE!"}},{"$error":"#VALUE!"},{"$error":"#VALUE!"},{"$error":"#VALUE!"},{"$f":"ThreePosition_Basic2($E$3,$E$5,$B$3:$C$3,$B$5:$C$5,B228,D228)","v":{"$error":"#VALUE!"}},{"$error":"#VALUE!"},{"$error":"#VALUE!"},{"$error":"#VALUE!"},null,{"$f":"Burmester($B$3:$C$3,$B$4:$C$4,$B$6:$C$6,$E$3,$E$4,$E$6,B228)","v":{"$error":"#VALUE!"}},{"$error":"#VALUE!"},{"$f":"ThreePosition_Basic2($E$3,$E$6,$B$3:$C$3,$B$6:$C$6,B228,N228)","v":{"$error":"#VALUE!"}},{"$error":"#VALUE!"},{"$error":"#VALUE!"},{"$error":"#VALUE!"},{"$f":"ThreePosition_Basic2($E$3,$E$6,$B$3:$C$3,$B$6:$C$6,B228,O228)","v":{"$error":"#VALUE!"}},{"$error":"#VALUE!"},{"$error":"#VALUE!"},{"$error":"#VALUE!"}]
[107,1.8675022996339325,{"$f":"Burmester($B$3:$C$3,$B$4:$C$4,$B$5:$C$5,$E$3,$E$4,$E$5,B229)","v":{"$error":"#VALUE!"}},{"$error":"#VALUE!"},{"$f":"ThreePosition_Basic2($E$3,$E$5,$B$3:$C$3,$B$5:$C$5,B229,C229)","v":{"$error":"#VALUE!"}},{"$error":"#VALUE!"},{"$error":"#VALUE!"},{"$error":"#VALUE!"},{"$f":"ThreePosition_Basic2($E$3,$E$5,$B$3:$C$3,$B$5:$C$5,B229,D229)","v":{"$error":"#VALUE!"}},{"$error":"#VALUE!"},{"$error":"#VALUE!"},{"$error":"#VALUE!"},null,{"$f":"Burmester($B$3:$C$3,$B$4:$C$4,$B$6:$C$6,$E$3,$E$4,$E$6,B229)","v":{"$error":"#VALUE!"}},{"$error":"#VALUE!"},{"$f":"ThreePosition_Basic2($E$3,$E$6,$B$3:$C$3,$B$6:$C$6,B229,N229)","v":{"$error":"#VALUE!"}},{"$error":"#VALUE!"},{"$error":"#VALUE!"},{"$error":"#VALUE!"},{"$f":"ThreePosition_Basic2($E$3,$E$6,$B$3:$C$3,$B$6:$C$6,B229,O229)","v":{"$error":"#VALUE!"}},{"$error":"#VALUE!"},{"$error":"#VALUE!"},{"$error":"#VALUE!"}]
[107.5,1.8762289458939041,{"$f":"Burmester($B$3:$C$3,$B$4:$C$4,$B$5:$C$5,$E$3,$E$4,$E$5,B230)","v":{"$error":"#VALUE!"}},{"$error":"#VALUE!"},{"$f":"ThreePosition_Basic2($E$3,$E$5,$B$3:$C$3,$B$5:$C$5,B230,C230)","v":{"$error":"#VALUE!"}},{"$error":"#VALUE!"},{"$error":"#VALUE!"},{"$error":"#VALUE!"},{"$f":"ThreePosition_Basic2($E$3,$E$5,$B$3:$C$3,$B$5:$C$5,B230,D230)","v":{"$error":"#VALUE!"}},{"$error":"#VALUE!"},{"$error":"#VALUE!"},{"$error":"#VALUE!"},null,{"$f":"Burmester($B$3:$C$3,$B$4:$C$4,$B$6:$C$6,$E$3,$E$4,$E$6,B230)","v":{"$error":"#VALUE!"}},{"$error":"#VALUE!"},{"$f":"ThreePosition_Basic2($E$3,$E$6,$B$3:$C$3,$B$6:$C$6,B230,N230)","v":{"$error":"#VALUE!"}},{"$error":"#VALUE!"},{"$error":"#VALUE!"},{"$error":"#VALUE!"},{"$f":"ThreePosition_Basic2($E$3,$E$6,$B$3:$C$3,$B$6:$C$6,B230,O230)","v":{"$error":"#VALUE!"}},{"$error":"#VALUE!"},{"$error":"#VALUE!"},{"$error":"#VALUE!"}]
[108,1.8849555921538759,{"$f":"Burmester($B$3:$C$3,$B$4:$C$4,$B$5:$C$5,$E$3,$E$4,$E$5,B231)","v":{"$error":"#VALUE!"}},{"$error":"#VALUE!"},{"$f":"ThreePosition_Basic2($E$3,$E$5,$B$3:$C$3,$B$5:$C$5,B231,C231)","v":{"$error":"#VALUE!"}},{"$error":"#VALUE!"},{"$error":"#VALUE!"},{"$error":"#VALUE!"},{"$f":"ThreePosition_Basic2($E$3,$E$5,$B$3:$C$3,$B$5:$C$5,B231,D231)","v":{"$error":"#VALUE!"}},{"$error":"#VALUE!"},{"$error":"#VALUE!"},{"$error":"#VALUE!"},null,{"$f":"Burmester($B$3:$C$3,$B$4:$C$4,$B$6:$C$6,$E$3,$E$4,$E$6,B231)","v":{"$error":"#VALUE!"}},{"$error":"#VALUE!"},{"$f":"ThreePosition_Basic2($E$3,$E$6,$B$3:$C$3,$B$6:$C$6,B231,N231)","v":{"$error":"#VALUE!"}},{"$error":"#VALUE!"},{"$error":"#VALUE!"},{"$error":"#VALUE!"},{"$f":"ThreePosition_Basic2($E$3,$E$6,$B$3:$C$3,$B$6:$C$6,B231,O231)","v":{"$error":"#VALUE!"}},{"$error":"#VALUE!"},{"$error":"#VALUE!"},{"$error":"#VALUE!"}]
[108.5,1.8936822384138474,{"$f":"Burmester($B$3:$C$3,$B$4:$C$4,$B$5:$C$5,$E$3,$E$4,$E$5,B232)","v":{"$error":"#VALUE!"}},{"$error":"#VALUE!"},{"$f":"ThreePosition_Basic2($E$3,$E$5,$B$3:$C$3,$B$5:$C$5,B232,C232)","v":{"$error":"#VALUE!"}},{"$error":"#VALUE!"},{"$error":"#VALUE!"},{"$error":"#VALUE!"},{"$f":"ThreePosition_Basic2($E$3,$E$5,$B$3:$C$3,$B$5:$C$5,B232,D232)","v":{"$error":"#VALUE!"}},{"$error":"#VALUE!"},{"$error":"#VALUE!"},{"$error":"#VALUE!"},null,{"$f":"Burmester($B$3:$C$3,$B$4:$C$4,$B$6:$C$6,$E$3,$E$4,$E$6,B232)","v":{"$error":"#VALUE!"}},{"$error":"#VALUE!"},{"$f":"ThreePosition_Basic2($E$3,$E$6,$B$3:$C$3,$B$6:$C$6,B232,N232)","v":{"$error":"#VALUE!"}},{"$error":"#VALUE!"},{"$error":"#VALUE!"},{"$error":"#VALUE!"},{"$f":"ThreePosition_Basic2($E$3,$E$6,$B$3:$C$3,$B$6:$C$6,B232,O232)","v":{"$error":"#VALUE!"}},{"$error":"#VALUE!"},{"$error":"#VALUE!"},{"$error":"#VALUE!"}]
[109,1.902408884673819,{"$f":"Burmester($B$3:$C$3,$B$4:$C$4,$B$5:$C$5,$E$3,$E$4,$E$5,B233)","v":{"$error":"#VALUE!"}},{"$error":"#VALUE!"},{"$f":"ThreePosition_Basic2($E$3,$E$5,$B$3:$C$3,$B$5:$C$5,B233,C233)","v":{"$error":"#VALUE!"}},{"$error":"#VALUE!"},{"$error":"#VALUE!"},{"$error":"#VALUE!"},{"$f":"ThreePosition_Basic2($E$3,$E$5,$B$3:$C$3,$B$5:$C$5,B233,D233)","v":{"$error":"#VALUE!"}},{"$error":"#VALUE!"},{"$error":"#VALUE!"},{"$error":"#VALUE!"},null,{"$f":"Burmester($B$3:$C$3,$B$4:$C$4,$B$6:$C$6,$E$3,$E$4,$E$6,B233)","v":{"$error":"#VALUE!"}},{"$error":"#VALUE!"},{"$f":"ThreePosition_Basic2($E$3,$E$6,$B$3:$C$3,$B$6:$C$6,B233,N233)","v":{"$error":"#VALUE!"}},{"$error":"#VALUE!"},{"$error":"#VALUE!"},{"$error":"#VALUE!"},{"$f":"ThreePosition_Basic2($E$3,$E$6,$B$3:$C$3,$B$6:$C$6,B233,O233)","v":{"$error":"#VALUE!"}},{"$error":"#VALUE!"},{"$error":"#VALUE!"},{"$error":"#VALUE!"}]
[109.5,1.911135530933791,{"$f":"Burmester($B$3:$C$3,$B$4:$C$4,$B$5:$C$5,$E$3,$E$4,$E$5,B234)","v":{"$error":"#VALUE!"}},{"$error":"#VALUE!"},{"$f":"ThreePosition_Basic2($E$3,$E$5,$B$3:$C$3,$B$5:$C$5,B234,C234)","v":{"$error":"#VALUE!"}},{"$error":"#VALUE!"},{"$error":"#VALUE!"},{"$error":"#VALUE!"},{"$f":"ThreePosition_Basic2($E$3,$E$5,$B$3:$C$3,$B$5:$C$5,B234,D234)","v":{"$error":"#VALUE!"}},{"$error":"#VALUE!"},{"$error":"#VALUE!"},{"$error":"#VALUE!"},null,{"$f":"Burmester($B$3:$C$3,$B$4:$C$4,$B$6:$C$6,$E$3,$E$4,$E$6,B234)","v":{"$error":"#VALUE!"}},{"$error":"#VALUE!"},{"$f":"ThreePosition_Basic2($E$3,$E$6,$B$3:$C$3,$B$6:$C$6,B234,N234)","v":{"$error":"#VALUE!"}},{"$error":"#VALUE!"},{"$error":"#VALUE!"},{"$error":"#VALUE!"},{"$f":"ThreePosition_Basic2($E$3,$E$6,$B$3:$C$3,$B$6:$C$6,B234,O234)","v":{"$error":"#VALUE!"}},{"$error":"#VALUE!"},{"$error":"#VALUE!"},{"$error":"#VALUE!"}]
[110,1.9198621771937625,{"$f":"Burmester($B$3:$C$3,$B$4:$C$4,$B$5:$C$5,$E$3,$E$4,$E$5,B235)","v":{"$error":"#VALUE!"}},{"$error":"#VALUE!"},{"$f":"ThreePosition_Basic2($E$3,$E$5,$B$3:$C$3,$B$5:$C$5,B235,C235)","v":{"$error":"#VALUE!"}},{"$error":"#VALUE!"},{"$error":"#VALUE!"},{"$error":"#VALUE!"},{"$f":"ThreePosition_Basic2($E$3,$E$5,$B$3:$C$3,$B$5:$C$5,B235,D235)","v":{"$error":"#VALUE!"}},{"$error":"#VALUE!"},{"$error":"#VALUE!"},{"$error":"#VALUE!"},null,{"$f":"Burmester($B$3:$C$3,$B$4:$C$4,$B$6:$C$6,$E$3,$E$4,$E$6,B235)","v":{"$error":"#VALUE!"}},{"$error":"#VALUE!"},{"$f":"ThreePosition_Basic2($E$3,$E$6,$B$3:$C$3,$B$6:$C$6,B235,N235)","v":{"$error":"#VALUE!"}},{"$error":"#VALUE!"},{"$error":"#VALUE!"},{"$error":"#VALUE!"},{"$f":"ThreePosition_Basic2($E$3,$E$6,$B$3:$C$3,$B$6:$C$6,B235,O235)","v":{"$error":"#VALUE!"}},{"$error":"#VALUE!"},{"$error":"#VALUE!"},{"$error":"#VALUE!"}]
[110.5,1.9285888234537343,{"$f":"Burmester($B$3:$C$3,$B$4:$C$4,$B$5:$C$5,$E$3,$E$4,$E$5,B236)","v":{"$error":"#VALUE!"}},{"$error":"#VALUE!"},{"$f":"ThreePosition_Basic2($E$3,$E$5,$B$3:$C$3,$B$5:$C$5,B236,C236)","v":{"$error":"#VALUE!"}},{"$error":"#VALUE!"},{"$error":"#VALUE!"},{"$error":"#VALUE!"},{"$f":"ThreePosition_Basic2($E$3,$E$5,$B$3:$C$3,$B$5:$C$5,B236,D236)","v":{"$error":"#VALUE!"}},{"$error":"#VALUE!"},{"$error":"#VALUE!"},{"$error":"#VALUE!"},null,{"$f":"Burmester($B$3:$C$3,$B$4:$C$4,$B$6:$C$6,$E$3,$E$4,$E$6,B236)","v":{"$error":"#VALUE!"}},{"$error":"#VALUE!"},{"$f":"ThreePosition_Basic2($E$3,$E$6,$B$3:$C$3,$B$6:$C$6,B236,N236)","v":{"$error":"#VALUE!"}},{"$error":"#VALUE!"},{"$error":"#VALUE!"},{"$error":"#VALUE!"},{"$f":"ThreePosition_Basic2($E$3,$E$6,$B$3:$C$3,$B$6:$C$6,B236,O236)","v":{"$error":"#VALUE!"}},{"$error":"#VALUE!"},{"$error":"#VALUE!"},{"$error":"#VALUE!"}]
[111,1.9373154697137058,{"$f":"Burmester($B$3:$C$3,$B$4:$C$4,$B$5:$C$5,$E$3,$E$4,$E$5,B237)","v":{"$error":"#VALUE!"}},{"$error":"#VALUE!"},{"$f":"ThreePosition_Basic2($E$3,$E$5,$B$3:$C$3,$B$5:$C$5,B237,C237)","v":{"$error":"#VALUE!"}},{"$error":"#VALUE!"},{"$error":"#VALUE!"},{"$error":"#VALUE!"},{"$f":"ThreePosition_Basic2($E$3,$E$5,$B$3:$C$3,$B$5:$C$5,B237,D237)","v":{"$error":"#VALUE!"}},{"$error":"#VALUE!"},{"$error":"#VALUE!"},{"$error":"#VALUE!"},null,{"$f":"Burmester($B$3:$C$3,$B$4:$C$4,$B$6:$C$6,$E$3,$E$4,$E$6,B237)","v":{"$error":"#VALUE!"}},{"$error":"#VALUE!"},{"$f":"ThreePosition_Basic2($E$3,$E$6,$B$3:$C$3,$B$6:$C$6,B237,N237)","v":{"$error":"#VALUE!"}},{"$error":"#VALUE!"},{"$error":"#VALUE!"},{"$error":"#VALUE!"},{"$f":"ThreePosition_Basic2($E$3,$E$6,$B$3:$C$3,$B$6:$C$6,B237,O237)","v":{"$error":"#VALUE!"}},{"$error":"#VALUE!"},{"$error":"#VALUE!"},{"$error":"#VALUE!"}]
[111.5,1.9460421159736774,{"$f":"Burmester($B$3:$C$3,$B$4:$C$4,$B$5:$C$5,$E$3,$E$4,$E$5,B238)","v":{"$error":"#VALUE!"}},{"$error":"#VALUE!"},{"$f":"ThreePosition_Basic2($E$3,$E$5,$B$3:$C$3,$B$5:$C$5,B238,C238)","v":{"$error":"#VALUE!"}},{"$error":"#VALUE!"},{"$error":"#VALUE!"},{"$error":"#VALUE!"},{"$f":"ThreePosition_Basic2($E$3,$E$5,$B$3:$C$3,$B$5:$C$5,B238,D238)","v":{"$error":"#VALUE!"}},{"$error":"#VALUE!"},{"$error":"#VALUE!"},{"$error":"#VALUE!"},null,{"$f":"Burmester($B$3:$C$3,$B$4:$C$4,$B$6:$C$6,$E$3,$E$4,$E$6,B238)","v":{"$error":"#VALUE!"}},{"$error":"#VALUE!"},{"$f":"ThreePosition_Basic2($E$3,$E$6,$B$3:$C$3,$B$6:$C$6,B238,N238)","v":{"$error":"#VALUE!"}},{"$error":"#VALUE!"},{"$error":"#VALUE!"},{"$error":"#VALUE!"},{"$f":"ThreePosition_Basic2($E$3,$E$6,$B$3:$C$3,$B$6:$C$6,B238,O238)","v":{"$error":"#VALUE!"}},{"$error":"#VALUE!"},{"$error":"#VALUE!"},{"$error":"#VALUE!"}]
[112,1.9547687622336491,{"$f":"Burmester($B$3:$C$3,$B$4:$C$4,$B$5:$C$5,$E$3,$E$4,$E$5,B239)","v":{"$error":"#VALUE!"}},{"$error":"#VALUE!"},{"$f":"ThreePosition_Basic2($E$3,$E$5,$B$3:$C$3,$B$5:$C$5,B239,C239)","v":{"$error":"#VALUE!"}},{"$error":"#VALUE!"},{"$error":"#VALUE!"},{"$error":"#VALUE!"},{"$f":"ThreePosition_Basic2($E$3,$E$5,$B$3:$C$3,$B$5:$C$5,B239,D239)","v":{"$error":"#VALUE!"}},{"$error":"#VALUE!"},{"$error":"#VALUE!"},{"$error":"#VALUE!"},null,{"$f":"Burmester($B$3:$C$3,$B$4:$C$4,$B$6:$C$6,$E$3,$E$4,$E$6,B239)","v":{"$error":"#VALUE!"}},{"$error":"#VALUE!"},{"$f":"ThreePosition_Basic2($E$3,$E$6,$B$3:$C$3,$B$6:$C$6,B239,N239)","v":{"$error":"#VALUE!"}},{"$error":"#VALUE!"},{"$error":"#VALUE!"},{"$error":"#VALUE!"},{"$f":"ThreePosition_Basic2($E$3,$E$6,$B$3:$C$3,$B$6:$C$6,B239,O239)","v":{"$error":"#VALUE!"}},{"$error":"#VALUE!"},{"$error":"#VALUE!"},{"$error":"#VALUE!"}]
[112.5,1.9634954084936207,{"$f":"Burmester($B$3:$C$3,$B$4:$C$4,$B$5:$C$5,$E$3,$E$4,$E$5,B240)","v":{"$error":"#VALUE!"}},{"$error":"#VALUE!"},{"$f":"ThreePosition_Basic2($E$3,$E$5,$B$3:$C$3,$B$5:$C$5,B240,C240)","v":{"$error":"#VALUE!"}},{"$error":"#VALUE!"},{"$error":"#VALUE!"},{"$error":"#VALUE!"},{"$f":"ThreePosition_Basic2($E$3,$E$5,$B$3:$C$3,$B$5:$C$5,B240,D240)","v":{"$error":"#VALUE!"}},{"$error":"#VALUE!"},{"$error":"#VALUE!"},{"$error":"#VALUE!"},null,{"$f":"Burmester($B$3:$C$3,$B$4:$C$4,$B$6:$C$6,$E$3,$E$4,$E$6,B240)","v":{"$error":"#VALUE!"}},{"$error":"#VALUE!"},{"$f":"ThreePosition_Basic2($E$3,$E$6,$B$3:$C$3,$B$6:$C$6,B240,N240)","v":{"$error":"#VALUE!"}},{"$error":"#VALUE!"},{"$error":"#VALUE!"},{"$error":"#VALUE!"},{"$f":"ThreePosition_Basic2($E$3,$E$6,$B$3:$C$3,$B$6:$C$6,B240,O240)","v":{"$error":"#VALUE!"}},{"$error":"#VALUE!"},{"$error":"#VALUE!"},{"$error":"#VALUE!"}]
[113,1.9722220547535922,{"$f":"Burmester($B$3:$C$3,$B$4:$C$4,$B$5:$C$5,$E$3,$E$4,$E$5,B241)","v":{"$error":"#VALUE!"}},{"$error":"#VALUE!"},{"$f":"ThreePosition_Basic2($E$3,$E$5,$B$3:$C$3,$B$5:$C$5,B241,C241)","v":{"$error":"#VALUE!"}},{"$error":"#VALUE!"},{"$error":"#VALUE!"},{"$error":"#VALUE!"},{"$f":"ThreePosition_Basic2($E$3,$E$5,$B$3:$C$3,$B$5:$C$5,B241,D241)","v":{"$error":"#VALUE!"}},{"$error":"#VALUE!"},{"$error":"#VALUE!"},{"$error":"#VALUE!"},null,{"$f":"Burmester($B$3:$C$3,$B$4:$C$4,$B$6:$C$6,$E$3,$E$4,$E$6,B241)","v":3.7535398084297946},3.391522694824662,{"$f":"ThreePosition_Basic2($E$3,$E$6,$B$3:$C$3,$B$6:$C$6,B241,N241)","v":0.22692133411260912},2.0616272246832006,0.49567495299074782,2.8924655607486791,{"$f":"ThreePosition_Basic2($E$3,$E$6,$B$3:$C$3,$B$6:$C$6,B241,O241)","v":6.6099064612226088E-2},1.8566747935417685,0.36208073643413613,2.6876934296000443]
[113.5,1.9809487010135638,{"$f":"Burmester($B$3:$C$3,$B$4:$C$4,$B$5:$C$5,$E$3,$E$4,$E$5,B242)","v":{"$error":"#VALUE!"}},{"$error":"#VALUE!"},{"$f":"ThreePosition_Basic2($E$3,$E$5,$B$3:$C$3,$B$5:$C$5,B242,C242)","v":{"$error":"#VALUE!"}},{"$error":"#VALUE!"},{"$error":"#VALUE!"},{"$error":"#VALUE!"},{"$f":"ThreePosition_Basic2($E$3,$E$5,$B$3:$C$3,$B$5:$C$5,B242,D242)","v":{"$error":"#VALUE!"}},{"$error":"#VALUE!"},{"$error":"#VALUE!"},{"$error":"#VALUE!"},null,{"$f":"Burmester($B$3:$C$3,$B$4:$C$4,$B$6:$C$6,$E$3,$E$4,$E$6,B242)","v":3.8576779725273496},3.3072133104740256,{"$f":"ThreePosition_Basic2($E$3,$E$6,$B$3:$C$3,$B$6:$C$6,B242,N242)","v":0.24886787608242714},2.1280986728941023,0.51360607763834165,2.9528825551142663,{"$f":"ThreePosition_Basic2($E$3,$E$6,$B$3:$C$3,$B$6:$C$6,B242,O242)","v":9.2723150847244772E-3},1.8201212990364399,0.31467539437843095,2.6451666088401251]
[114,1.9896753472735356,{"$f":"Burmester($B$3:$C$3,$B$4:$C$4,$B$5:$C$5,$E$3,$E$4,$E$5,B243)","v":{"$error":"#VALUE!"}},{"$error":"#VALUE!"},{"$f":"ThreePosition_Basic2($E$3,$E$5,$B$3:$C$3,$B$5:$C$5,B243,C243)","v":{"$error":"#VALUE!"}},{"$error":"#VALUE!"},{"$error":"#VALUE!"},{"$error":"#VALUE!"},{"$f":"ThreePosition_Basic2($E$3,$E$5,$B$3:$C$3,$B$5:$C$5,B243,D243)","v":{"$error":"#VALUE!"}},{"$error":"#VALUE!"},{"$error":"#VALUE!"},{"$error":"#VALUE!"},null,{"$f":"Burmester($B$3:$C$3,$B$4:$C$4,$B$6:$C$6,$E$3,$E$4,$E$6,B243)","v":3.9374324350482426},3.2472256133706012,{"$f":"ThreePosition_Basic2($E$3,$E$6,$B$3:$C$3,$B$6:$C$6,B243,N243)","v":0.25894692393485924},2.1795226180459473,0.52166246987451748,2.9983371522658517,{"$f":"ThreePosition_Basic2($E$3,$E$6,$B$3:$C$3,$B$6:$C$6,B243,O243)","v":-3.5412446462438546E-2},1.7979252425005336,0.27738574596582166,2.6170490937052682]
[114.5,1.9984019935335071,{"$f":"Burmester($B$3:$C$3,$B$4:$C$4,$B$5:$C$5,$E$3,$E$4,$E$5,B244)","v":{"$error":"#VALUE!"}},{"$error":"#VALUE!"},{"$f":"ThreePosition_Basic2($E$3,$E$5,$B$3:$C$3,$B$5:$C$5,B244,C244)","v":{"$error":"#VALUE!"}},{"$error":"#VALUE!"},{"$error":"#VALUE!"},{"$error":"#VALUE!"},{"$f":"ThreePosition_Basic2($E$3,$E$5,$B$3:$C$3,$B$5:$C$5,B244,D244)","v":{"$error":"#VALUE!"}},{"$error":"#VALUE!"},{"$error":"#VALUE!"},{"$error":"#VALUE!"},null,{"$f":"Burmester($B$3:$C$3,$B$4:$C$4,$B$6:$C$6,$E$3,$E$4,$E$6,B244)","v":4.005661089774887},3.1987019775549772,{"$f":"ThreePosition_Basic2($E$3,$E$6,$B$3:$C$3,$B$6:$C$6,B244,N244)","v":0.26321301598177915},2.2234248716719458,0.52488099435948743,3.036346947094581,{"$f":"ThreePosition_Basic2($E$3,$E$6,$B$3:$C$3,$B$6:$C$6,B244,O244)","v":-7.4008794827198784E-2},1.7825797332415727,0.24517564472853454,2.5958391449894043]
[115,2.0071286397934789,{"$f":"Burmester($B$3:$C$3,$B$4:$C$4,$B$5:$C$5,$E$3,$E$4,$E$5,B245)","v":{"$error":"#VALUE!"}},{"$error":"#VALUE!"},{"$f":"ThreePosition_Basic2($E$3,$E$5,$B$3:$C$3,$B$5:$C$5,B245,C245)","v":{"$error":"#VALUE!"}},{"$error":"#VALUE!"},{"$error":"#VALUE!"},{"$error":"#VALUE!"},{"$f":"ThreePosition_Basic2($E$3,$E$5,$B$3:$C$3,$B$5:$C$5,B245,D245)","v":{"$error":"#VALUE!"}},{"$error":"#VALUE!"},{"$error":"#VALUE!"},{"$error":"#VALUE!"},null,{"$f":"Burmester($B$3:$C$3,$B$4:$C$4,$B$6:$C$6,$E$3,$E$4,$E$6,B245)","v":4.0668133744724653},3.1571932403057827,{"$f":"ThreePosition_Basic2($E$3,$E$6,$B$3:$C$3,$B$6:$C$6,B245,N245)","v":0.26381593850784218},2.262450506873853,0.5250512721881142,3.0695532259278875,{"$f":"ThreePosition_Basic2($E$3,$E$6,$B$3:$C$3,$B$6:$C$6,B245,O245)","v":-0.10866585539300946},1.771458052924946,0.21625592833719762,2.578910844466388]
[115.5,2.0158552860534509,{"$f":"Burmester($B$3:$C$3,$B$4:$C$4,$B$5:$C$5,$E$3,$E$4,$E$5,B246)","v":{"$error":"#VALUE!"}},{"$error":"#VALUE!"},{"$f":"ThreePosition_Basic2($E$3,$E$5,$B$3:$C$3,$B$5:$C$5,B246,C246)","v":{"$error":"#VALUE!"}},{"$error":"#VALUE!"},{"$error":"#VALUE!"},{"$error":"#VALUE!"},{"$f":"ThreePosition_Basic2($E$3,$E$5,$B$3:$C$3,$B$5:$C$5,B246,D246)","v":{"$error":"#VALUE!"}},{"$error":"#VALUE!"},{"$error":"#VALUE!"},{"$error":"#VALUE!"},null,{"$f":"Burmester($B$3:$C$3,$B$4:$C$4,$B$6:$C$6,$E$3,$E$4,$E$6,B246)","v":4.1230599111232458},3.1205290616104202,{"$f":"ThreePosition_Basic2($E$3,$E$6,$B$3:$C$3,$B$6:$C$6,B246,N246)","v":0.26183067597778487},2.2979107708642048,0.52306874641208312,3.0992646592734601,{"$f":"ThreePosition_Basic2($E$3,$E$6,$B$3:$C$3,$B$6:$C$6,B246,O246)","v":-0.14045823267127167},1.7632667592444458,0.18973137187639449,2.5649704163606577]
[116,2.0245819323134224,{"$f":"Burmester($B$3:$C$3,$B$4:$C$4,$B$5:$C$5,$E$3,$E$4,$E$5,B247)","v":{"$error":"#VALUE!"}},{"$error":"#VALUE!"},{"$f":"ThreePosition_Basic2($E$3,$E$5,$B$3:$C$3,$B$5:$C$5,B247,C247)","v":{"$error":"#VALUE!"}},{"$error":"#VALUE!"},{"$error":"#VALUE!"},{"$error":"#VALUE!"},{"$f":"ThreePosition_Basic2($E$3,$E$5,$B$3:$C$3,$B$5:$C$5,B247,D247)","v":{"$error":"#VALUE!"}},{"$error":"#VALUE!"},{"$error":"#VALUE!"},{"$error":"#VALUE!"},null,{"$f":"Burmester($B$3:$C$3,$B$4:$C$4,$B$6:$C$6,$E$3,$E$4,$E$6,B247)","v":4.1756523566689339},3.0874580731333117,{"$f":"ThreePosition_Basic2($E$3,$E$6,$B$3:$C$3,$B$6:$C$6,B247,N247)","v":0.25789229279960596},2.3305747860157306,0.5194627270429204,3.1262482882595366,{"$f":"ThreePosition_Basic2($E$3,$E$6,$B$3:$C$3,$B$6:$C$6,B247,O247)","v":-0.17002087173239627},1.7572540008046027,0.1650726604749243,2.5532652548644785]
[116.5,2.033308578573394,{"$f":"Burmester($B$3:$C$3,$B$4:$C$4,$B$5:$C$5,$E$3,$E$4,$E$5,B248)","v":{"$error":"#VALUE!"}},{"$error":"#VALUE!"},{"$f":"ThreePosition_Basic2($E$3,$E$5,$B$3:$C$3,$B$5:$C$5,B248,C248)","v":{"$error":"#VALUE!"}},{"$error":"#VALUE!"},{"$error":"#VALUE!"},{"$error":"#VALUE!"},{"$f":"ThreePosition_Basic2($E$3,$E$5,$B$3:$C$3,$B$5:$C$5,B248,D248)","v":{"$error":"#VALUE!"}},{"$error":"#VALUE!"},{"$error":"#VALUE!"},{"$error":"#VALUE!"},null,{"$f":"Burmester($B$3:$C$3,$B$4:$C$4,$B$6:$C$6,$E$3,$E$4,$E$6,B248)","v":4.2253899255188987},3.0571813554238871,{"$f":"ThreePosition_Basic2($E$3,$E$6,$B$3:$C$3,$B$6:$C$6,B248,N248)","v":0.25241600479454179},2.3609426640078315,0.51457947780169011,3.1510023952316009,{"$f":"ThreePosition_Basic2($E$3,$E$6,$B$3:$C$3,$B$6:$C$6,B248,O248)","v":-0.19776911059888894},1.7529364186073453,0.14193331909309739,2.5433110672271324]
[117,2.0420352248333655,{"$f":"Burmester($B$3:$C$3,$B$4:$C$4,$B$5:$C$5,$E$3,$E$4,$E$5,B249)","v":{"$error":"#VALUE!"}},{"$error":"#VALUE!"},{"$f":"ThreePosition_Basic2($E$3,$E$5,$B$3:$C$3,$B$5:$C$5,B249,C249)","v":{"$error":"#VALUE!"}},{"$error":"#VALUE!"},{"$error":"#VALUE!"},{"$error":"#VALUE!"},{"$f":"ThreePosition_Basic2($E$3,$E$5,$B$3:$C$3,$B$5:$C$5,B249,D249)","v":{"$error":"#VALUE!"}},{"$error":"#VALUE!"},{"$error":"#VALUE!"},{"$error":"#VALUE!"},null,{"$f":"Burmester($B$3:$C$3,$B$4:$C$4,$B$6:$C$6,$E$3,$E$4,$E$6,B249)","v":4.2728195836149769},3.0291522435736238,{"$f":"ThreePosition_Basic2($E$3,$E$6,$B$3:$C$3,$B$6:$C$6,B249,N249)","v":0.24569257899056063},2.3893633290106426,0.50866160415067563,3.1738742237183746,{"$f":"ThreePosition_Basic2($E$3,$E$6,$B$3:$C$3,$B$6:$C$6,B249,O249)","v":-0.22399406214388612},1.7499813381880827,0.12007033999618066,2.5347741671913617]
[117.5,2.0507618710933371,{"$f":"Burmester($B$3:$C$3,$B$4:$C$4,$B$5:$C$5,$E$3,$E$4,$E$5,B250)","v":{"$error":"#VALUE!"}},{"$error":"#VALUE!"},{"$f":"ThreePosition_Basic2($E$3,$E$5,$B$3:$C$3,$B$5:$C$5,B250,C250)","v":{"$error":"#VALUE!"}},{"$error":"#VALUE!"},{"$error":"#VALUE!"},{"$error":"#VALUE!"},{"$f":"ThreePosition_Basic2($E$3,$E$5,$B$3:$C$3,$B$5:$C$5,B250,D250)","v":{"$error":"#VALUE!"}},{"$error":"#VALUE!"},{"$error":"#VALUE!"},{"$error":"#VALUE!"},null,{"$f":"Burmester($B$3:$C$3,$B$4:$C$4,$B$6:$C$6,$E$3,$E$4,$E$6,B250)","v":4.3183350419326567},3.0029773334424035,{"$f":"ThreePosition_Basic2($E$3,$E$6,$B$3:$C$3,$B$6:$C$6,B250,N250)","v":0.23793598884318412},2.4160930841570272,0.50188772072615895,3.1951184947439861,{"$f":"ThreePosition_Basic2($E$3,$E$6,$B$3:$C$3,$B$6:$C$6,B250,O250)","v":-0.2489102525295617},1.7481482181392816,9.9304529855839013E-2,2.5274129717907901]
[118,2.0594885173533086,{"$f":"Burmester($B$3:$C$3,$B$4:$C$4,$B$5:$C$5,$E$3,$E$4,$E$5,B251)","v":{"$error":"#VALUE!"}},{"$error":"#VALUE!"},{"$f":"ThreePosition_Basic2($E$3,$E$5,$B$3:$C$3,$B$5:$C$5,B251,C251)","v":{"$error":"#VALUE!"}},{"$error":"#VALUE!"},{"$error":"#VALUE!"},{"$error":"#VALUE!"},{"$f":"ThreePosition_Basic2($E$3,$E$5,$B$3:$C$3,$B$5:$C$5,B251,D251)","v":{"$error":"#VALUE!"}},{"$error":"#VALUE!"},{"$error":"#VALUE!"},{"$error":"#VALUE!"},null,{"$f":"Burmester($B$3:$C$3,$B$4:$C$4,$B$6:$C$6,$E$3,$E$4,$E$6,B251)","v":4.3622308172401763},2.9783624206326524,{"$f":"ThreePosition_Basic2($E$3,$E$6,$B$3:$C$3,$B$6:$C$6,B251,N251)","v":0.22930970700371381},2.4413277604081753,0.49439434299171681,3.2149295288715134,{"$f":"ThreePosition_Basic2($E$3,$E$6,$B$3:$C$3,$B$6:$C$6,B251,O251)","v":-0.27268189824006173},1.7472565159068958,7.9498631717600132E-2,2.5210458921159691]
[118.5,2.0682151636132806,{"$f":"Burmester($B$3:$C$3,$B$4:$C$4,$B$5:$C$5,$E$3,$E$4,$E$5,B252)","v":{"$error":"#VALUE!"}},{"$error":"#VALUE!"},{"$f":"ThreePosition_Basic2($E$3,$E$5,$B$3:$C$3,$B$5:$C$5,B252,C252)","v":{"$error":"#VALUE!"}},{"$error":"#VALUE!"},{"$error":"#VALUE!"},{"$error":"#VALUE!"},{"$f":"ThreePosition_Basic2($E$3,$E$5,$B$3:$C$3,$B$5:$C$5,B252,D252)","v":{"$error":"#VALUE!"}},{"$error":"#VALUE!"},{"$error":"#VALUE!"},{"$error":"#VALUE!"},null,{"$f":"Burmester($B$3:$C$3,$B$4:$C$4,$B$6:$C$6,$E$3,$E$4,$E$6,B252)","v":4.4047340194864519},2.9550807128403815,{"$f":"ThreePosition_Basic2($E$3,$E$6,$B$3:$C$3,$B$6:$C$6,B252,N252)","v":0.21994232690576732},2.4652217173978572,0.48628889759610061,3.233460231632229,{"$f":"ThreePosition_Basic2($E$3,$E$6,$B$3:$C$3,$B$6:$C$6,B252,O252)","v":-0.2954385129179688},1.7471667012678134,6.0544327404604914E-2,2.5155323603894337]
[119,2.0769418098732522,{"$f":"Burmester($B$3:$C$3,$B$4:$C$4,$B$5:$C$5,$E$3,$E$4,$E$5,B253)","v":{"$error":"#VALUE!"}},{"$error":"#VALUE!"},{"$f":"ThreePosition_Basic2($E$3,$E$5,$B$3:$C$3,$B$5:$C$5,B253,C253)","v":{"$error":"#VALUE!"}},{"$error":"#VALUE!"},{"$error":"#VALUE!"},{"$error":"#VALUE!"},{"$f":"ThreePosition_Basic2($E$3,$E$5,$B$3:$C$3,$B$5:$C$5,B253,D253)","v":{"$error":"#VALUE!"}},{"$error":"#VALUE!"},{"$error":"#VALUE!"},{"$error":"#VALUE!"},null,{"$f":"Burmester($B$3:$C$3,$B$4:$C$4,$B$6:$C$6,$E$3,$E$4,$E$6,B253)","v":4.4460241461945227},2.9329530352064292,{"$f":"ThreePosition_Basic2($E$3,$E$6,$B$3:$C$3,$B$6:$C$6,B253,N253)","v":0.20993739401652634},2.4878997366674742,0.477657912644808,3.2508339773715011,{"$f":"ThreePosition_Basic2($E$3,$E$6,$B$3:$C$3,$B$6:$C$6,B253,O253)","v":-0.31728472479231867},1.7477683770713852,4.2354059199759819E-2,2.5107609583152395]
[119.5,2.0856684561332237,{"$f":"Burmester($B$3:$C$3,$B$4:$C$4,$B$5:$C$5,$E$3,$E$4,$E$5,B254)","v":{"$error":"#VALUE!"}},{"$error":"#VALUE!"},{"$f":"ThreePosition_Basic2($E$3,$E$5,$B$3:$C$3,$B$5:$C$5,B254,C254)","v":{"$error":"#VALUE!"}},{"$error":"#VALUE!"},{"$error":"#VALUE!"},{"$error":"#VALUE!"},{"$f":"ThreePosition_Basic2($E$3,$E$5,$B$3:$C$3,$B$5:$C$5,B254,D254)","v":{"$error":"#VALUE!"}},{"$error":"#VALUE!"},{"$error":"#VALUE!"},{"$error":"#VALUE!"},null,{"$f":"Burmester($B$3:$C$3,$B$4:$C$4,$B$6:$C$6,$E$3,$E$4,$E$6,B254)","v":4.4862459879560159},2.9118349245724349,{"$f":"ThreePosition_Basic2($E$3,$E$6,$B$3:$C$3,$B$6:$C$6,B254,N254)","v":0.19937988512005081},2.5094648161569562,0.46857241710119191,3.2671523977280899,{"$f":"ThreePosition_Basic2($E$3,$E$6,$B$3:$C$3,$B$6:$C$6,B254,O254)","v":-0.33830674301040953},1.7489724983770256,2.4855641638782566E-2,2.5066416404842138]
[120,2.0943951023931953,{"$f":"Burmester($B$3:$C$3,$B$4:$C$4,$B$5:$C$5,$E$3,$E$4,$E$5,B255)","v":{"$error":"#VALUE!"}},{"$error":"#VALUE!"},{"$f":"ThreePosition_Basic2($E$3,$E$5,$B$3:$C$3,$B$5:$C$5,B255,C255)","v":{"$error":"#VALUE!"}},{"$error":"#VALUE!"},{"$error":"#VALUE!"},{"$error":"#VALUE!"},{"$f":"ThreePosition_Basic2($E$3,$E$5,$B$3:$C$3,$B$5:$C$5,B255,D255)","v":{"$error":"#VALUE!"}},{"$error":"#VALUE!"},{"$error":"#VALUE!"},{"$error":"#VALUE!"},null,{"$f":"Burmester($B$3:$C$3,$B$4:$C$4,$B$6:$C$6,$E$3,$E$4,$E$6,B255)","v":4.5255183653537845},2.8916078923143518,{"$f":"ThreePosition_Basic2($E$3,$E$6,$B$3:$C$3,$B$6:$C$6,B255,N255)","v":0.18834064329519287},2.5300034747974349,0.45909163773104222,3.2825006821981533,{"$f":"ThreePosition_Basic2($E$3,$E$6,$B$3:$C$3,$B$6:$C$6,B255,O255)","v":-0.3585767804840328},1.7507060811404986,7.9885750456957783E-3,2.5031004453828833]
[120.5,2.1031217486531673,{"$f":"Burmester($B$3:$C$3,$B$4:$C$4,$B$5:$C$5,$E$3,$E$4,$E$5,B256)","v":{"$error":"#VALUE!"}},{"$error":"#VALUE!"},{"$f":"ThreePosition_Basic2($E$3,$E$5,$B$3:$C$3,$B$5:$C$5,B256,C256)","v":{"$error":"#VALUE!"}},{"$error":"#VALUE!"},{"$error":"#VALUE!"},{"$error":"#VALUE!"},{"$f":"ThreePosition_Basic2($E$3,$E$5,$B$3:$C$3,$B$5:$C$5,B256,D256)","v":{"$error":"#VALUE!"}},{"$error":"#VALUE!"},{"$error":"#VALUE!"},{"$error":"#VALUE!"},null,{"$f":"Burmester($B$3:$C$3,$B$4:$C$4,$B$6:$C$6,$E$3,$E$4,$E$6,B256)","v":4.5639402328261349},2.8721733202400768,{"$f":"ThreePosition_Basic2($E$3,$E$6,$B$3:$C$3,$B$6:$C$6,B256,N256)","v":0.1768795113154919},2.5495894782555455,0.44926561188854941,3.2969513010587841,{"$f":"ThreePosition_Basic2($E$3,$E$6,$B$3:$C$3,$B$6:$C$6,B256,O256)","v":-0.37815617592842693},1.7529084893989428,-8.2985574441183374E-3,2.5000757837316607]
[121,2.1118483949131388,{"$f":"Burmester($B$3:$C$3,$B$4:$C$4,$B$5:$C$5,$E$3,$E$4,$E$5,B257)","v":{"$error":"#VALUE!"}},{"$error":"#VALUE!"},{"$f":"ThreePosition_Basic2($E$3,$E$5,$B$3:$C$3,$B$5:$C$5,B257,C257)","v":{"$error":"#VALUE!"}},{"$error":"#VALUE!"},{"$error":"#VALUE!"},{"$error":"#VALUE!"},{"$f":"ThreePosition_Basic2($E$3,$E$5,$B$3:$C$3,$B$5:$C$5,B257,D257)","v":{"$error":"#VALUE!"}},{"$error":"#VALUE!"},{"$error":"#VALUE!"},{"$error":"#VALUE!"},null,{"$f":"Burmester($B$3:$C$3,$B$4:$C$4,$B$6:$C$6,$E$3,$E$4,$E$6,B257)","v":4.6015950583886909},2.8534480806351477,{"$f":"ThreePosition_Basic2($E$3,$E$6,$B$3:$C$3,$B$6:$C$6,B257,N257)","v":0.16504760586897538},2.5682865268263937,0.43913708448639738,3.3105666911982246,{"$f":"ThreePosition_Basic2($E$3,$E$6,$B$3:$C$3,$B$6:$C$6,B257,O257)","v":-0.3970976574457375},1.7555287599587257,-2.4049977675640377E-2,2.4975157636066267]
[121.5,2.1205750411731104,{"$f":"Burmester($B$3:$C$3,$B$4:$C$4,$B$5:$C$5,$E$3,$E$4,$E$5,B258)","v":{"$error":"#VALUE!"}},{"$error":"#VALUE!"},{"$f":"ThreePosition_Basic2($E$3,$E$5,$B$3:$C$3,$B$5:$C$5,B258,C258)","v":{"$error":"#VALUE!"}},{"$error":"#VALUE!"},{"$error":"#VALUE!"},{"$error":"#VALUE!"},{"$f":"ThreePosition_Basic2($E$3,$E$5,$B$3:$C$3,$B$5:$C$5,B258,D258)","v":{"$error":"#VALUE!"}},{"$error":"#VALUE!"},{"$error":"#VALUE!"},{"$error":"#VALUE!"},null,{"$f":"Burmester($B$3:$C$3,$B$4:$C$4,$B$6:$C$6,$E$3,$E$4,$E$6,B258)","v":4.6385540392083398},2.8353613204620141,{"$f":"ThreePosition_Basic2($E$3,$E$6,$B$3:$C$3,$B$6:$C$6,B258,N258)","v":0.15288900688350587},2.5861502398440641,0.42874291755927885,3.3234012389509866,{"$f":"ThreePosition_Basic2($E$3,$E$6,$B$3:$C$3,$B$6:$C$6,B258,O258)","v":-0.41544702189513327},1.7585236302194562,-3.930411345192486E-2,2.4953762182490165]
[122,2.1293016874330819,{"$f":"Burmester($B$3:$C$3,$B$4:$C$4,$B$5:$C$5,$E$3,$E$4,$E$5,B259)","v":{"$error":"#VALUE!"}},{"$error":"#VALUE!"},{"$f":"ThreePosition_Basic2($E$3,$E$5,$B$3:$C$3,$B$5:$C$5,B259,C259)","v":{"$error":"#VALUE!"}},{"$error":"#VALUE!"},{"$error":"#VALUE!"},{"$error":"#VALUE!"},{"$f":"ThreePosition_Basic2($E$3,$E$5,$B$3:$C$3,$B$5:$C$5,B259,D259)","v":{"$error":"#VALUE!"}},{"$error":"#VALUE!"},{"$error":"#VALUE!"},{"$error":"#VALUE!"},null,{"$f":"Burmester($B$3:$C$3,$B$4:$C$4,$B$6:$C$6,$E$3,$E$4,$E$6,B259)","v":4.6748785100642678},2.8178520526778552,{"$f":"ThreePosition_Basic2($E$3,$E$6,$B$3:$C$3,$B$6:$C$6,B259,N259)","v":0.14044203794460025},2.6032296504614041,0.41811515899716512,3.3355027736219913,{"$f":"ThreePosition_Basic2($E$3,$E$6,$B$3:$C$3,$B$6:$C$6,B259,O259)","v":-0.43324440599545011},1.761856055285441,-5.409465923819673E-2,2.4936192228813843]
[122.5,2.1380283336930535,{"$f":"Burmester($B$3:$C$3,$B$4:$C$4,$B$5:$C$5,$E$3,$E$4,$E$5,B260)","v":{"$error":"#VALUE!"}},{"$error":"#VALUE!"},{"$f":"ThreePosition_Basic2($E$3,$E$5,$B$3:$C$3,$B$5:$C$5,B260,C260)","v":{"$error":"#VALUE!"}},{"$error":"#VALUE!"},{"$error":"#VALUE!"},{"$error":"#VALUE!"},{"$f":"ThreePosition_Basic2($E$3,$E$5,$B$3:$C$3,$B$5:$C$5,B260,D260)","v":{"$error":"#VALUE!"}},{"$error":"#VALUE!"},{"$error":"#VALUE!"},{"$error":"#VALUE!"},null,{"$f":"Burmester($B$3:$C$3,$B$4:$C$4,$B$6:$C$6,$E$3,$E$4,$E$6,B260)","v":4.7106217791751455},2.8008673201918342,{"$f":"ThreePosition_Basic2($E$3,$E$6,$B$3:$C$3,$B$6:$C$6,B260,N260)","v":0.12774025412362824},2.6195683516809316,0.40728186734390404,3.3469137124751644,{"$f":"ThreePosition_Basic2($E$3,$E$6,$B$3:$C$3,$B$6:$C$6,B260,O260)","v":-0.45052526543970278},1.7654940734866427,-6.8451393454161624E-2,2.4922119597587917]
[123,2.1467549799530254,{"$f":"Burmester($B$3:$C$3,$B$4:$C$4,$B$5:$C$5,$E$3,$E$4,$E$5,B261)","v":{"$error":"#VALUE!"}},{"$error":"#VALUE!"},{"$f":"ThreePosition_Basic2($E$3,$E$5,$B$3:$C$3,$B$5:$C$5,B261,C261)","v":{"$error":"#VALUE!"}},{"$error":"#VALUE!"},{"$error":"#VALUE!"},{"$error":"#VALUE!"},{"$f":"ThreePosition_Basic2($E$3,$E$5,$B$3:$C$3,$B$5:$C$5,B261,D261)","v":{"$error":"#VALUE!"}},{"$error":"#VALUE!"},{"$error":"#VALUE!"},{"$error":"#VALUE!"},null,{"$f":"Burmester($B$3:$C$3,$B$4:$C$4,$B$6:$C$6,$E$3,$E$4,$E$6,B261)","v":4.7458305494249124},2.7843607744293202,{"$f":"ThreePosition_Basic2($E$3,$E$6,$B$3:$C$3,$B$6:$C$6,B261,N261)","v":0.11481321611837002},2.6352053888803422,0.3962677583997623,3.3576719523611116,{"$f":"ThreePosition_Basic2($E$3,$E$6,$B$3:$C$3,$B$6:$C$6,B261,O261)","v":-0.46732114088709581},1.769409925070174,-8.2400818061359626E-2,2.4911258362847053]
[123.5,2.155481626212997,{"$f":"Burmester($B$3:$C$3,$B$4:$C$4,$B$5:$C$5,$E$3,$E$4,$E$5,B262)","v":{"$error":"#VALUE!"}},{"$error":"#VALUE!"},{"$f":"ThreePosition_Basic2($E$3,$E$5,$B$3:$C$3,$B$5:$C$5,B262,C262)","v":{"$error":"#VALUE!"}},{"$error":"#VALUE!"},{"$error":"#VALUE!"},{"$error":"#VALUE!"},{"$f":"ThreePosition_Basic2($E$3,$E$5,$B$3:$C$3,$B$5:$C$5,B262,D262)","v":{"$error":"#VALUE!"}},{"$error":"#VALUE!"},{"$error":"#VALUE!"},{"$error":"#VALUE!"},null,{"$f":"Burmester($B$3:$C$3,$B$4:$C$4,$B$6:$C$6,$E$3,$E$4,$E$6,B262)","v":4.7805460339584913},2.7682915595316664,{"$f":"ThreePosition_Basic2($E$3,$E$6,$B$3:$C$3,$B$6:$C$6,B262,N262)","v":0.10168710546819629},2.6501759647087688,0.38509471926215633,3.3678115738147265,{"$f":"ThreePosition_Basic2($E$3,$E$6,$B$3:$C$3,$B$6:$C$6,B262,O262)","v":-0.48366026556052905},1.773579358191274,-9.5966666049838223E-2,2.490335790365549]
[124,2.1642082724729685,{"$f":"Burmester($B$3:$C$3,$B$4:$C$4,$B$5:$C$5,$E$3,$E$4,$E$5,B263)","v":{"$error":"#VALUE!"}},{"$error":"#VALUE!"},{"$f":"ThreePosition_Basic2($E$3,$E$5,$B$3:$C$3,$B$5:$C$5,B263,C263)","v":{"$error":"#VALUE!"}},{"$error":"#VALUE!"},{"$error":"#VALUE!"},{"$error":"#VALUE!"},{"$f":"ThreePosition_Basic2($E$3,$E$5,$B$3:$C$3,$B$5:$C$5,B263,D263)","v":{"$error":"#VALUE!"}},{"$error":"#VALUE!"},{"$error":"#VALUE!"},{"$error":"#VALUE!"},null,{"$f":"Burmester($B$3:$C$3,$B$4:$C$4,$B$6:$C$6,$E$3,$E$4,$E$6,B263)","v":4.8148048428309345},2.752623425508026,{"$f":"ThreePosition_Basic2($E$3,$E$6,$B$3:$C$3,$B$6:$C$6,B263,N263)","v":8.8385219634510917E-2},2.6645120028516009,0.37378222213523798,3.377363404090362,{"$f":"ThreePosition_Basic2($E$3,$E$6,$B$3:$C$3,$B$6:$C$6,B263,O263)","v":-0.49956805320810005},1.7779810757115844,-0.10917030912672865,2.4898197365415173]
[124.5,2.1729349187329401,{"$f":"Burmester($B$3:$C$3,$B$4:$C$4,$B$5:$C$5,$E$3,$E$4,$E$5,B264)","v":{"$error":"#VALUE!"}},{"$error":"#VALUE!"},{"$f":"ThreePosition_Basic2($E$3,$E$5,$B$3:$C$3,$B$5:$C$5,B264,C264)","v":{"$error":"#VALUE!"}},{"$error":"#VALUE!"},{"$error":"#VALUE!"},{"$error":"#VALUE!"},{"$f":"ThreePosition_Basic2($E$3,$E$5,$B$3:$C$3,$B$5:$C$5,B264,D264)","v":{"$error":"#VALUE!"}},{"$error":"#VALUE!"},{"$error":"#VALUE!"},{"$error":"#VALUE!"},null,{"$f":"Burmester($B$3:$C$3,$B$4:$C$4,$B$6:$C$6,$E$3,$E$4,$E$6,B264)","v":4.8486396956625306},2.7373240153865921,{"$f":"ThreePosition_Basic2($E$3,$E$6,$B$3:$C$3,$B$6:$C$6,B264,N264)","v":7.4928374930015598E-2},2.6782426040849692,0.36234766123597872,3.3863554725353748,{"$f":"ThreePosition_Basic2($E$3,$E$6,$B$3:$C$3,$B$6:$C$6,B264,O264)","v":-0.51506749438181088},1.7825962893895722,-0.12203108890785225,2.4895581194983283]
[125,2.1816615649929116,{"$f":"Burmester($B$3:$C$3,$B$4:$C$4,$B$5:$C$5,$E$3,$E$4,$E$5,B265)","v":{"$error":"#VALUE!"}},{"$error":"#VALUE!"},{"$f":"ThreePosition_Basic2($E$3,$E$5,$B$3:$C$3,$B$5:$C$5,B265,C265)","v":{"$error":"#VALUE!"}},{"$error":"#VALUE!"},{"$error":"#VALUE!"},{"$error":"#VALUE!"},{"$f":"ThreePosition_Basic2($E$3,$E$5,$B$3:$C$3,$B$5:$C$5,B265,D265)","v":{"$error":"#VALUE!"}},{"$error":"#VALUE!"},{"$error":"#VALUE!"},{"$error":"#VALUE!"},null,{"$f":"Burmester($B$3:$C$3,$B$4:$C$4,$B$6:$C$6,$E$3,$E$4,$E$6,B265)","v":4.8820800003302338},2.7223642863348627,{"$f":"ThreePosition_Basic2($E$3,$E$6,$B$3:$C$3,$B$6:$C$6,B265,N265)","v":6.1335237819005531E-2},2.6913944190378873,0.35080662990769784,3.394813382706297,{"$f":"ThreePosition_Basic2($E$3,$E$6,$B$3:$C$3,$B$6:$C$6,B265,O265)","v":-0.53017948152717387},1.7874083570514476,-0.13456658869839316,2.4895335505614873]
[125.5,2.1903882112528836,{"$f":"Burmester($B$3:$C$3,$B$4:$C$4,$B$5:$C$5,$E$3,$E$4,$E$5,B266)","v":{"$error":"#VALUE!"}},{"$error":"#VALUE!"},{"$f":"ThreePosition_Basic2($E$3,$E$5,$B$3:$C$3,$B$5:$C$5,B266,C266)","v":{"$error":"#VALUE!"}},{"$error":"#VALUE!"},{"$error":"#VALUE!"},{"$error":"#VALUE!"},{"$f":"ThreePosition_Basic2($E$3,$E$5,$B$3:$C$3,$B$5:$C$5,B266,D266)","v":{"$error":"#VALUE!"}},{"$error":"#VALUE!"},{"$error":"#VALUE!"},{"$error":"#VALUE!"},null,{"$f":"Burmester($B$3:$C$3,$B$4:$C$4,$B$6:$C$6,$E$3,$E$4,$E$6,B266)","v":4.9151523272913229},2.7077180351529408,{"$f":"ThreePosition_Basic2($E$3,$E$6,$B$3:$C$3,$B$6:$C$6,B266,N266)","v":4.7622599865051192E-2},2.7039919557680818,0.33917315068056691,3.4027606193243267,{"$f":"ThreePosition_Basic2($E$3,$E$6,$B$3:$C$3,$B$6:$C$6,B266,O266)","v":-0.54492307813325558},1.7924024846431397,-0.14679285857875923,2.4897305090823938]
[126,2.1991148575128552,{"$f":"Burmester($B$3:$C$3,$B$4:$C$4,$B$5:$C$5,$E$3,$E$4,$E$5,B267)","v":{"$error":"#VALUE!"}},{"$error":"#VALUE!"},{"$f":"ThreePosition_Basic2($E$3,$E$5,$B$3:$C$3,$B$5:$C$5,B267,C267)","v":{"$error":"#VALUE!"}},{"$error":"#VALUE!"},{"$error":"#VALUE!"},{"$error":"#VALUE!"},{"$f":"ThreePosition_Basic2($E$3,$E$5,$B$3:$C$3,$B$5:$C$5,B267,D267)","v":{"$error":"#VALUE!"}},{"$error":"#VALUE!"},{"$error":"#VALUE!"},{"$error":"#VALUE!"},null,{"$f":"Burmester($B$3:$C$3,$B$4:$C$4,$B$6:$C$6,$E$3,$E$4,$E$6,B267)","v":4.9478808017182221},2.69336150596089,{"$f":"ThreePosition_Basic2($E$3,$E$6,$B$3:$C$3,$B$6:$C$6,B267,N267)","v":3.3805607852928028E-2},2.7160578357591545,0.32745986789368398,3.4102188036714267,{"$f":"ThreePosition_Basic2($E$3,$E$6,$B$3:$C$3,$B$6:$C$6,B267,O267)","v":-0.55931574344480739},1.7975654795624776,-0.15872460338822753,2.4901350951211643]
[126.5,2.2078415037728267,{"$f":"Burmester($B$3:$C$3,$B$4:$C$4,$B$5:$C$5,$E$3,$E$4,$E$5,B268)","v":{"$error":"#VALUE!"}},{"$error":"#VALUE!"},{"$f":"ThreePosition_Basic2($E$3,$E$5,$B$3:$C$3,$B$5:$C$5,B268,C268)","v":{"$error":"#VALUE!"}},{"$error":"#VALUE!"},{"$error":"#VALUE!"},{"$error":"#VALUE!"},{"$f":"ThreePosition_Basic2($E$3,$E$5,$B$3:$C$3,$B$5:$C$5,B268,D268)","v":{"$error":"#VALUE!"}},{"$error":"#VALUE!"},{"$error":"#VALUE!"},{"$error":"#VALUE!"},null,{"$f":"Burmester($B$3:$C$3,$B$4:$C$4,$B$6:$C$6,$E$3,$E$4,$E$6,B268)","v":4.9802874302716322},2.6792730632529169,{"$f":"ThreePosition_Basic2($E$3,$E$6,$B$3:$C$3,$B$6:$C$6,B268,N268)","v":1.9897957891116137E-2},2.7276130086923893,0.31567821022559994,3.4172079077760307,{"$f":"ThreePosition_Basic2($E$3,$E$6,$B$3:$C$3,$B$6:$C$6,B268,O268)","v":-0.57337352151905163},1.8028855449252694,-0.17037534093252021,2.4907348230835336]
[127,2.2165681500327987,{"$f":"Burmester($B$3:$C$3,$B$4:$C$4,$B$5:$C$5,$E$3,$E$4,$E$5,B269)","v":{"$error":"#VALUE!"}},{"$error":"#VALUE!"},{"$f":"ThreePosition_Basic2($E$3,$E$5,$B$3:$C$3,$B$5:$C$5,B269,C269)","v":{"$error":"#VALUE!"}},{"$error":"#VALUE!"},{"$error":"#VALUE!"},{"$error":"#VALUE!"},{"$f":"ThreePosition_Basic2($E$3,$E$5,$B$3:$C$3,$B$5:$C$5,B269,D269)","v":{"$error":"#VALUE!"}},{"$error":"#VALUE!"},{"$error":"#VALUE!"},{"$error":"#VALUE!"},null,{"$f":"Burmester($B$3:$C$3,$B$4:$C$4,$B$6:$C$6,$E$3,$E$4,$E$6,B269)","v":5.01239237542441},2.6654329174058717,{"$f":"ThreePosition_Basic2($E$3,$E$6,$B$3:$C$3,$B$6:$C$6,B269,N269)","v":5.9120602998551418E-3},2.7386769339597437,0.30383852881170015,3.4237464353519926,{"$f":"ThreePosition_Basic2($E$3,$E$6,$B$3:$C$3,$B$6:$C$6,B269,O269)","v":-0.58711120140979534},1.8083521068057389,-0.18175753607426404,2.4915184483545079]
[127.5,2.2252947962927703,{"$f":"Burmester($B$3:$C$3,$B$4:$C$4,$B$5:$C$5,$E$3,$E$4,$E$5,B270)","v":{"$error":"#VALUE!"}},{"$error":"#VALUE!"},{"$f":"ThreePosition_Basic2($E$3,$E$5,$B$3:$C$3,$B$5:$C$5,B270,C270)","v":{"$error":"#VALUE!"}},{"$error":"#VALUE!"},{"$error":"#VALUE!"},{"$error":"#VALUE!"},{"$f":"ThreePosition_Basic2($E$3,$E$5,$B$3:$C$3,$B$5:$C$5,B270,D270)","v":{"$error":"#VALUE!"}},{"$error":"#VALUE!"},{"$error":"#VALUE!"},{"$error":"#VALUE!"},null,{"$f":"Burmester($B$3:$C$3,$B$4:$C$4,$B$6:$C$6,$E$3,$E$4,$E$6,B270)","v":5.0442141873488993},2.6518228926292933,{"$f":"ThreePosition_Basic2($E$3,$E$6,$B$3:$C$3,$B$6:$C$6,B270,N270)","v":-8.1408194012599043E-3},2.7492677351120012,0.29195021538363902,3.4298515756827985,{"$f":"ThreePosition_Basic2($E$3,$E$6,$B$3:$C$3,$B$6:$C$6,B270,O270)","v":-0.60054245377189663},1.8139556682645961,-0.19288271512325345,2.4924758207433002]
[128,2.2340214425527418,{"$f":"Burmester($B$3:$C$3,$B$4:$C$4,$B$5:$C$5,$E$3,$E$4,$E$5,B271)","v":{"$error":"#VALUE!"}},{"$error":"#VALUE!"},{"$f":"ThreePosition_Basic2($E$3,$E$5,$B$3:$C$3,$B$5:$C$5,B271,C271)","v":{"$error":"#VALUE!"}},{"$error":"#VALUE!"},{"$error":"#VALUE!"},{"$error":"#VALUE!"},{"$f":"ThreePosition_Basic2($E$3,$E$5,$B$3:$C$3,$B$5:$C$5,B271,D271)","v":{"$error":"#VALUE!"}},{"$error":"#VALUE!"},{"$error":"#VALUE!"},{"$error":"#VALUE!"},null,{"$f":"Burmester($B$3:$C$3,$B$4:$C$4,$B$6:$C$6,$E$3,$E$4,$E$6,B271)","v":5.07577000120747},2.6384262295171661,{"$f":"ThreePosition_Basic2($E$3,$E$6,$B$3:$C$3,$B$6:$C$6,B271,N271)","v":-2.2250439215971005E-2},2.7594023321040808,0.28002180392883674,3.4355393353117534,{"$f":"ThreePosition_Basic2($E$3,$E$6,$B$3:$C$3,$B$6:$C$6,B271,O271)","v":-0.61367994805652393},1.8196876853098798,-0.20376156400732909,2.4935977598852288]
[128.5,{"$f":"A272*PI()/180","v":2.2427480888127134},{"$f":"Burmester($B$3:$C$3,$B$4:$C$4,$B$5:$C$5,$E$3,$E$4,$E$5,B272)","v":{"$error":"#VALUE!"}},{"$error":"#VALUE!"},{"$f":"ThreePosition_Basic2($E$3,$E$5,$B$3:$C$3,$B$5:$C$5,B272,C272)","v":{"$error":"#VALUE!"}},{"$error":"#VALUE!"},{"$error":"#VALUE!"},{"$error":"#VALUE!"},{"$f":"ThreePosition_Basic2($E$3,$E$5,$B$3:$C$3,$B$5:$C$5,B272,D272)","v":{"$error":"#VALUE!"}},{"$error":"#VALUE!"},{"$error":"#VALUE!"},{"$error":"#VALUE!"},null,{"$f":"Burmester($B$3:$C$3,$B$4:$C$4,$B$6:$C$6,$E$3,$E$4,$E$6,B272)","v":5.107075706040181},2.6252274160073967,{"$f":"ThreePosition_Basic2($E$3,$E$6,$B$3:$C$3,$B$6:$C$6,B272,N272)","v":-3.6407475770454813E-2},2.7690965551879678,0.26806105865384533,3.4408246513877718,{"$f":"ThreePosition_Basic2($E$3,$E$6,$B$3:$C$3,$B$6:$C$6,B272,O272)","v":-0.62653545361252427},1.825540460947346,-0.21440401299150508,2.4948759487574579]
[129,2.2514747350726849,{"$f":"Burmester($B$3:$C$3,$B$4:$C$4,$B$5:$C$5,$E$3,$E$4,$E$5,B273)","v":{"$error":"#VALUE!"}},{"$error":"#VALUE!"},{"$f":"ThreePosition_Basic2($E$3,$E$5,$B$3:$C$3,$B$5:$C$5,B273,C273)","v":{"$error":"#VALUE!"}},{"$error":"#VALUE!"},{"$error":"#VALUE!"},{"$error":"#VALUE!"},{"$f":"ThreePosition_Basic2($E$3,$E$5,$B$3:$C$3,$B$5:$C$5,B273,D273)","v":{"$error":"#VALUE!"}},{"$error":"#VALUE!"},{"$error":"#VALUE!"},{"$error":"#VALUE!"},null,{"$f":"Burmester($B$3:$C$3,$B$4:$C$4,$B$6:$C$6,$E$3,$E$4,$E$6,B273)","v":5.1381460901846516},2.6122120418138377,{"$f":"ThreePosition_Basic2($E$3,$E$6,$B$3:$C$3,$B$6:$C$6,B273,N273)","v":-5.0603433113996406E-2},2.7783652435277313,0.25607505048560547,3.4457214897407038,{"$f":"ThreePosition_Basic2($E$3,$E$6,$B$3:$C$3,$B$6:$C$6,B273,O273)","v":-0.63911992735133438},1.8315070542531362,-0.22481931016421308,2.4963028422410947]
[129.5,2.2602013813326565,{"$f":"Burmester($B$3:$C$3,$B$4:$C$4,$B$5:$C$5,$E$3,$E$4,$E$5,B274)","v":{"$error":"#VALUE!"}},{"$error":"#VALUE!"},{"$f":"ThreePosition_Basic2($E$3,$E$5,$B$3:$C$3,$B$5:$C$5,B274,C274)","v":{"$error":"#VALUE!"}},{"$error":"#VALUE!"},{"$error":"#VALUE!"},{"$error":"#VALUE!"},{"$f":"ThreePosition_Basic2($E$3,$E$5,$B$3:$C$3,$B$5:$C$5,B274,D274)","v":{"$error":"#VALUE!"}},{"$error":"#VALUE!"},{"$error":"#VALUE!"},{"$error":"#VALUE!"},null,{"$f":"Burmester($B$3:$C$3,$B$4:$C$4,$B$6:$C$6,$E$3,$E$4,$E$6,B274)","v":5.168994967191332},2.5993666723675952,{"$f":"ThreePosition_Basic2($E$3,$E$6,$B$3:$C$3,$B$6:$C$6,B274,N274)","v":-6.4830563058376464E-2},2.7872223310102515,0.2440702239174653,3.4502429301594808,{"$f":"ThreePosition_Basic2($E$3,$E$6,$B$3:$C$3,$B$6:$C$6,B274,O274)","v":-0.6514435901218939},1.8375812020022511,-0.23501608548325909,2.4978715882627309]
[130,2.2689280275926285,{"$f":"Burmester($B$3:$C$3,$B$4:$C$4,$B$5:$C$5,$E$3,$E$4,$E$5,B275)","v":{"$error":"#VALUE!"}},{"$error":"#VALUE!"},{"$f":"ThreePosition_Basic2($E$3,$E$5,$B$3:$C$3,$B$5:$C$5,B275,C275)","v":{"$error":"#VALUE!"}},{"$error":"#VALUE!"},{"$error":"#VALUE!"},{"$error":"#VALUE!"},{"$f":"ThreePosition_Basic2($E$3,$E$5,$B$3:$C$3,$B$5:$C$5,B275,D275)","v":{"$error":"#VALUE!"}},{"$error":"#VALUE!"},{"$error":"#VALUE!"},{"$error":"#VALUE!"},null,{"$f":"Burmester($B$3:$C$3,$B$4:$C$4,$B$6:$C$6,$E$3,$E$4,$E$6,B275)","v":5.1996352854407206},2.5866787390609955,{"$f":"ThreePosition_Basic2($E$3,$E$6,$B$3:$C$3,$B$6:$C$6,B275,N275)","v":-7.9081795294357854E-2},2.7956809212559826,0.23205245567200963,3.4544012408772029,{"$f":"ThreePosition_Basic2($E$3,$E$6,$B$3:$C$3,$B$6:$C$6,B275,O275)","v":-0.66351599354176238},1.843757250855605,-0.24500240684011926,2.4995759595176694]
[130.5,2.2776546738526,{"$f":"Burmester($B$3:$C$3,$B$4:$C$4,$B$5:$C$5,$E$3,$E$4,$E$5,B276)","v":{"$error":"#VALUE!"}},{"$error":"#VALUE!"},{"$f":"ThreePosition_Basic2($E$3,$E$5,$B$3:$C$3,$B$5:$C$5,B276,C276)","v":{"$error":"#VALUE!"}},{"$error":"#VALUE!"},{"$error":"#VALUE!"},{"$error":"#VALUE!"},{"$f":"ThreePosition_Basic2($E$3,$E$5,$B$3:$C$3,$B$5:$C$5,B276,D276)","v":{"$error":"#VALUE!"}},{"$error":"#VALUE!"},{"$error":"#VALUE!"},{"$error":"#VALUE!"},null,{"$f":"Burmester($B$3:$C$3,$B$4:$C$4,$B$6:$C$6,$E$3,$E$4,$E$6,B276)","v":5.2300792240753404},2.574136443181295,{"$f":"ThreePosition_Basic2($E$3,$E$6,$B$3:$C$3,$B$6:$C$6,B276,N276)","v":-9.3350675840725872E-2},2.8037533534645438,0.22002710638810852,3.4582079438978286,{"$f":"ThreePosition_Basic2($E$3,$E$6,$B$3:$C$3,$B$6:$C$6,B276,O276)","v":-0.67534607871455588},1.8500300984779183,-0.25478582933743715,2.5014102941464436]
[131,2.286381320112572,{"$f":"Burmester($B$3:$C$3,$B$4:$C$4,$B$5:$C$5,$E$3,$E$4,$E$5,B277)","v":{"$error":"#VALUE!"}},{"$error":"#VALUE!"},{"$f":"ThreePosition_Basic2($E$3,$E$5,$B$3:$C$3,$B$5:$C$5,B277,C277)","v":{"$error":"#VALUE!"}},{"$error":"#VALUE!"},{"$error":"#VALUE!"},{"$error":"#VALUE!"},{"$f":"ThreePosition_Basic2($E$3,$E$5,$B$3:$C$3,$B$5:$C$5,B277,D277)","v":{"$error":"#VALUE!"}},{"$error":"#VALUE!"},{"$error":"#VALUE!"},{"$error":"#VALUE!"},null,{"$f":"Burmester($B$3:$C$3,$B$4:$C$4,$B$6:$C$6,$E$3,$E$4,$E$6,B277)","v":5.2603382773898435},2.5617286713907075,{"$f":"ThreePosition_Basic2($E$3,$E$6,$B$3:$C$3,$B$6:$C$6,B277,N277)","v":-0.10763131263377795},2.8114512604366202,0.20799906632889159,3.4616738725058398,{"$f":"ThreePosition_Basic2($E$3,$E$6,$B$3:$C$3,$B$6:$C$6,B277,O277)","v":-0.68694222801216043},1.8563951422518625,-0.26437343876455299,2.5033694440293917]
[131.5,2.2951079663725436,{"$f":"Burmester($B$3:$C$3,$B$4:$C$4,$B$5:$C$5,$E$3,$E$4,$E$5,B278)","v":{"$error":"#VALUE!"}},{"$error":"#VALUE!"},{"$f":"ThreePosition_Basic2($E$3,$E$5,$B$3:$C$3,$B$5:$C$5,B278,C278)","v":{"$error":"#VALUE!"}},{"$error":"#VALUE!"},{"$error":"#VALUE!"},{"$error":"#VALUE!"},{"$f":"ThreePosition_Basic2($E$3,$E$5,$B$3:$C$3,$B$5:$C$5,B278,D278)","v":{"$error":"#VALUE!"}},{"$error":"#VALUE!"},{"$error":"#VALUE!"},{"$error":"#VALUE!"},null,{"$f":"Burmester($B$3:$C$3,$B$4:$C$4,$B$6:$C$6,$E$3,$E$4,$E$6,B278)","v":5.2904233294490428},2.549444920982844,{"$f":"ThreePosition_Basic2($E$3,$E$6,$B$3:$C$3,$B$6:$C$6,B278,N278)","v":-0.12191832726768267},2.8187856198792356,0.19597279593825453,3.4648092220658739,{"$f":"ThreePosition_Basic2($E$3,$E$6,$B$3:$C$3,$B$6:$C$6,B278,O278)","v":-0.69831231089853885},1.8628482344882509,-0.27377189008758013,2.5054487295984078]
[132,2.3038346126325151,{"$f":"Burmester($B$3:$C$3,$B$4:$C$4,$B$5:$C$5,$E$3,$E$4,$E$5,B279)","v":{"$error":"#VALUE!"}},{"$error":"#VALUE!"},{"$f":"ThreePosition_Basic2($E$3,$E$5,$B$3:$C$3,$B$5:$C$5,B279,C279)","v":{"$error":"#VALUE!"}},{"$error":"#VALUE!"},{"$error":"#VALUE!"},{"$error":"#VALUE!"},{"$f":"ThreePosition_Basic2($E$3,$E$5,$B$3:$C$3,$B$5:$C$5,B279,D279)","v":{"$error":"#VALUE!"}},{"$error":"#VALUE!"},{"$error":"#VALUE!"},{"$error":"#VALUE!"},null,{"$f":"Burmester($B$3:$C$3,$B$4:$C$4,$B$6:$C$6,$E$3,$E$4,$E$6,B279)","v":5.3203447204044991},2.5372752334448601,{"$f":"ThreePosition_Basic2($E$3,$E$6,$B$3:$C$3,$B$6:$C$6,B279,N279)","v":-0.13620681205970864},2.8257667999127367,0.18395236193693121,3.4676235950305516,{"$f":"ThreePosition_Basic2($E$3,$E$6,$B$3:$C$3,$B$6:$C$6,B279,O279)","v":-0.70946372460914431},1.8693856432206613,-0.28298744163463968,2.5076439002535924]
[132.5,2.3125612588924866,{"$f":"Burmester($B$3:$C$3,$B$4:$C$4,$B$5:$C$5,$E$3,$E$4,$E$5,B280)","v":{"$error":"#VALUE!"}},{"$error":"#VALUE!"},{"$f":"ThreePosition_Basic2($E$3,$E$5,$B$3:$C$3,$B$5:$C$5,B280,C280)","v":{"$error":"#VALUE!"}},{"$error":"#VALUE!"},{"$error":"#VALUE!"},{"$error":"#VALUE!"},{"$f":"ThreePosition_Basic2($E$3,$E$5,$B$3:$C$3,$B$5:$C$5,B280,D280)","v":{"$error":"#VALUE!"}},{"$error":"#VALUE!"},{"$error":"#VALUE!"},{"$error":"#VALUE!"},null,{"$f":"Burmester($B$3:$C$3,$B$4:$C$4,$B$6:$C$6,$E$3,$E$4,$E$6,B280)","v":5.3501123057392306},2.5252101350956573,{"$f":"ThreePosition_Basic2($E$3,$E$6,$B$3:$C$3,$B$6:$C$6,B280,N280)","v":-0.15049229174726328},2.832404599544839,0.17194146953814007,3.4701260409217509,{"$f":"ThreePosition_Basic2($E$3,$E$6,$B$3:$C$3,$B$6:$C$6,B280,O280)","v":-0.72040343036766907},1.8760040178256954,-0.2920259855464214,2.5099510996253862]
[133,2.3212879051524582,{"$f":"Burmester($B$3:$C$3,$B$4:$C$4,$B$5:$C$5,$E$3,$E$4,$E$5,B281)","v":{"$error":"#VALUE!"}},{"$error":"#VALUE!"},{"$f":"ThreePosition_Basic2($E$3,$E$5,$B$3:$C$3,$B$5:$C$5,B281,C281)","v":{"$error":"#VALUE!"}},{"$error":"#VALUE!"},{"$error":"#VALUE!"},{"$error":"#VALUE!"},{"$f":"ThreePosition_Basic2($E$3,$E$5,$B$3:$C$3,$B$5:$C$5,B281,D281)","v":{"$error":"#VALUE!"}},{"$error":"#VALUE!"},{"$error":"#VALUE!"},{"$error":"#VALUE!"},null,{"$f":"Burmester($B$3:$C$3,$B$4:$C$4,$B$6:$C$6,$E$3,$E$4,$E$6,B281)","v":5.3797355094750596},2.5132405837655378,{"$f":"ThreePosition_Basic2($E$3,$E$6,$B$3:$C$3,$B$6:$C$6,B281,N281)","v":-0.16477068923252935},2.8387082847523923,0.15994349127190088,3.4723250919258239,{"$f":"ThreePosition_Basic2($E$3,$E$6,$B$3:$C$3,$B$6:$C$6,B281,O281)","v":-0.73113798571377286},1.8827003588347235,-0.30089307497198553,2.5123668350474437]
[133.5,2.3300145514124297,{"$f":"Burmester($B$3:$C$3,$B$4:$C$4,$B$5:$C$5,$E$3,$E$4,$E$5,B282)","v":{"$error":"#VALUE!"}},{"$error":"#VALUE!"},{"$f":"ThreePosition_Basic2($E$3,$E$5,$B$3:$C$3,$B$5:$C$5,B282,C282)","v":{"$error":"#VALUE!"}},{"$error":"#VALUE!"},{"$error":"#VALUE!"},{"$error":"#VALUE!"},{"$f":"ThreePosition_Basic2($E$3,$E$5,$B$3:$C$3,$B$5:$C$5,B282,D282)","v":{"$error":"#VALUE!"}},{"$error":"#VALUE!"},{"$error":"#VALUE!"},{"$error":"#VALUE!"},null,{"$f":"Burmester($B$3:$C$3,$B$4:$C$4,$B$6:$C$6,$E$3,$E$4,$E$6,B282)","v":5.4092233722183796},2.501357920641448,{"$f":"ThreePosition_Basic2($E$3,$E$6,$B$3:$C$3,$B$6:$C$6,B282,N282)","v":-0.17903829488001788},2.8446866207090422,0.14796149283233551,3.4742287946407613,{"$f":"ThreePosition_Basic2($E$3,$E$6,$B$3:$C$3,$B$6:$C$6,B282,O282)","v":-0.74167357342650664},1.8894719914052298,-0.30959394841546961,2.5148879507078217]
[134,2.3387411976724013,{"$f":"Burmester($B$3:$C$3,$B$4:$C$4,$B$5:$C$5,$E$3,$E$4,$E$5,B283)","v":{"$error":"#VALUE!"}},{"$error":"#VALUE!"},{"$f":"ThreePosition_Basic2($E$3,$E$5,$B$3:$C$3,$B$5:$C$5,B283,C283)","v":{"$error":"#VALUE!"}},{"$error":"#VALUE!"},{"$error":"#VALUE!"},{"$error":"#VALUE!"},{"$f":"ThreePosition_Basic2($E$3,$E$5,$B$3:$C$3,$B$5:$C$5,B283,D283)","v":{"$error":"#VALUE!"}},{"$error":"#VALUE!"},{"$error":"#VALUE!"},{"$error":"#VALUE!"},null,{"$f":"Burmester($B$3:$C$3,$B$4:$C$4,$B$6:$C$6,$E$3,$E$4,$E$6,B283)","v":5.4385845947905649},2.4895538265314832,{"$f":"ThreePosition_Basic2($E$3,$E$6,$B$3:$C$3,$B$6:$C$6,B283,N283)","v":-0.19329173894648902},2.8503479006124346,0.13599825630033932,3.4758447384287194,{"$f":"ThreePosition_Basic2($E$3,$E$6,$B$3:$C$3,$B$6:$C$6,B283,O283)","v":-0.75201602745459095},1.896316542004314,-0.31813355157793571,2.5175116040305596]
[134.5,2.3474678439323733,{"$f":"Burmester($B$3:$C$3,$B$4:$C$4,$B$5:$C$5,$E$3,$E$4,$E$5,B284)","v":{"$error":"#VALUE!"}},{"$error":"#VALUE!"},{"$f":"ThreePosition_Basic2($E$3,$E$5,$B$3:$C$3,$B$5:$C$5,B284,C284)","v":{"$error":"#VALUE!"}},{"$error":"#VALUE!"},{"$error":"#VALUE!"},{"$error":"#VALUE!"},{"$f":"ThreePosition_Basic2($E$3,$E$5,$B$3:$C$3,$B$5:$C$5,B284,D284)","v":{"$error":"#VALUE!"}},{"$error":"#VALUE!"},{"$error":"#VALUE!"},{"$error":"#VALUE!"},null,{"$f":"Burmester($B$3:$C$3,$B$4:$C$4,$B$6:$C$6,$E$3,$E$4,$E$6,B284)","v":5.4678275780831829},2.4778202819084467,{"$f":"ThreePosition_Basic2($E$3,$E$6,$B$3:$C$3,$B$6:$C$6,B284,N284)","v":-0.20752796678449484},2.8556999714942339,0.12405630104237139,3.4771800807568995,{"$f":"ThreePosition_Basic2($E$3,$E$6,$B$3:$C$3,$B$6:$C$6,B284,O284)","v":-0.76217085620354297},1.9032319179271178,-0.32651655698751397,2.5202352449099887]
[135,2.3561944901923448,{"$f":"Burmester($B$3:$C$3,$B$4:$C$4,$B$5:$C$5,$E$3,$E$4,$E$5,B285)","v":{"$error":"#VALUE!"}},{"$error":"#VALUE!"},{"$f":"ThreePosition_Basic2($E$3,$E$5,$B$3:$C$3,$B$5:$C$5,B285,C285)","v":{"$error":"#VALUE!"}},{"$error":"#VALUE!"},{"$error":"#VALUE!"},{"$error":"#VALUE!"},{"$f":"ThreePosition_Basic2($E$3,$E$5,$B$3:$C$3,$B$5:$C$5,B285,D285)","v":{"$error":"#VALUE!"}},{"$error":"#VALUE!"},{"$error":"#VALUE!"},{"$error":"#VALUE!"},null,{"$f":"Burmester($B$3:$C$3,$B$4:$C$4,$B$6:$C$6,$E$3,$E$4,$E$6,B285)","v":5.4969604596910386},2.4661495301792931,{"$f":"ThreePosition_Basic2($E$3,$E$6,$B$3:$C$3,$B$6:$C$6,B285,N285)","v":-0.22174421651243589},2.8607502573374113,0.11213790254298447,3.4782415698509226,{"$f":"ThreePosition_Basic2($E$3,$E$6,$B$3:$C$3,$B$6:$C$6,B285,O285)","v":-0.77214326347845774},1.9102162893315804,-0.33474738166826656,2.5230565974788144]
[135.5,2.3649211364523164,{"$f":"Burmester($B$3:$C$3,$B$4:$C$4,$B$5:$C$5,$E$3,$E$4,$E$5,B286)","v":{"$error":"#VALUE!"}},{"$error":"#VALUE!"},{"$f":"ThreePosition_Basic2($E$3,$E$5,$B$3:$C$3,$B$5:$C$5,B286,C286)","v":{"$error":"#VALUE!"}},{"$error":"#VALUE!"},{"$error":"#VALUE!"},{"$error":"#VALUE!"},{"$f":"ThreePosition_Basic2($E$3,$E$5,$B$3:$C$3,$B$5:$C$5,B286,D286)","v":{"$error":"#VALUE!"}},{"$error":"#VALUE!"},{"$error":"#VALUE!"},{"$error":"#VALUE!"},null,{"$f":"Burmester($B$3:$C$3,$B$4:$C$4,$B$6:$C$6,$E$3,$E$4,$E$6,B286)","v":5.5259911478046524},2.4545340436988345,{"$f":"ThreePosition_Basic2($E$3,$E$6,$B$3:$C$3,$B$6:$C$6,B286,N286)","v":-0.23593799888766109},2.865505779775694,0.10024510939225095,3.4790355649351974,{"$f":"ThreePosition_Basic2($E$3,$E$6,$B$3:$C$3,$B$6:$C$6,B286,O286)","v":-0.78193816733819954},1.9172680735204286,-0.342830203062234,2.5259736441405902]
[136,2.3736477827122884,{"$f":"Burmester($B$3:$C$3,$B$4:$C$4,$B$5:$C$5,$E$3,$E$4,$E$5,B287)","v":{"$error":"#VALUE!"}},{"$error":"#VALUE!"},{"$f":"ThreePosition_Basic2($E$3,$E$5,$B$3:$C$3,$B$5:$C$5,B287,C287)","v":{"$error":"#VALUE!"}},{"$error":"#VALUE!"},{"$error":"#VALUE!"},{"$error":"#VALUE!"},{"$f":"ThreePosition_Basic2($E$3,$E$5,$B$3:$C$3,$B$5:$C$5,B287,D287)","v":{"$error":"#VALUE!"}},{"$error":"#VALUE!"},{"$error":"#VALUE!"},{"$error":"#VALUE!"},null,{"$f":"Burmester($B$3:$C$3,$B$4:$C$4,$B$6:$C$6,$E$3,$E$4,$E$6,B287)","v":5.5549273527849881},2.4429664921047443,{"$f":"ThreePosition_Basic2($E$3,$E$6,$B$3:$C$3,$B$6:$C$6,B287,N287)","v":-0.25010707915595864},2.8699731766079708,8.8379758618501392E-2,3.4795680542926424,{"$f":"ThreePosition_Basic2($E$3,$E$6,$B$3:$C$3,$B$6:$C$6,B287,O287)","v":-0.79156021708030877},1.9243859212431285,-0.35076897338871832,2.5289846116390908]
[136.5,2.3823744289722599,{"$f":"Burmester($B$3:$C$3,$B$4:$C$4,$B$5:$C$5,$E$3,$E$4,$E$5,B288)","v":{"$error":"#VALUE!"}},{"$error":"#VALUE!"},{"$f":"ThreePosition_Basic2($E$3,$E$5,$B$3:$C$3,$B$5:$C$5,B288,C288)","v":{"$error":"#VALUE!"}},{"$error":"#VALUE!"},{"$error":"#VALUE!"},{"$error":"#VALUE!"},{"$f":"ThreePosition_Basic2($E$3,$E$5,$B$3:$C$3,$B$5:$C$5,B288,D288)","v":{"$error":"#VALUE!"}},{"$error":"#VALUE!"},{"$error":"#VALUE!"},{"$error":"#VALUE!"},null,{"$f":"Burmester($B$3:$C$3,$B$4:$C$4,$B$6:$C$6,$E$3,$E$4,$E$6,B288)","v":5.583776616795344},2.4314397125989013,{"$f":"ThreePosition_Basic2($E$3,$E$6,$B$3:$C$3,$B$6:$C$6,B288,N288)","v":-0.26424946068230754},2.8741587183245274,7.6543489530461251E-2,3.4798446713401336,{"$f":"ThreePosition_Basic2($E$3,$E$6,$B$3:$C$3,$B$6:$C$6,B288,O288)","v":-0.80101380854495341},1.9315687048264203,-0.35856743259899437,2.5320879589730612]
[137,2.3911010752322315,{"$f":"Burmester($B$3:$C$3,$B$4:$C$4,$B$5:$C$5,$E$3,$E$4,$E$5,B289)","v":{"$error":"#VALUE!"}},{"$error":"#VALUE!"},{"$f":"ThreePosition_Basic2($E$3,$E$5,$B$3:$C$3,$B$5:$C$5,B289,C289)","v":{"$error":"#VALUE!"}},{"$error":"#VALUE!"},{"$error":"#VALUE!"},{"$error":"#VALUE!"},{"$f":"ThreePosition_Basic2($E$3,$E$5,$B$3:$C$3,$B$5:$C$5,B289,D289)","v":{"$error":"#VALUE!"}},{"$error":"#VALUE!"},{"$error":"#VALUE!"},{"$error":"#VALUE!"},null,{"$f":"Burmester($B$3:$C$3,$B$4:$C$4,$B$6:$C$6,$E$3,$E$4,$E$6,B289)","v":5.6125463418262287},2.4199466818391708,{"$f":"ThreePosition_Basic2($E$3,$E$6,$B$3:$C$3,$B$6:$C$6,B289,N289)","v":-0.27836337019469393},2.8780683228108863,6.4737756210398179E-2,3.4798707088848762,{"$f":"ThreePosition_Basic2($E$3,$E$6,$B$3:$C$3,$B$6:$C$6,B289,O289)","v":-0.81030309789966171},1.9388155079729195,-0.36622912006246927,2.5352823669957658]
[137.5,2.399827721492203,{"$f":"Burmester($B$3:$C$3,$B$4:$C$4,$B$5:$C$5,$E$3,$E$4,$E$5,B290)","v":{"$error":"#VALUE!"}},{"$error":"#VALUE!"},{"$f":"ThreePosition_Basic2($E$3,$E$5,$B$3:$C$3,$B$5:$C$5,B290,C290)","v":{"$error":"#VALUE!"}},{"$error":"#VALUE!"},{"$error":"#VALUE!"},{"$error":"#VALUE!"},{"$f":"ThreePosition_Basic2($E$3,$E$5,$B$3:$C$3,$B$5:$C$5,B290,D290)","v":{"$error":"#VALUE!"}},{"$error":"#VALUE!"},{"$error":"#VALUE!"},{"$error":"#VALUE!"},null,{"$f":"Burmester($B$3:$C$3,$B$4:$C$4,$B$6:$C$6,$E$3,$E$4,$E$6,B290)","v":5.6412438164176555},2.4084804891370704,{"$f":"ThreePosition_Basic2($E$3,$E$6,$B$3:$C$3,$B$6:$C$6,B290,N290)","v":-0.2924472444961182},2.8817075683679967,5.2963838780435257E-2,3.4796511316998133,{"$f":"ThreePosition_Basic2($E$3,$E$6,$B$3:$C$3,$B$6:$C$6,B290,O290)","v":-0.81943201404368071},1.9461256170941699,-0.37375738510122641,2.5385667295657615]
[138,2.4085543677521746,{"$f":"Burmester($B$3:$C$3,$B$4:$C$4,$B$5:$C$5,$E$3,$E$4,$E$5,B291)","v":{"$error":"#VALUE!"}},{"$error":"#VALUE!"},{"$f":"ThreePosition_Basic2($E$3,$E$5,$B$3:$C$3,$B$5:$C$5,B291,C291)","v":{"$error":"#VALUE!"}},{"$error":"#VALUE!"},{"$error":"#VALUE!"},{"$error":"#VALUE!"},{"$f":"ThreePosition_Basic2($E$3,$E$5,$B$3:$C$3,$B$5:$C$5,B291,D291)","v":{"$error":"#VALUE!"}},{"$error":"#VALUE!"},{"$error":"#VALUE!"},{"$error":"#VALUE!"},null,{"$f":"Burmester($B$3:$C$3,$B$4:$C$4,$B$6:$C$6,$E$3,$E$4,$E$6,B291)","v":5.6698762413585282},2.3970343106816081,{"$f":"ThreePosition_Basic2($E$3,$E$6,$B$3:$C$3,$B$6:$C$6,B291,N291)","v":-0.30649971852019031},2.885081705163663,4.1222853547290939E-2,3.4791905875322215,{"$f":"ThreePosition_Basic2($E$3,$E$6,$B$3:$C$3,$B$6:$C$6,B291,O291)","v":-0.82840426975087444},1.9534985140682788,-0.38115539647329177,2.5419401461391384]
[138.5,2.4172810140121466,{"$f":"Burmester($B$3:$C$3,$B$4:$C$4,$B$5:$C$5,$E$3,$E$4,$E$5,B292)","v":{"$error":"#VALUE!"}},{"$error":"#VALUE!"},{"$f":"ThreePosition_Basic2($E$3,$E$5,$B$3:$C$3,$B$5:$C$5,B292,C292)","v":{"$error":"#VALUE!"}},{"$error":"#VALUE!"},{"$error":"#VALUE!"},{"$error":"#VALUE!"},{"$f":"ThreePosition_Basic2($E$3,$E$5,$B$3:$C$3,$B$5:$C$5,B292,D292)","v":{"$error":"#VALUE!"}},{"$error":"#VALUE!"},{"$error":"#VALUE!"},{"$error":"#VALUE!"},null,{"$f":"Burmester($B$3:$C$3,$B$4:$C$4,$B$6:$C$6,$E$3,$E$4,$E$6,B292)","v":5.6984507546237797},2.3856013845285164,{"$f":"ThreePosition_Basic2($E$3,$E$6,$B$3:$C$3,$B$6:$C$6,B292,N292)","v":-0.32051961462351725},2.8881956652087601,2.951576211588941E-2,3.4784934166382424,{"$f":"ThreePosition_Basic2($E$3,$E$6,$B$3:$C$3,$B$6:$C$6,B292,O292)","v":-0.83722337165262917},1.9609338703333832,-0.38842615089045457,2.5454019157147156]
[139,2.4260076602721181,{"$f":"Burmester($B$3:$C$3,$B$4:$C$4,$B$5:$C$5,$E$3,$E$4,$E$5,B293)","v":{"$error":"#VALUE!"}},{"$error":"#VALUE!"},{"$f":"ThreePosition_Basic2($E$3,$E$5,$B$3:$C$3,$B$5:$C$5,B293,C293)","v":{"$error":"#VALUE!"}},{"$error":"#VALUE!"},{"$error":"#VALUE!"},{"$error":"#VALUE!"},{"$f":"ThreePosition_Basic2($E$3,$E$5,$B$3:$C$3,$B$5:$C$5,B293,D293)","v":{"$error":"#VALUE!"}},{"$error":"#VALUE!"},{"$error":"#VALUE!"},{"$error":"#VALUE!"},null,{"$f":"Burmester($B$3:$C$3,$B$4:$C$4,$B$6:$C$6,$E$3,$E$4,$E$6,B293)","v":5.7269744557962081},2.3741749861078825,{"$f":"ThreePosition_Basic2($E$3,$E$6,$B$3:$C$3,$B$6:$C$6,B293,N293)","v":-0.33450593302390252},2.891054070932479,1.7843379549126681E-2,3.477563659916675,{"$f":"ThreePosition_Basic2($E$3,$E$6,$B$3:$C$3,$B$6:$C$6,B293,O293)","v":-0.84589262914676244},1.9684315422474412,-0.39557248064362882,2.5489515320630183]
[139.5,2.4347343065320897,{"$f":"Burmester($B$3:$C$3,$B$4:$C$4,$B$5:$C$5,$E$3,$E$4,$E$5,B294)","v":{"$error":"#VALUE!"}},{"$error":"#VALUE!"},{"$f":"ThreePosition_Basic2($E$3,$E$5,$B$3:$C$3,$B$5:$C$5,B294,C294)","v":{"$error":"#VALUE!"}},{"$error":"#VALUE!"},{"$error":"#VALUE!"},{"$error":"#VALUE!"},{"$f":"ThreePosition_Basic2($E$3,$E$5,$B$3:$C$3,$B$5:$C$5,B294,D294)","v":{"$error":"#VALUE!"}},{"$error":"#VALUE!"},{"$error":"#VALUE!"},{"$error":"#VALUE!"},null,{"$f":"Burmester($B$3:$C$3,$B$4:$C$4,$B$6:$C$6,$E$3,$E$4,$E$6,B294)","v":5.7554544302108654},2.3627484040122191,{"$f":"ThreePosition_Basic2($E$3,$E$6,$B$3:$C$3,$B$6:$C$6,B294,N294)","v":-0.3484578433074676},2.8936612424129526,6.2063816394086202E-3,3.4764050656973691,{"$f":"ThreePosition_Basic2($E$3,$E$6,$B$3:$C$3,$B$6:$C$6,B294,O294)","v":-0.85441516230457937},1.9759915676625128,-0.4025970603972524,2.5525886801876783]
[140,2.4434609527920612,{"$f":"Burmester($B$3:$C$3,$B$4:$C$4,$B$5:$C$5,$E$3,$E$4,$E$5,B295)","v":3.6700445420845296},3.5348798166505051,{"$f":"ThreePosition_Basic2($E$3,$E$5,$B$3:$C$3,$B$5:$C$5,B295,C295)","v":-0.7362617330476835},2.1329422079468285,-0.30048239807055765,2.7104242005382164,{"$f":"ThreePosition_Basic2($E$3,$E$5,$B$3:$C$3,$B$5:$C$5,B295,D295)","v":-0.81170068013828234},2.0405908781360163,-0.36520133593301563,2.6153514656198436,null,{"$f":"Burmester($B$3:$C$3,$B$4:$C$4,$B$6:$C$6,$E$3,$E$4,$E$6,B295)","v":5.7838977730555294},2.351314915831388,{"$f":"ThreePosition_Basic2($E$3,$E$6,$B$3:$C$3,$B$6:$C$6,B295,N295)","v":-0.36237467694073905},2.8960212033028299,-5.3946886531439087E-3,3.4750210952226297,{"$f":"ThreePosition_Basic2($E$3,$E$6,$B$3:$C$3,$B$6:$C$6,B295,O295)","v":-0.86279390883564588},1.9836141636783793,-0.40950241320384706,2.5563132339846977]
[140.5,2.4521875990520328,{"$f":"Burmester($B$3:$C$3,$B$4:$C$4,$B$5:$C$5,$E$3,$E$4,$E$5,B296)","v":3.7720866250851102},3.4511956949629159,{"$f":"ThreePosition_Basic2($E$3,$E$5,$B$3:$C$3,$B$5:$C$5,B296,C296)","v":-0.69728610702549199},2.2060145995895928,-0.26733819426358713,2.7811272573516148,{"$f":"ThreePosition_Basic2($E$3,$E$5,$B$3:$C$3,$B$5:$C$5,B296,D296)","v":-0.87406637759826189},1.9880194563198887,-0.41893214846945243,2.5567169465626218,null,{"$f":"Burmester($B$3:$C$3,$B$4:$C$4,$B$6:$C$6,$E$3,$E$4,$E$6,B296)","v":5.8123116136606212},2.3398677638009069,{"$f":"ThreePosition_Basic2($E$3,$E$6,$B$3:$C$3,$B$6:$C$6,B296,N296)","v":-0.37625592073557335},2.898137685473209,-1.6959415550672874E-2,3.4734149268437773,{"$f":"ThreePosition_Basic2($E$3,$E$6,$B$3:$C$3,$B$6:$C$6,B296,O296)","v":-0.87103163015827545},1.9912997255564024,-0.41629091578031219,2.5601252550812506]
[141,2.4609142453120043,{"$f":"Burmester($B$3:$C$3,$B$4:$C$4,$B$5:$C$5,$E$3,$E$4,$E$5,B297)","v":3.8375387089006736},3.4040593337995939,{"$f":"ThreePosition_Basic2($E$3,$E$5,$B$3:$C$3,$B$5:$C$5,B297,C297)","v":-0.6794513308339819},2.2534808830597273,-0.25234778854895457,2.8255014524032629,{"$f":"ThreePosition_Basic2($E$3,$E$5,$B$3:$C$3,$B$5:$C$5,B297,D297)","v":-0.91518045536238923},1.9606861211407809,-0.45440451112259256,2.5241001979825572,null,{"$f":"Burmester($B$3:$C$3,$B$4:$C$4,$B$6:$C$6,$E$3,$E$4,$E$6,B297)","v":5.8407031402163261},2.3284001300258446,{"$f":"ThreePosition_Basic2($E$3,$E$6,$B$3:$C$3,$B$6:$C$6,B297,N297)","v":-0.39010121122591279},2.9000141323833661,-2.8487505559738113E-2,3.4715894589388463,{"$f":"ThreePosition_Basic2($E$3,$E$6,$B$3:$C$3,$B$6:$C$6,B297,O297)","v":-0.87913091661279263},1.9990488267902407,-0.4229648030785545,2.564024992851567]
[141.9,2.4766222085799536,{"$f":"Burmester($B$3:$C$3,$B$4:$C$4,$B$5:$C$5,$E$3,$E$4,$E$5,B298)","v":3.929356784598518},3.3451037640003873,{"$f":"ThreePosition_Basic2($E$3,$E$5,$B$3:$C$3,$B$5:$C$5,B298,C298)","v":-0.6629086335820269},2.32003561589854,-0.23873503328228052,2.8860164075694525,{"$f":"ThreePosition_Basic2($E$3,$E$5,$B$3:$C$3,$B$5:$C$5,B298,D298)","v":-0.9733431178014863},1.9294674654349848,-0.50461809867713858,2.4839856405544611,null,{"$f":"Burmester($B$3:$C$3,$B$4:$C$4,$B$6:$C$6,$E$3,$E$4,$E$6,B298)","v":5.8917749401393369},2.3076846685737915,{"$f":"ThreePosition_Basic2($E$3,$E$6,$B$3:$C$3,$B$6:$C$6,B298,N298)","v":-0.414931524534845},2.9027967432541266,-4.9145256061408571E-2,3.4677591675749513,{"$f":"ThreePosition_Basic2($E$3,$E$6,$B$3:$C$3,$B$6:$C$6,B298,O298)","v":-0.89336840842374532},2.0131598477002699,-0.43469557754989296,2.571267088089312]
[142,2.4783675378319479,{"$f":"Burmester($B$3:$C$3,$B$4:$C$4,$B$5:$C$5,$E$3,$E$4,$E$5,B299)","v":3.9384032665056083},3.3397003162676797,{"$f":"ThreePosition_Basic2($E$3,$E$5,$B$3:$C$3,$B$5:$C$5,B299,C299)","v":-0.66177838082550844},2.3265629664244143,-0.23783083160528484,2.8918536630863234,{"$f":"ThreePosition_Basic2($E$3,$E$5,$B$3:$C$3,$B$5:$C$5,B299,D299)","v":-0.979075164186889},1.9267961426265068,-0.50956772850586873,2.4803558220508597,null,{"$f":"Burmester($B$3:$C$3,$B$4:$C$4,$B$6:$C$6,$E$3,$E$4,$E$6,B299)","v":5.8974484515193444},2.3053756913945977,{"$f":"ThreePosition_Basic2($E$3,$E$6,$B$3:$C$3,$B$6:$C$6,B299,N299)","v":-0.41768319945046534},2.9030592634150456,-5.1433188029366583E-2,3.4672908266524933,{"$f":"ThreePosition_Basic2($E$3,$E$6,$B$3:$C$3,$B$6:$C$6,B299,O299)","v":-0.89492371637125223},2.014740841101021,-0.43597698549193492,2.5720895631071179]
[142.5,2.4870941840919198,{"$f":"Burmester($B$3:$C$3,$B$4:$C$4,$B$5:$C$5,$E$3,$E$4,$E$5,B300)","v":3.9813292881348241},3.3149645240947661,{"$f":"ThreePosition_Basic2($E$3,$E$5,$B$3:$C$3,$B$5:$C$5,B300,C300)","v":-0.65756503389745735},2.3574104417466688,-0.23454556283942346,2.9192175232333444,{"$f":"ThreePosition_Basic2($E$3,$E$5,$B$3:$C$3,$B$5:$C$5,B300,D300)","v":-1.0062289929153947},1.9150225436319621,-0.53301570905496731,2.4638550834277773,null,{"$f":"Burmester($B$3:$C$3,$B$4:$C$4,$B$6:$C$6,$E$3,$E$4,$E$6,B300)","v":5.9258171404157673},2.2938047161327026,{"$f":"ThreePosition_Basic2($E$3,$E$6,$B$3:$C$3,$B$6:$C$6,B300,N300)","v":-0.43141988048580721},2.9042334045968334,-6.2850770889130714E-2,3.4648220671940244,{"$f":"ThreePosition_Basic2($E$3,$E$6,$B$3:$C$3,$B$6:$C$6,B300,O300)","v":-0.90262159034665967},2.0226858095270637,-0.44231907336685955,2.5762558500903774]
[143,2.4958208303518914,{"$f":"Burmester($B$3:$C$3,$B$4:$C$4,$B$5:$C$5,$E$3,$E$4,$E$5,B301)","v":4.0211750435826445},3.2932675832930873,{"$f":"ThreePosition_Basic2($E$3,$E$5,$B$3:$C$3,$B$5:$C$5,B301,C301)","v":-0.65528912250922233},2.3858161547412715,-0.23292505643243483,2.9441001229696147,{"$f":"ThreePosition_Basic2($E$3,$E$5,$B$3:$C$3,$B$5:$C$5,B301,D301)","v":-1.0313306535722604},1.9053521314505295,-0.55469108145406476,2.4495499863895649,null,{"$f":"Burmester($B$3:$C$3,$B$4:$C$4,$B$6:$C$6,$E$3,$E$4,$E$6,B301)","v":5.9541933801576556},2.282184861618386,{"$f":"ThreePosition_Basic2($E$3,$E$6,$B$3:$C$3,$B$6:$C$6,B301,N301)","v":-0.44512056961602131},2.9051784220840005,-7.4231692810888705E-2,3.4621428145345785,{"$f":"ThreePosition_Basic2($E$3,$E$6,$B$3:$C$3,$B$6:$C$6,B301,O301)","v":-0.91018975550680192},2.0306984366840775,-0.44855413595458415,2.5805127714738609]
[143.5,2.5045474766118629,{"$f":"Burmester($B$3:$C$3,$B$4:$C$4,$B$5:$C$5,$E$3,$E$4,$E$5,B302)","v":4.0586594276972114},3.2738908112001428,{"$f":"ThreePosition_Basic2($E$3,$E$5,$B$3:$C$3,$B$5:$C$5,B302,C302)","v":-0.65451318996190011},2.4122922757327867,-0.23259297691843556,2.9670284169426338,{"$f":"ThreePosition_Basic2($E$3,$E$5,$B$3:$C$3,$B$5:$C$5,B302,D302)","v":-1.0548168810167142},1.8972796935398413,-0.57496961927543788,2.4369195817296521,null,{"$f":"Burmester($B$3:$C$3,$B$4:$C$4,$B$6:$C$6,$E$3,$E$4,$E$6,B302)","v":5.9825850571348571},2.2705086046104537,{"$f":"ThreePosition_Basic2($E$3,$E$6,$B$3:$C$3,$B$6:$C$6,B302,N302)","v":-0.45878559801316654},2.9058963216688567,-8.5576223148989827E-2,3.4592545645076838,{"$f":"ThreePosition_Basic2($E$3,$E$6,$B$3:$C$3,$B$6:$C$6,B302,O302)","v":-0.9176299962932073},2.0387802306094294,-0.45468374446678478,2.584861558727868]
[144,2.5132741228718345,{"$f":"Burmester($B$3:$C$3,$B$4:$C$4,$B$5:$C$5,$E$3,$E$4,$E$5,B303)","v":4.0942578046070839},3.2563590581492932,{"$f":"ThreePosition_Basic2($E$3,$E$5,$B$3:$C$3,$B$5:$C$5,B303,C303)","v":-0.65494320988128063},2.4371808224983349,-0.2332962595228335,2.9883541471905026,{"$f":"ThreePosition_Basic2($E$3,$E$5,$B$3:$C$3,$B$5:$C$5,B303,D303)","v":-1.0769810764445473},1.89047001484721,-0.59410391030360266,2.4256179936897122,null,{"$f":"Burmester($B$3:$C$3,$B$4:$C$4,$B$6:$C$6,$E$3,$E$4,$E$6,B303)","v":6.0110002889656844},2.2587681890686322,{"$f":"ThreePosition_Basic2($E$3,$E$6,$B$3:$C$3,$B$6:$C$6,B303,N303)","v":-0.47241543101813926},2.9063888124870125,-9.6884739021435573E-2,3.4561585218106052,{"$f":"ThreePosition_Basic2($E$3,$E$6,$B$3:$C$3,$B$6:$C$6,B303,O303)","v":-0.92494394012030057},2.0469329042122806,-0.46070934172123368,2.589303657886548]
[144.5,2.522000769131806,{"$f":"Burmester($B$3:$C$3,$B$4:$C$4,$B$5:$C$5,$E$3,$E$4,$E$5,B304)","v":4.1283038087264172},3.2403389063618788,{"$f":"ThreePosition_Basic2($E$3,$E$5,$B$3:$C$3,$B$5:$C$5,B304,C304)","v":-0.65636943283627225},2.460724406948418,-0.23485429446046374,3.0083266890700533,{"$f":"ThreePosition_Basic2($E$3,$E$5,$B$3:$C$3,$B$5:$C$5,B304,D304)","v":-1.0980324557642043},1.8846871343072995,-0.61227416775627264,2.4154015769453889,null,{"$f":"Burmester($B$3:$C$3,$B$4:$C$4,$B$6:$C$6,$E$3,$E$4,$E$6,B304)","v":6.0394474602967874},2.2469555903120608,{"$f":"ThreePosition_Basic2($E$3,$E$6,$B$3:$C$3,$B$6:$C$6,B304,N304)","v":-0.48601066864887255},2.9066573002067573,-0.10815772539785024,3.4528555926487678,{"$f":"ThreePosition_Basic2($E$3,$E$6,$B$3:$C$3,$B$6:$C$6,B304,O304)","v":-0.93213305674889069},2.0551583848085437,-0.46663224197411957,2.5938407392169278]
[145,2.5307274153917776,{"$f":"Burmester($B$3:$C$3,$B$4:$C$4,$B$5:$C$5,$E$3,$E$4,$E$5,B305)","v":4.1610422149003039},3.2255857997013115,{"$f":"ThreePosition_Basic2($E$3,$E$5,$B$3:$C$3,$B$5:$C$5,B305,C305)","v":-0.65863546804452489},2.4831030706631934,-0.23713236084809969,3.0271309815380261,{"$f":"ThreePosition_Basic2($E$3,$E$5,$B$3:$C$3,$B$5:$C$5,B305,D305)","v":-1.1181269631143125},1.8797575124568326,-0.62961479209775928,2.4060909892105879,null,{"$f":"Burmester($B$3:$C$3,$B$4:$C$4,$B$6:$C$6,$E$3,$E$4,$E$6,B305)","v":6.0679352617452142},2.2350624760377844,{"$f":"ThreePosition_Basic2($E$3,$E$6,$B$3:$C$3,$B$6:$C$6,B305,N305)","v":-0.49957204708823344},2.9067028783228421,-0.11939577597188045,3.449346375458429,{"$f":"ThreePosition_Basic2($E$3,$E$6,$B$3:$C$3,$B$6:$C$6,B305,O305)","v":-0.9391986567108993},2.0634588254626824,-0.47245362999406315,2.5984747087329412]
[145.5,2.5394540616517491,{"$f":"Burmester($B$3:$C$3,$B$4:$C$4,$B$5:$C$5,$E$3,$E$4,$E$5,B306)","v":4.1926588753530503},3.2119141066263492,{"$f":"ThreePosition_Basic2($E$3,$E$5,$B$3:$C$3,$B$5:$C$5,B306,C306)","v":-0.66162066308979162},2.5044551950023912,-0.24002648342884786,3.0449090597710562,{"$f":"ThreePosition_Basic2($E$3,$E$5,$B$3:$C$3,$B$5:$C$5,B306,D306)","v":-1.1373848865882139},1.8755491244447975,-0.64622951023826858,2.397549661471694,null,{"$f":"Burmester($B$3:$C$3,$B$4:$C$4,$B$6:$C$6,$E$3,$E$4,$E$6,B306)","v":6.0964727325422725},2.2230801636395872,{"$f":"ThreePosition_Basic2($E$3,$E$6,$B$3:$C$3,$B$6:$C$6,B306,N306)","v":-0.51310044122063592},2.9065263173556373,-0.13059959487026984,3.4456311495037393,{"$f":"ThreePosition_Basic2($E$3,$E$6,$B$3:$C$3,$B$6:$C$6,B306,O306)","v":-0.94614188871411942},2.071836618338446,-0.47817455932369457,2.6032077217610174]
[146,2.5481807079117211,{"$f":"Burmester($B$3:$C$3,$B$4:$C$4,$B$5:$C$5,$E$3,$E$4,$E$5,B307)","v":4.223298821665594},3.1991790181173507,{"$f":"ThreePosition_Basic2($E$3,$E$5,$B$3:$C$3,$B$5:$C$5,B307,C307)","v":-0.66522937968932561},2.524890176519059,-0.24345421387348576,3.0617731086287452,{"$f":"ThreePosition_Basic2($E$3,$E$5,$B$3:$C$3,$B$5:$C$5,B307,D307)","v":-1.1559015781177628},1.8719587877050889,-0.66220059034540801,2.3896707473450221,null,{"$f":"Burmester($B$3:$C$3,$B$4:$C$4,$B$6:$C$6,$E$3,$E$4,$E$6,B307)","v":6.125069307529154},2.2109995731771352,{"$f":"ThreePosition_Basic2($E$3,$E$6,$B$3:$C$3,$B$6:$C$6,B307,N307)","v":-0.52659686830575358},2.9061280517141324,-0.14176999926611261,3.4417098611010228,{"$f":"ThreePosition_Basic2($E$3,$E$6,$B$3:$C$3,$B$6:$C$6,B307,O307)","v":-0.95296373593650674},2.0802944103029777,-0.48379594965947315,2.6080421988069009]
[146.5,2.5569073541716927,{"$f":"Burmester($B$3:$C$3,$B$4:$C$4,$B$5:$C$5,$E$3,$E$4,$E$5,B308)","v":4.2530777917329345},3.1872650206246087,{"$f":"ThreePosition_Basic2($E$3,$E$5,$B$3:$C$3,$B$5:$C$5,B308,C308)","v":-0.66938411932954578},2.544496518615551,-0.24734872014488435,3.0778137961150591,{"$f":"ThreePosition_Basic2($E$3,$E$5,$B$3:$C$3,$B$5:$C$5,B308,D308)","v":-1.1737543236890979},1.8689040733505553,-0.67759474877350123,2.3823687924000132,null,{"$f":"Burmester($B$3:$C$3,$B$4:$C$4,$B$6:$C$6,$E$3,$E$4,$E$6,B308)","v":6.1537348692649916},2.1988111752346944,{"$f":"ThreePosition_Basic2($E$3,$E$6,$B$3:$C$3,$B$6:$C$6,B308,N308)","v":-0.54006249290052721},2.9055081639305933,-0.1529079229817415,3.4375821071714867,{"$f":"ThreePosition_Basic2($E$3,$E$6,$B$3:$C$3,$B$6:$C$6,B308,O308)","v":-0.95966501109690605},2.0888351210793714,-0.48931858326265881,2.6129808440250497]
[147,2.5656340004316647,{"$f":"Burmester($B$3:$C$3,$B$4:$C$4,$B$5:$C$5,$E$3,$E$4,$E$5,B309)","v":4.2820898838953703},3.1760782418449689,{"$f":"ThreePosition_Basic2($E$3,$E$5,$B$3:$C$3,$B$5:$C$5,B309,C309)","v":-0.67402092768455546},2.5633472180647652,-0.2516548342669368,3.09310582119309,{"$f":"ThreePosition_Basic2($E$3,$E$5,$B$3:$C$3,$B$5:$C$5,B309,D309)","v":-1.1910069349670416},1.8663179226631885,-0.6924670987612902,2.3755741890912798,null,{"$f":"Burmester($B$3:$C$3,$B$4:$C$4,$B$6:$C$6,$E$3,$E$4,$E$6,B309)","v":6.1824798061438493},2.1865049327728672,{"$f":"ThreePosition_Basic2($E$3,$E$6,$B$3:$C$3,$B$6:$C$6,B309,N309)","v":-0.55349863316773806},2.9046663659136467,-0.1640144211879766,3.4332471157613194,{"$f":"ThreePosition_Basic2($E$3,$E$6,$B$3:$C$3,$B$6:$C$6,B309,O309)","v":-0.96624635016213767},2.0974619643036414,-0.49474310029316654,2.6180266666540177]
[147.5,2.5743606466916362,{"$f":"Burmester($B$3:$C$3,$B$4:$C$4,$B$5:$C$5,$E$3,$E$4,$E$5,B310)","v":4.3104128186243251},3.1655411889459244,{"$f":"ThreePosition_Basic2($E$3,$E$5,$B$3:$C$3,$B$5:$C$5,B310,C310)","v":-0.6790862137145276},2.581503477234063,-0.25632631608323914,3.1077117373999013,{"$f":"ThreePosition_Basic2($E$3,$E$5,$B$3:$C$3,$B$5:$C$5,B310,D310)","v":-1.2077129264227735},1.8641449378410195,-0.70686388330517713,2.369229355851084,null,{"$f":"Burmester($B$3:$C$3,$B$4:$C$4,$B$6:$C$6,$E$3,$E$4,$E$6,B310)","v":6.2113150775843895},2.174070235909527,{"$f":"ThreePosition_Basic2($E$3,$E$6,$B$3:$C$3,$B$6:$C$6,B310,N310)","v":-0.56690676874190127},2.9036019767924959,-0.17509067633193631,3.4287037230926467,{"$f":"ThreePosition_Basic2($E$3,$E$6,$B$3:$C$3,$B$6:$C$6,B310,O310)","v":-0.97270820451790985},2.1061784719160204,-0.50006999293256693,2.6231830058566441]
[148,2.5830872929516078,{"$f":"Burmester($B$3:$C$3,$B$4:$C$4,$B$5:$C$5,$E$3,$E$4,$E$5,B311)","v":4.3381116625896636},3.1555890244102902,{"$f":"ThreePosition_Basic2($E$3,$E$5,$B$3:$C$3,$B$5:$C$5,B311,C311)","v":-0.68453448250814797},2.5990173381994479,-0.26132390255788401,3.1216846661692488,{"$f":"ThreePosition_Basic2($E$3,$E$5,$B$3:$C$3,$B$5:$C$5,B311,D311)","v":-1.2239177788925362},1.8623387508124349,-0.72082442264830804,2.3632860264330526,null,{"$f":"Burmester($B$3:$C$3,$B$4:$C$4,$B$6:$C$6,$E$3,$E$4,$E$6,B311)","v":6.2402522875629076},2.1614958283592314,{"$f":"ThreePosition_Basic2($E$3,$E$6,$B$3:$C$3,$B$6:$C$6,B311,N311)","v":-0.58028855036284033},2.9023138968344608,-0.18613800545666809,3.4239503466164996,{"$f":"ThreePosition_Basic2($E$3,$E$6,$B$3:$C$3,$B$6:$C$6,B311,O311)","v":-0.97905083139168325},2.1149885224070033,-0.50529959813168657,2.6284535594961573]
[148.5,2.5918139392115793,{"$f":"Burmester($B$3:$C$3,$B$4:$C$4,$B$5:$C$5,$E$3,$E$4,$E$5,B312)","v":4.3652415308789365},3.1461668637309628,{"$f":"ThreePosition_Basic2($E$3,$E$5,$B$3:$C$3,$B$5:$C$5,B312,C312)","v":-0.69032667842567719},2.6159335990333585,-0.26661388183886159,3.1350702708651732,{"$f":"ThreePosition_Basic2($E$3,$E$5,$B$3:$C$3,$B$5:$C$5,B312,D312)","v":-1.2396605930031079},1.8608601098330617,-0.73438253715798918,2.3577032785029175,null,{"$f":"Burmester($B$3:$C$3,$B$4:$C$4,$B$6:$C$6,$E$3,$E$4,$E$6,B312)","v":6.2693037680173447},2.1487697240034094,{"$f":"ThreePosition_Basic2($E$3,$E$6,$B$3:$C$3,$B$6:$C$6,B312,N312)","v":-0.59364581153568019},2.9008005768063772,-0.19715786911374872,3.4189849534251304,{"$f":"ThreePosition_Basic2($E$3,$E$6,$B$3:$C$3,$B$6:$C$6,B312,O312)","v":-0.98527428226718428},2.123896373550028,-0.51043208878031088,2.6338424174930002]
[149,2.6005405854715509,{"$f":"Burmester($B$3:$C$3,$B$4:$C$4,$B$5:$C$5,$E$3,$E$4,$E$5,B313)","v":4.3918495903792794},3.137227771945061,{"$f":"ThreePosition_Basic2($E$3,$E$5,$B$3:$C$3,$B$5:$C$5,B313,C313)","v":-0.69642894774938802},2.6322912382528441,-0.2721670280943902,3.1479082242444756,{"$f":"ThreePosition_Basic2($E$3,$E$5,$B$3:$C$3,$B$5:$C$5,B313,D313)","v":-1.2549753232499388},1.8596754578772317,-0.74756760957442103,2.3524460687572777,null,{"$f":"Burmester($B$3:$C$3,$B$4:$C$4,$B$6:$C$6,$E$3,$E$4,$E$6,B313)","v":1.52973667916115E-2},2.135879111742379,{"$f":"ThreePosition_Basic2($E$3,$E$6,$B$3:$C$3,$B$6:$C$6,B313,N313)","v":-0.60698058253597731},2.8990599820118552,-0.20815188211696889,3.4138050232397208,{"$f":"ThreePosition_Basic2($E$3,$E$6,$B$3:$C$3,$B$6:$C$6,B313,O313)","v":-0.99137838897046215},2.132906700391195,-0.51546746304969238,2.6393541005483883]
[149.5,2.6092672317315224,{"$f":"Burmester($B$3:$C$3,$B$4:$C$4,$B$5:$C$5,$E$3,$E$4,$E$5,B314)","v":4.4179765731988958},3.1287312501304756,{"$f":"ThreePosition_Basic2($E$3,$E$5,$B$3:$C$3,$B$5:$C$5,B314,C314)","v":-0.70281169697003765},2.6481244937908466,-0.27795779063859866,3.1602333200754904,{"$f":"ThreePosition_Basic2($E$3,$E$5,$B$3:$C$3,$B$5:$C$5,B314,D314)","v":-1.2698917165921453},1.8587558564602036,-0.76040539310783106,2.3474841238420949,null,{"$f":"Burmester($B$3:$C$3,$B$4:$C$4,$B$6:$C$6,$E$3,$E$4,$E$6,B314)","v":4.4617785450291388E-2},2.1228102463765652,{"$f":"ThreePosition_Basic2($E$3,$E$6,$B$3:$C$3,$B$6:$C$6,B314,N314)","v":-0.6202951071535181},2.8970895500630434,-0.21912182644378442,3.4084075050127836,{"$f":"ThreePosition_Basic2($E$3,$E$6,$B$3:$C$3,$B$6:$C$6,B314,O314)","v":-0.99736274703264716},2.1420246394396818,-0.52040553160005487,2.6449936051973273]
[150,2.6179938779914944,{"$f":"Burmester($B$3:$C$3,$B$4:$C$4,$B$5:$C$5,$E$3,$E$4,$E$5,B315)","v":4.4436579390154565},3.120642072977482,{"$f":"ThreePosition_Basic2($E$3,$E$5,$B$3:$C$3,$B$5:$C$5,B315,C315)","v":-0.7094488640128741},2.6634636939608973,-0.28396366624851499,3.1720763292937204,{"$f":"ThreePosition_Basic2($E$3,$E$5,$B$3:$C$3,$B$5:$C$5,B315,D315)","v":-1.2844360382541491},1.8580761574200237,-0.77291863647593717,2.342791086689751,null,{"$f":"Burmester($B$3:$C$3,$B$4:$C$4,$B$6:$C$6,$E$3,$E$4,$E$6,B315)","v":7.409486203349766E-2},2.1095483227533136,{"$f":"ThreePosition_Basic2($E$3,$E$6,$B$3:$C$3,$B$6:$C$6,B315,N315)","v":-0.63359186266247314},2.8948861412269533,-0.23006966666490386,3.4027887659616796,{"$f":"ThreePosition_Basic2($E$3,$E$6,$B$3:$C$3,$B$6:$C$6,B315,O315)","v":-1.0032266958404719},2.1512558402209998,-0.52524590227166001,2.6507664563765769]
[150.5,2.626720524251466,{"$f":"Burmester($B$3:$C$3,$B$4:$C$4,$B$5:$C$5,$E$3,$E$4,$E$5,B316)","v":4.4689247809872379},3.1129293827995665,{"$f":"ThreePosition_Basic2($E$3,$E$5,$B$3:$C$3,$B$5:$C$5,B316,C316)","v":-0.7163173458265546},2.6783359069318768,-0.29016470602414962,3.1834646691996582,{"$f":"ThreePosition_Basic2($E$3,$E$5,$B$3:$C$3,$B$5:$C$5,B316,D316)","v":-1.2986316413040335},1.8576143561416378,-0.78512757452400794,2.3383438497687625,null,{"$f":"Burmester($B$3:$C$3,$B$4:$C$4,$B$6:$C$6,$E$3,$E$4,$E$6,B316)","v":0.10374494575843499},2.0960773297644071,{"$f":"ThreePosition_Basic2($E$3,$E$6,$B$3:$C$3,$B$6:$C$6,B316,N316)","v":-0.6468735836251972},2.8924459799086315,-0.24099756837598307,3.3969445315664428,{"$f":"ThreePosition_Basic2($E$3,$E$6,$B$3:$C$3,$B$6:$C$6,B316,O316)","v":-1.0089692949661129},2.1606065256329727,-0.52998796178447449,2.6566787689762608]
[151,2.6354471705114375,{"$f":"Burmester($B$3:$C$3,$B$4:$C$4,$B$5:$C$5,$E$3,$E$4,$E$5,B317)","v":4.4938045411219321},3.1055659740885289,{"$f":"ThreePosition_Basic2($E$3,$E$5,$B$3:$C$3,$B$5:$C$5,B317,C317)","v":-0.72339654277987497},2.6927654550989546,-0.29654312277496597,3.1944229334736662,{"$f":"ThreePosition_Basic2($E$3,$E$5,$B$3:$C$3,$B$5:$C$5,B317,D317)","v":-1.3124994195575213},1.8573510798366493,-0.7970503184385892,2.3341220274709564,null,{"$f":"Burmester($B$3:$C$3,$B$4:$C$4,$B$6:$C$6,$E$3,$E$4,$E$6,B317)","v":0.13358576022556884},2.0823798799425504,{"$f":"ThreePosition_Basic2($E$3,$E$6,$B$3:$C$3,$B$6:$C$6,B317,N317)","v":-0.66014329029019747},2.8897645854773111,-0.25190792022530933,3.3908698147019924,{"$f":"ThreePosition_Basic2($E$3,$E$6,$B$3:$C$3,$B$6:$C$6,B317,O317)","v":-1.0145892959147451},2.1700835629003437,-0.53463085385163334,2.6627373202067948]
[151.5,2.6441738167714091,{"$f":"Burmester($B$3:$C$3,$B$4:$C$4,$B$5:$C$5,$E$3,$E$4,$E$5,B318)","v":4.5183215818801195},3.0985277218368155,{"$f":"ThreePosition_Basic2($E$3,$E$5,$B$3:$C$3,$B$5:$C$5,B318,C318)","v":-0.73066799167165009},2.7067743273287577,-0.30308297468243223,3.2049733169747694,{"$f":"ThreePosition_Basic2($E$3,$E$5,$B$3:$C$3,$B$5:$C$5,B318,D318)","v":-1.3260581719962821},1.857269177900257,-0.80870316979980084,2.3301075336689734,null,{"$f":"Burmester($B$3:$C$3,$B$4:$C$4,$B$6:$C$6,$E$3,$E$4,$E$6,B318)","v":0.16363660354274914},2.0684370093209345,{"$f":"ThreePosition_Basic2($E$3,$E$6,$B$3:$C$3,$B$6:$C$6,B318,N318)","v":-0.67340432254293692},2.8868366901812084,-0.26280336028641998,3.3845588316053594,{"$f":"ThreePosition_Basic2($E$3,$E$6,$B$3:$C$3,$B$6:$C$6,B318,O318)","v":-1.0200851083301177},2.1796945473843432,-0.53917345295687746,2.6689496350822655]
[152,2.6529004630313806,{"$f":"Burmester($B$3:$C$3,$B$4:$C$4,$B$5:$C$5,$E$3,$E$4,$E$5,B319)","v":4.5424976477996388},3.0917931198408626,{"$f":"ThreePosition_Basic2($E$3,$E$5,$B$3:$C$3,$B$5:$C$5,B319,C319)","v":-0.73811506690466822},2.7203825129340471,-0.30976990764786277,3.2151359598950084,{"$f":"ThreePosition_Basic2($E$3,$E$5,$B$3:$C$3,$B$5:$C$5,B319,D319)","v":-1.3393248991439064},1.8573533904898318,-0.82010087605778526,2.3262842398722938,null,{"$f":"Burmester($B$3:$C$3,$B$4:$C$4,$B$6:$C$6,$E$3,$E$4,$E$6,B319)","v":0.19391858494135258},2.0542279408021811,{"$f":"ThreePosition_Basic2($E$3,$E$6,$B$3:$C$3,$B$6:$C$6,B319,N319)","v":-0.68666038062691215},2.8836561412953214,-0.27368680772712023,3.3780049017655296,{"$f":"ThreePosition_Basic2($E$3,$E$6,$B$3:$C$3,$B$6:$C$6,B319,O319)","v":-1.0254547594397747},2.1894479021048125,-0.54361433284370331,2.6753240879343485]
[152.5,2.6616271092913526,{"$f":"Burmester($B$3:$C$3,$B$4:$C$4,$B$5:$C$5,$E$3,$E$4,$E$5,B320)","v":4.5663522419286666},3.0853429041975806,{"$f":"ThreePosition_Basic2($E$3,$E$5,$B$3:$C$3,$B$5:$C$5,B320,C320)","v":-0.74572273475806894},2.733608274905901,-0.31659094336385701,3.2249292293246072,{"$f":"ThreePosition_Basic2($E$3,$E$5,$B$3:$C$3,$B$5:$C$5,B320,D320)","v":-1.3523150464597862},1.8575900777970336,-0.83125684039008596,2.322637695926558,null,{"$f":"Burmester($B$3:$C$3,$B$4:$C$4,$B$6:$C$6,$E$3,$E$4,$E$6,B320)","v":0.22445490651025474},2.0397298024108137,{"$f":"ThreePosition_Basic2($E$3,$E$6,$B$3:$C$3,$B$6:$C$6,B320,N320)","v":-0.6999155741938361},2.8802157838536706,-0.28456150099355965,3.3712003280151834,{"$f":"ThreePosition_Basic2($E$3,$E$6,$B$3:$C$3,$B$6:$C$6,B320,O320)","v":-1.0306958451801873},2.1993529966252452,-0.54795172849679341,2.6818700236790303]
[153,2.6703537555513241,{"$f":"Burmester($B$3:$C$3,$B$4:$C$4,$B$5:$C$5,$E$3,$E$4,$E$5,B321)","v":4.5899029355135168},3.0791597435479674,{"$f":"ThreePosition_Basic2($E$3,$E$5,$B$3:$C$3,$B$5:$C$5,B321,C321)","v":-0.75347734949948941},2.746468375466256,-0.32353430342158235,3.2343699516844078,{"$f":"ThreePosition_Basic2($E$3,$E$5,$B$3:$C$3,$B$5:$C$5,B321,D321)","v":-1.3650427060042634},1.8579669969505062,-0.84218329562291339,2.3191548997996807,null,{"$f":"Burmester($B$3:$C$3,$B$4:$C$4,$B$6:$C$6,$E$3,$E$4,$E$6,B321)","v":0.25527120117236146},2.0249172893044731,{"$f":"ThreePosition_Basic2($E$3,$E$6,$B$3:$C$3,$B$6:$C$6,B321,N321)","v":-0.7131744816971427},2.8765073192602912,-0.29543104408448284,3.3641362520260323,{"$f":"ThreePosition_Basic2($E$3,$E$6,$B$3:$C$3,$B$6:$C$6,B321,O321)","v":-1.0358054709867175},2.2094202900082611,-0.55218349003987699,2.6885979036360497]
[153.5,2.6790804018112957,{"$f":"Burmester($B$3:$C$3,$B$4:$C$4,$B$5:$C$5,$E$3,$E$4,$E$5,B322)","v":4.6131656248465873},3.0732279821623893,{"$f":"ThreePosition_Basic2($E$3,$E$5,$B$3:$C$3,$B$5:$C$5,B322,C322)","v":-0.76136648281346597},2.7589782638027702,-0.33058926211858136,3.2434736061852498,{"$f":"ThreePosition_Basic2($E$3,$E$5,$B$3:$C$3,$B$5:$C$5,B322,D322)","v":-1.3775207848936566},1.8584731166873507,-0.85289144954716889,2.3158241062953384,null,{"$f":"Burmester($B$3:$C$3,$B$4:$C$4,$B$6:$C$6,$E$3,$E$4,$E$6,B322)","v":0.28639594140263952},2.0097622550449028,{"$f":"ThreePosition_Basic2($E$3,$E$6,$B$3:$C$3,$B$6:$C$6,B322,N322)","v":-0.7264422227577545},2.8725211336473588,-0.30629946297200644,3.356802478955947,{"$f":"ThreePosition_Basic2($E$3,$E$6,$B$3:$C$3,$B$6:$C$6,B322,O322)","v":-1.0407801796187905},2.2196615039748613,-0.55630702649309649,2.6955194821543369]
[154,2.6878070480712677,{"$f":"Burmester($B$3:$C$3,$B$4:$C$4,$B$5:$C$5,$E$3,$E$4,$E$5,B323)","v":4.636154745881762},3.0675334252601942,{"$f":"ThreePosition_Basic2($E$3,$E$5,$B$3:$C$3,$B$5:$C$5,B323,C323)","v":-0.76937878001600035},2.7711522335198779,-0.33774602234647821,3.2522544870760282,{"$f":"ThreePosition_Basic2($E$3,$E$5,$B$3:$C$3,$B$5:$C$5,B323,D323)","v":-1.3897611470703743},1.8590984622595952,-0.86339160724542718,2.3126346669322491,null,{"$f":"Burmester($B$3:$C$3,$B$4:$C$4,$B$6:$C$6,$E$3,$E$4,$E$6,B323)","v":0.31786093780002517},1.9942332130162645,{"$f":"ThreePosition_Basic2($E$3,$E$6,$B$3:$C$3,$B$6:$C$6,B323,N323)","v":-0.73972454697118373},2.8682460879010865,-0.3171712748830211,3.3491872630108594,{"$f":"ThreePosition_Basic2($E$3,$E$6,$B$3:$C$3,$B$6:$C$6,B323,O323)","v":-1.0456158625503338},2.2300898343484525,-0.5603192366750247,2.7026480222818945]
[154.5,2.6965336943312392,{"$f":"Burmester($B$3:$C$3,$B$4:$C$4,$B$5:$C$5,$E$3,$E$4,$E$5,B324)","v":4.6588834547974125},3.0620631583834883,{"$f":"ThreePosition_Basic2($E$3,$E$5,$B$3:$C$3,$B$5:$C$5,B324,C324)","v":-0.77750383799750711},2.7830035556244432,-0.3449956102045636,3.260725840675164,{"$f":"ThreePosition_Basic2($E$3,$E$5,$B$3:$C$3,$B$5:$C$5,B324,D324)","v":-1.4017747334413913},1.8598339847574821,-0.87369327477981962,2.3095768949947719,null,{"$f":"Burmester($B$3:$C$3,$B$4:$C$4,$B$6:$C$6,$E$3,$E$4,$E$6,B324)","v":0.34970195302086687},1.9782947224830969,{"$f":"ThreePosition_Basic2($E$3,$E$6,$B$3:$C$3,$B$6:$C$6,B324,N324)","v":-0.75302794378974103},2.8636692585785259,-0.32805157406734131,3.3412770429351011,{"$f":"ThreePosition_Basic2($E$3,$E$6,$B$3:$C$3,$B$6:$C$6,B324,O324)","v":-1.0503076502911344},2.2407202115621501,-0.56421642362273827,2.7099985614678768]
[155,2.7052603405912108,{"$f":"Burmester($B$3:$C$3,$B$4:$C$4,$B$5:$C$5,$E$3,$E$4,$E$5,B325)","v":4.6813637808788098},3.0568053944532463,{"$f":"ThreePosition_Basic2($E$3,$E$5,$B$3:$C$3,$B$5:$C$5,B325,C325)","v":-0.78573210093694223},2.7945445915848235,-0.35232978493214928,3.2688999818621491,{"$f":"ThreePosition_Basic2($E$3,$E$5,$B$3:$C$3,$B$5:$C$5,B325,D325)","v":-1.4135716643378893},1.8606714503111179,-0.8838052476439392,2.3066419510785825,null,{"$f":"Burmester($B$3:$C$3,$B$4:$C$4,$B$6:$C$6,$E$3,$E$4,$E$6,B325)","v":0.38195946557979393},1.9619066247819852,{"$f":"ThreePosition_Basic2($E$3,$E$6,$B$3:$C$3,$B$6:$C$6,B325,N325)","v":-0.76635977975211478},2.8587756151462469,-0.33894613896187864,3.3330561125791029,{"$f":"ThreePosition_Basic2($E$3,$E$6,$B$3:$C$3,$B$6:$C$6,B325,O325)","v":-1.0548497753661816},2.2515696247999228,-0.56799418762009379,2.7175882421492732]
[155.5,2.7139869868511823,{"$f":"Burmester($B$3:$C$3,$B$4:$C$4,$B$5:$C$5,$E$3,$E$4,$E$5,B326)","v":4.7036067567295561},3.0517493434981078,{"$f":"ThreePosition_Basic2($E$3,$E$5,$B$3:$C$3,$B$5:$C$5,B326,C326)","v":-0.79405477066199648},2.8057868900369196,-0.35974096146858459,3.2767883937114983,{"$f":"ThreePosition_Basic2($E$3,$E$5,$B$3:$C$3,$B$5:$C$5,B326,D326)","v":-1.4251613274169996},1.8616033455972421,-0.89373568666609271,2.3038217454494445,null,{"$f":"Burmester($B$3:$C$3,$B$4:$C$4,$B$6:$C$6,$E$3,$E$4,$E$6,B326)","v":0.41467963089487991},1.9450230822700212,{"$f":"ThreePosition_Basic2($E$3,$E$6,$B$3:$C$3,$B$6:$C$6,B326,N326)","v":-0.77972847167633996},2.8535476135522257,-0.3498615674958454,3.324506206170319,{"$f":"ThreePosition_Basic2($E$3,$E$6,$B$3:$C$3,$B$6:$C$6,B326,O326)","v":-1.0592353993363641},2.2626575297617211,-0.57164729108868251,2.7254367275976104]
[156,2.7227136331111539,{"$f":"Burmester($B$3:$C$3,$B$4:$C$4,$B$5:$C$5,$E$3,$E$4,$E$5,B327)","v":4.7256225297847232},3.0468851010831561,{"$f":"ThreePosition_Basic2($E$3,$E$5,$B$3:$C$3,$B$5:$C$5,B327,C327)","v":-0.80246372916585007},2.8167412699751768,-0.3672221434968273,3.2844018131936483,{"$f":"ThreePosition_Basic2($E$3,$E$5,$B$3:$C$3,$B$5:$C$5,B327,D327)","v":-1.4365524534911542},1.8626227968135756,-0.90349218350439953,2.3011088542909861,null,{"$f":"Burmester($B$3:$C$3,$B$4:$C$4,$B$6:$C$6,$E$3,$E$4,$E$6,B327)","v":0.44791550570105249},1.9275913539060727,{"$f":"ThreePosition_Basic2($E$3,$E$6,$B$3:$C$3,$B$6:$C$6,B327,N327)","v":-0.79314370784614896},2.8479646782550012,-0.36080544995635666,3.3156059698759055,{"$f":"ThreePosition_Basic2($E$3,$E$6,$B$3:$C$3,$B$6:$C$6,B327,O327)","v":-1.0634563918299851},2.2740063679300118,-0.57516948592163664,2.733566731438422]
[156.5,2.7314402793711254,{"$f":"Burmester($B$3:$C$3,$B$4:$C$4,$B$5:$C$5,$E$3,$E$4,$E$5,B328)","v":4.7474204583013808},3.0422035522629649,{"$f":"ThreePosition_Basic2($E$3,$E$5,$B$3:$C$3,$B$5:$C$5,B328,C328)","v":-0.81095147128125067},2.8274178927004532,-0.3747668652484254,3.2917503052841894,{"$f":"ThreePosition_Basic2($E$3,$E$5,$B$3:$C$3,$B$5:$C$5,B328,D328)","v":-1.4477531822804424},1.8637234998493311,-0.91308181745239037,2.298496447500618,null,{"$f":"Burmester($B$3:$C$3,$B$4:$C$4,$B$6:$C$6,$E$3,$E$4,$E$6,B328)","v":0.48172862981576148},1.9095502134808044,{"$f":"ThreePosition_Basic2($E$3,$E$6,$B$3:$C$3,$B$6:$C$6,B328,N328)","v":-0.80661673429450642},2.842002533122391,-0.37178659280895116,3.3063302793118186,{"$f":"ThreePosition_Basic2($E$3,$E$6,$B$3:$C$3,$B$6:$C$6,B328,O328)","v":-1.0675030444807749},2.2856422369267628,-0.57855328986532528,2.7420047011899848]
[157,2.740166925631097,{"$f":"Burmester($B$3:$C$3,$B$4:$C$4,$B$5:$C$5,$E$3,$E$4,$E$5,B329)","v":4.7690091943842292},3.0376962885011674,{"$f":"ThreePosition_Basic2($E$3,$E$5,$B$3:$C$3,$B$5:$C$5,B329,C329)","v":-0.81951104589424884},2.837826324357104,-0.38236914067623179,3.2988433273699345,{"$f":"ThreePosition_Basic2($E$3,$E$5,$B$3:$C$3,$B$5:$C$5,B329,D329)","v":-1.4587711197020206},1.8648996598200362,-0.92251120494553351,2.2959782261455794,null,{"$f":"Burmester($B$3:$C$3,$B$4:$C$4,$B$6:$C$6,$E$3,$E$4,$E$6,B329)","v":0.51619110158263892},1.8908278741696849,{"$f":"ThreePosition_Basic2($E$3,$E$6,$B$3:$C$3,$B$6:$C$6,B329,N329)","v":-0.82016073099996634},2.8356323238273542,-0.38281531291035797,3.2966493445320189,{"$f":"ThreePosition_Basic2($E$3,$E$6,$B$3:$C$3,$B$6:$C$6,B329,O329)","v":-1.071363694956279},2.2975957693346905,-0.58178969251120605,2.7507817142888369]
[157.5,2.748893571891069,{"$f":"Burmester($B$3:$C$3,$B$4:$C$4,$B$5:$C$5,$E$3,$E$4,$E$5,B330)","v":4.7903967561206677},3.0333555354822033,{"$f":"ThreePosition_Basic2($E$3,$E$5,$B$3:$C$3,$B$5:$C$5,B330,C330)","v":-0.8281360043794147},2.8479755905475668,-0.39002341885900021,3.3056897854858454,{"$f":"ThreePosition_Basic2($E$3,$E$5,$B$3:$C$3,$B$5:$C$5,B330,D330)","v":-1.469613388011245},1.8661459384789911,-0.93178654290135388,2.29354836804572,null,{"$f":"Burmester($B$3:$C$3,$B$4:$C$4,$B$6:$C$6,$E$3,$E$4,$E$6,B330)","v":0.55138834930958824},1.8713392170925045,{"$f":"ThreePosition_Basic2($E$3,$E$6,$B$3:$C$3,$B$6:$C$6,B330,N330)","v":-0.83379131483175262},2.8288194466731222,-0.3939038309710014,3.2865275158140546,{"$f":"ThreePosition_Basic2($E$3,$E$6,$B$3:$C$3,$B$6:$C$6,B330,O330)","v":-1.0750242242402619},2.3099033050518871,-0.5848677620399545,2.759934673286879]
[158,2.7576202181510405,{"$f":"Burmester($B$3:$C$3,$B$4:$C$4,$B$5:$C$5,$E$3,$E$4,$E$5,B331)","v":4.8115905905187333},3.0291740901217565,{"$f":"ThreePosition_Basic2($E$3,$E$5,$B$3:$C$3,$B$5:$C$5,B331,C331)","v":-0.83682035517521314},2.8578742242410686,-0.39772454470594598,3.3122980836369171,{"$f":"ThreePosition_Basic2($E$3,$E$5,$B$3:$C$3,$B$5:$C$5,B331,D331)","v":-1.4802866698724677},1.867457408289257,-0.94091364682201528,2.2912014802294136,null,{"$f":"Burmester($B$3:$C$3,$B$4:$C$4,$B$6:$C$6,$E$3,$E$4,$E$6,B331)","v":0.58742290683561682},1.8509820157450463,{"$f":"ThreePosition_Basic2($E$3,$E$6,$B$3:$C$3,$B$6:$C$6,B331,N331)","v":-0.84752722535621849},2.8215219544060055,-0.4050668082338888,3.2759216583498727,{"$f":"ThreePosition_Basic2($E$3,$E$6,$B$3:$C$3,$B$6:$C$6,B331,O331)","v":-1.078467371056046},2.322608486622689,-0.58777410875086278,2.7695079321123082]
[158.5,2.7663468644110125,{"$f":"Burmester($B$3:$C$3,$B$4:$C$4,$B$5:$C$5,$E$3,$E$4,$E$5,B332)","v":4.8325976286389363},3.0251452653848676,{"$f":"ThreePosition_Basic2($E$3,$E$5,$B$3:$C$3,$B$5:$C$5,B332,C332)","v":-0.84555852360709127},2.8675303079773533,-0.40546772419200755,3.3186761672368208,{"$f":"ThreePosition_Basic2($E$3,$E$5,$B$3:$C$3,$B$5:$C$5,B332,D332)","v":-1.4907972472488455},1.8688295121560057,-0.94989798442583406,2.2889325572315187,null,{"$f":"Burmester($B$3:$C$3,$B$4:$C$4,$B$6:$C$6,$E$3,$E$4,$E$6,B332)","v":0.62441967664377318},1.8296316728855324,{"$f":"ThreePosition_Basic2($E$3,$E$6,$B$3:$C$3,$B$6:$C$6,B332,N332)","v":-0.86139128155182931},2.8136883361315723,-0.41632209537048886,3.2647788891325473,{"$f":"ThreePosition_Basic2($E$3,$E$6,$B$3:$C$3,$B$6:$C$6,B332,O332)","v":-1.0816717753832734},2.3357644804303264,-0.59049213637559361,2.7795555601047637]
[159,2.7750735106709841,{"$f":"Burmester($B$3:$C$3,$B$4:$C$4,$B$5:$C$5,$E$3,$E$4,$E$5,B333)","v":4.8534243340690946},3.0212628417625447,{"$f":"ThreePosition_Basic2($E$3,$E$5,$B$3:$C$3,$B$5:$C$5,B333,C333)","v":-0.85434531621725363},2.8769515111933903,-0.41324849348494835,3.3248315615169246,{"$f":"ThreePosition_Basic2($E$3,$E$5,$B$3:$C$3,$B$5:$C$5,B333,D333)","v":-1.5011510358490494},1.8702580279918579,-0.9587447054437459,2.2867369443803605,null,{"$f":"Burmester($B$3:$C$3,$B$4:$C$4,$B$6:$C$6,$E$3,$E$4,$E$6,B333)","v":0.66253346535840785},1.8071336850375703,{"$f":"ThreePosition_Basic2($E$3,$E$6,$B$3:$C$3,$B$6:$C$6,B333,N333)","v":-0.87541175240087321},2.8052543422609357,-0.42769180565397757,3.2530333407848637,{"$f":"ThreePosition_Basic2($E$3,$E$6,$B$3:$C$3,$B$6:$C$6,B333,O333)","v":-1.084610608099478},2.3494371528256948,-0.59300096911557065,2.7901445790796724]
[159.5,2.7838001569309556,{"$f":"Burmester($B$3:$C$3,$B$4:$C$4,$B$5:$C$5,$E$3,$E$4,$E$5,B334)","v":4.8740767456968301},3.0175210244522273,{"$f":"ThreePosition_Basic2($E$3,$E$5,$B$3:$C$3,$B$5:$C$5,B334,C334)","v":-0.86317588898253017},2.8861451233619206,-0.42106269143089847,3.3307714056159217,{"$f":"ThreePosition_Basic2($E$3,$E$5,$B$3:$C$3,$B$5:$C$5,B334,D334)","v":-1.5113536157466185},1.8717390374270408,-0.96745866811156322,2.2846103053641471,null,{"$f":"Burmester($B$3:$C$3,$B$4:$C$4,$B$6:$C$6,$E$3,$E$4,$E$6,B334)","v":0.70196011791661483},1.7832925083197295,{"$f":"ThreePosition_Basic2($E$3,$E$6,$B$3:$C$3,$B$6:$C$6,B334,N334)","v":-0.88962438299303592},2.7961382989266657,-0.43920390183940827,3.2406013863737853,{"$f":"ThreePosition_Basic2($E$3,$E$6,$B$3:$C$3,$B$6:$C$6,B334,O334)","v":-1.0872495451110344},2.3637097567539436,-0.59527386497319501,2.8013597393788126]
[160,2.7925268031909272,{"$f":"Burmester($B$3:$C$3,$B$4:$C$4,$B$5:$C$5,$E$3,$E$4,$E$5,B335)","v":4.8945605155767478},3.0139144054450271,{"$f":"ThreePosition_Basic2($E$3,$E$5,$B$3:$C$3,$B$5:$C$5,B335,C335)","v":-0.87204571890116278},2.8951180835178203,-0.42890643495057984,3.3365024829439847,{"$f":"ThreePosition_Basic2($E$3,$E$5,$B$3:$C$3,$B$5:$C$5,B335,D335)","v":-1.5214102586883074},1.8732688980891048,-0.97604446280322488,2.2825485934836052,null,{"$f":"Burmester($B$3:$C$3,$B$4:$C$4,$B$6:$C$6,$E$3,$E$4,$E$6,B335)","v":0.74295360084497108},1.7578544751705878,{"$f":"ThreePosition_Basic2($E$3,$E$6,$B$3:$C$3,$B$6:$C$6,B335,N335)","v":-0.90407550442138263},2.7862339282752728,-0.45089463255899231,3.2273743232827674,{"$f":"ThreePosition_Basic2($E$3,$E$6,$B$3:$C$3,$B$6:$C$6,B335,O335)","v":-1.0895436576926016},2.3786901124729507,-0.5972757795684196,2.8133108368360169]
[160.5,{"$f":"A336*PI()/180","v":2.8012534494508987},{"$f":"Burmester($B$3:$C$3,$B$4:$C$4,$B$5:$C$5,$E$3,$E$4,$E$5,B336)","v":4.9148809425610667},3.0104379298509492,{"$f":"ThreePosition_Basic2($E$3,$E$5,$B$3:$C$3,$B$5:$C$5,B336,C336)","v":-0.8809505785106736},2.903877006656256,-0.43677609696854108,3.342031248320541,{"$f":"ThreePosition_Basic2($E$3,$E$5,$B$3:$C$3,$B$5:$C$5,B336,D336)","v":-1.5313259525266518},1.8748442189689107,-0.98450643318035858,2.2805480260924096,null,{"$f":"Burmester($B$3:$C$3,$B$4:$C$4,$B$6:$C$6,$E$3,$E$4,$E$6,B336)","v":0.78585344632213838},1.7304803502886554,{"$f":"ThreePosition_Basic2($E$3,$E$6,$B$3:$C$3,$B$6:$C$6,B336,N336)","v":-0.91882703144473277},2.7753988302957393,-0.46281244872596661,3.2132066375525539,{"$f":"ThreePosition_Basic2($E$3,$E$6,$B$3:$C$3,$B$6:$C$6,B336,O336)","v":-1.0914324150607795},2.3945221267052794,-0.59895944994695693,2.8261444492482921]
[161,2.8099800957108703,{"$f":"Burmester($B$3:$C$3,$B$4:$C$4,$B$5:$C$5,$E$3,$E$4,$E$5,B337)","v":4.9350430022574336},3.0070868658983558,{"$f":"ThreePosition_Basic2($E$3,$E$5,$B$3:$C$3,$B$5:$C$5,B337,C337)","v":-0.8898865129657918},2.9124282074112369,-0.44466828655529966,3.3473638523070433,{"$f":"ThreePosition_Basic2($E$3,$E$5,$B$3:$C$3,$B$5:$C$5,B337,D337)","v":-1.5411054231452039},1.8764618384650473,-0.99284869517594321,2.2786050618047398,null,{"$f":"Burmester($B$3:$C$3,$B$4:$C$4,$B$6:$C$6,$E$3,$E$4,$E$6,B337)","v":0.83113144651440063},1.7006986363000749,{"$f":"ThreePosition_Basic2($E$3,$E$6,$B$3:$C$3,$B$6:$C$6,B337,N337)","v":-0.93396496812212804},2.763434913600439,-0.47502467076990745,3.1978960674310244,{"$f":"ThreePosition_Basic2($E$3,$E$6,$B$3:$C$3,$B$6:$C$6,B337,O337)","v":-1.0928311789760112},2.4114053628082615,-0.60025872755703436,2.8400638736126393]
[161.5,2.8187067419708423,{"$f":"Burmester($B$3:$C$3,$B$4:$C$4,$B$5:$C$5,$E$3,$E$4,$E$5,B338)","v":4.9550513737911217},3.0038567781304231,{"$f":"ThreePosition_Basic2($E$3,$E$5,$B$3:$C$3,$B$5:$C$5,B338,C338)","v":-0.89884981936065567},2.9207777213609267,-0.45257983100989529,3.352506163091999,{"$f":"ThreePosition_Basic2($E$3,$E$5,$B$3:$C$3,$B$5:$C$5,B338,D338)","v":-1.5507531541898039},1.8781188047609885,-1.0010751540823848,2.2767163801133661,null,{"$f":"Burmester($B$3:$C$3,$B$4:$C$4,$B$6:$C$6,$E$3,$E$4,$E$6,B338)","v":0.87947720159909293},1.6678200257391105,{"$f":"ThreePosition_Basic2($E$3,$E$6,$B$3:$C$3,$B$6:$C$6,B338,N338)","v":-0.94961499480247369},2.7500525964339633,-0.48762971001653305,3.1811471367079895,{"$f":"ThreePosition_Basic2($E$3,$E$6,$B$3:$C$3,$B$6:$C$6,B338,O338)","v":-1.0936156169894187},2.4296308406876834,-0.60107635708146867,2.8553655935535422]
[162,2.8274333882308138,{"$f":"Burmester($B$3:$C$3,$B$4:$C$4,$B$5:$C$5,$E$3,$E$4,$E$5,B339)","v":4.9749104637773991},3.0007435033927892,{"$f":"ThreePosition_Basic2($E$3,$E$5,$B$3:$C$3,$B$5:$C$5,B339,C339)","v":-0.90783702802537536},2.9289313242547563,-0.46050775964989793,3.357463786232564,{"$f":"ThreePosition_Basic2($E$3,$E$5,$B$3:$C$3,$B$5:$C$5,B339,D339)","v":-1.5602734048735081},1.879812358240774,-1.009189519974903,2.2748788631147274,null,{"$f":"Burmester($B$3:$C$3,$B$4:$C$4,$B$6:$C$6,$E$3,$E$4,$E$6,B339)","v":0.93197123082938904},1.6307642899879313,{"$f":"ThreePosition_Basic2($E$3,$E$6,$B$3:$C$3,$B$6:$C$6,B339,N339)","v":-0.96597401648817083},2.7347984772805267,-0.5007818118318309,3.162497484641245,{"$f":"ThreePosition_Basic2($E$3,$E$6,$B$3:$C$3,$B$6:$C$6,B339,O339)","v":-1.0935901543154685},2.4496533670853244,-0.60125923350497246,2.8725129501356017]
[162.5,2.8361600344907854,{"$f":"Burmester($B$3:$C$3,$B$4:$C$4,$B$5:$C$5,$E$3,$E$4,$E$5,B340)","v":4.9946244278502903},2.9977431292661367,{"$f":"ThreePosition_Basic2($E$3,$E$5,$B$3:$C$3,$B$5:$C$5,B340,C340)","v":-0.91684488556530264},2.9368945494144003,-0.46844928910889444,3.3622420825127333,{"$f":"ThreePosition_Basic2($E$3,$E$5,$B$3:$C$3,$B$5:$C$5,B340,D340)","v":-1.5696702260845814},1.8815399156918147,-1.0171953216681779,2.2730895790815948,null,{"$f":"Burmester($B$3:$C$3,$B$4:$C$4,$B$6:$C$6,$E$3,$E$4,$E$6,B340)","v":0.99048871069093103},1.5876565411251831,{"$f":"ThreePosition_Basic2($E$3,$E$6,$B$3:$C$3,$B$6:$C$6,B340,N340)","v":-0.98338375725755578},2.7168869151127963,-0.51474879143387731,3.1411463439460761,{"$f":"ThreePosition_Basic2($E$3,$E$6,$B$3:$C$3,$B$6:$C$6,B340,O340)","v":-1.0924143796454933},2.472259956198386,-0.60054066651320859,2.8923076645898727]
[163,2.8448866807507569,{"$f":"Burmester($B$3:$C$3,$B$4:$C$4,$B$5:$C$5,$E$3,$E$4,$E$5,B341)","v":5.0141971900444462},2.9948519746469788,{"$f":"ThreePosition_Basic2($E$3,$E$5,$B$3:$C$3,$B$5:$C$5,B341,C341)","v":-0.9258703394434521},2.9446727035250486,-0.47640180996915288,3.3668461841414032,{"$f":"ThreePosition_Basic2($E$3,$E$5,$B$3:$C$3,$B$5:$C$5,B341,D341)","v":-1.5789474749950398},1.8832990560792311,-1.0250959193766946,2.2713457676608586,null,{"$f":"Burmester($B$3:$C$3,$B$4:$C$4,$B$6:$C$6,$E$3,$E$4,$E$6,B341)","v":1.0588777402652927},1.5346489665683216,{"$f":"ThreePosition_Basic2($E$3,$E$6,$B$3:$C$3,$B$6:$C$6,B341,N341)","v":-1.0025455818312559},2.6947093465352205,-0.53008061361840919,3.1154548783361009,{"$f":"ThreePosition_Basic2($E$3,$E$6,$B$3:$C$3,$B$6:$C$6,B341,O341)","v":-1.0893882238167174},2.499060513378649,-0.59837180097731768,2.916389501466826]
[163.5,2.8536133270107289,{"$f":"Burmester($B$3:$C$3,$B$4:$C$4,$B$5:$C$5,$E$3,$E$4,$E$5,B342)","v":5.0336324602851672},2.9920665722215638,{"$f":"ThreePosition_Basic2($E$3,$E$5,$B$3:$C$3,$B$5:$C$5,B342,C342)","v":-0.9349105239334945},2.9522708810032472,-0.48436287458042887,3.3712810094824905,{"$f":"ThreePosition_Basic2($E$3,$E$5,$B$3:$C$3,$B$5:$C$5,B342,D342)","v":-1.5881088283402587},1.885087507706112,-1.0328945162259706,2.2696448265048508,null,{"$f":"Burmester($B$3:$C$3,$B$4:$C$4,$B$6:$C$6,$E$3,$E$4,$E$6,B342)","v":1.1482834679204823},1.4605967023894817,{"$f":"ThreePosition_Basic2($E$3,$E$6,$B$3:$C$3,$B$6:$C$6,B342,N342)","v":-1.0254913971439512},2.6636212781658655,-0.54837154702873803,3.0806929665331126,{"$f":"ThreePosition_Basic2($E$3,$E$6,$B$3:$C$3,$B$6:$C$6,B342,O342)","v":-1.082481058475139},2.5347008435681566,-0.59315946289320909,2.9494894852989471]
[164,2.8623399732707,{"$f":"Burmester($B$3:$C$3,$B$4:$C$4,$B$5:$C$5,$E$3,$E$4,$E$5,B343)","v":5.0529337502066571},2.9893836526127986,{"$f":"ThreePosition_Basic2($E$3,$E$5,$B$3:$C$3,$B$5:$C$5,B343,C343)","v":-0.94396274729360063},2.9596939771023858,-0.49233018593558708,3.3755512764833093,{"$f":"ThreePosition_Basic2($E$3,$E$5,$B$3:$C$3,$B$5:$C$5,B343,D343)","v":-1.5971577945174904},1.8869031365994766,-1.0405941687422966,2.2679842991708319,null,{"$f":"Burmester($B$3:$C$3,$B$4:$C$4,$B$6:$C$6,$E$3,$E$4,$E$6,B343)","v":{"$error":"#VALUE!"}},{"$error":"#VALUE!"},{"$f":"ThreePosition_Basic2($E$3,$E$6,$B$3:$C$3,$B$6:$C$6,B343,N343)","v":{"$error":"#VALUE!"}},{"$error":"#VALUE!"},{"$error":"#VALUE!"},{"$error":"#VALUE!"},{"$f":"ThreePosition_Basic2($E$3,$E$6,$B$3:$C$3,$B$6:$C$6,B343,O343)","v":{"$error":"#VALUE!"}},{"$error":"#VALUE!"},{"$error":"#VALUE!"},{"$error":"#VALUE!"}]
[164.5,2.871066619530672,{"$f":"Burmester($B$3:$C$3,$B$4:$C$4,$B$5:$C$5,$E$3,$E$4,$E$5,B344)","v":5.0721043874889862},2.9868001300097018,{"$f":"ThreePosition_Basic2($E$3,$E$5,$B$3:$C$3,$B$5:$C$5,B344,C344)","v":-0.95302448003076334},2.9669466998953955,-0.50030158749040687,3.3796615149452176,{"$f":"ThreePosition_Basic2($E$3,$E$5,$B$3:$C$3,$B$5:$C$5,B344,D344)","v":-1.6060977246317962},1.8887439359830152,-1.0481977964319515,2.2663618641452139,null,{"$f":"Burmester($B$3:$C$3,$B$4:$C$4,$B$6:$C$6,$E$3,$E$4,$E$6,B344)","v":{"$error":"#VALUE!"}},{"$error":"#VALUE!"},{"$f":"ThreePosition_Basic2($E$3,$E$6,$B$3:$C$3,$B$6:$C$6,B344,N344)","v":{"$error":"#VALUE!"}},{"$error":"#VALUE!"},{"$error":"#VALUE!"},{"$error":"#VALUE!"},{"$f":"ThreePosition_Basic2($E$3,$E$6,$B$3:$C$3,$B$6:$C$6,B344,O344)","v":{"$error":"#VALUE!"}},{"$error":"#VALUE!"},{"$error":"#VALUE!"},{"$error":"#VALUE!"}]
[165,2.8797932657906435,{"$f":"Burmester($B$3:$C$3,$B$4:$C$4,$B$5:$C$5,$E$3,$E$4,$E$5,B345)","v":5.0911475288791337},2.9843130891139573,{"$f":"ThreePosition_Basic2($E$3,$E$5,$B$3:$C$3,$B$5:$C$5,B345,C345)","v":-0.96209334414171432},2.9740335812561494,-0.50827505382916105,3.383616077761912,{"$f":"ThreePosition_Basic2($E$3,$E$5,$B$3:$C$3,$B$5:$C$5,B345,D345)","v":-1.6149318226015188},1.8906080167159722,-1.0557081905467165,2.2647753248679585,null,{"$f":"Burmester($B$3:$C$3,$B$4:$C$4,$B$6:$C$6,$E$3,$E$4,$E$6,B345)","v":{"$error":"#VALUE!"}},{"$error":"#VALUE!"},{"$f":"ThreePosition_Basic2($E$3,$E$6,$B$3:$C$3,$B$6:$C$6,B345,N345)","v":{"$error":"#VALUE!"}},{"$error":"#VALUE!"},{"$error":"#VALUE!"},{"$error":"#VALUE!"},{"$f":"ThreePosition_Basic2($E$3,$E$6,$B$3:$C$3,$B$6:$C$6,B345,O345)","v":{"$error":"#VALUE!"}},{"$error":"#VALUE!"},{"$error":"#VALUE!"},{"$error":"#VALUE!"}]
[165.5,2.8885199120506155,{"$f":"Burmester($B$3:$C$3,$B$4:$C$4,$B$5:$C$5,$E$3,$E$4,$E$5,B346)","v":5.1100661720401783},2.9819197732595142,{"$f":"ThreePosition_Basic2($E$3,$E$5,$B$3:$C$3,$B$5:$C$5,B346,C346)","v":-0.97116710323069977},2.9809589869454891,-0.5162486820897676,3.3874191512346803,{"$f":"ThreePosition_Basic2($E$3,$E$5,$B$3:$C$3,$B$5:$C$5,B346,D346)","v":-1.6236631544213851},1.8924935985929265,-1.0631280221204116,2.2632226006484566,null,{"$f":"Burmester($B$3:$C$3,$B$4:$C$4,$B$6:$C$6,$E$3,$E$4,$E$6,B346)","v":{"$error":"#VALUE!"}},{"$error":"#VALUE!"},{"$f":"ThreePosition_Basic2($E$3,$E$6,$B$3:$C$3,$B$6:$C$6,B346,N346)","v":{"$error":"#VALUE!"}},{"$error":"#VALUE!"},{"$error":"#VALUE!"},{"$error":"#VALUE!"},{"$f":"ThreePosition_Basic2($E$3,$E$6,$B$3:$C$3,$B$6:$C$6,B346,O346)","v":{"$error":"#VALUE!"}},{"$error":"#VALUE!"},{"$error":"#VALUE!"},{"$error":"#VALUE!"}]
[166,2.8972465583105871,{"$f":"Burmester($B$3:$C$3,$B$4:$C$4,$B$5:$C$5,$E$3,$E$4,$E$5,B347)","v":5.1288631663543907},2.979617573579413,{"$f":"ThreePosition_Basic2($E$3,$E$5,$B$3:$C$3,$B$5:$C$5,B347,C347)","v":-0.98024365341641106},2.9877271258945912,-0.52422068407269773,3.3910747645603045,{"$f":"ThreePosition_Basic2($E$3,$E$5,$B$3:$C$3,$B$5:$C$5,B347,D347)","v":-1.6322946566693026},1.8943990024125092,-1.0704598493508048,2.26170171837791,null,{"$f":"Burmester($B$3:$C$3,$B$4:$C$4,$B$6:$C$6,$E$3,$E$4,$E$6,B347)","v":{"$error":"#VALUE!"}},{"$error":"#VALUE!"},{"$f":"ThreePosition_Basic2($E$3,$E$6,$B$3:$C$3,$B$6:$C$6,B347,N347)","v":{"$error":"#VALUE!"}},{"$error":"#VALUE!"},{"$error":"#VALUE!"},{"$error":"#VALUE!"},{"$f":"ThreePosition_Basic2($E$3,$E$6,$B$3:$C$3,$B$6:$C$6,B347,O347)","v":{"$error":"#VALUE!"}},{"$error":"#VALUE!"},{"$error":"#VALUE!"},{"$error":"#VALUE!"}]
[166.5,2.9059732045705586,{"$f":"Burmester($B$3:$C$3,$B$4:$C$4,$B$5:$C$5,$E$3,$E$4,$E$5,B348)","v":5.1475412227904354},2.9774040191096423,{"$f":"ThreePosition_Basic2($E$3,$E$5,$B$3:$C$3,$B$5:$C$5,B348,C348)","v":-0.98932101495084956},2.994342058767046,-0.5321893789668688,3.394586798575602,{"$f":"ThreePosition_Basic2($E$3,$E$5,$B$3:$C$3,$B$5:$C$5,B348,D348)","v":-1.640829144332566},1.8963226427344475,-1.0777061243923041,2.260210804954939,null,{"$f":"Burmester($B$3:$C$3,$B$4:$C$4,$B$6:$C$6,$E$3,$E$4,$E$6,B348)","v":{"$error":"#VALUE!"}},{"$error":"#VALUE!"},{"$f":"ThreePosition_Basic2($E$3,$E$6,$B$3:$C$3,$B$6:$C$6,B348,N348)","v":{"$error":"#VALUE!"}},{"$error":"#VALUE!"},{"$error":"#VALUE!"},{"$error":"#VALUE!"},{"$f":"ThreePosition_Basic2($E$3,$E$6,$B$3:$C$3,$B$6:$C$6,B348,O348)","v":{"$error":"#VALUE!"}},{"$error":"#VALUE!"},{"$error":"#VALUE!"},{"$error":"#VALUE!"}]
[167,2.9146998508305306,{"$f":"Burmester($B$3:$C$3,$B$4:$C$4,$B$5:$C$5,$E$3,$E$4,$E$5,B349)","v":5.1661029229314019},2.9752767677332583,{"$f":"ThreePosition_Basic2($E$3,$E$5,$B$3:$C$3,$B$5:$C$5,B349,C349)","v":-0.9983973244818426},3.0008077058712255,-0.5401531866334679,3.3979589938324848,{"$f":"ThreePosition_Basic2($E$3,$E$5,$B$3:$C$3,$B$5:$C$5,B349,D349)","v":-1.6492693180203142},1.8982630212540672,-1.0848691996171986,2.2587480803511872,null,{"$f":"Burmester($B$3:$C$3,$B$4:$C$4,$B$6:$C$6,$E$3,$E$4,$E$6,B349)","v":{"$error":"#VALUE!"}},{"$error":"#VALUE!"},{"$f":"ThreePosition_Basic2($E$3,$E$6,$B$3:$C$3,$B$6:$C$6,B349,N349)","v":{"$error":"#VALUE!"}},{"$error":"#VALUE!"},{"$error":"#VALUE!"},{"$error":"#VALUE!"},{"$f":"ThreePosition_Basic2($E$3,$E$6,$B$3:$C$3,$B$6:$C$6,B349,O349)","v":{"$error":"#VALUE!"}},{"$error":"#VALUE!"},{"$error":"#VALUE!"},{"$error":"#VALUE!"}]
[167.5,2.9234264970905017,{"$f":"Burmester($B$3:$C$3,$B$4:$C$4,$B$5:$C$5,$E$3,$E$4,$E$5,B350)","v":5.1845507272488316},2.9732335978795748,{"$f":"ThreePosition_Basic2($E$3,$E$5,$B$3:$C$3,$B$5:$C$5,B350,C350)","v":-1.0074708278987337},3.0071278544860607,-0.5481106213953979,3.4011949580686958,{"$f":"ThreePosition_Basic2($E$3,$E$5,$B$3:$C$3,$B$5:$C$5,B350,D350)","v":-1.6576177706212725},1.9002187207318377,-1.091951333396469,2.2573118512524233,null,{"$f":"Burmester($B$3:$C$3,$B$4:$C$4,$B$6:$C$6,$E$3,$E$4,$E$6,B350)","v":{"$error":"#VALUE!"}},{"$error":"#VALUE!"},{"$f":"ThreePosition_Basic2($E$3,$E$6,$B$3:$C$3,$B$6:$C$6,B350,N350)","v":{"$error":"#VALUE!"}},{"$error":"#VALUE!"},{"$error":"#VALUE!"},{"$error":"#VALUE!"},{"$f":"ThreePosition_Basic2($E$3,$E$6,$B$3:$C$3,$B$6:$C$6,B350,O350)","v":{"$error":"#VALUE!"}},{"$error":"#VALUE!"},{"$error":"#VALUE!"},{"$error":"#VALUE!"}]
[168,2.9321531433504737,{"$f":"Burmester($B$3:$C$3,$B$4:$C$4,$B$5:$C$5,$E$3,$E$4,$E$5,B351)","v":5.2028869826979154},2.9712724009032452,{"$f":"ThreePosition_Basic2($E$3,$E$5,$B$3:$C$3,$B$5:$C$5,B351,C351)","v":-1.0165398737075395},3.0133061656561284,-0.55606028628586912,3.4042981731319211,{"$f":"ThreePosition_Basic2($E$3,$E$5,$B$3:$C$3,$B$5:$C$5,B351,D351)","v":-1.6658769934592241},1.9021883994228197,-1.0989546954454974,2.2559005052181424,null,{"$f":"Burmester($B$3:$C$3,$B$4:$C$4,$B$6:$C$6,$E$3,$E$4,$E$6,B351)","v":{"$error":"#VALUE!"}},{"$error":"#VALUE!"},{"$f":"ThreePosition_Basic2($E$3,$E$6,$B$3:$C$3,$B$6:$C$6,B351,N351)","v":{"$error":"#VALUE!"}},{"$error":"#VALUE!"},{"$error":"#VALUE!"},{"$error":"#VALUE!"},{"$f":"ThreePosition_Basic2($E$3,$E$6,$B$3:$C$3,$B$6:$C$6,B351,O351)","v":{"$error":"#VALUE!"}},{"$error":"#VALUE!"},{"$error":"#VALUE!"},{"$error":"#VALUE!"}]
[168.5,2.9408797896104448,{"$f":"Burmester($B$3:$C$3,$B$4:$C$4,$B$5:$C$5,$E$3,$E$4,$E$5,B352)","v":5.2211139297003051},2.9693911740767471,{"$f":"ThreePosition_Basic2($E$3,$E$5,$B$3:$C$3,$B$5:$C$5,B352,C352)","v":-1.0256029068877375},3.0193461805054973,-0.56400086771474689,3.4072720014083315,{"$f":"ThreePosition_Basic2($E$3,$E$5,$B$3:$C$3,$B$5:$C$5,B352,D352)","v":-1.6740493819926976},1.904170785957205,-1.1058813717748688,2.2545125053092114,null,{"$f":"Burmester($B$3:$C$3,$B$4:$C$4,$B$6:$C$6,$E$3,$E$4,$E$6,B352)","v":{"$error":"#VALUE!"}},{"$error":"#VALUE!"},{"$f":"ThreePosition_Basic2($E$3,$E$6,$B$3:$C$3,$B$6:$C$6,B352,N352)","v":{"$error":"#VALUE!"}},{"$error":"#VALUE!"},{"$error":"#VALUE!"},{"$error":"#VALUE!"},{"$f":"ThreePosition_Basic2($E$3,$E$6,$B$3:$C$3,$B$6:$C$6,B352,O352)","v":{"$error":"#VALUE!"}},{"$error":"#VALUE!"},{"$error":"#VALUE!"},{"$error":"#VALUE!"}]
[169,2.9496064358704168,{"$f":"Burmester($B$3:$C$3,$B$4:$C$4,$B$5:$C$5,$E$3,$E$4,$E$5,B353)","v":5.2392337085735239},2.9675880141372715,{"$f":"ThreePosition_Basic2($E$3,$E$5,$B$3:$C$3,$B$5:$C$5,B353,C353)","v":-1.0346584631880238},3.0252513261143905,-0.57193113051572753,3.4101196918010328,{"$f":"ThreePosition_Basic2($E$3,$E$5,$B$3:$C$3,$B$5:$C$5,B353,D353)","v":-1.6821372411004254},1.9061646746286582,-1.1127333692821997,2.2531463851387779,null,{"$f":"Burmester($B$3:$C$3,$B$4:$C$4,$B$6:$C$6,$E$3,$E$4,$E$6,B353)","v":{"$error":"#VALUE!"}},{"$error":"#VALUE!"},{"$f":"ThreePosition_Basic2($E$3,$E$6,$B$3:$C$3,$B$6:$C$6,B353,N353)","v":{"$error":"#VALUE!"}},{"$error":"#VALUE!"},{"$error":"#VALUE!"},{"$error":"#VALUE!"},{"$f":"ThreePosition_Basic2($E$3,$E$6,$B$3:$C$3,$B$6:$C$6,B353,O353)","v":{"$error":"#VALUE!"}},{"$error":"#VALUE!"},{"$error":"#VALUE!"},{"$error":"#VALUE!"}]
[169.5,2.9583330821303884,{"$f":"Burmester($B$3:$C$3,$B$4:$C$4,$B$5:$C$5,$E$3,$E$4,$E$5,B354)","v":5.2572483654592865},2.9658611113356761,{"$f":"ThreePosition_Basic2($E$3,$E$5,$B$3:$C$3,$B$5:$C$5,B354,C354)","v":-1.0437051638228301},3.0310249209977815,-0.57984991334125735,3.4128443852988082,{"$f":"ThreePosition_Basic2($E$3,$E$5,$B$3:$C$3,$B$5:$C$5,B354,D354)","v":-1.6901427899894894},1.9081689210519412,-1.1195126200169101,2.251800744306625,null,{"$f":"Burmester($B$3:$C$3,$B$4:$C$4,$B$6:$C$6,$E$3,$E$4,$E$6,B354)","v":{"$error":"#VALUE!"}},{"$error":"#VALUE!"},{"$f":"ThreePosition_Basic2($E$3,$E$6,$B$3:$C$3,$B$6:$C$6,B354,N354)","v":{"$error":"#VALUE!"}},{"$error":"#VALUE!"},{"$error":"#VALUE!"},{"$error":"#VALUE!"},{"$f":"ThreePosition_Basic2($E$3,$E$6,$B$3:$C$3,$B$6:$C$6,B354,O354)","v":{"$error":"#VALUE!"}},{"$error":"#VALUE!"},{"$error":"#VALUE!"},{"$error":"#VALUE!"}]
[170,2.9670597283903604,{"$f":"Burmester($B$3:$C$3,$B$4:$C$4,$B$5:$C$5,$E$3,$E$4,$E$5,B355)","v":5.275159857797421},2.9642087439408034,{"$f":"ThreePosition_Basic2($E$3,$E$5,$B$3:$C$3,$B$5:$C$5,B355,C355)","v":-1.0527417105354369},3.036670180220975,-0.58775612437561908,3.4154491201713331,{"$f":"ThreePosition_Basic2($E$3,$E$5,$B$3:$C$3,$B$5:$C$5,B355,D355)","v":-1.6980681667593707},1.9101824381555346,-1.1262209851466847,2.2504742441814791,null,{"$f":"Burmester($B$3:$C$3,$B$4:$C$4,$B$6:$C$6,$E$3,$E$4,$E$6,B355)","v":{"$error":"#VALUE!"}},{"$error":"#VALUE!"},{"$f":"ThreePosition_Basic2($E$3,$E$6,$B$3:$C$3,$B$6:$C$6,B355,N355)","v":{"$error":"#VALUE!"}},{"$error":"#VALUE!"},{"$error":"#VALUE!"},{"$error":"#VALUE!"},{"$f":"ThreePosition_Basic2($E$3,$E$6,$B$3:$C$3,$B$6:$C$6,B355,O355)","v":{"$error":"#VALUE!"}},{"$error":"#VALUE!"},{"$error":"#VALUE!"},{"$error":"#VALUE!"}]
[170.5,2.9757863746503315,{"$f":"Burmester($B$3:$C$3,$B$4:$C$4,$B$5:$C$5,$E$3,$E$4,$E$5,B356)","v":5.2929700593869198},2.962629273157587,{"$f":"ThreePosition_Basic2($E$3,$E$5,$B$3:$C$3,$B$5:$C$5,B356,C356)","v":-1.0617668809968954},3.0421902201833988,-0.59564873733951207,3.4179368368231118,{"$f":"ThreePosition_Basic2($E$3,$E$5,$B$3:$C$3,$B$5:$C$5,B356,D356)","v":-1.7059154326514967},1.9122041924786171,-1.1328602586512109,2.2491656039995895,null,{"$f":"Burmester($B$3:$C$3,$B$4:$C$4,$B$6:$C$6,$E$3,$E$4,$E$6,B356)","v":{"$error":"#VALUE!"}},{"$error":"#VALUE!"},{"$f":"ThreePosition_Basic2($E$3,$E$6,$B$3:$C$3,$B$6:$C$6,B356,N356)","v":{"$error":"#VALUE!"}},{"$error":"#VALUE!"},{"$error":"#VALUE!"},{"$error":"#VALUE!"},{"$f":"ThreePosition_Basic2($E$3,$E$6,$B$3:$C$3,$B$6:$C$6,B356,O356)","v":{"$error":"#VALUE!"}},{"$error":"#VALUE!"},{"$error":"#VALUE!"},{"$error":"#VALUE!"}]
[171,2.9845130209103035,{"$f":"Burmester($B$3:$C$3,$B$4:$C$4,$B$5:$C$5,$E$3,$E$4,$E$5,B357)","v":5.3106807650713543},2.961121138421718,{"$f":"ThreePosition_Basic2($E$3,$E$5,$B$3:$C$3,$B$5:$C$5,B357,C357)","v":-1.0707795245131275},3.0475880630986709,-0.60352678776219537,3.4203103823350891,{"$f":"ThreePosition_Basic2($E$3,$E$5,$B$3:$C$3,$B$5:$C$5,B357,D357)","v":-1.7136865760110063},1.9142332007450344,-1.1394321707663218,2.2478735972512309,null,{"$f":"Burmester($B$3:$C$3,$B$4:$C$4,$B$6:$C$6,$E$3,$E$4,$E$6,B357)","v":{"$error":"#VALUE!"}},{"$error":"#VALUE!"},{"$f":"ThreePosition_Basic2($E$3,$E$6,$B$3:$C$3,$B$6:$C$6,B357,N357)","v":{"$error":"#VALUE!"}},{"$error":"#VALUE!"},{"$error":"#VALUE!"},{"$error":"#VALUE!"},{"$f":"ThreePosition_Basic2($E$3,$E$6,$B$3:$C$3,$B$6:$C$6,B357,O357)","v":{"$error":"#VALUE!"}},{"$error":"#VALUE!"},{"$error":"#VALUE!"},{"$error":"#VALUE!"}]
[171.5,2.9932396671702755,{"$f":"Burmester($B$3:$C$3,$B$4:$C$4,$B$5:$C$5,$E$3,$E$4,$E$5,B358)","v":5.3282936950819231},2.9596828530375534,{"$f":"ThreePosition_Basic2($E$3,$E$5,$B$3:$C$3,$B$5:$C$5,B358,C358)","v":-1.0797785580152364},3.0528666411961294,-0.61138936949955558,3.4225725147199553,{"$f":"ThreePosition_Basic2($E$3,$E$5,$B$3:$C$3,$B$5:$C$5,B358,D358)","v":-1.7213835159846771},1.9162685266896811,-1.1459383911992616,2.2465970483297077,null,{"$f":"Burmester($B$3:$C$3,$B$4:$C$4,$B$6:$C$6,$E$3,$E$4,$E$6,B358)","v":{"$error":"#VALUE!"}},{"$error":"#VALUE!"},{"$f":"ThreePosition_Basic2($E$3,$E$6,$B$3:$C$3,$B$6:$C$6,B358,N358)","v":{"$error":"#VALUE!"}},{"$error":"#VALUE!"},{"$error":"#VALUE!"},{"$error":"#VALUE!"},{"$f":"ThreePosition_Basic2($E$3,$E$6,$B$3:$C$3,$B$6:$C$6,B358,O358)","v":{"$error":"#VALUE!"}},{"$error":"#VALUE!"},{"$error":"#VALUE!"},{"$error":"#VALUE!"}]
[172,3.0019663134302466,{"$f":"Burmester($B$3:$C$3,$B$4:$C$4,$B$5:$C$5,$E$3,$E$4,$E$5,B359)","v":5.3458104990680368},2.9583130001293569,{"$f":"ThreePosition_Basic2($E$3,$E$5,$B$3:$C$3,$B$5:$C$5,B359,C359)","v":-1.0887629623105013},3.0580288006664946,-0.61923563147857918,3.4247259069145337,{"$f":"ThreePosition_Basic2($E$3,$E$5,$B$3:$C$3,$B$5:$C$5,B359,D359)","v":-1.7290081059766749},1.9183092781152862,-1.1523805321338239,2.2453348294200546,null,{"$f":"Burmester($B$3:$C$3,$B$4:$C$4,$B$6:$C$6,$E$3,$E$4,$E$6,B359)","v":{"$error":"#VALUE!"}},{"$error":"#VALUE!"},{"$f":"ThreePosition_Basic2($E$3,$E$6,$B$3:$C$3,$B$6:$C$6,B359,N359)","v":{"$error":"#VALUE!"}},{"$error":"#VALUE!"},{"$error":"#VALUE!"},{"$error":"#VALUE!"},{"$f":"ThreePosition_Basic2($E$3,$E$6,$B$3:$C$3,$B$6:$C$6,B359,O359)","v":{"$error":"#VALUE!"}},{"$error":"#VALUE!"},{"$error":"#VALUE!"},{"$error":"#VALUE!"}]
[172.5,3.0106929596902186,{"$f":"Burmester($B$3:$C$3,$B$4:$C$4,$B$5:$C$5,$E$3,$E$4,$E$5,B360)","v":5.3632327598422886},2.9570102288790121,{"$f":"ThreePosition_Basic2($E$3,$E$5,$B$3:$C$3,$B$5:$C$5,B360,C360)","v":-1.0977317785736507},3.0630773053720746,-0.62706477465053911,3.4267731505303227,{"$f":"ThreePosition_Basic2($E$3,$E$5,$B$3:$C$3,$B$5:$C$5,B360,D360)","v":-1.7365621368816266},1.9203546041597805,-1.1587601510422394,2.2440858576069034,null,{"$f":"Burmester($B$3:$C$3,$B$4:$C$4,$B$6:$C$6,$E$3,$E$4,$E$6,B360)","v":{"$error":"#VALUE!"}},{"$error":"#VALUE!"},{"$f":"ThreePosition_Basic2($E$3,$E$6,$B$3:$C$3,$B$6:$C$6,B360,N360)","v":{"$error":"#VALUE!"}},{"$error":"#VALUE!"},{"$error":"#VALUE!"},{"$error":"#VALUE!"},{"$f":"ThreePosition_Basic2($E$3,$E$6,$B$3:$C$3,$B$6:$C$6,B360,O360)","v":{"$error":"#VALUE!"}},{"$error":"#VALUE!"},{"$error":"#VALUE!"},{"$error":"#VALUE!"}]
[173,3.0194196059501901,{"$f":"Burmester($B$3:$C$3,$B$4:$C$4,$B$5:$C$5,$E$3,$E$4,$E$5,B361)","v":5.3805619968639693},2.9557732510259895,{"$f":"ThreePosition_Basic2($E$3,$E$5,$B$3:$C$3,$B$5:$C$5,B361,C361)","v":-1.106684105059901},3.0680148403399903,-0.63487604913684481,3.4287167593812673,{"$f":"ThreePosition_Basic2($E$3,$E$5,$B$3:$C$3,$B$5:$C$5,B361,D361)","v":-1.7440473401126915},1.9224036927563863,-1.1650787533191203,2.2428490921830244,null,{"$f":"Burmester($B$3:$C$3,$B$4:$C$4,$B$6:$C$6,$E$3,$E$4,$E$6,B361)","v":{"$error":"#VALUE!"}},{"$error":"#VALUE!"},{"$f":"ThreePosition_Basic2($E$3,$E$6,$B$3:$C$3,$B$6:$C$6,B361,N361)","v":{"$error":"#VALUE!"}},{"$error":"#VALUE!"},{"$error":"#VALUE!"},{"$error":"#VALUE!"},{"$f":"ThreePosition_Basic2($E$3,$E$6,$B$3:$C$3,$B$6:$C$6,B361,O361)","v":{"$error":"#VALUE!"}},{"$error":"#VALUE!"},{"$error":"#VALUE!"},{"$error":"#VALUE!"}]
[173.5,3.0281462522101616,{"$f":"Burmester($B$3:$C$3,$B$4:$C$4,$B$5:$C$5,$E$3,$E$4,$E$5,B362)","v":5.3977996694829695},2.9546008376077491,{"$f":"ThreePosition_Basic2($E$3,$E$5,$B$3:$C$3,$B$5:$C$5,B362,C362)","v":-1.1156190940229811},3.0728440150551033,-0.64266875155300363,3.4305591728059683,{"$f":"ThreePosition_Basic2($E$3,$E$5,$B$3:$C$3,$B$5:$C$5,B362,D362)","v":-1.7514653904406401},1.9244557682703463,-1.1713377947513224,2.2416235321418561,null,{"$f":"Burmester($B$3:$C$3,$B$4:$C$4,$B$6:$C$6,$E$3,$E$4,$E$6,B362)","v":{"$error":"#VALUE!"}},{"$error":"#VALUE!"},{"$f":"ThreePosition_Basic2($E$3,$E$6,$B$3:$C$3,$B$6:$C$6,B362,N362)","v":{"$error":"#VALUE!"}},{"$error":"#VALUE!"},{"$error":"#VALUE!"},{"$error":"#VALUE!"},{"$f":"ThreePosition_Basic2($E$3,$E$6,$B$3:$C$3,$B$6:$C$6,B362,O362)","v":{"$error":"#VALUE!"}},{"$error":"#VALUE!"},{"$error":"#VALUE!"},{"$error":"#VALUE!"}]
[174,3.0368728984701332,{"$f":"Burmester($B$3:$C$3,$B$4:$C$4,$B$5:$C$5,$E$3,$E$4,$E$5,B363)","v":5.4149471799637467},2.9534918159208523,{"$f":"ThreePosition_Basic2($E$3,$E$5,$B$3:$C$3,$B$5:$C$5,B363,C363)","v":-1.1245359488228235},3.0775673665677861,-0.6504422224974058,3.4323027587999628,{"$f":"ThreePosition_Basic2($E$3,$E$5,$B$3:$C$3,$B$5:$C$5,B363,D363)","v":-1.7588179086584586},1.9265100892977096,-1.177538683836298,2.2404082138389225,null,{"$f":"Burmester($B$3:$C$3,$B$4:$C$4,$B$6:$C$6,$E$3,$E$4,$E$6,B363)","v":{"$error":"#VALUE!"}},{"$error":"#VALUE!"},{"$f":"ThreePosition_Basic2($E$3,$E$6,$B$3:$C$3,$B$6:$C$6,B363,N363)","v":{"$error":"#VALUE!"}},{"$error":"#VALUE!"},{"$error":"#VALUE!"},{"$error":"#VALUE!"},{"$f":"ThreePosition_Basic2($E$3,$E$6,$B$3:$C$3,$B$6:$C$6,B363,O363)","v":{"$error":"#VALUE!"}},{"$error":"#VALUE!"},{"$error":"#VALUE!"},{"$error":"#VALUE!"}]
[174.5,3.0455995447301052,{"$f":"Burmester($B$3:$C$3,$B$4:$C$4,$B$5:$C$5,$E$3,$E$4,$E$5,B364)","v":5.4320058763071897},2.9524450666849424,{"$f":"ThreePosition_Basic2($E$3,$E$5,$B$3:$C$3,$B$5:$C$5,B364,C364)","v":-1.1334339212090354},3.08218736243029,-0.65819584419288724,3.4339498169722589,{"$f":"ThreePosition_Basic2($E$3,$E$5,$B$3:$C$3,$B$5:$C$5,B364,D364)","v":-1.7661064640847044},1.9285659466130445,-1.1836827839603981,2.2392022088085124,null,{"$f":"Burmester($B$3:$C$3,$B$4:$C$4,$B$6:$C$6,$E$3,$E$4,$E$6,B364)","v":{"$error":"#VALUE!"}},{"$error":"#VALUE!"},{"$f":"ThreePosition_Basic2($E$3,$E$6,$B$3:$C$3,$B$6:$C$6,B364,N364)","v":{"$error":"#VALUE!"}},{"$error":"#VALUE!"},{"$error":"#VALUE!"},{"$error":"#VALUE!"},{"$f":"ThreePosition_Basic2($E$3,$E$6,$B$3:$C$3,$B$6:$C$6,B364,O364)","v":{"$error":"#VALUE!"}},{"$error":"#VALUE!"},{"$error":"#VALUE!"},{"$error":"#VALUE!"}]
[175,3.0543261909900763,{"$f":"Burmester($B$3:$C$3,$B$4:$C$4,$B$5:$C$5,$E$3,$E$4,$E$5,B365)","v":5.4489770548865009},2.9514595213934398,{"$f":"ThreePosition_Basic2($E$3,$E$5,$B$3:$C$3,$B$5:$C$5,B365,C365)","v":-1.1423123087673781},3.0867064034741643,-0.66592903826998451,3.4355025813389855,{"$f":"ThreePosition_Basic2($E$3,$E$5,$B$3:$C$3,$B$5:$C$5,B365,D365)","v":-1.7733325769175918},1.9306226612540918,-1.1897714154474985,2.2380046217231948,null,{"$f":"Burmester($B$3:$C$3,$B$4:$C$4,$B$6:$C$6,$E$3,$E$4,$E$6,B365)","v":{"$error":"#VALUE!"}},{"$error":"#VALUE!"},{"$f":"ThreePosition_Basic2($E$3,$E$6,$B$3:$C$3,$B$6:$C$6,B365,N365)","v":{"$error":"#VALUE!"}},{"$error":"#VALUE!"},{"$error":"#VALUE!"},{"$error":"#VALUE!"},{"$f":"ThreePosition_Basic2($E$3,$E$6,$B$3:$C$3,$B$6:$C$6,B365,O365)","v":{"$error":"#VALUE!"}},{"$error":"#VALUE!"},{"$error":"#VALUE!"},{"$error":"#VALUE!"}]
[175.5,3.0630528372500483,{"$f":"Burmester($B$3:$C$3,$B$4:$C$4,$B$5:$C$5,$E$3,$E$4,$E$5,B366)","v":5.4658619629118093},2.9505341598362489,{"$f":"ThreePosition_Basic2($E$3,$E$5,$B$3:$C$3,$B$5:$C$5,B366,C366)","v":-1.1511704525177002},3.091126826440155,-0.67364126368185784,3.4369632229659324,{"$f":"ThreePosition_Basic2($E$3,$E$5,$B$3:$C$3,$B$5:$C$5,B366,D366)","v":-1.780497720450821},1.9326795827325749,-1.1958058574874961,2.2368145884849722,null,{"$f":"Burmester($B$3:$C$3,$B$4:$C$4,$B$6:$C$6,$E$3,$E$4,$E$6,B366)","v":{"$error":"#VALUE!"}},{"$error":"#VALUE!"},{"$f":"ThreePosition_Basic2($E$3,$E$6,$B$3:$C$3,$B$6:$C$6,B366,N366)","v":{"$error":"#VALUE!"}},{"$error":"#VALUE!"},{"$error":"#VALUE!"},{"$error":"#VALUE!"},{"$f":"ThreePosition_Basic2($E$3,$E$6,$B$3:$C$3,$B$6:$C$6,B366,O366)","v":{"$error":"#VALUE!"}},{"$error":"#VALUE!"},{"$error":"#VALUE!"},{"$error":"#VALUE!"}]
[176,3.0717794835100198,{"$f":"Burmester($B$3:$C$3,$B$4:$C$4,$B$5:$C$5,$E$3,$E$4,$E$5,B367)","v":5.4826618007367509},2.9496680077811779,{"$f":"ThreePosition_Basic2($E$3,$E$5,$B$3:$C$3,$B$5:$C$5,B367,C367)","v":-1.1600077346526274},3.095450906470941,-0.68133201474159133,3.4383338524706808,{"$f":"ThreePosition_Basic2($E$3,$E$5,$B$3:$C$3,$B$5:$C$5,B367,D367)","v":-1.7876033231611057},1.934736087361284,-1.2017873499532981,2.2356312744378228,null,{"$f":"Burmester($B$3:$C$3,$B$4:$C$4,$B$6:$C$6,$E$3,$E$4,$E$6,B367)","v":{"$error":"#VALUE!"}},{"$error":"#VALUE!"},{"$f":"ThreePosition_Basic2($E$3,$E$6,$B$3:$C$3,$B$6:$C$6,B367,N367)","v":{"$error":"#VALUE!"}},{"$error":"#VALUE!"},{"$error":"#VALUE!"},{"$error":"#VALUE!"},{"$f":"ThreePosition_Basic2($E$3,$E$6,$B$3:$C$3,$B$6:$C$6,B367,O367)","v":{"$error":"#VALUE!"}},{"$error":"#VALUE!"},{"$error":"#VALUE!"},{"$error":"#VALUE!"}]
[176.5,3.0805061297699914,{"$f":"Burmester($B$3:$C$3,$B$4:$C$4,$B$5:$C$5,$E$3,$E$4,$E$5,B368)","v":5.4993777240192028},2.948860134801913,{"$f":"ThreePosition_Basic2($E$3,$E$5,$B$3:$C$3,$B$5:$C$5,B368,C368)","v":-1.1688235764073085},3.0996808594761829,-0.68900081927345336,3.4396165223940738,{"$f":"ThreePosition_Basic2($E$3,$E$5,$B$3:$C$3,$B$5:$C$5,B368,D368)","v":-1.7946507706765769},1.9367915766884847,-1.2077170951142646,2.2344538726923324,null,{"$f":"Burmester($B$3:$C$3,$B$4:$C$4,$B$6:$C$6,$E$3,$E$4,$E$6,B368)","v":{"$error":"#VALUE!"}},{"$error":"#VALUE!"},{"$f":"ThreePosition_Basic2($E$3,$E$6,$B$3:$C$3,$B$6:$C$6,B368,N368)","v":{"$error":"#VALUE!"}},{"$error":"#VALUE!"},{"$error":"#VALUE!"},{"$error":"#VALUE!"},{"$f":"ThreePosition_Basic2($E$3,$E$6,$B$3:$C$3,$B$6:$C$6,B368,O368)","v":{"$error":"#VALUE!"}},{"$error":"#VALUE!"},{"$error":"#VALUE!"},{"$error":"#VALUE!"}]
[177,3.0892327760299634,{"$f":"Burmester($B$3:$C$3,$B$4:$C$4,$B$5:$C$5,$E$3,$E$4,$E$5,B369)","v":5.5160108457471662},2.9481096522414934,{"$f":"ThreePosition_Basic2($E$3,$E$5,$B$3:$C$3,$B$5:$C$5,B369,C369)","v":-1.1776174360512386},3.1038188443785919,-0.69664723687031482,3.4408132294500287,{"$f":"ThreePosition_Basic2($E$3,$E$5,$B$3:$C$3,$B$5:$C$5,B369,D369)","v":-1.801641407634422},1.9388454760314906,-1.2135962592533465,2.2332816025539457,null,{"$f":"Burmester($B$3:$C$3,$B$4:$C$4,$B$6:$C$6,$E$3,$E$4,$E$6,B369)","v":{"$error":"#VALUE!"}},{"$error":"#VALUE!"},{"$f":"ThreePosition_Basic2($E$3,$E$6,$B$3:$C$3,$B$6:$C$6,B369,N369)","v":{"$error":"#VALUE!"}},{"$error":"#VALUE!"},{"$error":"#VALUE!"},{"$error":"#VALUE!"},{"$f":"ThreePosition_Basic2($E$3,$E$6,$B$3:$C$3,$B$6:$C$6,B369,O369)","v":{"$error":"#VALUE!"}},{"$error":"#VALUE!"},{"$error":"#VALUE!"},{"$error":"#VALUE!"}]
[177.5,3.0979594222899349,{"$f":"Burmester($B$3:$C$3,$B$4:$C$4,$B$5:$C$5,$E$3,$E$4,$E$5,B370)","v":5.5325622381398967},2.9474157113011996,{"$f":"ThreePosition_Basic2($E$3,$E$5,$B$3:$C$3,$B$5:$C$5,B370,C370)","v":-1.1863888069939517},3.1078669652489426,-0.70427085725010141,3.4419259166618406,{"$f":"ThreePosition_Basic2($E$3,$E$5,$B$3:$C$3,$B$5:$C$5,B370,D370)","v":-1.8085765394354409},1.940897233101937,-1.219425974194579,2.2321137080470739,null,{"$f":"Burmester($B$3:$C$3,$B$4:$C$4,$B$6:$C$6,$E$3,$E$4,$E$6,B370)","v":{"$error":"#VALUE!"}},{"$error":"#VALUE!"},{"$f":"ThreePosition_Basic2($E$3,$E$6,$B$3:$C$3,$B$6:$C$6,B370,N370)","v":{"$error":"#VALUE!"}},{"$error":"#VALUE!"},{"$error":"#VALUE!"},{"$error":"#VALUE!"},{"$f":"ThreePosition_Basic2($E$3,$E$6,$B$3:$C$3,$B$6:$C$6,B370,O370)","v":{"$error":"#VALUE!"}},{"$error":"#VALUE!"},{"$error":"#VALUE!"},{"$error":"#VALUE!"}]
[178,3.1066860685499069,{"$f":"Burmester($B$3:$C$3,$B$4:$C$4,$B$5:$C$5,$E$3,$E$4,$E$5,B371)","v":5.5490329344334626},2.9467775012456405,{"$f":"ThreePosition_Basic2($E$3,$E$5,$B$3:$C$3,$B$5:$C$5,B371,C371)","v":-1.1951372159970042},3.1118272733373318,-0.71187129870468979,3.4429564753925108,{"$f":"ThreePosition_Basic2($E$3,$E$5,$B$3:$C$3,$B$5:$C$5,B371,D371)","v":-1.8154574339025455},1.9429463167159464,-1.2252073387470275,2.2309494565279921,null,{"$f":"Burmester($B$3:$C$3,$B$4:$C$4,$B$6:$C$6,$E$3,$E$4,$E$6,B371)","v":{"$error":"#VALUE!"}},{"$error":"#VALUE!"},{"$f":"ThreePosition_Basic2($E$3,$E$6,$B$3:$C$3,$B$6:$C$6,B371,N371)","v":{"$error":"#VALUE!"}},{"$error":"#VALUE!"},{"$error":"#VALUE!"},{"$error":"#VALUE!"},{"$f":"ThreePosition_Basic2($E$3,$E$6,$B$3:$C$3,$B$6:$C$6,B371,O371)","v":{"$error":"#VALUE!"}},{"$error":"#VALUE!"},{"$error":"#VALUE!"},{"$error":"#VALUE!"}]
[178.5,3.115412714809878,{"$f":"Burmester($B$3:$C$3,$B$4:$C$4,$B$5:$C$5,$E$3,$E$4,$E$5,B372)","v":5.5654239305591791},2.9461942477155803,{"$f":"ThreePosition_Basic2($E$3,$E$5,$B$3:$C$3,$B$5:$C$5,B372,C372)","v":-1.2038622214853014},3.1157017690074147,-0.71944820663521991,3.4439067472760367,{"$f":"ThreePosition_Basic2($E$3,$E$5,$B$3:$C$3,$B$5:$C$5,B372,D372)","v":-1.82228532284971},1.9449922155829886,-1.2309414200708235,2.2297881373800719,null,{"$f":"Burmester($B$3:$C$3,$B$4:$C$4,$B$6:$C$6,$E$3,$E$4,$E$6,B372)","v":{"$error":"#VALUE!"}},{"$error":"#VALUE!"},{"$f":"ThreePosition_Basic2($E$3,$E$6,$B$3:$C$3,$B$6:$C$6,B372,N372)","v":{"$error":"#VALUE!"}},{"$error":"#VALUE!"},{"$error":"#VALUE!"},{"$error":"#VALUE!"},{"$f":"ThreePosition_Basic2($E$3,$E$6,$B$3:$C$3,$B$6:$C$6,B372,O372)","v":{"$error":"#VALUE!"}},{"$error":"#VALUE!"},{"$error":"#VALUE!"},{"$error":"#VALUE!"}]
[179,3.12413936106985,{"$f":"Burmester($B$3:$C$3,$B$4:$C$4,$B$5:$C$5,$E$3,$E$4,$E$5,B373)","v":5.5817361867225888},2.9456652111408195,{"$f":"ThreePosition_Basic2($E$3,$E$5,$B$3:$C$3,$B$5:$C$5,B373,C373)","v":-1.2125634119513027},3.1194924035797369,-0.72700125216819456,3.4447785260559614,{"$f":"ThreePosition_Basic2($E$3,$E$5,$B$3:$C$3,$B$5:$C$5,B373,D373)","v":-1.8290614035672821},1.9470344371676891,-1.2366292549704239,2.2286290607853751,null,{"$f":"Burmester($B$3:$C$3,$B$4:$C$4,$B$6:$C$6,$E$3,$E$4,$E$6,B373)","v":{"$error":"#VALUE!"}},{"$error":"#VALUE!"},{"$f":"ThreePosition_Basic2($E$3,$E$6,$B$3:$C$3,$B$6:$C$6,B373,N373)","v":{"$error":"#VALUE!"}},{"$error":"#VALUE!"},{"$error":"#VALUE!"},{"$error":"#VALUE!"},{"$f":"ThreePosition_Basic2($E$3,$E$6,$B$3:$C$3,$B$6:$C$6,B373,O373)","v":{"$error":"#VALUE!"}},{"$error":"#VALUE!"},{"$error":"#VALUE!"},{"$error":"#VALUE!"}]
[179.5,3.1328660073298211,{"$f":"Burmester($B$3:$C$3,$B$4:$C$4,$B$5:$C$5,$E$3,$E$4,$E$5,B374)","v":5.5979706288900841},2.9451896852460058,{"$f":"ThreePosition_Basic2($E$3,$E$5,$B$3:$C$3,$B$5:$C$5,B374,C374)","v":-1.2212404044461838},3.1232010810898774,-0.73453013084723096,3.4455735593370727,{"$f":"ThreePosition_Basic2($E$3,$E$5,$B$3:$C$3,$B$5:$C$5,B374,D374)","v":-1.8357868402291706},1.9490725066193919,-1.2422718511198723,2.2274715565672096,null,{"$f":"Burmester($B$3:$C$3,$B$4:$C$4,$B$6:$C$6,$E$3,$E$4,$E$6,B374)","v":{"$error":"#VALUE!"}},{"$error":"#VALUE!"},{"$f":"ThreePosition_Basic2($E$3,$E$6,$B$3:$C$3,$B$6:$C$6,B374,N374)","v":{"$error":"#VALUE!"}},{"$error":"#VALUE!"},{"$error":"#VALUE!"},{"$error":"#VALUE!"},{"$f":"ThreePosition_Basic2($E$3,$E$6,$B$3:$C$3,$B$6:$C$6,B374,O374)","v":{"$error":"#VALUE!"}},{"$error":"#VALUE!"},{"$error":"#VALUE!"},{"$error":"#VALUE!"}]
[180,3.1415926535897931,{"$f":"Burmester($B$3:$C$3,$B$4:$C$4,$B$5:$C$5,$E$3,$E$4,$E$5,B375)","v":5.6141281501896545},2.9447669956429019,{"$f":"ThreePosition_Basic2($E$3,$E$5,$B$3:$C$3,$B$5:$C$5,B375,C375)","v":-1.2298928431524838},3.1268296599666536,-0.74203456139569701,3.446293550255656,{"$f":"ThreePosition_Basic2($E$3,$E$5,$B$3:$C$3,$B$5:$C$5,B375,D375)","v":-1.8424627652269561},1.951105965764681,-1.2478701882244436,2.2263149730986385,null,{"$f":"Burmester($B$3:$C$3,$B$4:$C$4,$B$6:$C$6,$E$3,$E$4,$E$6,B375)","v":{"$error":"#VALUE!"}},{"$error":"#VALUE!"},{"$f":"ThreePosition_Basic2($E$3,$E$6,$B$3:$C$3,$B$6:$C$6,B375,N375)","v":{"$error":"#VALUE!"}},{"$error":"#VALUE!"},{"$error":"#VALUE!"},{"$error":"#VALUE!"},{"$f":"ThreePosition_Basic2($E$3,$E$6,$B$3:$C$3,$B$6:$C$6,B375,O375)","v":{"$error":"#VALUE!"}},{"$error":"#VALUE!"},{"$error":"#VALUE!"},{"$error":"#VALUE!"}]
[180.5,3.1503192998497647,{"$f":"Burmester($B$3:$C$3,$B$4:$C$4,$B$5:$C$5,$E$3,$E$4,$E$5,B376)","v":5.6302096122317007},2.9443964985031132,{"$f":"ThreePosition_Basic2($E$3,$E$5,$B$3:$C$3,$B$5:$C$5,B376,C376)","v":-1.2385203980331068},3.1303799546351789,-0.7495142845457794,3.4469401590732289,{"$f":"ThreePosition_Basic2($E$3,$E$5,$B$3:$C$3,$B$5:$C$5,B376,D376)","v":-1.8490902804355813},1.9531343721584282,-1.2534252191227147,2.2251586762723456,null,{"$f":"Burmester($B$3:$C$3,$B$4:$C$4,$B$6:$C$6,$E$3,$E$4,$E$6,B376)","v":{"$error":"#VALUE!"}},{"$error":"#VALUE!"},{"$f":"ThreePosition_Basic2($E$3,$E$6,$B$3:$C$3,$B$6:$C$6,B376,N376)","v":{"$error":"#VALUE!"}},{"$error":"#VALUE!"},{"$error":"#VALUE!"},{"$error":"#VALUE!"},{"$f":"ThreePosition_Basic2($E$3,$E$6,$B$3:$C$3,$B$6:$C$6,B376,O376)","v":{"$error":"#VALUE!"}},{"$error":"#VALUE!"},{"$error":"#VALUE!"},{"$error":"#VALUE!"}]
[181,3.1590459461097362,{"$f":"Burmester($B$3:$C$3,$B$4:$C$4,$B$5:$C$5,$E$3,$E$4,$E$5,B377)","v":5.6462158463554326},2.9440775793057878,{"$f":"ThreePosition_Basic2($E$3,$E$5,$B$3:$C$3,$B$5:$C$5,B377,C377)","v":-1.2471227635520332},3.1338537370493071,-0.75696906192994096,3.4475150046984289,{"$f":"ThreePosition_Basic2($E$3,$E$5,$B$3:$C$3,$B$5:$C$5,B377,D377)","v":-1.8556704584149624},1.955157298189347,-1.2589378708328263,2.2240020485276513,null,{"$f":"Burmester($B$3:$C$3,$B$4:$C$4,$B$6:$C$6,$E$3,$E$4,$E$6,B377)","v":{"$error":"#VALUE!"}},{"$error":"#VALUE!"},{"$f":"ThreePosition_Basic2($E$3,$E$6,$B$3:$C$3,$B$6:$C$6,B377,N377)","v":{"$error":"#VALUE!"}},{"$error":"#VALUE!"},{"$error":"#VALUE!"},{"$error":"#VALUE!"},{"$f":"ThreePosition_Basic2($E$3,$E$6,$B$3:$C$3,$B$6:$C$6,B377,O377)","v":{"$error":"#VALUE!"}},{"$error":"#VALUE!"},{"$error":"#VALUE!"},{"$error":"#VALUE!"}]
[181.5,3.1677725923697082,{"$f":"Burmester($B$3:$C$3,$B$4:$C$4,$B$5:$C$5,$E$3,$E$4,$E$5,B378)","v":5.662147654805878},2.9438096516552092,{"$f":"ThreePosition_Basic2($E$3,$E$5,$B$3:$C$3,$B$5:$C$5,B378,C378)","v":-1.2556996574623054},3.137252738157565,-0.76439867503090841,3.4480196661412621,{"$f":"ThreePosition_Basic2($E$3,$E$5,$B$3:$C$3,$B$5:$C$5,B378,D378)","v":-1.8622043435514672},1.9571743302363025,-1.264409045546361,2.2228444879307734,null,{"$f":"Burmester($B$3:$C$3,$B$4:$C$4,$B$6:$C$6,$E$3,$E$4,$E$6,B378)","v":{"$error":"#VALUE!"}},{"$error":"#VALUE!"},{"$f":"ThreePosition_Basic2($E$3,$E$6,$B$3:$C$3,$B$6:$C$6,B378,N378)","v":{"$error":"#VALUE!"}},{"$error":"#VALUE!"},{"$error":"#VALUE!"},{"$error":"#VALUE!"},{"$f":"ThreePosition_Basic2($E$3,$E$6,$B$3:$C$3,$B$6:$C$6,B378,O378)","v":{"$error":"#VALUE!"}},{"$error":"#VALUE!"},{"$error":"#VALUE!"},{"$error":"#VALUE!"}]
[182,3.1764992386296798,{"$f":"Burmester($B$3:$C$3,$B$4:$C$4,$B$5:$C$5,$E$3,$E$4,$E$5,B379)","v":5.6780058118461563},2.943592156163628,{"$f":"ThreePosition_Basic2($E$3,$E$5,$B$3:$C$3,$B$5:$C$5,B379,C379)","v":-1.2642508196572992},3.1405786493064296,-0.77180292418672525,3.4484556839036924,{"$f":"ThreePosition_Basic2($E$3,$E$5,$B$3:$C$3,$B$5:$C$5,B379,D379)","v":-1.8686929531430028},1.9591850678719518,-1.2698396215730894,2.2216854073047685,null,{"$f":"Burmester($B$3:$C$3,$B$4:$C$4,$B$6:$C$6,$E$3,$E$4,$E$6,B379)","v":{"$error":"#VALUE!"}},{"$error":"#VALUE!"},{"$f":"ThreePosition_Basic2($E$3,$E$6,$B$3:$C$3,$B$6:$C$6,B379,N379)","v":{"$error":"#VALUE!"}},{"$error":"#VALUE!"},{"$error":"#VALUE!"},{"$error":"#VALUE!"},{"$f":"ThreePosition_Basic2($E$3,$E$6,$B$3:$C$3,$B$6:$C$6,B379,O379)","v":{"$error":"#VALUE!"}},{"$error":"#VALUE!"},{"$error":"#VALUE!"},{"$error":"#VALUE!"}]
[182.5,3.1852258848896517,{"$f":"Burmester($B$3:$C$3,$B$4:$C$4,$B$5:$C$5,$E$3,$E$4,$E$5,B380)","v":5.6937910648093437},2.9434245593950026,{"$f":"ThreePosition_Basic2($E$3,$E$5,$B$3:$C$3,$B$5:$C$5,B380,C380)","v":-1.272776011081469},3.1438331235845118,-0.77918162764754917,3.4488245613102158,{"$f":"ThreePosition_Basic2($E$3,$E$5,$B$3:$C$3,$B$5:$C$5,B380,D380)","v":-1.8751372784310987},1.9611891231105407,-1.2752304542395214,2.2205242334058255,null,{"$f":"Burmester($B$3:$C$3,$B$4:$C$4,$B$6:$C$6,$E$3,$E$4,$E$6,B380)","v":{"$error":"#VALUE!"}},{"$error":"#VALUE!"},{"$f":"ThreePosition_Basic2($E$3,$E$6,$B$3:$C$3,$B$6:$C$6,B380,N380)","v":{"$error":"#VALUE!"}},{"$error":"#VALUE!"},{"$error":"#VALUE!"},{"$error":"#VALUE!"},{"$f":"ThreePosition_Basic2($E$3,$E$6,$B$3:$C$3,$B$6:$C$6,B380,O380)","v":{"$error":"#VALUE!"}},{"$error":"#VALUE!"},{"$error":"#VALUE!"},{"$error":"#VALUE!"}]
[183,3.1939525311496229,{"$f":"Burmester($B$3:$C$3,$B$4:$C$4,$B$5:$C$5,$E$3,$E$4,$E$5,B381)","v":5.7095041350938569},2.9433063528656791,{"$f":"ThreePosition_Basic2($E$3,$E$5,$B$3:$C$3,$B$5:$C$5,B381,C381)","v":-1.2812750126970682},3.1470177771109498,-0.78653462068115265,3.4491277657818231,{"$f":"ThreePosition_Basic2($E$3,$E$5,$B$3:$C$3,$B$5:$C$5,B381,D381)","v":-1.8815382855831733},1.9631861196969256,-1.2805823767440323,2.2193604061428669,null,{"$f":"Burmester($B$3:$C$3,$B$4:$C$4,$B$6:$C$6,$E$3,$E$4,$E$6,B381)","v":{"$error":"#VALUE!"}},{"$error":"#VALUE!"},{"$f":"ThreePosition_Basic2($E$3,$E$6,$B$3:$C$3,$B$6:$C$6,B381,N381)","v":{"$error":"#VALUE!"}},{"$error":"#VALUE!"},{"$error":"#VALUE!"},{"$error":"#VALUE!"},{"$f":"ThreePosition_Basic2($E$3,$E$6,$B$3:$C$3,$B$6:$C$6,B381,O381)","v":{"$error":"#VALUE!"}},{"$error":"#VALUE!"},{"$error":"#VALUE!"},{"$error":"#VALUE!"}]
[183.5,3.2026791774095948,{"$f":"Burmester($B$3:$C$3,$B$4:$C$4,$B$5:$C$5,$E$3,$E$4,$E$5,B382)","v":5.7251457191060746},2.9432370520983127,{"$f":"ThreePosition_Basic2($E$3,$E$5,$B$3:$C$3,$B$5:$C$5,B382,C382)","v":-1.289747624503619},3.1501341902711015,-0.7938617547243183,3.4493667300565241,{"$f":"ThreePosition_Basic2($E$3,$E$5,$B$3:$C$3,$B$5:$C$5,B382,D382)","v":-1.8878969166279471},1.9651756924341384,-1.285896200971137,2.2181933778376379,null,{"$f":"Burmester($B$3:$C$3,$B$4:$C$4,$B$6:$C$6,$E$3,$E$4,$E$6,B382)","v":{"$error":"#VALUE!"}},{"$error":"#VALUE!"},{"$f":"ThreePosition_Basic2($E$3,$E$6,$B$3:$C$3,$B$6:$C$6,B382,N382)","v":{"$error":"#VALUE!"}},{"$error":"#VALUE!"},{"$error":"#VALUE!"},{"$error":"#VALUE!"},{"$f":"ThreePosition_Basic2($E$3,$E$6,$B$3:$C$3,$B$6:$C$6,B382,O382)","v":{"$error":"#VALUE!"}},{"$error":"#VALUE!"},{"$error":"#VALUE!"},{"$error":"#VALUE!"}]
[184,3.211405823669566,{"$f":"Burmester($B$3:$C$3,$B$4:$C$4,$B$5:$C$5,$E$3,$E$4,$E$5,B383)","v":5.7407164891535487},2.9432161957256251,{"$f":"ThreePosition_Basic2($E$3,$E$5,$B$3:$C$3,$B$5:$C$5,B383,C383)","v":-1.2981936646070378},3.153183908902383,-0.80116289657743778,3.4495428533593464,{"$f":"ThreePosition_Basic2($E$3,$E$5,$B$3:$C$3,$B$5:$C$5,B383,D383)","v":-1.8942140903467175},1.9671574865469639,-1.2911727182672719,2.2170226125226553,null,{"$f":"Burmester($B$3:$C$3,$B$4:$C$4,$B$6:$C$6,$E$3,$E$4,$E$6,B383)","v":{"$error":"#VALUE!"}},{"$error":"#VALUE!"},{"$f":"ThreePosition_Basic2($E$3,$E$6,$B$3:$C$3,$B$6:$C$6,B383,N383)","v":{"$error":"#VALUE!"}},{"$error":"#VALUE!"},{"$error":"#VALUE!"},{"$error":"#VALUE!"},{"$f":"ThreePosition_Basic2($E$3,$E$6,$B$3:$C$3,$B$6:$C$6,B383,O383)","v":{"$error":"#VALUE!"}},{"$error":"#VALUE!"},{"$error":"#VALUE!"},{"$error":"#VALUE!"}]
[184.5,3.2201324699295379,{"$f":"Burmester($B$3:$C$3,$B$4:$C$4,$B$5:$C$5,$E$3,$E$4,$E$5,B384)","v":5.7562170942919835},2.9432433446408495,{"$f":"ThreePosition_Basic2($E$3,$E$5,$B$3:$C$3,$B$5:$C$5,B384,C384)","v":-1.3066129683356249},3.1561684454329302,-0.80843792763988087,3.4496575025245648,{"$f":"ThreePosition_Basic2($E$3,$E$5,$B$3:$C$3,$B$5:$C$5,B384,D384)","v":-1.9004907031230687},1.9691311570792491,-1.2964127001803156,2.21584758527462,null,{"$f":"Burmester($B$3:$C$3,$B$4:$C$4,$B$6:$C$6,$E$3,$E$4,$E$6,B384)","v":{"$error":"#VALUE!"}},{"$error":"#VALUE!"},{"$f":"ThreePosition_Basic2($E$3,$E$6,$B$3:$C$3,$B$6:$C$6,B384,N384)","v":{"$error":"#VALUE!"}},{"$error":"#VALUE!"},{"$error":"#VALUE!"},{"$error":"#VALUE!"},{"$f":"ThreePosition_Basic2($E$3,$E$6,$B$3:$C$3,$B$6:$C$6,B384,O384)","v":{"$error":"#VALUE!"}},{"$error":"#VALUE!"},{"$error":"#VALUE!"},{"$error":"#VALUE!"}]
[185,3.2288591161895095,{"$f":"Burmester($B$3:$C$3,$B$4:$C$4,$B$5:$C$5,$E$3,$E$4,$E$5,B385)","v":5.7716481611288959},2.9433180811918964,{"$f":"ThreePosition_Basic2($E$3,$E$5,$B$3:$C$3,$B$5:$C$5,B385,C385)","v":-1.3150053874002536},3.1590892799755905,-0.81568674318382106,3.4497120130727281,{"$f":"ThreePosition_Basic2($E$3,$E$5,$B$3:$C$3,$B$5:$C$5,B385,D385)","v":-1.906727629753376},1.9710963683227736,-1.3016168991649064,2.2146677815810203,null,{"$f":"Burmester($B$3:$C$3,$B$4:$C$4,$B$6:$C$6,$E$3,$E$4,$E$6,B385)","v":{"$error":"#VALUE!"}},{"$error":"#VALUE!"},{"$f":"ThreePosition_Basic2($E$3,$E$6,$B$3:$C$3,$B$6:$C$6,B385,N385)","v":{"$error":"#VALUE!"}},{"$error":"#VALUE!"},{"$error":"#VALUE!"},{"$error":"#VALUE!"},{"$f":"ThreePosition_Basic2($E$3,$E$6,$B$3:$C$3,$B$6:$C$6,B385,O385)","v":{"$error":"#VALUE!"}},{"$error":"#VALUE!"},{"$error":"#VALUE!"},{"$error":"#VALUE!"}]
[185.5,3.2375857624494815,{"$f":"Burmester($B$3:$C$3,$B$4:$C$4,$B$5:$C$5,$E$3,$E$4,$E$5,B386)","v":5.7870102945866586},2.943440008416558,{"$f":"ThreePosition_Basic2($E$3,$E$5,$B$3:$C$3,$B$5:$C$5,B386,C386)","v":-1.3233707890962856},3.1619478613795255,-0.82290925166435747,3.4497076902448169,{"$f":"ThreePosition_Basic2($E$3,$E$5,$B$3:$C$3,$B$5:$C$5,B386,D386)","v":-1.9129257242203215},1.9730527932757171,-1.3067860492554726,2.2134826967378767,null,{"$f":"Burmester($B$3:$C$3,$B$4:$C$4,$B$6:$C$6,$E$3,$E$4,$E$6,B386)","v":{"$error":"#VALUE!"}},{"$error":"#VALUE!"},{"$f":"ThreePosition_Basic2($E$3,$E$6,$B$3:$C$3,$B$6:$C$6,B386,N386)","v":{"$error":"#VALUE!"}},{"$error":"#VALUE!"},{"$error":"#VALUE!"},{"$error":"#VALUE!"},{"$f":"ThreePosition_Basic2($E$3,$E$6,$B$3:$C$3,$B$6:$C$6,B386,O386)","v":{"$error":"#VALUE!"}},{"$error":"#VALUE!"},{"$error":"#VALUE!"},{"$error":"#VALUE!"}]
[186,3.2463124087094526,{"$f":"Burmester($B$3:$C$3,$B$4:$C$4,$B$5:$C$5,$E$3,$E$4,$E$5,B387)","v":5.802304078627456},2.9436087493161853,{"$f":"ThreePosition_Basic2($E$3,$E$5,$B$3:$C$3,$B$5:$C$5,B387,C387)","v":-1.3317090555449231},3.1647456082416481,-0.83010537406394569,3.44964580999582,{"$f":"ThreePosition_Basic2($E$3,$E$5,$B$3:$C$3,$B$5:$C$5,B387,D387)","v":-1.9190858204314913},1.9750001131288668,-1.3119208667087858,2.2122918352766732,null,{"$f":"Burmester($B$3:$C$3,$B$4:$C$4,$B$6:$C$6,$E$3,$E$4,$E$6,B387)","v":{"$error":"#VALUE!"}},{"$error":"#VALUE!"},{"$f":"ThreePosition_Basic2($E$3,$E$6,$B$3:$C$3,$B$6:$C$6,B387,N387)","v":{"$error":"#VALUE!"}},{"$error":"#VALUE!"},{"$error":"#VALUE!"},{"$error":"#VALUE!"},{"$f":"ThreePosition_Basic2($E$3,$E$6,$B$3:$C$3,$B$6:$C$6,B387,O387)","v":{"$error":"#VALUE!"}},{"$error":"#VALUE!"},{"$error":"#VALUE!"},{"$error":"#VALUE!"}]
[186.5,3.2550390549694246,{"$f":"Burmester($B$3:$C$3,$B$4:$C$4,$B$5:$C$5,$E$3,$E$4,$E$5,B388)","v":5.8175300769424831},2.9438239461655193,{"$f":"ThreePosition_Basic2($E$3,$E$5,$B$3:$C$3,$B$5:$C$5,B388,C388)","v":-1.3400200829718056},3.1674839098798819,-0.83727504326922275,3.4495276199497513,{"$f":"ThreePosition_Basic2($E$3,$E$5,$B$3:$C$3,$B$5:$C$5,B388,D388)","v":-1.9252087329249645},1.9769380167778641,-1.3170220506176862,2.2110947104186973,null,{"$f":"Burmester($B$3:$C$3,$B$4:$C$4,$B$6:$C$6,$E$3,$E$4,$E$6,B388)","v":{"$error":"#VALUE!"}},{"$error":"#VALUE!"},{"$f":"ThreePosition_Basic2($E$3,$E$6,$B$3:$C$3,$B$6:$C$6,B388,N388)","v":{"$error":"#VALUE!"}},{"$error":"#VALUE!"},{"$error":"#VALUE!"},{"$error":"#VALUE!"},{"$f":"ThreePosition_Basic2($E$3,$E$6,$B$3:$C$3,$B$6:$C$6,B388,O388)","v":{"$error":"#VALUE!"}},{"$error":"#VALUE!"},{"$error":"#VALUE!"},{"$error":"#VALUE!"}]
[187,3.2637657012293966,{"$f":"Burmester($B$3:$C$3,$B$4:$C$4,$B$5:$C$5,$E$3,$E$4,$E$5,B389)","v":5.8326888336075626},2.9440852598564513,{"$f":"ThreePosition_Basic2($E$3,$E$5,$B$3:$C$3,$B$5:$C$5,B389,C389)","v":-1.3483037810208474},3.1701641272701679,-0.84441820347848584,3.4493543403180915,{"$f":"ThreePosition_Basic2($E$3,$E$5,$B$3:$C$3,$B$5:$C$5,B389,D389)","v":-1.9312952575437028},1.9788662003598914,-1.3220902834975632,2.2098908435551072,null,{"$f":"Burmester($B$3:$C$3,$B$4:$C$4,$B$6:$C$6,$E$3,$E$4,$E$6,B389)","v":{"$error":"#VALUE!"}},{"$error":"#VALUE!"},{"$f":"ThreePosition_Basic2($E$3,$E$6,$B$3:$C$3,$B$6:$C$6,B389,N389)","v":{"$error":"#VALUE!"}},{"$error":"#VALUE!"},{"$error":"#VALUE!"},{"$error":"#VALUE!"},{"$f":"ThreePosition_Basic2($E$3,$E$6,$B$3:$C$3,$B$6:$C$6,B389,O389)","v":{"$error":"#VALUE!"}},{"$error":"#VALUE!"},{"$error":"#VALUE!"},{"$error":"#VALUE!"}]
[187.5,3.2724923474893677,{"$f":"Burmester($B$3:$C$3,$B$4:$C$4,$B$5:$C$5,$E$3,$E$4,$E$5,B390)","v":5.8477808737072321},2.944392369273702,{"$f":"ThreePosition_Basic2($E$3,$E$5,$B$3:$C$3,$B$5:$C$5,B390,C390)","v":-1.3565600721014248},3.1727875939490056,-0.85153480963817529,3.4491271647834671,{"$f":"ThreePosition_Basic2($E$3,$E$5,$B$3:$C$3,$B$5:$C$5,B390,D390)","v":-1.9373461720804204},1.9807843668133323,-1.3271262318470423,2.2086797637511872,null,{"$f":"Burmester($B$3:$C$3,$B$4:$C$4,$B$6:$C$6,$E$3,$E$4,$E$6,B390)","v":{"$error":"#VALUE!"}},{"$error":"#VALUE!"},{"$f":"ThreePosition_Basic2($E$3,$E$6,$B$3:$C$3,$B$6:$C$6,B390,N390)","v":{"$error":"#VALUE!"}},{"$error":"#VALUE!"},{"$error":"#VALUE!"},{"$error":"#VALUE!"},{"$f":"ThreePosition_Basic2($E$3,$E$6,$B$3:$C$3,$B$6:$C$6,B390,O390)","v":{"$error":"#VALUE!"}},{"$error":"#VALUE!"},{"$error":"#VALUE!"},{"$error":"#VALUE!"}]
[188,3.2812189937493397,{"$f":"Burmester($B$3:$C$3,$B$4:$C$4,$B$5:$C$5,$E$3,$E$4,$E$5,B391)","v":5.8628067039291771},2.9447449707004845,{"$f":"ThreePosition_Basic2($E$3,$E$5,$B$3:$C$3,$B$5:$C$5,B391,C391)","v":-1.3647888907671275},3.1753556168831687,-0.85862482690680542,3.4488472613502559,{"$f":"ThreePosition_Basic2($E$3,$E$5,$B$3:$C$3,$B$5:$C$5,B391,D391)","v":-1.9433622368945163},1.9826922254590285,-1.3321305466842599,2.2074610072733405,null,{"$f":"Burmester($B$3:$C$3,$B$4:$C$4,$B$6:$C$6,$E$3,$E$4,$E$6,B391)","v":{"$error":"#VALUE!"}},{"$error":"#VALUE!"},{"$f":"ThreePosition_Basic2($E$3,$E$6,$B$3:$C$3,$B$6:$C$6,B391,N391)","v":{"$error":"#VALUE!"}},{"$error":"#VALUE!"},{"$error":"#VALUE!"},{"$error":"#VALUE!"},{"$f":"ThreePosition_Basic2($E$3,$E$6,$B$3:$C$3,$B$6:$C$6,B391,O391)","v":{"$error":"#VALUE!"}},{"$error":"#VALUE!"},{"$error":"#VALUE!"},{"$error":"#VALUE!"}]
[188.5,3.2899456400093112,{"$f":"Burmester($B$3:$C$3,$B$4:$C$4,$B$5:$C$5,$E$3,$E$4,$E$5,B392)","v":5.8777668131307523},2.9451427772524181,{"$f":"ThreePosition_Basic2($E$3,$E$5,$B$3:$C$3,$B$5:$C$5,B392,C392)","v":-1.3729901831243903},3.1778694773081986,-0.86568823014487895,3.4485157731637477,{"$f":"ThreePosition_Basic2($E$3,$E$5,$B$3:$C$3,$B$5:$C$5,B392,D392)","v":-1.9493441955025044},1.9845894916018434,-1.3371038640599711,2.2062341171374689,null,{"$f":"Burmester($B$3:$C$3,$B$4:$C$4,$B$6:$C$6,$E$3,$E$4,$E$6,B392)","v":{"$error":"#VALUE!"}},{"$error":"#VALUE!"},{"$f":"ThreePosition_Basic2($E$3,$E$6,$B$3:$C$3,$B$6:$C$6,B392,N392)","v":{"$error":"#VALUE!"}},{"$error":"#VALUE!"},{"$error":"#VALUE!"},{"$error":"#VALUE!"},{"$f":"ThreePosition_Basic2($E$3,$E$6,$B$3:$C$3,$B$6:$C$6,B392,O392)","v":{"$error":"#VALUE!"}},{"$error":"#VALUE!"},{"$error":"#VALUE!"},{"$error":"#VALUE!"}]
[189,3.2986722862692828,{"$f":"Burmester($B$3:$C$3,$B$4:$C$4,$B$5:$C$5,$E$3,$E$4,$E$5,B393)","v":5.8926616728793011},2.9455855183379809,{"$f":"ThreePosition_Basic2($E$3,$E$5,$B$3:$C$3,$B$5:$C$5,B393,C393)","v":-1.3811639062694911},3.1803304315371417,-0.87272500342946335,3.4481338192993594,{"$f":"ThreePosition_Basic2($E$3,$E$5,$B$3:$C$3,$B$5:$C$5,B393,D393)","v":-1.9552927751433864},1.9864758861513592,-1.3420468055487484,2.2049986426774981,null,{"$f":"Burmester($B$3:$C$3,$B$4:$C$4,$B$6:$C$6,$E$3,$E$4,$E$6,B393)","v":{"$error":"#VALUE!"}},{"$error":"#VALUE!"},{"$f":"ThreePosition_Basic2($E$3,$E$6,$B$3:$C$3,$B$6:$C$6,B393,N393)","v":{"$error":"#VALUE!"}},{"$error":"#VALUE!"},{"$error":"#VALUE!"},{"$error":"#VALUE!"},{"$f":"ThreePosition_Basic2($E$3,$E$6,$B$3:$C$3,$B$6:$C$6,B393,O393)","v":{"$error":"#VALUE!"}},{"$error":"#VALUE!"},{"$error":"#VALUE!"},{"$error":"#VALUE!"}]
[189.5,3.3073989325292543,{"$f":"Burmester($B$3:$C$3,$B$4:$C$4,$B$5:$C$5,$E$3,$E$4,$E$5,B394)","v":5.9074917379677521},2.9460729391439933,{"$f":"ThreePosition_Basic2($E$3,$E$5,$B$3:$C$3,$B$5:$C$5,B394,C394)","v":-1.3893100277523731},3.1827397117408776,-0.87973513959208682,3.4477024955232802,{"$f":"ThreePosition_Basic2($E$3,$E$5,$B$3:$C$3,$B$5:$C$5,B394,D394)","v":-1.9612086873201839},1.9883511352605814,-1.3469599787193287,2.2037541391328612,null,{"$f":"Burmester($B$3:$C$3,$B$4:$C$4,$B$6:$C$6,$E$3,$E$4,$E$6,B394)","v":{"$error":"#VALUE!"}},{"$error":"#VALUE!"},{"$f":"ThreePosition_Basic2($E$3,$E$6,$B$3:$C$3,$B$6:$C$6,B394,N394)","v":{"$error":"#VALUE!"}},{"$error":"#VALUE!"},{"$error":"#VALUE!"},{"$error":"#VALUE!"},{"$f":"ThreePosition_Basic2($E$3,$E$6,$B$3:$C$3,$B$6:$C$6,B394,O394)","v":{"$error":"#VALUE!"}},{"$error":"#VALUE!"},{"$error":"#VALUE!"},{"$error":"#VALUE!"}]
[190,3.3161255787892263,{"$f":"Burmester($B$3:$C$3,$B$4:$C$4,$B$5:$C$5,$E$3,$E$4,$E$5,B395)","v":5.9222574469069542},2.9466048001446667,{"$f":"ThreePosition_Basic2($E$3,$E$5,$B$3:$C$3,$B$5:$C$5,B395,C395)","v":-1.3974285250659757},3.185098526701414,-0.88671863977880594,3.4472228750259455,{"$f":"ThreePosition_Basic2($E$3,$E$5,$B$3:$C$3,$B$5:$C$5,B395,D395)","v":-1.9670926283189032},1.990214969981619,-1.3518439775852165,2.2025001672538576,null,{"$f":"Burmester($B$3:$C$3,$B$4:$C$4,$B$6:$C$6,$E$3,$E$4,$E$6,B395)","v":{"$error":"#VALUE!"}},{"$error":"#VALUE!"},{"$f":"ThreePosition_Basic2($E$3,$E$6,$B$3:$C$3,$B$6:$C$6,B395,N395)","v":{"$error":"#VALUE!"}},{"$error":"#VALUE!"},{"$error":"#VALUE!"},{"$error":"#VALUE!"},{"$f":"ThreePosition_Basic2($E$3,$E$6,$B$3:$C$3,$B$6:$C$6,B395,O395)","v":{"$error":"#VALUE!"}},{"$error":"#VALUE!"},{"$error":"#VALUE!"},{"$error":"#VALUE!"}]
[190.5,3.3248522250491974,{"$f":"Burmester($B$3:$C$3,$B$4:$C$4,$B$5:$C$5,$E$3,$E$4,$E$5,B396)","v":5.9369592223961281},2.9471808766328391,{"$f":"ThreePosition_Basic2($E$3,$E$5,$B$3:$C$3,$B$5:$C$5,B396,C396)","v":-1.4055193851597401},3.187408062539296,-0.89367551303128578,3.4466960091295116,{"$f":"ThreePosition_Basic2($E$3,$E$5,$B$3:$C$3,$B$5:$C$5,B396,D396)","v":-1.9729452797060449},1.9920671259373837,-1.3566993830365106,2.2012362929238729,null,{"$f":"Burmester($B$3:$C$3,$B$4:$C$4,$B$6:$C$6,$E$3,$E$4,$E$6,B396)","v":{"$error":"#VALUE!"}},{"$error":"#VALUE!"},{"$f":"ThreePosition_Basic2($E$3,$E$6,$B$3:$C$3,$B$6:$C$6,B396,N396)","v":{"$error":"#VALUE!"}},{"$error":"#VALUE!"},{"$error":"#VALUE!"},{"$error":"#VALUE!"},{"$f":"ThreePosition_Basic2($E$3,$E$6,$B$3:$C$3,$B$6:$C$6,B396,O396)","v":{"$error":"#VALUE!"}},{"$error":"#VALUE!"},{"$error":"#VALUE!"},{"$error":"#VALUE!"}]
[191,3.3335788713091694,{"$f":"Burmester($B$3:$C$3,$B$4:$C$4,$B$5:$C$5,$E$3,$E$4,$E$5,B397)","v":5.9515974717726516},2.9478009582721683,{"$f":"ThreePosition_Basic2($E$3,$E$5,$B$3:$C$3,$B$5:$C$5,B397,C397)","v":-1.4135826039760708},3.1896694834163499,-0.90060577588782453,3.4461229279705705,{"$f":"ThreePosition_Basic2($E$3,$E$5,$B$3:$C$3,$B$5:$C$5,B397,D397)","v":-1.9787673088057216},1.9939073430083907,-1.3615267632538801,2.1999620867974872,null,{"$f":"Burmester($B$3:$C$3,$B$4:$C$4,$B$6:$C$6,$E$3,$E$4,$E$6,B397)","v":{"$error":"#VALUE!"}},{"$error":"#VALUE!"},{"$f":"ThreePosition_Basic2($E$3,$E$6,$B$3:$C$3,$B$6:$C$6,B397,N397)","v":{"$error":"#VALUE!"}},{"$error":"#VALUE!"},{"$error":"#VALUE!"},{"$error":"#VALUE!"},{"$f":"ThreePosition_Basic2($E$3,$E$6,$B$3:$C$3,$B$6:$C$6,B397,O397)","v":{"$error":"#VALUE!"}},{"$error":"#VALUE!"},{"$error":"#VALUE!"},{"$error":"#VALUE!"}]
[191.5,3.3423055175691405,{"$f":"Burmester($B$3:$C$3,$B$4:$C$4,$B$5:$C$5,$E$3,$E$4,$E$5,B398)","v":5.9661725874423892},2.9484648486690346,{"$f":"ThreePosition_Basic2($E$3,$E$5,$B$3:$C$3,$B$5:$C$5,B398,C398)","v":-1.4216181860085984},3.1918839322147998,-0.90750945200332134,3.4455046411591641,{"$f":"ThreePosition_Basic2($E$3,$E$5,$B$3:$C$3,$B$5:$C$5,B398,D398)","v":-1.9845593691574066},1.9957353650338234,-1.3663266741055766,2.198677123953594,null,{"$f":"Burmester($B$3:$C$3,$B$4:$C$4,$B$6:$C$6,$E$3,$E$4,$E$6,B398)","v":{"$error":"#VALUE!"}},{"$error":"#VALUE!"},{"$f":"ThreePosition_Basic2($E$3,$E$6,$B$3:$C$3,$B$6:$C$6,B398,N398)","v":{"$error":"#VALUE!"}},{"$error":"#VALUE!"},{"$error":"#VALUE!"},{"$error":"#VALUE!"},{"$f":"ThreePosition_Basic2($E$3,$E$6,$B$3:$C$3,$B$6:$C$6,B398,O398)","v":{"$error":"#VALUE!"}},{"$error":"#VALUE!"},{"$error":"#VALUE!"},{"$error":"#VALUE!"}]
[192,3.3510321638291125,{"$f":"Burmester($B$3:$C$3,$B$4:$C$4,$B$5:$C$5,$E$3,$E$4,$E$5,B399)","v":5.9806849472916852},2.949172364963081,{"$f":"ThreePosition_Basic2($E$3,$E$5,$B$3:$C$3,$B$5:$C$5,B399,C399)","v":-1.4296261438811861},3.1940525311938339,-0.91438657178726401,3.4448421384151837,{"$f":"ThreePosition_Basic2($E$3,$E$5,$B$3:$C$3,$B$5:$C$5,B399,D399)","v":-1.9903221009552483},1.9975509395260835,-1.3710996595283023,2.1973809835626938,null,{"$f":"Burmester($B$3:$C$3,$B$4:$C$4,$B$6:$C$6,$E$3,$E$4,$E$6,B399)","v":{"$error":"#VALUE!"}},{"$error":"#VALUE!"},{"$f":"ThreePosition_Basic2($E$3,$E$6,$B$3:$C$3,$B$6:$C$6,B399,N399)","v":{"$error":"#VALUE!"}},{"$error":"#VALUE!"},{"$error":"#VALUE!"},{"$error":"#VALUE!"},{"$f":"ThreePosition_Basic2($E$3,$E$6,$B$3:$C$3,$B$6:$C$6,B399,O399)","v":{"$error":"#VALUE!"}},{"$error":"#VALUE!"},{"$error":"#VALUE!"},{"$error":"#VALUE!"}]
[192.5,{"$f":"A400*PI()/180","v":3.3597588100890845},{"$f":"Burmester($B$3:$C$3,$B$4:$C$4,$B$5:$C$5,$E$3,$E$4,$E$5,B400)","v":5.995134915082037},2.9499233374353007,{"$f":"ThreePosition_Basic2($E$3,$E$5,$B$3:$C$3,$B$5:$C$5,B400,C400)","v":-1.4376064979466103},3.1961763826245475,-0.9212371720588004,3.444136390183111,{"$f":"ThreePosition_Basic2($E$3,$E$5,$B$3:$C$3,$B$5:$C$5,B400,D400)","v":-1.9960561314698415},1.999353817398078,-1.3758462518927002,2.1960732485675787,null,{"$f":"Burmester($B$3:$C$3,$B$4:$C$4,$B$6:$C$6,$E$3,$E$4,$E$6,B400)","v":{"$error":"#VALUE!"}},{"$error":"#VALUE!"},{"$f":"ThreePosition_Basic2($E$3,$E$6,$B$3:$C$3,$B$6:$C$6,B400,N400)","v":{"$error":"#VALUE!"}},{"$error":"#VALUE!"},{"$error":"#VALUE!"},{"$error":"#VALUE!"},{"$f":"ThreePosition_Basic2($E$3,$E$6,$B$3:$C$3,$B$6:$C$6,B400,O400)","v":{"$error":"#VALUE!"}},{"$error":"#VALUE!"},{"$error":"#VALUE!"},{"$error":"#VALUE!"}]
[193,3.3684854563490561,{"$f":"Burmester($B$3:$C$3,$B$4:$C$4,$B$5:$C$5,$E$3,$E$4,$E$5,B401)","v":6.0095228408284571},2.9507176091327034,{"$f":"ThreePosition_Basic2($E$3,$E$5,$B$3:$C$3,$B$5:$C$5,B401,C401)","v":-1.4455592759040017},3.1982565694042036,-0.92806129571810436,3.4433883482260392,{"$f":"ThreePosition_Basic2($E$3,$E$5,$B$3:$C$3,$B$5:$C$5,B401,D401)","v":-2.0017620754532932},2.0011437527025588,-1.3805669723542056,2.1947535053766725,null,{"$f":"Burmester($B$3:$C$3,$B$4:$C$4,$B$6:$C$6,$E$3,$E$4,$E$6,B401)","v":{"$error":"#VALUE!"}},{"$error":"#VALUE!"},{"$f":"ThreePosition_Basic2($E$3,$E$6,$B$3:$C$3,$B$6:$C$6,B401,N401)","v":{"$error":"#VALUE!"}},{"$error":"#VALUE!"},{"$error":"#VALUE!"},{"$error":"#VALUE!"},{"$f":"ThreePosition_Basic2($E$3,$E$6,$B$3:$C$3,$B$6:$C$6,B401,O401)","v":{"$error":"#VALUE!"}},{"$error":"#VALUE!"},{"$error":"#VALUE!"},{"$error":"#VALUE!"}]
[193.5,3.377212102609028,{"$f":"Burmester($B$3:$C$3,$B$4:$C$4,$B$5:$C$5,$E$3,$E$4,$E$5,B402)","v":6.0238490611624362},2.9515550355086253,{"$f":"ThreePosition_Basic2($E$3,$E$5,$B$3:$C$3,$B$5:$C$5,B402,C402)","v":-1.4534845124340956},3.2002941556506781,-0.93485899143319751,3.442598946199861,{"$f":"ThreePosition_Basic2($E$3,$E$5,$B$3:$C$3,$B$5:$C$5,B402,D402)","v":-2.0074405355283682},2.00292050238287,-1.3852623311899337,2.1934213435693457,null,{"$f":"Burmester($B$3:$C$3,$B$4:$C$4,$B$6:$C$6,$E$3,$E$4,$E$6,B402)","v":{"$error":"#VALUE!"}},{"$error":"#VALUE!"},{"$f":"ThreePosition_Basic2($E$3,$E$6,$B$3:$C$3,$B$6:$C$6,B402,N402)","v":{"$error":"#VALUE!"}},{"$error":"#VALUE!"},{"$error":"#VALUE!"},{"$error":"#VALUE!"},{"$f":"ThreePosition_Basic2($E$3,$E$6,$B$3:$C$3,$B$6:$C$6,B402,O402)","v":{"$error":"#VALUE!"}},{"$error":"#VALUE!"},{"$error":"#VALUE!"},{"$error":"#VALUE!"}]
[194,3.3859387488689991,{"$f":"Burmester($B$3:$C$3,$B$4:$C$4,$B$5:$C$5,$E$3,$E$4,$E$5,B403)","v":6.0381138996803623},2.9524354840778,{"$f":"ThreePosition_Basic2($E$3,$E$5,$B$3:$C$3,$B$5:$C$5,B403,C403)","v":-1.4613822488514607},3.2022901872778959,-0.94163031334151071,3.4417691002084396,{"$f":"ThreePosition_Basic2($E$3,$E$5,$B$3:$C$3,$B$5:$C$5,B403,D403)","v":-2.0130921025624686},2.004683826034499,-1.3899328281222654,2.1920763556125604,null,{"$f":"Burmester($B$3:$C$3,$B$4:$C$4,$B$6:$C$6,$E$3,$E$4,$E$6,B403)","v":{"$error":"#VALUE!"}},{"$error":"#VALUE!"},{"$f":"ThreePosition_Basic2($E$3,$E$6,$B$3:$C$3,$B$6:$C$6,B403,N403)","v":{"$error":"#VALUE!"}},{"$error":"#VALUE!"},{"$error":"#VALUE!"},{"$error":"#VALUE!"},{"$f":"ThreePosition_Basic2($E$3,$E$6,$B$3:$C$3,$B$6:$C$6,B403,O403)","v":{"$error":"#VALUE!"}},{"$error":"#VALUE!"},{"$error":"#VALUE!"},{"$error":"#VALUE!"}]
[194.5,3.3946653951289711,{"$f":"Burmester($B$3:$C$3,$B$4:$C$4,$B$5:$C$5,$E$3,$E$4,$E$5,B404)","v":6.0523176672782526},2.9533588340853592,{"$f":"ThreePosition_Basic2($E$3,$E$5,$B$3:$C$3,$B$5:$C$5,B404,C404)","v":-1.4692525327728925},3.2042456925530516,-0.94837532076547082,3.4408997093405653,{"$f":"ThreePosition_Basic2($E$3,$E$5,$B$3:$C$3,$B$5:$C$5,B404,D404)","v":-2.0187173560271403},2.0064334856768746,-1.3945789526297303,2.1907181365882504,null,{"$f":"Burmester($B$3:$C$3,$B$4:$C$4,$B$6:$C$6,$E$3,$E$4,$E$6,B404)","v":{"$error":"#VALUE!"}},{"$error":"#VALUE!"},{"$f":"ThreePosition_Basic2($E$3,$E$6,$B$3:$C$3,$B$6:$C$6,B404,N404)","v":{"$error":"#VALUE!"}},{"$error":"#VALUE!"},{"$error":"#VALUE!"},{"$error":"#VALUE!"},{"$f":"ThreePosition_Basic2($E$3,$E$6,$B$3:$C$3,$B$6:$C$6,B404,O404)","v":{"$error":"#VALUE!"}},{"$error":"#VALUE!"},{"$error":"#VALUE!"},{"$error":"#VALUE!"}]
[195,3.4033920413889422,{"$f":"Burmester($B$3:$C$3,$B$4:$C$4,$B$5:$C$5,$E$3,$E$4,$E$5,B405)","v":6.0664606624735065},2.9543249761890134,{"$f":"ThreePosition_Basic2($E$3,$E$5,$B$3:$C$3,$B$5:$C$5,B405,C405)","v":-1.4770954178011702},3.2061616826363215,-0.9550940779414131,3.4399916561894117,{"$f":"ThreePosition_Basic2($E$3,$E$5,$B$3:$C$3,$B$5:$C$5,B405,D405)","v":-2.0243168643437639},2.0081692455348565,-1.3992011842457641,2.1893462839308451,null,{"$f":"Burmester($B$3:$C$3,$B$4:$C$4,$B$6:$C$6,$E$3,$E$4,$E$6,B405)","v":{"$error":"#VALUE!"}},{"$error":"#VALUE!"},{"$f":"ThreePosition_Basic2($E$3,$E$6,$B$3:$C$3,$B$6:$C$6,B405,N405)","v":{"$error":"#VALUE!"}},{"$error":"#VALUE!"},{"$error":"#VALUE!"},{"$error":"#VALUE!"},{"$f":"ThreePosition_Basic2($E$3,$E$6,$B$3:$C$3,$B$6:$C$6,B405,O405)","v":{"$error":"#VALUE!"}},{"$error":"#VALUE!"},{"$error":"#VALUE!"},{"$error":"#VALUE!"}]
[195.5,3.4121186876489142,{"$f":"Burmester($B$3:$C$3,$B$4:$C$4,$B$5:$C$5,$E$3,$E$4,$E$5,B406)","v":6.0805431717144822},2.9553338121536381,{"$f":"ThreePosition_Basic2($E$3,$E$5,$B$3:$C$3,$B$5:$C$5,B406,C406)","v":-1.4849109632235216},3.2080391521038032,-0.96178665376125261,3.439045807355229,{"$f":"ThreePosition_Basic2($E$3,$E$5,$B$3:$C$3,$B$5:$C$5,B406,D406)","v":-2.0298911852160688},2.0098908718294553,-1.4037999928458902,2.1879603971744399,null,{"$f":"Burmester($B$3:$C$3,$B$4:$C$4,$B$6:$C$6,$E$3,$E$4,$E$6,B406)","v":{"$error":"#VALUE!"}},{"$error":"#VALUE!"},{"$f":"ThreePosition_Basic2($E$3,$E$6,$B$3:$C$3,$B$6:$C$6,B406,N406)","v":{"$error":"#VALUE!"}},{"$error":"#VALUE!"},{"$error":"#VALUE!"},{"$error":"#VALUE!"},{"$f":"ThreePosition_Basic2($E$3,$E$6,$B$3:$C$3,$B$6:$C$6,B406,O406)","v":{"$error":"#VALUE!"}},{"$error":"#VALUE!"},{"$error":"#VALUE!"},{"$error":"#VALUE!"}]
[196,3.4208453339088858,{"$f":"Burmester($B$3:$C$3,$B$4:$C$4,$B$5:$C$5,$E$3,$E$4,$E$5,B407)","v":6.0945654696785212},2.9563852545575893,{"$f":"ThreePosition_Basic2($E$3,$E$5,$B$3:$C$3,$B$5:$C$5,B407,C407)","v":-1.4926992337240346},3.2098790794542986,-0.96845312152624374,3.4380630139319113,{"$f":"ThreePosition_Basic2($E$3,$E$5,$B$3:$C$3,$B$5:$C$5,B407,D407)","v":-2.035440865950044},2.0115981325772911,-1.4083758389238306,2.1865600777090903,null,{"$f":"Burmester($B$3:$C$3,$B$4:$C$4,$B$6:$C$6,$E$3,$E$4,$E$6,B407)","v":{"$error":"#VALUE!"}},{"$error":"#VALUE!"},{"$f":"ThreePosition_Basic2($E$3,$E$6,$B$3:$C$3,$B$6:$C$6,B407,N407)","v":{"$error":"#VALUE!"}},{"$error":"#VALUE!"},{"$error":"#VALUE!"},{"$error":"#VALUE!"},{"$f":"ThreePosition_Basic2($E$3,$E$6,$B$3:$C$3,$B$6:$C$6,B407,O407)","v":{"$error":"#VALUE!"}},{"$error":"#VALUE!"},{"$error":"#VALUE!"},{"$error":"#VALUE!"}]
[196.5,3.4295719801688573,{"$f":"Burmester($B$3:$C$3,$B$4:$C$4,$B$5:$C$5,$E$3,$E$4,$E$5,B408)","v":6.1085278195591046},2.9574792265101073,{"$f":"ThreePosition_Basic2($E$3,$E$5,$B$3:$C$3,$B$5:$C$5,B408,C408)","v":-1.5004602991094314},3.2116824276006057,-0.97509355871232528,3.4370441119780883,{"$f":"ThreePosition_Basic2($E$3,$E$5,$B$3:$C$3,$B$5:$C$5,B408,D408)","v":-2.0409664437618322},2.0132907973983651,-1.4129291738570542,2.1851449285457694,null,{"$f":"Burmester($B$3:$C$3,$B$4:$C$4,$B$6:$C$6,$E$3,$E$4,$E$6,B408)","v":{"$error":"#VALUE!"}},{"$error":"#VALUE!"},{"$f":"ThreePosition_Basic2($E$3,$E$6,$B$3:$C$3,$B$6:$C$6,B408,N408)","v":{"$error":"#VALUE!"}},{"$error":"#VALUE!"},{"$error":"#VALUE!"},{"$error":"#VALUE!"},{"$f":"ThreePosition_Basic2($E$3,$E$6,$B$3:$C$3,$B$6:$C$6,B408,O408)","v":{"$error":"#VALUE!"}},{"$error":"#VALUE!"},{"$error":"#VALUE!"},{"$error":"#VALUE!"}]
[197,3.4382986264288289,{"$f":"Burmester($B$3:$C$3,$B$4:$C$4,$B$5:$C$5,$E$3,$E$4,$E$5,B409)","v":6.1224304733427397},2.9586156613791639,{"$f":"ThreePosition_Basic2($E$3,$E$5,$B$3:$C$3,$B$5:$C$5,B409,C409)","v":-1.50819423404754},3.2134501443458734,-0.98170804674646217,3.4359899229733144,{"$f":"ThreePosition_Basic2($E$3,$E$5,$B$3:$C$3,$B$5:$C$5,B409,D409)","v":-2.0464684460740772},2.0149686373317279,-1.4174604401621695,2.1837145540895397,null,{"$f":"Burmester($B$3:$C$3,$B$4:$C$4,$B$6:$C$6,$E$3,$E$4,$E$6,B409)","v":{"$error":"#VALUE!"}},{"$error":"#VALUE!"},{"$f":"ThreePosition_Basic2($E$3,$E$6,$B$3:$C$3,$B$6:$C$6,B409,N409)","v":{"$error":"#VALUE!"}},{"$error":"#VALUE!"},{"$error":"#VALUE!"},{"$error":"#VALUE!"},{"$f":"ThreePosition_Basic2($E$3,$E$6,$B$3:$C$3,$B$6:$C$6,B409,O409)","v":{"$error":"#VALUE!"}},{"$error":"#VALUE!"},{"$error":"#VALUE!"},{"$error":"#VALUE!"}]
[197.5,3.4470252726888009,{"$f":"Burmester($B$3:$C$3,$B$4:$C$4,$B$5:$C$5,$E$3,$E$4,$E$5,B410)","v":6.1362736720761673},2.9597945025291663,{"$f":"ThreePosition_Basic2($E$3,$E$5,$B$3:$C$3,$B$5:$C$5,B410,C410)","v":-1.5159011178179369},3.215183162845626,-0.98829667079353467,3.434901254259958,{"$f":"ThreePosition_Basic2($E$3,$E$5,$B$3:$C$3,$B$5:$C$5,B410,D410)","v":-2.0519473908013111},2.0166314246586783,-1.4219700717406782,2.18226855992055,null,{"$f":"Burmester($B$3:$C$3,$B$4:$C$4,$B$6:$C$6,$E$3,$E$4,$E$6,B410)","v":{"$error":"#VALUE!"}},{"$error":"#VALUE!"},{"$f":"ThreePosition_Basic2($E$3,$E$6,$B$3:$C$3,$B$6:$C$6,B410,N410)","v":{"$error":"#VALUE!"}},{"$error":"#VALUE!"},{"$error":"#VALUE!"},{"$error":"#VALUE!"},{"$f":"ThreePosition_Basic2($E$3,$E$6,$B$3:$C$3,$B$6:$C$6,B410,O410)","v":{"$error":"#VALUE!"}},{"$error":"#VALUE!"},{"$error":"#VALUE!"},{"$error":"#VALUE!"}]
[198,3.4557519189487729,{"$f":"Burmester($B$3:$C$3,$B$4:$C$4,$B$5:$C$5,$E$3,$E$4,$E$5,B411)","v":6.1500576461244254},2.9610157030679964,{"$f":"ThreePosition_Basic2($E$3,$E$5,$B$3:$C$3,$B$5:$C$5,B411,C411)","v":-1.5235810340741529},3.2168824020559481,-0.9948595195532357,3.4337788994712839,{"$f":"ThreePosition_Basic2($E$3,$E$5,$B$3:$C$3,$B$5:$C$5,B411,D411)","v":-2.0574037866247585},2.0182789327331001,-1.426458494115411,2.1808065525824261,null,{"$f":"Burmester($B$3:$C$3,$B$4:$C$4,$B$6:$C$6,$E$3,$E$4,$E$6,B411)","v":{"$error":"#VALUE!"}},{"$error":"#VALUE!"},{"$f":"ThreePosition_Basic2($E$3,$E$6,$B$3:$C$3,$B$6:$C$6,B411,N411)","v":{"$error":"#VALUE!"}},{"$error":"#VALUE!"},{"$error":"#VALUE!"},{"$error":"#VALUE!"},{"$f":"ThreePosition_Basic2($E$3,$E$6,$B$3:$C$3,$B$6:$C$6,B411,O411)","v":{"$error":"#VALUE!"}},{"$error":"#VALUE!"},{"$error":"#VALUE!"},{"$error":"#VALUE!"}]
[198.5,3.464478565208744,{"$f":"Burmester($B$3:$C$3,$B$4:$C$4,$B$5:$C$5,$E$3,$E$4,$E$5,B412)","v":6.1637826154203026},2.9622792256028063,{"$f":"ThreePosition_Basic2($E$3,$E$5,$B$3:$C$3,$B$5:$C$5,B412,C412)","v":-1.5312340706169651},3.2185487671683721,-1.0013966850665634,3.432623638946279,{"$f":"ThreePosition_Basic2($E$3,$E$5,$B$3:$C$3,$B$5:$C$5,B412,D412)","v":-2.0628381332570758},2.0199109358186313,-1.4309261246581002,2.1793281393777271,null,{"$f":"Burmester($B$3:$C$3,$B$4:$C$4,$B$6:$C$6,$E$3,$E$4,$E$6,B412)","v":{"$error":"#VALUE!"}},{"$error":"#VALUE!"},{"$f":"ThreePosition_Basic2($E$3,$E$6,$B$3:$C$3,$B$6:$C$6,B412,N412)","v":{"$error":"#VALUE!"}},{"$error":"#VALUE!"},{"$error":"#VALUE!"},{"$error":"#VALUE!"},{"$f":"ThreePosition_Basic2($E$3,$E$6,$B$3:$C$3,$B$6:$C$6,B412,O412)","v":{"$error":"#VALUE!"}},{"$error":"#VALUE!"},{"$error":"#VALUE!"},{"$error":"#VALUE!"}]
[199,3.473205211468716,{"$f":"Burmester($B$3:$C$3,$B$4:$C$4,$B$5:$C$5,$E$3,$E$4,$E$5,B413)","v":6.1774487897056769},2.9635850420041128,{"$f":"ThreePosition_Basic2($E$3,$E$5,$B$3:$C$3,$B$5:$C$5,B413,C413)","v":-1.5388603191782706},3.2201831500319424,-1.0079082625314704,3.4314362401316827,{"$f":"ThreePosition_Basic2($E$3,$E$5,$B$3:$C$3,$B$5:$C$5,B413,D413)","v":-2.0682509216974228},2.0215272089323308,-1.4353733728084404,2.1778329281701025,null,{"$f":"Burmester($B$3:$C$3,$B$4:$C$4,$B$6:$C$6,$E$3,$E$4,$E$6,B413)","v":{"$error":"#VALUE!"}},{"$error":"#VALUE!"},{"$f":"ThreePosition_Basic2($E$3,$E$6,$B$3:$C$3,$B$6:$C$6,B413,N413)","v":{"$error":"#VALUE!"}},{"$error":"#VALUE!"},{"$error":"#VALUE!"},{"$error":"#VALUE!"},{"$f":"ThreePosition_Basic2($E$3,$E$6,$B$3:$C$3,$B$6:$C$6,B413,O413)","v":{"$error":"#VALUE!"}},{"$error":"#VALUE!"},{"$error":"#VALUE!"},{"$error":"#VALUE!"}]
[199.5,3.4819318577286871,{"$f":"Burmester($B$3:$C$3,$B$4:$C$4,$B$5:$C$5,$E$3,$E$4,$E$5,B414)","v":6.1910563687651852},2.9649331331776922,{"$f":"ThreePosition_Basic2($E$3,$E$5,$B$3:$C$3,$B$5:$C$5,B414,C414)","v":-1.5464598752150596},3.2217864295628966,-1.0143943501272452,3.4302174579716773,{"$f":"ThreePosition_Basic2($E$3,$E$5,$B$3:$C$3,$B$5:$C$5,B414,D414)","v":-2.0736426344772538},2.0231275276945473,-1.4398006402849601,2.1763205271928343,null,{"$f":"Burmester($B$3:$C$3,$B$4:$C$4,$B$6:$C$6,$E$3,$E$4,$E$6,B414)","v":{"$error":"#VALUE!"}},{"$error":"#VALUE!"},{"$f":"ThreePosition_Basic2($E$3,$E$6,$B$3:$C$3,$B$6:$C$6,B414,N414)","v":{"$error":"#VALUE!"}},{"$error":"#VALUE!"},{"$error":"#VALUE!"},{"$error":"#VALUE!"},{"$f":"ThreePosition_Basic2($E$3,$E$6,$B$3:$C$3,$B$6:$C$6,B414,O414)","v":{"$error":"#VALUE!"}},{"$error":"#VALUE!"},{"$error":"#VALUE!"},{"$error":"#VALUE!"}]
[200,3.4906585039886591,{"$f":"Burmester($B$3:$C$3,$B$4:$C$4,$B$5:$C$5,$E$3,$E$4,$E$5,B415)","v":6.2046055426526996},2.9663234888438441,{"$f":"ThreePosition_Basic2($E$3,$E$5,$B$3:$C$3,$B$5:$C$5,B415,C415)","v":-1.5540328377130559},3.2233594721424339,-1.020855048847251,3.4289680352856999,{"$f":"ThreePosition_Basic2($E$3,$E$5,$B$3:$C$3,$B$5:$C$5,B415,D415)","v":-2.0790137458972464},2.0247116681847048,-1.4442083212880843,2.1747905448634399,null,{"$f":"Burmester($B$3:$C$3,$B$4:$C$4,$B$6:$C$6,$E$3,$E$4,$E$6,B415)","v":{"$error":"#VALUE!"}},{"$error":"#VALUE!"},{"$f":"ThreePosition_Basic2($E$3,$E$6,$B$3:$C$3,$B$6:$C$6,B415,N415)","v":{"$error":"#VALUE!"}},{"$error":"#VALUE!"},{"$error":"#VALUE!"},{"$error":"#VALUE!"},{"$f":"ThreePosition_Basic2($E$3,$E$6,$B$3:$C$3,$B$6:$C$6,B415,O415)","v":{"$error":"#VALUE!"}},{"$error":"#VALUE!"},{"$error":"#VALUE!"},{"$error":"#VALUE!"}]
[200.5,3.4993851502486306,{"$f":"Burmester($B$3:$C$3,$B$4:$C$4,$B$5:$C$5,$E$3,$E$4,$E$5,B416)","v":6.2180964919110018},2.9677561073235759,{"$f":"ThreePosition_Basic2($E$3,$E$5,$B$3:$C$3,$B$5:$C$5,B416,C416)","v":-1.5615793089996088},3.2249031320029546,-1.0272904623396555,3.4276887031347587,{"$f":"ThreePosition_Basic2($E$3,$E$5,$B$3:$C$3,$B$5:$C$5,B416,D416)","v":-2.0843647222556823},2.0262794068027539,-1.4485968026956495,2.1732425896040715,null,{"$f":"Burmester($B$3:$C$3,$B$4:$C$4,$B$6:$C$6,$E$3,$E$4,$E$6,B416)","v":{"$error":"#VALUE!"}},{"$error":"#VALUE!"},{"$f":"ThreePosition_Basic2($E$3,$E$6,$B$3:$C$3,$B$6:$C$6,B416,N416)","v":{"$error":"#VALUE!"}},{"$error":"#VALUE!"},{"$error":"#VALUE!"},{"$error":"#VALUE!"},{"$f":"ThreePosition_Basic2($E$3,$E$6,$B$3:$C$3,$B$6:$C$6,B416,O416)","v":{"$error":"#VALUE!"}},{"$error":"#VALUE!"},{"$error":"#VALUE!"},{"$error":"#VALUE!"}]
[201,3.5081117965086026,{"$f":"Burmester($B$3:$C$3,$B$4:$C$4,$B$5:$C$5,$E$3,$E$4,$E$5,B417)","v":6.2315293877850912},2.9692309953313125,{"$f":"ThreePosition_Basic2($E$3,$E$5,$B$3:$C$3,$B$5:$C$5,B417,C417)","v":-1.5690993945654161},3.2264182516031967,-1.0337006967557891,3.4263801811766785,{"$f":"ThreePosition_Basic2($E$3,$E$5,$B$3:$C$3,$B$5:$C$5,B417,D417)","v":-2.0896960220686691},2.0278305201360354,-1.4529664642512183,2.1716762696674317,null,{"$f":"Burmester($B$3:$C$3,$B$4:$C$4,$B$6:$C$6,$E$3,$E$4,$E$6,B417)","v":{"$error":"#VALUE!"}},{"$error":"#VALUE!"},{"$f":"ThreePosition_Basic2($E$3,$E$6,$B$3:$C$3,$B$6:$C$6,B417,N417)","v":{"$error":"#VALUE!"}},{"$error":"#VALUE!"},{"$error":"#VALUE!"},{"$error":"#VALUE!"},{"$f":"ThreePosition_Basic2($E$3,$E$6,$B$3:$C$3,$B$6:$C$6,B417,O417)","v":{"$error":"#VALUE!"}},{"$error":"#VALUE!"},{"$error":"#VALUE!"},{"$error":"#VALUE!"}]
[201.5,3.5168384427685737,{"$f":"Burmester($B$3:$C$3,$B$4:$C$4,$B$5:$C$5,$E$3,$E$4,$E$5,B418)","v":6.244904392429464},2.9707481677737495,{"$f":"ThreePosition_Basic2($E$3,$E$5,$B$3:$C$3,$B$5:$C$5,B418,C418)","v":-1.5765932028947252},3.2279056619926076,-1.0400858606058194,3.4250431780106165,{"$f":"ThreePosition_Basic2($E$3,$E$5,$B$3:$C$3,$B$5:$C$5,B418,D418)","v":-2.0950080962824931},2.0293647848313139,-1.4573176787454387,2.1700911929679321,null,{"$f":"Burmester($B$3:$C$3,$B$4:$C$4,$B$6:$C$6,$E$3,$E$4,$E$6,B418)","v":{"$error":"#VALUE!"}},{"$error":"#VALUE!"},{"$f":"ThreePosition_Basic2($E$3,$E$6,$B$3:$C$3,$B$6:$C$6,B418,N418)","v":{"$error":"#VALUE!"}},{"$error":"#VALUE!"},{"$error":"#VALUE!"},{"$error":"#VALUE!"},{"$f":"ThreePosition_Basic2($E$3,$E$6,$B$3:$C$3,$B$6:$C$6,B418,O418)","v":{"$error":"#VALUE!"}},{"$error":"#VALUE!"},{"$error":"#VALUE!"},{"$error":"#VALUE!"}]
[202,3.5255650890285457,{"$f":"Burmester($B$3:$C$3,$B$4:$C$4,$B$5:$C$5,$E$3,$E$4,$E$5,B419)","v":6.2582216591097843},2.9723076475544641,{"$f":"ThreePosition_Basic2($E$3,$E$5,$B$3:$C$3,$B$5:$C$5,B419,C419)","v":-1.5840608453036349},3.2293661831653644,-1.0464460646214131,3.4236783915112485,{"$f":"ThreePosition_Basic2($E$3,$E$5,$B$3:$C$3,$B$5:$C$5,B419,D419)","v":-2.1003013884784334},2.030881977471787,-1.4616508121907419,2.1684869669178828,null,{"$f":"Burmester($B$3:$C$3,$B$4:$C$4,$B$6:$C$6,$E$3,$E$4,$E$6,B419)","v":{"$error":"#VALUE!"}},{"$error":"#VALUE!"},{"$f":"ThreePosition_Basic2($E$3,$E$6,$B$3:$C$3,$B$6:$C$6,B419,N419)","v":{"$error":"#VALUE!"}},{"$error":"#VALUE!"},{"$error":"#VALUE!"},{"$error":"#VALUE!"},{"$f":"ThreePosition_Basic2($E$3,$E$6,$B$3:$C$3,$B$6:$C$6,B419,O419)","v":{"$error":"#VALUE!"}},{"$error":"#VALUE!"},{"$error":"#VALUE!"},{"$error":"#VALUE!"}]
[202.5,3.5342917352885168,{"$f":"Burmester($B$3:$C$3,$B$4:$C$4,$B$5:$C$5,$E$3,$E$4,$E$5,B420)","v":6.2714813323992278},2.9739094653839486,{"$f":"ThreePosition_Basic2($E$3,$E$5,$B$3:$C$3,$B$5:$C$5,B420,C420)","v":-1.5915024357861505},3.2308006244043206,-1.0527814216250824,3.4222865091529129,{"$f":"ThreePosition_Basic2($E$3,$E$5,$B$3:$C$3,$B$5:$C$5,B420,D420)","v":-2.1055763350703218},2.0323818744588436,-1.4659662239896227,2.1668631982684667,null,{"$f":"Burmester($B$3:$C$3,$B$4:$C$4,$B$6:$C$6,$E$3,$E$4,$E$6,B420)","v":{"$error":"#VALUE!"}},{"$error":"#VALUE!"},{"$f":"ThreePosition_Basic2($E$3,$E$6,$B$3:$C$3,$B$6:$C$6,B420,N420)","v":{"$error":"#VALUE!"}},{"$error":"#VALUE!"},{"$error":"#VALUE!"},{"$error":"#VALUE!"},{"$f":"ThreePosition_Basic2($E$3,$E$6,$B$3:$C$3,$B$6:$C$6,B420,O420)","v":{"$error":"#VALUE!"}},{"$error":"#VALUE!"},{"$error":"#VALUE!"},{"$error":"#VALUE!"}]
[203,3.5430183815484888,{"$f":"Burmester($B$3:$C$3,$B$4:$C$4,$B$5:$C$5,$E$3,$E$4,$E$5,B421)","v":1.4982411902945416E-3},2.9755536595947327,{"$f":"ThreePosition_Basic2($E$3,$E$5,$B$3:$C$3,$B$5:$C$5,B421,C421)","v":-1.5989180908676859},3.2322097846152658,-1.0590920464059472,3.4208682083240829,{"$f":"ThreePosition_Basic2($E$3,$E$5,$B$3:$C$3,$B$5:$C$5,B421,D421)","v":-2.1108333654951239},2.0338642518983834,-1.4702642670967419,2.1652194929552779,null,{"$f":"Burmester($B$3:$C$3,$B$4:$C$4,$B$6:$C$6,$E$3,$E$4,$E$6,B421)","v":{"$error":"#VALUE!"}},{"$error":"#VALUE!"},{"$f":"ThreePosition_Basic2($E$3,$E$6,$B$3:$C$3,$B$6:$C$6,B421,N421)","v":{"$error":"#VALUE!"}},{"$error":"#VALUE!"},{"$error":"#VALUE!"},{"$error":"#VALUE!"},{"$f":"ThreePosition_Basic2($E$3,$E$6,$B$3:$C$3,$B$6:$C$6,B421,O421)","v":{"$error":"#VALUE!"}},{"$error":"#VALUE!"},{"$error":"#VALUE!"},{"$error":"#VALUE!"}]
[203.5,3.5517450278084608,{"$f":"Burmester($B$3:$C$3,$B$4:$C$4,$B$5:$C$5,$E$3,$E$4,$E$5,B422)","v":1.4643127599901253E-2},2.9772402759612482,{"$f":"ThreePosition_Basic2($E$3,$E$5,$B$3:$C$3,$B$5:$C$5,B422,C422)","v":-1.6063079294656863},3.2335944526517646,-1.0653780556016286,3.4194241566324406,{"$f":"ThreePosition_Basic2($E$3,$E$5,$B$3:$C$3,$B$5:$C$5,B422,D422)","v":-2.1160729023968208},2.0353288854915261,-1.474545288175096,2.1635554559482402,null,{"$f":"Burmester($B$3:$C$3,$B$4:$C$4,$B$6:$C$6,$E$3,$E$4,$E$6,B422)","v":{"$error":"#VALUE!"}},{"$error":"#VALUE!"},{"$f":"ThreePosition_Basic2($E$3,$E$6,$B$3:$C$3,$B$6:$C$6,B422,N422)","v":{"$error":"#VALUE!"}},{"$error":"#VALUE!"},{"$error":"#VALUE!"},{"$error":"#VALUE!"},{"$f":"ThreePosition_Basic2($E$3,$E$6,$B$3:$C$3,$B$6:$C$6,B422,O422)","v":{"$error":"#VALUE!"}},{"$error":"#VALUE!"},{"$error":"#VALUE!"},{"$error":"#VALUE!"}]
[204,3.5604716740684319,{"$f":"Burmester($B$3:$C$3,$B$4:$C$4,$B$5:$C$5,$E$3,$E$4,$E$5,B423)","v":2.7730804074243467E-2},2.9789693675241842,{"$f":"ThreePosition_Basic2($E$3,$E$5,$B$3:$C$3,$B$5:$C$5,B423,C423)","v":-1.6136720727570806},3.2349554076308933,-1.0716395675860173,3.4179550122008582,{"$f":"ThreePosition_Basic2($E$3,$E$5,$B$3:$C$3,$B$5:$C$5,B423,D423)","v":-2.1212953618038273},2.0367755504295331,-1.4788096277464566,2.1618706911057028,null,{"$f":"Burmester($B$3:$C$3,$B$4:$C$4,$B$6:$C$6,$E$3,$E$4,$E$6,B423)","v":{"$error":"#VALUE!"}},{"$error":"#VALUE!"},{"$f":"ThreePosition_Basic2($E$3,$E$6,$B$3:$C$3,$B$6:$C$6,B423,N423)","v":{"$error":"#VALUE!"}},{"$error":"#VALUE!"},{"$error":"#VALUE!"},{"$error":"#VALUE!"},{"$f":"ThreePosition_Basic2($E$3,$E$6,$B$3:$C$3,$B$6:$C$6,B423,O423)","v":{"$error":"#VALUE!"}},{"$error":"#VALUE!"},{"$error":"#VALUE!"},{"$error":"#VALUE!"}]
[204.5,3.5691983203284039,{"$f":"Burmester($B$3:$C$3,$B$4:$C$4,$B$5:$C$5,$E$3,$E$4,$E$5,B424)","v":4.0761382285483434E-2},2.9807409944189778,{"$f":"ThreePosition_Basic2($E$3,$E$5,$B$3:$C$3,$B$5:$C$5,B424,C424)","v":-1.6210106440522971},3.2362934192401576,-1.077876702362687,3.4164614239545701,{"$f":"ThreePosition_Basic2($E$3,$E$5,$B$3:$C$3,$B$5:$C$5,B424,D424)","v":-2.1265011533002038},2.0382040212927839,-1.4830576203363064,2.1601648010325292,null,{"$f":"Burmester($B$3:$C$3,$B$4:$C$4,$B$6:$C$6,$E$3,$E$4,$E$6,B424)","v":{"$error":"#VALUE!"}},{"$error":"#VALUE!"},{"$f":"ThreePosition_Basic2($E$3,$E$6,$B$3:$C$3,$B$6:$C$6,B424,N424)","v":{"$error":"#VALUE!"}},{"$error":"#VALUE!"},{"$error":"#VALUE!"},{"$error":"#VALUE!"},{"$f":"ThreePosition_Basic2($E$3,$E$6,$B$3:$C$3,$B$6:$C$6,B424,O424)","v":{"$error":"#VALUE!"}},{"$error":"#VALUE!"},{"$error":"#VALUE!"},{"$error":"#VALUE!"}]
[205,3.5779249665883754,{"$f":"Burmester($B$3:$C$3,$B$4:$C$4,$B$5:$C$5,$E$3,$E$4,$E$5,B425)","v":5.3734966126682403E-2},2.9825552237082227,{"$f":"ThreePosition_Basic2($E$3,$E$5,$B$3:$C$3,$B$5:$C$5,B425,C425)","v":-1.6283237686755507},3.2376092480358527,-1.0840895814636939,3.4149440318997901,{"$f":"ThreePosition_Basic2($E$3,$E$5,$B$3:$C$3,$B$5:$C$5,B425,D425)","v":-2.1316906801908688},2.0396140719536513,-1.4872895946134492,2.1584373869420177,null,{"$f":"Burmester($B$3:$C$3,$B$4:$C$4,$B$6:$C$6,$E$3,$E$4,$E$6,B425)","v":{"$error":"#VALUE!"}},{"$error":"#VALUE!"},{"$f":"ThreePosition_Basic2($E$3,$E$6,$B$3:$C$3,$B$6:$C$6,B425,N425)","v":{"$error":"#VALUE!"}},{"$error":"#VALUE!"},{"$error":"#VALUE!"},{"$error":"#VALUE!"},{"$f":"ThreePosition_Basic2($E$3,$E$6,$B$3:$C$3,$B$6:$C$6,B425,O425)","v":{"$error":"#VALUE!"}},{"$error":"#VALUE!"},{"$error":"#VALUE!"},{"$error":"#VALUE!"}]
[205.5,3.5866516128483474,{"$f":"Burmester($B$3:$C$3,$B$4:$C$4,$B$5:$C$5,$E$3,$E$4,$E$5,B426)","v":6.6651651882814439E-2},2.9844121292176879,{"$f":"ThreePosition_Basic2($E$3,$E$5,$B$3:$C$3,$B$5:$C$5,B426,C426)","v":-1.6356115738511767},3.2389036457331208,-1.0902783278535684,3.4134034673940228,{"$f":"ThreePosition_Basic2($E$3,$E$5,$B$3:$C$3,$B$5:$C$5,B426,D426)","v":-2.1368643396610638},2.0410054754831521,-1.4915058735245128,2.1566880485214881,null,{"$f":"Burmester($B$3:$C$3,$B$4:$C$4,$B$6:$C$6,$E$3,$E$4,$E$6,B426)","v":{"$error":"#VALUE!"}},{"$error":"#VALUE!"},{"$f":"ThreePosition_Basic2($E$3,$E$6,$B$3:$C$3,$B$6:$C$6,B426,N426)","v":{"$error":"#VALUE!"}},{"$error":"#VALUE!"},{"$error":"#VALUE!"},{"$error":"#VALUE!"},{"$f":"ThreePosition_Basic2($E$3,$E$6,$B$3:$C$3,$B$6:$C$6,B426,O426)","v":{"$error":"#VALUE!"}},{"$error":"#VALUE!"},{"$error":"#VALUE!"},{"$error":"#VALUE!"}]
[206,3.5953782591083185,{"$f":"Burmester($B$3:$C$3,$B$4:$C$4,$B$5:$C$5,$E$3,$E$4,$E$5,B427)","v":7.9511528398481232E-2},2.9863117913757127,{"$f":"ThreePosition_Basic2($E$3,$E$5,$B$3:$C$3,$B$5:$C$5,B427,C427)","v":-1.6428741885957472},3.2401773554879698,-1.0964430658382658,3.4118403534083308,{"$f":"ThreePosition_Basic2($E$3,$E$5,$B$3:$C$3,$B$5:$C$5,B427,D427)","v":-2.1420225229302341},2.0423780040612196,-1.4957067744234904,2.1549163838013796,null,{"$f":"Burmester($B$3:$C$3,$B$4:$C$4,$B$6:$C$6,$E$3,$E$4,$E$6,B427)","v":{"$error":"#VALUE!"}},{"$error":"#VALUE!"},{"$f":"ThreePosition_Basic2($E$3,$E$6,$B$3:$C$3,$B$6:$C$6,B427,N427)","v":{"$error":"#VALUE!"}},{"$error":"#VALUE!"},{"$error":"#VALUE!"},{"$error":"#VALUE!"},{"$f":"ThreePosition_Basic2($E$3,$E$6,$B$3:$C$3,$B$6:$C$6,B427,O427)","v":{"$error":"#VALUE!"}},{"$error":"#VALUE!"},{"$error":"#VALUE!"},{"$error":"#VALUE!"}]
[206.5,3.6041049053682905,{"$f":"Burmester($B$3:$C$3,$B$4:$C$4,$B$5:$C$5,$E$3,$E$4,$E$5,B428)","v":9.2314677242586407E-2},2.9882542970557471,{"$f":"ThreePosition_Basic2($E$3,$E$5,$B$3:$C$3,$B$5:$C$5,B428,C428)","v":-1.6501117436157484},3.241431112171473,-1.1025839209788808,3.4102553047817623,{"$f":"ThreePosition_Basic2($E$3,$E$5,$B$3:$C$3,$B$5:$C$5,B428,D428)","v":-2.1471656154005632},2.0437314288904886,-1.4998926091965197,2.1531219890277167,null,{"$f":"Burmester($B$3:$C$3,$B$4:$C$4,$B$6:$C$6,$E$3,$E$4,$E$6,B428)","v":{"$error":"#VALUE!"}},{"$error":"#VALUE!"},{"$f":"ThreePosition_Basic2($E$3,$E$6,$B$3:$C$3,$B$6:$C$6,B428,N428)","v":{"$error":"#VALUE!"}},{"$error":"#VALUE!"},{"$error":"#VALUE!"},{"$error":"#VALUE!"},{"$f":"ThreePosition_Basic2($E$3,$E$6,$B$3:$C$3,$B$6:$C$6,B428,O428)","v":{"$error":"#VALUE!"}},{"$error":"#VALUE!"},{"$error":"#VALUE!"},{"$error":"#VALUE!"}]
[207,3.6128315516282616,{"$f":"Burmester($B$3:$C$3,$B$4:$C$4,$B$5:$C$5,$E$3,$E$4,$E$5,B429)","v":0.10506117287019015},2.9902397394217721,{"$f":"ThreePosition_Basic2($E$3,$E$5,$B$3:$C$3,$B$5:$C$5,B429,C429)","v":-1.6573243712106058},3.2426656426363718,-1.1087010200099441,3.4086489284681711,{"$f":"ThreePosition_Basic2($E$3,$E$5,$B$3:$C$3,$B$5:$C$5,B429,D429)","v":-2.152293996800323},2.0450655201134698,-1.5040636843820487,2.15130445853781,null,{"$f":"Burmester($B$3:$C$3,$B$4:$C$4,$B$6:$C$6,$E$3,$E$4,$E$6,B429)","v":{"$error":"#VALUE!"}},{"$error":"#VALUE!"},{"$f":"ThreePosition_Basic2($E$3,$E$6,$B$3:$C$3,$B$6:$C$6,B429,N429)","v":{"$error":"#VALUE!"}},{"$error":"#VALUE!"},{"$error":"#VALUE!"},{"$error":"#VALUE!"},{"$f":"ThreePosition_Basic2($E$3,$E$6,$B$3:$C$3,$B$6:$C$6,B429,O429)","v":{"$error":"#VALUE!"}},{"$error":"#VALUE!"},{"$error":"#VALUE!"},{"$error":"#VALUE!"}]
[207.5,3.6215581978882336,{"$f":"Burmester($B$3:$C$3,$B$4:$C$4,$B$5:$C$5,$E$3,$E$4,$E$5,B430)","v":0.11775108278177338},2.9922682177764131,{"$f":"ThreePosition_Basic2($E$3,$E$5,$B$3:$C$3,$B$5:$C$5,B430,C430)","v":-1.6645122051808428},3.2438816659763146,-1.1147944907621061,3.407021823775632,{"$f":"ThreePosition_Basic2($E$3,$E$5,$B$3:$C$3,$B$5:$C$5,B430,D430)","v":-2.1574080413222467},2.0463800467330122,-1.5082203012865649,2.1494633846390641,null,{"$f":"Burmester($B$3:$C$3,$B$4:$C$4,$B$6:$C$6,$E$3,$E$4,$E$6,B430)","v":{"$error":"#VALUE!"}},{"$error":"#VALUE!"},{"$f":"ThreePosition_Basic2($E$3,$E$6,$B$3:$C$3,$B$6:$C$6,B430,N430)","v":{"$error":"#VALUE!"}},{"$error":"#VALUE!"},{"$error":"#VALUE!"},{"$error":"#VALUE!"},{"$f":"ThreePosition_Basic2($E$3,$E$6,$B$3:$C$3,$B$6:$C$6,B430,O430)","v":{"$error":"#VALUE!"}},{"$error":"#VALUE!"},{"$error":"#VALUE!"},{"$error":"#VALUE!"}]
[208,3.6302848441482056,{"$f":"Burmester($B$3:$C$3,$B$4:$C$4,$B$5:$C$5,$E$3,$E$4,$E$5,B431)","v":0.13038446768009118},2.9943398374115167,{"$f":"ThreePosition_Basic2($E$3,$E$5,$B$3:$C$3,$B$5:$C$5,B431,C431)","v":-1.6716753807411702},3.2450798937779162,-1.1208644620890358,3.4053745825986557,{"$f":"ThreePosition_Basic2($E$3,$E$5,$B$3:$C$3,$B$5:$C$5,B431,D431)","v":-2.1625081177570591},2.0476747765359362,-1.512362756096,2.1475983574907556,null,{"$f":"Burmester($B$3:$C$3,$B$4:$C$4,$B$6:$C$6,$E$3,$E$4,$E$6,B431)","v":{"$error":"#VALUE!"}},{"$error":"#VALUE!"},{"$f":"ThreePosition_Basic2($E$3,$E$6,$B$3:$C$3,$B$6:$C$6,B431,N431)","v":{"$error":"#VALUE!"}},{"$error":"#VALUE!"},{"$error":"#VALUE!"},{"$error":"#VALUE!"},{"$f":"ThreePosition_Basic2($E$3,$E$6,$B$3:$C$3,$B$6:$C$6,B431,O431)","v":{"$error":"#VALUE!"}},{"$error":"#VALUE!"},{"$error":"#VALUE!"},{"$error":"#VALUE!"}]
[208.5,3.6390114904081772,{"$f":"Burmester($B$3:$C$3,$B$4:$C$4,$B$5:$C$5,$E$3,$E$4,$E$5,B432)","v":0.14296138162484281},2.9964547094609997,{"$f":"ThreePosition_Basic2($E$3,$E$5,$B$3:$C$3,$B$5:$C$5,B432,C432)","v":-1.6788140344383216},3.2462610303658495,-1.1269110637983681,3.4037077896433838,{"$f":"ThreePosition_Basic2($E$3,$E$5,$B$3:$C$3,$B$5:$C$5,B432,D432)","v":-2.1675945896223663},2.0489494760197617,-1.5164913399829933,2.1457089649886925,null,{"$f":"Burmester($B$3:$C$3,$B$4:$C$4,$B$6:$C$6,$E$3,$E$4,$E$6,B432)","v":{"$error":"#VALUE!"}},{"$error":"#VALUE!"},{"$f":"ThreePosition_Basic2($E$3,$E$6,$B$3:$C$3,$B$6:$C$6,B432,N432)","v":{"$error":"#VALUE!"}},{"$error":"#VALUE!"},{"$error":"#VALUE!"},{"$error":"#VALUE!"},{"$f":"ThreePosition_Basic2($E$3,$E$6,$B$3:$C$3,$B$6:$C$6,B432,O432)","v":{"$error":"#VALUE!"}},{"$error":"#VALUE!"},{"$error":"#VALUE!"},{"$error":"#VALUE!"}]
[209,3.6477381366681487,{"$f":"Burmester($B$3:$C$3,$B$4:$C$4,$B$5:$C$5,$E$3,$E$4,$E$5,B433)","v":0.15548187218533976},2.9986129507557653,{"$f":"ThreePosition_Basic2($E$3,$E$5,$B$3:$C$3,$B$5:$C$5,B433,C433)","v":-1.6859283040734578},3.2474257730411464,-1.1329344265865489,3.4020220226459497,{"$f":"ThreePosition_Basic2($E$3,$E$5,$B$3:$C$3,$B$5:$C$5,B433,D433)","v":-2.1726678152870336},2.050203910322415,-1.5206063392101203,2.1437947926526091,null,{"$f":"Burmester($B$3:$C$3,$B$4:$C$4,$B$6:$C$6,$E$3,$E$4,$E$6,B433)","v":{"$error":"#VALUE!"}},{"$error":"#VALUE!"},{"$f":"ThreePosition_Basic2($E$3,$E$6,$B$3:$C$3,$B$6:$C$6,B433,N433)","v":{"$error":"#VALUE!"}},{"$error":"#VALUE!"},{"$error":"#VALUE!"},{"$error":"#VALUE!"},{"$f":"ThreePosition_Basic2($E$3,$E$6,$B$3:$C$3,$B$6:$C$6,B433,O433)","v":{"$error":"#VALUE!"}},{"$error":"#VALUE!"},{"$error":"#VALUE!"},{"$error":"#VALUE!"}]
[209.5,3.6564647829281203,{"$f":"Burmester($B$3:$C$3,$B$4:$C$4,$B$5:$C$5,$E$3,$E$4,$E$5,B434)","v":0.1679459805913405},3.0008146836805087,{"$f":"ThreePosition_Basic2($E$3,$E$5,$B$3:$C$3,$B$5:$C$5,B434,C434)","v":-1.6930183286289648},3.2485748123128984,-1.1389346819774175,3.4003178525841773,{"$f":"ThreePosition_Basic2($E$3,$E$5,$B$3:$C$3,$B$5:$C$5,B434,D434)","v":-2.1777281480912305},2.0514378431548597,-1.524708035229241,2.1418554235162333,null,{"$f":"Burmester($B$3:$C$3,$B$4:$C$4,$B$6:$C$6,$E$3,$E$4,$E$6,B434)","v":{"$error":"#VALUE!"}},{"$error":"#VALUE!"},{"$f":"ThreePosition_Basic2($E$3,$E$6,$B$3:$C$3,$B$6:$C$6,B434,N434)","v":{"$error":"#VALUE!"}},{"$error":"#VALUE!"},{"$error":"#VALUE!"},{"$error":"#VALUE!"},{"$f":"ThreePosition_Basic2($E$3,$E$6,$B$3:$C$3,$B$6:$C$6,B434,O434)","v":{"$error":"#VALUE!"}},{"$error":"#VALUE!"},{"$error":"#VALUE!"},{"$error":"#VALUE!"}]
[210,3.6651914291880923,{"$f":"Burmester($B$3:$C$3,$B$4:$C$4,$B$5:$C$5,$E$3,$E$4,$E$5,B435)","v":0.18035374188224035},3.0030600360322426,{"$f":"ThreePosition_Basic2($E$3,$E$5,$B$3:$C$3,$B$5:$C$5,B435,C435)","v":-1.7000842481994656},3.2497088321235181,-1.1449119622643764,3.3985958438827804,{"$f":"ThreePosition_Basic2($E$3,$E$5,$B$3:$C$3,$B$5:$C$5,B435,D435)","v":-2.1827759364622414},2.05265103673654,-1.5287967047770588,2.1398904380198838,null,{"$f":"Burmester($B$3:$C$3,$B$4:$C$4,$B$6:$C$6,$E$3,$E$4,$E$6,B435)","v":{"$error":"#VALUE!"}},{"$error":"#VALUE!"},{"$f":"ThreePosition_Basic2($E$3,$E$6,$B$3:$C$3,$B$6:$C$6,B435,N435)","v":{"$error":"#VALUE!"}},{"$error":"#VALUE!"},{"$error":"#VALUE!"},{"$error":"#VALUE!"},{"$f":"ThreePosition_Basic2($E$3,$E$6,$B$3:$C$3,$B$6:$C$6,B435,O435)","v":{"$error":"#VALUE!"}},{"$error":"#VALUE!"},{"$error":"#VALUE!"},{"$error":"#VALUE!"}]
[210.5,3.6739180754480634,{"$f":"Burmester($B$3:$C$3,$B$4:$C$4,$B$5:$C$5,$E$3,$E$4,$E$5,B436)","v":0.19270518505476977},3.0053491408803596,{"$f":"ThreePosition_Basic2($E$3,$E$5,$B$3:$C$3,$B$5:$C$5,B436,C436)","v":-1.7071262039269195},3.2508285100677425,-1.1508664004560283,3.3968565546122247,{"$f":"ThreePosition_Basic2($E$3,$E$5,$B$3:$C$3,$B$5:$C$5,B436,D436)","v":-2.1878115240262326},2.0538432517335954,-1.5328726199670464,2.1378994139055498,null,{"$f":"Burmester($B$3:$C$3,$B$4:$C$4,$B$6:$C$6,$E$3,$E$4,$E$6,B436)","v":{"$error":"#VALUE!"}},{"$error":"#VALUE!"},{"$f":"ThreePosition_Basic2($E$3,$E$6,$B$3:$C$3,$B$6:$C$6,B436,N436)","v":{"$error":"#VALUE!"}},{"$error":"#VALUE!"},{"$error":"#VALUE!"},{"$error":"#VALUE!"},{"$f":"ThreePosition_Basic2($E$3,$E$6,$B$3:$C$3,$B$6:$C$6,B436,O436)","v":{"$error":"#VALUE!"}},{"$error":"#VALUE!"},{"$error":"#VALUE!"},{"$error":"#VALUE!"}]
[211,3.6826447217080354,{"$f":"Burmester($B$3:$C$3,$B$4:$C$4,$B$5:$C$5,$E$3,$E$4,$E$5,B437)","v":0.20500033320937991},3.0076821364280817,{"$f":"ThreePosition_Basic2($E$3,$E$5,$B$3:$C$3,$B$5:$C$5,B437,C437)","v":-1.7141443379396308},3.2519345176055072,-1.1567981302251318,3.3951005366813836,{"$f":"ThreePosition_Basic2($E$3,$E$5,$B$3:$C$3,$B$5:$C$5,B437,D437)","v":-2.1928352497160737},2.0550142471997406,-1.5369360483778323,2.13588192611431,null,{"$f":"Burmester($B$3:$C$3,$B$4:$C$4,$B$6:$C$6,$E$3,$E$4,$E$6,B437)","v":{"$error":"#VALUE!"}},{"$error":"#VALUE!"},{"$f":"ThreePosition_Basic2($E$3,$E$6,$B$3:$C$3,$B$6:$C$6,B437,N437)","v":{"$error":"#VALUE!"}},{"$error":"#VALUE!"},{"$error":"#VALUE!"},{"$error":"#VALUE!"},{"$f":"ThreePosition_Basic2($E$3,$E$6,$B$3:$C$3,$B$6:$C$6,B437,O437)","v":{"$error":"#VALUE!"}},{"$error":"#VALUE!"},{"$error":"#VALUE!"},{"$error":"#VALUE!"}]
[211.5,3.6913713679680069,{"$f":"Burmester($B$3:$C$3,$B$4:$C$4,$B$5:$C$5,$E$3,$E$4,$E$5,B438)","v":0.21723920369542893},3.0100591658751381,{"$f":"ThreePosition_Basic2($E$3,$E$5,$B$3:$C$3,$B$5:$C$5,B438,C438)","v":-1.7211387932950371},3.2530275202688896,-1.162707285860755,3.3933283360241675,{"$f":"ThreePosition_Basic2($E$3,$E$5,$B$3:$C$3,$B$5:$C$5,B438,D438)","v":-2.1978474478753389},2.0561637805197805,-1.5409872531381485,2.1338375466860637,null,{"$f":"Burmester($B$3:$C$3,$B$4:$C$4,$B$6:$C$6,$E$3,$E$4,$E$6,B438)","v":{"$error":"#VALUE!"}},{"$error":"#VALUE!"},{"$f":"ThreePosition_Basic2($E$3,$E$6,$B$3:$C$3,$B$6:$C$6,B438,N438)","v":{"$error":"#VALUE!"}},{"$error":"#VALUE!"},{"$error":"#VALUE!"},{"$error":"#VALUE!"},{"$f":"ThreePosition_Basic2($E$3,$E$6,$B$3:$C$3,$B$6:$C$6,B438,O438)","v":{"$error":"#VALUE!"}},{"$error":"#VALUE!"},{"$error":"#VALUE!"},{"$error":"#VALUE!"}]
[212,3.7000980142279785,{"$f":"Burmester($B$3:$C$3,$B$4:$C$4,$B$5:$C$5,$E$3,$E$4,$E$5,B439)","v":0.22942180825535485},3.012480377281531,{"$f":"ThreePosition_Basic2($E$3,$E$5,$B$3:$C$3,$B$5:$C$5,B439,C439)","v":-1.7281097139261385},3.2541081778632144,-1.16859400222351,3.3915404927802184,{"$f":"ThreePosition_Basic2($E$3,$E$5,$B$3:$C$3,$B$5:$C$5,B439,D439)","v":-2.2028484483586328},2.057291607355666,-1.5450264930084727,2.1317658446614383,null,{"$f":"Burmester($B$3:$C$3,$B$4:$C$4,$B$6:$C$6,$E$3,$E$4,$E$6,B439)","v":{"$error":"#VALUE!"}},{"$error":"#VALUE!"},{"$f":"ThreePosition_Basic2($E$3,$E$6,$B$3:$C$3,$B$6:$C$6,B439,N439)","v":{"$error":"#VALUE!"}},{"$error":"#VALUE!"},{"$error":"#VALUE!"},{"$error":"#VALUE!"},{"$f":"ThreePosition_Basic2($E$3,$E$6,$B$3:$C$3,$B$6:$C$6,B439,O439)","v":{"$error":"#VALUE!"}},{"$error":"#VALUE!"},{"$error":"#VALUE!"},{"$error":"#VALUE!"}]
[212.5,3.70882466048795,{"$f":"Burmester($B$3:$C$3,$B$4:$C$4,$B$5:$C$5,$E$3,$E$4,$E$5,B440)","v":0.24154815316793568},3.0149459234322449,{"$f":"ThreePosition_Basic2($E$3,$E$5,$B$3:$C$3,$B$5:$C$5,B440,C440)","v":-1.735057244591423},3.2551771446625031,-1.1744584147037347,3.389737541469835,{"$f":"ThreePosition_Basic2($E$3,$E$5,$B$3:$C$3,$B$5:$C$5,B440,D440)","v":-2.2078385766283155},2.0583974815950525,-1.5490540224594165,2.1296663859858302,null,{"$f":"Burmester($B$3:$C$3,$B$4:$C$4,$B$6:$C$6,$E$3,$E$4,$E$6,B440)","v":{"$error":"#VALUE!"}},{"$error":"#VALUE!"},{"$f":"ThreePosition_Basic2($E$3,$E$6,$B$3:$C$3,$B$6:$C$6,B440,N440)","v":{"$error":"#VALUE!"}},{"$error":"#VALUE!"},{"$error":"#VALUE!"},{"$error":"#VALUE!"},{"$f":"ThreePosition_Basic2($E$3,$E$6,$B$3:$C$3,$B$6:$C$6,B440,O440)","v":{"$error":"#VALUE!"}},{"$error":"#VALUE!"},{"$error":"#VALUE!"},{"$error":"#VALUE!"}]
[213,3.717551306747922,{"$f":"Burmester($B$3:$C$3,$B$4:$C$4,$B$5:$C$5,$E$3,$E$4,$E$5,B441)","v":0.25361823939079431},3.0174559617027659,{"$f":"ThreePosition_Basic2($E$3,$E$5,$B$3:$C$3,$B$5:$C$5,B441,C441)","v":-1.7419815308281983},3.2562350695993776,-1.1803006591825507,3.387920011163239,{"$f":"ThreePosition_Basic2($E$3,$E$5,$B$3:$C$3,$B$5:$C$5,B441,D441)","v":-2.2128181538477976},2.0594811553023042,-1.5530700917470226,2.1275387334154963,null,{"$f":"Burmester($B$3:$C$3,$B$4:$C$4,$B$6:$C$6,$E$3,$E$4,$E$6,B441)","v":{"$error":"#VALUE!"}},{"$error":"#VALUE!"},{"$f":"ThreePosition_Basic2($E$3,$E$6,$B$3:$C$3,$B$6:$C$6,B441,N441)","v":{"$error":"#VALUE!"}},{"$error":"#VALUE!"},{"$error":"#VALUE!"},{"$error":"#VALUE!"},{"$f":"ThreePosition_Basic2($E$3,$E$6,$B$3:$C$3,$B$6:$C$6,B441,O441)","v":{"$error":"#VALUE!"}},{"$error":"#VALUE!"},{"$error":"#VALUE!"},{"$error":"#VALUE!"}]
[213.5,3.726277953007894,{"$f":"Burmester($B$3:$C$3,$B$4:$C$4,$B$5:$C$5,$E$3,$E$4,$E$5,B442)","v":0.26563206270225204},3.0200106539252882,{"$f":"ThreePosition_Basic2($E$3,$E$5,$B$3:$C$3,$B$5:$C$5,B442,C442)","v":-1.7488827189091602},3.2572825964495631,-1.1861208719956386,3.386088425644306,{"$f":"ThreePosition_Basic2($E$3,$E$5,$B$3:$C$3,$B$5:$C$5,B442,D442)","v":-2.2177874969714444},2.0605423786718808,-1.5570749469849932,2.1253824464256139,null,{"$f":"Burmester($B$3:$C$3,$B$4:$C$4,$B$6:$C$6,$E$3,$E$4,$E$6,B442)","v":{"$error":"#VALUE!"}},{"$error":"#VALUE!"},{"$f":"ThreePosition_Basic2($E$3,$E$6,$B$3:$C$3,$B$6:$C$6,B442,N442)","v":{"$error":"#VALUE!"}},{"$error":"#VALUE!"},{"$error":"#VALUE!"},{"$error":"#VALUE!"},{"$f":"ThreePosition_Basic2($E$3,$E$6,$B$3:$C$3,$B$6:$C$6,B442,O442)","v":{"$error":"#VALUE!"}},{"$error":"#VALUE!"},{"$error":"#VALUE!"},{"$error":"#VALUE!"}]
[214,3.7350045992678651,{"$f":"Burmester($B$3:$C$3,$B$4:$C$4,$B$5:$C$5,$E$3,$E$4,$E$5,B443)","v":0.27758961384265468},3.0226101662554923,{"$f":"ThreePosition_Basic2($E$3,$E$5,$B$3:$C$3,$B$5:$C$5,B443,C443)","v":-1.7557609558021201},3.2583203640110963,-1.1919191898996662,3.3842433035688662,{"$f":"ThreePosition_Basic2($E$3,$E$5,$B$3:$C$3,$B$5:$C$5,B443,D443)","v":-2.2227469188312496},2.0615808999840701,-1.5610688302139883,2.1231970811202534,null,{"$f":"Burmester($B$3:$C$3,$B$4:$C$4,$B$6:$C$6,$E$3,$E$4,$E$6,B443)","v":{"$error":"#VALUE!"}},{"$error":"#VALUE!"},{"$f":"ThreePosition_Basic2($E$3,$E$6,$B$3:$C$3,$B$6:$C$6,B443,N443)","v":{"$error":"#VALUE!"}},{"$error":"#VALUE!"},{"$error":"#VALUE!"},{"$error":"#VALUE!"},{"$f":"ThreePosition_Basic2($E$3,$E$6,$B$3:$C$3,$B$6:$C$6,B443,O443)","v":{"$error":"#VALUE!"}},{"$error":"#VALUE!"},{"$error":"#VALUE!"},{"$error":"#VALUE!"}]
[214.5,3.7437312455278371,{"$f":"Burmester($B$3:$C$3,$B$4:$C$4,$B$5:$C$5,$E$3,$E$4,$E$5,B444)","v":0.28949087865529238},3.0252546690397719,{"$f":"ThreePosition_Basic2($E$3,$E$5,$B$3:$C$3,$B$5:$C$5,B444,C444)","v":-1.7626163891327737},3.2593490062783825,-1.1976957500412695,3.3823851586177032,{"$f":"ThreePosition_Basic2($E$3,$E$5,$B$3:$C$3,$B$5:$C$5,B444,D444)","v":-2.2276967282203355},2.0625964655630158,-1.5650519794680484,2.1209821901441894,null,{"$f":"Burmester($B$3:$C$3,$B$4:$C$4,$B$6:$C$6,$E$3,$E$4,$E$6,B444)","v":{"$error":"#VALUE!"}},{"$error":"#VALUE!"},{"$f":"ThreePosition_Basic2($E$3,$E$6,$B$3:$C$3,$B$6:$C$6,B444,N444)","v":{"$error":"#VALUE!"}},{"$error":"#VALUE!"},{"$error":"#VALUE!"},{"$error":"#VALUE!"},{"$f":"ThreePosition_Basic2($E$3,$E$6,$B$3:$C$3,$B$6:$C$6,B444,O444)","v":{"$error":"#VALUE!"}},{"$error":"#VALUE!"},{"$error":"#VALUE!"},{"$error":"#VALUE!"}]
[215,3.7524578917878082,{"$f":"Burmester($B$3:$C$3,$B$4:$C$4,$B$5:$C$5,$E$3,$E$4,$E$5,B445)","v":0.30133583822699112},3.0279443366828116,{"$f":"ThreePosition_Basic2($E$3,$E$5,$B$3:$C$3,$B$5:$C$5,B445,C445)","v":-1.7694491671503887},3.2603691526112017,-1.2034506899284687,3.3805144996443448,{"$f":"ThreePosition_Basic2($E$3,$E$5,$B$3:$C$3,$B$5:$C$5,B445,D445)","v":-2.2326372299733999},2.0635888197369883,-1.5690246288382399,2.1187373225964858,null,{"$f":"Burmester($B$3:$C$3,$B$4:$C$4,$B$6:$C$6,$E$3,$E$4,$E$6,B445)","v":{"$error":"#VALUE!"}},{"$error":"#VALUE!"},{"$f":"ThreePosition_Basic2($E$3,$E$6,$B$3:$C$3,$B$6:$C$6,B445,N445)","v":{"$error":"#VALUE!"}},{"$error":"#VALUE!"},{"$error":"#VALUE!"},{"$error":"#VALUE!"},{"$f":"ThreePosition_Basic2($E$3,$E$6,$B$3:$C$3,$B$6:$C$6,B445,O445)","v":{"$error":"#VALUE!"}},{"$error":"#VALUE!"},{"$error":"#VALUE!"},{"$error":"#VALUE!"}]
[215.5,3.7611845380477802,{"$f":"Burmester($B$3:$C$3,$B$4:$C$4,$B$5:$C$5,$E$3,$E$4,$E$5,B446)","v":0.31312446902851199},3.0306793475154077,{"$f":"ThreePosition_Basic2($E$3,$E$5,$B$3:$C$3,$B$5:$C$5,B446,C446)","v":-1.7762594386963337},3.2613814278987707,-1.2091841474044585,3.3786318308177368,{"$f":"ThreePosition_Basic2($E$3,$E$5,$B$3:$C$3,$B$5:$C$5,B446,D446)","v":-2.2375687250441914},2.0645577048008761,-1.5729870085335924,2.1164620239457976,null,{"$f":"Burmester($B$3:$C$3,$B$4:$C$4,$B$6:$C$6,$E$3,$E$4,$E$6,B446)","v":{"$error":"#VALUE!"}},{"$error":"#VALUE!"},{"$f":"ThreePosition_Basic2($E$3,$E$6,$B$3:$C$3,$B$6:$C$6,B446,N446)","v":{"$error":"#VALUE!"}},{"$error":"#VALUE!"},{"$error":"#VALUE!"},{"$error":"#VALUE!"},{"$f":"ThreePosition_Basic2($E$3,$E$6,$B$3:$C$3,$B$6:$C$6,B446,O446)","v":{"$error":"#VALUE!"}},{"$error":"#VALUE!"},{"$error":"#VALUE!"},{"$error":"#VALUE!"}]
[216,3.7699111843077517,{"$f":"Burmester($B$3:$C$3,$B$4:$C$4,$B$5:$C$5,$E$3,$E$4,$E$5,B447)","v":0.32485674305480811},3.0334598836624451,{"$f":"ThreePosition_Basic2($E$3,$E$5,$B$3:$C$3,$B$5:$C$5,B447,C447)","v":-1.7830473531753284},3.2623864527189874,-1.2148962606236624,3.3767376517599215,{"$f":"ThreePosition_Basic2($E$3,$E$5,$B$3:$C$3,$B$5:$C$5,B447,D447)","v":-2.2424915105800944},2.0655028609808324,-1.5769393449394014,2.1141558359473209,null,{"$f":"Burmester($B$3:$C$3,$B$4:$C$4,$B$6:$C$6,$E$3,$E$4,$E$6,B447)","v":{"$error":"#VALUE!"}},{"$error":"#VALUE!"},{"$f":"ThreePosition_Basic2($E$3,$E$6,$B$3:$C$3,$B$6:$C$6,B447,N447)","v":{"$error":"#VALUE!"}},{"$error":"#VALUE!"},{"$error":"#VALUE!"},{"$error":"#VALUE!"},{"$f":"ThreePosition_Basic2($E$3,$E$6,$B$3:$C$3,$B$6:$C$6,B447,O447)","v":{"$error":"#VALUE!"}},{"$error":"#VALUE!"},{"$error":"#VALUE!"},{"$error":"#VALUE!"}]
[216.5,3.7786378305677237,{"$f":"Burmester($B$3:$C$3,$B$4:$C$4,$B$5:$C$5,$E$3,$E$4,$E$5,B448)","v":0.33653262796527228},3.0362861309109292,{"$f":"ThreePosition_Basic2($E$3,$E$5,$B$3:$C$3,$B$5:$C$5,B448,C448)","v":-1.7898130605293439},3.2633848434929558,-1.2205871680299893,3.3748324576788029,{"$f":"ThreePosition_Basic2($E$3,$E$5,$B$3:$C$3,$B$5:$C$5,B448,D448)","v":-2.247405879993932},2.0664240264010734,-1.5808818606729838,2.1118182965613497,null,{"$f":"Burmester($B$3:$C$3,$B$4:$C$4,$B$6:$C$6,$E$3,$E$4,$E$6,B448)","v":{"$error":"#VALUE!"}},{"$error":"#VALUE!"},{"$f":"ThreePosition_Basic2($E$3,$E$6,$B$3:$C$3,$B$6:$C$6,B448,N448)","v":{"$error":"#VALUE!"}},{"$error":"#VALUE!"},{"$error":"#VALUE!"},{"$error":"#VALUE!"},{"$f":"ThreePosition_Basic2($E$3,$E$6,$B$3:$C$3,$B$6:$C$6,B448,O448)","v":{"$error":"#VALUE!"}},{"$error":"#VALUE!"},{"$error":"#VALUE!"},{"$error":"#VALUE!"}]
[217,3.7873644768276948,{"$f":"Burmester($B$3:$C$3,$B$4:$C$4,$B$5:$C$5,$E$3,$E$4,$E$5,B449)","v":0.34815208722400998},3.0391582785780074,{"$f":"ThreePosition_Basic2($E$3,$E$5,$B$3:$C$3,$B$5:$C$5,B449,C449)","v":-1.7965567112140406},3.264377212634876,-1.2262570083371904,3.3729167394960733,{"$f":"ThreePosition_Basic2($E$3,$E$5,$B$3:$C$3,$B$5:$C$5,B449,D449)","v":-2.252312123033033},2.0673209370527448,-1.5848147746369268,2.1094489398733467,null,{"$f":"Burmester($B$3:$C$3,$B$4:$C$4,$B$6:$C$6,$E$3,$E$4,$E$6,B449)","v":{"$error":"#VALUE!"}},{"$error":"#VALUE!"},{"$f":"ThreePosition_Basic2($E$3,$E$6,$B$3:$C$3,$B$6:$C$6,B449,N449)","v":{"$error":"#VALUE!"}},{"$error":"#VALUE!"},{"$error":"#VALUE!"},{"$error":"#VALUE!"},{"$f":"ThreePosition_Basic2($E$3,$E$6,$B$3:$C$3,$B$6:$C$6,B449,O449)","v":{"$error":"#VALUE!"}},{"$error":"#VALUE!"},{"$error":"#VALUE!"},{"$error":"#VALUE!"}]
[217.5,3.7960911230876668,{"$f":"Burmester($B$3:$C$3,$B$4:$C$4,$B$5:$C$5,$E$3,$E$4,$E$5,B450)","v":0.35971508024025478},3.0420765193788863,{"$f":"ThreePosition_Basic2($E$3,$E$5,$B$3:$C$3,$B$5:$C$5,B450,C450)","v":-1.8032784561776789},3.2653641686974257,-1.2319059205112604,3.3709909839704193,{"$f":"ThreePosition_Basic2($E$3,$E$5,$B$3:$C$3,$B$5:$C$5,B450,D450)","v":-2.2572105258456778},2.0681933267648698,-1.5887383020699308,2.10704729601551,null,{"$f":"Burmester($B$3:$C$3,$B$4:$C$4,$B$6:$C$6,$E$3,$E$4,$E$6,B450)","v":{"$error":"#VALUE!"}},{"$error":"#VALUE!"},{"$f":"ThreePosition_Basic2($E$3,$E$6,$B$3:$C$3,$B$6:$C$6,B450,N450)","v":{"$error":"#VALUE!"}},{"$error":"#VALUE!"},{"$error":"#VALUE!"},{"$error":"#VALUE!"},{"$f":"ThreePosition_Basic2($E$3,$E$6,$B$3:$C$3,$B$6:$C$6,B450,O450)","v":{"$error":"#VALUE!"}},{"$error":"#VALUE!"},{"$error":"#VALUE!"},{"$error":"#VALUE!"}]
[218,3.8048177693476379,{"$f":"Burmester($B$3:$C$3,$B$4:$C$4,$B$5:$C$5,$E$3,$E$4,$E$5,B451)","v":0.37122156250896216},3.0450410492945776,{"$f":"ThreePosition_Basic2($E$3,$E$5,$B$3:$C$3,$B$5:$C$5,B451,C451)","v":-1.8099784468423992},3.2663463165127067,-1.2375340437547915,3.3690556738160646,{"$f":"ThreePosition_Basic2($E$3,$E$5,$B$3:$C$3,$B$5:$C$5,B451,D451)","v":-2.2621013710449773},2.0690409271773151,-1.5926526545952844,2.1046128910897601,null,{"$f":"Burmester($B$3:$C$3,$B$4:$C$4,$B$6:$C$6,$E$3,$E$4,$E$6,B451)","v":{"$error":"#VALUE!"}},{"$error":"#VALUE!"},{"$f":"ThreePosition_Basic2($E$3,$E$6,$B$3:$C$3,$B$6:$C$6,B451,N451)","v":{"$error":"#VALUE!"}},{"$error":"#VALUE!"},{"$error":"#VALUE!"},{"$error":"#VALUE!"},{"$f":"ThreePosition_Basic2($E$3,$E$6,$B$3:$C$3,$B$6:$C$6,B451,O451)","v":{"$error":"#VALUE!"}},{"$error":"#VALUE!"},{"$error":"#VALUE!"},{"$error":"#VALUE!"}]
[218.5,3.8135444156076099,{"$f":"Burmester($B$3:$C$3,$B$4:$C$4,$B$5:$C$5,$E$3,$E$4,$E$5,B452)","v":0.38267148575167326},3.0480520674394191,{"$f":"ThreePosition_Basic2($E$3,$E$5,$B$3:$C$3,$B$5:$C$5,B452,C452)","v":-1.8166568350878083},3.2673242573288679,-1.2431415174932221,3.3671112878167517,{"$f":"ThreePosition_Basic2($E$3,$E$5,$B$3:$C$3,$B$5:$C$5,B452,D452)","v":-2.2669849377702627},2.069863467715749,-1.5965580402670452,2.1021452470920856,null,{"$f":"Burmester($B$3:$C$3,$B$4:$C$4,$B$6:$C$6,$E$3,$E$4,$E$6,B452)","v":{"$error":"#VALUE!"}},{"$error":"#VALUE!"},{"$f":"ThreePosition_Basic2($E$3,$E$6,$B$3:$C$3,$B$6:$C$6,B452,N452)","v":{"$error":"#VALUE!"}},{"$error":"#VALUE!"},{"$error":"#VALUE!"},{"$error":"#VALUE!"},{"$f":"ThreePosition_Basic2($E$3,$E$6,$B$3:$C$3,$B$6:$C$6,B452,O452)","v":{"$error":"#VALUE!"}},{"$error":"#VALUE!"},{"$error":"#VALUE!"},{"$error":"#VALUE!"}]
[219,3.8222710618675819,{"$f":"Burmester($B$3:$C$3,$B$4:$C$4,$B$5:$C$5,$E$3,$E$4,$E$5,B453)","v":0.39406479805767791},3.0511097759282957,{"$f":"ThreePosition_Basic2($E$3,$E$5,$B$3:$C$3,$B$5:$C$5,B453,C453)","v":-1.8233137732367821},3.2682985889424767,-1.2487284813628996,3.3651583009352235,{"$f":"ThreePosition_Basic2($E$3,$E$5,$B$3:$C$3,$B$5:$C$5,B453,D453)","v":-2.2718615017460602},2.0706606755685621,-1.6004546636139803,2.0996438818382104,null,{"$f":"Burmester($B$3:$C$3,$B$4:$C$4,$B$6:$C$6,$E$3,$E$4,$E$6,B453)","v":{"$error":"#VALUE!"}},{"$error":"#VALUE!"},{"$f":"ThreePosition_Basic2($E$3,$E$6,$B$3:$C$3,$B$6:$C$6,B453,N453)","v":{"$error":"#VALUE!"}},{"$error":"#VALUE!"},{"$error":"#VALUE!"},{"$error":"#VALUE!"},{"$f":"ThreePosition_Basic2($E$3,$E$6,$B$3:$C$3,$B$6:$C$6,B453,O453)","v":{"$error":"#VALUE!"}},{"$error":"#VALUE!"},{"$error":"#VALUE!"},{"$error":"#VALUE!"}]
[219.5,3.830997708127553,{"$f":"Burmester($B$3:$C$3,$B$4:$C$4,$B$5:$C$5,$E$3,$E$4,$E$5,B454)","v":0.4054014440255625},3.0542143797435024,{"$f":"ThreePosition_Basic2($E$3,$E$5,$B$3:$C$3,$B$5:$C$5,B454,C454)","v":-1.8299494140434185},3.2692699058267447,-1.254295075200901,3.3631971844182948,{"$f":"ThreePosition_Basic2($E$3,$E$5,$B$3:$C$3,$B$5:$C$5,B454,D454)","v":-2.2767313353387304},2.0714322756657166,-1.6043427256813434,2.0971083088905105,null,{"$f":"Burmester($B$3:$C$3,$B$4:$C$4,$B$6:$C$6,$E$3,$E$4,$E$6,B454)","v":{"$error":"#VALUE!"}},{"$error":"#VALUE!"},{"$f":"ThreePosition_Basic2($E$3,$E$6,$B$3:$C$3,$B$6:$C$6,B454,N454)","v":{"$error":"#VALUE!"}},{"$error":"#VALUE!"},{"$error":"#VALUE!"},{"$error":"#VALUE!"},{"$f":"ThreePosition_Basic2($E$3,$E$6,$B$3:$C$3,$B$6:$C$6,B454,O454)","v":{"$error":"#VALUE!"}},{"$error":"#VALUE!"},{"$error":"#VALUE!"},{"$error":"#VALUE!"}]
[220,3.839724354387525,{"$f":"Burmester($B$3:$C$3,$B$4:$C$4,$B$5:$C$5,$E$3,$E$4,$E$5,B455)","v":0.41668136490517288},3.0573660866012231,{"$f":"ThreePosition_Basic2($E$3,$E$5,$B$3:$C$3,$B$5:$C$5,B455,C455)","v":-1.8365639106830698},3.2702387992556883,-1.2598414390365469,3.3612284058975832,{"$f":"ThreePosition_Basic2($E$3,$E$5,$B$3:$C$3,$B$5:$C$5,B455,D455)","v":-2.2815947076108216},2.0721779906595064,-1.6082224240705174,2.094538037486144,null,{"$f":"Burmester($B$3:$C$3,$B$4:$C$4,$B$6:$C$6,$E$3,$E$4,$E$6,B455)","v":{"$error":"#VALUE!"}},{"$error":"#VALUE!"},{"$f":"ThreePosition_Basic2($E$3,$E$6,$B$3:$C$3,$B$6:$C$6,B455,N455)","v":{"$error":"#VALUE!"}},{"$error":"#VALUE!"},{"$error":"#VALUE!"},{"$error":"#VALUE!"},{"$f":"ThreePosition_Basic2($E$3,$E$6,$B$3:$C$3,$B$6:$C$6,B455,O455)","v":{"$error":"#VALUE!"}},{"$error":"#VALUE!"},{"$error":"#VALUE!"},{"$error":"#VALUE!"}]
[220.5,3.8484510006474966,{"$f":"Burmester($B$3:$C$3,$B$4:$C$4,$B$5:$C$5,$E$3,$E$4,$E$5,B456)","v":0.42790449874001224},3.0605651068175663,{"$f":"ThreePosition_Basic2($E$3,$E$5,$B$3:$C$3,$B$5:$C$5,B456,C456)","v":-1.8431574167443641},3.2712058574243073,-1.2653677130845247,3.3592524294859758,{"$f":"ThreePosition_Basic2($E$3,$E$5,$B$3:$C$3,$B$5:$C$5,B456,D456)","v":-2.2864518843732031},2.0728975409071628,-1.6120939529765848,2.0919325724663125,null,{"$f":"Burmester($B$3:$C$3,$B$4:$C$4,$B$6:$C$6,$E$3,$E$4,$E$6,B456)","v":{"$error":"#VALUE!"}},{"$error":"#VALUE!"},{"$f":"ThreePosition_Basic2($E$3,$E$6,$B$3:$C$3,$B$6:$C$6,B456,N456)","v":{"$error":"#VALUE!"}},{"$error":"#VALUE!"},{"$error":"#VALUE!"},{"$error":"#VALUE!"},{"$f":"ThreePosition_Basic2($E$3,$E$6,$B$3:$C$3,$B$6:$C$6,B456,O456)","v":{"$error":"#VALUE!"}},{"$error":"#VALUE!"},{"$error":"#VALUE!"},{"$error":"#VALUE!"}]
[221,3.8571776469074686,{"$f":"Burmester($B$3:$C$3,$B$4:$C$4,$B$5:$C$5,$E$3,$E$4,$E$5,B457)","v":0.43907078051015974},3.0638116531741142,{"$f":"ThreePosition_Basic2($E$3,$E$5,$B$3:$C$3,$B$5:$C$5,B457,C457)","v":-1.8497300862231878},3.2721716655648718,-1.2708740377395999,3.3572697158698976,{"$f":"ThreePosition_Basic2($E$3,$E$5,$B$3:$C$3,$B$5:$C$5,B457,D457)","v":-2.2913031282350653},2.073590644455316,-1.6159575032238975,2.0892914142066226,null,{"$f":"Burmester($B$3:$C$3,$B$4:$C$4,$B$6:$C$6,$E$3,$E$4,$E$6,B457)","v":{"$error":"#VALUE!"}},{"$error":"#VALUE!"},{"$f":"ThreePosition_Basic2($E$3,$E$6,$B$3:$C$3,$B$6:$C$6,B457,N457)","v":{"$error":"#VALUE!"}},{"$error":"#VALUE!"},{"$error":"#VALUE!"},{"$error":"#VALUE!"},{"$f":"ThreePosition_Basic2($E$3,$E$6,$B$3:$C$3,$B$6:$C$6,B457,O457)","v":{"$error":"#VALUE!"}},{"$error":"#VALUE!"},{"$error":"#VALUE!"},{"$error":"#VALUE!"}]
[221.5,3.8659042931674397,{"$f":"Burmester($B$3:$C$3,$B$4:$C$4,$B$5:$C$5,$E$3,$E$4,$E$5,B458)","v":0.45018014227570052},3.0671059407829646,{"$f":"ThreePosition_Basic2($E$3,$E$5,$B$3:$C$3,$B$5:$C$5,B458,C458)","v":-1.8562820735185264},3.2731368060593984,-1.2763605535728249,3.3552807223974597,{"$f":"ThreePosition_Basic2($E$3,$E$5,$B$3:$C$3,$B$5:$C$5,B458,D458)","v":-2.2961486986518254},2.0742570170262677,-1.6198132622996746,2.0866140585484909,null,{"$f":"Burmester($B$3:$C$3,$B$4:$C$4,$B$6:$C$6,$E$3,$E$4,$E$6,B458)","v":{"$error":"#VALUE!"}},{"$error":"#VALUE!"},{"$f":"ThreePosition_Basic2($E$3,$E$6,$B$3:$C$3,$B$6:$C$6,B458,N458)","v":{"$error":"#VALUE!"}},{"$error":"#VALUE!"},{"$error":"#VALUE!"},{"$error":"#VALUE!"},{"$f":"ThreePosition_Basic2($E$3,$E$6,$B$3:$C$3,$B$6:$C$6,B458,O458)","v":{"$error":"#VALUE!"}},{"$error":"#VALUE!"},{"$error":"#VALUE!"},{"$error":"#VALUE!"}]
[222,3.8746309394274117,{"$f":"Burmester($B$3:$C$3,$B$4:$C$4,$B$5:$C$5,$E$3,$E$4,$E$5,B459)","v":0.46123251332070253},3.0704481869512463,{"$f":"ThreePosition_Basic2($E$3,$E$5,$B$3:$C$3,$B$5:$C$5,B459,C459)","v":-1.8628135334301121},3.2741018585483945,-1.2818274013291899,3.3532859031625475,{"$f":"ThreePosition_Basic2($E$3,$E$5,$B$3:$C$3,$B$5:$C$5,B459,D459)","v":-2.3009888519710024},2.0748963720060236,-1.6236614143856798,2.0838999967315059,null,{"$f":"Burmester($B$3:$C$3,$B$4:$C$4,$B$6:$C$6,$E$3,$E$4,$E$6,B459)","v":{"$error":"#VALUE!"}},{"$error":"#VALUE!"},{"$f":"ThreePosition_Basic2($E$3,$E$6,$B$3:$C$3,$B$6:$C$6,B459,N459)","v":{"$error":"#VALUE!"}},{"$error":"#VALUE!"},{"$error":"#VALUE!"},{"$error":"#VALUE!"},{"$f":"ThreePosition_Basic2($E$3,$E$6,$B$3:$C$3,$B$6:$C$6,B459,O459)","v":{"$error":"#VALUE!"}},{"$error":"#VALUE!"},{"$error":"#VALUE!"},{"$error":"#VALUE!"}]
[222.5,3.8833575856873828,{"$f":"Burmester($B$3:$C$3,$B$4:$C$4,$B$5:$C$5,$E$3,$E$4,$E$5,B460)","v":0.47222782029776167},3.0738386110450628,{"$f":"ThreePosition_Basic2($E$3,$E$5,$B$3:$C$3,$B$5:$C$5,B460,C460)","v":-1.869324621157832},3.2750674000359554,-1.2872747219266882,3.351285709084924,{"$f":"ThreePosition_Basic2($E$3,$E$5,$B$3:$C$3,$B$5:$C$5,B460,D460)","v":-2.3058238414761343},2.0755084204340872,-1.627502140388043,2.0811487153267336,null,{"$f":"Burmester($B$3:$C$3,$B$4:$C$4,$B$6:$C$6,$E$3,$E$4,$E$6,B460)","v":{"$error":"#VALUE!"}},{"$error":"#VALUE!"},{"$f":"ThreePosition_Basic2($E$3,$E$6,$B$3:$C$3,$B$6:$C$6,B460,N460)","v":{"$error":"#VALUE!"}},{"$error":"#VALUE!"},{"$error":"#VALUE!"},{"$error":"#VALUE!"},{"$f":"ThreePosition_Basic2($E$3,$E$6,$B$3:$C$3,$B$6:$C$6,B460,O460)","v":{"$error":"#VALUE!"}},{"$error":"#VALUE!"},{"$error":"#VALUE!"},{"$error":"#VALUE!"}]
[223,3.8920842319473548,{"$f":"Burmester($B$3:$C$3,$B$4:$C$4,$B$5:$C$5,$E$3,$E$4,$E$5,B461)","v":0.48316598737314093},3.0772774343528724,{"$f":"ThreePosition_Basic2($E$3,$E$5,$B$3:$C$3,$B$5:$C$5,B461,C461)","v":-1.8758154923028212},3.2760340049912977,-1.2927026564567152,3.3492805879864131,{"$f":"ThreePosition_Basic2($E$3,$E$5,$B$3:$C$3,$B$5:$C$5,B461,D461)","v":-2.3106539174287812},2.0760928709949629,-1.6313356179652541,2.0783596961708626,null,{"$f":"Burmester($B$3:$C$3,$B$4:$C$4,$B$6:$C$6,$E$3,$E$4,$E$6,B461)","v":{"$error":"#VALUE!"}},{"$error":"#VALUE!"},{"$f":"ThreePosition_Basic2($E$3,$E$6,$B$3:$C$3,$B$6:$C$6,B461,N461)","v":{"$error":"#VALUE!"}},{"$error":"#VALUE!"},{"$error":"#VALUE!"},{"$error":"#VALUE!"},{"$f":"ThreePosition_Basic2($E$3,$E$6,$B$3:$C$3,$B$6:$C$6,B461,O461)","v":{"$error":"#VALUE!"}},{"$error":"#VALUE!"},{"$error":"#VALUE!"},{"$error":"#VALUE!"}]
[223.5,3.9008108782073263,{"$f":"Burmester($B$3:$C$3,$B$4:$C$4,$B$5:$C$5,$E$3,$E$4,$E$5,B462)","v":0.49404693637247965},3.0807648799482861,{"$f":"ThreePosition_Basic2($E$3,$E$5,$B$3:$C$3,$B$5:$C$5,B462,C462)","v":-1.8822863028701797},3.2770022454468064,-1.298111346185753,3.3472709846632323,{"$f":"ThreePosition_Basic2($E$3,$E$5,$B$3:$C$3,$B$5:$C$5,B462,D462)","v":-2.3154793271086689},2.0766494300113441,-1.6351620215543767,2.0755324163011708,null,{"$f":"Burmester($B$3:$C$3,$B$4:$C$4,$B$6:$C$6,$E$3,$E$4,$E$6,B462)","v":{"$error":"#VALUE!"}},{"$error":"#VALUE!"},{"$f":"ThreePosition_Basic2($E$3,$E$6,$B$3:$C$3,$B$6:$C$6,B462,N462)","v":{"$error":"#VALUE!"}},{"$error":"#VALUE!"},{"$error":"#VALUE!"},{"$error":"#VALUE!"},{"$f":"ThreePosition_Basic2($E$3,$E$6,$B$3:$C$3,$B$6:$C$6,B462,O462)","v":{"$error":"#VALUE!"}},{"$error":"#VALUE!"},{"$error":"#VALUE!"},{"$error":"#VALUE!"}]
[224,3.9095375244672983,{"$f":"Burmester($B$3:$C$3,$B$4:$C$4,$B$5:$C$5,$E$3,$E$4,$E$5,B463)","v":0.50487058692711395},3.0843011725522795,{"$f":"ThreePosition_Basic2($E$3,$E$5,$B$3:$C$3,$B$5:$C$5,B463,C463)","v":-1.888737209273271},3.2779726910926663,-1.303500932558302,3.3452573409545252,{"$f":"ThreePosition_Basic2($E$3,$E$5,$B$3:$C$3,$B$5:$C$5,B463,D463)","v":-2.3203003148520454},2.0771778014389488,-1.6389815223955422,2.0726663478912091,null,{"$f":"Burmester($B$3:$C$3,$B$4:$C$4,$B$6:$C$6,$E$3,$E$4,$E$6,B463)","v":{"$error":"#VALUE!"}},{"$error":"#VALUE!"},{"$f":"ThreePosition_Basic2($E$3,$E$6,$B$3:$C$3,$B$6:$C$6,B463,N463)","v":{"$error":"#VALUE!"}},{"$error":"#VALUE!"},{"$error":"#VALUE!"},{"$error":"#VALUE!"},{"$f":"ThreePosition_Basic2($E$3,$E$6,$B$3:$C$3,$B$6:$C$6,B463,O463)","v":{"$error":"#VALUE!"}},{"$error":"#VALUE!"},{"$error":"#VALUE!"},{"$error":"#VALUE!"}]
[224.5,{"$f":"A464*PI()/180","v":3.9182641707272698},{"$f":"Burmester($B$3:$C$3,$B$4:$C$4,$B$5:$C$5,$E$3,$E$4,$E$5,B464)","v":0.51563685662097658},3.0878865383948191,{"$f":"ThreePosition_Basic2($E$3,$E$5,$B$3:$C$3,$B$5:$C$5,B464,C464)","v":-1.8951683683395439},3.2789459093681841,-1.3088715572010043,3.3432400958071926,{"$f":"ThreePosition_Basic2($E$3,$E$5,$B$3:$C$3,$B$5:$C$5,B464,D464)","v":-2.3251171220882867},2.0776776868629754,-1.642794288554744,2.0697609581871785,null,{"$f":"Burmester($B$3:$C$3,$B$4:$C$4,$B$6:$C$6,$E$3,$E$4,$E$6,B464)","v":{"$error":"#VALUE!"}},{"$error":"#VALUE!"},{"$f":"ThreePosition_Basic2($E$3,$E$6,$B$3:$C$3,$B$6:$C$6,B464,N464)","v":{"$error":"#VALUE!"}},{"$error":"#VALUE!"},{"$error":"#VALUE!"},{"$error":"#VALUE!"},{"$f":"ThreePosition_Basic2($E$3,$E$6,$B$3:$C$3,$B$6:$C$6,B464,O464)","v":{"$error":"#VALUE!"}},{"$error":"#VALUE!"},{"$error":"#VALUE!"},{"$error":"#VALUE!"}]
[225,3.9269908169872414,{"$f":"Burmester($B$3:$C$3,$B$4:$C$4,$B$5:$C$5,$E$3,$E$4,$E$5,B465)","v":0.52634566113808301},3.0915212050759178,{"$f":"ThreePosition_Basic2($E$3,$E$5,$B$3:$C$3,$B$5:$C$5,B465,C465)","v":-1.9015799373178113},3.2799224655498413,-1.3142233619279033,3.3412196853370428,{"$f":"ThreePosition_Basic2($E$3,$E$5,$B$3:$C$3,$B$5:$C$5,B465,D465)","v":-2.3299299873748138},2.0781487854961362,-1.64660048494499,2.0668157094449016,null,{"$f":"Burmester($B$3:$C$3,$B$4:$C$4,$B$6:$C$6,$E$3,$E$4,$E$6,B465)","v":{"$error":"#VALUE!"}},{"$error":"#VALUE!"},{"$f":"ThreePosition_Basic2($E$3,$E$6,$B$3:$C$3,$B$6:$C$6,B465,N465)","v":{"$error":"#VALUE!"}},{"$error":"#VALUE!"},{"$error":"#VALUE!"},{"$error":"#VALUE!"},{"$f":"ThreePosition_Basic2($E$3,$E$6,$B$3:$C$3,$B$6:$C$6,B465,O465)","v":{"$error":"#VALUE!"}},{"$error":"#VALUE!"},{"$error":"#VALUE!"},{"$error":"#VALUE!"}]
[225.5,3.9357174632472134,{"$f":"Burmester($B$3:$C$3,$B$4:$C$4,$B$5:$C$5,$E$3,$E$4,$E$5,B466)","v":0.5369969144105835},3.0952054014261243,{"$f":"ThreePosition_Basic2($E$3,$E$5,$B$3:$C$3,$B$5:$C$5,B466,C466)","v":-1.907972073886949},3.2809029228362068,-1.3195564887468014,3.339196542886377,{"$f":"ThreePosition_Basic2($E$3,$E$5,$B$3:$C$3,$B$5:$C$5,B466,D466)","v":-2.334739146430366},2.0785907941782424,-1.650400273345844,2.0638300588673437,null,{"$f":"Burmester($B$3:$C$3,$B$4:$C$4,$B$6:$C$6,$E$3,$E$4,$E$6,B466)","v":{"$error":"#VALUE!"}},{"$error":"#VALUE!"},{"$f":"ThreePosition_Basic2($E$3,$E$6,$B$3:$C$3,$B$6:$C$6,B466,N466)","v":{"$error":"#VALUE!"}},{"$error":"#VALUE!"},{"$error":"#VALUE!"},{"$error":"#VALUE!"},{"$f":"ThreePosition_Basic2($E$3,$E$6,$B$3:$C$3,$B$6:$C$6,B466,O466)","v":{"$error":"#VALUE!"}},{"$error":"#VALUE!"},{"$error":"#VALUE!"},{"$error":"#VALUE!"}]
[226,3.9444441095071845,{"$f":"Burmester($B$3:$C$3,$B$4:$C$4,$B$5:$C$5,$E$3,$E$4,$E$5,B467)","v":0.54759052876736547},3.0989393573664641,{"$f":"ThreePosition_Basic2($E$3,$E$5,$B$3:$C$3,$B$5:$C$5,B467,C467)","v":-1.9143449361659568},3.2818878424297422,-1.3248710798666679,3.3371710990780312,{"$f":"ThreePosition_Basic2($E$3,$E$5,$B$3:$C$3,$B$5:$C$5,B467,D467)","v":-2.3395448321666898},2.0790034073772965,-1.6541938124214015,2.060803458542606,null,{"$f":"Burmester($B$3:$C$3,$B$4:$C$4,$B$6:$C$6,$E$3,$E$4,$E$6,B467)","v":{"$error":"#VALUE!"}},{"$error":"#VALUE!"},{"$f":"ThreePosition_Basic2($E$3,$E$6,$B$3:$C$3,$B$6:$C$6,B467,N467)","v":{"$error":"#VALUE!"}},{"$error":"#VALUE!"},{"$error":"#VALUE!"},{"$error":"#VALUE!"},{"$f":"ThreePosition_Basic2($E$3,$E$6,$B$3:$C$3,$B$6:$C$6,B467,O467)","v":{"$error":"#VALUE!"}},{"$error":"#VALUE!"},{"$error":"#VALUE!"},{"$error":"#VALUE!"}]
[226.5,3.9531707557671565,{"$f":"Burmester($B$3:$C$3,$B$4:$C$4,$B$5:$C$5,$E$3,$E$4,$E$5,B468)","v":0.55812641508318139},3.1027233037678705,{"$f":"ThreePosition_Basic2($E$3,$E$5,$B$3:$C$3,$B$5:$C$5,B468,C468)","v":-1.9206986827253369},3.2828777836156111,-1.3301672777060545,3.3351437818659635,{"$f":"ThreePosition_Basic2($E$3,$E$5,$B$3:$C$3,$B$5:$C$5,B468,D468)","v":-2.3443472747186935},2.0793863171920495,-1.6579812577367377,2.0577353553823081,null,{"$f":"Burmester($B$3:$C$3,$B$4:$C$4,$B$6:$C$6,$E$3,$E$4,$E$6,B468)","v":{"$error":"#VALUE!"}},{"$error":"#VALUE!"},{"$f":"ThreePosition_Basic2($E$3,$E$6,$B$3:$C$3,$B$6:$C$6,B468,N468)","v":{"$error":"#VALUE!"}},{"$error":"#VALUE!"},{"$error":"#VALUE!"},{"$error":"#VALUE!"},{"$f":"ThreePosition_Basic2($E$3,$E$6,$B$3:$C$3,$B$6:$C$6,B468,O468)","v":{"$error":"#VALUE!"}},{"$error":"#VALUE!"},{"$error":"#VALUE!"},{"$error":"#VALUE!"}]
[227,3.9618974020271276,{"$f":"Burmester($B$3:$C$3,$B$4:$C$4,$B$5:$C$5,$E$3,$E$4,$E$5,B469)","v":0.56860448292825949},3.1065574723101128,{"$f":"ThreePosition_Basic2($E$3,$E$5,$B$3:$C$3,$B$5:$C$5,B469,C469)","v":-1.9270334725997253},3.2838733038375691,-1.335445224902462,3.3331150165824583,{"$f":"ThreePosition_Basic2($E$3,$E$5,$B$3:$C$3,$B$5:$C$5,B469,D469)","v":-2.3491467014731029},2.0797392133560026,-1.6617627617728588,2.0546251910603104,null,{"$f":"Burmester($B$3:$C$3,$B$4:$C$4,$B$6:$C$6,$E$3,$E$4,$E$6,B469)","v":{"$error":"#VALUE!"}},{"$error":"#VALUE!"},{"$f":"ThreePosition_Basic2($E$3,$E$6,$B$3:$C$3,$B$6:$C$6,B469,N469)","v":{"$error":"#VALUE!"}},{"$error":"#VALUE!"},{"$error":"#VALUE!"},{"$error":"#VALUE!"},{"$f":"ThreePosition_Basic2($E$3,$E$6,$B$3:$C$3,$B$6:$C$6,B469,O469)","v":{"$error":"#VALUE!"}},{"$error":"#VALUE!"},{"$error":"#VALUE!"},{"$error":"#VALUE!"}]
[227.5,3.9706240482870996,{"$f":"Burmester($B$3:$C$3,$B$4:$C$4,$B$5:$C$5,$E$3,$E$4,$E$5,B470)","v":0.57902464071838511},3.1104420953402854,{"$f":"ThreePosition_Basic2($E$3,$E$5,$B$3:$C$3,$B$5:$C$5,B470,C470)","v":-1.9333494653017544},3.2848749587710078,-1.3407050643226335,3.331085225981997,{"$f":"ThreePosition_Basic2($E$3,$E$5,$B$3:$C$3,$B$5:$C$5,B470,D470)","v":-2.3539433370956884},2.0800617832427766,-1.6655384739402037,2.0514724019516613,null,{"$f":"Burmester($B$3:$C$3,$B$4:$C$4,$B$6:$C$6,$E$3,$E$4,$E$6,B470)","v":{"$error":"#VALUE!"}},{"$error":"#VALUE!"},{"$f":"ThreePosition_Basic2($E$3,$E$6,$B$3:$C$3,$B$6:$C$6,B470,N470)","v":{"$error":"#VALUE!"}},{"$error":"#VALUE!"},{"$error":"#VALUE!"},{"$error":"#VALUE!"},{"$f":"ThreePosition_Basic2($E$3,$E$6,$B$3:$C$3,$B$6:$C$6,B470,O470)","v":{"$error":"#VALUE!"}},{"$error":"#VALUE!"},{"$error":"#VALUE!"},{"$error":"#VALUE!"}]
[228,3.9793506945470711,{"$f":"Burmester($B$3:$C$3,$B$4:$C$4,$B$5:$C$5,$E$3,$E$4,$E$5,B471)","v":0.58938679586538989},3.1143774057308584,{"$f":"ThreePosition_Basic2($E$3,$E$5,$B$3:$C$3,$B$5:$C$5,B471,C471)","v":-1.9396468208370743},3.2858833023932474,-1.3459469390737202,3.329054830281879,{"$f":"ThreePosition_Basic2($E$3,$E$5,$B$3:$C$3,$B$5:$C$5,B471,D471)","v":-2.3587374035570914},2.0803537118728532,-1.6693085405907224,2.0482764190717364,null,{"$f":"Burmester($B$3:$C$3,$B$4:$C$4,$B$6:$C$6,$E$3,$E$4,$E$6,B471)","v":{"$error":"#VALUE!"}},{"$error":"#VALUE!"},{"$f":"ThreePosition_Basic2($E$3,$E$6,$B$3:$C$3,$B$6:$C$6,B471,N471)","v":{"$error":"#VALUE!"}},{"$error":"#VALUE!"},{"$error":"#VALUE!"},{"$error":"#VALUE!"},{"$f":"ThreePosition_Basic2($E$3,$E$6,$B$3:$C$3,$B$6:$C$6,B471,O471)","v":{"$error":"#VALUE!"}},{"$error":"#VALUE!"},{"$error":"#VALUE!"},{"$error":"#VALUE!"}]
[228.5,3.9880773408070431,{"$f":"Burmester($B$3:$C$3,$B$4:$C$4,$B$5:$C$5,$E$3,$E$4,$E$5,B472)","v":0.59969085492801277},3.1183636367373873,{"$f":"ThreePosition_Basic2($E$3,$E$5,$B$3:$C$3,$B$5:$C$5,B472,C472)","v":-1.945925699720507},3.2868988870511493,-1.3511709925152822,3.3270242471996458,{"$f":"ThreePosition_Basic2($E$3,$E$5,$B$3:$C$3,$B$5:$C$5,B472,D472)","v":-2.3635291201573154},2.0806146819215945,-1.6730731050285714,2.0450366680154399,null,{"$f":"Burmester($B$3:$C$3,$B$4:$C$4,$B$6:$C$6,$E$3,$E$4,$E$6,B472)","v":{"$error":"#VALUE!"}},{"$error":"#VALUE!"},{"$f":"ThreePosition_Basic2($E$3,$E$6,$B$3:$C$3,$B$6:$C$6,B472,N472)","v":{"$error":"#VALUE!"}},{"$error":"#VALUE!"},{"$error":"#VALUE!"},{"$error":"#VALUE!"},{"$f":"ThreePosition_Basic2($E$3,$E$6,$B$3:$C$3,$B$6:$C$6,B472,O472)","v":{"$error":"#VALUE!"}},{"$error":"#VALUE!"},{"$error":"#VALUE!"},{"$error":"#VALUE!"}]
[229,3.9968039870670142,{"$f":"Burmester($B$3:$C$3,$B$4:$C$4,$B$5:$C$5,$E$3,$E$4,$E$5,B473)","v":0.6099367237630734},3.122401021855882,{"$f":"ThreePosition_Basic2($E$3,$E$5,$B$3:$C$3,$B$5:$C$5,B473,C473)","v":-1.9521862629932627},3.2879222635261538,-1.3563773682720701,3.3249938919874014,{"$f":"ThreePosition_Basic2($E$3,$E$5,$B$3:$C$3,$B$5:$C$5,B473,D473)","v":-2.3683187035489057},2.0808443737285272,-1.6768323075194529,2.0417525688964107,null,{"$f":"Burmester($B$3:$C$3,$B$4:$C$4,$B$6:$C$6,$E$3,$E$4,$E$6,B473)","v":{"$error":"#VALUE!"}},{"$error":"#VALUE!"},{"$f":"ThreePosition_Basic2($E$3,$E$6,$B$3:$C$3,$B$6:$C$6,B473,N473)","v":{"$error":"#VALUE!"}},{"$error":"#VALUE!"},{"$error":"#VALUE!"},{"$error":"#VALUE!"},{"$f":"ThreePosition_Basic2($E$3,$E$6,$B$3:$C$3,$B$6:$C$6,B473,O473)","v":{"$error":"#VALUE!"}},{"$error":"#VALUE!"},{"$error":"#VALUE!"},{"$error":"#VALUE!"}]
[229.5,4.0055306333269858,{"$f":"Burmester($B$3:$C$3,$B$4:$C$4,$B$5:$C$5,$E$3,$E$4,$E$5,B474)","v":0.6201243076769174},3.1264897946799284,{"$f":"ThreePosition_Basic2($E$3,$E$5,$B$3:$C$3,$B$5:$C$5,B474,C474)","v":-1.9584286722412185},3.288953981096812,-1.3615662102475881,3.3229641774630783,{"$f":"ThreePosition_Basic2($E$3,$E$5,$B$3:$C$3,$B$5:$C$5,B474,D474)","v":-2.3731063677588966},2.0810424653078301,-1.6805862852986495,2.0384235362861349,null,{"$f":"Burmester($B$3:$C$3,$B$4:$C$4,$B$6:$C$6,$E$3,$E$4,$E$6,B474)","v":{"$error":"#VALUE!"}},{"$error":"#VALUE!"},{"$f":"ThreePosition_Basic2($E$3,$E$6,$B$3:$C$3,$B$6:$C$6,B474,N474)","v":{"$error":"#VALUE!"}},{"$error":"#VALUE!"},{"$error":"#VALUE!"},{"$error":"#VALUE!"},{"$f":"ThreePosition_Basic2($E$3,$E$6,$B$3:$C$3,$B$6:$C$6,B474,O474)","v":{"$error":"#VALUE!"}},{"$error":"#VALUE!"},{"$error":"#VALUE!"},{"$error":"#VALUE!"}]
[230,4.0142572795869578,{"$f":"Burmester($B$3:$C$3,$B$4:$C$4,$B$5:$C$5,$E$3,$E$4,$E$5,B475)","v":0.63025351157704268},3.1306301887576105,{"$f":"ThreePosition_Basic2($E$3,$E$5,$B$3:$C$3,$B$5:$C$5,B475,C475)","v":-1.9646530896141521},3.2899945875989034,-1.3667376626383339,3.320935514038724,{"$f":"ThreePosition_Basic2($E$3,$E$5,$B$3:$C$3,$B$5:$C$5,B475,D475)","v":-2.3778923242095344},2.0812086323599743,-1.6843351725777569,2.0350489791528728,null,{"$f":"Burmester($B$3:$C$3,$B$4:$C$4,$B$6:$C$6,$E$3,$E$4,$E$6,B475)","v":{"$error":"#VALUE!"}},{"$error":"#VALUE!"},{"$f":"ThreePosition_Basic2($E$3,$E$6,$B$3:$C$3,$B$6:$C$6,B475,N475)","v":{"$error":"#VALUE!"}},{"$error":"#VALUE!"},{"$error":"#VALUE!"},{"$error":"#VALUE!"},{"$f":"ThreePosition_Basic2($E$3,$E$6,$B$3:$C$3,$B$6:$C$6,B475,O475)","v":{"$error":"#VALUE!"}},{"$error":"#VALUE!"},{"$error":"#VALUE!"},{"$error":"#VALUE!"}]
[230.5,4.0229839258469298,{"$f":"Burmester($B$3:$C$3,$B$4:$C$4,$B$5:$C$5,$E$3,$E$4,$E$5,B476)","v":0.64032424012386724},3.1348224374482929,{"$f":"ThreePosition_Basic2($E$3,$E$5,$B$3:$C$3,$B$5:$C$5,B476,C476)","v":-1.9708596778459548},3.2910446294832441,-1.3718918699487475,3.3189083097459045,{"$f":"ThreePosition_Basic2($E$3,$E$5,$B$3:$C$3,$B$5:$C$5,B476,D476)","v":-2.3826767817378518},2.0813425482844616,-1.6880791005501756,2.0316283008002975,null,{"$f":"Burmester($B$3:$C$3,$B$4:$C$4,$B$6:$C$6,$E$3,$E$4,$E$6,B476)","v":{"$error":"#VALUE!"}},{"$error":"#VALUE!"},{"$f":"ThreePosition_Basic2($E$3,$E$6,$B$3:$C$3,$B$6:$C$6,B476,N476)","v":{"$error":"#VALUE!"}},{"$error":"#VALUE!"},{"$error":"#VALUE!"},{"$error":"#VALUE!"},{"$f":"ThreePosition_Basic2($E$3,$E$6,$B$3:$C$3,$B$6:$C$6,B476,O476)","v":{"$error":"#VALUE!"}},{"$error":"#VALUE!"},{"$error":"#VALUE!"},{"$error":"#VALUE!"}]
[231,4.0317105721069018,{"$f":"Burmester($B$3:$C$3,$B$4:$C$4,$B$5:$C$5,$E$3,$E$4,$E$5,B477)","v":0.65033639788254904},3.1390667737793567,{"$f":"ThreePosition_Basic2($E$3,$E$5,$B$3:$C$3,$B$5:$C$5,B477,C477)","v":-1.9770486002757295},3.2921046518712567,-1.3770289770067758,3.3168829702582645,{"$f":"ThreePosition_Basic2($E$3,$E$5,$B$3:$C$3,$B$5:$C$5,B477,D477)","v":-2.3874599466141286},2.0814438841936114,-1.691818197395381,2.0281608988057571,null,{"$f":"Burmester($B$3:$C$3,$B$4:$C$4,$B$6:$C$6,$E$3,$E$4,$E$6,B477)","v":{"$error":"#VALUE!"}},{"$error":"#VALUE!"},{"$f":"ThreePosition_Basic2($E$3,$E$6,$B$3:$C$3,$B$6:$C$6,B477,N477)","v":{"$error":"#VALUE!"}},{"$error":"#VALUE!"},{"$error":"#VALUE!"},{"$error":"#VALUE!"},{"$f":"ThreePosition_Basic2($E$3,$E$6,$B$3:$C$3,$B$6:$C$6,B477,O477)","v":{"$error":"#VALUE!"}},{"$error":"#VALUE!"},{"$error":"#VALUE!"},{"$error":"#VALUE!"}]
[231.5,4.0404372183668729,{"$f":"Burmester($B$3:$C$3,$B$4:$C$4,$B$5:$C$5,$E$3,$E$4,$E$5,B478)","v":0.66028988947478551},3.1433634303029421,{"$f":"ThreePosition_Basic2($E$3,$E$5,$B$3:$C$3,$B$5:$C$5,B478,C478)","v":-1.9832200208697586},3.2931751986084143,-1.3821491289800465,3.3148598989113549,{"$f":"ThreePosition_Basic2($E$3,$E$5,$B$3:$C$3,$B$5:$C$5,B478,D478)","v":-2.3922420225592607},2.0815123089273331,-1.6955525882819804,2.0246461649580443,null,{"$f":"Burmester($B$3:$C$3,$B$4:$C$4,$B$6:$C$6,$E$3,$E$4,$E$6,B478)","v":{"$error":"#VALUE!"}},{"$error":"#VALUE!"},{"$f":"ThreePosition_Basic2($E$3,$E$6,$B$3:$C$3,$B$6:$C$6,B478,N478)","v":{"$error":"#VALUE!"}},{"$error":"#VALUE!"},{"$error":"#VALUE!"},{"$error":"#VALUE!"},{"$f":"ThreePosition_Basic2($E$3,$E$6,$B$3:$C$3,$B$6:$C$6,B478,O478)","v":{"$error":"#VALUE!"}},{"$error":"#VALUE!"},{"$error":"#VALUE!"},{"$error":"#VALUE!"}]
[232,4.0491638646268449,{"$f":"Burmester($B$3:$C$3,$B$4:$C$4,$B$5:$C$5,$E$3,$E$4,$E$5,B479)","v":0.67018461973051435},3.1477126389527994,{"$f":"ThreePosition_Basic2($E$3,$E$5,$B$3:$C$3,$B$5:$C$5,B479,C479)","v":-1.9893741042442978},3.2942568123156275,-1.3872524713926042,3.3128394967197696,{"$f":"ThreePosition_Basic2($E$3,$E$5,$B$3:$C$3,$B$5:$C$5,B479,D479)","v":-2.3970232107611333},2.0815474890688197,-1.6992823953696408,2.0210834851945645,null,{"$f":"Burmester($B$3:$C$3,$B$4:$C$4,$B$6:$C$6,$E$3,$E$4,$E$6,B479)","v":{"$error":"#VALUE!"}},{"$error":"#VALUE!"},{"$f":"ThreePosition_Basic2($E$3,$E$6,$B$3:$C$3,$B$6:$C$6,B479,N479)","v":{"$error":"#VALUE!"}},{"$error":"#VALUE!"},{"$error":"#VALUE!"},{"$error":"#VALUE!"},{"$f":"ThreePosition_Basic2($E$3,$E$6,$B$3:$C$3,$B$6:$C$6,B479,O479)","v":{"$error":"#VALUE!"}},{"$error":"#VALUE!"},{"$error":"#VALUE!"},{"$error":"#VALUE!"}]
[232.5,4.057890510886816,{"$f":"Burmester($B$3:$C$3,$B$4:$C$4,$B$5:$C$5,$E$3,$E$4,$E$5,B480)","v":0.68002049383941321},3.1521146309013202,{"$f":"ThreePosition_Basic2($E$3,$E$5,$B$3:$C$3,$B$5:$C$5,B480,C480)","v":-1.99551101568914},3.2953500344387088,-1.3923391501421674,3.3108221623917173,{"$f":"ThreePosition_Basic2($E$3,$E$5,$B$3:$C$3,$B$5:$C$5,B480,D480)","v":-2.4018037098899807},2.0815490889611206,-1.70300773780985,2.0174722395378168,null,{"$f":"Burmester($B$3:$C$3,$B$4:$C$4,$B$6:$C$6,$E$3,$E$4,$E$6,B480)","v":{"$error":"#VALUE!"}},{"$error":"#VALUE!"},{"$f":"ThreePosition_Basic2($E$3,$E$6,$B$3:$C$3,$B$6:$C$6,B480,N480)","v":{"$error":"#VALUE!"}},{"$error":"#VALUE!"},{"$error":"#VALUE!"},{"$error":"#VALUE!"},{"$f":"ThreePosition_Basic2($E$3,$E$6,$B$3:$C$3,$B$6:$C$6,B480,O480)","v":{"$error":"#VALUE!"}},{"$error":"#VALUE!"},{"$error":"#VALUE!"},{"$error":"#VALUE!"}]
[233,4.066617157146788,{"$f":"Burmester($B$3:$C$3,$B$4:$C$4,$B$5:$C$5,$E$3,$E$4,$E$5,B481)","v":0.68979741750213064},3.156569636416855,{"$f":"ThreePosition_Basic2($E$3,$E$5,$B$3:$C$3,$B$5:$C$5,B481,C481)","v":-2.0016309211919392},3.2964554052959829,-1.3974093115178901,3.3088082923410642,{"$f":"ThreePosition_Basic2($E$3,$E$5,$B$3:$C$3,$B$5:$C$5,B481,D481)","v":-2.4065837161128218},2.0815167707244986,-1.7067287317455899,2.0138118020310265,null,{"$f":"Burmester($B$3:$C$3,$B$4:$C$4,$B$6:$C$6,$E$3,$E$4,$E$6,B481)","v":{"$error":"#VALUE!"}},{"$error":"#VALUE!"},{"$f":"ThreePosition_Basic2($E$3,$E$6,$B$3:$C$3,$B$6:$C$6,B481,N481)","v":{"$error":"#VALUE!"}},{"$error":"#VALUE!"},{"$error":"#VALUE!"},{"$error":"#VALUE!"},{"$f":"ThreePosition_Basic2($E$3,$E$6,$B$3:$C$3,$B$6:$C$6,B481,O481)","v":{"$error":"#VALUE!"}},{"$error":"#VALUE!"},{"$error":"#VALUE!"},{"$error":"#VALUE!"}]
[233.5,4.0753438034067591,{"$f":"Burmester($B$3:$C$3,$B$4:$C$4,$B$5:$C$5,$E$3,$E$4,$E$5,B482)","v":0.69951529708112337},3.1610778847213989,{"$f":"ThreePosition_Basic2($E$3,$E$5,$B$3:$C$3,$B$5:$C$5,B482,C482)","v":-2.0077339874632156},3.2975734641241456,-1.4024631022185621,3.306798280696956,{"$f":"ThreePosition_Basic2($E$3,$E$5,$B$3:$C$3,$B$5:$C$5,B482,D482)","v":-2.4113634231069883},2.0814501942745243,-1.7104454903099211,2.0101015406728453,null,{"$f":"Burmester($B$3:$C$3,$B$4:$C$4,$B$6:$C$6,$E$3,$E$4,$E$6,B482)","v":{"$error":"#VALUE!"}},{"$error":"#VALUE!"},{"$f":"ThreePosition_Basic2($E$3,$E$6,$B$3:$C$3,$B$6:$C$6,B482,N482)","v":{"$error":"#VALUE!"}},{"$error":"#VALUE!"},{"$error":"#VALUE!"},{"$error":"#VALUE!"},{"$f":"ThreePosition_Basic2($E$3,$E$6,$B$3:$C$3,$B$6:$C$6,B482,O482)","v":{"$error":"#VALUE!"}},{"$error":"#VALUE!"},{"$error":"#VALUE!"},{"$error":"#VALUE!"}]
[234,4.0840704496667311,{"$f":"Burmester($B$3:$C$3,$B$4:$C$4,$B$5:$C$5,$E$3,$E$4,$E$5,B483)","v":0.70917403975103199},3.1656396038487555,{"$f":"ThreePosition_Basic2($E$3,$E$5,$B$3:$C$3,$B$5:$C$5,B483,C483)","v":-2.0138203819620442},3.298704749122499,-1.4075006693712484,3.304792519311103,{"$f":"ThreePosition_Basic2($E$3,$E$5,$B$3:$C$3,$B$5:$C$5,B483,D483)","v":-2.4161430220728026},2.0813490173408402,-1.7141581236235197,2.0063408173509867,null,{"$f":"Burmester($B$3:$C$3,$B$4:$C$4,$B$6:$C$6,$E$3,$E$4,$E$6,B483)","v":{"$error":"#VALUE!"}},{"$error":"#VALUE!"},{"$f":"ThreePosition_Basic2($E$3,$E$6,$B$3:$C$3,$B$6:$C$6,B483,N483)","v":{"$error":"#VALUE!"}},{"$error":"#VALUE!"},{"$error":"#VALUE!"},{"$error":"#VALUE!"},{"$f":"ThreePosition_Basic2($E$3,$E$6,$B$3:$C$3,$B$6:$C$6,B483,O483)","v":{"$error":"#VALUE!"}},{"$error":"#VALUE!"},{"$error":"#VALUE!"},{"$error":"#VALUE!"}]
[234.5,4.0927970959267022,{"$f":"Burmester($B$3:$C$3,$B$4:$C$4,$B$5:$C$5,$E$3,$E$4,$E$5,B484)","v":0.71877355364845585},3.1702550205032742,{"$f":"ThreePosition_Basic2($E$3,$E$5,$B$3:$C$3,$B$5:$C$5,B484,C484)","v":-2.0198902729223542},3.2998497974956327,-1.4125221605503047,3.3027913977628027,{"$f":"ThreePosition_Basic2($E$3,$E$5,$B$3:$C$3,$B$5:$C$5,B484,D484)","v":-2.4209227017454333},2.0812128954865012,-1.7178667387911801,2.0025289877746517,null,{"$f":"Burmester($B$3:$C$3,$B$4:$C$4,$B$6:$C$6,$E$3,$E$4,$E$6,B484)","v":{"$error":"#VALUE!"}},{"$error":"#VALUE!"},{"$f":"ThreePosition_Basic2($E$3,$E$6,$B$3:$C$3,$B$6:$C$6,B484,N484)","v":{"$error":"#VALUE!"}},{"$error":"#VALUE!"},{"$error":"#VALUE!"},{"$error":"#VALUE!"},{"$f":"ThreePosition_Basic2($E$3,$E$6,$B$3:$C$3,$B$6:$C$6,B484,O484)","v":{"$error":"#VALUE!"}},{"$error":"#VALUE!"},{"$error":"#VALUE!"},{"$error":"#VALUE!"}]
[235,4.1015237421866741,{"$f":"Burmester($B$3:$C$3,$B$4:$C$4,$B$5:$C$5,$E$3,$E$4,$E$5,B485)","v":0.72831374802104942},3.1749243599192867,{"$f":"ThreePosition_Basic2($E$3,$E$5,$B$3:$C$3,$B$5:$C$5,B485,C485)","v":-2.0259438293798282},3.3010091454946955,-1.4175277237967525,3.3007953033618094,{"$f":"ThreePosition_Basic2($E$3,$E$5,$B$3:$C$3,$B$5:$C$5,B485,D485)","v":-2.4257026484059829},2.0810414821278505,-1.7215714398973176,1.9986654014056389,null,{"$f":"Burmester($B$3:$C$3,$B$4:$C$4,$B$6:$C$6,$E$3,$E$4,$E$6,B485)","v":{"$error":"#VALUE!"}},{"$error":"#VALUE!"},{"$f":"ThreePosition_Basic2($E$3,$E$6,$B$3:$C$3,$B$6:$C$6,B485,N485)","v":{"$error":"#VALUE!"}},{"$error":"#VALUE!"},{"$error":"#VALUE!"},{"$error":"#VALUE!"},{"$f":"ThreePosition_Basic2($E$3,$E$6,$B$3:$C$3,$B$6:$C$6,B485,O485)","v":{"$error":"#VALUE!"}},{"$error":"#VALUE!"},{"$error":"#VALUE!"},{"$error":"#VALUE!"}]
[235.5,4.1102503884466461,{"$f":"Burmester($B$3:$C$3,$B$4:$C$4,$B$5:$C$5,$E$3,$E$4,$E$5,B486)","v":0.73779453337580547},3.1796478457213273,{"$f":"ThreePosition_Basic2($E$3,$E$5,$B$3:$C$3,$B$5:$C$5,B486,C486)","v":-2.0319812211993455},3.302183328457331,-1.4225175076379797,3.2988046211491162,{"$f":"ThreePosition_Basic2($E$3,$E$5,$B$3:$C$3,$B$5:$C$5,B486,D486)","v":-2.4304830458918429},2.0808344285548128,-1.7252723280004956,1.9947494013879703,null,{"$f":"Burmester($B$3:$C$3,$B$4:$C$4,$B$6:$C$6,$E$3,$E$4,$E$6,B486)","v":{"$error":"#VALUE!"}},{"$error":"#VALUE!"},{"$f":"ThreePosition_Basic2($E$3,$E$6,$B$3:$C$3,$B$6:$C$6,B486,N486)","v":{"$error":"#VALUE!"}},{"$error":"#VALUE!"},{"$error":"#VALUE!"},{"$error":"#VALUE!"},{"$f":"ThreePosition_Basic2($E$3,$E$6,$B$3:$C$3,$B$6:$C$6,B486,O486)","v":{"$error":"#VALUE!"}},{"$error":"#VALUE!"},{"$error":"#VALUE!"},{"$error":"#VALUE!"}]
[236,4.1189770347066172,{"$f":"Burmester($B$3:$C$3,$B$4:$C$4,$B$5:$C$5,$E$3,$E$4,$E$5,B487)","v":0.74721582162641742},3.1844256997852844,{"$f":"ThreePosition_Basic2($E$3,$E$5,$B$3:$C$3,$B$5:$C$5,B487,C487)","v":-2.0380026191029357},3.30337288084641,-1.4274916611077149,3.2968197338957572,{"$f":"ThreePosition_Basic2($E$3,$E$5,$B$3:$C$3,$B$5:$C$5,B487,D487)","v":-2.4352640756063435},2.0805913839515595,-1.7289695011269781,1.9907803244759139,null,{"$f":"Burmester($B$3:$C$3,$B$4:$C$4,$B$6:$C$6,$E$3,$E$4,$E$6,B487)","v":{"$error":"#VALUE!"}},{"$error":"#VALUE!"},{"$f":"ThreePosition_Basic2($E$3,$E$6,$B$3:$C$3,$B$6:$C$6,B487,N487)","v":{"$error":"#VALUE!"}},{"$error":"#VALUE!"},{"$error":"#VALUE!"},{"$error":"#VALUE!"},{"$f":"ThreePosition_Basic2($E$3,$E$6,$B$3:$C$3,$B$6:$C$6,B487,O487)","v":{"$error":"#VALUE!"}},{"$error":"#VALUE!"},{"$error":"#VALUE!"},{"$error":"#VALUE!"}]
[236.5,4.1277036809665892,{"$f":"Burmester($B$3:$C$3,$B$4:$C$4,$B$5:$C$5,$E$3,$E$4,$E$5,B488)","v":0.75657752623961461},3.1892581421005732,{"$f":"ThreePosition_Basic2($E$3,$E$5,$B$3:$C$3,$B$5:$C$5,B488,C488)","v":-2.0440081946982271},3.3045783362876757,-1.4324503337662837,3.2948410220997273,{"$f":"ThreePosition_Basic2($E$3,$E$5,$B$3:$C$3,$B$5:$C$5,B488,D488)","v":-2.4400459165277706},2.0803119954174525,-1.732663054263373,1.9867575009602503,null,{"$f":"Burmester($B$3:$C$3,$B$4:$C$4,$B$6:$C$6,$E$3,$E$4,$E$6,B488)","v":{"$error":"#VALUE!"}},{"$error":"#VALUE!"},{"$f":"ThreePosition_Basic2($E$3,$E$6,$B$3:$C$3,$B$6:$C$6,B488,N488)","v":{"$error":"#VALUE!"}},{"$error":"#VALUE!"},{"$error":"#VALUE!"},{"$error":"#VALUE!"},{"$f":"ThreePosition_Basic2($E$3,$E$6,$B$3:$C$3,$B$6:$C$6,B488,O488)","v":{"$error":"#VALUE!"}},{"$error":"#VALUE!"},{"$error":"#VALUE!"},{"$error":"#VALUE!"}]
[237,4.1364303272265612,{"$f":"Burmester($B$3:$C$3,$B$4:$C$4,$B$5:$C$5,$E$3,$E$4,$E$5,B489)","v":0.76587956238031463},3.1941453906334742,{"$f":"ThreePosition_Basic2($E$3,$E$5,$B$3:$C$3,$B$5:$C$5,B489,C489)","v":-2.0499981205073214},3.3058002276063916,-1.4373936757210708,3.2928688639810995,{"$f":"ThreePosition_Basic2($E$3,$E$5,$B$3:$C$3,$B$5:$C$5,B489,D489)","v":-2.4448287452177513},2.0799959079881662,-1.7363530793483379,1.9826802545926179,null,{"$f":"Burmester($B$3:$C$3,$B$4:$C$4,$B$6:$C$6,$E$3,$E$4,$E$6,B489)","v":{"$error":"#VALUE!"}},{"$error":"#VALUE!"},{"$f":"ThreePosition_Basic2($E$3,$E$6,$B$3:$C$3,$B$6:$C$6,B489,N489)","v":{"$error":"#VALUE!"}},{"$error":"#VALUE!"},{"$error":"#VALUE!"},{"$error":"#VALUE!"},{"$f":"ThreePosition_Basic2($E$3,$E$6,$B$3:$C$3,$B$6:$C$6,B489,O489)","v":{"$error":"#VALUE!"}},{"$error":"#VALUE!"},{"$error":"#VALUE!"},{"$error":"#VALUE!"}]
[237.5,4.1451569734865323,{"$f":"Burmester($B$3:$C$3,$B$4:$C$4,$B$5:$C$5,$E$3,$E$4,$E$5,B490)","v":0.77512184705551079},3.1990876611917409,{"$f":"ThreePosition_Basic2($E$3,$E$5,$B$3:$C$3,$B$5:$C$5,B490,C490)","v":-2.0559725699960887},3.307039086863151,-1.4423218376471907,3.2909036354754604,{"$f":"ThreePosition_Basic2($E$3,$E$5,$B$3:$C$3,$B$5:$C$5,B490,D490)","v":-2.4496127358290756},2.0796427646569389,-1.7400396652634085,1.9785479025078101,null,{"$f":"Burmester($B$3:$C$3,$B$4:$C$4,$B$6:$C$6,$E$3,$E$4,$E$6,B490)","v":{"$error":"#VALUE!"}},{"$error":"#VALUE!"},{"$f":"ThreePosition_Basic2($E$3,$E$6,$B$3:$C$3,$B$6:$C$6,B490,N490)","v":{"$error":"#VALUE!"}},{"$error":"#VALUE!"},{"$error":"#VALUE!"},{"$error":"#VALUE!"},{"$f":"ThreePosition_Basic2($E$3,$E$6,$B$3:$C$3,$B$6:$C$6,B490,O490)","v":{"$error":"#VALUE!"}},{"$error":"#VALUE!"},{"$error":"#VALUE!"},{"$error":"#VALUE!"}]
[238,4.1538836197465043,{"$f":"Burmester($B$3:$C$3,$B$4:$C$4,$B$5:$C$5,$E$3,$E$4,$E$5,B491)","v":0.78430429925672784},3.2040851672906379,{"$f":"ThreePosition_Basic2($E$3,$E$5,$B$3:$C$3,$B$5:$C$5,B491,C491)","v":-2.0619317176038305},3.308295445388918,-1.4472349708083165,3.288945710225732,{"$f":"ThreePosition_Basic2($E$3,$E$5,$B$3:$C$3,$B$5:$C$5,B491,D491)","v":-2.4543980601129745},2.0792522063958092,-1.7437228978229393,1.9743597551438161,null,{"$f":"Burmester($B$3:$C$3,$B$4:$C$4,$B$6:$C$6,$E$3,$E$4,$E$6,B491)","v":{"$error":"#VALUE!"}},{"$error":"#VALUE!"},{"$f":"ThreePosition_Basic2($E$3,$E$6,$B$3:$C$3,$B$6:$C$6,B491,N491)","v":{"$error":"#VALUE!"}},{"$error":"#VALUE!"},{"$error":"#VALUE!"},{"$error":"#VALUE!"},{"$f":"ThreePosition_Basic2($E$3,$E$6,$B$3:$C$3,$B$6:$C$6,B491,O491)","v":{"$error":"#VALUE!"}},{"$error":"#VALUE!"},{"$error":"#VALUE!"},{"$error":"#VALUE!"}]
[238.5,4.1626102660064763,{"$f":"Burmester($B$3:$C$3,$B$4:$C$4,$B$5:$C$5,$E$3,$E$4,$E$5,B492)","v":0.79342684010093967},3.2091381200204934,{"$f":"ThreePosition_Basic2($E$3,$E$5,$B$3:$C$3,$B$5:$C$5,B492,C492)","v":-2.0678757387732909},3.3095698338194719,-1.4521332270776535,3.2869954595725233,{"$f":"ThreePosition_Basic2($E$3,$E$5,$B$3:$C$3,$B$5:$C$5,B492,D492)","v":-2.4591848874258968},2.0788238721768058,-1.7474028597631905,1.9701151161594967,null,{"$f":"Burmester($B$3:$C$3,$B$4:$C$4,$B$6:$C$6,$E$3,$E$4,$E$6,B492)","v":{"$error":"#VALUE!"}},{"$error":"#VALUE!"},{"$f":"ThreePosition_Basic2($E$3,$E$6,$B$3:$C$3,$B$6:$C$6,B492,N492)","v":{"$error":"#VALUE!"}},{"$error":"#VALUE!"},{"$error":"#VALUE!"},{"$error":"#VALUE!"},{"$f":"ThreePosition_Basic2($E$3,$E$6,$B$3:$C$3,$B$6:$C$6,B492,O492)","v":{"$error":"#VALUE!"}},{"$error":"#VALUE!"},{"$error":"#VALUE!"},{"$error":"#VALUE!"}]
[239,4.1713369122664474,{"$f":"Burmester($B$3:$C$3,$B$4:$C$4,$B$5:$C$5,$E$3,$E$4,$E$5,B493)","v":0.80248939296981625},3.2142467279159326,{"$f":"ThreePosition_Basic2($E$3,$E$5,$B$3:$C$3,$B$5:$C$5,B493,C493)","v":-2.0738048099809725},3.3108627821293362,-1.4570167589590173,3.2850532525430682,{"$f":"ThreePosition_Basic2($E$3,$E$5,$B$3:$C$3,$B$5:$C$5,B493,D493)","v":-2.4639733847358429},2.0783573989929582,-1.7510796307305885,1.9658132823496814,null,{"$f":"Burmester($B$3:$C$3,$B$4:$C$4,$B$6:$C$6,$E$3,$E$4,$E$6,B493)","v":{"$error":"#VALUE!"}},{"$error":"#VALUE!"},{"$f":"ThreePosition_Basic2($E$3,$E$6,$B$3:$C$3,$B$6:$C$6,B493,N493)","v":{"$error":"#VALUE!"}},{"$error":"#VALUE!"},{"$error":"#VALUE!"},{"$error":"#VALUE!"},{"$f":"ThreePosition_Basic2($E$3,$E$6,$B$3:$C$3,$B$6:$C$6,B493,O493)","v":{"$error":"#VALUE!"}},{"$error":"#VALUE!"},{"$error":"#VALUE!"},{"$error":"#VALUE!"}]
[239.5,4.1800635585264194,{"$f":"Burmester($B$3:$C$3,$B$4:$C$4,$B$5:$C$5,$E$3,$E$4,$E$5,B494)","v":0.81149188364714908},3.2194111968269281,{"$f":"ThreePosition_Basic2($E$3,$E$5,$B$3:$C$3,$B$5:$C$5,B494,C494)","v":-2.0797191087677329},3.3121748196653487,-1.4618857196079929,3.2831194558388948,{"$f":"ThreePosition_Basic2($E$3,$E$5,$B$3:$C$3,$B$5:$C$5,B494,D494)","v":-2.4687637166282488},2.077852421879034,-1.7547532872691407,1.9614535435575164,null,{"$f":"Burmester($B$3:$C$3,$B$4:$C$4,$B$6:$C$6,$E$3,$E$4,$E$6,B494)","v":{"$error":"#VALUE!"}},{"$error":"#VALUE!"},{"$f":"ThreePosition_Basic2($E$3,$E$6,$B$3:$C$3,$B$6:$C$6,B494,N494)","v":{"$error":"#VALUE!"}},{"$error":"#VALUE!"},{"$error":"#VALUE!"},{"$error":"#VALUE!"},{"$f":"ThreePosition_Basic2($E$3,$E$6,$B$3:$C$3,$B$6:$C$6,B494,O494)","v":{"$error":"#VALUE!"}},{"$error":"#VALUE!"},{"$error":"#VALUE!"},{"$error":"#VALUE!"}]
[240,4.1887902047863905,{"$f":"Burmester($B$3:$C$3,$B$4:$C$4,$B$5:$C$5,$E$3,$E$4,$E$5,B495)","v":0.82043424045433655},3.2246317297917648,{"$f":"ThreePosition_Basic2($E$3,$E$5,$B$3:$C$3,$B$5:$C$5,B495,C495)","v":-2.0856188137696257},3.3135064751799779,-1.4667402628531481,3.2811944338223022,{"$f":"ThreePosition_Basic2($E$3,$E$5,$B$3:$C$3,$B$5:$C$5,B495,D495)","v":-2.4735560453114886},2.077308573931925,-1.7584239028070501,1.9570351825839067,null,{"$f":"Burmester($B$3:$C$3,$B$4:$C$4,$B$6:$C$6,$E$3,$E$4,$E$6,B495)","v":{"$error":"#VALUE!"}},{"$error":"#VALUE!"},{"$f":"ThreePosition_Basic2($E$3,$E$6,$B$3:$C$3,$B$6:$C$6,B495,N495)","v":{"$error":"#VALUE!"}},{"$error":"#VALUE!"},{"$error":"#VALUE!"},{"$error":"#VALUE!"},{"$f":"ThreePosition_Basic2($E$3,$E$6,$B$3:$C$3,$B$6:$C$6,B495,O495)","v":{"$error":"#VALUE!"}},{"$error":"#VALUE!"},{"$error":"#VALUE!"},{"$error":"#VALUE!"}]
[240.5,4.1975168510463625,{"$f":"Burmester($B$3:$C$3,$B$4:$C$4,$B$5:$C$5,$E$3,$E$4,$E$5,B496)","v":0.82931639438378701},3.2299085269121091,{"$f":"ThreePosition_Basic2($E$3,$E$5,$B$3:$C$3,$B$5:$C$5,B496,C496)","v":-2.0915041047489611},3.3148582768645358,-1.4715805432172766,3.2792785485017761,{"$f":"ThreePosition_Basic2($E$3,$E$5,$B$3:$C$3,$B$5:$C$5,B496,D496)","v":-2.4783505306220333},2.0767254863305653,-1.7620915476425381,1.952557475093837,null,{"$f":"Burmester($B$3:$C$3,$B$4:$C$4,$B$6:$C$6,$E$3,$E$4,$E$6,B496)","v":{"$error":"#VALUE!"}},{"$error":"#VALUE!"},{"$f":"ThreePosition_Basic2($E$3,$E$6,$B$3:$C$3,$B$6:$C$6,B496,N496)","v":{"$error":"#VALUE!"}},{"$error":"#VALUE!"},{"$error":"#VALUE!"},{"$error":"#VALUE!"},{"$f":"ThreePosition_Basic2($E$3,$E$6,$B$3:$C$3,$B$6:$C$6,B496,O496)","v":{"$error":"#VALUE!"}},{"$error":"#VALUE!"},{"$error":"#VALUE!"},{"$error":"#VALUE!"}]
[241,4.2062434973063345,{"$f":"Burmester($B$3:$C$3,$B$4:$C$4,$B$5:$C$5,$E$3,$E$4,$E$5,B497)","v":0.8381382792301022},3.2352417852302637,{"$f":"ThreePosition_Basic2($E$3,$E$5,$B$3:$C$3,$B$5:$C$5,B497,C497)","v":-2.0973751626255481},3.3162307523823973,-1.4764067159386371,3.27737215951643,{"$f":"ThreePosition_Basic2($E$3,$E$5,$B$3:$C$3,$B$5:$C$5,B497,D497)","v":-2.4831473300292752},2.0761027883552914,-1.7657562889288774,1.9480196895194091,null,{"$f":"Burmester($B$3:$C$3,$B$4:$C$4,$B$6:$C$6,$E$3,$E$4,$E$6,B497)","v":{"$error":"#VALUE!"}},{"$error":"#VALUE!"},{"$f":"ThreePosition_Basic2($E$3,$E$6,$B$3:$C$3,$B$6:$C$6,B497,N497)","v":{"$error":"#VALUE!"}},{"$error":"#VALUE!"},{"$error":"#VALUE!"},{"$error":"#VALUE!"},{"$f":"ThreePosition_Basic2($E$3,$E$6,$B$3:$C$3,$B$6:$C$6,B497,O497)","v":{"$error":"#VALUE!"}},{"$error":"#VALUE!"},{"$error":"#VALUE!"},{"$error":"#VALUE!"}]
[241.5,4.2149701435663056,{"$f":"Burmester($B$3:$C$3,$B$4:$C$4,$B$5:$C$5,$E$3,$E$4,$E$5,B498)","v":0.84689983171889971},3.2406316986087988,{"$f":"ThreePosition_Basic2($E$3,$E$5,$B$3:$C$3,$B$5:$C$5,B498,C498)","v":-2.1032321695081015},3.3176244289023797,-1.4812189369921747,3.2754756241196064,{"$f":"ThreePosition_Basic2($E$3,$E$5,$B$3:$C$3,$B$5:$C$5,B498,D498)","v":-2.4879465986400691},2.0754401074065223,-1.7694181906586475,1.9434210869593678,null,{"$f":"Burmester($B$3:$C$3,$B$4:$C$4,$B$6:$C$6,$E$3,$E$4,$E$6,B498)","v":{"$error":"#VALUE!"}},{"$error":"#VALUE!"},{"$f":"ThreePosition_Basic2($E$3,$E$6,$B$3:$C$3,$B$6:$C$6,B498,N498)","v":{"$error":"#VALUE!"}},{"$error":"#VALUE!"},{"$error":"#VALUE!"},{"$error":"#VALUE!"},{"$f":"ThreePosition_Basic2($E$3,$E$6,$B$3:$C$3,$B$6:$C$6,B498,O498)","v":{"$error":"#VALUE!"}},{"$error":"#VALUE!"},{"$error":"#VALUE!"},{"$error":"#VALUE!"}]
[242,4.2236967898262776,{"$f":"Burmester($B$3:$C$3,$B$4:$C$4,$B$5:$C$5,$E$3,$E$4,$E$5,B499)","v":0.85560099163314718},3.2460784576126578,{"$f":"ThreePosition_Basic2($E$3,$E$5,$B$3:$C$3,$B$5:$C$5,B499,C499)","v":-2.1090753087257781},3.3190398331323983,-1.4860173631106925,3.2735892971617226,{"$f":"ThreePosition_Basic2($E$3,$E$5,$B$3:$C$3,$B$5:$C$5,B499,D499)","v":-2.4927484892030272},2.0747370690226741,-1.7730773136472386,1.9387609210749435,null,{"$f":"Burmester($B$3:$C$3,$B$4:$C$4,$B$6:$C$6,$E$3,$E$4,$E$6,B499)","v":{"$error":"#VALUE!"}},{"$error":"#VALUE!"},{"$f":"ThreePosition_Basic2($E$3,$E$6,$B$3:$C$3,$B$6:$C$6,B499,N499)","v":{"$error":"#VALUE!"}},{"$error":"#VALUE!"},{"$error":"#VALUE!"},{"$error":"#VALUE!"},{"$f":"ThreePosition_Basic2($E$3,$E$6,$B$3:$C$3,$B$6:$C$6,B499,O499)","v":{"$error":"#VALUE!"}},{"$error":"#VALUE!"},{"$error":"#VALUE!"},{"$error":"#VALUE!"}]
[242.5,4.2324234360862487,{"$f":"Burmester($B$3:$C$3,$B$4:$C$4,$B$5:$C$5,$E$3,$E$4,$E$5,B500)","v":0.86424170193685679},3.2515822493938935,{"$f":"ThreePosition_Basic2($E$3,$E$5,$B$3:$C$3,$B$5:$C$5,B500,C500)","v":-2.1149047648598147},3.3204774913535511,-1.4908021518059544,3.2717135310725025,{"$f":"ThreePosition_Basic2($E$3,$E$5,$B$3:$C$3,$B$5:$C$5,B500,D500)","v":-2.4975531521125758},2.0739932968972035,-1.7767337155155811,1.9340384379818041,null,{"$f":"Burmester($B$3:$C$3,$B$4:$C$4,$B$6:$C$6,$E$3,$E$4,$E$6,B500)","v":{"$error":"#VALUE!"}},{"$error":"#VALUE!"},{"$f":"ThreePosition_Basic2($E$3,$E$6,$B$3:$C$3,$B$6:$C$6,B500,N500)","v":{"$error":"#VALUE!"}},{"$error":"#VALUE!"},{"$error":"#VALUE!"},{"$error":"#VALUE!"},{"$f":"ThreePosition_Basic2($E$3,$E$6,$B$3:$C$3,$B$6:$C$6,B500,O500)","v":{"$error":"#VALUE!"}},{"$error":"#VALUE!"},{"$error":"#VALUE!"},{"$error":"#VALUE!"}]
[243,4.2411500823462207,{"$f":"Burmester($B$3:$C$3,$B$4:$C$4,$B$5:$C$5,$E$3,$E$4,$E$5,B501)","v":0.87282190889601197},3.2571432575791741,{"$f":"ThreePosition_Basic2($E$3,$E$5,$B$3:$C$3,$B$5:$C$5,B501,C501)","v":-2.1207207237752508},3.321937929454752,-1.4955734613896938,3.2698486758426739,{"$f":"ThreePosition_Basic2($E$3,$E$5,$B$3:$C$3,$B$5:$C$5,B501,D501)","v":-2.5023607354128381},2.0732084128946395,-1.7803874506721442,1.9292528761378722,null,{"$f":"Burmester($B$3:$C$3,$B$4:$C$4,$B$6:$C$6,$E$3,$E$4,$E$6,B501)","v":{"$error":"#VALUE!"}},{"$error":"#VALUE!"},{"$f":"ThreePosition_Basic2($E$3,$E$6,$B$3:$C$3,$B$6:$C$6,B501,N501)","v":{"$error":"#VALUE!"}},{"$error":"#VALUE!"},{"$error":"#VALUE!"},{"$error":"#VALUE!"},{"$f":"ThreePosition_Basic2($E$3,$E$6,$B$3:$C$3,$B$6:$C$6,B501,O501)","v":{"$error":"#VALUE!"}},{"$error":"#VALUE!"},{"$error":"#VALUE!"},{"$error":"#VALUE!"}]
[243.5,4.2498767286061918,{"$f":"Burmester($B$3:$C$3,$B$4:$C$4,$B$5:$C$5,$E$3,$E$4,$E$5,B502)","v":0.88134156219658732},3.2627616621601803,{"$f":"ThreePosition_Basic2($E$3,$E$5,$B$3:$C$3,$B$5:$C$5,B502,C502)","v":-2.1265233726527017},3.323421672968073,-1.5003314509945107,3.2679950790052872,{"$f":"ThreePosition_Basic2($E$3,$E$5,$B$3:$C$3,$B$5:$C$5,B502,D502)","v":-2.5071713848013424},2.0723820370655401,-1.7840385702941755,1.9244034662268443,null,{"$f":"Burmester($B$3:$C$3,$B$4:$C$4,$B$6:$C$6,$E$3,$E$4,$E$6,B502)","v":{"$error":"#VALUE!"}},{"$error":"#VALUE!"},{"$f":"ThreePosition_Basic2($E$3,$E$6,$B$3:$C$3,$B$6:$C$6,B502,N502)","v":{"$error":"#VALUE!"}},{"$error":"#VALUE!"},{"$error":"#VALUE!"},{"$error":"#VALUE!"},{"$f":"ThreePosition_Basic2($E$3,$E$6,$B$3:$C$3,$B$6:$C$6,B502,O502)","v":{"$error":"#VALUE!"}},{"$error":"#VALUE!"},{"$error":"#VALUE!"},{"$error":"#VALUE!"}]
[244,4.2586033748661638,{"$f":"Burmester($B$3:$C$3,$B$4:$C$4,$B$5:$C$5,$E$3,$E$4,$E$5,B503)","v":0.88980061505952479},3.2684376393870553,{"$f":"ThreePosition_Basic2($E$3,$E$5,$B$3:$C$3,$B$5:$C$5,B503,C503)","v":-2.1323129000201666},3.3249292471049174,-1.5050762805946318,3.266153085616728,{"$f":"ThreePosition_Basic2($E$3,$E$5,$B$3:$C$3,$B$5:$C$5,B503,D503)","v":-2.5119852436326009},2.0715137876602294,-1.7876871223082025,1.9194894310371486,null,{"$f":"Burmester($B$3:$C$3,$B$4:$C$4,$B$6:$C$6,$E$3,$E$4,$E$6,B503)","v":{"$error":"#VALUE!"}},{"$error":"#VALUE!"},{"$f":"ThreePosition_Basic2($E$3,$E$6,$B$3:$C$3,$B$6:$C$6,B503,N503)","v":{"$error":"#VALUE!"}},{"$error":"#VALUE!"},{"$error":"#VALUE!"},{"$error":"#VALUE!"},{"$f":"ThreePosition_Basic2($E$3,$E$6,$B$3:$C$3,$B$6:$C$6,B503,O503)","v":{"$error":"#VALUE!"}},{"$error":"#VALUE!"},{"$error":"#VALUE!"},{"$error":"#VALUE!"}]
[244.5,4.2673300211261358,{"$f":"Burmester($B$3:$C$3,$B$4:$C$4,$B$5:$C$5,$E$3,$E$4,$E$5,B504)","v":0.89819902435253351},3.2741713616650072,{"$f":"ThreePosition_Basic2($E$3,$E$5,$B$3:$C$3,$B$5:$C$5,B504,C504)","v":-2.1380894957848398},3.3264611767931744,-1.5098081110265185,3.2643230382375723,{"$f":"ThreePosition_Basic2($E$3,$E$5,$B$3:$C$3,$B$5:$C$5,B504,D504)","v":-2.5168024529215849},2.0706032811412154,-1.7913331513697965,1.9145099853361409,null,{"$f":"Burmester($B$3:$C$3,$B$4:$C$4,$B$6:$C$6,$E$3,$E$4,$E$6,B504)","v":{"$error":"#VALUE!"}},{"$error":"#VALUE!"},{"$f":"ThreePosition_Basic2($E$3,$E$6,$B$3:$C$3,$B$6:$C$6,B504,N504)","v":{"$error":"#VALUE!"}},{"$error":"#VALUE!"},{"$error":"#VALUE!"},{"$error":"#VALUE!"},{"$f":"ThreePosition_Basic2($E$3,$E$6,$B$3:$C$3,$B$6:$C$6,B504,O504)","v":{"$error":"#VALUE!"}},{"$error":"#VALUE!"},{"$error":"#VALUE!"},{"$error":"#VALUE!"}]
[245,4.2760566673861069,{"$f":"Burmester($B$3:$C$3,$B$4:$C$4,$B$5:$C$5,$E$3,$E$4,$E$5,B505)","v":0.90653675069858464},3.279962997454227,{"$f":"ThreePosition_Basic2($E$3,$E$5,$B$3:$C$3,$B$5:$C$5,B505,C505)","v":-2.143853351264922},3.3280179867154871,-1.514527104009306,3.2625052769133722,{"$f":"ThreePosition_Basic2($E$3,$E$5,$B$3:$C$3,$B$5:$C$5,B505,D505)","v":-2.5216231513471188},2.0696501321941727,-1.7949766988425924,1.9094643357392942,null,{"$f":"Burmester($B$3:$C$3,$B$4:$C$4,$B$6:$C$6,$E$3,$E$4,$E$6,B505)","v":{"$error":"#VALUE!"}},{"$error":"#VALUE!"},{"$f":"ThreePosition_Basic2($E$3,$E$6,$B$3:$C$3,$B$6:$C$6,B505,N505)","v":{"$error":"#VALUE!"}},{"$error":"#VALUE!"},{"$error":"#VALUE!"},{"$error":"#VALUE!"},{"$f":"ThreePosition_Basic2($E$3,$E$6,$B$3:$C$3,$B$6:$C$6,B505,O505)","v":{"$error":"#VALUE!"}},{"$error":"#VALUE!"},{"$error":"#VALUE!"},{"$error":"#VALUE!"}]
[245.5,4.2847833136460789,{"$f":"Burmester($B$3:$C$3,$B$4:$C$4,$B$5:$C$5,$E$3,$E$4,$E$5,B506)","v":0.91481375858096448},3.2858127111732394,{"$f":"ThreePosition_Basic2($E$3,$E$5,$B$3:$C$3,$B$5:$C$5,B506,C506)","v":-2.1496046592213887},3.3296002013488049,-1.5192334221650476,3.2607001391555186,{"$f":"ThreePosition_Basic2($E$3,$E$5,$B$3:$C$3,$B$5:$C$5,B506,D506)","v":-2.5264474752552259},2.0686539537373898,-1.7986178027765694,1.9043516805741647,null,{"$f":"Burmester($B$3:$C$3,$B$4:$C$4,$B$6:$C$6,$E$3,$E$4,$E$6,B506)","v":{"$error":"#VALUE!"}},{"$error":"#VALUE!"},{"$f":"ThreePosition_Basic2($E$3,$E$6,$B$3:$C$3,$B$6:$C$6,B506,N506)","v":{"$error":"#VALUE!"}},{"$error":"#VALUE!"},{"$error":"#VALUE!"},{"$error":"#VALUE!"},{"$f":"ThreePosition_Basic2($E$3,$E$6,$B$3:$C$3,$B$6:$C$6,B506,O506)","v":{"$error":"#VALUE!"}},{"$error":"#VALUE!"},{"$error":"#VALUE!"},{"$error":"#VALUE!"}]
[246,4.2935099599060509,{"$f":"Burmester($B$3:$C$3,$B$4:$C$4,$B$5:$C$5,$E$3,$E$4,$E$5,B507)","v":0.92303001644476523},3.2917206631058002,{"$f":"ThreePosition_Basic2($E$3,$E$5,$B$3:$C$3,$B$5:$C$5,B507,C507)","v":-2.1553436138897157},3.3312083450053209,-1.5239272290387587,3.2589079599222663,{"$f":"ThreePosition_Basic2($E$3,$E$5,$B$3:$C$3,$B$5:$C$5,B507,D507)","v":-2.5312755586624331},2.0676143569295387,-1.802256497885578,1.8991712097388715,null,{"$f":"Burmester($B$3:$C$3,$B$4:$C$4,$B$6:$C$6,$E$3,$E$4,$E$6,B507)","v":{"$error":"#VALUE!"}},{"$error":"#VALUE!"},{"$f":"ThreePosition_Basic2($E$3,$E$6,$B$3:$C$3,$B$6:$C$6,B507,N507)","v":{"$error":"#VALUE!"}},{"$error":"#VALUE!"},{"$error":"#VALUE!"},{"$error":"#VALUE!"},{"$f":"ThreePosition_Basic2($E$3,$E$6,$B$3:$C$3,$B$6:$C$6,B507,O507)","v":{"$error":"#VALUE!"}},{"$error":"#VALUE!"},{"$error":"#VALUE!"},{"$error":"#VALUE!"}]
[246.5,4.3022366061660229,{"$f":"Burmester($B$3:$C$3,$B$4:$C$4,$B$5:$C$5,$E$3,$E$4,$E$5,B508)","v":0.93118549679468465},3.2976870093114981,{"$f":"ThreePosition_Basic2($E$3,$E$5,$B$3:$C$3,$B$5:$C$5,B508,C508)","v":-2.1610704110115395},3.3328429418749765,-1.5286086891182404,3.2571290716000543,{"$f":"ThreePosition_Basic2($E$3,$E$5,$B$3:$C$3,$B$5:$C$5,B508,D508)","v":-2.5361075332590874},2.0665309511756824,-1.8058928155241256,1.8939221045548651,null,{"$f":"Burmester($B$3:$C$3,$B$4:$C$4,$B$6:$C$6,$E$3,$E$4,$E$6,B508)","v":{"$error":"#VALUE!"}},{"$error":"#VALUE!"},{"$f":"ThreePosition_Basic2($E$3,$E$6,$B$3:$C$3,$B$6:$C$6,B508,N508)","v":{"$error":"#VALUE!"}},{"$error":"#VALUE!"},{"$error":"#VALUE!"},{"$error":"#VALUE!"},{"$f":"ThreePosition_Basic2($E$3,$E$6,$B$3:$C$3,$B$6:$C$6,B508,O508)","v":{"$error":"#VALUE!"}},{"$error":"#VALUE!"},{"$error":"#VALUE!"},{"$error":"#VALUE!"}]
[247,4.310963252425994,{"$f":"Burmester($B$3:$C$3,$B$4:$C$4,$B$5:$C$5,$E$3,$E$4,$E$5,B509)","v":0.93928017628901395},3.3037119015401446,{"$f":"ThreePosition_Basic2($E$3,$E$5,$B$3:$C$3,$B$5:$C$5,B509,C509)","v":-2.1667852478662253},3.3345045160696656,-1.5332779678536594,3.2553638039852406,{"$f":"ThreePosition_Basic2($E$3,$E$5,$B$3:$C$3,$B$5:$C$5,B509,D509)","v":-2.5409435284126674},2.0654033441313913,-1.8095267836633875,1.8886035376137302,null,{"$f":"Burmester($B$3:$C$3,$B$4:$C$4,$B$6:$C$6,$E$3,$E$4,$E$6,B509)","v":{"$error":"#VALUE!"}},{"$error":"#VALUE!"},{"$f":"ThreePosition_Basic2($E$3,$E$6,$B$3:$C$3,$B$6:$C$6,B509,N509)","v":{"$error":"#VALUE!"}},{"$error":"#VALUE!"},{"$error":"#VALUE!"},{"$error":"#VALUE!"},{"$f":"ThreePosition_Basic2($E$3,$E$6,$B$3:$C$3,$B$6:$C$6,B509,O509)","v":{"$error":"#VALUE!"}},{"$error":"#VALUE!"},{"$error":"#VALUE!"},{"$error":"#VALUE!"}]
[247.5,4.319689898685966,{"$f":"Burmester($B$3:$C$3,$B$4:$C$4,$B$5:$C$5,$E$3,$E$4,$E$5,B510)","v":0.94731403582971063},3.309795487150097,{"$f":"ThreePosition_Basic2($E$3,$E$5,$B$3:$C$3,$B$5:$C$5,B510,C510)","v":-2.1724883233023617},3.3361935916692715,-1.5379352316769057,3.2536124842663465,{"$f":"ThreePosition_Basic2($E$3,$E$5,$B$3:$C$3,$B$5:$C$5,B510,D510)","v":-2.5457836711711539},2.06423114170485,-1.8131584268664667,1.8832146726177561,null,{"$f":"Burmester($B$3:$C$3,$B$4:$C$4,$B$6:$C$6,$E$3,$E$4,$E$6,B510)","v":{"$error":"#VALUE!"}},{"$error":"#VALUE!"},{"$f":"ThreePosition_Basic2($E$3,$E$6,$B$3:$C$3,$B$6:$C$6,B510,N510)","v":{"$error":"#VALUE!"}},{"$error":"#VALUE!"},{"$error":"#VALUE!"},{"$error":"#VALUE!"},{"$f":"ThreePosition_Basic2($E$3,$E$6,$B$3:$C$3,$B$6:$C$6,B510,O510)","v":{"$error":"#VALUE!"}},{"$error":"#VALUE!"},{"$error":"#VALUE!"},{"$error":"#VALUE!"}]
[248,4.3284165449459371,{"$f":"Burmester($B$3:$C$3,$B$4:$C$4,$B$5:$C$5,$E$3,$E$4,$E$5,B511)","v":0.95528706064840607},3.3159379090306134,{"$f":"ThreePosition_Basic2($E$3,$E$5,$B$3:$C$3,$B$5:$C$5,B511,C511)","v":-2.1781798377691155},3.3379106927697055,-1.5425806480206556,3.2518754370069489,{"$f":"ThreePosition_Basic2($E$3,$E$5,$B$3:$C$3,$B$5:$C$5,B511,D511)","v":-2.5506280862664283},2.0630139480568492,-1.8167877662628467,1.8777546642140368,null,{"$f":"Burmester($B$3:$C$3,$B$4:$C$4,$B$6:$C$6,$E$3,$E$4,$E$6,B511)","v":{"$error":"#VALUE!"}},{"$error":"#VALUE!"},{"$f":"ThreePosition_Basic2($E$3,$E$6,$B$3:$C$3,$B$6:$C$6,B511,N511)","v":{"$error":"#VALUE!"}},{"$error":"#VALUE!"},{"$error":"#VALUE!"},{"$error":"#VALUE!"},{"$f":"ThreePosition_Basic2($E$3,$E$6,$B$3:$C$3,$B$6:$C$6,B511,O511)","v":{"$error":"#VALUE!"}},{"$error":"#VALUE!"},{"$error":"#VALUE!"},{"$error":"#VALUE!"}]
[248.5,4.3371431912059091,{"$f":"Burmester($B$3:$C$3,$B$4:$C$4,$B$5:$C$5,$E$3,$E$4,$E$5,B512)","v":0.96319924038829041},3.3221393055283581,{"$f":"ThreePosition_Basic2($E$3,$E$5,$B$3:$C$3,$B$5:$C$5,B512,C512)","v":-2.1838599933474967},3.3396563435330742,-1.5472143853372022,3.2501529841293144,{"$f":"ThreePosition_Basic2($E$3,$E$5,$B$3:$C$3,$B$5:$C$5,B512,D512)","v":-2.5554768961177694},2.0617513655985413,-1.8204148195220737,1.8722226578218146,null,{"$f":"Burmester($B$3:$C$3,$B$4:$C$4,$B$6:$C$6,$E$3,$E$4,$E$6,B512)","v":{"$error":"#VALUE!"}},{"$error":"#VALUE!"},{"$f":"ThreePosition_Basic2($E$3,$E$6,$B$3:$C$3,$B$6:$C$6,B512,N512)","v":{"$error":"#VALUE!"}},{"$error":"#VALUE!"},{"$error":"#VALUE!"},{"$error":"#VALUE!"},{"$f":"ThreePosition_Basic2($E$3,$E$6,$B$3:$C$3,$B$6:$C$6,B512,O512)","v":{"$error":"#VALUE!"}},{"$error":"#VALUE!"},{"$error":"#VALUE!"},{"$error":"#VALUE!"}]
[249,4.3458698374658802,{"$f":"Burmester($B$3:$C$3,$B$4:$C$4,$B$5:$C$5,$E$3,$E$4,$E$5,B513)","v":0.97105056918172261},3.3283998103781487,{"$f":"ThreePosition_Basic2($E$3,$E$5,$B$3:$C$3,$B$5:$C$5,B513,C513)","v":-2.1895289937814733},3.3414310682401287,-1.5518366131169832,3.2484454448989002,{"$f":"ThreePosition_Basic2($E$3,$E$5,$B$3:$C$3,$B$5:$C$5,B513,D513)","v":-2.5603302208354166},2.0604429949868601,-1.824039600826604,1.8666177894528266,null,{"$f":"Burmester($B$3:$C$3,$B$4:$C$4,$B$6:$C$6,$E$3,$E$4,$E$6,B513)","v":{"$error":"#VALUE!"}},{"$error":"#VALUE!"},{"$f":"ThreePosition_Basic2($E$3,$E$6,$B$3:$C$3,$B$6:$C$6,B513,N513)","v":{"$error":"#VALUE!"}},{"$error":"#VALUE!"},{"$error":"#VALUE!"},{"$error":"#VALUE!"},{"$f":"ThreePosition_Basic2($E$3,$E$6,$B$3:$C$3,$B$6:$C$6,B513,O513)","v":{"$error":"#VALUE!"}},{"$error":"#VALUE!"},{"$error":"#VALUE!"},{"$error":"#VALUE!"}]
[249.5,4.3545964837258522,{"$f":"Burmester($B$3:$C$3,$B$4:$C$4,$B$5:$C$5,$E$3,$E$4,$E$5,B514)","v":0.97884104572349484},3.3347195526380706,{"$f":"ThreePosition_Basic2($E$3,$E$5,$B$3:$C$3,$B$5:$C$5,B514,C514)","v":-2.1951870445089625},3.3432353913451411,-1.5564475019068371,3.2467531359098203,{"$f":"ThreePosition_Basic2($E$3,$E$5,$B$3:$C$3,$B$5:$C$5,B514,D514)","v":-2.5651881782242469},2.0590884351174492,-1.8276621208438297,1.8609391855243267,null,{"$f":"Burmester($B$3:$C$3,$B$4:$C$4,$B$6:$C$6,$E$3,$E$4,$E$6,B514)","v":{"$error":"#VALUE!"}},{"$error":"#VALUE!"},{"$f":"ThreePosition_Basic2($E$3,$E$6,$B$3:$C$3,$B$6:$C$6,B514,N514)","v":{"$error":"#VALUE!"}},{"$error":"#VALUE!"},{"$error":"#VALUE!"},{"$error":"#VALUE!"},{"$f":"ThreePosition_Basic2($E$3,$E$6,$B$3:$C$3,$B$6:$C$6,B514,O514)","v":{"$error":"#VALUE!"}},{"$error":"#VALUE!"},{"$error":"#VALUE!"},{"$error":"#VALUE!"}]
[250,4.3633231299858233,{"$f":"Burmester($B$3:$C$3,$B$4:$C$4,$B$5:$C$5,$E$3,$E$4,$E$5,B515)","v":0.98657067333965021},3.3410986566290108,{"$f":"ThreePosition_Basic2($E$3,$E$5,$B$3:$C$3,$B$5:$C$5,B515,C515)","v":-2.2008343526926737},3.3450698375333547,-1.5610472233279649,3.2450763710714048,{"$f":"ThreePosition_Basic2($E$3,$E$5,$B$3:$C$3,$B$5:$C$5,B515,D515)","v":-2.5700508837875722},2.0576872831150581,-1.8312823866972572,1.8551859626645837,null,{"$f":"Burmester($B$3:$C$3,$B$4:$C$4,$B$6:$C$6,$E$3,$E$4,$E$6,B515)","v":{"$error":"#VALUE!"}},{"$error":"#VALUE!"},{"$f":"ThreePosition_Basic2($E$3,$E$6,$B$3:$C$3,$B$6:$C$6,B515,N515)","v":{"$error":"#VALUE!"}},{"$error":"#VALUE!"},{"$error":"#VALUE!"},{"$error":"#VALUE!"},{"$f":"ThreePosition_Basic2($E$3,$E$6,$B$3:$C$3,$B$6:$C$6,B515,O515)","v":{"$error":"#VALUE!"}},{"$error":"#VALUE!"},{"$error":"#VALUE!"},{"$error":"#VALUE!"}]
[250.5,4.3720497762457953,{"$f":"Burmester($B$3:$C$3,$B$4:$C$4,$B$5:$C$5,$E$3,$E$4,$E$5,B516)","v":0.99423946005175334},3.3475372418787619,{"$f":"ThreePosition_Basic2($E$3,$E$5,$B$3:$C$3,$B$5:$C$5,B516,C516)","v":-2.206471127250802},3.3469349317811576,-1.5656359500935912,3.2434154615959465,{"$f":"ThreePosition_Basic2($E$3,$E$5,$B$3:$C$3,$B$5:$C$5,B516,D516)","v":-2.5749184507310408},2.056239134321213,-1.8349004019367881,1.849357227510485,null,{"$f":"Burmester($B$3:$C$3,$B$4:$C$4,$B$6:$C$6,$E$3,$E$4,$E$6,B516)","v":{"$error":"#VALUE!"}},{"$error":"#VALUE!"},{"$f":"ThreePosition_Basic2($E$3,$E$6,$B$3:$C$3,$B$6:$C$6,B516,N516)","v":{"$error":"#VALUE!"}},{"$error":"#VALUE!"},{"$error":"#VALUE!"},{"$error":"#VALUE!"},{"$f":"ThreePosition_Basic2($E$3,$E$6,$B$3:$C$3,$B$6:$C$6,B516,O516)","v":{"$error":"#VALUE!"}},{"$error":"#VALUE!"},{"$error":"#VALUE!"},{"$error":"#VALUE!"}]
[251,4.3807764225057673,{"$f":"Burmester($B$3:$C$3,$B$4:$C$4,$B$5:$C$5,$E$3,$E$4,$E$5,B517)","v":1.0018474186365462},3.3540354230707092,{"$f":"ThreePosition_Basic2($E$3,$E$5,$B$3:$C$3,$B$5:$C$5,B517,C517)","v":-2.212097578887577},3.3488311994191005,-1.5702138560263312,3.2417707159877347,{"$f":"ThreePosition_Basic2($E$3,$E$5,$B$3:$C$3,$B$5:$C$5,B517,D517)","v":-2.5797909899666998},2.0547435822791136,-1.8385161665081178,1.8434520764970213,null,{"$f":"Burmester($B$3:$C$3,$B$4:$C$4,$B$6:$C$6,$E$3,$E$4,$E$6,B517)","v":{"$error":"#VALUE!"}},{"$error":"#VALUE!"},{"$f":"ThreePosition_Basic2($E$3,$E$6,$B$3:$C$3,$B$6:$C$6,B517,N517)","v":{"$error":"#VALUE!"}},{"$error":"#VALUE!"},{"$error":"#VALUE!"},{"$error":"#VALUE!"},{"$f":"ThreePosition_Basic2($E$3,$E$6,$B$3:$C$3,$B$6:$C$6,B517,O517)","v":{"$error":"#VALUE!"}},{"$error":"#VALUE!"},{"$error":"#VALUE!"},{"$error":"#VALUE!"}]
[251.5,4.3895030687657384,{"$f":"Burmester($B$3:$C$3,$B$4:$C$4,$B$5:$C$5,$E$3,$E$4,$E$5,B518)","v":1.0093945666809074},3.360593309997236,{"$f":"ThreePosition_Basic2($E$3,$E$5,$B$3:$C$3,$B$5:$C$5,B518,C518)","v":-2.2177139201236584},3.3507591661979439,-1.5747811160752541,3.2401424400335079,{"$f":"ThreePosition_Basic2($E$3,$E$5,$B$3:$C$3,$B$5:$C$5,B518,D518)","v":-2.5846686101171881},2.053200218715618,-1.8421296767211923,1.8374695956383276,null,{"$f":"Burmester($B$3:$C$3,$B$4:$C$4,$B$6:$C$6,$E$3,$E$4,$E$6,B518)","v":{"$error":"#VALUE!"}},{"$error":"#VALUE!"},{"$f":"ThreePosition_Basic2($E$3,$E$6,$B$3:$C$3,$B$6:$C$6,B518,N518)","v":{"$error":"#VALUE!"}},{"$error":"#VALUE!"},{"$error":"#VALUE!"},{"$error":"#VALUE!"},{"$f":"ThreePosition_Basic2($E$3,$E$6,$B$3:$C$3,$B$6:$C$6,B518,O518)","v":{"$error":"#VALUE!"}},{"$error":"#VALUE!"},{"$error":"#VALUE!"},{"$error":"#VALUE!"}]
[252,4.3982297150257104,{"$f":"Burmester($B$3:$C$3,$B$4:$C$4,$B$5:$C$5,$E$3,$E$4,$E$5,B519)","v":1.0168809266320264},3.3672110075179003,{"$f":"ThreePosition_Basic2($E$3,$E$5,$B$3:$C$3,$B$5:$C$5,B519,C519)","v":-2.2233203653263809},3.3527193583578434,-1.5793379063326389,3.2385309367944002,{"$f":"ThreePosition_Basic2($E$3,$E$5,$B$3:$C$3,$B$5:$C$5,B519,D519)","v":-2.5895514175200751},2.0516086335202002,-1.8457409252176928,1.8314088602999714,null,{"$f":"Burmester($B$3:$C$3,$B$4:$C$4,$B$6:$C$6,$E$3,$E$4,$E$6,B519)","v":{"$error":"#VALUE!"}},{"$error":"#VALUE!"},{"$f":"ThreePosition_Basic2($E$3,$E$6,$B$3:$C$3,$B$6:$C$6,B519,N519)","v":{"$error":"#VALUE!"}},{"$error":"#VALUE!"},{"$error":"#VALUE!"},{"$error":"#VALUE!"},{"$f":"ThreePosition_Basic2($E$3,$E$6,$B$3:$C$3,$B$6:$C$6,B519,O519)","v":{"$error":"#VALUE!"}},{"$error":"#VALUE!"},{"$error":"#VALUE!"},{"$error":"#VALUE!"}]
[252.5,4.4069563612856815,{"$f":"Burmester($B$3:$C$3,$B$4:$C$4,$B$5:$C$5,$E$3,$E$4,$E$5,B520)","v":1.0243065258427648},3.3738886155224179,{"$f":"ThreePosition_Basic2($E$3,$E$5,$B$3:$C$3,$B$5:$C$5,B520,C520)","v":-2.2289171307398536},3.3547123027008241,-1.5838844040504361,3.2369365065994891,{"$f":"ThreePosition_Basic2($E$3,$E$5,$B$3:$C$3,$B$5:$C$5,B520,D520)","v":-2.5944395162323692},2.0499684147207966,-1.8493499009375443,1.8252689349622124,null,{"$f":"Burmester($B$3:$C$3,$B$4:$C$4,$B$6:$C$6,$E$3,$E$4,$E$6,B520)","v":{"$error":"#VALUE!"}},{"$error":"#VALUE!"},{"$f":"ThreePosition_Basic2($E$3,$E$6,$B$3:$C$3,$B$6:$C$6,B520,N520)","v":{"$error":"#VALUE!"}},{"$error":"#VALUE!"},{"$error":"#VALUE!"},{"$error":"#VALUE!"},{"$f":"ThreePosition_Basic2($E$3,$E$6,$B$3:$C$3,$B$6:$C$6,B520,O520)","v":{"$error":"#VALUE!"}},{"$error":"#VALUE!"},{"$error":"#VALUE!"},{"$error":"#VALUE!"}]
[253,4.4156830075456535,{"$f":"Burmester($B$3:$C$3,$B$4:$C$4,$B$5:$C$5,$E$3,$E$4,$E$5,B521)","v":1.0316713966121016},3.3806262288985738,{"$f":"ThreePosition_Basic2($E$3,$E$5,$B$3:$C$3,$B$5:$C$5,B521,C521)","v":-2.2345044345149172},3.3567385266666983,-1.5884207876564203,3.2353594470410543,{"$f":"ThreePosition_Basic2($E$3,$E$5,$B$3:$C$3,$B$5:$C$5,B521,D521)","v":-2.5993330080351678},2.0482791484564191,-1.8529565890843622,1.8190488729738925,null,{"$f":"Burmester($B$3:$C$3,$B$4:$C$4,$B$6:$C$6,$E$3,$E$4,$E$6,B521)","v":{"$error":"#VALUE!"}},{"$error":"#VALUE!"},{"$f":"ThreePosition_Basic2($E$3,$E$6,$B$3:$C$3,$B$6:$C$6,B521,N521)","v":{"$error":"#VALUE!"}},{"$error":"#VALUE!"},{"$error":"#VALUE!"},{"$error":"#VALUE!"},{"$f":"ThreePosition_Basic2($E$3,$E$6,$B$3:$C$3,$B$6:$C$6,B521,O521)","v":{"$error":"#VALUE!"}},{"$error":"#VALUE!"},{"$error":"#VALUE!"},{"$error":"#VALUE!"}]
[253.5,4.4244096538056255,{"$f":"Burmester($B$3:$C$3,$B$4:$C$4,$B$5:$C$5,$E$3,$E$4,$E$5,B522)","v":1.0389755762206441},3.3874239375050506,{"$f":"ThreePosition_Basic2($E$3,$E$5,$B$3:$C$3,$B$5:$C$5,B522,C522)","v":-2.2400824967389683},3.3587985584125564,-1.5929472367700548,3.2338000529716311,{"$f":"ThreePosition_Basic2($E$3,$E$5,$B$3:$C$3,$B$5:$C$5,B522,D522)","v":-2.6042319924384705},2.0465404189464311,-1.8565609710898423,1.8127477162966537,null,{"$f":"Burmester($B$3:$C$3,$B$4:$C$4,$B$6:$C$6,$E$3,$E$4,$E$6,B522)","v":{"$error":"#VALUE!"}},{"$error":"#VALUE!"},{"$f":"ThreePosition_Basic2($E$3,$E$6,$B$3:$C$3,$B$6:$C$6,B522,N522)","v":{"$error":"#VALUE!"}},{"$error":"#VALUE!"},{"$error":"#VALUE!"},{"$error":"#VALUE!"},{"$f":"ThreePosition_Basic2($E$3,$E$6,$B$3:$C$3,$B$6:$C$6,B522,O522)","v":{"$error":"#VALUE!"}},{"$error":"#VALUE!"},{"$error":"#VALUE!"},{"$error":"#VALUE!"}]
[254,4.4331363000655974,{"$f":"Burmester($B$3:$C$3,$B$4:$C$4,$B$5:$C$5,$E$3,$E$4,$E$5,B523)","v":1.0462191069611448},3.3942818261492569,{"$f":"ThreePosition_Basic2($E$3,$E$5,$B$3:$C$3,$B$5:$C$5,B523,C523)","v":-2.2456515394656438},3.3608929268959704,-1.5974639322180506,3.2322586165029512,{"$f":"ThreePosition_Basic2($E$3,$E$5,$B$3:$C$3,$B$5:$C$5,B523,D523)","v":-2.6091365666861503},2.0447518084563865,-1.8601630245770204,1.806364495239148,null,{"$f":"Burmester($B$3:$C$3,$B$4:$C$4,$B$6:$C$6,$E$3,$E$4,$E$6,B523)","v":{"$error":"#VALUE!"}},{"$error":"#VALUE!"},{"$f":"ThreePosition_Basic2($E$3,$E$6,$B$3:$C$3,$B$6:$C$6,B523,N523)","v":{"$error":"#VALUE!"}},{"$error":"#VALUE!"},{"$error":"#VALUE!"},{"$error":"#VALUE!"},{"$f":"ThreePosition_Basic2($E$3,$E$6,$B$3:$C$3,$B$6:$C$6,B523,O523)","v":{"$error":"#VALUE!"}},{"$error":"#VALUE!"},{"$error":"#VALUE!"},{"$error":"#VALUE!"}]
[254.5,4.4418629463255686,{"$f":"Burmester($B$3:$C$3,$B$4:$C$4,$B$5:$C$5,$E$3,$E$4,$E$5,B524)","v":1.0534020361639955},3.4011999745701806,{"$f":"ThreePosition_Basic2($E$3,$E$5,$B$3:$C$3,$B$5:$C$5,B524,C524)","v":-2.2512117867444092},3.3630221619620495,-1.6019710560496554,3.2307354270068598,{"$f":"ThreePosition_Basic2($E$3,$E$5,$B$3:$C$3,$B$5:$C$5,B524,D524)","v":-2.6140468257610765},2.0429128972603396,-1.8637627233223759,1.7998982281809275,null,{"$f":"Burmester($B$3:$C$3,$B$4:$C$4,$B$6:$C$6,$E$3,$E$4,$E$6,B524)","v":{"$error":"#VALUE!"}},{"$error":"#VALUE!"},{"$f":"ThreePosition_Basic2($E$3,$E$6,$B$3:$C$3,$B$6:$C$6,B524,N524)","v":{"$error":"#VALUE!"}},{"$error":"#VALUE!"},{"$error":"#VALUE!"},{"$error":"#VALUE!"},{"$f":"ThreePosition_Basic2($E$3,$E$6,$B$3:$C$3,$B$6:$C$6,B524,O524)","v":{"$error":"#VALUE!"}},{"$error":"#VALUE!"},{"$error":"#VALUE!"},{"$error":"#VALUE!"}]
[255,4.4505895925855405,{"$f":"Burmester($B$3:$C$3,$B$4:$C$4,$B$5:$C$5,$E$3,$E$4,$E$5,B525)","v":1.0605244162176519},3.4081784574263065,{"$f":"ThreePosition_Basic2($E$3,$E$5,$B$3:$C$3,$B$5:$C$5,B525,C525)","v":-2.2567634646500294},3.3651867944345031,-1.6064687915516531,3.2292307711183157,{"$f":"ThreePosition_Basic2($E$3,$E$5,$B$3:$C$3,$B$5:$C$5,B525,D525)","v":-2.6189628623903918},2.041023263599512,-1.8673600372167174,1.7933479212856533,null,{"$f":"Burmester($B$3:$C$3,$B$4:$C$4,$B$6:$C$6,$E$3,$E$4,$E$6,B525)","v":{"$error":"#VALUE!"}},{"$error":"#VALUE!"},{"$f":"ThreePosition_Basic2($E$3,$E$6,$B$3:$C$3,$B$6:$C$6,B525,N525)","v":{"$error":"#VALUE!"}},{"$error":"#VALUE!"},{"$error":"#VALUE!"},{"$error":"#VALUE!"},{"$f":"ThreePosition_Basic2($E$3,$E$6,$B$3:$C$3,$B$6:$C$6,B525,O525)","v":{"$error":"#VALUE!"}},{"$error":"#VALUE!"},{"$error":"#VALUE!"},{"$error":"#VALUE!"}]
[255.5,4.4593162388455116,{"$f":"Burmester($B$3:$C$3,$B$4:$C$4,$B$5:$C$5,$E$3,$E$4,$E$5,B526)","v":1.0675863045839862},3.4152173442885996,{"$f":"ThreePosition_Basic2($E$3,$E$5,$B$3:$C$3,$B$5:$C$5,B526,C526)","v":-2.2623068013119516},3.367387356210811,-1.6109573232631,3.2277449327405217,{"$f":"ThreePosition_Basic2($E$3,$E$5,$B$3:$C$3,$B$5:$C$5,B526,D526)","v":-2.6238847670509231},2.0390824836372285,-1.8709549322248002,1.7867125682032985,null,{"$f":"Burmester($B$3:$C$3,$B$4:$C$4,$B$6:$C$6,$E$3,$E$4,$E$6,B526)","v":{"$error":"#VALUE!"}},{"$error":"#VALUE!"},{"$f":"ThreePosition_Basic2($E$3,$E$6,$B$3:$C$3,$B$6:$C$6,B526,N526)","v":{"$error":"#VALUE!"}},{"$error":"#VALUE!"},{"$error":"#VALUE!"},{"$error":"#VALUE!"},{"$f":"ThreePosition_Basic2($E$3,$E$6,$B$3:$C$3,$B$6:$C$6,B526,O526)","v":{"$error":"#VALUE!"}},{"$error":"#VALUE!"},{"$error":"#VALUE!"},{"$error":"#VALUE!"}]
[256,4.4680428851054836,{"$f":"Burmester($B$3:$C$3,$B$4:$C$4,$B$5:$C$5,$E$3,$E$4,$E$5,B527)","v":1.0745877638085348},3.4223166996386087,{"$f":"ThreePosition_Basic2($E$3,$E$5,$B$3:$C$3,$B$5:$C$5,B527,C527)","v":-2.2678420269436166},3.3696243803616719,-1.615436836989796,3.2262781930522935,{"$f":"ThreePosition_Basic2($E$3,$E$5,$B$3:$C$3,$B$5:$C$5,B527,D527)","v":-2.6288126279747375},2.0370901314100247,-1.8745473703436288,1.7799911497609768,null,{"$f":"Burmester($B$3:$C$3,$B$4:$C$4,$B$6:$C$6,$E$3,$E$4,$E$6,B527)","v":{"$error":"#VALUE!"}},{"$error":"#VALUE!"},{"$f":"ThreePosition_Basic2($E$3,$E$6,$B$3:$C$3,$B$6:$C$6,B527,N527)","v":{"$error":"#VALUE!"}},{"$error":"#VALUE!"},{"$error":"#VALUE!"},{"$error":"#VALUE!"},{"$f":"ThreePosition_Basic2($E$3,$E$6,$B$3:$C$3,$B$6:$C$6,B527,O527)","v":{"$error":"#VALUE!"}},{"$error":"#VALUE!"},{"$error":"#VALUE!"},{"$error":"#VALUE!"}]
[256.5,{"$f":"A528*PI()/180","v":4.4767695313654556},{"$f":"Burmester($B$3:$C$3,$B$4:$C$4,$B$5:$C$5,$E$3,$E$4,$E$5,B528)","v":1.081528861525642},3.4294765828716534,{"$f":"ThreePosition_Basic2($E$3,$E$5,$B$3:$C$3,$B$5:$C$5,B528,C528)","v":-2.2733693738717164},3.3718984012348496,-1.6199075198185167,3.2248308305177456,{"$f":"ThreePosition_Basic2($E$3,$E$5,$B$3:$C$3,$B$5:$C$5,B528,D528)","v":-2.6337465311548147},2.0350457787748448,-1.878137309559373,1.7731826336420649,null,{"$f":"Burmester($B$3:$C$3,$B$4:$C$4,$B$6:$C$6,$E$3,$E$4,$E$6,B528)","v":{"$error":"#VALUE!"}},{"$error":"#VALUE!"},{"$f":"ThreePosition_Basic2($E$3,$E$6,$B$3:$C$3,$B$6:$C$6,B528,N528)","v":{"$error":"#VALUE!"}},{"$error":"#VALUE!"},{"$error":"#VALUE!"},{"$error":"#VALUE!"},{"$f":"ThreePosition_Basic2($E$3,$E$6,$B$3:$C$3,$B$6:$C$6,B528,O528)","v":{"$error":"#VALUE!"}},{"$error":"#VALUE!"},{"$error":"#VALUE!"},{"$error":"#VALUE!"}]
[257,4.4854961776254267,{"$f":"Burmester($B$3:$C$3,$B$4:$C$4,$B$5:$C$5,$E$3,$E$4,$E$5,B529)","v":1.0884096704584902},3.4366970483051409,{"$f":"ThreePosition_Basic2($E$3,$E$5,$B$3:$C$3,$B$5:$C$5,B529,C529)","v":-2.2788890765654131},3.3742099545635451,-1.6243695601310031,3.2234031208983422,{"$f":"ThreePosition_Basic2($E$3,$E$5,$B$3:$C$3,$B$5:$C$5,B529,D529)","v":-2.6386865603508323},2.0329489953522124,-1.8817247038028408,1.7662859740532086,null,{"$f":"Burmester($B$3:$C$3,$B$4:$C$4,$B$6:$C$6,$E$3,$E$4,$E$6,B529)","v":{"$error":"#VALUE!"}},{"$error":"#VALUE!"},{"$f":"ThreePosition_Basic2($E$3,$E$6,$B$3:$C$3,$B$6:$C$6,B529,N529)","v":{"$error":"#VALUE!"}},{"$error":"#VALUE!"},{"$error":"#VALUE!"},{"$error":"#VALUE!"},{"$f":"ThreePosition_Basic2($E$3,$E$6,$B$3:$C$3,$B$6:$C$6,B529,O529)","v":{"$error":"#VALUE!"}},{"$error":"#VALUE!"},{"$error":"#VALUE!"},{"$error":"#VALUE!"}]
[257.5,4.4942228238853987,{"$f":"Burmester($B$3:$C$3,$B$4:$C$4,$B$5:$C$5,$E$3,$E$4,$E$5,B530)","v":1.095230268414038},3.4439781451919727,{"$f":"ThreePosition_Basic2($E$3,$E$5,$B$3:$C$3,$B$5:$C$5,B530,C530)","v":-2.2844013716655587},3.3765595775794459,-1.6288231476177475,3.2219953372674204,{"$f":"ThreePosition_Basic2($E$3,$E$5,$B$3:$C$3,$B$5:$C$5,B530,D530)","v":-2.6436327970950617},2.0307993484653233,-1.8853095029034583,1.7593001113788849,null,{"$f":"Burmester($B$3:$C$3,$B$4:$C$4,$B$6:$C$6,$E$3,$E$4,$E$6,B530)","v":{"$error":"#VALUE!"}},{"$error":"#VALUE!"},{"$f":"ThreePosition_Basic2($E$3,$E$6,$B$3:$C$3,$B$6:$C$6,B530,N530)","v":{"$error":"#VALUE!"}},{"$error":"#VALUE!"},{"$error":"#VALUE!"},{"$error":"#VALUE!"},{"$f":"ThreePosition_Basic2($E$3,$E$6,$B$3:$C$3,$B$6:$C$6,B530,O530)","v":{"$error":"#VALUE!"}},{"$error":"#VALUE!"},{"$error":"#VALUE!"},{"$error":"#VALUE!"}]
[258,4.5029494701453698,{"$f":"Burmester($B$3:$C$3,$B$4:$C$4,$B$5:$C$5,$E$3,$E$4,$E$5,B531)","v":1.1019907382728604},3.451319917739037,{"$f":"ThreePosition_Basic2($E$3,$E$5,$B$3:$C$3,$B$5:$C$5,B531,C531)","v":-2.2899064980139063},3.3789478091305529,-1.6332684732915554,3.220607750027213,{"$f":"ThreePosition_Basic2($E$3,$E$5,$B$3:$C$3,$B$5:$C$5,B531,D531)","v":-2.648585320698329},2.0285964030749435,-1.8888916525416513,1.7522239718231025,null,{"$f":"Burmester($B$3:$C$3,$B$4:$C$4,$B$6:$C$6,$E$3,$E$4,$E$6,B531)","v":{"$error":"#VALUE!"}},{"$error":"#VALUE!"},{"$f":"ThreePosition_Basic2($E$3,$E$6,$B$3:$C$3,$B$6:$C$6,B531,N531)","v":{"$error":"#VALUE!"}},{"$error":"#VALUE!"},{"$error":"#VALUE!"},{"$error":"#VALUE!"},{"$f":"ThreePosition_Basic2($E$3,$E$6,$B$3:$C$3,$B$6:$C$6,B531,O531)","v":{"$error":"#VALUE!"}},{"$error":"#VALUE!"},{"$error":"#VALUE!"},{"$error":"#VALUE!"}]
[258.5,4.5116761164053418,{"$f":"Burmester($B$3:$C$3,$B$4:$C$4,$B$5:$C$5,$E$3,$E$4,$E$5,B532)","v":1.108691167973924},3.4587224051307883,{"$f":"ThreePosition_Basic2($E$3,$E$5,$B$3:$C$3,$B$5:$C$5,B532,C532)","v":-2.2954046966823842},3.3813751898039492,-1.6377057295009441,3.2192406269284692,{"$f":"ThreePosition_Basic2($E$3,$E$5,$B$3:$C$3,$B$5:$C$5,B532,D532)","v":-2.6535442082560574},2.0263397217100376,-1.8924710941995975,1.7450564670378519,null,{"$f":"Burmester($B$3:$C$3,$B$4:$C$4,$B$6:$C$6,$E$3,$E$4,$E$6,B532)","v":{"$error":"#VALUE!"}},{"$error":"#VALUE!"},{"$f":"ThreePosition_Basic2($E$3,$E$6,$B$3:$C$3,$B$6:$C$6,B532,N532)","v":{"$error":"#VALUE!"}},{"$error":"#VALUE!"},{"$error":"#VALUE!"},{"$error":"#VALUE!"},{"$f":"ThreePosition_Basic2($E$3,$E$6,$B$3:$C$3,$B$6:$C$6,B532,O532)","v":{"$error":"#VALUE!"}},{"$error":"#VALUE!"},{"$error":"#VALUE!"},{"$error":"#VALUE!"}]
[259,4.5204027626653129,{"$f":"Burmester($B$3:$C$3,$B$4:$C$4,$B$5:$C$5,$E$3,$E$4,$E$5,B533)","v":1.1153316504943234},3.4661856415578445,{"$f":"ThreePosition_Basic2($E$3,$E$5,$B$3:$C$3,$B$5:$C$5,B533,C533)","v":-2.3008962110024194},3.3838422620536153,-1.6421351099433581,3.2178942330927125,{"$f":"ThreePosition_Basic2($E$3,$E$5,$B$3:$C$3,$B$5:$C$5,B533,D533)","v":-2.6585095346543417},2.0240288643940709,-1.8960477651102359,1.7377964937379333,null,{"$f":"Burmester($B$3:$C$3,$B$4:$C$4,$B$6:$C$6,$E$3,$E$4,$E$6,B533)","v":{"$error":"#VALUE!"}},{"$error":"#VALUE!"},{"$f":"ThreePosition_Basic2($E$3,$E$6,$B$3:$C$3,$B$6:$C$6,B533,N533)","v":{"$error":"#VALUE!"}},{"$error":"#VALUE!"},{"$error":"#VALUE!"},{"$error":"#VALUE!"},{"$f":"ThreePosition_Basic2($E$3,$E$6,$B$3:$C$3,$B$6:$C$6,B533,O533)","v":{"$error":"#VALUE!"}},{"$error":"#VALUE!"},{"$error":"#VALUE!"},{"$error":"#VALUE!"}]
[259.5,4.5291294089252849,{"$f":"Burmester($B$3:$C$3,$B$4:$C$4,$B$5:$C$5,$E$3,$E$4,$E$5,B534)","v":1.121912283824013},3.4737096562506102,{"$f":"ThreePosition_Basic2($E$3,$E$5,$B$3:$C$3,$B$5:$C$5,B534,C534)","v":-2.3063812865943709},3.3863495703334294,-1.6465568096782488,3.2165688310371965,{"$f":"ThreePosition_Basic2($E$3,$E$5,$B$3:$C$3,$B$5:$C$5,B534,D534)","v":-2.6634813725760669},2.0216633885668518,-1.8996215982044939,1.7304429333016857,null,{"$f":"Burmester($B$3:$C$3,$B$4:$C$4,$B$6:$C$6,$E$3,$E$4,$E$6,B534)","v":{"$error":"#VALUE!"}},{"$error":"#VALUE!"},{"$f":"ThreePosition_Basic2($E$3,$E$6,$B$3:$C$3,$B$6:$C$6,B534,N534)","v":{"$error":"#VALUE!"}},{"$error":"#VALUE!"},{"$error":"#VALUE!"},{"$error":"#VALUE!"},{"$f":"ThreePosition_Basic2($E$3,$E$6,$B$3:$C$3,$B$6:$C$6,B534,O534)","v":{"$error":"#VALUE!"}},{"$error":"#VALUE!"},{"$error":"#VALUE!"},{"$error":"#VALUE!"}]
[260,4.5378560551852569,{"$f":"Burmester($B$3:$C$3,$B$4:$C$4,$B$5:$C$5,$E$3,$E$4,$E$5,B535)","v":1.1284331709355722},3.4812944735178508,{"$f":"ThreePosition_Basic2($E$3,$E$5,$B$3:$C$3,$B$5:$C$5,B535,C535)","v":-2.3118601713970848},3.3888976612354829,-1.6509710251400214,3.2152646807026168,{"$f":"ThreePosition_Basic2($E$3,$E$5,$B$3:$C$3,$B$5:$C$5,B535,D535)","v":-2.6684597925070044},2.0192428490019023,-1.9031925220565959,1.7229946513572674,null,{"$f":"Burmester($B$3:$C$3,$B$4:$C$4,$B$6:$C$6,$E$3,$E$4,$E$6,B535)","v":{"$error":"#VALUE!"}},{"$error":"#VALUE!"},{"$f":"ThreePosition_Basic2($E$3,$E$6,$B$3:$C$3,$B$6:$C$6,B535,N535)","v":{"$error":"#VALUE!"}},{"$error":"#VALUE!"},{"$error":"#VALUE!"},{"$error":"#VALUE!"},{"$f":"ThreePosition_Basic2($E$3,$E$6,$B$3:$C$3,$B$6:$C$6,B535,O535)","v":{"$error":"#VALUE!"}},{"$error":"#VALUE!"},{"$error":"#VALUE!"},{"$error":"#VALUE!"}]
[260.5,4.546582701445228,{"$f":"Burmester($B$3:$C$3,$B$4:$C$4,$B$5:$C$5,$E$3,$E$4,$E$5,B536)","v":1.134894419749068},3.4889401127901811,{"$f":"ThreePosition_Basic2($E$3,$E$5,$B$3:$C$3,$B$5:$C$5,B536,C536)","v":-2.3173331156976258},3.39148708363382,-1.6553779541508891,3.2139820394836138,{"$f":"ThreePosition_Basic2($E$3,$E$5,$B$3:$C$3,$B$5:$C$5,B536,D536)","v":-2.6734448627419147},2.0167667977192369,-1.9067604608274287,1.7154504973539964,null,{"$f":"Burmester($B$3:$C$3,$B$4:$C$4,$B$6:$C$6,$E$3,$E$4,$E$6,B536)","v":{"$error":"#VALUE!"}},{"$error":"#VALUE!"},{"$f":"ThreePosition_Basic2($E$3,$E$6,$B$3:$C$3,$B$6:$C$6,B536,N536)","v":{"$error":"#VALUE!"}},{"$error":"#VALUE!"},{"$error":"#VALUE!"},{"$error":"#VALUE!"},{"$f":"ThreePosition_Basic2($E$3,$E$6,$B$3:$C$3,$B$6:$C$6,B536,O536)","v":{"$error":"#VALUE!"}},{"$error":"#VALUE!"},{"$error":"#VALUE!"},{"$error":"#VALUE!"}]
[261,4.5553093477052,{"$f":"Burmester($B$3:$C$3,$B$4:$C$4,$B$5:$C$5,$E$3,$E$4,$E$5,B537)","v":1.141296143092053},3.4966465886684275,{"$f":"ThreePosition_Basic2($E$3,$E$5,$B$3:$C$3,$B$5:$C$5,B537,C537)","v":-2.3228003721612032},3.3941183888337618,-1.6597777959336417,3.2127211622621337,{"$f":"ThreePosition_Basic2($E$3,$E$5,$B$3:$C$3,$B$5:$C$5,B537,D537)","v":-2.6784366493905774},2.0142347838934893,-1.9103253342058122,1.7078093041183204,null,{"$f":"Burmester($B$3:$C$3,$B$4:$C$4,$B$6:$C$6,$E$3,$E$4,$E$6,B537)","v":{"$error":"#VALUE!"}},{"$error":"#VALUE!"},{"$f":"ThreePosition_Basic2($E$3,$E$6,$B$3:$C$3,$B$6:$C$6,B537,N537)","v":{"$error":"#VALUE!"}},{"$error":"#VALUE!"},{"$error":"#VALUE!"},{"$error":"#VALUE!"},{"$f":"ThreePosition_Basic2($E$3,$E$6,$B$3:$C$3,$B$6:$C$6,B537,O537)","v":{"$error":"#VALUE!"}},{"$error":"#VALUE!"},{"$error":"#VALUE!"},{"$error":"#VALUE!"}]
[261.5,4.564035993965172,{"$f":"Burmester($B$3:$C$3,$B$4:$C$4,$B$5:$C$5,$E$3,$E$4,$E$5,B538)","v":1.1476384586547648},3.5044139109767682,{"$f":"ThreePosition_Basic2($E$3,$E$5,$B$3:$C$3,$B$5:$C$5,B538,C538)","v":-2.3282621958613312},3.3967921307269071,-1.6641707511243564,3.211482301443672,{"$f":"ThreePosition_Basic2($E$3,$E$5,$B$3:$C$3,$B$5:$C$5,B538,D538)","v":-2.683435216383752},2.0116463537573277,-1.9138870573476168,1.7000698873939679,null,{"$f":"Burmester($B$3:$C$3,$B$4:$C$4,$B$6:$C$6,$E$3,$E$4,$E$6,B538)","v":{"$error":"#VALUE!"}},{"$error":"#VALUE!"},{"$f":"ThreePosition_Basic2($E$3,$E$6,$B$3:$C$3,$B$6:$C$6,B538,N538)","v":{"$error":"#VALUE!"}},{"$error":"#VALUE!"},{"$error":"#VALUE!"},{"$error":"#VALUE!"},{"$f":"ThreePosition_Basic2($E$3,$E$6,$B$3:$C$3,$B$6:$C$6,B538,O538)","v":{"$error":"#VALUE!"}},{"$error":"#VALUE!"},{"$error":"#VALUE!"},{"$error":"#VALUE!"}]
[262,4.572762640225144,{"$f":"Burmester($B$3:$C$3,$B$4:$C$4,$B$5:$C$5,$E$3,$E$4,$E$5,B539)","v":1.1539214889406151},3.5122420848206102,{"$f":"ThreePosition_Basic2($E$3,$E$5,$B$3:$C$3,$B$5:$C$5,B539,C539)","v":-2.3337188443102845},3.3995088659519448,-1.6685570217850945,3.2102657069964327,{"$f":"ThreePosition_Basic2($E$3,$E$5,$B$3:$C$3,$B$5:$C$5,B539,D539)","v":-2.6884406254790423},2.0090010505000766,-1.9174455408126232,1.6922310453657849,null,{"$f":"Burmester($B$3:$C$3,$B$4:$C$4,$B$6:$C$6,$E$3,$E$4,$E$6,B539)","v":{"$error":"#VALUE!"}},{"$error":"#VALUE!"},{"$f":"ThreePosition_Basic2($E$3,$E$6,$B$3:$C$3,$B$6:$C$6,B539,N539)","v":{"$error":"#VALUE!"}},{"$error":"#VALUE!"},{"$error":"#VALUE!"},{"$error":"#VALUE!"},{"$f":"ThreePosition_Basic2($E$3,$E$6,$B$3:$C$3,$B$6:$C$6,B539,O539)","v":{"$error":"#VALUE!"}},{"$error":"#VALUE!"},{"$error":"#VALUE!"},{"$error":"#VALUE!"}]
[262.5,4.5814892864851151,{"$f":"Burmester($B$3:$C$3,$B$4:$C$4,$B$5:$C$5,$E$3,$E$4,$E$5,B540)","v":1.1601453612120243},3.5201311106491087,{"$f":"ThreePosition_Basic2($E$3,$E$5,$B$3:$C$3,$B$5:$C$5,B540,C540)","v":-2.3391705774898663},3.4022691540614245,-1.672936811416589,3.2090716264934636,{"$f":"ThreePosition_Basic2($E$3,$E$5,$B$3:$C$3,$B$5:$C$5,B540,D540)","v":-2.693452936266608},2.0062984141614888,-1.9210006904990062,1.6842915581667841,null,{"$f":"Burmester($B$3:$C$3,$B$4:$C$4,$B$6:$C$6,$E$3,$E$4,$E$6,B540)","v":{"$error":"#VALUE!"}},{"$error":"#VALUE!"},{"$f":"ThreePosition_Basic2($E$3,$E$6,$B$3:$C$3,$B$6:$C$6,B540,N540)","v":{"$error":"#VALUE!"}},{"$error":"#VALUE!"},{"$error":"#VALUE!"},{"$error":"#VALUE!"},{"$f":"ThreePosition_Basic2($E$3,$E$6,$B$3:$C$3,$B$6:$C$6,B540,O540)","v":{"$error":"#VALUE!"}},{"$error":"#VALUE!"},{"$error":"#VALUE!"},{"$error":"#VALUE!"}]
[263,4.5902159327450871,{"$f":"Burmester($B$3:$C$3,$B$4:$C$4,$B$5:$C$5,$E$3,$E$4,$E$5,B541)","v":1.1663102074316769},3.5280809843222816,{"$f":"ThreePosition_Basic2($E$3,$E$5,$B$3:$C$3,$B$5:$C$5,B541,C541)","v":-2.3446176578825453},3.405073557694585,-1.6773103249709622,3.2079003051577715,{"$f":"ThreePosition_Basic2($E$3,$E$5,$B$3:$C$3,$B$5:$C$5,B541,D541)","v":-2.6984722061747211},2.0035379815205943,-1.9245524075753502,1.6762501873678866,null,{"$f":"Burmester($B$3:$C$3,$B$4:$C$4,$B$6:$C$6,$E$3,$E$4,$E$6,B541)","v":{"$error":"#VALUE!"}},{"$error":"#VALUE!"},{"$f":"ThreePosition_Basic2($E$3,$E$6,$B$3:$C$3,$B$6:$C$6,B541,N541)","v":{"$error":"#VALUE!"}},{"$error":"#VALUE!"},{"$error":"#VALUE!"},{"$error":"#VALUE!"},{"$f":"ThreePosition_Basic2($E$3,$E$6,$B$3:$C$3,$B$6:$C$6,B541,O541)","v":{"$error":"#VALUE!"}},{"$error":"#VALUE!"},{"$error":"#VALUE!"},{"$error":"#VALUE!"}]
[263.5,4.5989425790050582,{"$f":"Burmester($B$3:$C$3,$B$4:$C$4,$B$5:$C$5,$E$3,$E$4,$E$5,B542)","v":1.1724161641993152},3.5360916971825707,{"$f":"ThreePosition_Basic2($E$3,$E$5,$B$3:$C$3,$B$5:$C$5,B542,C542)","v":-2.3500603505030058},3.4079226427563714,-1.6816777688645028,3.2067519859104565,{"$f":"ThreePosition_Basic2($E$3,$E$5,$B$3:$C$3,$B$5:$C$5,B542,D542)","v":-2.7034984904750954},2.0007192859795682,-1.9281005884100622,1.6681056754498533,null,{"$f":"Burmester($B$3:$C$3,$B$4:$C$4,$B$6:$C$6,$E$3,$E$4,$E$6,B542)","v":{"$error":"#VALUE!"}},{"$error":"#VALUE!"},{"$f":"ThreePosition_Basic2($E$3,$E$6,$B$3:$C$3,$B$6:$C$6,B542,N542)","v":{"$error":"#VALUE!"}},{"$error":"#VALUE!"},{"$error":"#VALUE!"},{"$error":"#VALUE!"},{"$f":"ThreePosition_Basic2($E$3,$E$6,$B$3:$C$3,$B$6:$C$6,B542,O542)","v":{"$error":"#VALUE!"}},{"$error":"#VALUE!"},{"$error":"#VALUE!"},{"$error":"#VALUE!"}]
[264,4.6076692252650302,{"$f":"Burmester($B$3:$C$3,$B$4:$C$4,$B$5:$C$5,$E$3,$E$4,$E$5,B543)","v":1.17846337268413},3.544163236130832,{"$f":"ThreePosition_Basic2($E$3,$E$5,$B$3:$C$3,$B$5:$C$5,B543,C543)","v":-2.3554989229301566},3.4108169786027931,-1.6860393509905274,3.2056269094218961,{"$f":"ThreePosition_Basic2($E$3,$E$5,$B$3:$C$3,$B$5:$C$5,B543,D543)","v":-2.7085318422879987},1.9978418574425572,-1.9316451244980977,1.6598567452568451,null,{"$f":"Burmester($B$3:$C$3,$B$4:$C$4,$B$6:$C$6,$E$3,$E$4,$E$6,B543)","v":{"$error":"#VALUE!"}},{"$error":"#VALUE!"},{"$f":"ThreePosition_Basic2($E$3,$E$6,$B$3:$C$3,$B$6:$C$6,B543,N543)","v":{"$error":"#VALUE!"}},{"$error":"#VALUE!"},{"$error":"#VALUE!"},{"$error":"#VALUE!"},{"$f":"ThreePosition_Basic2($E$3,$E$6,$B$3:$C$3,$B$6:$C$6,B543,O543)","v":{"$error":"#VALUE!"}},{"$error":"#VALUE!"},{"$error":"#VALUE!"},{"$error":"#VALUE!"}]
[264.5,4.6163958715250013,{"$f":"Burmester($B$3:$C$3,$B$4:$C$4,$B$5:$C$5,$E$3,$E$4,$E$5,B544)","v":1.1844519785528744},3.552295583706583,{"$f":"ThreePosition_Basic2($E$3,$E$5,$B$3:$C$3,$B$5:$C$5,B544,C544)","v":-2.3609336453396579},3.4137571382327088,-1.6903952807323717,3.2045253141659815,{"$f":"ThreePosition_Basic2($E$3,$E$5,$B$3:$C$3,$B$5:$C$5,B544,D544)","v":-2.7135723125870665},1.9949052221894044,-1.9351859023848428,1.6515020994310825,null,{"$f":"Burmester($B$3:$C$3,$B$4:$C$4,$B$6:$C$6,$E$3,$E$4,$E$6,B544)","v":{"$error":"#VALUE!"}},{"$error":"#VALUE!"},{"$f":"ThreePosition_Basic2($E$3,$E$6,$B$3:$C$3,$B$6:$C$6,B544,N544)","v":{"$error":"#VALUE!"}},{"$error":"#VALUE!"},{"$error":"#VALUE!"},{"$error":"#VALUE!"},{"$f":"ThreePosition_Basic2($E$3,$E$6,$B$3:$C$3,$B$6:$C$6,B544,O544)","v":{"$error":"#VALUE!"}},{"$error":"#VALUE!"},{"$error":"#VALUE!"},{"$error":"#VALUE!"}]
[265,4.6251225177849733,{"$f":"Burmester($B$3:$C$3,$B$4:$C$4,$B$5:$C$5,$E$3,$E$4,$E$5,B545)","v":1.1903821318937802},3.5604887181724747,{"$f":"ThreePosition_Basic2($E$3,$E$5,$B$3:$C$3,$B$5:$C$5,B545,C545)","v":-2.3663647905370011},3.4167436984862172,-1.6947457689765237,3.2034474364774548,{"$f":"ThreePosition_Basic2($E$3,$E$5,$B$3:$C$3,$B$5:$C$5,B545,D545)","v":-2.7186199502038102},1.9919089027442058,-1.938722803587047,1.6430404198279929,null,{"$f":"Burmester($B$3:$C$3,$B$4:$C$4,$B$6:$C$6,$E$3,$E$4,$E$6,B545)","v":{"$error":"#VALUE!"}},{"$error":"#VALUE!"},{"$f":"ThreePosition_Basic2($E$3,$E$6,$B$3:$C$3,$B$6:$C$6,B545,N545)","v":{"$error":"#VALUE!"}},{"$error":"#VALUE!"},{"$error":"#VALUE!"},{"$error":"#VALUE!"},{"$f":"ThreePosition_Basic2($E$3,$E$6,$B$3:$C$3,$B$6:$C$6,B545,O545)","v":{"$error":"#VALUE!"}},{"$error":"#VALUE!"},{"$error":"#VALUE!"},{"$error":"#VALUE!"}]
[265.5,4.6338491640449444,{"$f":"Burmester($B$3:$C$3,$B$4:$C$4,$B$5:$C$5,$E$3,$E$4,$E$5,B546)","v":1.1962539871364049},3.5687426136028173,{"$f":"ThreePosition_Basic2($E$3,$E$5,$B$3:$C$3,$B$5:$C$5,B546,C546)","v":-2.3717926339912077},3.4197772402497271,-1.699091028125949,3.2023935106123127,{"$f":"ThreePosition_Basic2($E$3,$E$5,$B$3:$C$3,$B$5:$C$5,B546,D546)","v":-2.7236748018317485},1.9888524177386553,-1.9422557045106594,1.6344703669112888,null,{"$f":"Burmester($B$3:$C$3,$B$4:$C$4,$B$6:$C$6,$E$3,$E$4,$E$6,B546)","v":{"$error":"#VALUE!"}},{"$error":"#VALUE!"},{"$f":"ThreePosition_Basic2($E$3,$E$6,$B$3:$C$3,$B$6:$C$6,B546,N546)","v":{"$error":"#VALUE!"}},{"$error":"#VALUE!"},{"$error":"#VALUE!"},{"$error":"#VALUE!"},{"$f":"ThreePosition_Basic2($E$3,$E$6,$B$3:$C$3,$B$6:$C$6,B546,O546)","v":{"$error":"#VALUE!"}},{"$error":"#VALUE!"},{"$error":"#VALUE!"},{"$error":"#VALUE!"}]
[266,4.6425758103049164,{"$f":"Burmester($B$3:$C$3,$B$4:$C$4,$B$5:$C$5,$E$3,$E$4,$E$5,B547)","v":1.2020677029675029},3.5770572399761007,{"$f":"ThreePosition_Basic2($E$3,$E$5,$B$3:$C$3,$B$5:$C$5,B547,C547)","v":-2.3772174538691995},3.4228583486679018,-1.7034312721136331,3.2013637688113517,{"$f":"ThreePosition_Basic2($E$3,$E$5,$B$3:$C$3,$B$5:$C$5,B547,D547)","v":-2.7287369120301626},1.9857352817700997,-1.9457844763654555,1.6257905791273104,null,{"$f":"Burmester($B$3:$C$3,$B$4:$C$4,$B$6:$C$6,$E$3,$E$4,$E$6,B547)","v":{"$error":"#VALUE!"}},{"$error":"#VALUE!"},{"$f":"ThreePosition_Basic2($E$3,$E$6,$B$3:$C$3,$B$6:$C$6,B547,N547)","v":{"$error":"#VALUE!"}},{"$error":"#VALUE!"},{"$error":"#VALUE!"},{"$error":"#VALUE!"},{"$f":"ThreePosition_Basic2($E$3,$E$6,$B$3:$C$3,$B$6:$C$6,B547,O547)","v":{"$error":"#VALUE!"}},{"$error":"#VALUE!"},{"$error":"#VALUE!"},{"$error":"#VALUE!"}]
[266.5,4.6513024565648875,{"$f":"Burmester($B$3:$C$3,$B$4:$C$4,$B$5:$C$5,$E$3,$E$4,$E$5,B548)","v":1.2078234422430536},3.5854325632713495,{"$f":"ThreePosition_Basic2($E$3,$E$5,$B$3:$C$3,$B$5:$C$5,B548,C548)","v":-2.3826395310708954},3.42598761336256,-1.7077667164163821,3.2003584413668089,{"$f":"ThreePosition_Basic2($E$3,$E$5,$B$3:$C$3,$B$5:$C$5,B548,D548)","v":-2.7338063232273813},1.9825570052542787,-1.949308985076275,1.6169996722580451,null,{"$f":"Burmester($B$3:$C$3,$B$4:$C$4,$B$6:$C$6,$E$3,$E$4,$E$6,B548)","v":{"$error":"#VALUE!"}},{"$error":"#VALUE!"},{"$f":"ThreePosition_Basic2($E$3,$E$6,$B$3:$C$3,$B$6:$C$6,B548,N548)","v":{"$error":"#VALUE!"}},{"$error":"#VALUE!"},{"$error":"#VALUE!"},{"$error":"#VALUE!"},{"$f":"ThreePosition_Basic2($E$3,$E$6,$B$3:$C$3,$B$6:$C$6,B548,O548)","v":{"$error":"#VALUE!"}},{"$error":"#VALUE!"},{"$error":"#VALUE!"},{"$error":"#VALUE!"}]
[267,4.6600291028248595,{"$f":"Burmester($B$3:$C$3,$B$4:$C$4,$B$5:$C$5,$E$3,$E$4,$E$5,B549)","v":1.2135213718965614},3.5938685455682289,{"$f":"ThreePosition_Basic2($E$3,$E$5,$B$3:$C$3,$B$5:$C$5,B549,C549)","v":-2.3880591492650951},3.4291656286587027,-1.7120975780689123,3.1993777566921358,{"$f":"ThreePosition_Basic2($E$3,$E$5,$B$3:$C$3,$B$5:$C$5,B549,D549)","v":-2.73888307572359},1.9793170942726579,-1.9528290911907566,1.6080962387521005,null,{"$f":"Burmester($B$3:$C$3,$B$4:$C$4,$B$6:$C$6,$E$3,$E$4,$E$6,B549)","v":{"$error":"#VALUE!"}},{"$error":"#VALUE!"},{"$f":"ThreePosition_Basic2($E$3,$E$6,$B$3:$C$3,$B$6:$C$6,B549,N549)","v":{"$error":"#VALUE!"}},{"$error":"#VALUE!"},{"$error":"#VALUE!"},{"$error":"#VALUE!"},{"$f":"ThreePosition_Basic2($E$3,$E$6,$B$3:$C$3,$B$6:$C$6,B549,O549)","v":{"$error":"#VALUE!"}},{"$error":"#VALUE!"},{"$error":"#VALUE!"},{"$error":"#VALUE!"}]
[267.5,4.6687557490848315,{"$f":"Burmester($B$3:$C$3,$B$4:$C$4,$B$5:$C$5,$E$3,$E$4,$E$5,B550)","v":1.2191616628437285},3.6023651451507588,{"$f":"ThreePosition_Basic2($E$3,$E$5,$B$3:$C$3,$B$5:$C$5,B550,C550)","v":-2.3934765949262071},3.4323929938177988,-1.716424075678268,3.1984219413949062,{"$f":"ThreePosition_Basic2($E$3,$E$5,$B$3:$C$3,$B$5:$C$5,B550,D550)","v":-2.7439672076930974},1.9760150504143239,-1.9563446497833901,1.5990788470329769,null,{"$f":"Burmester($B$3:$C$3,$B$4:$C$4,$B$6:$C$6,$E$3,$E$4,$E$6,B550)","v":{"$error":"#VALUE!"}},{"$error":"#VALUE!"},{"$f":"ThreePosition_Basic2($E$3,$E$6,$B$3:$C$3,$B$6:$C$6,B550,N550)","v":{"$error":"#VALUE!"}},{"$error":"#VALUE!"},{"$error":"#VALUE!"},{"$error":"#VALUE!"},{"$f":"ThreePosition_Basic2($E$3,$E$6,$B$3:$C$3,$B$6:$C$6,B550,O550)","v":{"$error":"#VALUE!"}},{"$error":"#VALUE!"},{"$error":"#VALUE!"},{"$error":"#VALUE!"}]
[268,4.6774823953448026,{"$f":"Burmester($B$3:$C$3,$B$4:$C$4,$B$5:$C$5,$E$3,$E$4,$E$5,B551)","v":1.2247444898836726},3.6109223166145092,{"$f":"ThreePosition_Basic2($E$3,$E$5,$B$3:$C$3,$B$5:$C$5,B551,C551)","v":-2.398892157371888},3.4356703132784578,-1.7207464294386066,3.1974912203528412,{"$f":"ThreePosition_Basic2($E$3,$E$5,$B$3:$C$3,$B$5:$C$5,B551,D551)","v":-2.7490587551860188},1.9726503706123764,-1.9598555103557427,1.5899460407839001,null,{"$f":"Burmester($B$3:$C$3,$B$4:$C$4,$B$6:$C$6,$E$3,$E$4,$E$6,B551)","v":{"$error":"#VALUE!"}},{"$error":"#VALUE!"},{"$f":"ThreePosition_Basic2($E$3,$E$6,$B$3:$C$3,$B$6:$C$6,B551,N551)","v":{"$error":"#VALUE!"}},{"$error":"#VALUE!"},{"$error":"#VALUE!"},{"$error":"#VALUE!"},{"$f":"ThreePosition_Basic2($E$3,$E$6,$B$3:$C$3,$B$6:$C$6,B551,O551)","v":{"$error":"#VALUE!"}},{"$error":"#VALUE!"},{"$error":"#VALUE!"},{"$error":"#VALUE!"}]
[268.5,4.6862090416047746,{"$f":"Burmester($B$3:$C$3,$B$4:$C$4,$B$5:$C$5,$E$3,$E$4,$E$5,B552)","v":1.2302700315967749},3.6195400109771625,{"$f":"ThreePosition_Basic2($E$3,$E$5,$B$3:$C$3,$B$5:$C$5,B552,C552)","v":-2.4043061288016534},3.4389981969046728,-1.7250648611463848,3.1965858167929868,{"$f":"ThreePosition_Basic2($E$3,$E$5,$B$3:$C$3,$B$5:$C$5,B552,D552)","v":-2.7541577521293314},1.9692225469747624,-1.963361516732689,1.5806963382084662,null,{"$f":"Burmester($B$3:$C$3,$B$4:$C$4,$B$6:$C$6,$E$3,$E$4,$E$6,B552)","v":{"$error":"#VALUE!"}},{"$error":"#VALUE!"},{"$f":"ThreePosition_Basic2($E$3,$E$6,$B$3:$C$3,$B$6:$C$6,B552,N552)","v":{"$error":"#VALUE!"}},{"$error":"#VALUE!"},{"$error":"#VALUE!"},{"$error":"#VALUE!"},{"$f":"ThreePosition_Basic2($E$3,$E$6,$B$3:$C$3,$B$6:$C$6,B552,O552)","v":{"$error":"#VALUE!"}},{"$error":"#VALUE!"},{"$error":"#VALUE!"},{"$error":"#VALUE!"}]
[269,4.6949356878647466,{"$f":"Burmester($B$3:$C$3,$B$4:$C$4,$B$5:$C$5,$E$3,$E$4,$E$5,B553)","v":1.2357384702393133},3.6282181757922918,{"$f":"ThreePosition_Basic2($E$3,$E$5,$B$3:$C$3,$B$5:$C$5,B553,C553)","v":-2.4097188043365243},3.4423772602417348,-1.7293795942159877,3.1957059523739981,{"$f":"ThreePosition_Basic2($E$3,$E$5,$B$3:$C$3,$B$5:$C$5,B553,D553)","v":-2.7592642303272359},1.9657310666094947,-1.9668625069544587,1.5713282312663206,null,{"$f":"Burmester($B$3:$C$3,$B$4:$C$4,$B$6:$C$6,$E$3,$E$4,$E$6,B553)","v":{"$error":"#VALUE!"}},{"$error":"#VALUE!"},{"$f":"ThreePosition_Basic2($E$3,$E$6,$B$3:$C$3,$B$6:$C$6,B553,N553)","v":{"$error":"#VALUE!"}},{"$error":"#VALUE!"},{"$error":"#VALUE!"},{"$error":"#VALUE!"},{"$f":"ThreePosition_Basic2($E$3,$E$6,$B$3:$C$3,$B$6:$C$6,B553,O553)","v":{"$error":"#VALUE!"}},{"$error":"#VALUE!"},{"$error":"#VALUE!"},{"$error":"#VALUE!"}]
[269.5,4.7036623341247186,{"$f":"Burmester($B$3:$C$3,$B$4:$C$4,$B$5:$C$5,$E$3,$E$4,$E$5,B554)","v":1.2411499916350035},3.6369567552662412,{"$f":"ThreePosition_Basic2($E$3,$E$5,$B$3:$C$3,$B$5:$C$5,B554,C554)","v":-2.4151304820597823},3.4458081247800258,-1.73369085369584,3.1948518472715666,{"$f":"ThreePosition_Basic2($E$3,$E$5,$B$3:$C$3,$B$5:$C$5,B554,D554)","v":-2.764378219460796},1.9621754114441949,-1.970358313164347,1.5618401848830463,null,{"$f":"Burmester($B$3:$C$3,$B$4:$C$4,$B$6:$C$6,$E$3,$E$4,$E$6,B554)","v":{"$error":"#VALUE!"}},{"$error":"#VALUE!"},{"$f":"ThreePosition_Basic2($E$3,$E$6,$B$3:$C$3,$B$6:$C$6,B554,N554)","v":{"$error":"#VALUE!"}},{"$error":"#VALUE!"},{"$error":"#VALUE!"},{"$error":"#VALUE!"},{"$f":"ThreePosition_Basic2($E$3,$E$6,$B$3:$C$3,$B$6:$C$6,B554,O554)","v":{"$error":"#VALUE!"}},{"$error":"#VALUE!"},{"$error":"#VALUE!"},{"$error":"#VALUE!"}]
[270,4.7123889803846897,{"$f":"Burmester($B$3:$C$3,$B$4:$C$4,$B$5:$C$5,$E$3,$E$4,$E$5,B555)","v":1.2465047850635873},3.6457556903779653,{"$f":"ThreePosition_Basic2($E$3,$E$5,$B$3:$C$3,$B$5:$C$5,B555,C555)","v":-2.4205414630588979},3.4492914182268204,-1.7379988662850394,3.1940237202669661,{"$f":"ThreePosition_Basic2($E$3,$E$5,$B$3:$C$3,$B$5:$C$5,B555,D555)","v":-2.7694997470867784},1.9585550580399085,-1.9738487614918705,1.5522306361334259,null,{"$f":"Burmester($B$3:$C$3,$B$4:$C$4,$B$6:$C$6,$E$3,$E$4,$E$6,B555)","v":{"$error":"#VALUE!"}},{"$error":"#VALUE!"},{"$f":"ThreePosition_Basic2($E$3,$E$6,$B$3:$C$3,$B$6:$C$6,B555,N555)","v":{"$error":"#VALUE!"}},{"$error":"#VALUE!"},{"$error":"#VALUE!"},{"$error":"#VALUE!"},{"$f":"ThreePosition_Basic2($E$3,$E$6,$B$3:$C$3,$B$6:$C$6,B555,O555)","v":{"$error":"#VALUE!"}},{"$error":"#VALUE!"},{"$error":"#VALUE!"},{"$error":"#VALUE!"}]
[270.5,4.7211156266446617,{"$f":"Burmester($B$3:$C$3,$B$4:$C$4,$B$5:$C$5,$E$3,$E$4,$E$5,B556)","v":1.2518030431466141},3.6546149190016832,{"$f":"ThreePosition_Basic2($E$3,$E$5,$B$3:$C$3,$B$5:$C$5,B556,C556)","v":-2.4259520514687027},3.4528277747862708,-1.7423038603505512,3.1932217888387076,{"$f":"ThreePosition_Basic2($E$3,$E$5,$B$3:$C$3,$B$5:$C$5,B556,D556)","v":-2.7746288386356608},1.9548694773991186,-1.9773336719312078,1.5424979933971676,null,{"$f":"Burmester($B$3:$C$3,$B$4:$C$4,$B$6:$C$6,$E$3,$E$4,$E$6,B556)","v":{"$error":"#VALUE!"}},{"$error":"#VALUE!"},{"$f":"ThreePosition_Basic2($E$3,$E$6,$B$3:$C$3,$B$6:$C$6,B556,N556)","v":{"$error":"#VALUE!"}},{"$error":"#VALUE!"},{"$error":"#VALUE!"},{"$error":"#VALUE!"},{"$f":"ThreePosition_Basic2($E$3,$E$6,$B$3:$C$3,$B$6:$C$6,B556,O556)","v":{"$error":"#VALUE!"}},{"$error":"#VALUE!"},{"$error":"#VALUE!"},{"$error":"#VALUE!"}]
[271,4.7298422729046328,{"$f":"Burmester($B$3:$C$3,$B$4:$C$4,$B$5:$C$5,$E$3,$E$4,$E$5,B557)","v":1.2570449617305246},3.6635343760322234,{"$f":"ThreePosition_Basic2($E$3,$E$5,$B$3:$C$3,$B$5:$C$5,B557,C557)","v":-2.4313625545158781},3.4564178354477453,-1.7466060659450067,3.1924462692573079,{"$f":"ThreePosition_Basic2($E$3,$E$5,$B$3:$C$3,$B$5:$C$5,B557,D557)","v":-2.7797655174087423},1.9511181347679212,-1.980812858214698,1.5326406354862101,null,{"$f":"Burmester($B$3:$C$3,$B$4:$C$4,$B$6:$C$6,$E$3,$E$4,$E$6,B557)","v":{"$error":"#VALUE!"}},{"$error":"#VALUE!"},{"$f":"ThreePosition_Basic2($E$3,$E$6,$B$3:$C$3,$B$6:$C$6,B557,N557)","v":{"$error":"#VALUE!"}},{"$error":"#VALUE!"},{"$error":"#VALUE!"},{"$error":"#VALUE!"},{"$f":"ThreePosition_Basic2($E$3,$E$6,$B$3:$C$3,$B$6:$C$6,B557,O557)","v":{"$error":"#VALUE!"}},{"$error":"#VALUE!"},{"$error":"#VALUE!"},{"$error":"#VALUE!"}]
[271.5,4.7385689191646048,{"$f":"Burmester($B$3:$C$3,$B$4:$C$4,$B$5:$C$5,$E$3,$E$4,$E$5,B558)","v":1.2622307397672095},3.672513993512919,{"$f":"ThreePosition_Basic2($E$3,$E$5,$B$3:$C$3,$B$5:$C$5,B558,C558)","v":-2.4367732825648374},3.4600622482827172,-1.750905714825147,3.1916973766831624,{"$f":"ThreePosition_Basic2($E$3,$E$5,$B$3:$C$3,$B$5:$C$5,B558,D558)","v":-2.7849098045742955},1.9473004894322561,-1.9842861276811941,1.5226569107425774,null,{"$f":"Burmester($B$3:$C$3,$B$4:$C$4,$B$6:$C$6,$E$3,$E$4,$E$6,B558)","v":{"$error":"#VALUE!"}},{"$error":"#VALUE!"},{"$f":"ThreePosition_Basic2($E$3,$E$6,$B$3:$C$3,$B$6:$C$6,B558,N558)","v":{"$error":"#VALUE!"}},{"$error":"#VALUE!"},{"$error":"#VALUE!"},{"$error":"#VALUE!"},{"$f":"ThreePosition_Basic2($E$3,$E$6,$B$3:$C$3,$B$6:$C$6,B558,O558)","v":{"$error":"#VALUE!"}},{"$error":"#VALUE!"},{"$error":"#VALUE!"},{"$error":"#VALUE!"}]
[272,4.7472955654245768,{"$f":"Burmester($B$3:$C$3,$B$4:$C$4,$B$5:$C$5,$E$3,$E$4,$E$5,B559)","v":1.2673605791921503},3.6815537007659089,{"$f":"ThreePosition_Basic2($E$3,$E$5,$B$3:$C$3,$B$5:$C$5,B559,C559)","v":-2.4421845491650753},3.4637616687503576,-1.7552030404709562,3.1909753252674973,{"$f":"ThreePosition_Basic2($E$3,$E$5,$B$3:$C$3,$B$5:$C$5,B559,D559)","v":-2.7900617191627166},1.9434159945081666,-1.9877532811390637,1.5125451361058313,null,{"$f":"Burmester($B$3:$C$3,$B$4:$C$4,$B$6:$C$6,$E$3,$E$4,$E$6,B559)","v":{"$error":"#VALUE!"}},{"$error":"#VALUE!"},{"$f":"ThreePosition_Basic2($E$3,$E$6,$B$3:$C$3,$B$6:$C$6,B559,N559)","v":{"$error":"#VALUE!"}},{"$error":"#VALUE!"},{"$error":"#VALUE!"},{"$error":"#VALUE!"},{"$f":"ThreePosition_Basic2($E$3,$E$6,$B$3:$C$3,$B$6:$C$6,B559,O559)","v":{"$error":"#VALUE!"}},{"$error":"#VALUE!"},{"$error":"#VALUE!"},{"$error":"#VALUE!"}]
[272.5,4.7560222116845479,{"$f":"Burmester($B$3:$C$3,$B$4:$C$4,$B$5:$C$5,$E$3,$E$4,$E$5,B560)","v":1.2724346848003085},3.6906534245247054,{"$f":"ThreePosition_Basic2($E$3,$E$5,$B$3:$C$3,$B$5:$C$5,B560,C560)","v":-2.447596671100059},3.4675167600120584,-1.7594982781055215,3.1902803282564172,{"$f":"ThreePosition_Basic2($E$3,$E$5,$B$3:$C$3,$B$5:$C$5,B560,D560)","v":-2.7952212780606094},1.9394640967260102,-1.991214112723604,1.5023035961490445,null,{"$f":"Burmester($B$3:$C$3,$B$4:$C$4,$B$6:$C$6,$E$3,$E$4,$E$6,B560)","v":{"$error":"#VALUE!"}},{"$error":"#VALUE!"},{"$f":"ThreePosition_Basic2($E$3,$E$6,$B$3:$C$3,$B$6:$C$6,B560,N560)","v":{"$error":"#VALUE!"}},{"$error":"#VALUE!"},{"$error":"#VALUE!"},{"$error":"#VALUE!"},{"$f":"ThreePosition_Basic2($E$3,$E$6,$B$3:$C$3,$B$6:$C$6,B560,O560)","v":{"$error":"#VALUE!"}},{"$error":"#VALUE!"},{"$error":"#VALUE!"},{"$error":"#VALUE!"}]
[273,4.7647488579445199,{"$f":"Burmester($B$3:$C$3,$B$4:$C$4,$B$5:$C$5,$E$3,$E$4,$E$5,B561)","v":1.2774532641198697},3.6998130890689174,{"$f":"ThreePosition_Basic2($E$3,$E$5,$B$3:$C$3,$B$5:$C$5,B561,C561)","v":-2.4530099684377453},3.4713281932550752,-1.7637916647156677,3.1896125980980203,{"$f":"ThreePosition_Basic2($E$3,$E$5,$B$3:$C$3,$B$5:$C$5,B561,D561)","v":-2.8003884960037335},1.9354442362085134,-1.9946684097486256,1.4919305420821545,null,{"$f":"Burmester($B$3:$C$3,$B$4:$C$4,$B$6:$C$6,$E$3,$E$4,$E$6,B561)","v":{"$error":"#VALUE!"}},{"$error":"#VALUE!"},{"$f":"ThreePosition_Basic2($E$3,$E$6,$B$3:$C$3,$B$6:$C$6,B561,N561)","v":{"$error":"#VALUE!"}},{"$error":"#VALUE!"},{"$error":"#VALUE!"},{"$error":"#VALUE!"},{"$f":"ThreePosition_Basic2($E$3,$E$6,$B$3:$C$3,$B$6:$C$6,B561,O561)","v":{"$error":"#VALUE!"}},{"$error":"#VALUE!"},{"$error":"#VALUE!"},{"$error":"#VALUE!"}]
[273.5,4.773475504204491,{"$f":"Burmester($B$3:$C$3,$B$4:$C$4,$B$5:$C$5,$E$3,$E$4,$E$5,B562)","v":1.2824165272840129},3.7090326163609375,{"$f":"ThreePosition_Basic2($E$3,$E$5,$B$3:$C$3,$B$5:$C$5,B562,C562)","v":-2.458424764582805},3.4751966480254932,-1.7680834390734124,3.1889723465525788,{"$f":"ThreePosition_Basic2($E$3,$E$5,$B$3:$C$3,$B$5:$C$5,B562,D562)","v":-2.8055633855687718},1.9313558462426497,-1.998115952551982,1.4814241907216077,null,{"$f":"Burmester($B$3:$C$3,$B$4:$C$4,$B$6:$C$6,$E$3,$E$4,$E$6,B562)","v":{"$error":"#VALUE!"}},{"$error":"#VALUE!"},{"$f":"ThreePosition_Basic2($E$3,$E$6,$B$3:$C$3,$B$6:$C$6,B562,N562)","v":{"$error":"#VALUE!"}},{"$error":"#VALUE!"},{"$error":"#VALUE!"},{"$error":"#VALUE!"},{"$f":"ThreePosition_Basic2($E$3,$E$6,$B$3:$C$3,$B$6:$C$6,B562,O562)","v":{"$error":"#VALUE!"}},{"$error":"#VALUE!"},{"$error":"#VALUE!"},{"$error":"#VALUE!"}]
[274,4.782202150464463,{"$f":"Burmester($B$3:$C$3,$B$4:$C$4,$B$5:$C$5,$E$3,$E$4,$E$5,B563)","v":1.2873246869008117},3.7183119261845259,{"$f":"ThreePosition_Basic2($E$3,$E$5,$B$3:$C$3,$B$5:$C$5,B563,C563)","v":-2.463841386330635},3.4791228125707598,-1.7723738417582795,3.188359784805781,{"$f":"ThreePosition_Basic2($E$3,$E$5,$B$3:$C$3,$B$5:$C$5,B563,D563)","v":-2.8107459571638498},1.9271983530452141,-2.001556514334772,1.4707827234250166,null,{"$f":"Burmester($B$3:$C$3,$B$4:$C$4,$B$6:$C$6,$E$3,$E$4,$E$6,B563)","v":{"$error":"#VALUE!"}},{"$error":"#VALUE!"},{"$f":"ThreePosition_Basic2($E$3,$E$6,$B$3:$C$3,$B$6:$C$6,B563,N563)","v":{"$error":"#VALUE!"}},{"$error":"#VALUE!"},{"$error":"#VALUE!"},{"$error":"#VALUE!"},{"$f":"ThreePosition_Basic2($E$3,$E$6,$B$3:$C$3,$B$6:$C$6,B563,O563)","v":{"$error":"#VALUE!"}},{"$error":"#VALUE!"},{"$error":"#VALUE!"},{"$error":"#VALUE!"}]
[274.5,4.7909287967244341,{"$f":"Burmester($B$3:$C$3,$B$4:$C$4,$B$5:$C$5,$E$3,$E$4,$E$5,B564)","v":1.2921779579214141},3.7276509362850976,{"$f":"ThreePosition_Basic2($E$3,$E$5,$B$3:$C$3,$B$5:$C$5,B564,C564)","v":-2.4692601639232339},3.4831073841919808,-1.7766631151805137,3.18777512358501,{"$f":"ThreePosition_Basic2($E$3,$E$5,$B$3:$C$3,$B$5:$C$5,B564,D564)","v":-2.8159362190177348},1.9229711755220329,-2.0049898609939585,1.4600042849896018,null,{"$f":"Burmester($B$3:$C$3,$B$4:$C$4,$B$6:$C$6,$E$3,$E$4,$E$6,B564)","v":{"$error":"#VALUE!"}},{"$error":"#VALUE!"},{"$f":"ThreePosition_Basic2($E$3,$E$6,$B$3:$C$3,$B$6:$C$6,B564,N564)","v":{"$error":"#VALUE!"}},{"$error":"#VALUE!"},{"$error":"#VALUE!"},{"$error":"#VALUE!"},{"$f":"ThreePosition_Basic2($E$3,$E$6,$B$3:$C$3,$B$6:$C$6,B564,O564)","v":{"$error":"#VALUE!"}},{"$error":"#VALUE!"},{"$error":"#VALUE!"},{"$error":"#VALUE!"}]
[275,4.7996554429844061,{"$f":"Burmester($B$3:$C$3,$B$4:$C$4,$B$5:$C$5,$E$3,$E$4,$E$5,B565)","v":1.2969765575066456},3.7370495625116154,{"$f":"ThreePosition_Basic2($E$3,$E$5,$B$3:$C$3,$B$5:$C$5,B565,C565)","v":-2.4746814311070588},3.4871510696062691,-1.7809515036052592,3.187218573278682,{"$f":"ThreePosition_Basic2($E$3,$E$5,$B$3:$C$3,$B$5:$C$5,B565,D565)","v":-2.8211341771676723},1.9186737250207186,-2.0084157509481284,1.4490869825130717,null,{"$f":"Burmester($B$3:$C$3,$B$4:$C$4,$B$6:$C$6,$E$3,$E$4,$E$6,B565)","v":{"$error":"#VALUE!"}},{"$error":"#VALUE!"},{"$f":"ThreePosition_Basic2($E$3,$E$6,$B$3:$C$3,$B$6:$C$6,B565,N565)","v":{"$error":"#VALUE!"}},{"$error":"#VALUE!"},{"$error":"#VALUE!"},{"$error":"#VALUE!"},{"$f":"ThreePosition_Basic2($E$3,$E$6,$B$3:$C$3,$B$6:$C$6,B565,O565)","v":{"$error":"#VALUE!"}},{"$error":"#VALUE!"},{"$error":"#VALUE!"},{"$error":"#VALUE!"}]
[275.5,4.8083820892443772,{"$f":"Burmester($B$3:$C$3,$B$4:$C$4,$B$5:$C$5,$E$3,$E$4,$E$5,B566)","v":1.3017207048921398},3.7465077189599407,{"$f":"ThreePosition_Basic2($E$3,$E$5,$B$3:$C$3,$B$5:$C$5,B566,C566)","v":-2.4801055251929096},3.4912545853193455,-1.7852392531777226,3.1866903440586007,{"$f":"ThreePosition_Basic2($E$3,$E$5,$B$3:$C$3,$B$5:$C$5,B566,D566)","v":-2.8263398354457672},1.9143054050768642,-2.0118339349561012,1.438028884215546,null,{"$f":"Burmester($B$3:$C$3,$B$4:$C$4,$B$6:$C$6,$E$3,$E$4,$E$6,B566)","v":{"$error":"#VALUE!"}},{"$error":"#VALUE!"},{"$f":"ThreePosition_Basic2($E$3,$E$6,$B$3:$C$3,$B$6:$C$6,B566,N566)","v":{"$error":"#VALUE!"}},{"$error":"#VALUE!"},{"$error":"#VALUE!"},{"$error":"#VALUE!"},{"$f":"ThreePosition_Basic2($E$3,$E$6,$B$3:$C$3,$B$6:$C$6,B566,O566)","v":{"$error":"#VALUE!"}},{"$error":"#VALUE!"},{"$error":"#VALUE!"},{"$error":"#VALUE!"}]
[276,4.8171087355043491,{"$f":"Burmester($B$3:$C$3,$B$4:$C$4,$B$5:$C$5,$E$3,$E$4,$E$5,B567)","v":1.3064106212521485},3.7560253181175276,{"$f":"ThreePosition_Basic2($E$3,$E$5,$B$3:$C$3,$B$5:$C$5,B567,C567)","v":-2.4855327871179709},3.4954186580087088,-1.7895266119493864,3.1861906460053575,{"$f":"ThreePosition_Basic2($E$3,$E$5,$B$3:$C$3,$B$5:$C$5,B567,D567)","v":-2.8315531954638709},1.9098656111536012,-2.0152441559280931,1.4268280182210711,null,{"$f":"Burmester($B$3:$C$3,$B$4:$C$4,$B$6:$C$6,$E$3,$E$4,$E$6,B567)","v":{"$error":"#VALUE!"}},{"$error":"#VALUE!"},{"$f":"ThreePosition_Basic2($E$3,$E$6,$B$3:$C$3,$B$6:$C$6,B567,N567)","v":{"$error":"#VALUE!"}},{"$error":"#VALUE!"},{"$error":"#VALUE!"},{"$error":"#VALUE!"},{"$f":"ThreePosition_Basic2($E$3,$E$6,$B$3:$C$3,$B$6:$C$6,B567,O567)","v":{"$error":"#VALUE!"}},{"$error":"#VALUE!"},{"$error":"#VALUE!"},{"$error":"#VALUE!"}]
[276.5,4.8258353817643211,{"$f":"Burmester($B$3:$C$3,$B$4:$C$4,$B$5:$C$5,$E$3,$E$4,$E$5,B568)","v":1.3110465295621432},3.7656022710093158,{"$f":"ThreePosition_Basic2($E$3,$E$5,$B$3:$C$3,$B$5:$C$5,B568,C568)","v":-2.490963561510072},3.4996440249176111,-1.7938138299053055,3.1857196892367505,{"$f":"ThreePosition_Basic2($E$3,$E$5,$B$3:$C$3,$B$5:$C$5,B568,D568)","v":-2.8367742565968785},1.9053537303743828,-2.0186461487291147,1.4154823712971742,null,{"$f":"Burmester($B$3:$C$3,$B$4:$C$4,$B$6:$C$6,$E$3,$E$4,$E$6,B568)","v":{"$error":"#VALUE!"}},{"$error":"#VALUE!"},{"$f":"ThreePosition_Basic2($E$3,$E$6,$B$3:$C$3,$B$6:$C$6,B568,N568)","v":{"$error":"#VALUE!"}},{"$error":"#VALUE!"},{"$error":"#VALUE!"},{"$error":"#VALUE!"},{"$f":"ThreePosition_Basic2($E$3,$E$6,$B$3:$C$3,$B$6:$C$6,B568,O568)","v":{"$error":"#VALUE!"}},{"$error":"#VALUE!"},{"$error":"#VALUE!"},{"$error":"#VALUE!"}]
[277,4.8345620280242931,{"$f":"Burmester($B$3:$C$3,$B$4:$C$4,$B$5:$C$5,$E$3,$E$4,$E$5,B569)","v":1.3156286544603386},3.7752384873447196,{"$f":"ThreePosition_Basic2($E$3,$E$5,$B$3:$C$3,$B$5:$C$5,B569,C569)","v":-2.4963981967542876},3.5039314342601653,-1.7981011589925431,3.1852776840392369,{"$f":"ThreePosition_Basic2($E$3,$E$5,$B$3:$C$3,$B$5:$C$5,B569,D569)","v":-2.842003015964397},1.9007691412489152,-2.0220396399742917,1.4039898875508654,null,{"$f":"Burmester($B$3:$C$3,$B$4:$C$4,$B$6:$C$6,$E$3,$E$4,$E$6,B569)","v":{"$error":"#VALUE!"}},{"$error":"#VALUE!"},{"$f":"ThreePosition_Basic2($E$3,$E$6,$B$3:$C$3,$B$6:$C$6,B569,N569)","v":{"$error":"#VALUE!"}},{"$error":"#VALUE!"},{"$error":"#VALUE!"},{"$error":"#VALUE!"},{"$f":"ThreePosition_Basic2($E$3,$E$6,$B$3:$C$3,$B$6:$C$6,B569,O569)","v":{"$error":"#VALUE!"}},{"$error":"#VALUE!"},{"$error":"#VALUE!"},{"$error":"#VALUE!"}]
[277.5,4.8432886742842651,{"$f":"Burmester($B$3:$C$3,$B$4:$C$4,$B$5:$C$5,$E$3,$E$4,$E$5,B570)","v":1.3201572221082543},3.7849338756655757,{"$f":"ThreePosition_Basic2($E$3,$E$5,$B$3:$C$3,$B$5:$C$5,B570,C570)","v":-2.5018370450619578},3.5082816456378656,-1.8023888531497907,3.1848648410024074,{"$f":"ThreePosition_Basic2($E$3,$E$5,$B$3:$C$3,$B$5:$C$5,B570,D570)","v":-2.847239468410689},1.8961112133921039,-2.0254243478157532,1.3923484670793913,null,{"$f":"Burmester($B$3:$C$3,$B$4:$C$4,$B$6:$C$6,$E$3,$E$4,$E$6,B570)","v":{"$error":"#VALUE!"}},{"$error":"#VALUE!"},{"$f":"ThreePosition_Basic2($E$3,$E$6,$B$3:$C$3,$B$6:$C$6,B570,N570)","v":{"$error":"#VALUE!"}},{"$error":"#VALUE!"},{"$error":"#VALUE!"},{"$error":"#VALUE!"},{"$f":"ThreePosition_Basic2($E$3,$E$6,$B$3:$C$3,$B$6:$C$6,B570,O570)","v":{"$error":"#VALUE!"}},{"$error":"#VALUE!"},{"$error":"#VALUE!"},{"$error":"#VALUE!"}]
[278,4.8520153205442362,{"$f":"Burmester($B$3:$C$3,$B$4:$C$4,$B$5:$C$5,$E$3,$E$4,$E$5,B571)","v":1.324632460050438},3.7946883434949394,{"$f":"ThreePosition_Basic2($E$3,$E$5,$B$3:$C$3,$B$5:$C$5,B571,C571)","v":-2.5072804625422407},3.5126954304678684,-1.8066771683382197,3.1844813711565023,{"$f":"ThreePosition_Basic2($E$3,$E$5,$B$3:$C$3,$B$5:$C$5,B571,D571)","v":-2.8524836064828429},1.8913793072358822,-2.0287999817207507,1.3805559645739574,null,{"$f":"Burmester($B$3:$C$3,$B$4:$C$4,$B$6:$C$6,$E$3,$E$4,$E$6,B571)","v":{"$error":"#VALUE!"}},{"$error":"#VALUE!"},{"$f":"ThreePosition_Basic2($E$3,$E$6,$B$3:$C$3,$B$6:$C$6,B571,N571)","v":{"$error":"#VALUE!"}},{"$error":"#VALUE!"},{"$error":"#VALUE!"},{"$error":"#VALUE!"},{"$f":"ThreePosition_Basic2($E$3,$E$6,$B$3:$C$3,$B$6:$C$6,B571,O571)","v":{"$error":"#VALUE!"}},{"$error":"#VALUE!"},{"$error":"#VALUE!"},{"$error":"#VALUE!"}]
[278.5,4.8607419668042082,{"$f":"Burmester($B$3:$C$3,$B$4:$C$4,$B$5:$C$5,$E$3,$E$4,$E$5,B572)","v":1.3290545970734569},3.8045017974866187,{"$f":"ThreePosition_Basic2($E$3,$E$5,$B$3:$C$3,$B$5:$C$5,B572,C572)","v":-2.5127288092762949},3.5171735724233417,-1.8109663625736161,3.1841274861129452,{"$f":"ThreePosition_Basic2($E$3,$E$5,$B$3:$C$3,$B$5:$C$5,B572,D572)","v":-2.8577354204070748},1.8865727737338107,-2.0321662422406215,1.3686101878745673,null,{"$f":"Burmester($B$3:$C$3,$B$4:$C$4,$B$6:$C$6,$E$3,$E$4,$E$6,B572)","v":{"$error":"#VALUE!"}},{"$error":"#VALUE!"},{"$f":"ThreePosition_Basic2($E$3,$E$6,$B$3:$C$3,$B$6:$C$6,B572,N572)","v":{"$error":"#VALUE!"}},{"$error":"#VALUE!"},{"$error":"#VALUE!"},{"$error":"#VALUE!"},{"$f":"ThreePosition_Basic2($E$3,$E$6,$B$3:$C$3,$B$6:$C$6,B572,O572)","v":{"$error":"#VALUE!"}},{"$error":"#VALUE!"},{"$error":"#VALUE!"},{"$error":"#VALUE!"}]
[279,4.8694686130641793,{"$f":"Burmester($B$3:$C$3,$B$4:$C$4,$B$5:$C$5,$E$3,$E$4,$E$5,B573)","v":1.3334238630642585},3.814374143575332,{"$f":"ThreePosition_Basic2($E$3,$E$5,$B$3:$C$3,$B$5:$C$5,B573,C573)","v":-2.5181824493941805},3.5217168678862718,-1.8152566959598291,3.1838033982079459,{"$f":"ThreePosition_Basic2($E$3,$E$5,$B$3:$C$3,$B$5:$C$5,B573,D573)","v":-2.862994898063095},1.8816909540582927,-2.0355228207702076,1.356508896474024,null,{"$f":"Burmester($B$3:$C$3,$B$4:$C$4,$B$6:$C$6,$E$3,$E$4,$E$6,B573)","v":{"$error":"#VALUE!"}},{"$error":"#VALUE!"},{"$f":"ThreePosition_Basic2($E$3,$E$6,$B$3:$C$3,$B$6:$C$6,B573,N573)","v":{"$error":"#VALUE!"}},{"$error":"#VALUE!"},{"$error":"#VALUE!"},{"$error":"#VALUE!"},{"$f":"ThreePosition_Basic2($E$3,$E$6,$B$3:$C$3,$B$6:$C$6,B573,O573)","v":{"$error":"#VALUE!"}},{"$error":"#VALUE!"},{"$error":"#VALUE!"},{"$error":"#VALUE!"}]
[279.5,4.8781952593241513,{"$f":"Burmester($B$3:$C$3,$B$4:$C$4,$B$5:$C$5,$E$3,$E$4,$E$5,B574)","v":1.3377404888680435},3.8243052871273799,{"$f":"ThreePosition_Basic2($E$3,$E$5,$B$3:$C$3,$B$5:$C$5,B574,C574)","v":-2.5236417511546279},3.5263261264130801,-1.8195484307236234,3.183509320649144,{"$f":"ThreePosition_Basic2($E$3,$E$5,$B$3:$C$3,$B$5:$C$5,B574,D574)","v":-2.8682620249564899},1.8767331792902684,-2.0388693992973614,1.3442497999690199,null,{"$f":"Burmester($B$3:$C$3,$B$4:$C$4,$B$6:$C$6,$E$3,$E$4,$E$6,B574)","v":{"$error":"#VALUE!"}},{"$error":"#VALUE!"},{"$f":"ThreePosition_Basic2($E$3,$E$6,$B$3:$C$3,$B$6:$C$6,B574,N574)","v":{"$error":"#VALUE!"}},{"$error":"#VALUE!"},{"$error":"#VALUE!"},{"$error":"#VALUE!"},{"$f":"ThreePosition_Basic2($E$3,$E$6,$B$3:$C$3,$B$6:$C$6,B574,O574)","v":{"$error":"#VALUE!"}},{"$error":"#VALUE!"},{"$error":"#VALUE!"},{"$error":"#VALUE!"}]
[280,4.8869219055841224,{"$f":"Burmester($B$3:$C$3,$B$4:$C$4,$B$5:$C$5,$E$3,$E$4,$E$5,B575)","v":1.342004706145689},3.8342951330917421,{"$f":"ThreePosition_Basic2($E$3,$E$5,$B$3:$C$3,$B$5:$C$5,B575,C575)","v":-2.5291070870277435},3.5310021712134585,-1.8238418312509406,3.1832454676653459,{"$f":"ThreePosition_Basic2($E$3,$E$5,$B$3:$C$3,$B$5:$C$5,B575,D575)","v":-2.8735367841889854},1.8716987701012096,-2.0422056501420522,1.3318305564561628,null,{"$f":"Burmester($B$3:$C$3,$B$4:$C$4,$B$6:$C$6,$E$3,$E$4,$E$6,B575)","v":{"$error":"#VALUE!"}},{"$error":"#VALUE!"},{"$f":"ThreePosition_Basic2($E$3,$E$6,$B$3:$C$3,$B$6:$C$6,B575,N575)","v":{"$error":"#VALUE!"}},{"$error":"#VALUE!"},{"$error":"#VALUE!"},{"$error":"#VALUE!"},{"$f":"ThreePosition_Basic2($E$3,$E$6,$B$3:$C$3,$B$6:$C$6,B575,O575)","v":{"$error":"#VALUE!"}},{"$error":"#VALUE!"},{"$error":"#VALUE!"},{"$error":"#VALUE!"}]
[280.5,4.8956485518440944,{"$f":"Burmester($B$3:$C$3,$B$4:$C$4,$B$5:$C$5,$E$3,$E$4,$E$5,B576)","v":1.3462167472309008},3.8443435861514814,{"$f":"ThreePosition_Basic2($E$3,$E$5,$B$3:$C$3,$B$5:$C$5,B576,C576)","v":-2.5345788337807873},3.535745839642813,-1.828137164124652,3.1830120546593252,{"$f":"ThreePosition_Basic2($E$3,$E$5,$B$3:$C$3,$B$5:$C$5,B576,D576)","v":-2.8788191564265793},1.866587036427291,-2.0455312356847086,1.3192487708706735,null,{"$f":"Burmester($B$3:$C$3,$B$4:$C$4,$B$6:$C$6,$E$3,$E$4,$E$6,B576)","v":{"$error":"#VALUE!"}},{"$error":"#VALUE!"},{"$f":"ThreePosition_Basic2($E$3,$E$6,$B$3:$C$3,$B$6:$C$6,B576,N576)","v":{"$error":"#VALUE!"}},{"$error":"#VALUE!"},{"$error":"#VALUE!"},{"$error":"#VALUE!"},{"$f":"ThreePosition_Basic2($E$3,$E$6,$B$3:$C$3,$B$6:$C$6,B576,O576)","v":{"$error":"#VALUE!"}},{"$error":"#VALUE!"},{"$error":"#VALUE!"},{"$error":"#VALUE!"}]
[281,4.9043751981040655,{"$f":"Burmester($B$3:$C$3,$B$4:$C$4,$B$5:$C$5,$E$3,$E$4,$E$5,B577)","v":1.3503768449871039},3.8544505508753826,{"$f":"ThreePosition_Basic2($E$3,$E$5,$B$3:$C$3,$B$5:$C$5,B577,C577)","v":-2.5400573725671349},3.5405579837087799,-1.8324346981638358,3.1828092983637681,{"$f":"ThreePosition_Basic2($E$3,$E$5,$B$3:$C$3,$B$5:$C$5,B577,D577)","v":-2.8841091198654043},1.8613972771355101,-2.0488458080832634,1.3065019932653417,null,{"$f":"Burmester($B$3:$C$3,$B$4:$C$4,$B$6:$C$6,$E$3,$E$4,$E$6,B577)","v":{"$error":"#VALUE!"}},{"$error":"#VALUE!"},{"$f":"ThreePosition_Basic2($E$3,$E$6,$B$3:$C$3,$B$6:$C$6,B577,N577)","v":{"$error":"#VALUE!"}},{"$error":"#VALUE!"},{"$error":"#VALUE!"},{"$error":"#VALUE!"},{"$f":"ThreePosition_Basic2($E$3,$E$6,$B$3:$C$3,$B$6:$C$6,B577,O577)","v":{"$error":"#VALUE!"}},{"$error":"#VALUE!"},{"$error":"#VALUE!"},{"$error":"#VALUE!"}]
[281.5,4.9131018443640375,{"$f":"Burmester($B$3:$C$3,$B$4:$C$4,$B$5:$C$5,$E$3,$E$4,$E$5,B578)","v":1.354485232664228},3.8646159318697224,{"$f":"ThreePosition_Basic2($E$3,$E$5,$B$3:$C$3,$B$5:$C$5,B578,C578)","v":-2.5455430890185506},3.5454394705922616,-1.8367347044646478,3.1826374170003509,{"$f":"ThreePosition_Basic2($E$3,$E$5,$B$3:$C$3,$B$5:$C$5,B578,D578)","v":-2.8894066501952853},1.8561287796816193,-2.0521490089784682,1.2935877170272472,null,{"$f":"Burmester($B$3:$C$3,$B$4:$C$4,$B$6:$C$6,$E$3,$E$4,$E$6,B578)","v":{"$error":"#VALUE!"}},{"$error":"#VALUE!"},{"$f":"ThreePosition_Basic2($E$3,$E$6,$B$3:$C$3,$B$6:$C$6,B578,N578)","v":{"$error":"#VALUE!"}},{"$error":"#VALUE!"},{"$error":"#VALUE!"},{"$error":"#VALUE!"},{"$f":"ThreePosition_Basic2($E$3,$E$6,$B$3:$C$3,$B$6:$C$6,B578,O578)","v":{"$error":"#VALUE!"}},{"$error":"#VALUE!"},{"$error":"#VALUE!"},{"$error":"#VALUE!"}]
[282,4.9218284906240086,{"$f":"Burmester($B$3:$C$3,$B$4:$C$4,$B$5:$C$5,$E$3,$E$4,$E$5,B579)","v":1.3585421437554301},3.8748396339300908,{"$f":"ThreePosition_Basic2($E$3,$E$5,$B$3:$C$3,$B$5:$C$5,B579,C579)","v":-2.5510363733408816},3.5503911831834416,-1.8410374564428249,3.1824966304419875,{"$f":"ThreePosition_Basic2($E$3,$E$5,$B$3:$C$3,$B$5:$C$5,B579,D579)","v":-2.8947117205608586},1.8507808197596332,-2.055440469186931,1.2805033770295804,null,{"$f":"Burmester($B$3:$C$3,$B$4:$C$4,$B$6:$C$6,$E$3,$E$4,$E$6,B579)","v":{"$error":"#VALUE!"}},{"$error":"#VALUE!"},{"$f":"ThreePosition_Basic2($E$3,$E$6,$B$3:$C$3,$B$6:$C$6,B579,N579)","v":{"$error":"#VALUE!"}},{"$error":"#VALUE!"},{"$error":"#VALUE!"},{"$error":"#VALUE!"},{"$f":"ThreePosition_Basic2($E$3,$E$6,$B$3:$C$3,$B$6:$C$6,B579,O579)","v":{"$error":"#VALUE!"}},{"$error":"#VALUE!"},{"$error":"#VALUE!"},{"$error":"#VALUE!"}]
[282.5,4.9305551368839806,{"$f":"Burmester($B$3:$C$3,$B$4:$C$4,$B$5:$C$5,$E$3,$E$4,$E$5,B580)","v":1.3625478118538568},3.8851215621931865,{"$f":"ThreePosition_Basic2($E$3,$E$5,$B$3:$C$3,$B$5:$C$5,B580,C580)","v":-2.5565376204133146},3.5554140206333202,-1.845343229877876,3.1823871603782945,{"$f":"ThreePosition_Basic2($E$3,$E$5,$B$3:$C$3,$B$5:$C$5,B580,D580)","v":-2.9000243015202298},1.8453526609427333,-2.0587198083813942,1.2672463477157869,null,{"$f":"Burmester($B$3:$C$3,$B$4:$C$4,$B$6:$C$6,$E$3,$E$4,$E$6,B580)","v":{"$error":"#VALUE!"}},{"$error":"#VALUE!"},{"$f":"ThreePosition_Basic2($E$3,$E$6,$B$3:$C$3,$B$6:$C$6,B580,N580)","v":{"$error":"#VALUE!"}},{"$error":"#VALUE!"},{"$error":"#VALUE!"},{"$error":"#VALUE!"},{"$f":"ThreePosition_Basic2($E$3,$E$6,$B$3:$C$3,$B$6:$C$6,B580,O580)","v":{"$error":"#VALUE!"}},{"$error":"#VALUE!"},{"$error":"#VALUE!"},{"$error":"#VALUE!"}]
[283,4.9392817831439526,{"$f":"Burmester($B$3:$C$3,$B$4:$C$4,$B$5:$C$5,$E$3,$E$4,$E$5,B581)","v":1.3665024705094966},3.8954616222885101,{"$f":"ThreePosition_Basic2($E$3,$E$5,$B$3:$C$3,$B$5:$C$5,B581,C581)","v":-2.5620472298913288},3.5605088989212765,-1.8496523029590386,3.1823092304843139,{"$f":"ThreePosition_Basic2($E$3,$E$5,$B$3:$C$3,$B$5:$C$5,B581,D581)","v":-2.9053443610010099},1.8398435543153322,-2.0619866347576314,1.2538139411131004,null,{"$f":"Burmester($B$3:$C$3,$B$4:$C$4,$B$6:$C$6,$E$3,$E$4,$E$6,B581)","v":{"$error":"#VALUE!"}},{"$error":"#VALUE!"},{"$f":"ThreePosition_Basic2($E$3,$E$6,$B$3:$C$3,$B$6:$C$6,B581,N581)","v":{"$error":"#VALUE!"}},{"$error":"#VALUE!"},{"$error":"#VALUE!"},{"$error":"#VALUE!"},{"$f":"ThreePosition_Basic2($E$3,$E$6,$B$3:$C$3,$B$6:$C$6,B581,O581)","v":{"$error":"#VALUE!"}},{"$error":"#VALUE!"},{"$error":"#VALUE!"},{"$error":"#VALUE!"}]
[283.5,4.9480084294039237,{"$f":"Burmester($B$3:$C$3,$B$4:$C$4,$B$5:$C$5,$E$3,$E$4,$E$5,B582)","v":1.3704063530862256},3.905859720489878,{"$f":"ThreePosition_Basic2($E$3,$E$5,$B$3:$C$3,$B$5:$C$5,B582,C582)","v":-2.5675656063134618},3.5656767514392196,-1.8539649563330167,3.1822630665925216,{"$f":"ThreePosition_Basic2($E$3,$E$5,$B$3:$C$3,$B$5:$C$5,B582,D582)","v":-2.9106718642536999},1.8342527380960807,-2.0652405446874438,1.2402034047723762,null,{"$f":"Burmester($B$3:$C$3,$B$4:$C$4,$B$6:$C$6,$E$3,$E$4,$E$6,B582)","v":{"$error":"#VALUE!"}},{"$error":"#VALUE!"},{"$f":"ThreePosition_Basic2($E$3,$E$6,$B$3:$C$3,$B$6:$C$6,B582,N582)","v":{"$error":"#VALUE!"}},{"$error":"#VALUE!"},{"$error":"#VALUE!"},{"$error":"#VALUE!"},{"$f":"ThreePosition_Basic2($E$3,$E$6,$B$3:$C$3,$B$6:$C$6,B582,O582)","v":{"$error":"#VALUE!"}},{"$error":"#VALUE!"},{"$error":"#VALUE!"},{"$error":"#VALUE!"}]
[284,4.9567350756638957,{"$f":"Burmester($B$3:$C$3,$B$4:$C$4,$B$5:$C$5,$E$3,$E$4,$E$5,B583)","v":1.3742596926190733},3.9163157638667152,{"$f":"ThreePosition_Basic2($E$3,$E$5,$B$3:$C$3,$B$5:$C$5,B583,C583)","v":-2.5730931592120516},3.5709185295929249,-1.858281473153597,3.1822488968681988,{"$f":"ThreePosition_Basic2($E$3,$E$5,$B$3:$C$3,$B$5:$C$5,B583,D583)","v":-2.9160067738022994},1.8285794372515523,-2.068481122357098,1.2264119196309551,null,{"$f":"Burmester($B$3:$C$3,$B$4:$C$4,$B$6:$C$6,$E$3,$E$4,$E$6,B583)","v":{"$error":"#VALUE!"}},{"$error":"#VALUE!"},{"$f":"ThreePosition_Basic2($E$3,$E$6,$B$3:$C$3,$B$6:$C$6,B583,N583)","v":{"$error":"#VALUE!"}},{"$error":"#VALUE!"},{"$error":"#VALUE!"},{"$error":"#VALUE!"},{"$f":"ThreePosition_Basic2($E$3,$E$6,$B$3:$C$3,$B$6:$C$6,B583,O583)","v":{"$error":"#VALUE!"}},{"$error":"#VALUE!"},{"$error":"#VALUE!"},{"$error":"#VALUE!"}]
[284.5,4.9654617219238677,{"$f":"Burmester($B$3:$C$3,$B$4:$C$4,$B$5:$C$5,$E$3,$E$4,$E$5,B584)","v":1.378062721671792},3.9268296604350348,{"$f":"ThreePosition_Basic2($E$3,$E$5,$B$3:$C$3,$B$5:$C$5,B584,C584)","v":-2.5786303032280902},3.5762352034211644,-1.8626021391331786,3.1822669519882103,{"$f":"ThreePosition_Basic2($E$3,$E$5,$B$3:$C$3,$B$5:$C$5,B584,D584)","v":-2.9213490493920338},1.8228228631003565,-2.0717079393905689,1.2124365977951475,null,{"$f":"Burmester($B$3:$C$3,$B$4:$C$4,$B$6:$C$6,$E$3,$E$4,$E$6,B584)","v":{"$error":"#VALUE!"}},{"$error":"#VALUE!"},{"$f":"ThreePosition_Basic2($E$3,$E$6,$B$3:$C$3,$B$6:$C$6,B584,N584)","v":{"$error":"#VALUE!"}},{"$error":"#VALUE!"},{"$error":"#VALUE!"},{"$error":"#VALUE!"},{"$f":"ThreePosition_Basic2($E$3,$E$6,$B$3:$C$3,$B$6:$C$6,B584,O584)","v":{"$error":"#VALUE!"}},{"$error":"#VALUE!"},{"$error":"#VALUE!"},{"$error":"#VALUE!"}]
[285,4.9741883681838397,{"$f":"Burmester($B$3:$C$3,$B$4:$C$4,$B$5:$C$5,$E$3,$E$4,$E$5,B585)","v":1.381815672194781},3.937401319308075,{"$f":"ThreePosition_Basic2($E$3,$E$5,$B$3:$C$3,$B$5:$C$5,B585,C585)","v":-2.5841774582303367},3.5816277622332873,-1.8669272425962851,3.1823174653232567,{"$f":"ThreePosition_Basic2($E$3,$E$5,$B$3:$C$3,$B$5:$C$5,B585,D585)","v":-2.9266986479341512},1.8169822129074384,-2.0749205544569431,1.1982744802387293,null,{"$f":"Burmester($B$3:$C$3,$B$4:$C$4,$B$6:$C$6,$E$3,$E$4,$E$6,B585)","v":{"$error":"#VALUE!"}},{"$error":"#VALUE!"},{"$f":"ThreePosition_Basic2($E$3,$E$6,$B$3:$C$3,$B$6:$C$6,B585,N585)","v":{"$error":"#VALUE!"}},{"$error":"#VALUE!"},{"$error":"#VALUE!"},{"$error":"#VALUE!"},{"$f":"ThreePosition_Basic2($E$3,$E$6,$B$3:$C$3,$B$6:$C$6,B585,O585)","v":{"$error":"#VALUE!"}},{"$error":"#VALUE!"},{"$error":"#VALUE!"},{"$error":"#VALUE!"}]
[285.5,4.9829150144438108,{"$f":"Burmester($B$3:$C$3,$B$4:$C$4,$B$5:$C$5,$E$3,$E$4,$E$5,B586)","v":1.3855187753833911},3.9480306508465466,{"$f":"ThreePosition_Basic2($E$3,$E$5,$B$3:$C$3,$B$5:$C$5,B586,C586)","v":-2.5897350494388434},3.5870972152659211,-1.8712570745351091,3.1824006731236669,{"$f":"ThreePosition_Basic2($E$3,$E$5,$B$3:$C$3,$B$5:$C$5,B586,D586)","v":-2.9320555234476116},1.8110566694682035,-2.0781185128612107,1.1839225344135935,null,{"$f":"Burmester($B$3:$C$3,$B$4:$C$4,$B$6:$C$6,$E$3,$E$4,$E$6,B586)","v":{"$error":"#VALUE!"}},{"$error":"#VALUE!"},{"$f":"ThreePosition_Basic2($E$3,$E$6,$B$3:$C$3,$B$6:$C$6,B586,N586)","v":{"$error":"#VALUE!"}},{"$error":"#VALUE!"},{"$error":"#VALUE!"},{"$error":"#VALUE!"},{"$f":"ThreePosition_Basic2($E$3,$E$6,$B$3:$C$3,$B$6:$C$6,B586,O586)","v":{"$error":"#VALUE!"}},{"$error":"#VALUE!"},{"$error":"#VALUE!"},{"$error":"#VALUE!"}]
[286,4.9916416607037828,{"$f":"Burmester($B$3:$C$3,$B$4:$C$4,$B$5:$C$5,$E$3,$E$4,$E$5,B587)","v":1.3891722615366939},3.958717566808422,{"$f":"ThreePosition_Basic2($E$3,$E$5,$B$3:$C$3,$B$5:$C$5,B587,C587)","v":-2.595303507553075},3.5926445923595258,-1.8755919286671787,3.1825168147088152,{"$f":"ThreePosition_Basic2($E$3,$E$5,$B$3:$C$3,$B$5:$C$5,B587,D587)","v":-2.93741962699765},1.8050454006822574,-2.0813013461177698,1.1693776517686025,null,{"$f":"Burmester($B$3:$C$3,$B$4:$C$4,$B$6:$C$6,$E$3,$E$4,$E$6,B587)","v":{"$error":"#VALUE!"}},{"$error":"#VALUE!"},{"$f":"ThreePosition_Basic2($E$3,$E$6,$B$3:$C$3,$B$6:$C$6,B587,N587)","v":{"$error":"#VALUE!"}},{"$error":"#VALUE!"},{"$error":"#VALUE!"},{"$error":"#VALUE!"},{"$f":"ThreePosition_Basic2($E$3,$E$6,$B$3:$C$3,$B$6:$C$6,B587,O587)","v":{"$error":"#VALUE!"}},{"$error":"#VALUE!"},{"$error":"#VALUE!"},{"$error":"#VALUE!"}]
[286.5,5.0003683069637539,{"$f":"Burmester($B$3:$C$3,$B$4:$C$4,$B$5:$C$5,$E$3,$E$4,$E$5,B588)","v":1.3927763599167133},3.9694619804982474,{"$f":"ThreePosition_Basic2($E$3,$E$5,$B$3:$C$3,$B$5:$C$5,B588,C588)","v":-2.600883268884763},3.5982709446555377,-1.8799321014951786,3.1826661326602377,{"$f":"ThreePosition_Basic2($E$3,$E$5,$B$3:$C$3,$B$5:$C$5,B588,D588)","v":-2.9427909066310378},1.7989475591163502,-2.0844685715058038,1.154636645172344,null,{"$f":"Burmester($B$3:$C$3,$B$4:$C$4,$B$6:$C$6,$E$3,$E$4,$E$6,B588)","v":{"$error":"#VALUE!"}},{"$error":"#VALUE!"},{"$f":"ThreePosition_Basic2($E$3,$E$6,$B$3:$C$3,$B$6:$C$6,B588,N588)","v":{"$error":"#VALUE!"}},{"$error":"#VALUE!"},{"$error":"#VALUE!"},{"$error":"#VALUE!"},{"$f":"ThreePosition_Basic2($E$3,$E$6,$B$3:$C$3,$B$6:$C$6,B588,O588)","v":{"$error":"#VALUE!"}},{"$error":"#VALUE!"},{"$error":"#VALUE!"},{"$error":"#VALUE!"}]
[287,5.0090949532237259,{"$f":"Burmester($B$3:$C$3,$B$4:$C$4,$B$5:$C$5,$E$3,$E$4,$E$5,B589)","v":1.3963312986081609},3.9802638069159633,{"$f":"ThreePosition_Basic2($E$3,$E$5,$B$3:$C$3,$B$5:$C$5,B589,C589)","v":-2.6064747754956743},3.6039773453149224,-1.8842778923690005,3.1828488730185578,{"$f":"ThreePosition_Basic2($E$3,$E$5,$B$3:$C$3,$B$5:$C$5,B589,D589)","v":-2.9481693073079525},1.7927622815562643,-2.0876196916057097,1.1396962462353499,null,{"$f":"Burmester($B$3:$C$3,$B$4:$C$4,$B$6:$C$6,$E$3,$E$4,$E$6,B589)","v":{"$error":"#VALUE!"}},{"$error":"#VALUE!"},{"$f":"ThreePosition_Basic2($E$3,$E$6,$B$3:$C$3,$B$6:$C$6,B589,N589)","v":{"$error":"#VALUE!"}},{"$error":"#VALUE!"},{"$error":"#VALUE!"},{"$error":"#VALUE!"},{"$f":"ThreePosition_Basic2($E$3,$E$6,$B$3:$C$3,$B$6:$C$6,B589,O589)","v":{"$error":"#VALUE!"}},{"$error":"#VALUE!"},{"$error":"#VALUE!"},{"$error":"#VALUE!"}]
[287.5,5.017821599483697,{"$f":"Burmester($B$3:$C$3,$B$4:$C$4,$B$5:$C$5,$E$3,$E$4,$E$5,B590)","v":1.3998373043787296},3.9911229629051466,{"$f":"ThreePosition_Basic2($E$3,$E$5,$B$3:$C$3,$B$5:$C$5,B590,C590)","v":-2.6120784753404935},3.6097648902589303,-1.8886296035501149,3.1830652854842842,{"$f":"ThreePosition_Basic2($E$3,$E$5,$B$3:$C$3,$B$5:$C$5,B590,D590)","v":-2.9535547708303698},1.7864886885472573,-2.0907541938157497,1.1245531025270639,null,{"$f":"Burmester($B$3:$C$3,$B$4:$C$4,$B$6:$C$6,$E$3,$E$4,$E$6,B590)","v":{"$error":"#VALUE!"}},{"$error":"#VALUE!"},{"$f":"ThreePosition_Basic2($E$3,$E$6,$B$3:$C$3,$B$6:$C$6,B590,N590)","v":{"$error":"#VALUE!"}},{"$error":"#VALUE!"},{"$error":"#VALUE!"},{"$error":"#VALUE!"},{"$f":"ThreePosition_Basic2($E$3,$E$6,$B$3:$C$3,$B$6:$C$6,B590,O590)","v":{"$error":"#VALUE!"}},{"$error":"#VALUE!"},{"$error":"#VALUE!"},{"$error":"#VALUE!"}]
[288,5.026548245743669,{"$f":"Burmester($B$3:$C$3,$B$4:$C$4,$B$5:$C$5,$E$3,$E$4,$E$5,B591)","v":1.4032946025399178},4.0020393673007364,{"$f":"ThreePosition_Basic2($E$3,$E$5,$B$3:$C$3,$B$5:$C$5,B591,C591)","v":-2.6176948224149781},3.6156346989329684,-1.8929875402782956,3.1833156236226281,{"$f":"ThreePosition_Basic2($E$3,$E$5,$B$3:$C$3,$B$5:$C$5,B591,D591)","v":-2.958947235766809},1.7801258839226652,-2.0938715498479414,1.1092037746825132,null,{"$f":"Burmester($B$3:$C$3,$B$4:$C$4,$B$6:$C$6,$E$3,$E$4,$E$6,B591)","v":{"$error":"#VALUE!"}},{"$error":"#VALUE!"},{"$f":"ThreePosition_Basic2($E$3,$E$6,$B$3:$C$3,$B$6:$C$6,B591,N591)","v":{"$error":"#VALUE!"}},{"$error":"#VALUE!"},{"$error":"#VALUE!"},{"$error":"#VALUE!"},{"$f":"ThreePosition_Basic2($E$3,$E$6,$B$3:$C$3,$B$6:$C$6,B591,O591)","v":{"$error":"#VALUE!"}},{"$error":"#VALUE!"},{"$error":"#VALUE!"},{"$error":"#VALUE!"}]
[288.5,{"$f":"A592*PI()/180","v":5.035274892003641},{"$f":"Burmester($B$3:$C$3,$B$4:$C$4,$B$5:$C$5,$E$3,$E$4,$E$5,B592)","v":1.4067034168084469},4.0130129410761404,{"$f":"ThreePosition_Basic2($E$3,$E$5,$B$3:$C$3,$B$5:$C$5,B592,C592)","v":-2.6233242769095959},3.6215879150944894,-1.8973520108407964,3.1836001450724285,{"$f":"ThreePosition_Basic2($E$3,$E$5,$B$3:$C$3,$B$5:$C$5,B592,D592)","v":-2.964346637373366},1.7736729543203285,-2.0969712152022884,1.0936447333934998,null,{"$f":"Burmester($B$3:$C$3,$B$4:$C$4,$B$6:$C$6,$E$3,$E$4,$E$6,B592)","v":{"$error":"#VALUE!"}},{"$error":"#VALUE!"},{"$f":"ThreePosition_Basic2($E$3,$E$6,$B$3:$C$3,$B$6:$C$6,B592,N592)","v":{"$error":"#VALUE!"}},{"$error":"#VALUE!"},{"$error":"#VALUE!"},{"$error":"#VALUE!"},{"$f":"ThreePosition_Basic2($E$3,$E$6,$B$3:$C$3,$B$6:$C$6,B592,O592)","v":{"$error":"#VALUE!"}},{"$error":"#VALUE!"},{"$error":"#VALUE!"},{"$error":"#VALUE!"}]
[289,5.0440015382636121,{"$f":"Burmester($B$3:$C$3,$B$4:$C$4,$B$5:$C$5,$E$3,$E$4,$E$5,B593)","v":1.4100639691682451},4.0240436074897818,{"$f":"ThreePosition_Basic2($E$3,$E$5,$B$3:$C$3,$B$5:$C$5,B593,C593)","v":-2.628967305368846},3.6276257076258607,-1.901723326644043,3.183919111759308,{"$f":"ThreePosition_Basic2($E$3,$E$5,$B$3:$C$3,$B$5:$C$5,B593,D593)","v":-2.9697529075108489},1.7671289686863849,-2.1000526286182701,1.0778723562786867,null,{"$f":"Burmester($B$3:$C$3,$B$4:$C$4,$B$6:$C$6,$E$3,$E$4,$E$6,B593)","v":{"$error":"#VALUE!"}},{"$error":"#VALUE!"},{"$f":"ThreePosition_Basic2($E$3,$E$6,$B$3:$C$3,$B$6:$C$6,B593,N593)","v":{"$error":"#VALUE!"}},{"$error":"#VALUE!"},{"$error":"#VALUE!"},{"$error":"#VALUE!"},{"$f":"ThreePosition_Basic2($E$3,$E$6,$B$3:$C$3,$B$6:$C$6,B593,O593)","v":{"$error":"#VALUE!"}},{"$error":"#VALUE!"},{"$error":"#VALUE!"},{"$error":"#VALUE!"}]
[289.5,5.0527281845235841,{"$f":"Burmester($B$3:$C$3,$B$4:$C$4,$B$5:$C$5,$E$3,$E$4,$E$5,B594)","v":1.4133764797330239},4.0351312922310525,{"$f":"ThreePosition_Basic2($E$3,$E$5,$B$3:$C$3,$B$5:$C$5,B594,C594)","v":-2.6346243808564722},3.6337492713732567,-1.9061018022879201,3.184272790113214,{"$f":"ThreePosition_Basic2($E$3,$E$5,$B$3:$C$3,$B$5:$C$5,B594,D594)","v":-2.975165974557938},1.7604929777660108,-2.1031152115025593,1.0618829246267127,null,{"$f":"Burmester($B$3:$C$3,$B$4:$C$4,$B$6:$C$6,$E$3,$E$4,$E$6,B594)","v":{"$error":"#VALUE!"}},{"$error":"#VALUE!"},{"$f":"ThreePosition_Basic2($E$3,$E$6,$B$3:$C$3,$B$6:$C$6,B594,N594)","v":{"$error":"#VALUE!"}},{"$error":"#VALUE!"},{"$error":"#VALUE!"},{"$error":"#VALUE!"},{"$f":"ThreePosition_Basic2($E$3,$E$6,$B$3:$C$3,$B$6:$C$6,B594,O594)","v":{"$error":"#VALUE!"}},{"$error":"#VALUE!"},{"$error":"#VALUE!"},{"$error":"#VALUE!"}]
[290,5.0614548307835552,{"$f":"Burmester($B$3:$C$3,$B$4:$C$4,$B$5:$C$5,$E$3,$E$4,$E$5,B595)","v":1.4166411666094363},4.0462759235656485,{"$f":"ThreePosition_Basic2($E$3,$E$5,$B$3:$C$3,$B$5:$C$5,B595,C595)","v":-2.6402959831267774},3.6399598280126062,-1.9104877556427242,3.1846614512904541,{"$f":"ThreePosition_Basic2($E$3,$E$5,$B$3:$C$3,$B$5:$C$5,B595,D595)","v":-2.9805857633202009},1.753764013580664,-2.1061583673318172,1.0456726200061448,null,{"$f":"Burmester($B$3:$C$3,$B$4:$C$4,$B$6:$C$6,$E$3,$E$4,$E$6,B595)","v":{"$error":"#VALUE!"}},{"$error":"#VALUE!"},{"$f":"ThreePosition_Basic2($E$3,$E$6,$B$3:$C$3,$B$6:$C$6,B595,N595)","v":{"$error":"#VALUE!"}},{"$error":"#VALUE!"},{"$error":"#VALUE!"},{"$error":"#VALUE!"},{"$f":"ThreePosition_Basic2($E$3,$E$6,$B$3:$C$3,$B$6:$C$6,B595,O595)","v":{"$error":"#VALUE!"}},{"$error":"#VALUE!"},{"$error":"#VALUE!"},{"$error":"#VALUE!"}]
[290.5,5.0701814770435272,{"$f":"Burmester($B$3:$C$3,$B$4:$C$4,$B$5:$C$5,$E$3,$E$4,$E$5,B596)","v":1.41985824576081},4.057477432480356,{"$f":"ThreePosition_Basic2($E$3,$E$5,$B$3:$C$3,$B$5:$C$5,B596,C596)","v":-2.6459825988022851},3.6462586269437582,-1.9148815079288739,3.1850853714004059,{"$f":"ThreePosition_Basic2($E$3,$E$5,$B$3:$C$3,$B$5:$C$5,B596,D596)","v":-2.9860121949348351},1.7469410888913257,-2.1091814810293528,1.0292375207356401,null,{"$f":"Burmester($B$3:$C$3,$B$4:$C$4,$B$6:$C$6,$E$3,$E$4,$E$6,B596)","v":{"$error":"#VALUE!"}},{"$error":"#VALUE!"},{"$f":"ThreePosition_Basic2($E$3,$E$6,$B$3:$C$3,$B$6:$C$6,B596,N596)","v":{"$error":"#VALUE!"}},{"$error":"#VALUE!"},{"$error":"#VALUE!"},{"$error":"#VALUE!"},{"$f":"ThreePosition_Basic2($E$3,$E$6,$B$3:$C$3,$B$6:$C$6,B596,O596)","v":{"$error":"#VALUE!"}},{"$error":"#VALUE!"},{"$error":"#VALUE!"},{"$error":"#VALUE!"}]
[291,5.0789081233034983,{"$f":"Burmester($B$3:$C$3,$B$4:$C$4,$B$5:$C$5,$E$3,$E$4,$E$5,B597)","v":1.4230279308714451},4.0687357528272319,{"$f":"ThreePosition_Basic2($E$3,$E$5,$B$3:$C$3,$B$5:$C$5,B597,C597)","v":-2.6516847215579769},3.6526469462140123,-1.919283383799461,3.1855448317370367,{"$f":"ThreePosition_Basic2($E$3,$E$5,$B$3:$C$3,$B$5:$C$5,B597,D597)","v":-2.9914451867709939},1.7400231966472695,-2.1121839183144187,1.0125735982074253,null,{"$f":"Burmester($B$3:$C$3,$B$4:$C$4,$B$6:$C$6,$E$3,$E$4,$E$6,B597)","v":{"$error":"#VALUE!"}},{"$error":"#VALUE!"},{"$f":"ThreePosition_Basic2($E$3,$E$6,$B$3:$C$3,$B$6:$C$6,B597,N597)","v":{"$error":"#VALUE!"}},{"$error":"#VALUE!"},{"$error":"#VALUE!"},{"$error":"#VALUE!"},{"$f":"ThreePosition_Basic2($E$3,$E$6,$B$3:$C$3,$B$6:$C$6,B597,O597)","v":{"$error":"#VALUE!"}},{"$error":"#VALUE!"},{"$error":"#VALUE!"},{"$error":"#VALUE!"}]
[291.5,5.0876347695634703,{"$f":"Burmester($B$3:$C$3,$B$4:$C$4,$B$5:$C$5,$E$3,$E$4,$E$5,B598)","v":1.4261504332114587},4.0800508214672515,{"$f":"ThreePosition_Basic2($E$3,$E$5,$B$3:$C$3,$B$5:$C$5,B598,C598)","v":-2.6574028523123427},3.6591260934722909,-1.9236937114257122,3.1860401190154239,{"$f":"ThreePosition_Basic2($E$3,$E$5,$B$3:$C$3,$B$5:$C$5,B598,D598)","v":-2.9968846523255332},1.7330093094197945,-2.1151650250227569,0.99567671305665884,null,{"$f":"Burmester($B$3:$C$3,$B$4:$C$4,$B$6:$C$6,$E$3,$E$4,$E$6,B598)","v":{"$error":"#VALUE!"}},{"$error":"#VALUE!"},{"$f":"ThreePosition_Basic2($E$3,$E$6,$B$3:$C$3,$B$6:$C$6,B598,N598)","v":{"$error":"#VALUE!"}},{"$error":"#VALUE!"},{"$error":"#VALUE!"},{"$error":"#VALUE!"},{"$f":"ThreePosition_Basic2($E$3,$E$6,$B$3:$C$3,$B$6:$C$6,B598,O598)","v":{"$error":"#VALUE!"}},{"$error":"#VALUE!"},{"$error":"#VALUE!"},{"$error":"#VALUE!"}]
[292,5.0963614158234423,{"$f":"Burmester($B$3:$C$3,$B$4:$C$4,$B$5:$C$5,$E$3,$E$4,$E$5,B599)","v":1.4292259615021434},4.0914225784134048,{"$f":"ThreePosition_Basic2($E$3,$E$5,$B$3:$C$3,$B$5:$C$5,B599,C599)","v":-2.6631374994255257},3.6656974069552324,-1.9281128225854767,3.1865715256134441,{"$f":"ThreePosition_Basic2($E$3,$E$5,$B$3:$C$3,$B$5:$C$5,B599,D599)","v":-3.0023305011140407},1.725898378820407,-2.1181241263970292,0.97854261116895458,null,{"$f":"Burmester($B$3:$C$3,$B$4:$C$4,$B$6:$C$6,$E$3,$E$4,$E$6,B599)","v":{"$error":"#VALUE!"}},{"$error":"#VALUE!"},{"$f":"ThreePosition_Basic2($E$3,$E$6,$B$3:$C$3,$B$6:$C$6,B599,N599)","v":{"$error":"#VALUE!"}},{"$error":"#VALUE!"},{"$error":"#VALUE!"},{"$error":"#VALUE!"},{"$f":"ThreePosition_Basic2($E$3,$E$6,$B$3:$C$3,$B$6:$C$6,B599,O599)","v":{"$error":"#VALUE!"}},{"$error":"#VALUE!"},{"$error":"#VALUE!"},{"$error":"#VALUE!"}]
[292.5,5.1050880620834143,{"$f":"Burmester($B$3:$C$3,$B$4:$C$4,$B$5:$C$5,$E$3,$E$4,$E$5,B600)","v":1.4322547217818284},4.1028509669732927,{"$f":"ThreePosition_Basic2($E$3,$E$5,$B$3:$C$3,$B$5:$C$5,B600,C600)","v":-2.6688891789048177},3.6723622565066045,-1.9325410527548184,3.1871393498188354,{"$f":"ThreePosition_Basic2($E$3,$E$5,$B$3:$C$3,$B$5:$C$5,B600,D600)","v":-3.0077826385569688},1.7186893349028332,-2.121060526345611,0.9611669195177498,null,{"$f":"Burmester($B$3:$C$3,$B$4:$C$4,$B$6:$C$6,$E$3,$E$4,$E$6,B600)","v":{"$error":"#VALUE!"}},{"$error":"#VALUE!"},{"$f":"ThreePosition_Basic2($E$3,$E$6,$B$3:$C$3,$B$6:$C$6,B600,N600)","v":{"$error":"#VALUE!"}},{"$error":"#VALUE!"},{"$error":"#VALUE!"},{"$error":"#VALUE!"},{"$f":"ThreePosition_Basic2($E$3,$E$6,$B$3:$C$3,$B$6:$C$6,B600,O600)","v":{"$error":"#VALUE!"}},{"$error":"#VALUE!"},{"$error":"#VALUE!"},{"$error":"#VALUE!"}]
[293,5.1138147083433854,{"$f":"Burmester($B$3:$C$3,$B$4:$C$4,$B$5:$C$5,$E$3,$E$4,$E$5,B601)","v":1.4352369172721839},4.1143359338912582,{"$f":"ThreePosition_Basic2($E$3,$E$5,$B$3:$C$3,$B$5:$C$5,B601,C601)","v":-2.6746584146177814},3.6791220446314541,-1.9369787412028006,3.1877438960818116,{"$f":"ThreePosition_Basic2($E$3,$E$5,$B$3:$C$3,$B$5:$C$5,B601,D601)","v":-3.0132409658606942},1.711381085548265,-2.1239735066681531,0.94354514182279703,null,{"$f":"Burmester($B$3:$C$3,$B$4:$C$4,$B$6:$C$6,$E$3,$E$4,$E$6,B601)","v":{"$error":"#VALUE!"}},{"$error":"#VALUE!"},{"$f":"ThreePosition_Basic2($E$3,$E$6,$B$3:$C$3,$B$6:$C$6,B601,N601)","v":{"$error":"#VALUE!"}},{"$error":"#VALUE!"},{"$error":"#VALUE!"},{"$error":"#VALUE!"},{"$f":"ThreePosition_Basic2($E$3,$E$6,$B$3:$C$3,$B$6:$C$6,B601,O601)","v":{"$error":"#VALUE!"}},{"$error":"#VALUE!"},{"$error":"#VALUE!"},{"$error":"#VALUE!"}]
[293.5,5.1225413546033574,{"$f":"Burmester($B$3:$C$3,$B$4:$C$4,$B$5:$C$5,$E$3,$E$4,$E$5,B602)","v":1.4381727482449524},4.1258774294900808,{"$f":"ThreePosition_Basic2($E$3,$E$5,$B$3:$C$3,$B$5:$C$5,B602,C602)","v":-2.6804457385133253},3.6859782075865657,-1.9414262310895971,3.1883854752734959,{"$f":"ThreePosition_Basic2($E$3,$E$5,$B$3:$C$3,$B$5:$C$5,B602,D602)","v":-3.018705379893365},1.7039725158332,-2.1268623262462825,0.92567265402049981,null,{"$f":"Burmester($B$3:$C$3,$B$4:$C$4,$B$6:$C$6,$E$3,$E$4,$E$6,B602)","v":{"$error":"#VALUE!"}},{"$error":"#VALUE!"},{"$f":"ThreePosition_Basic2($E$3,$E$6,$B$3:$C$3,$B$6:$C$6,B602,N602)","v":{"$error":"#VALUE!"}},{"$error":"#VALUE!"},{"$error":"#VALUE!"},{"$error":"#VALUE!"},{"$f":"ThreePosition_Basic2($E$3,$E$6,$B$3:$C$3,$B$6:$C$6,B602,O602)","v":{"$error":"#VALUE!"}},{"$error":"#VALUE!"},{"$error":"#VALUE!"},{"$error":"#VALUE!"}]
[294,5.1312680008633293,{"$f":"Burmester($B$3:$C$3,$B$4:$C$4,$B$5:$C$5,$E$3,$E$4,$E$5,B603)","v":1.4410624118890354},4.1374754078122757,{"$f":"ThreePosition_Basic2($E$3,$E$5,$B$3:$C$3,$B$5:$C$5,B603,C603)","v":-2.6862516908509964},3.6929322165087677,-1.9458838695679854,3.1890644049503374,{"$f":"ThreePosition_Basic2($E$3,$E$5,$B$3:$C$3,$B$5:$C$5,B603,D603)","v":-3.0241757730552923},1.696462487379198,-2.1297262201976155,0.90754469953627426,null,{"$f":"Burmester($B$3:$C$3,$B$4:$C$4,$B$6:$C$6,$E$3,$E$4,$E$6,B603)","v":{"$error":"#VALUE!"}},{"$error":"#VALUE!"},{"$f":"ThreePosition_Basic2($E$3,$E$6,$B$3:$C$3,$B$6:$C$6,B603,N603)","v":{"$error":"#VALUE!"}},{"$error":"#VALUE!"},{"$error":"#VALUE!"},{"$error":"#VALUE!"},{"$f":"ThreePosition_Basic2($E$3,$E$6,$B$3:$C$3,$B$6:$C$6,B603,O603)","v":{"$error":"#VALUE!"}},{"$error":"#VALUE!"},{"$error":"#VALUE!"},{"$error":"#VALUE!"}]
[294.5,5.1399946471233005,{"$f":"Burmester($B$3:$C$3,$B$4:$C$4,$B$5:$C$5,$E$3,$E$4,$E$5,B604)","v":1.4439061021779065},4.1491298267610732,{"$f":"ThreePosition_Basic2($E$3,$E$5,$B$3:$C$3,$B$5:$C$5,B604,C604)","v":-2.6920768204388539},3.699985578582826,-1.9503520078883756,3.1897810096248085,{"$f":"ThreePosition_Basic2($E$3,$E$5,$B$3:$C$3,$B$5:$C$5,B604,D604)","v":-3.0296520331437478},1.6888498376838472,-2.1325643989912368,0.88915638434848032,null,{"$f":"Burmester($B$3:$C$3,$B$4:$C$4,$B$6:$C$6,$E$3,$E$4,$E$6,B604)","v":{"$error":"#VALUE!"}},{"$error":"#VALUE!"},{"$f":"ThreePosition_Basic2($E$3,$E$6,$B$3:$C$3,$B$6:$C$6,B604,N604)","v":{"$error":"#VALUE!"}},{"$error":"#VALUE!"},{"$error":"#VALUE!"},{"$error":"#VALUE!"},{"$f":"ThreePosition_Basic2($E$3,$E$6,$B$3:$C$3,$B$6:$C$6,B604,O604)","v":{"$error":"#VALUE!"}},{"$error":"#VALUE!"},{"$error":"#VALUE!"},{"$error":"#VALUE!"}]
[295,5.1487212933832724,{"$f":"Burmester($B$3:$C$3,$B$4:$C$4,$B$5:$C$5,$E$3,$E$4,$E$5,B605)","v":1.4467040097372816},4.1608406482411073,{"$f":"ThreePosition_Basic2($E$3,$E$5,$B$3:$C$3,$B$5:$C$5,B605,C605)","v":-2.6979216848802503},3.7071398382506722,-1.954831001507465,3.1905356210426072,{"$f":"ThreePosition_Basic2($E$3,$E$5,$B$3:$C$3,$B$5:$C$5,B605,D605)","v":-3.0351340432119445},1.6811333794321761,-2.1353760475226524,0.87050267183285102,null,{"$f":"Burmester($B$3:$C$3,$B$4:$C$4,$B$6:$C$6,$E$3,$E$4,$E$6,B605)","v":{"$error":"#VALUE!"}},{"$error":"#VALUE!"},{"$f":"ThreePosition_Basic2($E$3,$E$6,$B$3:$C$3,$B$6:$C$6,B605,N605)","v":{"$error":"#VALUE!"}},{"$error":"#VALUE!"},{"$error":"#VALUE!"},{"$error":"#VALUE!"},{"$f":"ThreePosition_Basic2($E$3,$E$6,$B$3:$C$3,$B$6:$C$6,B605,O605)","v":{"$error":"#VALUE!"}},{"$error":"#VALUE!"},{"$error":"#VALUE!"},{"$error":"#VALUE!"}]
[295.5,5.1574479396432436,{"$f":"Burmester($B$3:$C$3,$B$4:$C$4,$B$5:$C$5,$E$3,$E$4,$E$5,B606)","v":1.4494563217129794},4.1726078382988803,{"$f":"ThreePosition_Basic2($E$3,$E$5,$B$3:$C$3,$B$5:$C$5,B606,C606)","v":-2.7037868508298621},3.714396578463838,-1.9593212102006348,3.1913285784666487,{"$f":"ThreePosition_Basic2($E$3,$E$5,$B$3:$C$3,$B$5:$C$5,B606,D606)","v":-3.0406216814219853},1.6733118997877878,-2.1381603241460825,0.85157837737572128,null,{"$f":"Burmester($B$3:$C$3,$B$4:$C$4,$B$6:$C$6,$E$3,$E$4,$E$6,B606)","v":{"$error":"#VALUE!"}},{"$error":"#VALUE!"},{"$f":"ThreePosition_Basic2($E$3,$E$6,$B$3:$C$3,$B$6:$C$6,B606,N606)","v":{"$error":"#VALUE!"}},{"$error":"#VALUE!"},{"$error":"#VALUE!"},{"$error":"#VALUE!"},{"$f":"ThreePosition_Basic2($E$3,$E$6,$B$3:$C$3,$B$6:$C$6,B606,O606)","v":{"$error":"#VALUE!"}},{"$error":"#VALUE!"},{"$error":"#VALUE!"},{"$error":"#VALUE!"}]
[296,5.1661745859032155,{"$f":"Burmester($B$3:$C$3,$B$4:$C$4,$B$5:$C$5,$E$3,$E$4,$E$5,B607)","v":1.4521632216389078},4.1844313672630999,{"$f":"ThreePosition_Basic2($E$3,$E$5,$B$3:$C$3,$B$5:$C$5,B607,C607)","v":-2.7096728942593651},3.7217574219810725,-1.96382299817822,3.1921602289681248,{"$f":"ThreePosition_Basic2($E$3,$E$5,$B$3:$C$3,$B$5:$C$5,B607,D607)","v":-3.0461148208915634},1.6653841596628067,-2.1409163596618548,0.83237816274346532,null,{"$f":"Burmester($B$3:$C$3,$B$4:$C$4,$B$6:$C$6,$E$3,$E$4,$E$6,B607)","v":{"$error":"#VALUE!"}},{"$error":"#VALUE!"},{"$f":"ThreePosition_Basic2($E$3,$E$6,$B$3:$C$3,$B$6:$C$6,B607,N607)","v":{"$error":"#VALUE!"}},{"$error":"#VALUE!"},{"$error":"#VALUE!"},{"$error":"#VALUE!"},{"$f":"ThreePosition_Basic2($E$3,$E$6,$B$3:$C$3,$B$6:$C$6,B607,O607)","v":{"$error":"#VALUE!"}},{"$error":"#VALUE!"},{"$error":"#VALUE!"},{"$error":"#VALUE!"}]
[296.5,5.1749012321631866,{"$f":"Burmester($B$3:$C$3,$B$4:$C$4,$B$5:$C$5,$E$3,$E$4,$E$5,B608)","v":1.4548248893051046},4.1963112098849091,{"$f":"ThreePosition_Basic2($E$3,$E$5,$B$3:$C$3,$B$5:$C$5,B608,C608)","v":-2.7155804007331383},3.7292240327132054,-1.9683367342057845,3.1930309277249385,{"$f":"ThreePosition_Basic2($E$3,$E$5,$B$3:$C$3,$B$5:$C$5,B608,D608)","v":-3.0516133295342129},1.6573488929658744,-2.1436432562565497,0.81289653019499852,null,{"$f":"Burmester($B$3:$C$3,$B$4:$C$4,$B$6:$C$6,$E$3,$E$4,$E$6,B608)","v":{"$error":"#VALUE!"}},{"$error":"#VALUE!"},{"$f":"ThreePosition_Basic2($E$3,$E$6,$B$3:$C$3,$B$6:$C$6,B608,N608)","v":{"$error":"#VALUE!"}},{"$error":"#VALUE!"},{"$error":"#VALUE!"},{"$error":"#VALUE!"},{"$f":"ThreePosition_Basic2($E$3,$E$6,$B$3:$C$3,$B$6:$C$6,B608,O608)","v":{"$error":"#VALUE!"}},{"$error":"#VALUE!"},{"$error":"#VALUE!"},{"$error":"#VALUE!"}]
[297,5.1836278784231586,{"$f":"Burmester($B$3:$C$3,$B$4:$C$4,$B$5:$C$5,$E$3,$E$4,$E$5,B609)","v":1.4574415006257437},4.2082473454781422,{"$f":"ThreePosition_Basic2($E$3,$E$5,$B$3:$C$3,$B$5:$C$5,B609,C609)","v":-2.7215099656943917},3.736798117117452,-1.9728627917285089,3.1939410383278304,{"$f":"ThreePosition_Basic2($E$3,$E$5,$B$3:$C$3,$B$5:$C$5,B609,D609)","v":-3.0571170698928296},1.6492048058272164,-2.1463400863933217,0.79312781632313101,null,{"$f":"Burmester($B$3:$C$3,$B$4:$C$4,$B$6:$C$6,$E$3,$E$4,$E$6,B609)","v":{"$error":"#VALUE!"}},{"$error":"#VALUE!"},{"$f":"ThreePosition_Basic2($E$3,$E$6,$B$3:$C$3,$B$6:$C$6,B609,N609)","v":{"$error":"#VALUE!"}},{"$error":"#VALUE!"},{"$error":"#VALUE!"},{"$error":"#VALUE!"},{"$f":"ThreePosition_Basic2($E$3,$E$6,$B$3:$C$3,$B$6:$C$6,B609,O609)","v":{"$error":"#VALUE!"}},{"$error":"#VALUE!"},{"$error":"#VALUE!"},{"$error":"#VALUE!"}]
[297.5,5.1923545246831297,{"$f":"Burmester($B$3:$C$3,$B$4:$C$4,$B$5:$C$5,$E$3,$E$4,$E$5,B610)","v":1.4600132275070297},4.22023975805965,{"$f":"ThreePosition_Basic2($E$3,$E$5,$B$3:$C$3,$B$5:$C$5,B610,C610)","v":-2.7274621947621815},3.7444814256434409,-1.9774015489998686,3.1948909330945199,{"$f":"ThreePosition_Basic2($E$3,$E$5,$B$3:$C$3,$B$5:$C$5,B610,D610)","v":-3.062625898966242},1.6409505757998741,-2.1490058916497379,0.77306618560984885,null,{"$f":"Burmester($B$3:$C$3,$B$4:$C$4,$B$6:$C$6,$E$3,$E$4,$E$6,B610)","v":{"$error":"#VALUE!"}},{"$error":"#VALUE!"},{"$f":"ThreePosition_Basic2($E$3,$E$6,$B$3:$C$3,$B$6:$C$6,B610,N610)","v":{"$error":"#VALUE!"}},{"$error":"#VALUE!"},{"$error":"#VALUE!"},{"$error":"#VALUE!"},{"$f":"ThreePosition_Basic2($E$3,$E$6,$B$3:$C$3,$B$6:$C$6,B610,O610)","v":{"$error":"#VALUE!"}},{"$error":"#VALUE!"},{"$error":"#VALUE!"},{"$error":"#VALUE!"}]
[298,5.2010811709431017,{"$f":"Burmester($B$3:$C$3,$B$4:$C$4,$B$5:$C$5,$E$3,$E$4,$E$5,B611)","v":1.4625402377148782},4.2322884364898128,{"$f":"ThreePosition_Basic2($E$3,$E$5,$B$3:$C$3,$B$5:$C$5,B611,C611)","v":-2.7334377040397406},3.752275754233418,-1.9819533892147176,3.1958809933922363,{"$f":"ThreePosition_Basic2($E$3,$E$5,$B$3:$C$3,$B$5:$C$5,B611,D611)","v":-3.0681396680285768},1.6325848510360845,-2.1516396815002818,0.75270562367949889,null,{"$f":"Burmester($B$3:$C$3,$B$4:$C$4,$B$6:$C$6,$E$3,$E$4,$E$6,B611)","v":{"$error":"#VALUE!"}},{"$error":"#VALUE!"},{"$f":"ThreePosition_Basic2($E$3,$E$6,$B$3:$C$3,$B$6:$C$6,B611,N611)","v":{"$error":"#VALUE!"}},{"$error":"#VALUE!"},{"$error":"#VALUE!"},{"$error":"#VALUE!"},{"$f":"ThreePosition_Basic2($E$3,$E$6,$B$3:$C$3,$B$6:$C$6,B611,O611)","v":{"$error":"#VALUE!"}},{"$error":"#VALUE!"},{"$error":"#VALUE!"},{"$error":"#VALUE!"}]
[298.5,5.2098078172030728,{"$f":"Burmester($B$3:$C$3,$B$4:$C$4,$B$5:$C$5,$E$3,$E$4,$E$5,B612)","v":1.4650226947422829},4.2443933746133249,{"$f":"ThreePosition_Basic2($E$3,$E$5,$B$3:$C$3,$B$5:$C$5,B612,C612)","v":-2.7394371204345953},3.7601829458791536,-1.9865187006469267,3.1969116099689869,{"$f":"ThreePosition_Basic2($E$3,$E$5,$B$3:$C$3,$B$5:$C$5,B612,D612)","v":-3.073658222441098},1.6241062494377627,-2.1542404320404307,0.73203993023292335,null,{"$f":"Burmester($B$3:$C$3,$B$4:$C$4,$B$6:$C$6,$E$3,$E$4,$E$6,B612)","v":{"$error":"#VALUE!"}},{"$error":"#VALUE!"},{"$f":"ThreePosition_Basic2($E$3,$E$6,$B$3:$C$3,$B$6:$C$6,B612,N612)","v":{"$error":"#VALUE!"}},{"$error":"#VALUE!"},{"$error":"#VALUE!"},{"$error":"#VALUE!"},{"$f":"ThreePosition_Basic2($E$3,$E$6,$B$3:$C$3,$B$6:$C$6,B612,O612)","v":{"$error":"#VALUE!"}},{"$error":"#VALUE!"},{"$error":"#VALUE!"},{"$error":"#VALUE!"}]
[299,5.2185344634630448,{"$f":"Burmester($B$3:$C$3,$B$4:$C$4,$B$5:$C$5,$E$3,$E$4,$E$5,B613)","v":1.4674607576762873},4.2565545714003479,{"$f":"ThreePosition_Basic2($E$3,$E$5,$B$3:$C$3,$B$5:$C$5,B613,C613)","v":-2.745461081991015},3.7682048922382947,-1.9910978767917764,3.1979831832939829,{"$f":"ThreePosition_Basic2($E$3,$E$5,$B$3:$C$3,$B$5:$C$5,B613,D613)","v":-3.0791814014563292},1.6155133577800009,-2.1568070846491709,0.71106271164440471,null,{"$f":"Burmester($B$3:$C$3,$B$4:$C$4,$B$6:$C$6,$E$3,$E$4,$E$6,B613)","v":{"$error":"#VALUE!"}},{"$error":"#VALUE!"},{"$f":"ThreePosition_Basic2($E$3,$E$6,$B$3:$C$3,$B$6:$C$6,B613,N613)","v":{"$error":"#VALUE!"}},{"$error":"#VALUE!"},{"$error":"#VALUE!"},{"$error":"#VALUE!"},{"$f":"ThreePosition_Basic2($E$3,$E$6,$B$3:$C$3,$B$6:$C$6,B613,O613)","v":{"$error":"#VALUE!"}},{"$error":"#VALUE!"},{"$error":"#VALUE!"},{"$error":"#VALUE!"}]
[299.5,5.2272611097230168,{"$f":"Burmester($B$3:$C$3,$B$4:$C$4,$B$5:$C$5,$E$3,$E$4,$E$5,B614)","v":1.4698545810644132},4.268772031088151,{"$f":"ThreePosition_Basic2($E$3,$E$5,$B$3:$C$3,$B$5:$C$5,B614,C614)","v":-2.7515102382352543},3.7763435353129435,-1.9956913165132062,3.1990961239075939,{"$f":"ThreePosition_Basic2($E$3,$E$5,$B$3:$C$3,$B$5:$C$5,B614,D614)","v":-3.0847090380140436},1.6068047308064188,-2.1593385445863849,0.68976737320216586,null,{"$f":"Burmester($B$3:$C$3,$B$4:$C$4,$B$6:$C$6,$E$3,$E$4,$E$6,B614)","v":{"$error":"#VALUE!"}},{"$error":"#VALUE!"},{"$f":"ThreePosition_Basic2($E$3,$E$6,$B$3:$C$3,$B$6:$C$6,B614,N614)","v":{"$error":"#VALUE!"}},{"$error":"#VALUE!"},{"$error":"#VALUE!"},{"$error":"#VALUE!"},{"$f":"ThreePosition_Basic2($E$3,$E$6,$B$3:$C$3,$B$6:$C$6,B614,O614)","v":{"$error":"#VALUE!"}},{"$error":"#VALUE!"},{"$error":"#VALUE!"},{"$error":"#VALUE!"}]
[300,5.2359877559829888,{"$f":"Burmester($B$3:$C$3,$B$4:$C$4,$B$5:$C$5,$E$3,$E$4,$E$5,B615)","v":1.4722043147804609},4.2810457633233598,{"$f":"ThreePosition_Basic2($E$3,$E$5,$B$3:$C$3,$B$5:$C$5,B615,C615)","v":-2.7575852505342069},3.7846008691935356,-2.0002994241961551,3.2002508527813069,{"$f":"ThreePosition_Basic2($E$3,$E$5,$B$3:$C$3,$B$5:$C$5,B615,D615)","v":-3.0902409585289106},1.5979788902951342,-2.1618336795215329,0.6681471109717928,null,{"$f":"Burmester($B$3:$C$3,$B$4:$C$4,$B$6:$C$6,$E$3,$E$4,$E$6,B615)","v":{"$error":"#VALUE!"}},{"$error":"#VALUE!"},{"$f":"ThreePosition_Basic2($E$3,$E$6,$B$3:$C$3,$B$6:$C$6,B615,N615)","v":{"$error":"#VALUE!"}},{"$error":"#VALUE!"},{"$error":"#VALUE!"},{"$error":"#VALUE!"},{"$f":"ThreePosition_Basic2($E$3,$E$6,$B$3:$C$3,$B$6:$C$6,B615,O615)","v":{"$error":"#VALUE!"}},{"$error":"#VALUE!"},{"$error":"#VALUE!"},{"$error":"#VALUE!"}]
[300.5,5.2447144022429608,{"$f":"Burmester($B$3:$C$3,$B$4:$C$4,$B$5:$C$5,$E$3,$E$4,$E$5,B616)","v":1.4745101038895438},4.2933757833049047,{"$f":"ThreePosition_Basic2($E$3,$E$5,$B$3:$C$3,$B$5:$C$5,B616,C616)","v":-2.7636867924680093},3.7929789418711475,-2.0049226099041277,3.2014478016881274,{"$f":"ThreePosition_Basic2($E$3,$E$5,$B$3:$C$3,$B$5:$C$5,B616,D616)","v":-3.0957769826694115},1.5890343240941149,-2.1642913179896759,0.64619490326069917,null,{"$f":"Burmester($B$3:$C$3,$B$4:$C$4,$B$6:$C$6,$E$3,$E$4,$E$6,B616)","v":{"$error":"#VALUE!"}},{"$error":"#VALUE!"},{"$f":"ThreePosition_Basic2($E$3,$E$6,$B$3:$C$3,$B$6:$C$6,B616,N616)","v":{"$error":"#VALUE!"}},{"$error":"#VALUE!"},{"$error":"#VALUE!"},{"$error":"#VALUE!"},{"$f":"ThreePosition_Basic2($E$3,$E$6,$B$3:$C$3,$B$6:$C$6,B616,O616)","v":{"$error":"#VALUE!"}},{"$error":"#VALUE!"},{"$error":"#VALUE!"},{"$error":"#VALUE!"}]
[301,5.2534410485029319,{"$f":"Burmester($B$3:$C$3,$B$4:$C$4,$B$5:$C$5,$E$3,$E$4,$E$5,B617)","v":1.4767720885122226},4.3057621119278373,{"$f":"ThreePosition_Basic2($E$3,$E$5,$B$3:$C$3,$B$5:$C$5,B617,C617)","v":-2.7698155502172352},3.8014798571215858,-2.009561289542205,3.2026874135838943,{"$f":"ThreePosition_Basic2($E$3,$E$5,$B$3:$C$3,$B$5:$C$5,B617,D617)","v":-3.101316923127706},1.5799694851245372,-2.1667102477706597,0.62390350166015651,null,{"$f":"Burmester($B$3:$C$3,$B$4:$C$4,$B$6:$C$6,$E$3,$E$4,$E$6,B617)","v":{"$error":"#VALUE!"}},{"$error":"#VALUE!"},{"$f":"ThreePosition_Basic2($E$3,$E$6,$B$3:$C$3,$B$6:$C$6,B617,N617)","v":{"$error":"#VALUE!"}},{"$error":"#VALUE!"},{"$error":"#VALUE!"},{"$error":"#VALUE!"},{"$f":"ThreePosition_Basic2($E$3,$E$6,$B$3:$C$3,$B$6:$C$6,B617,O617)","v":{"$error":"#VALUE!"}},{"$error":"#VALUE!"},{"$error":"#VALUE!"},{"$error":"#VALUE!"}]
[301.5,5.2621676947629039,{"$f":"Burmester($B$3:$C$3,$B$4:$C$4,$B$5:$C$5,$E$3,$E$4,$E$5,B618)","v":1.478990403687622},4.3182047759281161,{"$f":"ThreePosition_Basic2($E$3,$E$5,$B$3:$C$3,$B$5:$C$5,B618,C618)","v":-2.7759722229653327},3.8101057764648081,-2.0142158850256937,3.2039701430000296,{"$f":"ThreePosition_Basic2($E$3,$E$5,$B$3:$C$3,$B$5:$C$5,B618,D618)","v":-3.1068605853800788},1.5707827903507392,-2.1690892141870259,0.60126542163988139,null,{"$f":"Burmester($B$3:$C$3,$B$4:$C$4,$B$6:$C$6,$E$3,$E$4,$E$6,B618)","v":{"$error":"#VALUE!"}},{"$error":"#VALUE!"},{"$f":"ThreePosition_Basic2($E$3,$E$6,$B$3:$C$3,$B$6:$C$6,B618,N618)","v":{"$error":"#VALUE!"}},{"$error":"#VALUE!"},{"$error":"#VALUE!"},{"$error":"#VALUE!"},{"$f":"ThreePosition_Basic2($E$3,$E$6,$B$3:$C$3,$B$6:$C$6,B618,O618)","v":{"$error":"#VALUE!"}},{"$error":"#VALUE!"},{"$error":"#VALUE!"},{"$error":"#VALUE!"}]
[302,5.270894341022875,{"$f":"Burmester($B$3:$C$3,$B$4:$C$4,$B$5:$C$5,$E$3,$E$4,$E$5,B619)","v":1.4811651792353577},4.3307038080285096,{"$f":"ThreePosition_Basic2($E$3,$E$5,$B$3:$C$3,$B$5:$C$5,B619,C619)","v":-2.7821575233169522},3.8188589212034092,-2.0188868244545954,3.2052964564482576,{"$f":"ThreePosition_Basic2($E$3,$E$5,$B$3:$C$3,$B$5:$C$5,B619,D619)","v":-3.1124077674376069},1.5614726197153213,-2.1714269183158907,0.57827293266848878,null,{"$f":"Burmester($B$3:$C$3,$B$4:$C$4,$B$6:$C$6,$E$3,$E$4,$E$6,B619)","v":{"$error":"#VALUE!"}},{"$error":"#VALUE!"},{"$f":"ThreePosition_Basic2($E$3,$E$6,$B$3:$C$3,$B$6:$C$6,B619,N619)","v":{"$error":"#VALUE!"}},{"$error":"#VALUE!"},{"$error":"#VALUE!"},{"$error":"#VALUE!"},{"$f":"ThreePosition_Basic2($E$3,$E$6,$B$3:$C$3,$B$6:$C$6,B619,O619)","v":{"$error":"#VALUE!"}},{"$error":"#VALUE!"},{"$error":"#VALUE!"},{"$error":"#VALUE!"}]
[302.5,5.279620987282847,{"$f":"Burmester($B$3:$C$3,$B$4:$C$4,$B$5:$C$5,$E$3,$E$4,$E$5,B620)","v":1.4832965396161522},4.3432592470857871,{"$f":"ThreePosition_Basic2($E$3,$E$5,$B$3:$C$3,$B$5:$C$5,B620,C620)","v":-2.7883721777329407},3.8277415745441203,-2.0235745422941656,3.2066668328378345,{"$f":"ThreePosition_Basic2($E$3,$E$5,$B$3:$C$3,$B$5:$C$5,B620,D620)","v":-3.11795825958662},1.5520373150377731,-2.1737220151096786,0.55491804783115373,null,{"$f":"Burmester($B$3:$C$3,$B$4:$C$4,$B$6:$C$6,$E$3,$E$4,$E$6,B620)","v":{"$error":"#VALUE!"}},{"$error":"#VALUE!"},{"$f":"ThreePosition_Basic2($E$3,$E$6,$B$3:$C$3,$B$6:$C$6,B620,N620)","v":{"$error":"#VALUE!"}},{"$error":"#VALUE!"},{"$error":"#VALUE!"},{"$error":"#VALUE!"},{"$f":"ThreePosition_Basic2($E$3,$E$6,$B$3:$C$3,$B$6:$C$6,B620,O620)","v":{"$error":"#VALUE!"}},{"$error":"#VALUE!"},{"$error":"#VALUE!"},{"$error":"#VALUE!"}]
[303,5.2883476335428181,{"$f":"Burmester($B$3:$C$3,$B$4:$C$4,$B$5:$C$5,$E$3,$E$4,$E$5,B621)","v":1.4853846037909553},4.3558711382393156,{"$f":"ThreePosition_Basic2($E$3,$E$5,$B$3:$C$3,$B$5:$C$5,B621,C621)","v":-2.7946169269827097},3.836756083806498,-2.0282794795617267,3.2080817639058994,{"$f":"ThreePosition_Basic2($E$3,$E$5,$B$3:$C$3,$B$5:$C$5,B621,D621)","v":-3.1235118441185641},1.5424751788750255,-2.1759731114203169,0.53119251291398428,null,{"$f":"Burmester($B$3:$C$3,$B$4:$C$4,$B$6:$C$6,$E$3,$E$4,$E$6,B621)","v":{"$error":"#VALUE!"}},{"$error":"#VALUE!"},{"$f":"ThreePosition_Basic2($E$3,$E$6,$B$3:$C$3,$B$6:$C$6,B621,N621)","v":{"$error":"#VALUE!"}},{"$error":"#VALUE!"},{"$error":"#VALUE!"},{"$error":"#VALUE!"},{"$f":"ThreePosition_Basic2($E$3,$E$6,$B$3:$C$3,$B$6:$C$6,B621,O621)","v":{"$error":"#VALUE!"}},{"$error":"#VALUE!"},{"$error":"#VALUE!"},{"$error":"#VALUE!"}]
[303.5,5.2970742798027901,{"$f":"Burmester($B$3:$C$3,$B$4:$C$4,$B$5:$C$5,$E$3,$E$4,$E$5,B622)","v":1.4874294850784362},4.3685395330612522,{"$f":"ThreePosition_Basic2($E$3,$E$5,$B$3:$C$3,$B$5:$C$5,B622,C622)","v":-2.8008925266148359},3.8459048627232475,-2.0330020840200493,3.2095417546615619,{"$f":"ThreePosition_Basic2($E$3,$E$5,$B$3:$C$3,$B$5:$C$5,B622,D622)","v":-3.129068295048842},1.5327844733421914,-2.1781787639210766,0.50708779492233802,null,{"$f":"Burmester($B$3:$C$3,$B$4:$C$4,$B$6:$C$6,$E$3,$E$4,$E$6,B622)","v":{"$error":"#VALUE!"}},{"$error":"#VALUE!"},{"$f":"ThreePosition_Basic2($E$3,$E$6,$B$3:$C$3,$B$6:$C$6,B622,N622)","v":{"$error":"#VALUE!"}},{"$error":"#VALUE!"},{"$error":"#VALUE!"},{"$error":"#VALUE!"},{"$f":"ThreePosition_Basic2($E$3,$E$6,$B$3:$C$3,$B$6:$C$6,B622,O622)","v":{"$error":"#VALUE!"}},{"$error":"#VALUE!"},{"$error":"#VALUE!"},{"$error":"#VALUE!"}]
[304,5.3058009260627612,{"$f":"Burmester($B$3:$C$3,$B$4:$C$4,$B$5:$C$5,$E$3,$E$4,$E$5,B623)","v":1.4894312910106313},4.3812644897084869,{"$f":"ThreePosition_Basic2($E$3,$E$5,$B$3:$C$3,$B$5:$C$5,B623,C623)","v":-2.8071997474466888},3.8551903938368133,-2.0377428103774813,3.2110473238443684,{"$f":"ThreePosition_Basic2($E$3,$E$5,$B$3:$C$3,$B$5:$C$5,B623,D623)","v":-3.1346273778241325},1.5229634188916468,-2.1803374769198052,0.48259506999805479,null,{"$f":"Burmester($B$3:$C$3,$B$4:$C$4,$B$6:$C$6,$E$3,$E$4,$E$6,B623)","v":{"$error":"#VALUE!"}},{"$error":"#VALUE!"},{"$f":"ThreePosition_Basic2($E$3,$E$6,$B$3:$C$3,$B$6:$C$6,B623,N623)","v":{"$error":"#VALUE!"}},{"$error":"#VALUE!"},{"$error":"#VALUE!"},{"$error":"#VALUE!"},{"$f":"ThreePosition_Basic2($E$3,$E$6,$B$3:$C$3,$B$6:$C$6,B623,O623)","v":{"$error":"#VALUE!"}},{"$error":"#VALUE!"},{"$error":"#VALUE!"},{"$error":"#VALUE!"}]
[304.5,5.3145275723227332,{"$f":"Burmester($B$3:$C$3,$B$4:$C$4,$B$5:$C$5,$E$3,$E$4,$E$5,B624)","v":1.4913901231866042},4.3940460730765416,{"$f":"ThreePosition_Basic2($E$3,$E$5,$B$3:$C$3,$B$5:$C$5,B624,C624)","v":-2.8135393760740119},3.8646152309972424,-2.0425021204951297,3.2125990043978536,{"$f":"ThreePosition_Basic2($E$3,$E$5,$B$3:$C$3,$B$5:$C$5,B624,D624)","v":-3.1401888490177297},1.5130101930485413,-2.1824477000569082,0.45770521069801862,null,{"$f":"Burmester($B$3:$C$3,$B$4:$C$4,$B$6:$C$6,$E$3,$E$4,$E$6,B624)","v":{"$error":"#VALUE!"}},{"$error":"#VALUE!"},{"$f":"ThreePosition_Basic2($E$3,$E$6,$B$3:$C$3,$B$6:$C$6,B624,N624)","v":{"$error":"#VALUE!"}},{"$error":"#VALUE!"},{"$error":"#VALUE!"},{"$error":"#VALUE!"},{"$f":"ThreePosition_Basic2($E$3,$E$6,$B$3:$C$3,$B$6:$C$6,B624,O624)","v":{"$error":"#VALUE!"}},{"$error":"#VALUE!"},{"$error":"#VALUE!"},{"$error":"#VALUE!"}]
[305,5.3232542185827052,{"$f":"Burmester($B$3:$C$3,$B$4:$C$4,$B$5:$C$5,$E$3,$E$4,$E$5,B625)","v":1.4933060771239115},4.4068843549555545,{"$f":"ThreePosition_Basic2($E$3,$E$5,$B$3:$C$3,$B$5:$C$5,B625,C625)","v":-2.8199122154014189},3.8741820019665338,-2.04728048360138,3.2141973439588982,{"$f":"ThreePosition_Basic2($E$3,$E$5,$B$3:$C$3,$B$5:$C$5,B625,D625)","v":-3.1457524560124179},1.502922929100744,-2.1845078258809765,0.43240877259384258,null,{"$f":"Burmester($B$3:$C$3,$B$4:$C$4,$B$6:$C$6,$E$3,$E$4,$E$6,B625)","v":{"$error":"#VALUE!"}},{"$error":"#VALUE!"},{"$f":"ThreePosition_Basic2($E$3,$E$6,$B$3:$C$3,$B$6:$C$6,B625,N625)","v":{"$error":"#VALUE!"}},{"$error":"#VALUE!"},{"$error":"#VALUE!"},{"$error":"#VALUE!"},{"$f":"ThreePosition_Basic2($E$3,$E$6,$B$3:$C$3,$B$6:$C$6,B625,O625)","v":{"$error":"#VALUE!"}},{"$error":"#VALUE!"},{"$error":"#VALUE!"},{"$error":"#VALUE!"}]
[305.5,5.3319808648426763,{"$f":"Burmester($B$3:$C$3,$B$4:$C$4,$B$5:$C$5,$E$3,$E$4,$E$5,B626)","v":1.4951792421076755},4.4197794141886151,{"$f":"ThreePosition_Basic2($E$3,$E$5,$B$3:$C$3,$B$5:$C$5,B626,C626)","v":-2.8263190851947688},3.8838934111350403,-2.05207837651401,3.2158429053636439,{"$f":"ThreePosition_Basic2($E$3,$E$5,$B$3:$C$3,$B$5:$C$5,B626,D626)","v":-3.1513179366703015},1.4926997147410239,-2.1865161872943393,0.40669598014938324,null,{"$f":"Burmester($B$3:$C$3,$B$4:$C$4,$B$6:$C$6,$E$3,$E$4,$E$6,B626)","v":{"$error":"#VALUE!"}},{"$error":"#VALUE!"},{"$f":"ThreePosition_Basic2($E$3,$E$6,$B$3:$C$3,$B$6:$C$6,B626,N626)","v":{"$error":"#VALUE!"}},{"$error":"#VALUE!"},{"$error":"#VALUE!"},{"$error":"#VALUE!"},{"$f":"ThreePosition_Basic2($E$3,$E$6,$B$3:$C$3,$B$6:$C$6,B626,O626)","v":{"$error":"#VALUE!"}},{"$error":"#VALUE!"},{"$error":"#VALUE!"},{"$error":"#VALUE!"}]
[306,5.3407075111026483,{"$f":"Burmester($B$3:$C$3,$B$4:$C$4,$B$5:$C$5,$E$3,$E$4,$E$5,B627)","v":1.4970097010370591},4.432731336832604,{"$f":"ThreePosition_Basic2($E$3,$E$5,$B$3:$C$3,$B$5:$C$5,B627,C627)","v":-2.8327608226565175},3.8937522423558257,-2.0568962838702367,3.2175362671707894,{"$f":"ThreePosition_Basic2($E$3,$E$5,$B$3:$C$3,$B$5:$C$5,B627,D627)","v":-3.1568850189890671},1.4823385906592728,-2.1884710548603787,0.38055671182975415,null,{"$f":"Burmester($B$3:$C$3,$B$4:$C$4,$B$6:$C$6,$E$3,$E$4,$E$6,B627)","v":{"$error":"#VALUE!"}},{"$error":"#VALUE!"},{"$f":"ThreePosition_Basic2($E$3,$E$6,$B$3:$C$3,$B$6:$C$6,B627,N627)","v":{"$error":"#VALUE!"}},{"$error":"#VALUE!"},{"$error":"#VALUE!"},{"$error":"#VALUE!"},{"$f":"ThreePosition_Basic2($E$3,$E$6,$B$3:$C$3,$B$6:$C$6,B627,O627)","v":{"$error":"#VALUE!"}},{"$error":"#VALUE!"},{"$error":"#VALUE!"},{"$error":"#VALUE!"}]
[306.5,5.3494341573626194,{"$f":"Burmester($B$3:$C$3,$B$4:$C$4,$B$5:$C$5,$E$3,$E$4,$E$5,B628)","v":1.4987975302689265},4.445740216321763,{"$f":"ThreePosition_Basic2($E$3,$E$5,$B$3:$C$3,$B$5:$C$5,B628,C628)","v":-2.8392382830251419},3.9037613619032205,-2.061734698364996,3.2192780242031134,{"$f":"ThreePosition_Basic2($E$3,$E$5,$B$3:$C$3,$B$5:$C$5,B628,D628)","v":-3.1624534207440744},1.4718375490823763,-2.1903706339637745,0.35398048439200136,null,{"$f":"Burmester($B$3:$C$3,$B$4:$C$4,$B$6:$C$6,$E$3,$E$4,$E$6,B628)","v":{"$error":"#VALUE!"}},{"$error":"#VALUE!"},{"$f":"ThreePosition_Basic2($E$3,$E$6,$B$3:$C$3,$B$6:$C$6,B628,N628)","v":{"$error":"#VALUE!"}},{"$error":"#VALUE!"},{"$error":"#VALUE!"},{"$error":"#VALUE!"},{"$f":"ThreePosition_Basic2($E$3,$E$6,$B$3:$C$3,$B$6:$C$6,B628,O628)","v":{"$error":"#VALUE!"}},{"$error":"#VALUE!"},{"$error":"#VALUE!"},{"$error":"#VALUE!"}]
[307,5.3581608036225914,{"$f":"Burmester($B$3:$C$3,$B$4:$C$4,$B$5:$C$5,$E$3,$E$4,$E$5,B629)","v":1.500542799458459},4.4588061536342369,{"$f":"ThreePosition_Basic2($E$3,$E$5,$B$3:$C$3,$B$5:$C$5,B629,C629)","v":-2.8457523401998435},3.9139237215622016,-2.0665941209978103,3.2210687881080959,{"$f":"ThreePosition_Basic2($E$3,$E$5,$B$3:$C$3,$B$5:$C$5,B629,D629)","v":-3.1680228491156535},1.461194532259197,-2.1922130618141953,0.32695643630380555,null,{"$f":"Burmester($B$3:$C$3,$B$4:$C$4,$B$6:$C$6,$E$3,$E$4,$E$6,B629)","v":{"$error":"#VALUE!"}},{"$error":"#VALUE!"},{"$f":"ThreePosition_Basic2($E$3,$E$6,$B$3:$C$3,$B$6:$C$6,B629,N629)","v":{"$error":"#VALUE!"}},{"$error":"#VALUE!"},{"$error":"#VALUE!"},{"$error":"#VALUE!"},{"$f":"ThreePosition_Basic2($E$3,$E$6,$B$3:$C$3,$B$6:$C$6,B629,O629)","v":{"$error":"#VALUE!"}},{"$error":"#VALUE!"},{"$error":"#VALUE!"},{"$error":"#VALUE!"}]
[307.5,5.3668874498825634,{"$f":"Burmester($B$3:$C$3,$B$4:$C$4,$B$5:$C$5,$E$3,$E$4,$E$5,B630)","v":1.5022455713964957},4.4719292574617917,{"$f":"ThreePosition_Basic2($E$3,$E$5,$B$3:$C$3,$B$5:$C$5,B630,C630)","v":-2.8523038873917956},3.9242423618556521,-2.0714750613285973,3.222909187938626,{"$f":"ThreePosition_Basic2($E$3,$E$5,$B$3:$C$3,$B$5:$C$5,B630,D630)","v":-3.1735930003009538},1.4504074308880699,-2.1939964042832587,0.299473310232657,null,{"$f":"Burmester($B$3:$C$3,$B$4:$C$4,$B$6:$C$6,$E$3,$E$4,$E$6,B630)","v":{"$error":"#VALUE!"}},{"$error":"#VALUE!"},{"$f":"ThreePosition_Basic2($E$3,$E$6,$B$3:$C$3,$B$6:$C$6,B630,N630)","v":{"$error":"#VALUE!"}},{"$error":"#VALUE!"},{"$error":"#VALUE!"},{"$error":"#VALUE!"},{"$f":"ThreePosition_Basic2($E$3,$E$6,$B$3:$C$3,$B$6:$C$6,B630,O630)","v":{"$error":"#VALUE!"}},{"$error":"#VALUE!"},{"$error":"#VALUE!"},{"$error":"#VALUE!"}]
[308,5.3756140961425354,{"$f":"Burmester($B$3:$C$3,$B$4:$C$4,$B$5:$C$5,$E$3,$E$4,$E$5,B631)","v":1.5039059018433363},4.4851096443829768,{"$f":"ThreePosition_Basic2($E$3,$E$5,$B$3:$C$3,$B$5:$C$5,B631,C631)","v":-2.8588938378032323},3.9347204154169555,-2.076378037742773,3.2247998707547452,{"$f":"ThreePosition_Basic2($E$3,$E$5,$B$3:$C$3,$B$5:$C$5,B631,D631)","v":-3.1791635591096656},1.439474082483964,-2.1957186525638042,0.2715194345433809,null,{"$f":"Burmester($B$3:$C$3,$B$4:$C$4,$B$6:$C$6,$E$3,$E$4,$E$6,B631)","v":{"$error":"#VALUE!"}},{"$error":"#VALUE!"},{"$f":"ThreePosition_Basic2($E$3,$E$6,$B$3:$C$3,$B$6:$C$6,B631,N631)","v":{"$error":"#VALUE!"}},{"$error":"#VALUE!"},{"$error":"#VALUE!"},{"$error":"#VALUE!"},{"$f":"ThreePosition_Basic2($E$3,$E$6,$B$3:$C$3,$B$6:$C$6,B631,O631)","v":{"$error":"#VALUE!"}},{"$error":"#VALUE!"},{"$error":"#VALUE!"},{"$error":"#VALUE!"}]
[308.5,5.3843407424025065,{"$f":"Burmester($B$3:$C$3,$B$4:$C$4,$B$5:$C$5,$E$3,$E$4,$E$5,B632)","v":1.5055238393587644},4.4983474390399767,{"$f":"ThreePosition_Basic2($E$3,$E$5,$B$3:$C$3,$B$5:$C$5,B632,C632)","v":-2.8655231253358493},3.945361110515885,-2.0813035777260804,3.2267415022475108,{"$f":"ThreePosition_Basic2($E$3,$E$5,$B$3:$C$3,$B$5:$C$5,B632,D632)","v":-3.1847341985428832},1.4283922696823999,-2.1973777196396833,0.24308270373724072,null,{"$f":"Burmester($B$3:$C$3,$B$4:$C$4,$B$6:$C$6,$E$3,$E$4,$E$6,B632)","v":{"$error":"#VALUE!"}},{"$error":"#VALUE!"},{"$f":"ThreePosition_Basic2($E$3,$E$6,$B$3:$C$3,$B$6:$C$6,B632,N632)","v":{"$error":"#VALUE!"}},{"$error":"#VALUE!"},{"$error":"#VALUE!"},{"$error":"#VALUE!"},{"$f":"ThreePosition_Basic2($E$3,$E$6,$B$3:$C$3,$B$6:$C$6,B632,O632)","v":{"$error":"#VALUE!"}},{"$error":"#VALUE!"},{"$error":"#VALUE!"},{"$error":"#VALUE!"}]
[309,5.3930673886624785,{"$f":"Burmester($B$3:$C$3,$B$4:$C$4,$B$5:$C$5,$E$3,$E$4,$E$5,B633)","v":1.5070994251280057},4.5116427743194265,{"$f":"ThreePosition_Basic2($E$3,$E$5,$B$3:$C$3,$B$5:$C$5,B633,C633)","v":-2.8721927053299918},3.9561677747462234,-2.0862522181495424,3.2287347673860709,{"$f":"ThreePosition_Basic2($E$3,$E$5,$B$3:$C$3,$B$5:$C$5,B633,D633)","v":-3.1903045793543243},1.4171597184769502,-2.1989714365533271,0.21415055776050873,null,{"$f":"Burmester($B$3:$C$3,$B$4:$C$4,$B$6:$C$6,$E$3,$E$4,$E$6,B633)","v":{"$error":"#VALUE!"}},{"$error":"#VALUE!"},{"$f":"ThreePosition_Basic2($E$3,$E$6,$B$3:$C$3,$B$6:$C$6,B633,N633)","v":{"$error":"#VALUE!"}},{"$error":"#VALUE!"},{"$error":"#VALUE!"},{"$error":"#VALUE!"},{"$f":"ThreePosition_Basic2($E$3,$E$6,$B$3:$C$3,$B$6:$C$6,B633,O633)","v":{"$error":"#VALUE!"}},{"$error":"#VALUE!"},{"$error":"#VALUE!"},{"$error":"#VALUE!"}]
[309.5,5.4017940349224505,{"$f":"Burmester($B$3:$C$3,$B$4:$C$4,$B$5:$C$5,$E$3,$E$4,$E$5,B634)","v":1.5086326927833325},4.5249957915374592,{"$f":"ThreePosition_Basic2($E$3,$E$5,$B$3:$C$3,$B$5:$C$5,B634,C634)","v":-2.8789035553361946},3.9671438388840827,-2.091224505564945,3.2307803710891312,{"$f":"ThreePosition_Basic2($E$3,$E$5,$B$3:$C$3,$B$5:$C$5,B634,D634)","v":-3.1958743495931321},1.4057740963870688,-2.2004975484574372,0.18470996010485496,null,{"$f":"Burmester($B$3:$C$3,$B$4:$C$4,$B$6:$C$6,$E$3,$E$4,$E$6,B634)","v":{"$error":"#VALUE!"}},{"$error":"#VALUE!"},{"$f":"ThreePosition_Basic2($E$3,$E$6,$B$3:$C$3,$B$6:$C$6,B634,N634)","v":{"$error":"#VALUE!"}},{"$error":"#VALUE!"},{"$error":"#VALUE!"},{"$error":"#VALUE!"},{"$f":"ThreePosition_Basic2($E$3,$E$6,$B$3:$C$3,$B$6:$C$6,B634,O634)","v":{"$error":"#VALUE!"}},{"$error":"#VALUE!"},{"$error":"#VALUE!"},{"$error":"#VALUE!"}]
[310,5.4105206811824216,{"$f":"Burmester($B$3:$C$3,$B$4:$C$4,$B$5:$C$5,$E$3,$E$4,$E$5,B635)","v":1.5101236682210359},4.5384066406292938,{"$f":"ThreePosition_Basic2($E$3,$E$5,$B$3:$C$3,$B$5:$C$5,B635,C635)","v":-2.8856566759208397},3.9782928409264846,-2.0962209965113838,3.2328790389220359,{"$f":"ThreePosition_Basic2($E$3,$E$5,$B$3:$C$3,$B$5:$C$5,B635,D635)","v":-3.2014431441273881},1.3942330105527025,-2.2019537104359652,0.15474737461555943,null,{"$f":"Burmester($B$3:$C$3,$B$4:$C$4,$B$6:$C$6,$E$3,$E$4,$E$6,B635)","v":{"$error":"#VALUE!"}},{"$error":"#VALUE!"},{"$f":"ThreePosition_Basic2($E$3,$E$6,$B$3:$C$3,$B$6:$C$6,B635,N635)","v":{"$error":"#VALUE!"}},{"$error":"#VALUE!"},{"$error":"#VALUE!"},{"$error":"#VALUE!"},{"$f":"ThreePosition_Basic2($E$3,$E$6,$B$3:$C$3,$B$6:$C$6,B635,O635)","v":{"$error":"#VALUE!"}},{"$error":"#VALUE!"},{"$error":"#VALUE!"},{"$error":"#VALUE!"}]
[310.5,5.4192473274423936,{"$f":"Burmester($B$3:$C$3,$B$4:$C$4,$B$5:$C$5,$E$3,$E$4,$E$5,B636)","v":1.5115723694134267},4.551875480343675,{"$f":"ThreePosition_Basic2($E$3,$E$5,$B$3:$C$3,$B$5:$C$5,B636,C636)","v":-2.8924530915076674},3.9896184303203905,-2.1012422578332877,3.235031517820802,{"$f":"ThreePosition_Basic2($E$3,$E$5,$B$3:$C$3,$B$5:$C$5,B636,D636)","v":-3.2070105841474206},1.3825340057520046,-2.2033374830784309,0.12424874091693439,null,{"$f":"Burmester($B$3:$C$3,$B$4:$C$4,$B$6:$C$6,$E$3,$E$4,$E$6,B636)","v":{"$error":"#VALUE!"}},{"$error":"#VALUE!"},{"$f":"ThreePosition_Basic2($E$3,$E$6,$B$3:$C$3,$B$6:$C$6,B636,N636)","v":{"$error":"#VALUE!"}},{"$error":"#VALUE!"},{"$error":"#VALUE!"},{"$error":"#VALUE!"},{"$f":"ThreePosition_Basic2($E$3,$E$6,$B$3:$C$3,$B$6:$C$6,B636,O636)","v":{"$error":"#VALUE!"}},{"$error":"#VALUE!"},{"$error":"#VALUE!"},{"$error":"#VALUE!"}]
[311,5.4279739737023647,{"$f":"Burmester($B$3:$C$3,$B$4:$C$4,$B$5:$C$5,$E$3,$E$4,$E$5,B637)","v":1.5129788062155498},4.5654024784424614,{"$f":"ThreePosition_Basic2($E$3,$E$5,$B$3:$C$3,$B$5:$C$5,B637,C637)","v":-2.8992938512570783},4.0011243723929653,-2.1062888670104742,3.2372385768444469,{"$f":"ThreePosition_Basic2($E$3,$E$5,$B$3:$C$3,$B$5:$C$5,B637,D637)","v":-3.2125762766479959},1.3706745623382484,-2.2046463277903392,9.319944835696603E-2,null,{"$f":"Burmester($B$3:$C$3,$B$4:$C$4,$B$6:$C$6,$E$3,$E$4,$E$6,B637)","v":{"$error":"#VALUE!"}},{"$error":"#VALUE!"},{"$f":"ThreePosition_Basic2($E$3,$E$6,$B$3:$C$3,$B$6:$C$6,B637,N637)","v":{"$error":"#VALUE!"}},{"$error":"#VALUE!"},{"$error":"#VALUE!"},{"$error":"#VALUE!"},{"$f":"ThreePosition_Basic2($E$3,$E$6,$B$3:$C$3,$B$6:$C$6,B637,O637)","v":{"$error":"#VALUE!"}},{"$error":"#VALUE!"},{"$error":"#VALUE!"},{"$error":"#VALUE!"}]
[311.5,5.4367006199623367,{"$f":"Burmester($B$3:$C$3,$B$4:$C$4,$B$5:$C$5,$E$3,$E$4,$E$5,B638)","v":1.5143429801662811},4.5789878119057352,{"$f":"ThreePosition_Basic2($E$3,$E$5,$B$3:$C$3,$B$5:$C$5,B638,C638)","v":-2.9061800299852782},4.0128145529946613,-2.111361412500778,3.2395010079570947,{"$f":"ThreePosition_Basic2($E$3,$E$5,$B$3:$C$3,$B$5:$C$5,B638,D638)","v":-3.2181398138883699},1.3586520940917375,-2.2058776018210304,6.1584308365032037E-2,null,{"$f":"Burmester($B$3:$C$3,$B$4:$C$4,$B$6:$C$6,$E$3,$E$4,$E$6,B638)","v":{"$error":"#VALUE!"}},{"$error":"#VALUE!"},{"$f":"ThreePosition_Basic2($E$3,$E$6,$B$3:$C$3,$B$6:$C$6,B638,N638)","v":{"$error":"#VALUE!"}},{"$error":"#VALUE!"},{"$error":"#VALUE!"},{"$error":"#VALUE!"},{"$f":"ThreePosition_Basic2($E$3,$E$6,$B$3:$C$3,$B$6:$C$6,B638,O638)","v":{"$error":"#VALUE!"}},{"$error":"#VALUE!"},{"$error":"#VALUE!"},{"$error":"#VALUE!"}]
[312,5.4454272662223078,{"$f":"Burmester($B$3:$C$3,$B$4:$C$4,$B$5:$C$5,$E$3,$E$4,$E$5,B639)","v":1.5156648842834042},4.5926316671427712,{"$f":"ThreePosition_Basic2($E$3,$E$5,$B$3:$C$3,$B$5:$C$5,B639,C639)","v":-2.9131127291253898},4.0246929833674221,-2.1164604940957878,3.2418196268414246,{"$f":"ThreePosition_Basic2($E$3,$E$5,$B$3:$C$3,$B$5:$C$5,B639,D639)","v":-3.2237007728291025},1.346463945982344,-2.207028552988719,2.9387525107919865E-2,null,{"$f":"Burmester($B$3:$C$3,$B$4:$C$4,$B$6:$C$6,$E$3,$E$4,$E$6,B639)","v":{"$error":"#VALUE!"}},{"$error":"#VALUE!"},{"$f":"ThreePosition_Basic2($E$3,$E$6,$B$3:$C$3,$B$6:$C$6,B639,N639)","v":{"$error":"#VALUE!"}},{"$error":"#VALUE!"},{"$error":"#VALUE!"},{"$error":"#VALUE!"},{"$f":"ThreePosition_Basic2($E$3,$E$6,$B$3:$C$3,$B$6:$C$6,B639,O639)","v":{"$error":"#VALUE!"}},{"$error":"#VALUE!"},{"$error":"#VALUE!"},{"$error":"#VALUE!"}]
[312.5,5.4541539124822798,{"$f":"Burmester($B$3:$C$3,$B$4:$C$4,$B$5:$C$5,$E$3,$E$4,$E$5,B640)","v":1.5169445028523398},4.6063342402092449,{"$f":"ThreePosition_Basic2($E$3,$E$5,$B$3:$C$3,$B$5:$C$5,B640,C640)","v":-2.9200930777328891},4.0367638052511108,-2.1215867232903514,3.2441952737450479,{"$f":"ThreePosition_Basic2($E$3,$E$5,$B$3:$C$3,$B$5:$C$5,B640,D640)","v":-3.2292587145445868},1.3341073918379818,-2.2080963140809304,-3.4073356804178445E-3,null,{"$f":"Burmester($B$3:$C$3,$B$4:$C$4,$B$6:$C$6,$E$3,$E$4,$E$6,B640)","v":{"$error":"#VALUE!"}},{"$error":"#VALUE!"},{"$f":"ThreePosition_Basic2($E$3,$E$6,$B$3:$C$3,$B$6:$C$6,B640,N640)","v":{"$error":"#VALUE!"}},{"$error":"#VALUE!"},{"$error":"#VALUE!"},{"$error":"#VALUE!"},{"$f":"ThreePosition_Basic2($E$3,$E$6,$B$3:$C$3,$B$6:$C$6,B640,O640)","v":{"$error":"#VALUE!"}},{"$error":"#VALUE!"},{"$error":"#VALUE!"},{"$error":"#VALUE!"}]
[313,5.4628805587422509,{"$f":"Burmester($B$3:$C$3,$B$4:$C$4,$B$5:$C$5,$E$3,$E$4,$E$5,B641)","v":1.5181818112080789},4.6200957370310682,{"$f":"ThreePosition_Basic2($E$3,$E$5,$B$3:$C$3,$B$5:$C$5,B641,C641)","v":-2.9271222335377778},4.0490312962422133,-2.1267407236664275,3.2466288143616078,{"$f":"ThreePosition_Basic2($E$3,$E$5,$B$3:$C$3,$B$5:$C$5,B641,D641)","v":-3.2348131836100236},1.321579631914078,-2.2090778969065279,-3.6817379830313302E-2,null,{"$f":"Burmester($B$3:$C$3,$B$4:$C$4,$B$6:$C$6,$E$3,$E$4,$E$6,B641)","v":{"$error":"#VALUE!"}},{"$error":"#VALUE!"},{"$f":"ThreePosition_Basic2($E$3,$E$6,$B$3:$C$3,$B$6:$C$6,B641,N641)","v":{"$error":"#VALUE!"}},{"$error":"#VALUE!"},{"$error":"#VALUE!"},{"$error":"#VALUE!"},{"$f":"ThreePosition_Basic2($E$3,$E$6,$B$3:$C$3,$B$6:$C$6,B641,O641)","v":{"$error":"#VALUE!"}},{"$error":"#VALUE!"},{"$error":"#VALUE!"},{"$error":"#VALUE!"}]
[313.5,5.4716072050022229,{"$f":"Burmester($B$3:$C$3,$B$4:$C$4,$B$5:$C$5,$E$3,$E$4,$E$5,B642)","v":1.5193767755099439},4.6339163736352758,{"$f":"ThreePosition_Basic2($E$3,$E$5,$B$3:$C$3,$B$5:$C$5,B642,C642)","v":-2.9342013840461534},4.0614998754197602,-2.1319231312920159,3.2491211407483851,{"$f":"ThreePosition_Basic2($E$3,$E$5,$B$3:$C$3,$B$5:$C$5,B642,D642)","v":-3.2403637074616687},1.3088777903587339,-2.2099701859736798,-7.0860419975741662E-2,null,{"$f":"Burmester($B$3:$C$3,$B$4:$C$4,$B$6:$C$6,$E$3,$E$4,$E$6,B642)","v":{"$error":"#VALUE!"}},{"$error":"#VALUE!"},{"$f":"ThreePosition_Basic2($E$3,$E$6,$B$3:$C$3,$B$6:$C$6,B642,N642)","v":{"$error":"#VALUE!"}},{"$error":"#VALUE!"},{"$error":"#VALUE!"},{"$error":"#VALUE!"},{"$f":"ThreePosition_Basic2($E$3,$E$6,$B$3:$C$3,$B$6:$C$6,B642,O642)","v":{"$error":"#VALUE!"}},{"$error":"#VALUE!"},{"$error":"#VALUE!"},{"$error":"#VALUE!"}]
[314,5.480333851262194,{"$f":"Burmester($B$3:$C$3,$B$4:$C$4,$B$5:$C$5,$E$3,$E$4,$E$5,B643)","v":1.5205293525086967},4.6477963763883849,{"$f":"ThreePosition_Basic2($E$3,$E$5,$B$3:$C$3,$B$5:$C$5,B643,C643)","v":-2.94133174769392},4.074174109254467,-2.1371345951358176,3.2516731722823922,{"$f":"ThreePosition_Basic2($E$3,$E$5,$B$3:$C$3,$B$5:$C$5,B643,D643)","v":-3.2459097957289336},1.2959989125680349,-2.2107699317657259,-0.1055550130607521,null,{"$f":"Burmester($B$3:$C$3,$B$4:$C$4,$B$6:$C$6,$E$3,$E$4,$E$6,B643)","v":{"$error":"#VALUE!"}},{"$error":"#VALUE!"},{"$f":"ThreePosition_Basic2($E$3,$E$6,$B$3:$C$3,$B$6:$C$6,B643,N643)","v":{"$error":"#VALUE!"}},{"$error":"#VALUE!"},{"$error":"#VALUE!"},{"$error":"#VALUE!"},{"$f":"ThreePosition_Basic2($E$3,$E$6,$B$3:$C$3,$B$6:$C$6,B643,O643)","v":{"$error":"#VALUE!"}},{"$error":"#VALUE!"},{"$error":"#VALUE!"},{"$error":"#VALUE!"}]
[314.5,5.489060497522166,{"$f":"Burmester($B$3:$C$3,$B$4:$C$4,$B$5:$C$5,$E$3,$E$4,$E$5,B644)","v":1.5216394893055571},4.661735982242714,{"$f":"ThreePosition_Basic2($E$3,$E$5,$B$3:$C$3,$B$5:$C$5,B644,C644)","v":-2.948514575055686},4.0870587178182118,-2.1423757774984384,3.2542858566570021,{"$f":"ThreePosition_Basic2($E$3,$E$5,$B$3:$C$3,$B$5:$C$5,B644,D644)","v":-3.2514509395369959},1.2829399624255042,-2.2114737435846301,-0.14092050028632408,null,{"$f":"Burmester($B$3:$C$3,$B$4:$C$4,$B$6:$C$6,$E$3,$E$4,$E$6,B644)","v":{"$error":"#VALUE!"}},{"$error":"#VALUE!"},{"$f":"ThreePosition_Basic2($E$3,$E$6,$B$3:$C$3,$B$6:$C$6,B644,N644)","v":{"$error":"#VALUE!"}},{"$error":"#VALUE!"},{"$error":"#VALUE!"},{"$error":"#VALUE!"},{"$f":"ThreePosition_Basic2($E$3,$E$6,$B$3:$C$3,$B$6:$C$6,B644,O644)","v":{"$error":"#VALUE!"}},{"$error":"#VALUE!"},{"$error":"#VALUE!"},{"$error":"#VALUE!"}]
[315,5.497787143782138,{"$f":"Burmester($B$3:$C$3,$B$4:$C$4,$B$5:$C$5,$E$3,$E$4,$E$5,B645)","v":1.522707123102633},4.6757354389910972,{"$f":"ThreePosition_Basic2($E$3,$E$5,$B$3:$C$3,$B$5:$C$5,B645,C645)","v":-2.9557511501119662},4.1001585813121233,-2.1476473544608861,3.2569601709213112,{"$f":"ThreePosition_Basic2($E$3,$E$5,$B$3:$C$3,$B$5:$C$5,B645,D645)","v":-3.2569866107783905},1.2696978194194333,-2.2120780819289414,-0.17697704968608341,null,{"$f":"Burmester($B$3:$C$3,$B$4:$C$4,$B$6:$C$6,$E$3,$E$4,$E$6,B645)","v":{"$error":"#VALUE!"}},{"$error":"#VALUE!"},{"$f":"ThreePosition_Basic2($E$3,$E$6,$B$3:$C$3,$B$6:$C$6,B645,N645)","v":{"$error":"#VALUE!"}},{"$error":"#VALUE!"},{"$error":"#VALUE!"},{"$error":"#VALUE!"},{"$f":"ThreePosition_Basic2($E$3,$E$6,$B$3:$C$3,$B$6:$C$6,B645,O645)","v":{"$error":"#VALUE!"}},{"$error":"#VALUE!"},{"$error":"#VALUE!"},{"$error":"#VALUE!"}]
[315.5,5.5065137900421099,{"$f":"Burmester($B$3:$C$3,$B$4:$C$4,$B$5:$C$5,$E$3,$E$4,$E$5,B646)","v":1.5237321809442346},4.6897950055305611,{"$f":"ThreePosition_Basic2($E$3,$E$5,$B$3:$C$3,$B$5:$C$5,B646,C646)","v":-2.963042791578149},4.1134787469328984,-2.1529500163512383,3.2596971225645555,{"$f":"ThreePosition_Basic2($E$3,$E$5,$B$3:$C$3,$B$5:$C$5,B646,D646)","v":-3.2625162613520073},1.256269275631303,-2.2125792503702533,-0.21374570153642969,null,{"$f":"Burmester($B$3:$C$3,$B$4:$C$4,$B$6:$C$6,$E$3,$E$4,$E$6,B646)","v":{"$error":"#VALUE!"}},{"$error":"#VALUE!"},{"$f":"ThreePosition_Basic2($E$3,$E$6,$B$3:$C$3,$B$6:$C$6,B646,N646)","v":{"$error":"#VALUE!"}},{"$error":"#VALUE!"},{"$error":"#VALUE!"},{"$error":"#VALUE!"},{"$f":"ThreePosition_Basic2($E$3,$E$6,$B$3:$C$3,$B$6:$C$6,B646,O646)","v":{"$error":"#VALUE!"}},{"$error":"#VALUE!"},{"$error":"#VALUE!"},{"$error":"#VALUE!"}]
[316,5.5152404363020811,{"$f":"Burmester($B$3:$C$3,$B$4:$C$4,$B$5:$C$5,$E$3,$E$4,$E$5,B647)","v":1.5247145794485482},4.7039149521354542,{"$f":"ThreePosition_Basic2($E$3,$E$5,$B$3:$C$3,$B$5:$C$5,B647,C647)","v":-2.9703908542988202},4.1270244360982984,-2.158284468230351,3.2624977506480439,{"$f":"ThreePosition_Basic2($E$3,$E$5,$B$3:$C$3,$B$5:$C$5,B647,D647)","v":-3.2680393223678101},1.2426510325881852,-2.2129733868889572,-0.25124841682502885,null,{"$f":"Burmester($B$3:$C$3,$B$4:$C$4,$B$6:$C$6,$E$3,$E$4,$E$6,B647)","v":{"$error":"#VALUE!"}},{"$error":"#VALUE!"},{"$f":"ThreePosition_Basic2($E$3,$E$6,$B$3:$C$3,$B$6:$C$6,B647,N647)","v":{"$error":"#VALUE!"}},{"$error":"#VALUE!"},{"$error":"#VALUE!"},{"$error":"#VALUE!"},{"$f":"ThreePosition_Basic2($E$3,$E$6,$B$3:$C$3,$B$6:$C$6,B647,O647)","v":{"$error":"#VALUE!"}},{"$error":"#VALUE!"},{"$error":"#VALUE!"},{"$error":"#VALUE!"}]
[316.5,5.523967082562053,{"$f":"Burmester($B$3:$C$3,$B$4:$C$4,$B$5:$C$5,$E$3,$E$4,$E$5,B648)","v":1.5256542245290776},4.7180955607406325,{"$f":"ThreePosition_Basic2($E$3,$E$5,$B$3:$C$3,$B$5:$C$5,B648,C648)","v":-2.9777967307113671},4.1408010520543721,-2.1636514303975769,3.2653631269872605,{"$f":"ThreePosition_Basic2($E$3,$E$5,$B$3:$C$3,$B$5:$C$5,B648,D648)","v":-3.273555203315488},1.2288396979714324,-2.2132564546264466,-0.28950812902230449,null,{"$f":"Burmester($B$3:$C$3,$B$4:$C$4,$B$6:$C$6,$E$3,$E$4,$E$6,B648)","v":{"$error":"#VALUE!"}},{"$error":"#VALUE!"},{"$f":"ThreePosition_Basic2($E$3,$E$6,$B$3:$C$3,$B$6:$C$6,B648,N648)","v":{"$error":"#VALUE!"}},{"$error":"#VALUE!"},{"$error":"#VALUE!"},{"$error":"#VALUE!"},{"$f":"ThreePosition_Basic2($E$3,$E$6,$B$3:$C$3,$B$6:$C$6,B648,O648)","v":{"$error":"#VALUE!"}},{"$error":"#VALUE!"},{"$error":"#VALUE!"},{"$error":"#VALUE!"}]
[317,5.532693728822025,{"$f":"Burmester($B$3:$C$3,$B$4:$C$4,$B$5:$C$5,$E$3,$E$4,$E$5,B649)","v":1.5265510111052591},4.7323371252352668,{"$f":"ThreePosition_Basic2($E$3,$E$5,$B$3:$C$3,$B$5:$C$5,B649,C649)","v":-2.985261852383017},4.1548141878884506,-2.1690516389174914,3.2682943573868735,{"$f":"ThreePosition_Basic2($E$3,$E$5,$B$3:$C$3,$B$5:$C$5,B649,D649)","v":-3.2790632911951496},1.2148317821735746,-2.2134242320070534,-0.32854879942306869,null,{"$f":"Burmester($B$3:$C$3,$B$4:$C$4,$B$6:$C$6,$E$3,$E$4,$E$6,B649)","v":{"$error":"#VALUE!"}},{"$error":"#VALUE!"},{"$f":"ThreePosition_Basic2($E$3,$E$6,$B$3:$C$3,$B$6:$C$6,B649,N649)","v":{"$error":"#VALUE!"}},{"$error":"#VALUE!"},{"$error":"#VALUE!"},{"$error":"#VALUE!"},{"$f":"ThreePosition_Basic2($E$3,$E$6,$B$3:$C$3,$B$6:$C$6,B649,O649)","v":{"$error":"#VALUE!"}},{"$error":"#VALUE!"},{"$error":"#VALUE!"},{"$error":"#VALUE!"}]
[317.5,5.5414203750819961,{"$f":"Burmester($B$3:$C$3,$B$4:$C$4,$B$5:$C$5,$E$3,$E$4,$E$5,B650)","v":1.5274048228015871},4.7466399517679445,{"$f":"ThreePosition_Basic2($E$3,$E$5,$B$3:$C$3,$B$5:$C$5,B650,C650)","v":-2.9927876916257539},4.1690696349738898,-2.1744858461686709,3.2712925829316744,{"$f":"ThreePosition_Basic2($E$3,$E$5,$B$3:$C$3,$B$5:$C$5,B650,D650)","v":-3.28456294960802},1.2006236946947106,-2.2134723021785603,-0.3683954763506474,null,{"$f":"Burmester($B$3:$C$3,$B$4:$C$4,$B$6:$C$6,$E$3,$E$4,$E$6,B650)","v":{"$error":"#VALUE!"}},{"$error":"#VALUE!"},{"$f":"ThreePosition_Basic2($E$3,$E$6,$B$3:$C$3,$B$6:$C$6,B650,N650)","v":{"$error":"#VALUE!"}},{"$error":"#VALUE!"},{"$error":"#VALUE!"},{"$error":"#VALUE!"},{"$f":"ThreePosition_Basic2($E$3,$E$6,$B$3:$C$3,$B$6:$C$6,B650,O650)","v":{"$error":"#VALUE!"}},{"$error":"#VALUE!"},{"$error":"#VALUE!"},{"$error":"#VALUE!"}]
[318,5.5501470213419681,{"$f":"Burmester($B$3:$C$3,$B$4:$C$4,$B$5:$C$5,$E$3,$E$4,$E$5,B651)","v":1.5282155316346062},4.7610043590637128,{"$f":"ThreePosition_Basic2($E$3,$E$5,$B$3:$C$3,$B$5:$C$5,B651,C651)","v":-3.0003757631939525},4.183573391874333,-2.1799548214157127,3.2743589813365772,{"$f":"ThreePosition_Basic2($E$3,$E$5,$B$3:$C$3,$B$5:$C$5,B651,D651)","v":-3.2900535178050347},1.1862117403691184,-2.213396041715388,-0.40907435854349972,null,{"$f":"Burmester($B$3:$C$3,$B$4:$C$4,$B$6:$C$6,$E$3,$E$4,$E$6,B651)","v":{"$error":"#VALUE!"}},{"$error":"#VALUE!"},{"$f":"ThreePosition_Basic2($E$3,$E$6,$B$3:$C$3,$B$6:$C$6,B651,N651)","v":{"$error":"#VALUE!"}},{"$error":"#VALUE!"},{"$error":"#VALUE!"},{"$error":"#VALUE!"},{"$f":"ThreePosition_Basic2($E$3,$E$6,$B$3:$C$3,$B$6:$C$6,B651,O651)","v":{"$error":"#VALUE!"}},{"$error":"#VALUE!"},{"$error":"#VALUE!"},{"$error":"#VALUE!"}]
[318.5,5.5588736676019392,{"$f":"Burmester($B$3:$C$3,$B$4:$C$4,$B$5:$C$5,$E$3,$E$4,$E$5,B652)","v":1.528982997687004},4.7754306787537768,{"$f":"ThreePosition_Basic2($E$3,$E$5,$B$3:$C$3,$B$5:$C$5,B652,C652)","v":-3.0080276260697789},4.1983316737373428,-2.1854593514056231,3.277494768359023,{"$f":"ThreePosition_Basic2($E$3,$E$5,$B$3:$C$3,$B$5:$C$5,B652,D652)","v":-3.2955343096910084},1.1715921154122493,-2.213190608523151,-0.45061286307501081,null,{"$f":"Burmester($B$3:$C$3,$B$4:$C$4,$B$6:$C$6,$E$3,$E$4,$E$6,B652)","v":{"$error":"#VALUE!"}},{"$error":"#VALUE!"},{"$f":"ThreePosition_Basic2($E$3,$E$6,$B$3:$C$3,$B$6:$C$6,B652,N652)","v":{"$error":"#VALUE!"}},{"$error":"#VALUE!"},{"$error":"#VALUE!"},{"$error":"#VALUE!"},{"$f":"ThreePosition_Basic2($E$3,$E$6,$B$3:$C$3,$B$6:$C$6,B652,O652)","v":{"$error":"#VALUE!"}},{"$error":"#VALUE!"},{"$error":"#VALUE!"},{"$error":"#VALUE!"}]
[319,5.5676003138619112,{"$f":"Burmester($B$3:$C$3,$B$4:$C$4,$B$5:$C$5,$E$3,$E$4,$E$5,B653)","v":1.5297070687680894},4.7899192557186252,{"$f":"ThreePosition_Basic2($E$3,$E$5,$B$3:$C$3,$B$5:$C$5,B653,C653)","v":-3.0157448853419466},4.2133509222096386,-2.1910002409899185,3.2807011992774289,{"$f":"ThreePosition_Basic2($E$3,$E$5,$B$3:$C$3,$B$5:$C$5,B653,D653)","v":-3.3010046127819583},1.1567609032774564,-2.2128509288773506,-0.49303969819144489,null,{"$f":"Burmester($B$3:$C$3,$B$4:$C$4,$B$6:$C$6,$E$3,$E$4,$E$6,B653)","v":{"$error":"#VALUE!"}},{"$error":"#VALUE!"},{"$f":"ThreePosition_Basic2($E$3,$E$6,$B$3:$C$3,$B$6:$C$6,B653,N653)","v":{"$error":"#VALUE!"}},{"$error":"#VALUE!"},{"$error":"#VALUE!"},{"$error":"#VALUE!"},{"$f":"ThreePosition_Basic2($E$3,$E$6,$B$3:$C$3,$B$6:$C$6,B653,O653)","v":{"$error":"#VALUE!"}},{"$error":"#VALUE!"},{"$error":"#VALUE!"},{"$error":"#VALUE!"}]
[319.5,5.5763269601218823,{"$f":"Burmester($B$3:$C$3,$B$4:$C$4,$B$5:$C$5,$E$3,$E$4,$E$5,B654)","v":1.5303875800598152},4.8044704484453469,{"$f":"ThreePosition_Basic2($E$3,$E$5,$B$3:$C$3,$B$5:$C$5,B654,C654)","v":-3.0235291941836859},4.2286378159084297,-2.1965783137737596,3.2839795704394423,{"$f":"ThreePosition_Basic2($E$3,$E$5,$B$3:$C$3,$B$5:$C$5,B654,D654)","v":-3.3064636871130362},1.1417140703112489,-2.2123716835224787,-0.53638494149062255,null,{"$f":"Burmester($B$3:$C$3,$B$4:$C$4,$B$6:$C$6,$E$3,$E$4,$E$6,B654)","v":{"$error":"#VALUE!"}},{"$error":"#VALUE!"},{"$f":"ThreePosition_Basic2($E$3,$E$6,$B$3:$C$3,$B$6:$C$6,B654,N654)","v":{"$error":"#VALUE!"}},{"$error":"#VALUE!"},{"$error":"#VALUE!"},{"$error":"#VALUE!"},{"$f":"ThreePosition_Basic2($E$3,$E$6,$B$3:$C$3,$B$6:$C$6,B654,O654)","v":{"$error":"#VALUE!"}},{"$error":"#VALUE!"},{"$error":"#VALUE!"},{"$error":"#VALUE!"}]
[320,5.5850536063818543,{"$f":"Burmester($B$3:$C$3,$B$4:$C$4,$B$5:$C$5,$E$3,$E$4,$E$5,B655)","v":1.5310243537475001},4.8190846294000407,{"$f":"ThreePosition_Basic2($E$3,$E$5,$B$3:$C$3,$B$5:$C$5,B655,C655)","v":-3.0313822559363133},4.2441992814861766,-2.2021944127935695,3.2873312208841212,{"$f":"ThreePosition_Basic2($E$3,$E$5,$B$3:$C$3,$B$5:$C$5,B655,D655)","v":-3.3119107640942458},1.1264474611948692,-2.2117472927503057,-0.58068012390637969,null,{"$f":"Burmester($B$3:$C$3,$B$4:$C$4,$B$6:$C$6,$E$3,$E$4,$E$6,B655)","v":{"$error":"#VALUE!"}},{"$error":"#VALUE!"},{"$f":"ThreePosition_Basic2($E$3,$E$6,$B$3:$C$3,$B$6:$C$6,B655,N655)","v":{"$error":"#VALUE!"}},{"$error":"#VALUE!"},{"$error":"#VALUE!"},{"$error":"#VALUE!"},{"$f":"ThreePosition_Basic2($E$3,$E$6,$B$3:$C$3,$B$6:$C$6,B655,O655)","v":{"$error":"#VALUE!"}},{"$error":"#VALUE!"},{"$error":"#VALUE!"},{"$error":"#VALUE!"}]
[320.5,{"$f":"A656*PI()/180","v":5.5937802526418263},{"$f":"Burmester($B$3:$C$3,$B$4:$C$4,$B$5:$C$5,$E$3,$E$4,$E$5,B656)","v":1.531617198634347},4.8337621854161572,{"$f":"ThreePosition_Basic2($E$3,$E$5,$B$3:$C$3,$B$5:$C$5,B656,C656)","v":-3.0393058263052404},4.2600425053288866,-2.2078494012246974,3.2907575340423674,{"$f":"ThreePosition_Basic2($E$3,$E$5,$B$3:$C$3,$B$5:$C$5,B656,D656)","v":-3.3173450453110425},1.110956794159357,-2.2109719003681754,-0.6259583200104184,null,{"$f":"Burmester($B$3:$C$3,$B$4:$C$4,$B$6:$C$6,$E$3,$E$4,$E$6,B656)","v":3.3590203778523784},3.6636584999489541,{"$f":"ThreePosition_Basic2($E$3,$E$6,$B$3:$C$3,$B$6:$C$6,B656,N656)","v":-2.8842551366973379},2.9063556707402385,-1.8703088254021041,1.6367405298235518,{"$f":"ThreePosition_Basic2($E$3,$E$6,$B$3:$C$3,$B$6:$C$6,B656,O656)","v":-2.9064094136866618},2.5874102272812918,-1.86321221406785,1.2406965740918798]
[321,5.6025068989017974,{"$f":"Burmester($B$3:$C$3,$B$4:$C$4,$B$5:$C$5,$E$3,$E$4,$E$5,B657)","v":1.5321659097387665},4.8485035180997933,{"$f":"ThreePosition_Basic2($E$3,$E$5,$B$3:$C$3,$B$5:$C$5,B657,C657)","v":-3.0473017156757582},4.276174945931273,-2.2135441631207158,3.2942599395202725,{"$f":"ThreePosition_Basic2($E$3,$E$5,$B$3:$C$3,$B$5:$C$5,B657,D657)","v":-3.3227657012666367},1.0952376559601364,-2.2100393564588483,-0.67225424519582089,null,{"$f":"Burmester($B$3:$C$3,$B$4:$C$4,$B$6:$C$6,$E$3,$E$4,$E$6,B657)","v":3.2836592857311144},3.7543720261329887,{"$f":"ThreePosition_Basic2($E$3,$E$6,$B$3:$C$3,$B$6:$C$6,B657,N657)","v":-2.8862565984232398},2.9954038359580482,-1.8755613946267009,1.7266307132746928,{"$f":"ThreePosition_Basic2($E$3,$E$6,$B$3:$C$3,$B$6:$C$6,B657,O657)","v":-2.9199196295556553},2.4998875853793567,-1.8635703800117913,1.1097411151669003]
[321.5,5.6112335451617694,{"$f":"Burmester($B$3:$C$3,$B$4:$C$4,$B$5:$C$5,$E$3,$E$4,$E$5,B658)","v":1.5326702678735173},4.8633090442529134,{"$f":"ThreePosition_Basic2($E$3,$E$5,$B$3:$C$3,$B$5:$C$5,B658,C658)","v":-3.0553717915565812},4.2926043469955379,-2.2192796041861635,3.2978399149703481,{"$f":"ThreePosition_Basic2($E$3,$E$5,$B$3:$C$3,$B$5:$C$5,B658,D658)","v":-3.3281718700627425},1.0792854965963072,-2.2089431988235209,-0.71960436036472886,null,{"$f":"Burmester($B$3:$C$3,$B$4:$C$4,$B$6:$C$6,$E$3,$E$4,$E$6,B658)","v":3.2301555497668826},3.8232561772248519,{"$f":"ThreePosition_Basic2($E$3,$E$6,$B$3:$C$3,$B$6:$C$6,B658,N658)","v":-2.8900509569659034},3.0623534485455508,-1.8805357298244674,1.7890116672162248,{"$f":"ThreePosition_Basic2($E$3,$E$6,$B$3:$C$3,$B$6:$C$6,B658,O658)","v":-2.9317368240158372},2.4345509512305847,-1.8641048237744811,1.005363919926666]
[322,5.6199601914217405,{"$f":"Burmester($B$3:$C$3,$B$4:$C$4,$B$5:$C$5,$E$3,$E$4,$E$5,B659)","v":1.5331300392055223},4.8781791963155907,{"$f":"ThreePosition_Basic2($E$3,$E$5,$B$3:$C$3,$B$5:$C$5,B659,C659)","v":-3.0635179811596487},4.309338751304244,-2.2250566525845401,3.3014989880559491,{"$f":"ThreePosition_Basic2($E$3,$E$5,$B$3:$C$3,$B$5:$C$5,B659,D659)","v":-3.3335626560150531},1.0630956237586822,-2.2076766329880391,-0.76804698480802469,null,{"$f":"Burmester($B$3:$C$3,$B$4:$C$4,$B$6:$C$6,$E$3,$E$4,$E$6,B659)","v":3.1867693371869028},3.8820510703614763,{"$f":"ThreePosition_Basic2($E$3,$E$6,$B$3:$C$3,$B$6:$C$6,B659,N659)","v":-2.8947523055610214},3.1193384292281361,-1.8854447680794408,1.838848995378318,{"$f":"ThreePosition_Basic2($E$3,$E$6,$B$3:$C$3,$B$6:$C$6,B659,O659)","v":-2.9427486733587691},2.379270554744219,-1.8645969287425534,0.91256453364015711]
[322.5,5.6286868376817125,{"$f":"Burmester($B$3:$C$3,$B$4:$C$4,$B$5:$C$5,$E$3,$E$4,$E$5,B660)","v":1.5335449747952283},4.8931144228284635,{"$f":"ThreePosition_Basic2($E$3,$E$5,$B$3:$C$3,$B$5:$C$5,B660,C660)","v":-3.071742274125445},4.3263865154218992,-2.2308762597835585,3.3052387385145634,{"$f":"ThreePosition_Basic2($E$3,$E$5,$B$3:$C$3,$B$5:$C$5,B660,D660)","v":-3.3389371281996847},1.0466631969893696,-2.2062325106397909,-0.81762241803826341,null,{"$f":"Burmester($B$3:$C$3,$B$4:$C$4,$B$6:$C$6,$E$3,$E$4,$E$6,B660)","v":3.1495302171134147},3.9347274228434221,{"$f":"ThreePosition_Basic2($E$3,$E$6,$B$3:$C$3,$B$6:$C$6,B660,N660)","v":-2.9000582674902229},3.1704467180357714,-1.8903534061975102,1.8811666614758755,{"$f":"ThreePosition_Basic2($E$3,$E$6,$B$3:$C$3,$B$6:$C$6,B660,O660)","v":-2.9532593714779241},2.3299628141497757,-1.8649757853754376,0.82628232853114114]
[323,5.6374134839416845,{"$f":"Burmester($B$3:$C$3,$B$4:$C$4,$B$5:$C$5,$E$3,$E$4,$E$5,B661)","v":1.5339148101142557},4.9081151889165682,{"$f":"ThreePosition_Basic2($E$3,$E$5,$B$3:$C$3,$B$5:$C$5,B661,C661)","v":-3.0800467254037982},4.3437563252843292,-2.2367394014397886,3.3090608003261073,{"$f":"ThreePosition_Basic2($E$3,$E$5,$B$3:$C$3,$B$5:$C$5,B661,D661)","v":-3.3442943189265311},1.029983221534613,-2.2046033063485995,-0.86837307141874431,null,{"$f":"Burmester($B$3:$C$3,$B$4:$C$4,$B$6:$C$6,$E$3,$E$4,$E$6,B661)","v":3.11651964187869},3.9832040708262428,{"$f":"ThreePosition_Basic2($E$3,$E$6,$B$3:$C$3,$B$6:$C$6,B661,N661)","v":-2.9058222090309376},3.2176491477347908,-1.8952902348170724,1.9183764938840049,{"$f":"ThreePosition_Basic2($E$3,$E$6,$B$3:$C$3,$B$6:$C$6,B661,O661)","v":-2.9634174190896903},2.284661474569142,-1.8652064342078523,0.74406687786608505]
[323.5,5.6461401302016565,{"$f":"Burmester($B$3:$C$3,$B$4:$C$4,$B$5:$C$5,$E$3,$E$4,$E$5,B662)","v":1.5342392645400083},4.9231819767959459,{"$f":"ThreePosition_Basic2($E$3,$E$5,$B$3:$C$3,$B$5:$C$5,B662,C662)","v":-3.0884334583009174},4.3614572127397793,-2.2426470783249339,3.3129668639926928,{"$f":"ThreePosition_Basic2($E$3,$E$5,$B$3:$C$3,$B$5:$C$5,B662,D662)","v":-3.3496332221349956},1.0130505418709626,-2.2027810924086539,-0.92034361052421021,null,{"$f":"Burmester($B$3:$C$3,$B$4:$C$4,$B$6:$C$6,$E$3,$E$4,$E$6,B662)","v":3.0866374333877458},4.0285814829636042,{"$f":"ThreePosition_Basic2($E$3,$E$6,$B$3:$C$3,$B$6:$C$6,B662,N662)","v":-2.9119602268216176},3.2620750948130763,-1.9002703620660675,1.9518532698236559,{"$f":"ThreePosition_Basic2($E$3,$E$6,$B$3:$C$3,$B$6:$C$6,B662,O662)","v":-2.9733086386747116},2.2422419698398568,-1.8652670174223811,0.66450274060656067]
[324,5.6548667764616276,{"$f":"Burmester($B$3:$C$3,$B$4:$C$4,$B$5:$C$5,$E$3,$E$4,$E$5,B663)","v":1.5345180408258332},4.9383152863043547,{"$f":"ThreePosition_Basic2($E$3,$E$5,$B$3:$C$3,$B$5:$C$5,B663,C663)","v":-3.0969046677043317},4.3794985731110918,-2.248600317296181,3.3169586789369081,{"$f":"ThreePosition_Basic2($E$3,$E$5,$B$3:$C$3,$B$5:$C$5,B663,D663)","v":-3.3549527917075568},0.99585983488358254,-2.2007575116209392,-0.97358110927195085,null,{"$f":"Burmester($B$3:$C$3,$B$4:$C$4,$B$6:$C$6,$E$3,$E$4,$E$6,B663)","v":3.059183709507717},4.071559834023124,{"$f":"ThreePosition_Basic2($E$3,$E$6,$B$3:$C$3,$B$6:$C$6,B663,N663)","v":-2.9184194094125844},3.3044438042441149,-1.9053027673124157,1.9824667058321619,{"$f":"ThreePosition_Basic2($E$3,$E$6,$B$3:$C$3,$B$6:$C$6,B663,O663)","v":-2.9829879153797432},2.2019901114265452,-1.8651413982623111,0.58667732888805579]
[324.5,5.6635934227215996,{"$f":"Burmester($B$3:$C$3,$B$4:$C$4,$B$5:$C$5,$E$3,$E$4,$E$5,B664)","v":1.534750824545221},4.9535156354576486,{"$f":"ThreePosition_Basic2($E$3,$E$5,$B$3:$C$3,$B$5:$C$5,B664,C664)","v":-3.1054626234983402},4.3978901838541775,-2.2546001723132059,3.3210380560261266,{"$f":"ThreePosition_Basic2($E$3,$E$5,$B$3:$C$3,$B$5:$C$5,B664,D664)","v":-3.3602519396959858},0.97840560267366683,-2.1985237478150061,-1.0281352169791194,null,{"$f":"Burmester($B$3:$C$3,$B$4:$C$4,$B$6:$C$6,$E$3,$E$4,$E$6,B664)","v":3.0336807795825962},4.1126171093762389,{"$f":"ThreePosition_Basic2($E$3,$E$6,$B$3:$C$3,$B$6:$C$6,B664,N664)","v":-2.9251642320007805},3.3452477311749242,-1.9103932814941718,2.0108073509658042,{"$f":"ThreePosition_Basic2($E$3,$E$6,$B$3:$C$3,$B$6:$C$6,B664,O664)","v":-2.9924928048932316},2.1634187613432161,-1.8648161515950463,0.50995486080579888]
[325,5.6723200689815707,{"$f":"Burmester($B$3:$C$3,$B$4:$C$4,$B$5:$C$5,$E$3,$E$4,$E$5,B665)","v":1.5349372835084205},4.9687835610333817,{"$f":"ThreePosition_Basic2($E$3,$E$5,$B$3:$C$3,$B$5:$C$5,B665,C665)","v":-3.1141096741836347},4.4166422243943746,-2.2606477255046169,3.325206870230887,{"$f":"ThreePosition_Basic2($E$3,$E$5,$B$3:$C$3,$B$5:$C$5,B665,D665)","v":-3.3655295344548684},0.96068216497034686,-2.1960704938863636,-1.0840583396335659,null,{"$f":"Burmester($B$3:$C$3,$B$4:$C$4,$B$6:$C$6,$E$3,$E$4,$E$6,B665)","v":3.0097855102360951},4.1520967391992709,{"$f":"ThreePosition_Basic2($E$3,$E$6,$B$3:$C$3,$B$6:$C$6,B665,N665)","v":-2.9321698235169342},3.3848425643166959,-1.9155459819234459,2.0372973851181895,{"$f":"ThreePosition_Basic2($E$3,$E$6,$B$3:$C$3,$B$6:$C$6,B665,O665)","v":-3.0018502691383304},2.1261778243814775,-1.8642791375052592,0.43386539492934251]
[325.5,5.6810467152415427,{"$f":"Burmester($B$3:$C$3,$B$4:$C$4,$B$5:$C$5,$E$3,$E$4,$E$5,B666)","v":1.535077067149742},4.9841196191833994,{"$f":"ThreePosition_Basic2($E$3,$E$5,$B$3:$C$3,$B$5:$C$5,B666,C666)","v":-3.1228482507159327},4.4357652972294828,-2.2667440882867962,3.3294670634260495,{"$f":"ThreePosition_Basic2($E$3,$E$5,$B$3:$C$3,$B$5:$C$5,B666,D666)","v":-3.3707843986765798},0.94268365112028918,-2.1933879170997823,-1.141405836814777,null,{"$f":"Burmester($B$3:$C$3,$B$4:$C$4,$B$6:$C$6,$E$3,$E$4,$E$6,B666)","v":2.9872416427985007},4.1902552810498488,{"$f":"ThreePosition_Basic2($E$3,$E$6,$B$3:$C$3,$B$6:$C$6,B666,N666)","v":-2.9394182839235921},3.4234961142548035,-1.9207639137528338,2.0622507213599075,{"$f":"ThreePosition_Basic2($E$3,$E$6,$B$3:$C$3,$B$6:$C$6,B666,O666)","v":-3.0110803619386601},2.090005376508616,-1.8635187454763016,0.35804454630729743]
[326,5.6897733615015138,{"$f":"Burmester($B$3:$C$3,$B$4:$C$4,$B$5:$C$5,$E$3,$E$4,$E$5,B667)","v":1.5351698058837018},4.9995243860772156,{"$f":"ThreePosition_Basic2($E$3,$E$5,$B$3:$C$3,$B$5:$C$5,B667,C667)","v":-3.1316808705796824},4.455270450395906,-2.2728904025383301,3.3338206473440319,{"$f":"ThreePosition_Basic2($E$3,$E$5,$B$3:$C$3,$B$5:$C$5,B667,D667)","v":-3.3760153073214587},0.92440399162633913,-2.1904656213797034,-1.2002362358696521,null,{"$f":"Burmester($B$3:$C$3,$B$4:$C$4,$B$6:$C$6,$E$3,$E$4,$E$6,B667)","v":2.9658518356082926},4.2272903775678312,{"$f":"ThreePosition_Basic2($E$3,$E$6,$B$3:$C$3,$B$6:$C$6,B667,N667)","v":-2.9468965149288415},3.4614169286946717,-1.926049491862392,2.0859081409373053,{"$f":"ThreePosition_Basic2($E$3,$E$6,$B$3:$C$3,$B$6:$C$6,B667,O667)","v":-3.0201984014666206},2.0546990675069146,-1.8625234551191154,0.28219815383470248]
[326.5,5.6985000077614867,{"$f":"Burmester($B$3:$C$3,$B$4:$C$4,$B$5:$C$5,$E$3,$E$4,$E$5,B668)","v":1.5352151104280085},5.0149984585782059,{"$f":"ThreePosition_Basic2($E$3,$E$5,$B$3:$C$3,$B$5:$C$5,B668,C668)","v":-3.1406101421143808},4.4751692014030073,-2.2790878418334679,3.3382697066901867,{"$f":"ThreePosition_Basic2($E$3,$E$5,$B$3:$C$3,$B$5:$C$5,B668,D668)","v":-3.3812209854364412},0.90583690920396309,-2.187292606275701,-1.2606114651395703,null,{"$f":"Burmester($B$3:$C$3,$B$4:$C$4,$B$6:$C$6,$E$3,$E$4,$E$6,B668)","v":2.9454602939545396},4.2633581265347384,{"$f":"ThreePosition_Basic2($E$3,$E$6,$B$3:$C$3,$B$6:$C$6,B668,N668)","v":-2.9545948670483182},3.4987720451846269,-1.9314047379537604,2.1084590592676511,{"$f":"ThreePosition_Basic2($E$3,$E$6,$B$3:$C$3,$B$6:$C$6,B668,O668)","v":-3.0292163265579384},2.0200983874091984,-1.8612815583457392,0.20608029897798397]
[327,5.7072266540214578,{"$f":"Burmester($B$3:$C$3,$B$4:$C$4,$B$5:$C$5,$E$3,$E$4,$E$5,B669)","v":1.5352125710912645},5.0305424549546673,{"$f":"ThreePosition_Basic2($E$3,$E$5,$B$3:$C$3,$B$5:$C$5,B669,C669)","v":-3.1496387691124488},4.4954735627501226,-2.2853376127382354,3.342816402431136,{"$f":"ThreePosition_Basic2($E$3,$E$5,$B$3:$C$3,$B$5:$C$5,B669,D669)","v":-3.3864001058548951},0.88697590932200454,-2.1838572222534598,-1.322597108251923,null,{"$f":"Burmester($B$3:$C$3,$B$4:$C$4,$B$6:$C$6,$E$3,$E$4,$E$6,B669)","v":2.9259414663748822},4.298584384576797,{"$f":"ThreePosition_Basic2($E$3,$E$6,$B$3:$C$3,$B$6:$C$6,B669,N669)","v":-2.9625062567282403},3.535698531253435,-1.936831427020042,2.1300556502714043,{"$f":"ThreePosition_Basic2($E$3,$E$6,$B$3:$C$3,$B$6:$C$6,B669,O669)","v":-3.03814358319738},1.9860731468979618,-1.8597809684642101,0.12947894664732007]
[327.5,5.7159533002814289,{"$f":"Burmester($B$3:$C$3,$B$4:$C$4,$B$5:$C$5,$E$3,$E$4,$E$5,B670)","v":1.5351617570231038},5.0461570156280988,{"$f":"ThreePosition_Basic2($E$3,$E$5,$B$3:$C$3,$B$5:$C$5,B670,C670)","v":-3.158769555709446},4.5161960691511567,-2.2916409561732047,3.3474629752677343,{"$f":"ThreePosition_Basic2($E$3,$E$5,$B$3:$C$3,$B$5:$C$5,B670,D670)","v":-3.3915512867698765},0.86781427019120905,-2.1801471219187762,-1.3862626817371875,null,{"$f":"Burmester($B$3:$C$3,$B$4:$C$4,$B$6:$C$6,$E$3,$E$4,$E$6,B670)","v":2.9071924041499058},4.3330724076708229,{"$f":"ThreePosition_Basic2($E$3,$E$6,$B$3:$C$3,$B$6:$C$6,B670,N670)","v":-2.9706255687658691},3.5723112800989805,-1.9423311813531945,2.1508223671267905,{"$f":"ThreePosition_Basic2($E$3,$E$6,$B$3:$C$3,$B$6:$C$6,B670,O670)","v":-3.046987725958652},1.9525157036465883,-1.8580090776347862,5.220616803118916E-2]
[328,5.7246799465414,{"$f":"Burmester($B$3:$C$3,$B$4:$C$4,$B$5:$C$5,$E$3,$E$4,$E$5,B671)","v":1.5350622154242766},5.0618428039610945,{"$f":"ThreePosition_Basic2($E$3,$E$5,$B$3:$C$3,$B$5:$C$5,B671,C671)","v":-3.1680054115891285},4.5373498066030216,-2.2979991488471141,3.3522117493052095,{"$f":"ThreePosition_Basic2($E$3,$E$5,$B$3:$C$3,$B$5:$C$5,B671,D671)","v":-3.396673089172265},0.84834503216118684,-2.1761492067332373,-1.4516819385140409,null,{"$f":"Burmester($B$3:$C$3,$B$4:$C$4,$B$6:$C$6,$E$3,$E$4,$E$6,B671)","v":2.889127430565479},4.3669081818812892,{"$f":"ThreePosition_Basic2($E$3,$E$6,$B$3:$C$3,$B$6:$C$6,B671,N671)","v":-2.9789492395872337},3.608708449996501,-1.9479055328849746,2.1708625670732857,{"$f":"ThreePosition_Basic2($E$3,$E$6,$B$3:$C$3,$B$6:$C$6,B671,O671)","v":-3.0557548388598863},1.9193355465602504,-1.8559526414435144,-2.5908764595393485E-2]
[328.5,5.7334065928013729,{"$f":"Burmester($B$3:$C$3,$B$4:$C$4,$B$5:$C$5,$E$3,$E$4,$E$5,B672)","v":1.5349134707140697},5.0776005070875012,{"$f":"ThreePosition_Basic2($E$3,$E$5,$B$3:$C$3,$B$5:$C$5,B672,C672)","v":-3.1773493575280116},4.5589484434470684,-2.3044135047659404,3.3570651359341515,{"$f":"ThreePosition_Basic2($E$3,$E$5,$B$3:$C$3,$B$5:$C$5,B672,D672)","v":-3.4017640141448386},0.82856098648301069,-2.1718495687246602,-1.5189332001078082,null,{"$f":"Burmester($B$3:$C$3,$B$4:$C$4,$B$6:$C$6,$E$3,$E$4,$E$6,B672)","v":2.8716743203355857},4.4001642439360342,{"$f":"ThreePosition_Basic2($E$3,$E$6,$B$3:$C$3,$B$6:$C$6,B672,N672)","v":-2.9874749594621033},3.6449753665114897,-1.9535559657440702,2.1902632471659338,{"$f":"ThreePosition_Basic2($E$3,$E$6,$B$3:$C$3,$B$6:$C$6,B672,O672)","v":-3.0644498375781417},1.8864554189696392,-1.8535976782056733,-0.10502442065301176]
[329,5.742133239061344,{"$f":"Burmester($B$3:$C$3,$B$4:$C$4,$B$5:$C$5,$E$3,$E$4,$E$5,B673)","v":1.5347150236521869},5.0934308367876797,{"$f":"ThreePosition_Basic2($E$3,$E$5,$B$3:$C$3,$B$5:$C$5,B673,C673)","v":-3.1868045313062905},4.5810062635864623,-2.3108853768223234,3.36202563793697,{"$f":"ThreePosition_Basic2($E$3,$E$5,$B$3:$C$3,$B$5:$C$5,B673,D673)","v":-3.4068225000022698},0.80845466339106509,-2.1672334266311415,-1.5880997208361665,null,{"$f":"Burmester($B$3:$C$3,$B$4:$C$4,$B$6:$C$6,$E$3,$E$4,$E$6,B673)","v":2.854771497345276},4.4329024834809392,{"$f":"ThreePosition_Basic2($E$3,$E$6,$B$3:$C$3,$B$6:$C$6,B673,N673)","v":-2.9962014554441616},3.6811873907360058,-1.9592839460948328,2.2090985091376885,{"$f":"ThreePosition_Basic2($E$3,$E$6,$B$3:$C$3,$B$6:$C$6,B673,O673)","v":-3.0730766912605874},1.8538084777104733,-1.8509293753637832,-0.18529101279287596]
[329.5,5.7508598853213151,{"$f":"Burmester($B$3:$C$3,$B$4:$C$4,$B$5:$C$5,$E$3,$E$4,$E$5,B674)","v":1.5344663504120175},5.1093345304119495,{"$f":"ThreePosition_Basic2($E$3,$E$5,$B$3:$C$3,$B$5:$C$5,B674,C674)","v":-3.1963741940145347},4.6035382020382203,-2.3174161584706532,3.3670958538357643,{"$f":"ThreePosition_Basic2($E$3,$E$5,$B$3:$C$3,$B$5:$C$5,B674,D674)","v":-3.4118469192665186},0.78801831945370837,-2.1622850558446221,-1.6592700876198001,null,{"$f":"Burmester($B$3:$C$3,$B$4:$C$4,$B$6:$C$6,$E$3,$E$4,$E$6,B674)","v":2.8383659375793728},4.4651762401479429,{"$f":"ThreePosition_Basic2($E$3,$E$6,$B$3:$C$3,$B$6:$C$6,B674,N674)","v":-3.0051283306364924},3.7174120735819876,-1.9650909436037707,2.2274321461787219,{"$f":"ThreePosition_Basic2($E$3,$E$6,$B$3:$C$3,$B$6:$C$6,B674,O674)","v":-3.0816385883604869},1.8213361682220339,-1.8479319979893216,-0.26685335339336169]
[330,5.7595865315812871,{"$f":"Burmester($B$3:$C$3,$B$4:$C$4,$B$5:$C$5,$E$3,$E$4,$E$5,B675)","v":1.5341669016020032},5.1253123518554693,{"$f":"ThreePosition_Basic2($E$3,$E$5,$B$3:$C$3,$B$5:$C$5,B675,C675)","v":-3.2060617367883428},4.6265598830156938,-2.324007285493574,3.3722784824988139,{"$f":"ThreePosition_Basic2($E$3,$E$5,$B$3:$C$3,$B$5:$C$5,B675,D675)","v":-3.4168355754660444},0.7672439241379746,-2.1569877114354319,-1.732538659562084,null,{"$f":"Burmester($B$3:$C$3,$B$4:$C$4,$B$6:$C$6,$E$3,$E$4,$E$6,B675)","v":2.8224115718483644},4.4970319008248634,{"$f":"ThreePosition_Basic2($E$3,$E$6,$B$3:$C$3,$B$6:$C$6,B675,N675)","v":-3.0142559437382821},3.7537108058558695,-1.9709784472870826,2.245319608799222,{"$f":"ThreePosition_Basic2($E$3,$E$6,$B$3:$C$3,$B$6:$C$6,B675,O675)","v":-3.0901380625732453},1.7889866061240212,-1.8445887959045513,-0.34985322703693544]
[330.5,5.7683131778412591,{"$f":"Burmester($B$3:$C$3,$B$4:$C$4,$B$5:$C$5,$E$3,$E$4,$E$5,B676)","v":1.5338161012314873},5.1413650925881624,{"$f":"ThreePosition_Basic2($E$3,$E$5,$B$3:$C$3,$B$5:$C$5,B676,C676)","v":-3.2158706880061492},4.6500876607565145,-2.3306602378660211,3.3775763280243165,{"$f":"ThreePosition_Basic2($E$3,$E$5,$B$3:$C$3,$B$5:$C$5,B676,D676)","v":-3.4217866997462965},0.74612314552863734,-2.1513235434422127,-1.8080060520032801,null,{"$f":"Burmester($B$3:$C$3,$B$4:$C$4,$B$6:$C$6,$E$3,$E$4,$E$6,B676)","v":2.8068680500399719},4.5285101353985509,{"$f":"ThreePosition_Basic2($E$3,$E$6,$B$3:$C$3,$B$6:$C$6,B676,N676)","v":-3.023585318051766},3.7901401052138928,-1.9769479775288206,2.2628095225863603,{"$f":"ThreePosition_Basic2($E$3,$E$6,$B$3:$C$3,$B$6:$C$6,B676,O676)","v":-3.0985770897276845},1.7567133243744668,-1.8408819068052089,-0.43443135615336548]
[331,5.7770398241012311,{"$f":"Burmester($B$3:$C$3,$B$4:$C$4,$B$5:$C$5,$E$3,$E$4,$E$5,B677)","v":1.5334133456172192},5.1574935727435118,{"$f":"ThreePosition_Basic2($E$3,$E$5,$B$3:$C$3,$B$5:$C$5,B677,C677)","v":-3.225804720988946},4.6741386633323847,-2.3373765417235686,3.3829923049216841,{"$f":"ThreePosition_Basic2($E$3,$E$5,$B$3:$C$3,$B$5:$C$5,B677,D677)","v":-3.4266984472780533},0.72464733513661805,-2.1452735034997104,-1.8857796704025938,null,{"$f":"Burmester($B$3:$C$3,$B$4:$C$4,$B$6:$C$6,$E$3,$E$4,$E$6,B677)","v":2.7916997716470076},4.5596468662206897,{"$f":"ThreePosition_Basic2($E$3,$E$6,$B$3:$C$3,$B$6:$C$6,B677,N677)","v":-3.0331180724887798},3.8267526371695162,-1.9830010954599071,2.2799448766820687,{"$f":"ThreePosition_Basic2($E$3,$E$6,$B$3:$C$3,$B$6:$C$6,B677,O677)","v":-3.1069571631310886},1.7244742890604718,-1.8367922532501131,-0.5207290836340186]
[331.5,5.7857664703612022,{"$f":"Burmester($B$3:$C$3,$B$4:$C$4,$B$5:$C$5,$E$3,$E$4,$E$5,B678)","v":1.5329580022262981},5.1736986422704154,{"$f":"ThreePosition_Basic2($E$3,$E$5,$B$3:$C$3,$B$5:$C$5,B678,C678)","v":-3.235867662244313},4.6987308397006453,-2.3441577714422412,3.3885294436123017,{"$f":"ThreePosition_Basic2($E$3,$E$5,$B$3:$C$3,$B$5:$C$5,B678,D678)","v":-3.4315688934487016},0.70280751172587008,-2.1388172417468212,-1.9659743001515473,null,{"$f":"Burmester($B$3:$C$3,$B$4:$C$4,$B$6:$C$6,$E$3,$E$4,$E$6,B678)","v":2.77687511560495},4.5904740382628066,{"$f":"ThreePosition_Basic2($E$3,$E$6,$B$3:$C$3,$B$6:$C$6,B678,N678)","v":-3.0428563693342312},3.8635980384898452,-1.98913941050615,2.2967639663763837,{"$f":"ThreePosition_Basic2($E$3,$E$6,$B$3:$C$3,$B$6:$C$6,B678,O678)","v":-3.1152793526524971},1.6922311157310153,-1.8322994316332721,-0.60888986148896262]
[332,5.7944931166211742,{"$f":"Burmester($B$3:$C$3,$B$4:$C$4,$B$5:$C$5,$E$3,$E$4,$E$5,B679)","v":1.5324494084510474},5.1899811821526036,{"$f":"ThreePosition_Basic2($E$3,$E$5,$B$3:$C$3,$B$5:$C$5,B679,C679)","v":-3.2460635003015548},4.7238830102841858,-2.3510055518377091,3.3941908962737122,{"$f":"ThreePosition_Basic2($E$3,$E$5,$B$3:$C$3,$B$5:$C$5,B679,D679)","v":-3.4363960298206027},0.68059434408127761,-2.1319329928070241,-2.0487127592930392,null,{"$f":"Burmester($B$3:$C$3,$B$4:$C$4,$B$6:$C$6,$E$3,$E$4,$E$6,B679)","v":2.7623658214892317},4.6210202379104226,{"$f":"ThreePosition_Basic2($E$3,$E$6,$B$3:$C$3,$B$6:$C$6,B679,N679)","v":-3.0528028750218477},3.9007235919647045,-1.9953645866645289,2.3133011494262172,{"$f":"ThreePosition_Basic2($E$3,$E$6,$B$3:$C$3,$B$6:$C$6,B679,O679)","v":-3.123544351335223},1.6599484375606277,-1.8273815913494047,-0.69906061164447575]
[332.5,5.8032197628811462,{"$f":"Burmester($B$3:$C$3,$B$4:$C$4,$B$5:$C$5,$E$3,$E$4,$E$5,B680)","v":1.5318868703108868},5.2063421057005161,{"$f":"ThreePosition_Basic2($E$3,$E$5,$B$3:$C$3,$B$5:$C$5,B680,C680)","v":-3.2563963951892765},4.7496149213956018,-2.3579215604922728,3.3999799430531663,{"$f":"ThreePosition_Basic2($E$3,$E$5,$B$3:$C$3,$B$5:$C$5,B680,D680)","v":-3.4411777598389643},0.65799813263300511,-2.1245974494578737,-2.1341266221331643,null,{"$f":"Burmester($B$3:$C$3,$B$4:$C$4,$B$6:$C$6,$E$3,$E$4,$E$6,B680)","v":2.7481464871690573},4.6513111952995123,{"$f":"ThreePosition_Basic2($E$3,$E$6,$B$3:$C$3,$B$6:$C$6,B680,N680)","v":-3.0629607312108047},3.9381747882820348,-2.0016783479018265,2.3295874594173274,{"$f":"ThreePosition_Basic2($E$3,$E$6,$B$3:$C$3,$B$6:$C$6,B680,O680)","v":-3.1317525123011443},1.62759338991159,-1.8220153023499941,-0.7913930096300652]
[333,5.8119464091411173,{"$f":"Burmester($B$3:$C$3,$B$4:$C$4,$B$5:$C$5,$E$3,$E$4,$E$5,B681)","v":1.5312696610759011},5.2227823599209531,{"$f":"ThreePosition_Basic2($E$3,$E$5,$B$3:$C$3,$B$5:$C$5,B681,C681)","v":-3.266870688612225},4.7759473038547506,-2.364907530218979,3.4058999986789305,{"$f":"ThreePosition_Basic2($E$3,$E$5,$B$3:$C$3,$B$5:$C$5,B681,D681)","v":-3.445911894270389},0.63500878984466147,-2.116785622402177,-2.2223570229149736,null,{"$f":"Burmester($B$3:$C$3,$B$4:$C$4,$B$6:$C$6,$E$3,$E$4,$E$6,B681)","v":2.7341941571299637},4.6813701959829883,{"$f":"ThreePosition_Basic2($E$3,$E$6,$B$3:$C$3,$B$6:$C$6,B681,N681)","v":-3.0733335341786825},3.975995801510801,-2.0080824829582875,2.345651108122917,{"$f":"ThreePosition_Basic2($E$3,$E$6,$B$3:$C$3,$B$6:$C$6,B681,O681)","v":-3.1399038779883734},1.595135185127724,-1.8161754091900755,-0.88604473164055242]
[333.5,5.8206730554010884,{"$f":"Burmester($B$3:$C$3,$B$4:$C$4,$B$5:$C$5,$E$3,$E$4,$E$5,B682)","v":1.5305970198062788},5.2393029269702964,{"$f":"ThreePosition_Basic2($E$3,$E$5,$B$3:$C$3,$B$5:$C$5,B682,C682)","v":-3.2774909148898925},4.8029019361855854,-2.3719652516727914,3.4119546195001518,{"$f":"ThreePosition_Basic2($E$3,$E$5,$B$3:$C$3,$B$5:$C$5,B682,D682)","v":-3.4505961463511632},0.61161581926381769,-2.1084706843140699,-2.3135555501053626,null,{"$f":"Burmester($B$3:$C$3,$B$4:$C$4,$B$6:$C$6,$E$3,$E$4,$E$6,B682)","v":2.7204879821519943},4.711218421240341,{"$f":"ThreePosition_Basic2($E$3,$E$6,$B$3:$C$3,$B$6:$C$6,B682,N682)","v":-3.0839253210666429},4.0142298981575983,-2.0145788497625632,2.3615179007531939,{"$f":"ThreePosition_Basic2($E$3,$E$6,$B$3:$C$3,$B$6:$C$6,B682,O682)","v":-3.1479982032493621},1.5625447579642713,-1.8098348694979598,-0.98318069868757441]
[334,5.8293997016610613,{"$f":"Burmester($B$3:$C$3,$B$4:$C$4,$B$5:$C$5,$E$3,$E$4,$E$5,B683)","v":1.5298681498013629},5.2559048256975434,{"$f":"ThreePosition_Basic2($E$3,$E$5,$B$3:$C$3,$B$5:$C$5,B683,C683)","v":-3.2882618127261698},4.8305017128198227,-2.3790965761198071,3.418147510989062,{"$f":"ThreePosition_Basic2($E$3,$E$5,$B$3:$C$3,$B$5:$C$5,B683,D683)","v":-3.4552281266228451},0.58780829312365424,-2.0996237960534323,-2.4078852434675935,null,{"$f":"Burmester($B$3:$C$3,$B$4:$C$4,$B$6:$C$6,$E$3,$E$4,$E$6,B683)","v":2.707008935698735},4.7408752316750844,{"$f":"ThreePosition_Basic2($E$3,$E$6,$B$3:$C$3,$B$6:$C$6,B683,N683)","v":-3.0947405618925754},4.0529197950738753,-2.0211693796115053,2.3772115821892301,{"$f":"ThreePosition_Basic2($E$3,$E$6,$B$3:$C$3,$B$6:$C$6,B683,O683)","v":-3.1560349734641622},1.5297944667892627,-1.802964574567018,-1.082974347264114]
[334.5,5.8381263479210324,{"$f":"Burmester($B$3:$C$3,$B$4:$C$4,$B$5:$C$5,$E$3,$E$4,$E$5,B684)","v":1.5290822169514131},5.2725891132840168,{"$f":"ThreePosition_Basic2($E$3,$E$5,$B$3:$C$3,$B$5:$C$5,B684,C684)","v":-3.2991883378865818},4.858770717781427,-2.3863034183763183,3.4244825357423125,{"$f":"ThreePosition_Basic2($E$3,$E$5,$B$3:$C$3,$B$5:$C$5,B684,D684)","v":-3.4598053374301916},0.56357482837353301,-2.0902139126119144,-2.5055217079991898,null,{"$f":"Burmester($B$3:$C$3,$B$4:$C$4,$B$6:$C$6,$E$3,$E$4,$E$6,B684)","v":2.6937395757851212},4.7703584053320816,{"$f":"ThreePosition_Basic2($E$3,$E$6,$B$3:$C$3,$B$6:$C$6,B684,N684)","v":-3.1057841565295643},4.0921079780852097,-2.027856081231219,2.3927541280606448,{"$f":"ThreePosition_Basic2($E$3,$E$6,$B$3:$C$3,$B$6:$C$6,B684,O684)","v":-3.1640134185495574},1.4968578391435126,-1.7955331494686129,-1.1856089534893786]
[335,5.8468529941810035,{"$f":"Burmester($B$3:$C$3,$B$4:$C$4,$B$5:$C$5,$E$3,$E$4,$E$5,B685)","v":1.5282383479846573},5.2893568869872176,{"$f":"ThreePosition_Basic2($E$3,$E$5,$B$3:$C$3,$B$5:$C$5,B685,C685)","v":-3.3102756768681365},4.8877343043784691,-2.3935877599307767,3.430963722021775,{"$f":"ThreePosition_Basic2($E$3,$E$5,$B$3:$C$3,$B$5:$C$5,B685,D685)","v":-3.4643251670545192},0.53890356100405556,-2.0802075659653094,-2.6066543610656083,null,{"$f":"Burmester($B$3:$C$3,$B$4:$C$4,$B$6:$C$6,$E$3,$E$4,$E$6,B685)","v":2.6806638436181167},4.7996843390406205,{"$f":"ThreePosition_Basic2($E$3,$E$6,$B$3:$C$3,$B$6:$C$6,B685,N685)","v":-3.1170614360603199},4.1318369907172325,-2.0346410448099457,2.4081659913983859,{"$f":"ThreePosition_Basic2($E$3,$E$6,$B$3:$C$3,$B$6:$C$6,B685,O685)","v":-3.1719325235408404},1.4637093527959701,-1.7875067297140439,-1.2912790366702012]
[335.5,5.8555796404409746,{"$f":"Burmester($B$3:$C$3,$B$4:$C$4,$B$5:$C$5,$E$3,$E$4,$E$5,B686)","v":1.5273356286014244},5.3062092859969425,{"$f":"ThreePosition_Basic2($E$3,$E$5,$B$3:$C$3,$B$5:$C$5,B686,C686)","v":-3.321529261655976},4.917419181487741,-2.4009516522626875,3.437595272878931,{"$f":"ThreePosition_Basic2($E$3,$E$5,$B$3:$C$3,$B$5:$C$5,B686,D686)","v":-3.4687848834525132},0.51378211851881939,-2.0695686215462632,-2.7114878317226552,null,{"$f":"Burmester($B$3:$C$3,$B$4:$C$4,$B$6:$C$6,$E$3,$E$4,$E$6,B686)","v":2.6677668921964504},4.8288682197969637,{"$f":"ThreePosition_Basic2($E$3,$E$6,$B$3:$C$3,$B$6:$C$6,B686,N686)","v":-3.1285781680822931},4.1721497005474202,-2.0415264460748297,2.4234663132549468,{"$f":"ThreePosition_Basic2($E$3,$E$6,$B$3:$C$3,$B$6:$C$6,B686,O686)","v":-3.179791036268937},1.4303242453358278,-1.778848711041475,-1.4001918683579917]
[336,5.8643062867009474,{"$f":"Burmester($B$3:$C$3,$B$4:$C$4,$B$5:$C$5,$E$3,$E$4,$E$5,B687)","v":1.526373101486487},5.3231474934125522,{"$f":"ThreePosition_Basic2($E$3,$E$5,$B$3:$C$3,$B$5:$C$5,B687,C687)","v":-3.3329547856717516},4.9478535070844005,-2.4083972203739714,3.4443815759112901,{"$f":"ThreePosition_Basic2($E$3,$E$5,$B$3:$C$3,$B$5:$C$5,B687,D687)","v":-3.4731816275680822},0.48819759038971083,-2.0582580045053183,-2.8202435343839189,null,{"$f":"Burmester($B$3:$C$3,$B$4:$C$4,$B$6:$C$6,$E$3,$E$4,$E$6,B687)","v":2.6550349394875283},4.8579241715682269,{"$f":"ThreePosition_Basic2($E$3,$E$6,$B$3:$C$3,$B$6:$C$6,B687,N687)","v":-3.1403405656677159},4.2130895493429863,-2.0485145504717406,2.4386731039177909,{"$f":"ThreePosition_Basic2($E$3,$E$6,$B$3:$C$3,$B$6:$C$6,B687,O687)","v":-3.1875874725376439},1.3966783467790365,-1.7695194683580431,-1.5125691141619322]
[336.5,5.8730329329609186,{"$f":"Burmester($B$3:$C$3,$B$4:$C$4,$B$5:$C$5,$E$3,$E$4,$E$5,B688)","v":1.5253497641898408},5.3401727383511428,{"$f":"ThreePosition_Basic2($E$3,$E$5,$B$3:$C$3,$B$5:$C$5,B688,C688)","v":-3.3445582210304221},4.9790669897440738,-2.4159266665496384,3.4513272137039754,{"$f":"ThreePosition_Basic2($E$3,$E$5,$B$3:$C$3,$B$5:$C$5,B688,D688)","v":-3.4775124061811176},0.46213649631580506,-2.0462333912766457,-2.9331614427564823,null,{"$f":"Burmester($B$3:$C$3,$B$4:$C$4,$B$6:$C$6,$E$3,$E$4,$E$6,B688)","v":2.6424551418946667},4.8868653818043848,{"$f":"ThreePosition_Basic2($E$3,$E$6,$B$3:$C$3,$B$6:$C$6,B688,N688)","v":-3.1523552997872248},4.2547007921276929,-2.0556077174983383,2.4538033999938165,{"$f":"ThreePosition_Basic2($E$3,$E$6,$B$3:$C$3,$B$6:$C$6,B688,O688)","v":-3.1953201191145646},1.3627479307606505,-1.7594760392111086,-1.6286486377427996]
[337,5.8817595792208897,{"$f":"Burmester($B$3:$C$3,$B$4:$C$4,$B$5:$C$5,$E$3,$E$4,$E$5,B689)","v":1.5242645668652621},5.3572862981972751,{"$f":"ThreePosition_Basic2($E$3,$E$5,$B$3:$C$3,$B$5:$C$5,B689,C689)","v":-3.3563458372357982},5.0110909989304702,-2.4235422743663797,3.4584369750149886,{"$f":"ThreePosition_Basic2($E$3,$E$5,$B$3:$C$3,$B$5:$C$5,B689,D689)","v":-3.4817740842539471},0.43558475208683134,-2.0334488611871735,-3.0505020944733521,null,{"$f":"Burmester($B$3:$C$3,$B$4:$C$4,$B$6:$C$6,$E$3,$E$4,$E$6,B689)","v":2.6300154845723629},4.9157042111006533,{"$f":"ThreePosition_Basic2($E$3,$E$6,$B$3:$C$3,$B$6:$C$6,B689,N689)","v":-3.1646295150923796},4.2970287295686651,-2.0628084052343869,2.4688734016054692,{"$f":"ThreePosition_Basic2($E$3,$E$6,$B$3:$C$3,$B$6:$C$6,B689,O689)","v":-3.2029870347775358},1.3285095807228544,-1.7486717663730003,-1.7486864995743028]
[337.5,5.8904862254808625,{"$f":"Burmester($B$3:$C$3,$B$4:$C$4,$B$5:$C$5,$E$3,$E$4,$E$5,B690)","v":1.523116409854905},5.3744895010059519,{"$f":"ThreePosition_Basic2($E$3,$E$5,$B$3:$C$3,$B$5:$C$5,B690,C690)","v":-3.3683242214602331},5.0439586849780795,-2.4312464129692972,3.4657158667684138,{"$f":"ThreePosition_Basic2($E$3,$E$5,$B$3:$C$3,$B$5:$C$5,B690,D690)","v":-3.4859633767315179},0.40852763283108046,-2.0198545019131871,-3.1725488622549753,null,{"$f":"Burmester($B$3:$C$3,$B$4:$C$4,$B$6:$C$6,$E$3,$E$4,$E$6,B690)","v":2.617704685804715},4.9444522887950493,{"$f":"ThreePosition_Basic2($E$3,$E$6,$B$3:$C$3,$B$6:$C$6,B690,N690)","v":-3.1771708490264605},4.3401199375252011,-2.0701191751093528,2.4838985931341,{"$f":"ThreePosition_Basic2($E$3,$E$6,$B$3:$C$3,$B$6:$C$6,B690,O690)","v":-3.2105860496011633},1.2939400681562889,-1.7370558931728384,-1.8729591872922555]
[338,5.8992128717408336,{"$f":"Burmester($B$3:$C$3,$B$4:$C$4,$B$5:$C$5,$E$3,$E$4,$E$5,B691)","v":1.5219041411071075},5.3917837280716618,{"$f":"ThreePosition_Basic2($E$3,$E$5,$B$3:$C$3,$B$5:$C$5,B691,C691)","v":-3.3805003005714012},5.077705109790009,-2.4390415416391935,3.4731691269266105,{"$f":"ThreePosition_Basic2($E$3,$E$5,$B$3:$C$3,$B$5:$C$5,B691,D691)","v":-3.4900768397475774},0.38094973340356558,-2.0053959614647336,-3.2996105339429316,null,{"$f":"Burmester($B$3:$C$3,$B$4:$C$4,$B$6:$C$6,$E$3,$E$4,$E$6,B691)","v":2.6055121131775021},4.9731205967705714,{"$f":"ThreePosition_Basic2($E$3,$E$6,$B$3:$C$3,$B$6:$C$6,B691,N691)","v":-3.1899874542985516},4.3840224972121229,-2.07754269694495,2.4988938503171445,{"$f":"ThreePosition_Basic2($E$3,$E$6,$B$3:$C$3,$B$6:$C$6,B691,O691)","v":-3.2181147626219784},1.2590162404544001,-1.7245731040613466,-2.0017661198932277]
[338.5,5.9079395180008056,{"$f":"Burmester($B$3:$C$3,$B$4:$C$4,$B$5:$C$5,$E$3,$E$4,$E$5,B692)","v":1.520626553413237},5.4091704166776839,{"$f":"ThreePosition_Basic2($E$3,$E$5,$B$3:$C$3,$B$5:$C$5,B692,C692)","v":-3.3928813650887024},5.1123673893962929,-2.4469302146749325,3.4808022383196482,{"$f":"ThreePosition_Basic2($E$3,$E$5,$B$3:$C$3,$B$5:$C$5,B692,D692)","v":-3.4941108611834188},0.35283492564333058,-1.9900139380174715,-3.4320242516206729,null,{"$f":"Burmester($B$3:$C$3,$B$4:$C$4,$B$6:$C$6,$E$3,$E$4,$E$6,B692)","v":2.5934277096817033},5.0017195433242057,{"$f":"ThreePosition_Basic2($E$3,$E$6,$B$3:$C$3,$B$6:$C$6,B692,N692)","v":-3.2030880248162354},4.4287862291679136,-2.0850817543094049,2.5138735360107427,{"$f":"ThreePosition_Basic2($E$3,$E$6,$B$3:$C$3,$B$6:$C$6,B692,O692)","v":-3.2255705379826978},1.2237149163316574,-1.7111630015049555,-2.1354324748894884]
[339,5.9166661642607767,{"$f":"Burmester($B$3:$C$3,$B$4:$C$4,$B$5:$C$5,$E$3,$E$4,$E$5,B693)","v":1.5192823814480005},5.4266510630411267,{"$f":"ThreePosition_Basic2($E$3,$E$5,$B$3:$C$3,$B$5:$C$5,B693,C693)","v":-3.4054750952743356},5.1479848496611282,-2.4549150866179326,3.4886209435185811,{"$f":"ThreePosition_Basic2($E$3,$E$5,$B$3:$C$3,$B$5:$C$5,B693,D693)","v":-3.498061650520341},0.32416631219867542,-1.9736435972610693,-3.5701588695934361,null,{"$f":"Burmester($B$3:$C$3,$B$4:$C$4,$B$6:$C$6,$E$3,$E$4,$E$6,B693)","v":2.5814419282100762},5.0302590286410069,{"$f":"ThreePosition_Basic2($E$3,$E$6,$B$3:$C$3,$B$6:$C$6,B693,N693)","v":-3.2164818252292493},4.4744629340603606,-2.0927392502199633,2.5288515865376988,{"$f":"ThreePosition_Basic2($E$3,$E$6,$B$3:$C$3,$B$6:$C$6,B693,O693)","v":-3.2329504996239971},1.1880127870611021,-1.6967595086165084,-2.274312396047987]
[339.5,5.9253928105207487,{"$f":"Burmester($B$3:$C$3,$B$4:$C$4,$B$5:$C$5,$E$3,$E$4,$E$5,B694)","v":1.5178702985960555},5.4442272254709358,{"$f":"ThreePosition_Basic2($E$3,$E$5,$B$3:$C$3,$B$5:$C$5,B694,C694)","v":-3.4182895895898402},5.1845991965914742,-2.4629989178486875,3.4966312608484578,{"$f":"ThreePosition_Basic2($E$3,$E$5,$B$3:$C$3,$B$5:$C$5,B694,D694)","v":-3.5019252279204673},0.29492617658454434,-1.9562139049198681,-3.7144188026558504,null,{"$f":"Burmester($B$3:$C$3,$B$4:$C$4,$B$6:$C$6,$E$3,$E$4,$E$6,B694)","v":2.5695456731675779},5.0587485031524846,{"$f":"ThreePosition_Basic2($E$3,$E$6,$B$3:$C$3,$B$6:$C$6,B694,N694)","v":-3.2301787242932396},4.521106643295278,-2.1005182132313838,2.5438415902295448,{"$f":"ThreePosition_Basic2($E$3,$E$6,$B$3:$C$3,$B$6:$C$6,B694,O694)","v":-3.240251524565251},1.1518863220233901,-1.6812901848700044,-2.4187926499003298]
[340,5.9341194567807207,{"$f":"Burmester($B$3:$C$3,$B$4:$C$4,$B$5:$C$5,$E$3,$E$4,$E$5,B695)","v":1.5163889135459068},5.4619005277577841,{"$f":"ThreePosition_Basic2($E$3,$E$5,$B$3:$C$3,$B$5:$C$5,B695,C695)","v":-3.4313333957781547},5.2222547028868895,-2.4711845805882335,3.5048395016473304,{"$f":"ThreePosition_Basic2($E$3,$E$5,$B$3:$C$3,$B$5:$C$5,B695,D695)","v":-3.5056974124632183},0.26509592909777618,-1.9376468596355432,-3.8652484503514914,null,{"$f":"Burmester($B$3:$C$3,$B$4:$C$4,$B$6:$C$6,$E$3,$E$4,$E$6,B695)","v":2.5577302481248836},5.0871970198499259,{"$f":"ThreePosition_Basic2($E$3,$E$6,$B$3:$C$3,$B$6:$C$6,B695,N695)","v":-3.2441892323200028},4.5687738824052291,-2.108421803949537,2.558856859523075,{"$f":"ThreePosition_Basic2($E$3,$E$6,$B$3:$C$3,$B$6:$C$6,B695,O695)","v":-3.2474702347912436},1.1153116772423057,-1.664675439721826,-2.5692968122769022]
[340.5,5.9428461030406918,{"$f":"Burmester($B$3:$C$3,$B$4:$C$4,$B$5:$C$5,$E$3,$E$4,$E$5,B696)","v":1.5148367666301363},5.4796726628168395,{"$f":"ThreePosition_Basic2($E$3,$E$5,$B$3:$C$3,$B$5:$C$5,B696,C696)","v":-3.4446155448651412},5.2609984125863107,-2.4794750653411537,3.5132522888893627,{"$f":"ThreePosition_Basic2($E$3,$E$5,$B$3:$C$3,$B$5:$C$5,B696,D696)","v":-3.5093738094567226},0.23465604817180868,-1.9178566083671496,-4.0231373004999105,null,{"$f":"Burmester($B$3:$C$3,$B$4:$C$4,$B$6:$C$6,$E$3,$E$4,$E$6,B696)","v":2.5459873086128946},5.1156132814547295,{"$f":"ThreePosition_Basic2($E$3,$E$6,$B$3:$C$3,$B$6:$C$6,B696,N696)","v":-3.258524543041069},4.6175239502804519,-2.1164533220119131,2.5739104977733231,{"$f":"ThreePosition_Basic2($E$3,$E$6,$B$3:$C$3,$B$6:$C$6,B696,O696)","v":-3.2546029877407983},1.0782646057209779,-1.6468276258542558,-2.7262900823084353]
[341,5.9515727493006629,{"$f":"Burmester($B$3:$C$3,$B$4:$C$4,$B$5:$C$5,$E$3,$E$4,$E$5,B697)","v":1.5132123258886576},5.4975453966066583,{"$f":"ThreePosition_Basic2($E$3,$E$5,$B$3:$C$3,$B$5:$C$5,B697,C697)","v":-3.45814558841312},5.3008803659154946,-2.4878734878205124,3.5218765773033414,{"$f":"ThreePosition_Basic2($E$3,$E$5,$B$3:$C$3,$B$5:$C$5,B697,D697)","v":-3.512949796733861},0.20358601670268384,-1.8967484227107112,-4.1886258369964544,null,{"$f":"Burmester($B$3:$C$3,$B$4:$C$4,$B$6:$C$6,$E$3,$E$4,$E$6,B697)","v":2.5343088192929502},5.1440056832109722,{"$f":"ThreePosition_Basic2($E$3,$E$6,$B$3:$C$3,$B$6:$C$6,B697,N697)","v":-3.2731965802760326},4.6674192174596412,-2.1246162135797317,2.5890154617862851,{"$f":"ThreePosition_Basic2($E$3,$E$6,$B$3:$C$3,$B$6:$C$6,B697,O697)","v":-3.261645865372818},1.0407203684963338,-1.627649989913093,-2.890284841448838]
[341.5,5.9602993955606358,{"$f":"Burmester($B$3:$C$3,$B$4:$C$4,$B$5:$C$5,$E$3,$E$4,$E$5,B698)","v":1.5115139828292103},5.51552057234999,{"$f":"ThreePosition_Basic2($E$3,$E$5,$B$3:$C$3,$B$5:$C$5,B698,C698)","v":-3.4719336394037899},5.3419538467253336,-2.4963830963997276,3.5307196751329402,{"$f":"ThreePosition_Basic2($E$3,$E$5,$B$3:$C$3,$B$5:$C$5,B698,D698)","v":-3.5164205098323493},0.17186425282123771,-1.8742175098753509,-4.3623124039053591,null,{"$f":"Burmester($B$3:$C$3,$B$4:$C$4,$B$6:$C$6,$E$3,$E$4,$E$6,B698)","v":2.5226870148490219},5.1723823519538472,{"$f":"ThreePosition_Basic2($E$3,$E$6,$B$3:$C$3,$B$6:$C$6,B698,N698)","v":-3.2882180498678819},4.7185254469247022,-2.1329140793902397,2.6041846209481534,{"$f":"ThreePosition_Basic2($E$3,$E$6,$B$3:$C$3,$B$6:$C$6,B698,O698)","v":-3.2685946617665542},1.002653645402954,-1.6070354538336304,-3.0618471001463181]
[342,5.9690260418206069,{"$f":"Burmester($B$3:$C$3,$B$4:$C$4,$B$5:$C$5,$E$3,$E$4,$E$5,B699)","v":1.5097400478563598},5.5336001150851768,{"$f":"ThreePosition_Basic2($E$3,$E$5,$B$3:$C$3,$B$5:$C$5,B699,C699)","v":-3.4859904171793614},5.3842756552424733,-2.5050072801412724,3.5397892677020741,{"$f":"ThreePosition_Basic2($E$3,$E$5,$B$3:$C$3,$B$5:$C$5,B699,D699)","v":-3.519780825946063},0.1394680345217382,-1.8501476262218013,-4.5448612116330036,null,{"$f":"Burmester($B$3:$C$3,$B$4:$C$4,$B$6:$C$6,$E$3,$E$4,$E$6,B699)","v":2.511114364039166},5.2007511820166483,{"$f":"ThreePosition_Basic2($E$3,$E$6,$B$3:$C$3,$B$6:$C$6,B699,N699)","v":-3.3036024974263212},4.7709121411440645,-2.1413506834222416,2.6194308137276243,{"$f":"ThreePosition_Basic2($E$3,$E$6,$B$3:$C$3,$B$6:$C$6,B699,O699)","v":-3.2754448691938798},0.96403844458505583,-1.5848651938763174,-3.2416040061893052]
[342.5,5.977752688080578,{"$f":"Burmester($B$3:$C$3,$B$4:$C$4,$B$5:$C$5,$E$3,$E$4,$E$5,B700)","v":1.507888745337052},5.5517860365801326,{"$f":"ThreePosition_Basic2($E$3,$E$5,$B$3:$C$3,$B$5:$C$5,B700,C700)","v":-3.5003272969307337},5.4279064092379503,-2.5137495774580172,3.5490934429680001,{"$f":"ThreePosition_Basic2($E$3,$E$5,$B$3:$C$3,$B$5:$C$5,B700,D700)","v":-3.5230253465213166},0.10637341748304086,-1.8244094539392446,-4.7370117134164591,null,{"$f":"Burmester($B$3:$C$3,$B$4:$C$4,$B$6:$C$6,$E$3,$E$4,$E$6,B700)","v":2.4995835364179637},5.229119868464517,{"$f":"ThreePosition_Basic2($E$3,$E$6,$B$3:$C$3,$B$6:$C$6,B700,N700)","v":-3.3193643725088591},4.8246529194891945,-2.149929962233232,2.6347669022491664,{"$f":"ThreePosition_Basic2($E$3,$E$6,$B$3:$C$3,$B$6:$C$6,B700,O700)","v":-3.2821916625831209},0.92484800982048698,-1.5610069769863122,-3.4302526282752219]
[343,5.9864793343405509,{"$f":"Burmester($B$3:$C$3,$B$4:$C$4,$B$5:$C$5,$E$3,$E$4,$E$5,B701)","v":1.5059582082670366},5.5700804406444995,{"$f":"ThreePosition_Basic2($E$3,$E$5,$B$3:$C$3,$B$5:$C$5,B701,C701)","v":-3.5149563642906863},5.472910877165913,-2.5226136854692576,3.5586407192667644,{"$f":"ThreePosition_Basic2($E$3,$E$5,$B$3:$C$3,$B$5:$C$5,B701,D701)","v":-3.526148378356043},7.2555145333687038E-2,-1.7968586921668914,-4.9395896340425436,null,{"$f":"Burmester($B$3:$C$3,$B$4:$C$4,$B$6:$C$6,$E$3,$E$4,$E$6,B701)","v":2.4880873713024925},5.2574959380822932,{"$f":"ThreePosition_Basic2($E$3,$E$6,$B$3:$C$3,$B$6:$C$6,B701,N701)","v":-3.3355190999703006},4.8798259306168914,-2.1586560350324939,2.6502058255747958,{"$f":"ThreePosition_Basic2($E$3,$E$6,$B$3:$C$3,$B$6:$C$6,B701,O701)","v":-3.2888298822740816},0.88505472472519853,-1.5353132045961801,-3.628570278370578]
[343.5,5.995205980600522,{"$f":"Burmester($B$3:$C$3,$B$4:$C$4,$B$5:$C$5,$E$3,$E$4,$E$5,B702)","v":1.5039464724983036},5.5884855288798452,{"$f":"ThreePosition_Basic2($E$3,$E$5,$B$3:$C$3,$B$5:$C$5,B702,C702)","v":-3.5298904756710554},5.519358347345209,-2.5316034701210248,3.5684400754806118,{"$f":"ThreePosition_Basic2($E$3,$E$5,$B$3:$C$3,$B$5:$C$5,B702,D702)","v":-3.5291439130419664},3.7986551514923854E-2,-1.7673338020702587,-5.1535200010319153,null,{"$f":"Burmester($B$3:$C$3,$B$4:$C$4,$B$6:$C$6,$E$3,$E$4,$E$6,B702)","v":2.4766188486038923},5.2858867784943957,{"$f":"ThreePosition_Basic2($E$3,$E$6,$B$3:$C$3,$B$6:$C$6,B702,N702)","v":-3.3520831593273264},4.9365143049778526,-2.1675332145616468,2.6657606522870729,{"$f":"ThreePosition_Basic2($E$3,$E$6,$B$3:$C$3,$B$6:$C$6,B702,O702)","v":-3.2953540149437286},0.84463001289164075,-1.5076186019079876,-3.8374267001275979]
[344,6.0039326268604931,{"$f":"Burmester($B$3:$C$3,$B$4:$C$4,$B$5:$C$5,$E$3,$E$4,$E$5,B703)","v":1.5018514704828558},5.6070036069125875,{"$f":"ThreePosition_Basic2($E$3,$E$5,$B$3:$C$3,$B$5:$C$5,B703,C703)","v":-3.5451433250772042},5.5673230378652834,-2.5407229771486119,3.5785009838856818,{"$f":"ThreePosition_Basic2($E$3,$E$5,$B$3:$C$3,$B$5:$C$5,B703,D703)","v":-3.5320056045694388},2.6394517836475753E-3,-1.7356533302686679,-5.3798426160528017,null,{"$f":"Burmester($B$3:$C$3,$B$4:$C$4,$B$6:$C$6,$E$3,$E$4,$E$6,B703)","v":2.4651710611866506},5.3142996657544979,{"$f":"ThreePosition_Basic2($E$3,$E$6,$B$3:$C$3,$B$6:$C$6,B703,N703)","v":-3.3690741731187916},4.9948066532943711,-2.1765660188621272,2.6814446329349022,{"$f":"ThreePosition_Basic2($E$3,$E$6,$B$3:$C$3,$B$6:$C$6,B703,O703)","v":-3.301758172560302},0.80354423298099931,-1.4777374752109071,-4.0577985322589933]
[344.5,6.0126592731204642,{"$f":"Burmester($B$3:$C$3,$B$4:$C$4,$B$5:$C$5,$E$3,$E$4,$E$5,B704)","v":1.4996710244827263},5.6256370911596392,{"$f":"ThreePosition_Basic2($E$3,$E$5,$B$3:$C$3,$B$5:$C$5,B704,C704)","v":-3.5607295182433676},5.6168845526107232,-2.5499764439687396,3.5888334459709337,{"$f":"ThreePosition_Basic2($E$3,$E$5,$B$3:$C$3,$B$5:$C$5,B704,D704)","v":-3.5347267448910094},-3.3515973731990292E-2,-1.7016127155109766,-5.6197305172652001,null,{"$f":"Burmester($B$3:$C$3,$B$4:$C$4,$B$6:$C$6,$E$3,$E$4,$E$6,B704)","v":2.4537371884499786},5.342741790710571,{"$f":"ThreePosition_Basic2($E$3,$E$6,$B$3:$C$3,$B$6:$C$6,B704,N704)","v":-3.3865110053980931},5.0547976176651952,-2.1857591840183108,2.6972712528844753,{"$f":"ThreePosition_Basic2($E$3,$E$6,$B$3:$C$3,$B$6:$C$6,B704,O704)","v":-3.3080360691991464},0.7617665677366845,-1.4454604398162492,-4.2907865611298295]
[345,6.0213859193804371,{"$f":"Burmester($B$3:$C$3,$B$4:$C$4,$B$5:$C$5,$E$3,$E$4,$E$5,B705)","v":1.4974028391898653},5.6443885161831986,{"$f":"ThreePosition_Basic2($E$3,$E$5,$B$3:$C$3,$B$5:$C$5,B705,C705)","v":-3.5766646550624124},5.6681283896378876,-2.5593683125998803,3.5994480315569914,{"$f":"ThreePosition_Basic2($E$3,$E$5,$B$3:$C$3,$B$5:$C$5,B705,D705)","v":-3.537300237212329},-7.0511310160911334E-2,-1.664980458147765,-5.8745121301112535,null,{"$f":"Burmester($B$3:$C$3,$B$4:$C$4,$B$6:$C$6,$E$3,$E$4,$E$6,B705)","v":2.4423104708508099},5.3712202844256813,{"$f":"ThreePosition_Basic2($E$3,$E$6,$B$3:$C$3,$B$6:$C$6,B705,N705)","v":-3.404413871676168},5.1165884829287922,-2.1951176779756039,2.7132542861100513,{"$f":"ThreePosition_Basic2($E$3,$E$6,$B$3:$C$3,$B$6:$C$6,B705,O705)","v":-3.3141809955277206},0.71926490581414115,-1.410550495228212,-4.5376364138098673]
[345.5,6.0301125656404082,{"$f":"Burmester($B$3:$C$3,$B$4:$C$4,$B$5:$C$5,$E$3,$E$4,$E$5,B706)","v":1.4950444936924032},5.6632605426980973,{"$f":"ThreePosition_Basic2($E$3,$E$5,$B$3:$C$3,$B$5:$C$5,B706,C706)","v":-3.5929654214361513},5.7211465091258376,-2.5689032437217496,3.6103559215868297,{"$f":"ThreePosition_Basic2($E$3,$E$5,$B$3:$C$3,$B$5:$C$5,B706,D706)","v":-3.5397185667480273},-0.10838005061128651,-1.6254934987358916,-6.1456979964371863,null,{"$f":"Burmester($B$3:$C$3,$B$4:$C$4,$B$6:$C$6,$E$3,$E$4,$E$6,B706)","v":2.430884185107351},5.3997422429155382,{"$f":"ThreePosition_Basic2($E$3,$E$6,$B$3:$C$3,$B$6:$C$6,B706,N706)","v":-3.4228044618474205},5.1802878570747835,-2.2046467155449525,2.7294078504617625,{"$f":"ThreePosition_Basic2($E$3,$E$6,$B$3:$C$3,$B$6:$C$6,B706,O706)","v":-3.3201857907371615},0.67600571522900099,-1.3727382901478704,-4.7997635223362032]
[346,6.0388392119003802,{"$f":"Burmester($B$3:$C$3,$B$4:$C$4,$B$5:$C$5,$E$3,$E$4,$E$5,B707)","v":1.4925934327155539},5.6822559663034822,{"$f":"ThreePosition_Basic2($E$3,$E$5,$B$3:$C$3,$B$5:$C$5,B707,C707)","v":-3.6096496918530607},5.7760379692942863,-2.5785861319995003,3.6215689550102037,{"$f":"ThreePosition_Basic2($E$3,$E$5,$B$3:$C$3,$B$5:$C$5,B707,D707)","v":-3.5419737686433623},-0.14715775359803884,-1.5828516082241357,-6.4350132260301196,null,{"$f":"Burmester($B$3:$C$3,$B$4:$C$4,$B$6:$C$6,$E$3,$E$4,$E$6,B707)","v":2.4194516198359599},5.4283147514499763,{"$f":"ThreePosition_Basic2($E$3,$E$6,$B$3:$C$3,$B$6:$C$6,B707,N707)","v":-3.4417060778831177},5.246012430875747,-2.2143517747190975,2.7457464649609964,{"$f":"ThreePosition_Basic2($E$3,$E$6,$B$3:$C$3,$B$6:$C$6,B707,O707)","v":-3.3260428116646152},0.63195390710915422,-1.3317163749547511,-5.0787834271539749]
[346.5,6.0475658581603513,{"$f":"Burmester($B$3:$C$3,$B$4:$C$4,$B$5:$C$5,$E$3,$E$4,$E$5,B708)","v":1.4900469570559243},5.7013777270199526,{"$f":"ThreePosition_Basic2($E$3,$E$5,$B$3:$C$3,$B$5:$C$5,B708,C708)","v":-3.6267366442141609},5.8329096400700511,-2.5884221228147184,3.6330996802414801,{"$f":"ThreePosition_Basic2($E$3,$E$5,$B$3:$C$3,$B$5:$C$5,B708,D708)","v":-3.5440573927199921},-0.18688221702161581,-1.5367105336558158,-6.744437153570952,null,{"$f":"Burmester($B$3:$C$3,$B$4:$C$4,$B$6:$C$6,$E$3,$E$4,$E$6,B708)","v":2.4080060513833579},5.4569449086562152,{"$f":"ThreePosition_Basic2($E$3,$E$6,$B$3:$C$3,$B$6:$C$6,B708,N708)","v":-3.4611437883755354},5.3138878285609437,-2.2242386144420125,2.762285109697205,{"$f":"ThreePosition_Basic2($E$3,$E$6,$B$3:$C$3,$B$6:$C$6,B708,O708)","v":-3.3317438988125629},0.58707268829472414,-1.2871321793755488,-5.3765488039952531]
[347,6.0562925044203233,{"$f":"Burmester($B$3:$C$3,$B$4:$C$4,$B$5:$C$5,$E$3,$E$4,$E$5,B709)","v":1.4874022131171183},5.720628919724339,{"$f":"ThreePosition_Basic2($E$3,$E$5,$B$3:$C$3,$B$5:$C$5,B709,C709)","v":-3.6442468886828401},5.8918770059387322,-2.5984166305648877,3.6449614117376461,{"$f":"ThreePosition_Basic2($E$3,$E$5,$B$3:$C$3,$B$5:$C$5,B709,D709)","v":-3.5459604646552876},-0.22759367081906995,-1.4866735645608395,-7.0762521402352405,null,{"$f":"Burmester($B$3:$C$3,$B$4:$C$4,$B$6:$C$6,$E$3,$E$4,$E$6,B709)","v":2.3965407196205568},5.485639850657523,{"$f":"ThreePosition_Basic2($E$3,$E$6,$B$3:$C$3,$B$6:$C$6,B709,N709)","v":-3.4811446023714669},5.3840495633286025,-2.2343132939914243,2.7790392889348277,{"$f":"ThreePosition_Basic2($E$3,$E$6,$B$3:$C$3,$B$6:$C$6,B709,O709)","v":-3.3372803389278056},0.54132340115833544,-1.2385793723705167,-5.6951950242424756]
[347.5,6.0650191506802953,{"$f":"Burmester($B$3:$C$3,$B$4:$C$4,$B$5:$C$5,$E$3,$E$4,$E$5,B710)","v":1.4846561814417349},5.7400128055869057,{"$f":"ThreePosition_Basic2($E$3,$E$5,$B$3:$C$3,$B$5:$C$5,B710,C710)","v":-3.6622026126382692},5.9530650713961144,-2.6085753587150418,3.6571682923212059,{"$f":"ThreePosition_Basic2($E$3,$E$5,$B$3:$C$3,$B$5:$C$5,B710,D710)","v":-3.547673443146143},-0.26933499073009709,-1.4322810780934701,-7.4331040796279639,null,{"$f":"Burmester($B$3:$C$3,$B$4:$C$4,$B$6:$C$6,$E$3,$E$4,$E$6,B710)","v":2.3850488034650654},5.5144067754805706,{"$f":"ThreePosition_Basic2($E$3,$E$6,$B$3:$C$3,$B$6:$C$6,B710,N710)","v":-3.5017376653579371},5.4566441138614481,-2.2445821941555701,2.7960250980849879,{"$f":"ThreePosition_Basic2($E$3,$E$6,$B$3:$C$3,$B$6:$C$6,B710,O710)","v":-3.3426428237525942},0.49466534881336693,-1.1855871515489858,-6.0371966378859927]
[348,6.0737457969402664,{"$f":"Burmester($B$3:$C$3,$B$4:$C$4,$B$5:$C$5,$E$3,$E$4,$E$5,B711)","v":1.4818056641202131},5.759532824630571,{"$f":"ThreePosition_Basic2($E$3,$E$5,$B$3:$C$3,$B$5:$C$5,B711,C711)","v":-3.6806277441769475},6.0166093847880244,-2.6189043218116974,3.6697353619637729,{"$f":"ThreePosition_Basic2($E$3,$E$5,$B$3:$C$3,$B$5:$C$5,B711,D711)","v":-3.5491861725409763},-0.31215193599996366,-1.372997473694122,-7.8180780208519858,null,{"$f":"Burmester($B$3:$C$3,$B$4:$C$4,$B$6:$C$6,$E$3,$E$4,$E$6,B711)","v":2.3735233958936162},5.5432529679692069,{"$f":"ThreePosition_Basic2($E$3,$E$6,$B$3:$C$3,$B$6:$C$6,B711,N711)","v":-3.5229544807718547},5.5318301408613806,-2.2550520404102308,2.8132592952559454,{"$f":"ThreePosition_Basic2($E$3,$E$6,$B$3:$C$3,$B$6:$C$6,B711,O711)","v":-3.3478214045026329},0.44705560363346397,-1.1276068585666597,-6.4054379643971728]
[348.5,6.0824724432002393,{"$f":"Burmester($B$3:$C$3,$B$4:$C$4,$B$5:$C$5,$E$3,$E$4,$E$5,B712)","v":1.4788472709397096},5.7791926095489021,{"$f":"ThreePosition_Basic2($E$3,$E$5,$B$3:$C$3,$B$5:$C$5,B712,C712)","v":-3.6995481370455159},6.0826571991869702,-2.629409869699348,3.6826786338526967,{"$f":"ThreePosition_Basic2($E$3,$E$5,$B$3:$C$3,$B$5:$C$5,B712,D712)","v":-3.5504878303433745},-0.35609341428827307,-1.3081947031491965,-8.2347935084268062,null,{"$f":"Burmester($B$3:$C$3,$B$4:$C$4,$B$6:$C$6,$E$3,$E$4,$E$6,B712)","v":2.3619574781988302},5.5721858254511316,{"$f":"ThreePosition_Basic2($E$3,$E$6,$B$3:$C$3,$B$6:$C$6,B712,N712)","v":-3.5448291610179781},5.609779866061432,-2.265729928330722,2.8307593781697107,{"$f":"ThreePosition_Basic2($E$3,$E$6,$B$3:$C$3,$B$6:$C$6,B712,O712)","v":-3.3528054415589374},0.39844879671594435,-1.0639951070717748,-6.8033020845997951]
[349,6.0911990894602104,{"$f":"Burmester($B$3:$C$3,$B$4:$C$4,$B$5:$C$5,$E$3,$E$4,$E$5,B713)","v":1.4757774041161462},5.7989960009396997,{"$f":"ThreePosition_Basic2($E$3,$E$5,$B$3:$C$3,$B$5:$C$5,B713,C713)","v":-3.7189917804181309},6.1513687924130149,-2.6400987142154828,3.6960151786881723,{"$f":"ThreePosition_Basic2($E$3,$E$5,$B$3:$C$3,$B$5:$C$5,B713,D713)","v":-3.5515668688967974},-0.40121177758238913,-1.2371313132029482,-8.6875259112242293,null,{"$f":"Burmester($B$3:$C$3,$B$4:$C$4,$B$6:$C$6,$E$3,$E$4,$E$6,B713)","v":2.3503438932296881},5.6012128844175022,{"$f":"ThreePosition_Basic2($E$3,$E$6,$B$3:$C$3,$B$6:$C$6,B713,N713)","v":-3.5673987127204452},5.6906806403459056,-2.2766233515069878,2.8485436673222178,{"$f":"ThreePosition_Basic2($E$3,$E$6,$B$3:$C$3,$B$6:$C$6,B713,O713)","v":-3.3575835487818},0.34879688557639443,-0.99399231402743471,-7.234784087545906]
[349.5,6.0999257357201815,{"$f":"Burmester($B$3:$C$3,$B$4:$C$4,$B$5:$C$5,$E$3,$E$4,$E$5,B714)","v":1.4725922414289367},5.8189470641347025,{"$f":"ThreePosition_Basic2($E$3,$E$5,$B$3:$C$3,$B$5:$C$5,B714,C714)","v":-3.7389890375751769},6.2229189725090084,-2.6509779586819873,3.70976321830587,{"$f":"ThreePosition_Basic2($E$3,$E$5,$B$3:$C$3,$B$5:$C$5,B714,D714)","v":-3.5524109504477552},-0.44756315354424653,-1.1589255054255059,-9.1813624017732138,null,{"$f":"Burmester($B$3:$C$3,$B$4:$C$4,$B$6:$C$6,$E$3,$E$4,$E$6,B714)","v":2.3386753173368118},5.6303418484944388,{"$f":"ThreePosition_Basic2($E$3,$E$6,$B$3:$C$3,$B$6:$C$6,B714,N714)","v":-3.5907033618332522},5.7747367326886918,-2.2877402322691571,2.8666313963737013,{"$f":"ThreePosition_Basic2($E$3,$E$6,$B$3:$C$3,$B$6:$C$6,B714,O714)","v":-3.3621435317625474},0.29804889695022724,-0.91669510275985466,-7.704636656276346]
[350,6.1086523819801526,{"$f":"Burmester($B$3:$C$3,$B$4:$C$4,$B$5:$C$5,$E$3,$E$4,$E$5,B715)","v":1.469287717550162},5.8390501078335388,{"$f":"ThreePosition_Basic2($E$3,$E$5,$B$3:$C$3,$B$5:$C$5,B715,C715)","v":-3.7595729183240163},6.2974988001074008,-2.6620551305599669,3.7239422298943481,{"$f":"ThreePosition_Basic2($E$3,$E$5,$B$3:$C$3,$B$5:$C$5,B715,D715)","v":-3.5530068746521302},-0.49520781747030307,-1.072520120002495,-9.722404711559669,null,{"$f":"Burmester($B$3:$C$3,$B$4:$C$4,$B$6:$C$6,$E$3,$E$4,$E$6,B715)","v":2.3269442307191355},5.6595806180097128,{"$f":"ThreePosition_Basic2($E$3,$E$6,$B$3:$C$3,$B$6:$C$6,B715,N715)","v":-3.6147869253332203},5.8621713778265949,-2.2990889555767637,2.8850428108871262,{"$f":"ThreePosition_Basic2($E$3,$E$6,$B$3:$C$3,$B$6:$C$6,B715,O715)","v":-3.3664723192196631},0.24615064108758988,-0.83102043350199883,-8.2185593096300344]
[350.5,6.1173790282401255,{"$f":"Burmester($B$3:$C$3,$B$4:$C$4,$B$5:$C$5,$E$3,$E$4,$E$5,B716)","v":1.4658595033271116},5.8593097047830396,{"$f":"ThreePosition_Basic2($E$3,$E$5,$B$3:$C$3,$B$5:$C$5,B716,C716)","v":-3.7807793909629654},6.3753175654124705,-2.6733382176935052,3.7385730622835927,{"$f":"ThreePosition_Basic2($E$3,$E$5,$B$3:$C$3,$B$5:$C$5,B716,D716)","v":-3.5533404974300509},-0.54421061094464063,-0.97663656880326855,-10.31803589314938,null,{"$f":"Burmester($B$3:$C$3,$B$4:$C$4,$B$6:$C$6,$E$3,$E$4,$E$6,B716)","v":2.3151428858372536},5.6889373214892718,{"$f":"ThreePosition_Basic2($E$3,$E$6,$B$3:$C$3,$B$6:$C$6,B716,N716)","v":-3.6396972375657839},5.9532291282074494,-2.3106784064788228,2.9037992766906853,{"$f":"ThreePosition_Basic2($E$3,$E$6,$B$3:$C$3,$B$6:$C$6,B716,O716)","v":-3.3705558866167586},0.19304439334245427,-0.7356584144645546,-8.7834473820783465]
[351,6.1261056745000966,{"$f":"Burmester($B$3:$C$3,$B$4:$C$4,$B$5:$C$5,$E$3,$E$4,$E$5,B717)","v":1.462302982738193},5.8797307147818403,{"$f":"ThreePosition_Basic2($E$3,$E$5,$B$3:$C$3,$B$5:$C$5,B717,C717)","v":-3.8026477407714077},6.4566050652657054,-2.6848357086371433,3.753678066027589,{"$f":"ThreePosition_Basic2($E$3,$E$5,$B$3:$C$3,$B$5:$C$5,B717,D717)","v":-3.553396639884582},-0.59464141434722906,-0.86971342114300443,-10.977275977696157,null,{"$f":"Burmester($B$3:$C$3,$B$4:$C$4,$B$6:$C$6,$E$3,$E$4,$E$6,B717)","v":2.3032632735201695},5.7184203494567774,{"$f":"ThreePosition_Basic2($E$3,$E$6,$B$3:$C$3,$B$6:$C$6,B717,N717)","v":-3.6654866409732145},6.0481785651568369,-2.3225180116157857,2.9229233993297457,{"$f":"ThreePosition_Basic2($E$3,$E$6,$B$3:$C$3,$B$6:$C$6,B717,O717)","v":-3.3743791709265256},0.13866853815633301,-0.62900939237891951,-9.4077239707236533]
[351.5,6.1348323207600677,{"$f":"Burmester($B$3:$C$3,$B$4:$C$4,$B$5:$C$5,$E$3,$E$4,$E$5,B718)","v":1.4586132271958141},5.9003183103366945,{"$f":"ThreePosition_Basic2($E$3,$E$5,$B$3:$C$3,$B$5:$C$5,B718,C718)","v":-3.8252209834708579},6.5416142353518518,-2.6965566376445462,3.7692812392988517,{"$f":"ThreePosition_Basic2($E$3,$E$5,$B$3:$C$3,$B$5:$C$5,B718,D718)","v":-3.5531589857696808},-0.64657568168677737,-0.7498233238815355,-11.711263128148913,null,{"$f":"Burmester($B$3:$C$3,$B$4:$C$4,$B$6:$C$6,$E$3,$E$4,$E$6,B718)","v":2.2912970863443545},5.7480383909572144,{"$f":"ThreePosition_Basic2($E$3,$E$6,$B$3:$C$3,$B$6:$C$6,B718,N718)","v":-3.6922125529907017},6.1473154358706115,-2.334617785309983,2.9424391563013943,{"$f":"ThreePosition_Basic2($E$3,$E$6,$B$3:$C$3,$B$6:$C$6,B718,O718)","v":-3.3779259752812854},8.295716969486451E-2,-0.50909885051950887,-10.10178900950172]
[352,6.1435589670200397,{"$f":"Burmester($B$3:$C$3,$B$4:$C$4,$B$5:$C$5,$E$3,$E$4,$E$5,B719)","v":1.4547849668144066},5.9210780053522445,{"$f":"ThreePosition_Basic2($E$3,$E$5,$B$3:$C$3,$B$5:$C$5,B719,C719)","v":-3.8485463439199878},6.6306242045412818,-2.7085106349948891,3.7854083919672021,{"$f":"ThreePosition_Basic2($E$3,$E$5,$B$3:$C$3,$B$5:$C$5,B719,D719)","v":-3.5526099657151979},-0.70009504781275267,-0.61455877851467378,-12.533915187968653,null,{"$f":"Burmester($B$3:$C$3,$B$4:$C$4,$B$6:$C$6,$E$3,$E$4,$E$6,B719)","v":2.2792356788059345},5.777800473283583,{"$f":"ThreePosition_Basic2($E$3,$E$6,$B$3:$C$3,$B$6:$C$6,B719,N719)","v":-3.7199381234556044},6.2509662973812121,-2.3469883808811192,2.9623720440383265,{"$f":"ThreePosition_Basic2($E$3,$E$6,$B$3:$C$3,$B$6:$C$6,B719,O719)","v":-3.3811788620316836},2.5839642380781028E-2,-0.37346040640538725,-10.878636710068193]
[352.5,{"$f":"A720*PI()/180","v":6.1522856132800117},{"$f":"Burmester($B$3:$C$3,$B$4:$C$4,$B$5:$C$5,$E$3,$E$4,$E$5,B720)","v":1.4508125581951332},5.9420156873027086,{"$f":"ThreePosition_Basic2($E$3,$E$5,$B$3:$C$3,$B$5:$C$5,B720,C720)","v":-3.8726758125807419},6.7239438533125169,-2.7207079834526269,3.8020873306627432,{"$f":"ThreePosition_Basic2($E$3,$E$5,$B$3:$C$3,$B$5:$C$5,B720,D720)","v":-3.5517306260797166},-0.75528801999445028,-0.46087224357342915,-13.462855804233655,null,{"$f":"Burmester($B$3:$C$3,$B$4:$C$4,$B$6:$C$6,$E$3,$E$4,$E$6,B720)","v":2.2670700237357182},5.8077160054569417,{"$f":"ThreePosition_Basic2($E$3,$E$6,$B$3:$C$3,$B$6:$C$6,B720,N720)","v":-3.7487330000825101},6.3594927668795629,-2.3596411479310255,2.9827492419389507,{"$f":"ThreePosition_Basic2($E$3,$E$6,$B$3:$C$3,$B$6:$C$6,B720,O720)","v":-3.3841190324700432},-3.2759936662401387E-2,-0.21897202412140748,-11.754719935856675]
[353,6.1610122595399828,{"$f":"Burmester($B$3:$C$3,$B$4:$C$4,$B$5:$C$5,$E$3,$E$4,$E$5,B721)","v":1.4466899481983764},5.9631376534143676,{"$f":"ThreePosition_Basic2($E$3,$E$5,$B$3:$C$3,$B$5:$C$5,B721,C721)","v":-3.8976667951542563},6.8219159770257951,-2.7331596818002533,3.8193480681413989,{"$f":"ThreePosition_Basic2($E$3,$E$5,$B$3:$C$3,$B$5:$C$5,B721,D721)","v":-3.550500479888723},-0.81225076822105635,-0.28484772713615047,-14.520737405141771,null,{"$f":"Burmester($B$3:$C$3,$B$4:$C$4,$B$6:$C$6,$E$3,$E$4,$E$6,B721)","v":2.2547906643203861},5.8377948260963706,{"$f":"ThreePosition_Basic2($E$3,$E$6,$B$3:$C$3,$B$6:$C$6,B721,N721)","v":-3.7786742235982089},6.4732965007737642,-2.372588196470959,3.0035997961396608,{"$f":"ThreePosition_Basic2($E$3,$E$6,$B$3:$C$3,$B$6:$C$6,B721,O721)","v":-3.3867261911552795},-9.2923282735367055E-2,-4.1622050752744499E-2,-12.751184970015172]
[353.5,6.1697389057999548,{"$f":"Burmester($B$3:$C$3,$B$4:$C$4,$B$5:$C$5,$E$3,$E$4,$E$5,B722)","v":1.442410633077696},5.9844506514851261,{"$f":"ThreePosition_Basic2($E$3,$E$5,$B$3:$C$3,$B$5:$C$5,B722,C722)","v":-3.9235828744088215},6.9249221786820545,-2.7458775165587248,3.8372230609029625,{"$f":"ThreePosition_Basic2($E$3,$E$5,$B$3:$C$3,$B$5:$C$5,B722,D722)","v":-3.5488973368105343},-0.87108803149150249,-8.1366982239039043E-2,-15.737174713592466,null,{"$f":"Burmester($B$3:$C$3,$B$4:$C$4,$B$6:$C$6,$E$3,$E$4,$E$6,B722)","v":2.2423876609878217},5.8680472564207991,{"$f":"ThreePosition_Basic2($E$3,$E$6,$B$3:$C$3,$B$6:$C$6,B722,N722)","v":-3.8098472792566209},6.5928250540608202,-2.3858424689204236,3.0249548262093877,{"$f":"ThreePosition_Basic2($E$3,$E$6,$B$3:$C$3,$B$6:$C$6,B722,O722)","v":-3.3889783923865897},-0.15473858756052991,0.16383270734567734,-13.895676112570552]
[354,6.1784655520599268,{"$f":"Burmester($B$3:$C$3,$B$4:$C$4,$B$5:$C$5,$E$3,$E$4,$E$5,B723)","v":1.4379676122300593},6.0059619260863029,{"$f":"ThreePosition_Basic2($E$3,$E$5,$B$3:$C$3,$B$5:$C$5,B723,C723)","v":-3.9504947078409378},7.0333886462499038,-2.7588741432235708,3.8557474797849189,{"$f":"ThreePosition_Basic2($E$3,$E$5,$B$3:$C$3,$B$5:$C$5,B723,D723)","v":-3.5468971084971548},-0.93191416096898372,0.15639117297675975,-17.151644931124967,null,{"$f":"Burmester($B$3:$C$3,$B$4:$C$4,$B$6:$C$6,$E$3,$E$4,$E$6,B723)","v":2.229850532286016},5.8984841592531518,{"$f":"ThreePosition_Basic2($E$3,$E$6,$B$3:$C$3,$B$6:$C$6,B723,N723)","v":-3.8423473379982815},6.7185788088956295,-2.3994178211952821,3.046847758536944,{"$f":"ThreePosition_Basic2($E$3,$E$6,$B$3:$C$3,$B$6:$C$6,B723,O723)","v":-3.3908518658982225},-0.21830126569479108,0.40437984173650454,-15.225042497538494]
[354.5,6.1871921983198979,{"$f":"Burmester($B$3:$C$3,$B$4:$C$4,$B$5:$C$5,$E$3,$E$4,$E$5,B724)","v":1.4333533356715427},6.0276792710374485,{"$f":"ThreePosition_Basic2($E$3,$E$5,$B$3:$C$3,$B$5:$C$5,B724,C724)","v":-3.9784810907400709},7.1477930087676054,-2.7721631786069474,3.8749595192074784,{"$f":"ThreePosition_Basic2($E$3,$E$5,$B$3:$C$3,$B$5:$C$5,B724,D724)","v":-3.5444735848409863},-0.9948543253653237,0.43772459922945561,-18.817969730754303,null,{"$f":"Burmester($B$3:$C$3,$B$4:$C$4,$B$6:$C$6,$E$3,$E$4,$E$6,B724)","v":2.2171681887273738},5.9291170050549429,{"$f":"ThreePosition_Basic2($E$3,$E$6,$B$3:$C$3,$B$6:$C$6,B724,N724)","v":-3.8762807289347943},6.8511192092535529,-2.4133291143326954,3.0693145909040127,{"$f":"ThreePosition_Basic2($E$3,$E$6,$B$3:$C$3,$B$6:$C$6,B724,O724)","v":-3.392320818261922},-0.28371480966234475,0.68954390393531018,-16.789521257381768]
[355,6.1959188445798699,{"$f":"Burmester($B$3:$C$3,$B$4:$C$4,$B$5:$C$5,$E$3,$E$4,$E$5,B725)","v":1.4285596441683261},6.0496110892243387,{"$f":"ThreePosition_Basic2($E$3,$E$5,$B$3:$C$3,$B$5:$C$5,B725,C725)","v":-4.0076302218964344},7.2686725160745862,-2.7857593061995249,3.8949007519243199,{"$f":"ThreePosition_Basic2($E$3,$E$5,$B$3:$C$3,$B$5:$C$5,B725,D725)","v":-3.5415981757304977},-1.0600459095436203,0.77564578314455579,-20.811486304719267,null,{"$f":"Burmester($B$3:$C$3,$B$4:$C$4,$B$6:$C$6,$E$3,$E$4,$E$6,B725)","v":2.2043288583767504},5.9599579462128718,{"$f":"ThreePosition_Basic2($E$3,$E$6,$B$3:$C$3,$B$6:$C$6,B725,N725)","v":-3.9117666957414352},6.9910786008337062,-2.427592318381965,3.0923941936256831,{"$f":"ThreePosition_Basic2($E$3,$E$6,$B$3:$C$3,$B$6:$C$6,B725,O725)","v":-3.3933572057627108},-0.35109177353786442,1.0326544599080769,-18.659430461432144]
[355.5,6.204645490839841,{"$f":"Burmester($B$3:$C$3,$B$4:$C$4,$B$5:$C$5,$E$3,$E$4,$E$5,B726)","v":1.4235777007303054},6.0717664610527615,{"$f":"ThreePosition_Basic2($E$3,$E$5,$B$3:$C$3,$B$5:$C$5,B726,C726)","v":-4.0380412191880728},7.3966338531119353,-2.7996783968679124,3.9156165376022707,{"$f":"ThreePosition_Basic2($E$3,$E$5,$B$3:$C$3,$B$5:$C$5,B726,D726)","v":-3.5382396116692099},-1.1276401444148656,1.1889450263677905,-23.240998927206295,null,{"$f":"Burmester($B$3:$C$3,$B$4:$C$4,$B$6:$C$6,$E$3,$E$4,$E$6,B726)","v":2.1913200027223709},5.991019901038185,{"$f":"ThreePosition_Basic2($E$3,$E$6,$B$3:$C$3,$B$6:$C$6,B726,N726)","v":-3.9489395037793025},7.1391720567050445,-2.4422246306368844,3.1161286537397554,{"$f":"ThreePosition_Basic2($E$3,$E$6,$B$3:$C$3,$B$6:$C$6,B726,O726)","v":-3.393930473614243},-0.42055490898421805,1.4529594568851349,-20.936323852638559]
[356,6.2133721370998138,{"$f":"Burmester($B$3:$C$3,$B$4:$C$4,$B$5:$C$5,$E$3,$E$4,$E$5,B727)","v":1.4183979118970904},6.0941552231083529,{"$f":"ThreePosition_Basic2($E$3,$E$5,$B$3:$C$3,$B$5:$C$5,B727,C727)","v":-4.0698259454260715},7.5323649866863853,-2.8139376477058384,3.9371564953948552,{"$f":"ThreePosition_Basic2($E$3,$E$5,$B$3:$C$3,$B$5:$C$5,B727,D727)","v":-3.5343635950810857},-1.1978040151977387,1.705800952892619,-26.26969394570807,null,{"$f":"Burmester($B$3:$C$3,$B$4:$C$4,$B$6:$C$6,$E$3,$E$4,$E$6,B727)","v":2.1781282210720132},6.0223166492363625,{"$f":"ThreePosition_Basic2($E$3,$E$6,$B$3:$C$3,$B$6:$C$6,B727,N727)","v":-3.9879509835201641},7.2962116764204827,-2.4572446107147954,3.1405636700940907,{"$f":"ThreePosition_Basic2($E$3,$E$6,$B$3:$C$3,$B$6:$C$6,B727,O727)","v":-3.3940072552581335},-0.49223848311447754,1.9793235405391632,-23.772511426261577]
[356.5,6.2220987833597849,{"$f":"Burmester($B$3:$C$3,$B$4:$C$4,$B$5:$C$5,$E$3,$E$4,$E$5,B728)","v":1.4130098368976156},6.1167880589411618,{"$f":"ThreePosition_Basic2($E$3,$E$5,$B$3:$C$3,$B$5:$C$5,B728,C728)","v":-4.1031112222691766},7.6766495580336915,-2.8285557424897325,3.9595750529994183,{"$f":"ThreePosition_Basic2($E$3,$E$5,$B$3:$C$3,$B$5:$C$5,B728,D728)","v":-3.5299323921618533},-1.2707225066054031,2.3704856380362416,-30.153981578117701,null,{"$f":"Burmester($B$3:$C$3,$B$4:$C$4,$B$6:$C$6,$E$3,$E$4,$E$6,B728)","v":2.1647391413463657},6.0538629409750895,{"$f":"ThreePosition_Basic2($E$3,$E$6,$B$3:$C$3,$B$6:$C$6,B728,N728)","v":-4.0289736207661138},7.4631239889119509,-2.4726723355227964,3.165749008893207,{"$f":"ThreePosition_Basic2($E$3,$E$6,$B$3:$C$3,$B$6:$C$6,B728,O728)","v":-3.3935510240757756},-0.56628981432603853,2.6570962588612508,-27.407311650991581]
[357,6.2308254296197561,{"$f":"Burmester($B$3:$C$3,$B$4:$C$4,$B$5:$C$5,$E$3,$E$4,$E$5,B729)","v":1.4074020823234106},6.1396766043349578,{"$f":"ThreePosition_Basic2($E$3,$E$5,$B$3:$C$3,$B$5:$C$5,B729,C729)","v":-4.1380415333648468},7.8303844892507799,-2.843553037990886,3.9829320876438721,{"$f":"ThreePosition_Basic2($E$3,$E$5,$B$3:$C$3,$B$5:$C$5,B729,D729)","v":-3.5249043526108879},-1.3466012583244409,3.2567747299544778,-35.321179048458063,null,{"$f":"Burmester($B$3:$C$3,$B$4:$C$4,$B$6:$C$6,$E$3,$E$4,$E$6,B729)","v":2.1511372946760234},6.0856746221440332,{"$f":"ThreePosition_Basic2($E$3,$E$6,$B$3:$C$3,$B$6:$C$6,B729,N729)","v":-4.072204337591109},7.6409712809273254,-2.4885295778238254,3.1917390314232463,{"$f":"ThreePosition_Basic2($E$3,$E$6,$B$3:$C$3,$B$6:$C$6,B729,O729)","v":-3.3925216880489302},-0.64287107088154427,3.5618483341162772,-32.239555523042853]
[357.5,6.2395520758797289,{"$f":"Burmester($B$3:$C$3,$B$4:$C$4,$B$5:$C$5,$E$3,$E$4,$E$5,B730)","v":1.4015621793933839},6.162833569983305,{"$f":"ThreePosition_Basic2($E$3,$E$5,$B$3:$C$3,$B$5:$C$5,B730,C730)","v":-4.1747823494592451},7.9946016811869383,-2.8589517814206884,4.0072936782369322,{"$f":"ThreePosition_Basic2($E$3,$E$5,$B$3:$C$3,$B$5:$C$5,B730,D730)","v":-3.5192333413136239},-1.4256697233696092,4.4974495222085018,-42.540412825827637,null,{"$f":"Burmester($B$3:$C$3,$B$4:$C$4,$B$6:$C$6,$E$3,$E$4,$E$6,B730)","v":2.1373059706200923},6.1177687789883013,{"$f":"ThreePosition_Basic2($E$3,$E$6,$B$3:$C$3,$B$6:$C$6,B730,N730)","v":-4.11786915325479},7.830977932460895,-2.5048400129647086,3.2185933084117933,{"$f":"ThreePosition_Basic2($E$3,$E$6,$B$3:$C$3,$B$6:$C$6,B730,O730)","v":-3.3908751156127308},-0.72216138806609753,4.8295912693539922,-38.987094932603014]
[358,6.2482787221397,{"$f":"Burmester($B$3:$C$3,$B$4:$C$4,$B$5:$C$5,$E$3,$E$4,$E$5,B731)","v":1.3954764401651829},6.1862728852173685,{"$f":"ThreePosition_Basic2($E$3,$E$5,$B$3:$C$3,$B$5:$C$5,B731,C731)","v":-4.2135242514233644},8.1704949672208027,-2.8747763656046059,4.0327329928103,{"$f":"ThreePosition_Basic2($E$3,$E$5,$B$3:$C$3,$B$5:$C$5,B731,D731)","v":-3.5128680617756518},-1.5081849470628712,6.3580518436998474,-53.349873226752273,null,{"$f":"Burmester($B$3:$C$3,$B$4:$C$4,$B$6:$C$6,$E$3,$E$4,$E$6,B731)","v":2.1232270490745528},6.1501639060473803,{"$f":"ThreePosition_Basic2($E$3,$E$6,$B$3:$C$3,$B$6:$C$6,B731,N731)","v":-4.1662289764592568},8.0345631967895432,-2.5216294594108533,3.2463773389801043,{"$f":"ThreePosition_Basic2($E$3,$E$6,$B$3:$C$3,$B$6:$C$6,B731,O731)","v":-3.3885625779957582},-0.80435937403574886,6.7323260808327028,-49.085572755393187]
[358.5,6.2570053683996711,{"$f":"Burmester($B$3:$C$3,$B$4:$C$4,$B$5:$C$5,$E$3,$E$4,$E$5,B732)","v":1.3891297881111322},6.210009867367444,{"$f":"ThreePosition_Basic2($E$3,$E$5,$B$3:$C$3,$B$5:$C$5,B732,C732)","v":-4.2544880869415165},8.3594538846734316,-2.8910536301950573,4.0593313417603287,{"$f":"ThreePosition_Basic2($E$3,$E$5,$B$3:$C$3,$B$5:$C$5,B732,D732)","v":-3.5057512454874624},-1.5944361176486732,9.4581482599073148,-71.338576610381253,null,{"$f":"Burmester($B$3:$C$3,$B$4:$C$4,$B$6:$C$6,$E$3,$E$4,$E$6,B732)","v":2.108880803975719},6.1828801022941766,{"$f":"ThreePosition_Basic2($E$3,$E$6,$B$3:$C$3,$B$6:$C$6,B732,N732)","v":-4.2175868664741571},8.253382356988725,-2.5389261601219739,3.2751633966570806,{"$f":"ThreePosition_Basic2($E$3,$E$6,$B$3:$C$3,$B$6:$C$6,B732,O732)","v":-3.3855300895084746},-0.88968609308155477,9.9046890443124962,-65.884731806082229]
[359,6.2657320146596422,{"$f":"Burmester($B$3:$C$3,$B$4:$C$4,$B$5:$C$5,$E$3,$E$4,$E$5,B733)","v":1.3825055572503346},6.2340614225665272,{"$f":"ThreePosition_Basic2($E$3,$E$5,$B$3:$C$3,$B$5:$C$5,B733,C733)","v":-4.2979314804321849},8.5631063830036798,-2.9078132194822035,4.0871794357908744,{"$f":"ThreePosition_Basic2($E$3,$E$5,$B$3:$C$3,$B$5:$C$5,B733,D733)","v":-3.4978186739131911},-1.684750083959305,15.656386024058897,-107.2734111999724,null,{"$f":"Burmester($B$3:$C$3,$B$4:$C$4,$B$6:$C$6,$E$3,$E$4,$E$6,B733)","v":2.0942456726575625},6.215939301615232,{"$f":"ThreePosition_Basic2($E$3,$E$6,$B$3:$C$3,$B$6:$C$6,B733,N733)","v":-4.2722972216766166},8.4893788855035996,-2.5567611136039017,3.305031530790794,{"$f":"ThreePosition_Basic2($E$3,$E$6,$B$3:$C$3,$B$6:$C$6,B733,O733)","v":-3.3817176222243899},-0.97838863949947208,16.250533868540344,-99.433648253157642]
[359.5,6.2744586609196151,{"$f":"Burmester($B$3:$C$3,$B$4:$C$4,$B$5:$C$5,$E$3,$E$4,$E$5,B734)","v":1.3755852524069963},6.2584462854259133,{"$f":"ThreePosition_Basic2($E$3,$E$5,$B$3:$C$3,$B$5:$C$5,B734,C734)","v":-4.34415713489848},8.7833733806877561,-2.9250880103419474,4.1163788986164702,{"$f":"ThreePosition_Basic2($E$3,$E$5,$B$3:$C$3,$B$5:$C$5,B734,D734)","v":-3.488997989716673},-1.7794980954425195,34.245882644617048,-214.98845053176368,null,{"$f":"Burmester($B$3:$C$3,$B$4:$C$4,$B$6:$C$6,$E$3,$E$4,$E$6,B734)","v":2.0792979830922049},6.2493655454028145,{"$f":"ThreePosition_Basic2($E$3,$E$6,$B$3:$C$3,$B$6:$C$6,B734,N734)","v":-4.3307775264112065},8.7448512233065738,-2.5751684658256826,3.3360707593913697,{"$f":"ThreePosition_Basic2($E$3,$E$6,$B$3:$C$3,$B$6:$C$6,B734,O734)","v":-3.3770581648506286},-1.0707444477292229,35.28900494757734,-199.97735967290345]
[360,6.2831853071795862,{"$f":"Burmester($B$3:$C$3,$B$4:$C$4,$B$5:$C$5,$E$3,$E$4,$E$5,B735)","v":1.3683482609981226},6.2831853071795853,{"$f":"ThreePosition_Basic2($E$3,$E$5,$B$3:$C$3,$B$5:$C$5,B735,C735)","v":-4.3935235362426077},9.0225392270709968,-2.9429146278537734,4.147044099479877,{"$f":"ThreePosition_Basic2($E$3,$E$5,$B$3:$C$3,$B$5:$C$5,B735,D735)","v":-4.0622551569654419},-3.7884855824068446,45131175827407.797,-5008780755520167,null,{"$f":"Burmester($B$3:$C$3,$B$4:$C$4,$B$6:$C$6,$E$3,$E$4,$E$6,B735)","v":2.0640116290927297},6.2831853071795853,{"$f":"ThreePosition_Basic2($E$3,$E$6,$B$3:$C$3,$B$6:$C$6,B735,N735)","v":-4.3935235362426024},9.0225392270710074,-2.5941859773005165,3.3683804996420648,{"$f":"ThreePosition_Basic2($E$3,$E$6,$B$3:$C$3,$B$6:$C$6,B735,O735)","v":-2.6998421477931198},-0.53878647383028333,-376504155654992.94,-4241693945216753]