{"text_format":"1","workbook":"xlsx","n_sheets":3,"sheets":["Synthesis","Analysis","Sheet1"],"not_rendered":{"charts":4,"images":6,"macros":1,"external_links":0,"defined_names":35,"comments":0,"pivot_tables":0},"unopened":[],"bounds":{"document_bytes":16777216,"sheet_cells":100000,"rows_first":2000,"rows_last":500,"rows_between":2000,"halvings":0,"cell_chars":16384,"cell_head_chars":4096},"cells_cut":0,"cells_raw":0,"read":"whole","date_system":"1900"}

{"sheet":"Synthesis","index":0,"n_rows":40,"n_cols":32,"rows_kept":40,"cut":false,"hidden":false,"merged":[]}
["a1",0,{"$f":"+B1*D_R","v":0},"d1",null,null,0,0,null,null,null,null,null,null,null,{"$f":"PI()/180","v":1.7453292519943295E-2},null,null,null,null,null,null,4]
["a2",-14.523,{"$f":"+B2*D_R","v":-0.25347416726713645},"d2",-3.1181999999999999,0.32250000000000001,20,0,null,null,null,null,null,null,null,null,null,null,null,null,null,null,null,"Pos1",null,null,0,0]
["a3",-21.87,{"$f":"+B3*D_R","v":-0.38170350741115988},"d3",-8.6372999999999998,-0.93779999999999997,40,0,null,null,"c0","c1","c2","c3",null,null,null,null,null,null,null,null,null,0,{"$f":"W1","v":4},"-Z",{"$f":"N10","v":-11.727061193620166},{"$f":"O10","v":-9.3485066744216532},{"$f":"SQRT((AA3-AA4)^2+(AB3-AB4)^2)","v":12.000490256007552},null,{"$f":"AA6","v":7.1930005094471703},{"$f":"AB6","v":0.63809043893496309}]
["a4",-18.945,{"$f":"+B4*D_R","v":-0.33065262679032575},"d4",-14.505599999999999,-2.8353999999999999,60,0,null,null,{"$f":"Fivepos(E2:F2,E3:F3,E4:F4,E5:F5,C2,C3,C4,C5)","v":-1.622745160353517E-8},-2.29475551835376E-3,-7.8255178318749424E-2,5.6190278487186579E-2,null,null,null,null,null,null,null,null,null,{"$f":"G1","v":0},{"$f":"H1","v":0},"R",{"$f":"P10","v":-20.919052949699285},{"$f":"Q10","v":-17.063365969360589},null,null,{"$f":"AA39","v":-12.18657355738052},{"$f":"AB39","v":-5.3855900968026198}]
["a5",-7.0970000000000004,{"$f":"+B5*D_R","v":-0.12386601701403757},"d5",-19.403300000000002,-5.1300999999999997,80,0,null,null,"t1","t2","t3","t4",null,null,null,null,null,null,null,null,null,{"$f":"+W1","v":4},0,null,0,0]
[null,null,null,null,null,null,null,null,null,null,{"$f":"quartic(1,N4,M4,L4,K4)","v":0.26789572981548415},-7.0732444749366241E-6,-2.9024423537191424E-2,-0.29505451152100437,null,null,null,null,null,null,null,null,null,null,null,"-Z",{"$f":"N22","v":7.1930005094471703},{"$f":"O22","v":0.63809043893496309},{"$f":"SQRT((AA6-AA7)^2+(AB6-AB7)^2)","v":60.732887621937344}]
[null,null,null,null,null,null,null,null,null,null,null,null,null,null,null,null,null,null,null,null,null,null,null,null,null,"R",{"$f":"P22","v":-20.270047563733826},{"$f":"Q22","v":54.806943384414808}]
[]
[null,null,null,null,null,null,null,null,null,null,"b41","b42",null,"-Z",null,"R",null,null,null,null,null,"a2R",{"$f":"Basic.mag(($AA$4-X14),($AB$4-Y14))","v":24.882497889910258},null,null,null,{"$f":"X14","v":-3.1181999999999999},{"$f":"Y14","v":0.32250000000000001}]
[null,80,2.7,4.9000000000000004,null,null,null,"b21",{"$f":"ATAN2((1-K6^2),2*K6)","v":0.52349901166603718},null,{"$f":"Burmester($E$2:$F$2,$E$3:$F$3,$E$4:$F$4,$C$2,$C$3,$C$4,I10)","v":1.5706431023875478},5.9741487615868296,null,{"$f":"ThreePosition_Basic2(C2,C4,E2:F2,E4:F4,I10,K10)","v":-11.727061193620166},-9.3485066744216532,-20.919052949699285,-17.063365969360589,null,"aZ",{"$f":"Basic.mag(AA3,AB3)","v":14.997284463549335},null,"FR",{"$f":"ATAN2(($AA$4-X14),($AB$4-Y14))","v":-2.3679877961278262},null,null,null,{"$f":"AA9+$T$10*COS(W10-W11)","v":-16.814859181643421},{"$f":"AB9+$T$10*SIN(W10-W11)","v":-5.7865153496714425},{"$f":"SQRT((AA10-AA11)^2+(AB10-AB11)^2)","v":12.000490256007547}]
[null,55,2.8,4.5999999999999996,null,null,null,null,{"$f":"I10/D_R","v":29.994283947733777},null,{"$f":"K10/D_R","v":89.991220888140518},{"$f":"L10/D_R","v":342.29351022223278},null,{"$f":"ThreePosition_Basic2(C2,C4,E2:F2,E4:F4,I10,L10)","v":-13.420854914031981},31.660952502545388,-15.790918680359308,42.798115923177299,null,"aR",{"$f":"Basic.mag(AA4,AB4)","v":26.995652140977359},null,"h",{"$f":"angcos(W9,$T$10,$T$12)","v":0.35406371396925862},null,null,null,{"$f":"AA4","v":-20.919052949699285},{"$f":"AB4","v":-17.063365969360589}]
[null,0,2.9,4.4000000000000004,null,null,null,null,null,null,null,null,null,{"$f":"CRotate_Trans($G$1:$H$1,N10:O10,$C$1)","v":-11.727061193620166},-9.3485066744216532,{"$f":"CRotate_Trans($G$1:$H$1,P10:Q10,$C$1)","v":-20.919052949699285},-17.063365969360589,null,"aRZ",{"$f":"Basic.mag((AA4-AA3),(AB4-AB3))","v":12.000490256007552},null,null,{"$f":"C2","v":-0.25347416726713645},"Pos2"]
[null,-35,3,4.2,null,null,null,null,null,null,null,null,null,{"$f":"CRotate_Trans($G$1:$H$1,N11:O11,$C$1)","v":-13.420854914031981},31.660952502545388,{"$f":"CRotate_Trans($G$1:$H$1,P11:Q11,$C$1)","v":-15.790918680359308},42.798115923177299,null,null,null,null,"a2R",{"$f":"Basic.mag(($AA$7-X14),($AB$7-Y14))","v":57.120403060194391},{"$f":"X14+$W$1*COS(W12+PI()/2)","v":-2.1151255070325208},{"$f":"Y14+$W$1*SIN(W12+PI()/2)","v":4.1946882136019727},null,{"$f":"X14","v":-3.1181999999999999},{"$f":"Y14","v":0.32250000000000001}]
[null,-60,3,4,null,null,null,null,null,null,null,null,null,null,null,null,null,null,null,null,null,"FR",{"$f":"ATAN2(($AA$7-X14),($AB$7-Y14))","v":1.8757776123989143},{"$f":"E2","v":-3.1181999999999999},{"$f":"F2","v":0.32250000000000001},null,{"$f":"AA13+T15*COS(W14-W15)","v":4.0049760091541042},{"$f":"AB13+T15*SIN(W14-W15)","v":-0.86357726551809155},{"$f":"SQRT((AA14-AA15)^2+(AB14-AB15)^2)","v":60.732887621937337}]
[null,null,null,null,null,null,null,"b22",{"$f":"ATAN2((1-L6^2),2*L6)","v":-1.4146488949637329E-5},null,{"$f":"Burmester($E$2:$F$2,$E$3:$F$3,$E$4:$F$4,$C$2,$C$3,$C$4,I15)","v":6.2831369193975606},5.9819304034838341,null,{"$f":"ThreePosition_Basic2(C2,C4,E2:F2,E4:F4,I15,K15)","v":8.0474084796464496},-6.3707186570958898,-105460.48912209927,351522.84791510971,null,"aZ",{"$f":"Basic.mag(AA6,AB6)","v":7.2212475194503245},null,"h",{"$f":"angcos(W13,$T$15,$T$17)","v":2.0407734748876458},{"$f":"X14+$W$1*COS(W12)","v":0.75398821360197266},{"$f":"Y14+$W$1*SIN(W12)","v":-0.68057449296747952},null,{"$f":"AA7","v":-20.270047563733826},{"$f":"AB7","v":54.806943384414808}]
[null,null,null,null,null,null,null,null,{"$f":"I15/D_R","v":-8.1053411174267589E-4},null,{"$f":"K15/D_R","v":359.99722758430994},{"$f":"L15/D_R","v":342.73936546061333},null,{"$f":"ThreePosition_Basic2(C2,C4,E2:F2,E4:F4,I15,L15)","v":-0.29245422556800593},12.395456806238673,-16.76503474864391,45.165874008077978,null,"aR",{"$f":"Basic.mag(AA7,AB7)","v":58.435227999713334}]
[null,null,null,null,2.5074399999999999,4.1969799999999999,null,null,null,null,null,{"$f":"L16-360","v":-17.260634539386672},null,{"$f":"CRotate_Trans($G$1:$H$1,N15:O15,$C$1)","v":8.0474084796464496},-6.3707186570958898,{"$f":"CRotate_Trans($G$1:$H$1,P15:Q15,$C$1)","v":-105460.48912209927},351522.84791510971,null,"aRZ",{"$f":"Basic.mag((AA7-AA6),(AB7-AB6))","v":60.732887621937344},null,"a2R",{"$f":"Basic.mag(($AA$4-X22),($AB$4-Y22))","v":20.270060023336079}]
[null,null,null,null,2.7918799999999999,4.19651,null,null,null,null,null,null,null,{"$f":"CRotate_Trans($G$1:$H$1,N16:O16,$C$1)","v":-0.29245422556800593},12.395456806238673,{"$f":"CRotate_Trans($G$1:$H$1,P16:Q16,$C$1)","v":-16.76503474864391},45.165874008077978,null,null,null,null,"FR",{"$f":"ATAN2(($AA$4-X22),($AB$4-Y22))","v":-2.2217006770562446},null,null,{"$f":"W18/D_R","v":-127.2940721366803},{"$f":"X22","v":-8.6372999999999998},{"$f":"Y22","v":-0.93779999999999997}]
[null,null,null,null,3.2034199999999999,4.6501200000000003,null,"b23",{"$f":"ATAN2((1-M6^2),2*M6)","v":-5.8032554860164745E-2},null,{"$f":"Burmester($E$2:$F$2,$E$3:$F$3,$E$4:$F$4,$C$2,$C$3,$C$4,I19)","v":6.04951617948152},6.02589134044171,null,{"$f":"ThreePosition_Basic2(C2,C4,E2:F2,E4:F4,I19,K19)","v":8.1234535593515602},-1.2311110064597035,-22.579446570709713,61.437981278495521,null,"aZ",{"$f":"Basic.mag(N19,O19)","v":8.2162115382436287},null,"h",{"$f":"angcos(W17,$T$10,$T$12)","v":0.62858017318486414},null,null,{"$f":"W19/D_R","v":36.014991009095077},{"$f":"AA18+$T$10*COS(W18-W19)","v":-23.002717945411582},{"$f":"AB18+$T$10*SIN(W18-W19)","v":-5.2451551669516476},{"$f":"SQRT((AA19-AA20)^2+(AB19-AB20)^2)","v":12.000490256007549}]
[null,null,null,null,2.6121599999999998,4.6637000000000004,null,null,{"$f":"I19/D_R","v":-3.3250204678488533},null,{"$f":"K19/D_R","v":346.61174518039729},{"$f":"L19/D_R","v":345.25814161174031},null,{"$f":"ThreePosition_Basic2(C2,C4,E2:F2,E4:F4,I19,L19)","v":7.1930005094471703},0.63809043893496309,-20.270047563733826,54.806943384414808,null,"aR",{"$f":"Basic.mag(P19,Q19)","v":65.45576331398405},null,null,{"$f":"C3","v":-0.38170350741115988},"Pos3",null,null,{"$f":"AA4","v":-20.919052949699285},{"$f":"AB4","v":-17.063365969360589}]
[null,null,null,null,null,null,null,null,{"$f":"360+I20","v":356.67497953215116},null,{"$f":"K20-360","v":-13.388254819602707},{"$f":"L20-360","v":-14.741858388259686},null,{"$f":"CRotate_Trans($G$1:$H$1,N19:O19,$C$1)","v":8.1234535593515602},-1.2311110064597035,{"$f":"CRotate_Trans($G$1:$H$1,P19:Q19,$C$1)","v":-22.579446570709713},61.437981278495521,null,"aRZ",{"$f":"Basic.mag((P19-N19),(Q19-O19))","v":69.785981430490409},null,"a2R",{"$f":"Basic.mag(($AA$7-X22),($AB$7-Y22))","v":56.945563750619009},{"$f":"X22+$W$1*COS(W20+PI()/2)","v":-7.1472923298273923},{"$f":"Y22+$W$1*SIN(W20+PI()/2)","v":2.7743256906019225}]
[null,null,null,null,{"$f":"Basic.mag((E17-E18),(F17-F18))","v":0.28444038830658352},null,null,null,null,null,null,null,null,{"$f":"CRotate_Trans($G$1:$H$1,N20:O20,$C$1)","v":7.1930005094471703},0.63809043893496309,{"$f":"CRotate_Trans($G$1:$H$1,P20:Q20,$C$1)","v":-20.270047563733826},54.806943384414808,null,null,null,null,"FR",{"$f":"ATAN2(($AA$7-X22),($AB$7-Y22))","v":1.7765228135121127},{"$f":"E3","v":-8.6372999999999998},{"$f":"F3","v":-0.93779999999999997},null,{"$f":"X22","v":-8.6372999999999998},{"$f":"Y22","v":-0.93779999999999997}]
[null,null,null,null,{"$f":"Basic.mag((E18-E19),(F18-F19))","v":0.61247628827571787},null,null,"b24",{"$f":"ATAN2((1-N6^2),2*N6)","v":-0.57382699244165347},null,{"$f":"Burmester($E$2:$F$2,$E$3:$F$3,$E$4:$F$4,$C$2,$C$3,$C$4,I23)","v":5.9563189932139267},4.4991240654648355,null,{"$f":"ThreePosition_Basic2(C2,C4,E2:F2,E4:F4,I23,K23)","v":-33.791304027391654},60.725920765398342,-15.578392510199528,41.802612116607264,null,null,null,null,"h",{"$f":"angcos(W21,$T$15,$T$17)","v":2.0697480161448603},{"$f":"X22+$W$1*COS(W20)","v":-4.9251743093980771},{"$f":"Y22+$W$1*SIN(W20)","v":-2.4278076701726072},null,{"$f":"AA22+T15*COS(W22-W23)","v":-1.724279592022862},{"$f":"AB22+T15*SIN(W22-W23)","v":-3.025038504833379},{"$f":"SQRT((AA23-AA24)^2+(AB23-AB24)^2)","v":60.732887621937344}]
[null,null,null,null,{"$f":"Basic.mag((E19-E20),(F19-F20))","v":0.5914159314729357},null,null,null,{"$f":"I23/D_R","v":-32.877864837592135},null,{"$f":"K23/D_R","v":341.27193974476961},{"$f":"L23/D_R","v":257.78082045687574},null,{"$f":"ThreePosition_Basic2(C2,C4,E2:F2,E4:F4,I23,L23)","v":23.797693117736539},9.4048745551813564,12.961970043587312,9.0080750735113391,null,"aZ",{"$f":"Basic.mag(N24,O24)","v":25.588705772755738},null,null,null,null,null,null,{"$f":"AA15","v":-20.270047563733826},{"$f":"AB15","v":54.806943384414808}]
[null,null,null,null,null,null,null,null,{"$f":"360+I24","v":327.12213516240786},null,{"$f":"K24-360","v":-18.728060255230389},null,null,{"$f":"CRotate_Trans($G$1:$H$1,N23:O23,$C$1)","v":-33.791304027391654},60.725920765398342,{"$f":"CRotate_Trans($G$1:$H$1,P23:Q23,$C$1)","v":-15.578392510199528},41.802612116607264,null,"aR",{"$f":"Basic.mag(P24,Q24)","v":15.78474212462374},null,"a2R",{"$f":"Basic.mag(($AA$4-X30),($AB$4-Y30))","v":15.606645839618757}]
[null,null,null,null,null,null,null,null,null,null,null,null,null,{"$f":"CRotate_Trans($G$1:$H$1,N24:O24,$C$1)","v":23.797693117736539},9.4048745551813564,{"$f":"CRotate_Trans($G$1:$H$1,P24:Q24,$C$1)","v":12.961970043587312},9.0080750735113391,null,"aRZ",{"$f":"Basic.mag((P24-N24),(Q24-O24))","v":10.842985952601044},null,"FR",{"$f":"ATAN2(($AA$4-X30),($AB$4-Y30))","v":-1.994285303147195},{"$f":"W26/D_R","v":-114.26413101530223},null,null,{"$f":"X30","v":-14.505599999999999},{"$f":"Y30","v":-2.8353999999999999}]
[null,null,null,null,null,null,null,null,null,null,null,null,null,null,null,null,null,null,null,null,null,"h",{"$f":"angcos(W25,$T$10,$T$12)","v":0.80494466647307961},{"$f":"W27/D_R","v":46.11993213047316},null,null,{"$f":"AA26+$T$10*COS(W26-W27)","v":-28.63250371659089},{"$f":"AB26+$T$10*SIN(W26-W27)","v":-7.8701922164463438},{"$f":"SQRT((AA27-AA28)^2+(AB27-AB28)^2)","v":12.000490256007545}]
[null,null,null,null,null,null,null,null,null,null,null,null,null,null,null,null,null,null,null,null,null,null,{"$f":"C4","v":-0.33065262679032575},"Pos4",null,null,{"$f":"AA20","v":-20.919052949699285},{"$f":"AB20","v":-17.063365969360589}]
[null,null,null,null,null,null,null,null,null,null,null,null,null,"R",-0.19256000000000029,-0.70302000000000042,null,null,null,null,null,"a2R",{"$f":"Basic.mag(($AA$7-X30),($AB$7-Y30))","v":57.929859369429046},{"$f":"X30+$W$1*COS(W28+PI()/2)","v":-13.206958512317085},{"$f":"Y30+$W$1*SIN(W28+PI()/2)","v":0.94792265164745215}]
[null,null,null,null,null,null,null,null,null,null,null,null,null,"-Z",-8.1199999999999051E-3,-0.40348999999999968,null,null,null,null,null,"FR",{"$f":"ATAN2(($AA$7-X30),($AB$7-Y30))","v":1.6704686417685517},{"$f":"E4","v":-14.505599999999999},{"$f":"F4","v":-2.8353999999999999},null,{"$f":"X30","v":-14.505599999999999},{"$f":"Y30","v":-2.8353999999999999}]
[null,null,null,null,null,null,null,null,null,null,null,null,null,"-Z",0.30342000000000002,0.2501199999999999,null,null,null,null,null,"h",{"$f":"angcos(W29,$T$15,$T$17)","v":1.9126429637804589},{"$f":"X30+$W$1*COS(W28)","v":-10.722277348352547},{"$f":"Y30+$W$1*SIN(W28)","v":-4.1340414876829144},null,{"$f":"AA30+T15*COS(W30-W31)","v":-7.4950768806004975},{"$f":"AB30+T15*SIN(W30-W31)","v":-4.5671567177674097},{"$f":"SQRT((AA31-AA32)^2+(AB31-AB32)^2)","v":60.732887621937344}]
[null,null,null,null,null,null,null,null,null,null,null,null,null,"R",-0.38784000000000018,0.46370000000000022,null,null,null,null,null,null,null,null,null,null,{"$f":"AA24","v":-20.270047563733826},{"$f":"AB24","v":54.806943384414808}]
[null,null,null,null,null,null,null,null,null,null,null,null,null,null,null,null,null,null,null,null,null,"a2R",{"$f":"Basic.mag(($AA$4-X38),($AB$4-Y38))","v":12.029145593101019}]
[null,null,null,null,null,null,null,null,null,null,null,null,null,null,null,null,null,null,null,null,null,"FR",{"$f":"ATAN2(($AA$4-X38),($AB$4-Y38))","v":-1.6971388820386677},null,null,null,{"$f":"X38","v":-19.403300000000002},{"$f":"Y38","v":-5.1300999999999997}]
[null,null,null,null,null,null,null,null,null,null,null,null,null,null,null,null,null,null,null,null,null,"h",{"$f":"angcos(W33,$T$10,$T$12)","v":0.89530447780534261},null,null,null,{"$f":"AA34+$T$10*COS(W34-W35)","v":-32.195516734161814},{"$f":"AB34+$T$10*SIN(W34-W35)","v":-12.958109472838462},{"$f":"SQRT((AA35-AA36)^2+(AB35-AB36)^2)","v":12.000490256007549}]
[null,null,null,null,null,null,null,null,null,null,null,null,null,null,null,null,null,null,null,null,null,null,{"$f":"C5","v":-0.12386601701403757},"Pos5",null,null,{"$f":"AA28","v":-20.919052949699285},{"$f":"AB28","v":-17.063365969360589}]
[null,null,null,null,null,null,null,null,null,null,null,null,null,null,null,null,null,null,null,null,null,"a2R",{"$f":"Basic.mag(($AA$7-X38),($AB$7-Y38))","v":59.943310060460135},{"$f":"X38+$W$1*COS(W36+PI()/2)","v":-18.909101927230722},{"$f":"Y38+$W$1*SIN(W36+PI()/2)","v":-1.160746366866372}]
[null,null,null,null,null,null,null,null,null,null,null,null,null,null,null,null,null,null,null,null,null,"FR",{"$f":"ATAN2(($AA$7-X38),($AB$7-Y38))","v":1.5852562851849439},{"$f":"E5","v":-19.403300000000002},{"$f":"F5","v":-5.1300999999999997},null,{"$f":"X38","v":-19.403300000000002},{"$f":"Y38","v":-5.1300999999999997}]
[null,null,null,null,null,null,null,null,null,null,null,null,null,null,null,null,null,null,null,null,null,"h",{"$f":"angcos(W37,$T$15,$T$17)","v":1.620643997422921},{"$f":"X38+$W$1*COS(W36)","v":-15.433946366866374},{"$f":"Y38+$W$1*SIN(W36)","v":-5.6242980727692791},null,{"$f":"AA38+T15*COS(W38-W39)","v":-12.18657355738052},{"$f":"AB38+T15*SIN(W38-W39)","v":-5.3855900968026198},{"$f":"SQRT((AA39-AA40)^2+(AB39-AB40)^2)","v":60.732887621937344}]
[null,null,null,null,null,null,null,null,null,null,null,null,null,null,null,null,null,null,null,null,null,null,null,null,null,null,{"$f":"AA32","v":-20.270047563733826},{"$f":"AB32","v":54.806943384414808}]

{"sheet":"Analysis","index":1,"n_rows":46,"n_cols":16,"rows_kept":46,"cut":false,"hidden":false,"merged":[]}
[null,0,0,null,null,null,null,null,null,null,null,null,null,null,null,{"$f":"PI()/180","v":1.7453292519943295E-2}]
["-Z1",{"$f":"Synthesis!AA6","v":7.1930005094471703},{"$f":"Synthesis!AB6","v":0.63809043893496309},"b3",{"$f":"Basic.mag(B2,C2)","v":7.2212475194503245},null,"a1",{"$f":"Basic.mag((B6-B3),(C6-C3))","v":71.873239627822457},"a1",{"$f":"ATAN2((B3-B6),(C3-C6))","v":1.5617663427638515},{"$f":"J2/D_R","v":89.482620025950581},null,{"$f":"Synthesis!X3","v":0},4]
["R1",{"$f":"Synthesis!AA7","v":-20.270047563733826},{"$f":"Synthesis!AB7","v":54.806943384414808},null,null,null,"a2",{"$f":"Basic.mag((B5-B6),(C5-C6))","v":12.000490256007552},"q120",{"$f":"ATAN2((B5-B6),(C5-C6))","v":0.69825058620634617},{"$f":"J3/D_R","v":40.006811632159291},null,{"$f":"Synthesis!X4","v":0},{"$f":"Synthesis!Y4","v":0}]
[null,0,0,null,null,null,"a4",{"$f":"Basic.mag((B2-B3),(C2-C3))","v":60.732887621937344},"q130",{"$f":"ATAN2((B2-B5),(C2-C5))","v":0.48566380310954171},{"$f":"J4/D_R","v":27.826486180449326},null,4,{"$f":"Synthesis!Y5","v":0}]
["-Z2",{"$f":"Synthesis!AA3","v":-11.727061193620166},{"$f":"Synthesis!AB3","v":-9.3485066744216532},"c3",{"$f":"Basic.mag(B5,C5)","v":14.997284463549335},null,"a3",{"$f":"Basic.mag((B2-B5),(C2-C5))","v":21.393944394439703},"q3",{"$f":"ATAN2(B5,C5)","v":-2.4685773428299491},{"$f":"J5/D_R","v":-141.43906314577541}]
["R2",{"$f":"Synthesis!AA4","v":-20.919052949699285},{"$f":"Synthesis!AB4","v":-17.063365969360589},null,null,null,null,null,"b3",{"$f":"PI()-J5+J4","v":6.0958337995292844},null,null,{"$f":"Synthesis!X13","v":-2.1151255070325208},{"$f":"Synthesis!Y13","v":4.1946882136019727}]
["-Z1",{"$f":"B2","v":7.1930005094471703},{"$f":"C2","v":0.63809043893496309},null,null,"q140",{"$f":"ATAN2((B2-B3),(C2-C3))","v":-1.1015726415902769},{"$f":"G7/D_R","v":-63.11546319020016},null,{"$f":"J4/D_R","v":27.826486180449326},{"$f":"360-128","v":232},null,{"$f":"Synthesis!X14","v":-3.1181999999999999},{"$f":"Synthesis!Y14","v":0.32250000000000001}]
["-Z2",{"$f":"B5","v":-11.727061193620166},{"$f":"C5","v":-9.3485066744216532},null,{"$f":"B6-B3","v":-0.64900538596545942},{"$f":"C6-C3","v":-71.870309353775397},null,{"$f":"360+H7","v":296.88453680979984},null,{"$f":"J5/D_R","v":-141.43906314577541},null,null,{"$f":"Synthesis!X15","v":0.75398821360197266},{"$f":"Synthesis!Y15","v":-0.68057449296747952}]
[null,null,null,null,null,null,null,{"$f":"H8-J7","v":269.05805062935053},null,{"$f":"J6/D_R","v":349.26554932622474}]
[null,null,null,null,null,null,null,null,null,{"$f":"J2/D_R","v":89.482620025950581},null,null,{"$f":"Synthesis!X21","v":-7.1472923298273923},{"$f":"Synthesis!Y21","v":2.7743256906019225}]
["q12","sx","sy","s","f","y","m",null,null,{"$f":"J3/D_R","v":40.006811632159291},null,null,{"$f":"Synthesis!X22","v":-8.6372999999999998},{"$f":"Synthesis!Y22","v":-0.93779999999999997}]
[{"$f":"J11+A13","v":117.0068116321593},{"$f":"B6-B3+H3*COS(A12*D_R)","v":-6.0983850999339726},{"$f":"C6-C3+H3*SIN(A12*D_R)","v":-61.178442018388154},{"$f":"Basic.mag(C12,B12)","v":61.481640093806682},{"$f":"ATAN2(B12,C12)","v":-1.6701500473751021},{"$f":"angcos(D12,H4,H5)","v":0.35170676958795521},{"$f":"angcos(H4,H5,D12)","v":1.4294083434046052},null,"A0",{"$f":"B6","v":-20.919052949699285},{"$f":"C6","v":-17.063365969360589},null,{"$f":"Synthesis!X23","v":-4.9251743093980771},{"$f":"Synthesis!Y23","v":-2.4278076701726072}]
[77,null,"q13","q14",null,null,null,null,"A",{"$f":"J12+H3*COS(A12*D_R)","v":-26.368432663667797},{"$f":"K12+H3*SIN(A12*D_R)","v":-6.3714986339733493}]
[null,null,{"$f":"D14+G12","v":0.11096506561745834},{"$f":"E12+F12","v":-1.3184432777871469},{"$f":"E12/D_R","v":-95.692548868167847},{"$f":"F12/D_R","v":20.151313523569929},null,null,"B",{"$f":"J21+H4*COS(D14)","v":-5.1060676198369279},{"$f":"K21+H4*SIN(D14)","v":-4.0023870926443834},null,{"$f":"Synthesis!X29","v":-13.206958512317085},{"$f":"Synthesis!Y29","v":0.94792265164745215}]
[null,null,{"$f":"C14+2*PI()","v":6.3941503727970446},{"$f":"D14/D_R","v":-75.541235344597908},null,null,null,null,"P",{"$f":"J13+E5*COS(C14-J6)","v":-12.0335389345354},{"$f":"K13+E5*SIN(C14-J6)","v":-1.9636235160623503},null,{"$f":"Synthesis!X30","v":-14.505599999999999},{"$f":"Synthesis!Y30","v":-2.8353999999999999}]
[null,null,{"$f":"C15/D_R","v":366.35782993327257},null,null,null,null,null,"A",{"$f":"J13","v":-26.368432663667797},{"$f":"K13","v":-6.3714986339733493},null,{"$f":"Synthesis!X31","v":-10.722277348352547},{"$f":"Synthesis!Y31","v":-4.1340414876829144}]
[]
[null,null,null,null,null,null,null,null,"P",{"$f":"J15","v":-12.0335389345354},{"$f":"K15","v":-1.9636235160623503},null,{"$f":"Synthesis!X37","v":-18.909101927230722},{"$f":"Synthesis!Y37","v":-1.160746366866372}]
[null,null,null,null,null,null,null,null,"Q",{"$f":"J18+4*COS(C14-J6+PI()-J5)","v":-8.3110672390741112},{"$f":"K18+4*SIN(C14-J6+PI()-J5)","v":-3.4275922576991236},null,{"$f":"Synthesis!X38","v":-19.403300000000002},{"$f":"Synthesis!Y38","v":-5.1300999999999997}]
[null,null,null,null,null,null,null,null,"B",{"$f":"J14","v":-5.1060676198369279},{"$f":"K14","v":-4.0023870926443834},null,{"$f":"Synthesis!X39","v":-15.433946366866374},{"$f":"Synthesis!Y39","v":-5.6242980727692791}]
[null,null,null,null,null,null,null,null,"B0",{"$f":"B3","v":-20.270047563733826},{"$f":"C3","v":54.806943384414808}]
[]
[]
[null,{"$f":"B4","v":0},0]
[{"$f":"A5","v":"-Z2"},-11.727061193620166,-9.3485066744216532]
[{"$f":"A6","v":"R2"},-20.919052949699285,-17.063365969360589]
[null,0,0]
[null,{"$f":"Synthesis!N15","v":8.0474084796464496},{"$f":"Synthesis!O15","v":-6.3707186570958898}]
[null,{"$f":"B25","v":-11.727061193620166},{"$f":"C25","v":-9.3485066744216532}]
[]
[null,8.0474084796464496,-6.3707186570958898,null,"q130",0.14198901597482391]
[null,-12.204646697906236,-12.446262250962576,null,{"$f":"PI()-F31+C33-E38","v":2.4719648904412512},{"$f":"E32/D_R","v":141.63315532680264}]
[null,"a1",{"$f":"ATAN2((B31-B32),(C31-C32))","v":0.29145348936664101},{"$f":"C33/D_R","v":16.699054865069545}]
[null,"b1",{"$f":"ATAN2((B28-B26),(C28-C26))","v":0.35362228439703508},{"$f":"C34/D_R","v":20.261064437725015},{"$f":"ATAN2(B28,C28)","v":-0.66962776314854244},{"$f":"E34/D_R","v":-38.366844673197399}]
[null,null,{"$f":"Basic.mag((B31-B26),(C31-C26))","v":30.876991341163013},null,{"$f":"ATAN2((B25-B28),(C25-C28))","v":-2.9921281801979758},{"$f":"E35/D_R","v":-171.43631648750346}]
[null,"C",{"$f":"C35*SIN(C34-C33)","v":1.9183490649763364},null,{"$f":"Basic.mag(B25,C25)","v":14.997284463549335}]
[null,"a2",{"$f":"Basic.mag((B25-B26),(C25-C26))","v":12.000490256007552},"c3",{"$f":"Basic.mag(B28,C28)","v":10.263860845030745}]
[null,"a3",{"$f":"Basic.mag((B28-B29),(C28-C29))","v":19.997421642178523},"b3",{"$f":"angcos(E37,C38,E36)","v":0.81909223654035945},{"$f":"E38/D_R","v":46.930528185693909}]
[]
["q12","q13",null,"S","sx","sy",null,"A0",{"$f":"B26","v":-20.919052949699285},{"$f":"C26","v":-17.063365969360589}]
[{"$f":"+J11+A42","v":106.0068116321593},{"$f":"ASIN((C37*SIN(A41*D_R-C33)-C36)/C38)","v":0.5283722727993565},{"$f":"B41/D_R","v":30.273501243138114},{"$f":"C37*COS(A41*D_R-C33)+C38*COS(B41)","v":17.415334685854955},{"$f":"-C36*SIN(C33)+D41*COS(C33)+B26","v":-4.789398556755792},{"$f":"C26+C36*COS(C33)+D41*SIN(C33)","v":-10.22171452255062},null,"A",{"$f":"C37*COS(A41*D_R)+I40","v":-24.228207744894497},{"$f":"J40+C37*SIN(A41*D_R)","v":-5.528147682480677}]
[66,{"$f":"B41/D_R","v":30.273501243138114},null,null,null,null,null,"B",{"$f":"E41","v":-4.789398556755792},{"$f":"F41","v":-10.22171452255062}]
[null,null,null,null,null,null,null,"P",{"$f":"I42+E37*COS(PI()-B41+C33-E38)","v":-9.8427898316729934},{"$f":"J42+E37*SIN(PI()-B41+C33-E38)","v":-1.2880659919251869}]
[null,null,null,{"$f":"90+D33","v":106.69905486506954},null,null,null,"A",{"$f":"I41","v":-24.228207744894497},{"$f":"J41","v":-5.528147682480677}]
[null,null,null,null,null,null,null,"P",{"$f":"I43","v":-9.8427898316729934},{"$f":"J43","v":-1.2880659919251869}]
[null,null,null,null,null,null,null,"Q",{"$f":"I45+4*COS(PI()-B41+C33-E38-E32)","v":-6.1376776259439172},{"$f":"J45+4*SIN(PI()-B41+C33-E38-E32)","v":-2.7954291011186614}]

{"sheet":"Sheet1","index":2,"n_rows":54,"n_cols":23,"rows_kept":54,"cut":false,"hidden":false,"merged":[]}
[null,null,null,null,null,null,null,null,null,null,null,null,null,"b2",null,"b4"]
[null,null,null,"b2",null,"b4",null,null,null,null,null,null,null,-3.3250204678488533,null,-14.741858388259686]
[null,null,null,-32.877864837592135,null,341.27193974476961]
[null,null,null,null,null,{"$f":"F3-360","v":-18.728060255230389}]
[]
[]
[]
[]
[]
[]
[]
[]
[]
[]
[]
[]
[]
[]
[]
[]
[]
[]
[]
[]
[]
[]
[]
[]
[]
[]
[]
[]
[]
[]
[]
[]
[]
[]
[]
[]
[]
[]
[]
[]
[]
[]
[]
[]
[]
[]
[]
[null,null,null,null,null,null,null,null,null,null,null,null,null,null,null,null,null,null,null,null,"b2",null,"b4"]
[null,null,null,null,"b2",null,"b4",null,null,null,null,null,null,null,null,null,null,null,null,null,0,null,0]
[null,null,null,null,29.994283947733777,null,89.991220888140518]