{"text_format":"1","workbook":"xlsx","n_sheets":3,"sheets":["Sentez","Analiz","Sheet1"],"not_rendered":{"charts":3,"images":4,"macros":1,"external_links":0,"defined_names":35,"comments":0,"pivot_tables":0},"unopened":[],"bounds":{"document_bytes":16777216,"sheet_cells":100000,"rows_first":2000,"rows_last":500,"rows_between":2000,"halvings":0,"cell_chars":16384,"cell_head_chars":4096},"cells_cut":0,"cells_raw":0,"read":"whole","date_system":"1900"}

{"sheet":"Sentez","index":0,"n_rows":32,"n_cols":26,"rows_kept":32,"cut":false,"hidden":false,"merged":[]}
[null,null,null,null,null,null,null,null,null,null,null,null,null,null,null,{"$f":"PI()/180","v":1.7453292519943295E-2}]
[null,"a1",0,{"$f":"+C2*D_R","v":0},"d1",0,0,null,null,null,"Determine the coefficients of the quartic equation using FivePos Function"]
[null,"a2",30,{"$f":"+C3*D_R","v":0.52359877559829882},"d2",-5,105,null,null,null,"c0","c1","c2","c3"]
[null,"a3",0,{"$f":"+C4*D_R","v":0},"d3",40,115,null,null,null,{"$f":"Fivepos(F3:G3,F4:G4,F5:G5,F6:G6,D3,D4,D5,D6)","v":-0.18253571258017898},-2.6106497270263338,-0.64271672290391246,12.112971149865263,null,null,null,null,null,null,null,null,null,null,null,"Example is from the Paper"]
[null,"a4",-50,{"$f":"+C5*D_R","v":-0.87266462599716477},"d4",60,80,null,null,null,"Determine the roots of the quartic equation using Quartic function"]
[null,"a5",-75,{"$f":"+C6*D_R","v":-1.3089969389957472},"d5",15,65,null,null,null,"t1","t2","t3","t4"]
[null,null,null,null,null,null,null,null,null,null,{"$f":"quartic(1,N4,M4,L4,K4)","v":0.51099294553471997},-7.3028853420648909E-2,-0.40264594843402879,-12.148289293545307]
[]
[null,null,null,null,null,null,null,null,null,null,"b41","b42",null,"-Z",null,"R"]
[null,null,null,null,null,null,null,"b21",{"$f":"ATAN2((1-K7^2),2*K7)","v":0.94480648125299571},null,{"$f":"Burmester($F$3:$G$3,$F$4:$G$4,$F$5:$G$5,$D$3,$D$4,$D$5,I10)","v":1.651803926066514},5.5950105487752246,null,{"$f":"ThreePosition_Basic2(D3,D5,F3:G3,F5:G5,I10,K10)","v":-59.798187048465522},-81.988955135925693,-122.0286266183642,4.1129368883868977,null,"aZ",{"$f":"Basic.mag(AA3,AB3)","v":0}]
[null,null,null,null,null,null,null,null,{"$f":"I10/D_R","v":54.133423832402791},null,{"$f":"K10/D_R","v":94.64139354675072},{"$f":"L10/D_R","v":320.57049077599498},null,{"$f":"ThreePosition_Basic2(D3,D5,F3:G3,F5:G5,I10,L10)","v":356.45206200345501},-133.92638319531,68.866149836999,30.560021036500558,null,"aR",{"$f":"Basic.mag(AA4,AB4)","v":0}]
[null,null,null,null,null,null,null,null,null,null,null,null,null,null,null,null,null,null,"aRZ",{"$f":"Basic.mag((AA4-AA3),(AB4-AB3))","v":0}]
[]
[]
[null,null,null,null,null,null,null,"b22",{"$f":"ATAN2((1-L7^2),2*L7)","v":-0.14579888224994511},null,{"$f":"Burmester($F$3:$G$3,$F$4:$G$4,$F$5:$G$5,$D$3,$D$4,$D$5,I15)","v":5.9916179266491065},5.1126246500582821,null,{"$f":"ThreePosition_Basic2(D3,D5,F3:G3,F5:G5,I15,K15)","v":-69.396383309816045},-37.093813515432778,457.37983927214015,-155.8638039787227,null,"aZ",{"$f":"Basic.mag(AA6,AB6)","v":0}]
[null,null,null,null,null,null,null,null,{"$f":"I15/D_R","v":-8.3536606106467062},null,{"$f":"K15/D_R","v":343.29441965191864},{"$f":"L15/D_R","v":292.93181468288901},null,{"$f":"ThreePosition_Basic2(D3,D5,F3:G3,F5:G5,I15,L15)","v":-145.10850834732091},22.819919530567052,57.618206175848201,16.762801435551594,null,"aR",{"$f":"Basic.mag(AA7,AB7)","v":0}]
[null,null,null,null,null,null,null,null,{"$f":"360+I16","v":351.64633938935327},null,null,{"$f":"L16-360","v":-67.068185317110988},null,null,null,null,null,null,"aRZ",{"$f":"Basic.mag((AA7-AA6),(AB7-AB6))","v":0}]
[]
[null,null,null,null,null,null,null,"b23",{"$f":"ATAN2((1-M7^2),2*M7)","v":-0.76557056785499833},null,{"$f":"Burmester($F$3:$G$3,$F$4:$G$4,$F$5:$G$5,$D$3,$D$4,$D$5,I19)","v":5.0836699730437331},4.4142626516817298,null,{"$f":"ThreePosition_Basic2(D3,D5,F3:G3,F5:G5,I19,K19)","v":-43.148542421558773},-30.449239692779791,73.516824066742984,-6.5719758626239404,null,"aZ",{"$f":"Basic.mag(N19,O19)","v":52.810537878092227}]
[null,null,null,null,null,null,null,null,{"$f":"I19/D_R","v":-43.863962457525211},null,{"$f":"K19/D_R","v":291.27283389279086},{"$f":"L19/D_R","v":252.91861960359051},null,{"$f":"ThreePosition_Basic2(D3,D5,F3:G3,F5:G5,I19,L19)","v":-65.465209514699225},2.7752279887358298,25.005233985327166,35.763769380030958,null,"aR",{"$f":"Basic.mag(P19,Q19)","v":73.809987722525406}]
[null,null,null,null,null,null,null,null,{"$f":"360+I20","v":316.13603754247481},null,{"$f":"K20-360","v":-68.727166107209143},{"$f":"L20-360","v":-107.08138039640949},null,null,null,null,null,null,"aRZ",{"$f":"Basic.mag((P19-N19),(Q19-O19))","v":119.08371620782007}]
[]
[null,null,null,null,null,null,null,"b24",{"$f":"ATAN2((1-N7^2),2*N7)","v":-2.9773307617846618},null,{"$f":"Burmester($F$3:$G$3,$F$4:$G$4,$F$5:$G$5,$D$3,$D$4,$D$5,I23)","v":3.9996915844771275},0.96144787874801407,null,{"$f":"ThreePosition_Basic2(D3,D5,F3:G3,F5:G5,I23,K23)","v":-1.0602484016722222},-84.053042060061856,22.287292294808779,-27.717404041446564]
[null,null,null,null,null,null,null,null,{"$f":"I23/D_R","v":-170.58848686473141},null,{"$f":"K23/D_R","v":229.16544714453238},{"$f":"L23/D_R","v":55.086905674066919},null,{"$f":"ThreePosition_Basic2(D3,D5,F3:G3,F5:G5,I23,L23)","v":55.232336957625051},15.552235703006136,50.516879900114525,81.648916418661969,null,"aZ",{"$f":"Basic.mag(N24,O24)","v":57.380162784384751}]
[null,null,null,null,null,null,null,null,{"$f":"360+I24","v":189.41151313526859},null,null,null,null,null,null,null,null,null,"aR",{"$f":"Basic.mag(P24,Q24)","v":96.013023633173034}]
[null,null,null,null,null,null,null,null,null,null,null,null,null,null,null,null,null,null,"aRZ",{"$f":"Basic.mag((P24-N24),(Q24-O24))","v":66.264671861321219}]
[]
[]
[null,null,null,null,null,null,null,null,null,null,null,null,null,"R",-0.19256000000000029,-0.70302000000000042,2.6551101787928295,3.8643098993009528,-2.1877556420264148,5.0850476076680557]
[null,null,null,null,null,null,null,null,null,null,null,null,null,"-Z",-8.1199999999999051E-3,-0.40348999999999968]
[null,null,null,null,null,null,null,null,null,null,null,null,null,"-Z",0.30342000000000002,0.2501199999999999]
[null,null,null,null,null,null,null,null,null,null,null,null,null,"R",-0.38784000000000018,0.46370000000000022]

{"sheet":"Analiz","index":1,"n_rows":21,"n_cols":16,"rows_kept":21,"cut":false,"hidden":false,"merged":[]}
[null,0,0,null,null,null,null,null,null,null,null,null,null,null,null,{"$f":"PI()/180","v":1.7453292519943295E-2}]
["-Z1",{"$f":"Sentez!AA3","v":0},{"$f":"Sentez!AB3","v":0},"b3",{"$f":"Basic.mag(B2,C2)","v":0},null,"a1",{"$f":"Basic.mag((B6-B3),(C6-C3))","v":0},"a1",{"$f":"ATAN2((B3-B6),(C3-C6))","v":{"$error":"#DIV/0!"}},{"$f":"J2/D_R","v":{"$error":"#DIV/0!"}},null,{"$f":"Sentez!X3","v":0},0.5]
["R1",{"$f":"Sentez!AA4","v":0},{"$f":"Sentez!AB4","v":0},null,null,null,"a2",{"$f":"Basic.mag((B5-B6),(C5-C6))","v":0},"q120",{"$f":"ATAN2((B5-B6),(C5-C6))","v":{"$error":"#DIV/0!"}},{"$f":"J3/D_R","v":{"$error":"#DIV/0!"}},null,{"$f":"Sentez!X4","v":0},{"$f":"Sentez!Y4","v":0}]
[null,0,0,null,null,null,"a4",{"$f":"Basic.mag((B2-B3),(C2-C3))","v":0},"q130",{"$f":"ATAN2((B2-B5),(C2-C5))","v":{"$error":"#DIV/0!"}},{"$f":"J4/D_R","v":{"$error":"#DIV/0!"}},null,0.5,{"$f":"Sentez!Y5","v":0}]
["-Z2",{"$f":"Sentez!AA6","v":0},{"$f":"Sentez!AB6","v":0},"c3",{"$f":"Basic.mag(B5,C5)","v":0},null,"a3",{"$f":"Basic.mag((B2-B5),(C2-C5))","v":0},"q3",{"$f":"ATAN2(B5,C5)","v":{"$error":"#DIV/0!"}},{"$f":"J5/D_R","v":{"$error":"#DIV/0!"}}]
["R2",{"$f":"Sentez!AA7","v":0},{"$f":"Sentez!AB7","v":0},null,null,null,null,null,"b3",{"$f":"PI()-J5+J4","v":{"$error":"#DIV/0!"}},null,null,{"$f":"Sentez!X13","v":0},{"$f":"Sentez!Y13","v":0}]
["-Z1",{"$f":"B2","v":0},{"$f":"C2","v":0},null,null,"q140",{"$f":"ATAN2((B2-B3),(C2-C3))","v":{"$error":"#DIV/0!"}},{"$f":"G7/D_R","v":{"$error":"#DIV/0!"}},null,{"$f":"J4/D_R","v":{"$error":"#DIV/0!"}},{"$f":"360-128","v":232},null,{"$f":"Sentez!X14","v":0},{"$f":"Sentez!Y14","v":0}]
["-Z2",{"$f":"B5","v":0},{"$f":"C5","v":0},null,{"$f":"B6-B3","v":0},{"$f":"C6-C3","v":0},null,{"$f":"360+H7","v":{"$error":"#DIV/0!"}},null,{"$f":"J5/D_R","v":{"$error":"#DIV/0!"}},null,null,{"$f":"Sentez!X15","v":0},{"$f":"Sentez!Y15","v":0}]
[null,null,null,null,null,null,null,{"$f":"H8-J7","v":{"$error":"#DIV/0!"}},null,{"$f":"J6/D_R","v":{"$error":"#DIV/0!"}}]
[null,null,null,null,null,null,null,null,null,{"$f":"J2/D_R","v":{"$error":"#DIV/0!"}},null,null,{"$f":"Sentez!X21","v":0},{"$f":"Sentez!Y21","v":0}]
["q12","sx","sy","s","f","y","m",null,null,{"$f":"J3/D_R","v":{"$error":"#DIV/0!"}},null,null,{"$f":"Sentez!X22","v":0},{"$f":"Sentez!Y22","v":0}]
[{"$f":"J11+A13","v":{"$error":"#DIV/0!"}},{"$f":"B6-B3+H3*COS(A12*D_R)","v":{"$error":"#DIV/0!"}},{"$f":"C6-C3+H3*SIN(A12*D_R)","v":{"$error":"#DIV/0!"}},{"$f":"Basic.mag(C12,B12)","v":{"$error":"#VALUE!"}},{"$f":"ATAN2(B12,C12)","v":{"$error":"#DIV/0!"}},{"$f":"angcos(D12,H4,H5)","v":{"$error":"#VALUE!"}},{"$f":"angcos(H4,H5,D12)","v":{"$error":"#VALUE!"}},null,"A0",{"$f":"B6","v":0},{"$f":"C6","v":0},null,{"$f":"Sentez!X23","v":0},{"$f":"Sentez!Y23","v":0}]
[125,null,"q13","q14",null,null,null,null,"A",{"$f":"J12+H3*COS(A12*D_R)","v":{"$error":"#DIV/0!"}},{"$f":"K12+H3*SIN(A12*D_R)","v":{"$error":"#DIV/0!"}}]
[null,null,{"$f":"D14-G12","v":{"$error":"#DIV/0!"}},{"$f":"E12-F12","v":{"$error":"#DIV/0!"}},{"$f":"E12/D_R","v":{"$error":"#DIV/0!"}},null,null,null,"B",{"$f":"J21+H4*COS(D14)","v":{"$error":"#DIV/0!"}},{"$f":"K21+H4*SIN(D14)","v":{"$error":"#DIV/0!"}},null,{"$f":"Sentez!X29","v":0},{"$f":"Sentez!Y29","v":0}]
[null,null,{"$f":"C14+2*PI()","v":{"$error":"#DIV/0!"}},{"$f":"D14/D_R","v":{"$error":"#DIV/0!"}},null,null,null,null,"P",{"$f":"J13+E5*COS(C14-J6)","v":{"$error":"#DIV/0!"}},{"$f":"K13+E5*SIN(C14-J6)","v":{"$error":"#DIV/0!"}},null,{"$f":"Sentez!X30","v":0},{"$f":"Sentez!Y30","v":0}]
[null,null,{"$f":"C15/D_R","v":{"$error":"#DIV/0!"}},null,null,null,null,null,"A",{"$f":"J13","v":{"$error":"#DIV/0!"}},{"$f":"K13","v":{"$error":"#DIV/0!"}},null,{"$f":"Sentez!X31","v":0},{"$f":"Sentez!Y31","v":0}]
[]
[null,null,null,null,null,null,null,null,"P",{"$f":"J15","v":{"$error":"#DIV/0!"}},{"$f":"K15","v":{"$error":"#DIV/0!"}},null,{"$f":"Sentez!X37","v":0},{"$f":"Sentez!Y37","v":0}]
[null,null,null,null,null,null,null,null,"Q",{"$f":"J18+0.5*COS(C14-J6+PI()-J5)","v":{"$error":"#DIV/0!"}},{"$f":"K18+0.5*SIN(C14-J6+PI()-J5)","v":{"$error":"#DIV/0!"}},null,{"$f":"Sentez!X38","v":0},{"$f":"Sentez!Y38","v":0}]
[null,null,null,null,null,null,null,null,"B",{"$f":"J14","v":{"$error":"#DIV/0!"}},{"$f":"K14","v":{"$error":"#DIV/0!"}},null,{"$f":"Sentez!X39","v":0},{"$f":"Sentez!Y39","v":0}]
[null,null,null,null,null,null,null,null,"B0",{"$f":"B3","v":0},{"$f":"C3","v":0}]

{"sheet":"Sheet1","index":2,"n_rows":0,"n_cols":0,"rows_kept":0,"cut":false,"hidden":false,"merged":[]}