{"text_format":"1","workbook":"xlsx","n_sheets":12,"sheets":["opt","FFLogx_X=5PPPPP ","FFLogx_X=5PPPPPv2","FFLogxPPPP","FFLoogxPP-P-PP","FFLoogx4P","FFLoogx4P (2)","FFLoogx5P","FFLoogx5P (2)","FFLoogxPP-PP","FFLoogxP-PPP-P","Results"],"not_rendered":{"charts":12,"images":15,"macros":1,"external_links":0,"defined_names":364,"comments":0,"pivot_tables":0},"unopened":[],"bounds":{"document_bytes":16777216,"sheet_cells":100000,"rows_first":2000,"rows_last":500,"rows_between":2000,"halvings":0,"cell_chars":16384,"cell_head_chars":4096},"cells_cut":0,"cells_raw":0,"read":"whole","date_system":"1900"}

{"sheet":"opt","index":0,"n_rows":117,"n_cols":48,"rows_kept":117,"cut":false,"hidden":false,"merged":[]}
[null,"y=log x","1<x<10"]
[]
[null,"qin",{"$f":"F18","v":46.035632573992693},null,"Dq",90,null,"Rx",{"$f":"F3/9","v":10},{"$f":"LN(2)","v":0.69314718055994529},null,null,null,30]
[null,"fin",{"$f":"F19","v":109.2082374402881},null,"Df",60,null,"Ry",{"$f":"F4","v":60},null,null,null,null,10.909437254690339]
[]
[null,"x","y","q","f",null,null,null,null,null,null,null,null,96.55334768504602]
[null,{"$f":"5.5-4.5*COS(PI()/10)","v":1.2202456766718095},{"$f":"LOG(B7)","v":8.6447277626733182E-2},{"$f":"$C$3+$I$3*(B7-1)","v":48.238089340710786},{"$f":"$C$4+$I$4*C7","v":114.39507409789209},null,{"$f":"D7*D_R","v":0.84191348386658393},1.996570691071099]
[null,{"$f":"5.5-4.5*COS(3*PI()/10)","v":2.8549663646838708},{"$f":"LOG(B8)","v":0.45560099604307863},{"$f":"$C$3+$I$3*(B8-1)","v":64.585296220831395},{"$f":"$C$4+$I$4*C8","v":136.54429720287283},null,1.1272260674293586,2.3831475610118145]
[null,{"$f":"5.5-4.5*COS(5*PI()/10)","v":5.5},0.74036268949424389,{"$f":"$C$3+$I$3*(B9-1)","v":91.0356325739927},153.62999880994272,null,1.5888715250519729,2.6813493090684708]
[null,{"$f":"5.5-4.5*COS(7*PI()/10)","v":8.1450336353161283},0.91089288208860797,117.48596892715398,163.86181036560458,null,2.050516982674587,2.859928109158373]
[null,{"$f":"5.5-4.5*COS(9*PI()/10)","v":9.7797543233281914},0.99032794503677934,133.83317580727461,168.62791414249486,null,2.3358295662373618,2.9431123125568459]
[]
[null,null,{"$f":"COS(H7)","v":-0.41302613389993847},{"$f":"-COS(G7)","v":-0.666036742183718},1,{"$f":"COS(H7-G7)","v":0.4042320955000625}]
[null,null,{"$f":"COS(H8)","v":-0.72590634314616942},{"$f":"-COS(G8)","v":-0.42916694163321173},1,{"$f":"COS(H8-G8)","v":0.30969746067263726}]
[null,null,{"$f":"COS(H9)","v":-0.89594443865643858},{"$f":"-COS(G9)","v":1.8074214040072745E-2},1,{"$f":"COS(H9-G9)","v":0.46028707943223929},null,"Det",{"$f":"MDETERM(C13:F16)","v":9.8283452650885599E-5}]
[null,null,{"$f":"COS(H10)","v":-0.96059410086551866},{"$f":"-COS(G10)","v":0.46153138071124367},1,{"$f":"COS(H10-G10)","v":0.68992482691283852}]
[null,null,{"$f":"COS(H11)","v":-0.98036735569034683},{"$f":"-COS(G11)","v":0.69256097652818394},1,{"$f":"COS(H11-G11)","v":0.82120161622392107},null,null,null,null,null,null,null,null,null,null,null,null,null,null,null,null,null,null,null,null,null,null,null,null,null,null,null,null,null,null,null,null,null,null,null,null,"emax Starting from Smin"]
[null,null,null,null,null,46.035632573992693,null,null,null,null,null,null,null,null,null,null,null,"Obtained from chebyshev spacing",null,null,null,null,null,"Least squares minimization",null,null,null,null,null,null,"minmax"]
[null,null,null,null,null,109.2082374402881,null,{"$f":"C20*C13+C21*D13+C22-F13","v":0},null,null,null,null,null,null,null,null,null,null,null,null,null,null,"S",2.0331523108570504E-5,null,null,null,null,null,null,null,null,null,"S",1.7007528655026295E-3,null,null,null,null,null,"S",2.4341699081016657E-5]
[null,null,{"$f":"MMULT(MINVERSE(C13:E15),F13:F15)","v":0.78218972572389678},null,"a2",1.2843519221707502,null,{"$f":"C20*C14+C21*D14+C22-F14","v":0},null,null,"qin","fin","a2","a3","a4","|emax|",null,49.871975600069121,"emax",1.255922954663357E-2,null,null,"emax",1.7551782684428474E-3,45.971320915991839,null,null,null,null,null,null,50.548779629866154,null,"emax",5.3488814208186852E-3,null,null,null,null,null,"emax",1.2304818833199782E-3,45.858821268387878,null,null,null,null,45.810880923559388]
[null,null,0.63409117531339287,null,"a3",0.70159145625400898,null,{"$f":"C20*C15+C21*D15+C22-F15","v":0},null,null,30,10.909437254690339,6.0425539632172023E-2,1.0749174818239415,0.12926560264134038,"8.19x10-3",null,108.6235941049848,"S",2.0965269869924546E-4,null,null,null,null,109.0551785392353,null,null,null,null,null,null,109.39087333832383,null,null,null,null,null,null,null,null,null,null,109.09026815612283,null,null,null,null,109.20217883901404]
[null,null,1.149624914545234,null,"a4",1.5812796161930103,null,null,null,null,30,96.55334768504602,6.83812781875098,5.2875401741016477,2.609860463707844,"6.8x10-4",null,1.2951402637548179,null,null,null,null,null,null,1.2867279635560447,null,null,null,null,null,null,1.285282554885393,null,null,null,null,null,null,null,null,null,null,1.2871280218045236,null,null,null,null,1.2853040908658238]
[null,null,null,null,null,null,null,{"$f":"MIN(H27:H117)","v":-1.4074495012522449E-3},null,null,null,null,null,null,null,null,null,0.64915422530277878,null,null,null,null,null,null,0.70172338056774619,null,null,null,null,null,null,0.64582645845770814,null,null,null,null,null,null,null,null,null,null,0.70434277194586492,null,null,null,null,0.70569175599341938]
[null,null,{"$f":"C20*C16+C21*D16+C22-F16","v":9.8622698360772976E-4},null,{"$f":"SQRT(C24^2+C25^2)","v":1.2310809943643973E-3},null,null,{"$f":"MAX(H27:H117)","v":1.4067530335856865E-3},{"$f":"SUM(I27:I117)","v":7.4926628064340316E-5},null,null,null,null,null,null,null,null,1.6256085258411426,null,null,null,null,null,null,1.5818134881801995,null,null,null,null,null,null,1.625798755836569,null,null,null,null,null,null,null,null,null,null,1.5814696295965784,null,null,null,null,1.5804863018996576]
[null,null,{"$f":"C20*C17+C21*D17+C22-F17","v":7.3682884816572702E-4},null,null,null,null,{"$f":"MAX(-H23,H24)","v":1.4074495012522449E-3}]
[null,null,null,null,"x","yreq","ygen"]
[{"$f":"C3","v":46.035632573992693},{"$f":"A27*D_R","v":0.80347336165452454},{"$f":"fourbar($F$20,$F$21,$F$22,1,-1,B27)","v":1.9045694359616274},{"$f":"C27/D_R","v":109.12379047021297},{"$f":"1+1/$I$3*(A27-$A$27)","v":1},{"$f":"LOG(E27)","v":0},{"$f":"1/$I$4*(D27-$C$4)","v":-1.4074495012522449E-3},{"$f":"G27-F27","v":-1.4074495012522449E-3},{"$f":"H27^2","v":1.9809140985751926E-6}]
[{"$f":"A27+1","v":47.035632573992693},0.82092665417446786,1.9500739357057721,111.73100625440659,1.1000000000000001,{"$f":"LOG(E28)","v":4.1392685158225077E-2},{"$f":"1/$I$4*(D28-$C$4)","v":4.2046146901974876E-2},{"$f":"G28-F28","v":6.5346174374979887E-4},{"$f":"H28^2","v":4.270122505445278E-7}]
[{"$f":"A28+1","v":48.035632573992693},0.83837994669441118,1.9903706562503141,114.03983826982696,1.2,7.9181246047624818E-2,8.052668049231429E-2,1.3454344446894723E-3,1.8101938449568685E-6]
[49.035632573992693,0.8558332392143545,2.0268376614755317,116.12924376071345,1.3,0.11394335230683679,0.11535010534042248,1.4067530335856865E-3,1.9789540975025314E-6]
[50.035632573992693,0.87328653173429782,2.0603073990309611,118.04691846405007,1.4,0.14612803567823801,0.14731135039603274,1.1833147177947312E-3,1.4002337213496243E-6]
[51.035632573992693,0.89073982425424103,2.0913329279302917,119.82455032714287,1.5,0.17609125905568124,0.1769385481142462,8.4728905856495951E-4,7.1789874876389534E-7]
[52.035632573992693,0.90819311677418435,2.1203065551476952,121.48461688388547,1.6,0.20411998265592479,0.20460632405995605,4.8634140403125414E-4,2.3652796127509158E-7]
[53.035632573992693,0.92564640929412767,2.1475202076854067,123.04384431943183,1.7000000000000002,0.23044892137827397,0.23059344798572876,1.4452660745478685E-4,2.088794026239005E-8]
[54.035632573992693,0.94309970181407099,2.1731991919446463,124.51514173966912,1.8,0.25527250510330607,0.25511507165635028,-1.5743344695579031E-4,2.4785290220381641E-8]
[55.035632573992693,0.9605529943340142,2.1975224581798694,125.90876223892046,1.9,0.27875360095282892,0.27834207997720595,-4.1152097562296985E-4,1.6934951337768095E-7]
[56.035632573992693,0.97800628685395752,2.220635458061297,127.23303958401264,2,0.3010299956639812,0.30041336906207572,-6.1662660190547891E-4,3.8022836617749799E-7]
[57.035632573992693,0.99545957937390084,2.242658675454035,128.49487699191565,2.1,0.3222192947339193,0.32144399252712574,-7.7530220679355999E-4,6.0109351185896406E-7]
[58.035632573992693,1.012912871893844,2.2636934988475819,129.70008359516893,2.2000000000000002,0.34242268082220628,0.34153076924801384,-8.9191157419243883E-4,7.9550625617843435E-7]
[59.035632573992693,1.0303661644137874,2.2838263908127274,130.85361333416461,2.2999999999999998,0.36172783601759284,0.36075626489794177,-9.7157111965107124E-4,9.4395044054003622E-7]
[60.035632573992693,1.0478194569337307,2.3031319274003623,131.95973910187149,2.4000000000000004,0.38021124171160608,0.37919169435972316,-1.0195473518829212E-3,1.0394768027314772E-6]
[61.035632573992693,1.065272749453674,2.3216750647206363,133.02218260925471,2.5,0.3979400086720376,0.39689908614944353,-1.0409225225940788E-3,1.0835196980436205E-6]
[62.035632573992693,1.0827260419736173,2.339512863040893,134.04421316881096,2.6,0.41497334797081797,0.41393292880871424,-1.040419162103734E-3,1.0824720328726358E-6]
[63.035632573992693,1.1001793344935606,2.3566958212978784,135.02872415648571,2.7,0.43136376415898736,0.4303414452699601,-1.0223188890272628E-3,1.0451359108619367E-6]
[64.0356325739927,1.117632627013504,2.3732689261331323,135.97829311697362,2.8000000000000007,0.44715803134221932,0.44616759461142524,-9.9043673079407535E-4,9.8096491770605566E-7]
[65.0356325739927,1.1350859195334473,2.3892724879566485,136.89522966663776,2.9000000000000008,0.46239799789895619,0.46144987043916097,-9.4812745979522273E-4,8.9894568001774173E-7]
[66.0356325739927,1.1525392120533906,2.4047428155584987,137.78161414590852,3.0000000000000009,0.47712125471966255,0.47622294509367363,-8.983096259889134E-4,8.0696018414434146E-7]
[67.0356325739927,1.1699925045733339,2.4197127665423754,138.63932915680238,3.100000000000001,0.49136169383427281,0.49051819527523788,-8.4349855903492754E-4,7.1148981909399917E-7]
[68.0356325739927,1.1874457970932772,2.4342122009908369,139.47008555602582,3.2000000000000006,0.50514997831990605,0.50436413526229529,-7.8584305761075779E-4,6.1754931119502474E-7]
[69.0356325739927,1.2048990896132206,2.4482683588181144,140.2754440756986,3.3000000000000007,0.51851393987788752,0.51778677725684163,-7.271626210458848E-4,5.2876547744632108E-7]
[70.0356325739927,1.2223523821331639,2.4619061762836241,141.0568334582421,3.4000000000000008,0.53147891704225525,0.53080993363256657,-6.6898340968868375E-4,4.4753880243869731E-7]
[71.0356325739927,1.2398056746531072,2.4751485535155116,141.81556578434939,3.5000000000000009,0.54406804435027578,0.54345547240102143,-6.1257194925434799E-4,3.7524439301327149E-7]
[72.0356325739927,1.2572589671730503,2.488016582221884,142.55284951987773,3.600000000000001,0.55630250076728738,0.55574353465982707,-5.589661074603125E-4,3.124431092893336E-7]
[73.0356325739927,1.2747122596929936,2.500529740772814,143.26980069322406,3.7000000000000011,0.5682017240669951,0.56769272088226586,-5.0900318472923978E-4,2.590842420645086E-7]
[74.0356325739927,1.2921655522129369,2.5127060623297517,143.96745252843073,3.8000000000000007,0.57978359661681023,0.57932025146904376,-4.6334514776646962E-4,2.1468872595873156E-7]
[75.0356325739927,1.3096188447328803,2.5245622805489409,144.64676379337641,3.9000000000000008,0.59106460702649932,0.59064210588480515,-4.2250114169417596E-4,1.7850721473288216E-7]
[76.0356325739927,1.3270721372528236,2.5361139564986575,145.30862607159793,4.0000000000000009,0.60205999132796251,0.60167314385516379,-3.8684747279871257E-4,1.4965096721075067E-7]
[77.0356325739927,1.3445254297727669,2.5473755897399184,145.95387012674641,4.1000000000000014,0.61278385671973568,0.61242721144097179,-3.5664527876388963E-4,1.2719585486457253E-7]
[78.0356325739927,1.3619787222927102,2.5583607159784996,146.58327149763554,4.2000000000000011,0.62324929039790056,0.62291723428912393,-3.3205610877662384E-4,1.1026125937587304E-7]
[79.0356325739927,1.3794320148126535,2.5690819932672282,147.19755543726916,4.3000000000000007,0.63346845557958664,0.63315529994968434,-3.1315562990230639E-4,9.8066448539510287E-8]
[80.0356325739927,1.3968853073325969,2.579551278395511,147.79740128963883,4.4000000000000004,0.64345267648618742,0.64315273082251212,-2.9994566367530506E-4,8.9967401157619226E-8]
[81.0356325739927,1.41433859985254,2.589779694828299,148.38344638233983,4.5000000000000009,0.65321251377534373,0.65292014903419537,-2.9236474114835431E-4,8.5477141866744225E-8]
[82.0356325739927,1.4317918923724833,2.5997776933344863,148.95628950032247,4.6000000000000014,0.66275783168157421,0.66246753433390615,-2.9029734766805593E-4,8.4272550063108135E-8]
[83.0356325739927,1.4492451848924266,2.6095551062639037,149.51649399573475,4.7000000000000011,0.67209785793571752,0.67180427592411074,-2.9358201160678554E-4,8.6190397539086764E-8]
[84.0356325739927,1.4666984774123699,2.6191211962839738,150.06459058032698,4.8000000000000007,0.68124123737558728,0.68093921900064791,-3.0201837493937234E-4,9.1215098801019283E-8]
[85.0356325739927,1.4841517699323132,2.628484700265139,150.60107983990167,4.9000000000000004,0.69019608002851374,0.68988070666022616,-3.1537336828757478E-4,9.9460361425050283E-8]
[86.0356325739927,1.5016050624522566,2.6376538689032216,151.12643450450753,5.0000000000000009,0.69897000433601886,0.69863661773699048,-3.3338659902837353E-4,1.1114662441170551E-7]
[87.0356325739927,1.5190583549721999,2.6466365025828207,151.64110150326061,5.1000000000000005,0.70757017609793638,0.70721440104954192,-3.5577504839445773E-4,1.2657588506007874E-7]
[88.0356325739927,1.5365116474921432,2.6554399839156053,152.14550382865139,5.2000000000000011,0.71600334363479923,0.71562110647272137,-3.8223716207785863E-4,1.4610524807333516E-7]
[89.0356325739927,1.5539649400120865,2.6640713073283022,152.64004223181138,5.3000000000000007,0.72427586960078916,0.72386341319205461,-4.1245640873455169E-4,1.7012028910620357E-7]
[90.0356325739927,1.5714182325320296,2.672537106025362,153.12509676736025,5.4000000000000012,0.73239375982296862,0.73194765545120244,-4.4610437176617612E-4,1.9900911050889468E-7]
[91.0356325739927,1.5888715250519729,2.6808436766090722,153.60102820403438,5.5000000000000009,0.74036268949424389,0.73987984606243795,-4.8284343180593492E-4,2.3313777963813252E-7]
[92.0356325739927,1.6063248175719163,2.6889970016039624,154.06817931524009,5.6000000000000005,0.74818802700620046,0.74766569791586646,-5.223290903340061E-4,2.7282767860915029E-7]
[93.0356325739927,1.6237781100918596,2.6970027701016601,154.52687606191697,5.7000000000000011,0.75587485567249146,0.7553106436938144,-5.6421197867706496E-4,3.1833515688268883E-7]
[94.0356325739927,1.6412314026118029,2.7048663967160631,154.97742867858901,5.8000000000000007,0.76342799356293733,0.76281985397168173,-6.0813959125560757E-4,3.6983376245253742E-7]
[95.0356325739927,1.6586846951317462,2.7125930390160793,155.42013267218718,5.9000000000000012,0.77085201164214423,0.77019825386498464,-6.5375777715959149E-4,4.2739923119665007E-7]
[96.0356325739927,1.6761379876516895,2.7201876135836462,155.85526974210617,6.0000000000000009,0.77815125038364374,0.77745053836363454,-7.0071202000920874E-4,4.9099733498538573E-7]
[97.0356325739927,1.6935912801716329,2.7276548108278389,156.28310862899014,6.1000000000000014,0.78532983501076714,0.78458118647836717,-7.4864853239997586E-4,5.6047462506463776E-7]
[98.0356325739927,1.7110445726915762,2.7349991086712175,156.70390589890275,6.2000000000000011,0.792391689498254,0.7915944743102441,-7.9721518800990321E-4,6.355520559936653E-7]
[99.0356325739927,1.7284978652115193,2.7422247852117199,157.11790666880023,6.3000000000000007,0.79934054945358179,0.79849448714186877,-8.4606231171302504E-4,7.158214353011879E-7]
[100.0356325739927,1.7459511577314626,2.7493359304522973,157.52534527858987,6.4000000000000012,0.8061799739838873,0.80528513063836271,-8.9484334552458744E-4,8.0074461302963616E-7]
[101.0356325739927,1.7634044502514059,2.7563364571806552,157.92644591449329,6.5000000000000009,0.81291335664285558,0.81197014123675304,-9.4321540610253773E-4,8.8965530230917517E-7]
[102.0356325739927,1.7808577427713492,2.7632301110728736,158.32142318794135,6.6000000000000014,0.81954393554186877,0.81855309579422075,-9.9083974764802019E-4,9.8176340551919222E-7]
[103.0356325739927,1.7983110352912925,2.7700204800871386,158.71048267379513,6.7000000000000011,0.82607480270082645,0.82503742055845042,-1.037382142376031E-3,1.0761617093206838E-6]
[104.0356325739927,1.8157643278112359,2.7767110032070792,159.09382141130243,6.8000000000000007,0.83250891270623639,0.83142639951690545,-1.082513189330947E-3,1.1718348050754587E-6]
[105.0356325739927,1.8332176203311792,2.7833049785883635,159.47162837086319,6.9000000000000012,0.83884909073725544,0.83772318217625141,-1.1259085610040298E-3,1.2676700877421652E-6]
[106.0356325739927,1.8506709128511225,2.7898055711568754,159.84408488937302,7.0000000000000009,0.84509804001425692,0.84393079081808198,-1.1672491961749465E-3,1.3624706859710586E-6]
[107.0356325739927,1.8681242053710658,2.7962158197022142,160.21136507665082,7.1000000000000014,0.85125834871907535,0.85005212727271195,-1.206221446363398E-3,1.4549701776670079E-6]
[108.0356325739927,1.8855774978910089,2.802538643506038,160.57363619521476,7.2000000000000011,0.85733249643126852,0.85608997924877761,-1.2425171824909098E-3,1.543848948785149E-6]
[109.0356325739927,1.9030307904109522,2.8087768485410938,160.93105901546073,7.3000000000000007,0.86332286012045589,0.86204702625287721,-1.2758338675786796E-3,1.6277520576607716E-6]
[110.0356325739927,{"$f":"A91*D_R","v":1.9204840829308956},{"$f":"fourbar($F$20,$F$21,$F$22,1,-1,B91)","v":2.8149331332734411},{"$f":"C91/D_R","v":161.28378814810506},{"$f":"1+1/$I$3*(A91-$A$27)","v":7.4},0.86923171973097624,0.86792584513028259,-1.3058746006936461E-3,1.7053084727367897E-6]
[111.0356325739927,1.9379373754508389,2.8210100940973946,161.63197235558394,7.5,{"$f":"LOG(E92)","v":0.87506126339170009},{"$f":"1/$I$4*(D92-$C$4)","v":0.87372891525493068},{"$f":"G92-F92","v":-1.3323481367694123E-3},{"$f":"H92^2","v":1.7751515575529246E-6}]
[{"$f":"A92+1","v":112.0356325739927},1.9553906679707822,2.8270102304300351,161.97575484394733,7.6000000000000005,0.88081359228079137,0.87945862339432046,-1.3549688864709086E-3,1.8359406833042142E-6]
[113.0356325739927,1.9728439604907255,2.8329359494896975,162.31527353664623,7.7,0.88649072517248184,0.88511726827263548,-1.3734568998463592E-3,1.8863838557355719E-6]
[114.0356325739927,1.9902972530106688,2.8387895707806812,162.6506613314875,7.8000000000000007,0.89209460269048046,0.89070706485332329,-1.3875378371571712E-3,1.9252612495428003E-6]
[115.0356325739927,2.0077505455306119,2.8445733303044274,162.98204634191677,7.9,0.89762709129044149,0.89623014836047776,-1.3969429299637293E-3,1.9514495495756488E-6]
[116.0356325739927,2.0252038380505555,2.8502893845156043,163.30955212368519,8,0.90308998699194354,0.90168857805661817,-1.4014089353253656E-3,1.9639470040097745E-6]
[117.0356325739927,2.0426571305704986,2.8559398140398988,163.63329788786336,8.1000000000000014,0.90848501887864985,0.907084340792921,-1.400678085728857E-3,1.9618990998410555E-6]
[118.0356325739927,2.0601104230904421,2.8615266271687867,163.95339870107694,8.1999999999999993,0.91381385238371671,0.91241935434648058,-1.3944980372361249E-3,1.9446247758554048E-6]
[119.0356325739927,2.0775637156103852,2.8670517631451853,164.26996567376045,8.3000000000000007,0.91907809237607396,0.91769547055787248,-1.3826218182014793E-3,1.9116430921667648E-6]
[120.0356325739927,2.0950170081303288,2.8725170952525727,164.58310613715111,8.4,0.9242792860618817,0.92291447828105,-1.3648077808317005E-3,1.8627002786187511E-6]
[121.0356325739927,2.1124703006502719,2.8779244337189893,164.89292380967552,8.5,0.92941892571429274,0.92807810615645703,-1.3408195578357152E-3,1.7977970866747627E-6]
[122.0356325739927,2.129923593170215,2.8832755284461817,165.19951895331835,8.6000000000000014,0.93449845124356778,0.9331880252171707,-1.3104260263970824E-3,1.7172163706588469E-6]
[123.0356325739927,2.1473768856901585,2.8885720715731056,165.50298852050011,8.6999999999999993,0.93951925261861846,0.93824585133686678,-1.2734012817516849E-3,1.6215508243668339E-6]
[124.0356325739927,2.1648301782101016,2.8938156998819724,165.8034262919335,8.8000000000000007,0.94448267215016868,0.9432531475274234,-1.2295246227452816E-3,1.5117307979369272E-6]
[125.0356325739927,2.1822834707300451,2.8990079970540412,166.10092300587075,8.9,0.9493900066449128,0.94821142609304421,-1.178580551868591E-3,1.3890521172428725E-6]
[126.0356325739927,2.1997367632499882,2.9041504957814031,166.39556647909998,9,0.95424250943932487,0.95312215064686467,-1.1203587924601965E-3,1.2552038238428698E-6]
[127.0356325739927,2.2171900557699318,2.9092446797400342,166.68744171999279,9.1,0.95904139232109353,0.95798673799507816,-1.0546543260153696E-3,1.1122957473829335E-6]
[128.0356325739927,2.2346433482898749,2.9142919854284424,166.97663103385096,9.2000000000000011,0.96378782734555535,0.96280655989271435,-9.8126745284099481E-4,9.6288581400505395E-7]
[129.0356325739927,2.2520966408098184,2.9192938038752274,167.26321412074242,9.3000000000000007,0.96848294855393513,0.96758294467423855,-9.0000387969657591E-4,8.1000698346888864E-7]
[130.0356325739927,2.2695499333297615,2.9242514822178558,167.54726816595843,9.4,0.97312785359969867,0.97231717876117207,-8.1067483852659272E-4,6.5719369382011723E-7]
[131.0356325739927,2.2870032258497046,2.9291663251538322,167.82886792315958,9.5,0.97772360528884772,0.97701050804785794,-7.1309724098977956E-4,5.0850767510723572E-7]
[132.0356325739927,2.3044565183696482,2.9340395962642685,168.10808579021059,9.6,0.98227123303956843,0.98166413916537487,-6.0709387419355387E-4,3.6856297208333861E-7]
[133.0356325739927,2.3219098108895913,2.9388725192085334,168.38499187762892,9.7000000000000011,0.98677173426624487,0.98627924062234695,-4.9249364389791772E-4,2.4254998927984896E-7]
[134.0356325739927,2.3393631034095348,2.9436662787871906,168.65965406948638,9.8000000000000007,0.99122607569249488,0.99085694381997125,-3.6913187252363144E-4,1.362583393128025E-7]
[135.0356325739927,2.3568163959294779,2.9484220218687369,168.93213807650753,9.9,0.9956351945975499,0.99539834393699045,-2.3685066055945114E-4,5.6098235407448347E-8]
[136.0356325739927,2.3742696884494214,2.9531408581737466,169.2025074809977,10,1,0.99990450067849324,-9.5499321506764545E-5,9.1201204082523809E-9]

{"sheet":"FFLogx_X=5PPPPP ","index":1,"n_rows":118,"n_cols":18,"rows_kept":118,"cut":false,"hidden":false,"merged":[]}
[null,"y=log x","1<x<10"]
[null,null,null,null,null,null,null,null,null,null,null,null,null,null,null,null,null,"x=5"]
[null,"qin",67.747252886172276,null,"Dq",90,null,"Rx",{"$f":"F3/9","v":10},{"$f":"LN(2)","v":0.69314718055994529},{"$f":"I3*D_R","v":0.17453292519943295},null,null,30]
[null,"fin",37.383214386061887,null,"Df",60,null,"Ry",{"$f":"F4","v":60},null,{"$f":"I4*D_R","v":1.0471975511965976},null,null,10.909437254690339,null,null,null,67.747252886172276]
[null,null,null,null,null,null,null,null,"başlangıç 30 90 f değişti",null,null,null,null,96.55334768504602,null,null,null,37.383214386061887]
[null,"x","y","q","f",null,null,null,"başlangıç 30 120 q değişti",null,{"$f":"K4/K3/LN(10)","v":2.6057668914195107}]
[null,null,null,null,null,null,null,null,null,null,null,null,5.502404448983655]
[null,5,{"$f":"LOG(B8)","v":0.69897000433601886},{"$f":"C3","v":67.747252886172276},{"$f":"C4","v":37.383214386061887},null,{"$f":"D8*D_R","v":1.1824126220449374},0.65246017601569051,"f'",{"$f":"K6/B8","v":0.52115337828390218},null,null,167.41627098223481]
[null,null,null,null,null,null,null,null,"f\"",{"$f":"-K6/B8^2/K3","v":-0.59719778109304889}]
[null,null,null,null,null,null,null,null,"f\"\"",{"$f":"2*K6/B8^3/K3^2","v":1.3686764956483732}]
[null,null,{"$f":"COS(H8)","v":0.79459252583666784},{"$f":"-COS(G8)","v":-0.37869299304992332},1,{"$f":"COS(H8-G8)","v":0.86283110965690701},null,null,"f'v",{"$f":"-6*K6/B8^4/K3^3","v":-4.7051632031644424}]
[null,null,{"$f":"-SIN(H8)*J8","v":-0.31641466651091077},{"$f":"+SIN(G8)","v":0.92552234819851364},0,{"$f":"-SIN(H8-G8)*(J8-1)","v":-0.24205328529703399}]
[null,null,{"$f":"-COS(H8)*J8^2-SIN(H8)*J9","v":0.14677249892994237},{"$f":"COS(G8)","v":0.37869299304992332},0,{"$f":"SIN(H8-G8)*J9-COS(H8-G8)*(J8-1)^2","v":0.10403681469297613}]
[null,null,{"$f":"-SIN(H8)*(J10-(J8)^3)-3*COS(H8)*J8*J9","v":-3.136963270517823E-3},{"$f":"-SIN(G8)","v":-0.92552234819851364},0,{"$f":"-SIN(H8-G8)*(J10-(J8-1)^3)-3*COS(H8-G8)*J9*(J8-1)","v":7.1353858863438813E-3}]
[null,null,{"$f":"-SIN(H8)*(J11-6*J8^2*J9)-COS(H8)*(4*J10*J8-J8^4+3*J9^2)","v":-0.79281116534291618},{"$f":"-COS(G8)","v":-0.37869299304992332},0,{"$f":"-SIN(H8-G8)*(J11-6*J9*(J8-1)^2)-COS(H8-G8)*(4*J10*(J8-1)+3*J9^2-(J8-1)^4)","v":-0.57896911574406928}]
[null,null,{"$f":"$C$19*C14+$C$20*D14-F14","v":-4.5033015122313003E-7}]
[null,null,{"$f":"$C$19*C15+$C$20*D15-F15","v":-2.9621059651763204E-6},null,{"$f":"SQRT(C17^2+C16^2)","v":2.9961423520977416E-6}]
[]
[null,null,{"$f":"MMULT(MINVERSE(C11:E13),F11:F13)","v":0.73514990332399199},null,"a2",{"$f":"1/C19","v":1.360266791138085},null,null,null,null,"qin","fin","a2","a3","a4","|emax|"]
[null,null,-1.0200805868838675E-2,null,"a3",{"$f":"SQRT(1+F19^2+F21^2-2*C21*F19*F21)","v":98.419075380570334},null,null,null,null,30,10.909437254690339,6.0425539632172023E-2,1.0749174818239415,0.12926560264134038,"8.19x10-3"]
[null,null,0.27482351740012223,null,"a4",{"$f":"1/C20","v":-98.031470538498382},null,{"$f":"C19*#REF!+C20*#REF!+C21-F16","v":{"$error":"#REF!"}},{"$f":"$C$19*C11+$C$20*D11+$C$21*E11-F11","v":0},null,30,96.55334768504602,6.83812781875098,5.2875401741016477,2.609860463707844,"6.8x10-4"]
[null,null,null,null,null,null,null,null,{"$f":"$C$19*C12+$C$20*D12+$C$21*E12-F12","v":0}]
[null,null,null,null,null,null,null,{"$f":"MIN(H28:H118)","v":1.8873791418627661E-15},{"$f":"$C$19*C13+$C$20*D13+$C$21*E13-F13","v":0}]
[null,null,null,null,null,null,null,{"$f":"MAX(H28:H118)","v":0.36980381563549375},{"$f":"$C$19*#REF!+$C$20*#REF!+$C$21*E16-F16","v":{"$error":"#REF!"}}]
[]
[]
[null,null,{"$f":"C28/D_R","v":17.633243064030381},null,"x","yreq","ygen",null,"olmadı"]
[{"$f":"C3-40","v":27.747252886172276},{"$f":"A28*D_R","v":0.48428092124720562},{"$f":"fourbar($F$19,$F$20,$F$21,1,1,B28)","v":0.30775814927178347},{"$f":"C28/D_R","v":17.633243064030381},{"$f":"1+1/$I$3*(A28-$A$28)","v":1},{"$f":"LOG(E28)","v":0},{"$f":"1/$I$4*(D28-$C$4)+$C$8","v":0.36980381563549375},{"$f":"G28-F28","v":0.36980381563549375}]
[{"$f":"A28+1","v":28.747252886172276},0.50173421376714888,0.31531247698835563,18.066074159248668,1.1000000000000001,{"$f":"LOG(E29)","v":4.1392685158225077E-2},0.37701766722246521,{"$f":"G29-F29","v":0.33562498206424013}]
[{"$f":"A29+1","v":29.747252886172276},0.5191875062870922,0.32299214215928751,18.506086561616677,1.2,7.9181246047624818E-2,0.384351207261932,0.30516996121430717]
[30.747252886172276,0.53664079880703552,0.33078435059840272,18.952547218264204,1.3,0.11394335230683679,0.39179221820605747,0.2778488658992207]
[31.747252886172276,0.55409409132697884,0.33867803512863093,19.404822026653989,1.4,0.14612803567823801,0.39933013167922055,0.25320209600098253]
[32.747252886172276,0.57154738384692205,0.3466635714510049,19.862359555074438,1.5,0.17609125905568124,0.40695575715289473,0.23086449809721349]
[33.747252886172276,0.58900067636686537,0.35473254885140948,20.32467790510406,1.6,0.20411998265592479,0.41466106298672173,0.21054108033079694]
[34.747252886172276,0.60645396888680869,0.36287758367974221,20.79135402475459,1.7000000000000002,0.23044892137827397,0.4224389983142306,0.19199007693595663]
[35.747252886172276,0.62390726140675201,0.3710921664995912,21.262014950792612,1.8,0.25527250510330607,0.43028334708153093,0.17501084197822486]
[36.747252886172276,0.64136055392669522,0.3793705359706856,21.736330582736269,1.9,0.27875360095282892,0.4381886076139252,0.15943500666109628]
[37.747252886172276,0.65881384644663854,0.38770757412453594,22.214007682591433,2,0.3010299956639812,0.44614989261151128,0.14511989694753008]
[38.747252886172276,0.67626713896658186,0.39609871888631032,22.694784862724411,2.1,0.3222192947339193,0.45416284561372761,0.1319435508798083]
[39.747252886172276,0.69372043148652518,0.40453989059635531,23.178428375855219,2.2000000000000002,0.34242268082220628,0.46222357083257437,0.11980089001036809]
[40.747252886172276,0.7111737240064685,0.41302742996853858,23.664728560332435,2.2999999999999998,0.36172783601759284,0.47032857390719462,0.10860073788960178]
[41.747252886172276,0.72862701652641171,0.42155804544875597,24.153496823997859,2.4000000000000004,0.38021124171160608,0.4784747116349517,9.8263469923345614E-2]
[42.747252886172276,0.74608030904635503,0.43012876834308278,24.644563073218933,2.5,0.3979400086720376,0.48665914912196961,8.871914044993201E-2]
[43.747252886172276,0.76353360156629835,0.43873691440245954,25.137773511853393,2.6,0.41497334797081797,0.49487932309921062,7.9905975128392648E-2]
[44.747252886172276,0.78098689408624167,0.44738005079962706,25.632988749167001,2.7,0.43136376415898736,0.50313291038777075,7.1769146228783387E-2]
[45.747252886172276,0.79844018660618488,0.45605596763102674,26.130082167012716,2.8,0.44715803134221921,0.51141780068519938,6.4259769342980166E-2]
[46.747252886172276,0.8158934791261282,0.46476265323285348,26.62893850554471,2.9000000000000004,0.46239799789895614,0.51973207299406587,5.7334075095109738E-2]
[47.747252886172276,0.83334677164607152,0.4734982727259982,27.129452633934115,3,0.47712125471966244,0.52807397513388932,5.0952720414226882E-2]
[48.747252886172276,0.85080006416601484,0.48226114930539676,27.631528478327688,3.1,0.49136169383427269,0.53644190587378215,4.508021203950946E-2]
[49.747252886172276,0.86825335668595816,0.49104974787112243,28.135078083978495,3.2,0.50514997831990605,0.54483439930129562,3.9684420981389579E-2]
[50.747252886172276,0.88570664920590136,0.49986266066478513,28.640020792272217,3.3000000000000003,0.51851393987788752,0.55325011110619104,3.4736171228303525E-2]
[51.747252886172276,0.90315994172584468,0.50869859462943157,29.146282516502755,3.4000000000000004,0.53147891704225514,0.56168780651003325,3.0208889467778111E-2]
[52.747252886172276,0.920613234245788,0.51755636025539364,29.653795102786436,3.5,0.54406804435027567,0.57014634961476141,2.6078305264485735E-2]
[53.747252886172276,0.93806652676573132,0.52643486171160103,30.162495764627877,3.6,0.55630250076728727,0.57862469397878535,2.2322193211498087E-2]
[54.747252886172276,0.95551981928567453,0.53533308809219937,30.672326581388131,3.7,0.56820172406699498,0.5871218742581229,1.8920150191127916E-2]
[55.747252886172276,0.97297311180561785,0.54425010563370502,31.183234052360525,3.8000000000000003,0.57978359661681023,0.59563699877432952,1.5853402157519292E-2]
[56.747252886172276,0.99042640432556117,0.55318505077911739,31.695168699373557,3.9000000000000004,0.59106460702649921,0.60416924289121332,1.3104635864714109E-2]
[57.747252886172276,1.0078796968455044,0.56213712398301285,32.208084711848926,4,0.6020599913279624,0.61271784309913613,1.0657851771173732E-2]
[58.747252886172276,1.0253329893654477,0.57110558416684487,32.721939629113621,4.0999999999999996,0.61278385671973545,0.62128209172021442,8.4982350004789708E-3]
[59.747252886172276,1.042786281885391,0.58008974374582212,33.236694055461051,4.2,0.62324929039790045,0.62986133215933826,6.6120417614378146E-3]
[60.747252886172276,1.0602395744053343,0.58908896415989487,33.752311404095387,4.3000000000000007,0.63346845557958664,0.6384549546365772,4.9864990569905565E-3]
[61.747252886172276,1.0776928669252777,0.59810265184993283,34.268757666583589,4.4000000000000004,0.64345267648618742,0.64706239234471385,3.60971585852643E-3]
[62.747252886172276,1.095146159445221,0.60713025462828574,34.786001204903791,4.5,0.65321251377534373,0.65568311798338397,2.4706042080402391E-3]
[63.747252886172276,1.1125994519651643,0.61617125839927711,35.304012563543452,4.5999999999999996,0.66275783168157409,0.66431664062737827,1.5588089458041798E-3]
[64.747252886172276,1.1300527444851076,0.62522518419081674,35.822764299423319,4.7,0.67209785793571752,0.67296250289204274,8.6464495632521121E-4]
[65.747252886172276,1.1475060370050509,0.63429158546333642,36.342230827710736,4.8000000000000007,0.68124123737558728,0.6816202783634997,3.7904098791241569E-4]
[66.747252886172276,1.164959329524994,0.64337004566623901,36.862388281814532,4.9000000000000004,0.69019608002851374,0.69028956926522955,9.3489236715815771E-5]
[67.747252886172276,1.1824126220449374,{"$f":"fourbar($F$19,$F$20,$F$21,1,1,B68)","v":0.65246017601569251},37.383214386062001,5,0.69897000433601886,{"$f":"1/$I$4*(D68-$C$4)+$C$8","v":0.69897000433602074},1.8873791418627661E-15]
[68.747252886172276,1.1998659145648807,{"$f":"fourbar($F$19,$F$20,$F$21,1,1,B69)","v":0.66156161347086084},37.904688339745434,5.1000000000000005,0.70757017609793638,0.70766123689741134,9.1060799474962373E-5]
[69.747252886172276,1.217319207084824,0.67067401888812062,38.426790711366564,5.2,0.71600334363479923,0.71636294309109683,3.5959945629759904E-4]
[70.747252886172276,1.2347724996047673,0.67979707533542499,38.949503342056722,5.3,0.72427586960078905,0.72507482026926606,7.9895066847701646E-4]
[71.747252886172276,1.2522257921247106,0.68893048655079814,39.472809257255058,5.4,0.7323937598229685,0.73379658552257165,1.4028256996031496E-3]
[72.747252886172276,1.269679084644654,0.69807397553091199,39.996692585839959,5.5,0.74036268949424389,0.7425279743323201,2.1652848380762091E-3]
[73.747252886172276,1.2871323771645973,0.7072272832370865,40.521138485988331,5.6000000000000005,0.74818802700620046,0.75126873933479288,3.0807123285924165E-3]
[74.747252886172276,1.3045856696845406,0.716390167407706,41.046133077132055,5.7,0.75587485567249146,0.76001864918718831,4.1437935146968474E-3]
[75.747252886172276,1.3220389622044837,0.72556240146680828,41.571663377424763,5.8000000000000007,0.76342799356293733,0.76877748752540009,5.3494939624627591E-3]
[76.747252886172276,1.339492254724427,0.73474377352018583,42.097717246222658,5.9,0.77085201164214423,0.77754505200536506,6.6930403632208257E-3]
[77.747252886172276,1.3569455472443703,0.74393408543084449,42.624283331112217,6,0.77815125038364363,0.78632115342019104,8.1699030365474101E-3]
[78.747252886172276,1.3743988397643137,0.75313315196675656,43.151351019080003,6.1000000000000005,0.78532983501076703,0.79510561488632081,9.7757798755537806E-3]
[79.747252886172276,1.391852132284257,0.76234080001436233,43.678910391449691,6.2,0.79239168949825389,0.80389827109248224,1.1506581594228349E-2]
[80.747252886172276,1.4093054248042003,0.77155686785224242,44.206952182266477,6.3000000000000007,0.79934054945358179,0.81269896760609539,1.3358418152513596E-2]
[81.747252886172276,1.4267587173241436,0.78078120447955013,44.73546773981915,6.4,0.80617997398388719,0.82150756023197324,1.5327586248086056E-2]
[82.747252886172276,1.4442120098440869,0.79001366899464065,45.26444899103813,6.5,0.81291335664285558,0.83032391441895625,1.7410557776100677E-2]
[83.747252886172276,1.4616653023640303,0.79925413001962609,45.793888408524928,6.6000000000000005,0.81954393554186866,0.8391479047104029,1.9603969168534241E-2]
[84.747252886172276,1.4791185948839733,0.80850246516703317,46.323778979993854,6.7,0.82607480270082645,0.84797941423488499,2.1904611534058538E-2]
[85.747252886172276,1.4965718874039167,0.81775856054509677,46.854114179927443,6.8000000000000007,0.83250891270623639,0.85681833423377807,2.4309421527541675E-2]
[86.747252886172276,1.51402517992386,0.82702231029853857,47.384887943265014,6.9,0.83884909073725533,0.86566456362273758,2.681547288548225E-2]
[87.747252886172276,1.5314784724438033,0.83629361618204023,47.916094640964474,7,0.84509804001425681,0.87451800858439532,2.9419968570138511E-2]
[88.747252886172276,1.5489317649637466,0.84557238716371574,48.447729057282935,7.1000000000000005,0.85125834871907535,0.883378582189703,3.2120233470627646E-2]
[89.747252886172276,1.5663850574836899,0.854858539056361,48.979786368648931,7.2,0.85733249643126852,0.8922462040458029,3.4913707614534384E-2]
[90.747252886172276,1.5838383500036333,0.86415199417424038,49.512262123997672,7.3000000000000007,0.86332286012045589,0.90112079996828198,3.779793984782609E-2]
[91.747252886172276,{"$f":"A92*D_R","v":1.6012916425235766},0.8734526810134875,{"$f":"C92/D_R","v":50.045152226459408},{"$f":"1+1/$I$3*(A92-$A$28)","v":7.4},0.86923171973097624,{"$f":"1/$I$4*(D92-$C$4)+$C$8","v":0.91000230167597751},4.0770581945001272E-2]
[92.747252886172276,1.6187449350435199,0.88276053395438181,50.578452916301082,7.5,{"$f":"LOG(E93)","v":0.87506126339170009},0.91889064650667207,{"$f":"G93-F93","v":4.3829383114971976E-2}]
[{"$f":"A93+1","v":93.747252886172276},1.636198227563463,0.89207549298379218,51.112160755023574,7.6000000000000005,0.88081359228079137,0.92778577715204702,4.6972184871255651E-2]
[94.747252886172276,1.6536515200834063,0.90139750343639813,51.64627261053473,7.7,0.88649072517248184,0.93668764141056626,5.0196916238084421E-2]
[95.747252886172276,1.6711048126033496,0.91072651575325758,52.180785643316341,7.8000000000000007,0.89209460269048046,0.94559619195692646,5.3501589266445992E-2]
[96.747252886172276,1.688558105123293,0.92006248525649759,52.715697293514843,7.9,0.89762709129044149,0.95451138612690145,5.6884294836459959E-2]
[97.747252886172276,1.7060113976432363,0.92940537193898032,53.251005268890083,8,0.90308998699194354,0.96343318571648884,6.0343198724545299E-2]
[98.747252886172276,1.7234646901631796,0.93875514026795748,53.786707533565561,8.1000000000000014,0.90848501887864985,0.9723615567944135,6.3876537915763643E-2]
[99.747252886172276,1.7409179826831229,0.94811175900164146,54.322802297518692,8.1999999999999993,0.91381385238371671,0.98129646952696559,6.748261714324888E-2]
[100.74725288617228,1.7583712752030662,0.95747520101790196,54.859288006765887,8.3000000000000007,0.91907809237607396,0.99023789801441886,7.1159805638344897E-2]
[101.74725288617228,1.7758245677230096,0.96684544315426035,55.396163334194867,8.4,0.9242792860618817,0.9991858201382352,7.4906534076353504E-2]
[102.74725288617228,1.7932778602429527,0.97622246605836493,55.933427170997568,8.5,0.92941892571429274,1.0081402174182803,7.8721291703987561E-2]
[103.74725288617228,1.810731152762896,0.98560625404840119,56.471078618672195,8.6000000000000014,0.93449845124356778,1.0171010748795239,8.2602623635956163E-2]
[104.74725288617228,1.8281844452828393,0.99499679498261817,57.009116981547663,8.6999999999999993,0.93951925261861846,1.0260683809274485,8.6549128308829992E-2]
[105.74725288617228,1.8456377378027826,1.0043940801375757,57.547541759807672,8.8000000000000007,0.94448267215016868,1.0350421272317818,9.0559455081613116E-2]
[106.74725288617228,1.8630910303227259,1.013798104094414,58.086352642974425,8.9,0.9493900066449128,1.0440223086178944,9.4632301972981558E-2]
[107.74725288617228,1.8805443228426693,1.0232088646327522,58.625549503829468,9,0.95424250943932487,1.0530089229654784,9.8766413526153563E-2]
[108.74725288617228,1.8979976153626126,1.0326263626317209,59.165132392743274,9.1,0.95904139232109353,1.062001971114042,0.10296057879294851]
[109.74725288617228,1.9154509078825559,1.0420506019776805,59.705101532387886,9.2000000000000011,0.96378782734555535,1.0710014567747854,0.10721362942923007]
[110.74725288617228,1.9329042004024992,1.0514815894782676,60.245457312812164,9.3000000000000007,0.96848294855393513,1.0800073864485236,0.11152443789458844]
[111.74725288617228,1.9503574929224425,1.0609193347824166,60.786200286859312,9.4,0.97312785359969867,1.0890197693493093,0.11589191574961066]
[112.74725288617228,1.9678107854423856,1.0703638503059343,61.327331165902663,9.5,0.97772360528884772,1.0980386173333652,0.12031501204451744]
[113.74725288617228,1.985264077962329,1.0798151511624619,61.86885081589007,9.6,0.98227123303956843,1.1070639448331552,0.12479271179358675]
[114.74725288617228,2.0027173704822725,1.0892732550993782,62.410760253671448,9.7000000000000011,0.98677173426624487,1.1160957687961783,0.12932403452993346]
[115.74725288617228,2.0201706630022156,1.0987381824385036,62.953060643601326,9.8000000000000007,0.99122607569249488,1.1251341086283428,0.13390803293584796]
[116.74725288617228,2.0376239555221587,1.1082099560212635,63.49575329439697,9.9,0.9956351945975499,1.1341789861416036,0.13854379154405372]
[117.74725288617228,2.0550772480421022,1.1176886011581764,64.038839656244278,10,1,1.1432304255057253,0.14323042550572529]

{"sheet":"FFLogx_X=5PPPPPv2","index":2,"n_rows":118,"n_cols":18,"rows_kept":118,"cut":false,"hidden":false,"merged":[]}
[null,"y=log x","1<x<10"]
[null,null,null,null,null,null,null,null,null,null,null,null,null,null,null,null,null,"x=5"]
[null,"qin",94.897243529986895,null,"Dq",90,null,"Rx",{"$f":"F3/9","v":10},{"$f":"LN(2)","v":0.69314718055994529},{"$f":"I3*D_R","v":0.17453292519943295},null,null,30]
[null,"fin",150.57206492619508,null,"Df",60,null,"Ry",{"$f":"F4","v":60},null,{"$f":"I4*D_R","v":1.0471975511965976},null,null,10.909437254690339,null,53.178096697697832,null,67.747252886172276]
[null,null,null,null,null,null,null,null,"başlangıç 30 90 f değişti",null,null,null,null,96.55334768504602,null,31.463332225595213,null,37.383214386061887]
[{"$f":"C4-180","v":-29.427935073804917},"x","y","q","f",null,null,null,"başlangıç 30 120 q değişti",null,{"$f":"K4/K3/LN(10)","v":2.6057668914195107}]
[null,null,null,null,null,null,null,null,null,null,null,null,5.502404448983655]
[null,5,{"$f":"LOG(B8)","v":0.69897000433601886},{"$f":"C3","v":94.897243529986895},{"$f":"C4","v":150.57206492619508},null,{"$f":"D8*D_R","v":1.6562693506651576},2.6279782944887771,"f'",{"$f":"K6/B8","v":0.52115337828390218},null,null,167.41627098223481]
[null,null,null,null,null,null,null,null,"f\"",{"$f":"-K6/B8^2/K3","v":-0.59719778109304889}]
[null,null,null,null,null,null,null,null,"f\"'",{"$f":"2*K6/B8^3/K3^2","v":1.3686764956483732}]
[null,null,{"$f":"COS(H8)","v":-0.8709743630294875},{"$f":"-COS(G8)","v":8.5368989386965619E-2},1,{"$f":"COS(H8-G8)","v":0.56388902302618515},null,null,"f'v",{"$f":"-6*K6/B8^4/K3^3","v":-4.7051632031644424}]
[null,null,{"$f":"-SIN(H8)*J8","v":-0.25605748854708593},{"$f":"+SIN(G8)","v":0.99634940440141184},0,{"$f":"-SIN(H8-G8)*(J8-1)","v":0.39545575715126619}]
[null,null,{"$f":"-COS(H8)*J8^2-SIN(H8)*J9","v":0.52997763996637437},{"$f":"COS(G8)","v":-8.5368989386965619E-2},0,{"$f":"-SIN(H8-G8)*J9-COS(H8-G8)*(J8-1)^2","v":0.36389971121745857}]
[null,null,{"$f":"-SIN(H8)*(J10-(J8)^3)-3*COS(H8)*J8*J9","v":-1.4161486307102007},{"$f":"-SIN(G8)","v":-0.99634940440141184},0,{"$f":"-SIN(H8-G8)*(J10-(J8-1)^3)-3*COS(H8-G8)*J9*(J8-1)","v":-1.7047574375335741}]
[null,null,{"$f":"-SIN(H8)*(J11-6*J8^2*J9)-COS(H8)*(4*J10*J8-J8^4+3*J9^2)","v":5.1862892571838817},{"$f":"-COS(G8)","v":8.5368989386965619E-2},0,{"$f":"-SIN(H8-G8)*(J11-6*J9*(J8-1)^2)-COS(H8-G8)*(4*J10*(J8-1)+3*J9^2-(J8-1)^4)","v":4.1118221196892479}]
[null,null,{"$f":"$C$19*C14+$C$20*D14-F14","v":-6.3874594058432876E-8}]
[null,null,{"$f":"$C$19*C15+$C$20*D15-F15","v":-6.7065050606274212E-6},null,{"$f":"SQRT(C17^2+C16^2)","v":6.7068092333081419E-6}]
[]
[null,null,{"$f":"MMULT(MINVERSE(C11:E13),F11:F13)","v":0.78297868257917314},null,"a2",{"$f":"1/C19","v":1.2771739796362618},{"$f":"-F19","v":-1.2771739796362618},null,null,null,"qin","fin","a2","a3","a4","|emax|"]
[null,null,0.59812683137641542,null,"a3",{"$f":"SQRT(1+F19^2+F21^2-2*C21*F19*F21)","v":0.56918031476172148},null,null,null,null,30,10.909437254690339,6.0425539632172023E-2,1.0749174818239415,0.12926560264134038,"8.19x10-3"]
[null,null,1.1947818992314152,null,"a4",{"$f":"1/C20","v":1.6718862079783146},{"$f":"-F21","v":-1.6718862079783146},{"$f":"C19*#REF!+C20*#REF!+C21-F16","v":{"$error":"#REF!"}},{"$f":"$C$19*C11+$C$20*D11+$C$21*E11-F11","v":0},null,30,96.55334768504602,6.83812781875098,5.2875401741016477,2.609860463707844,"6.8x10-4"]
[null,null,null,null,null,null,null,null,{"$f":"$C$19*C12+$C$20*D12+$C$21*E12-F12","v":0}]
[null,null,null,null,null,null,null,{"$f":"MIN(H28:H118)","v":{"$error":"#VALUE!"}},{"$f":"$C$19*C13+$C$20*D13+$C$21*E13-F13","v":0}]
[null,null,null,null,null,null,null,{"$f":"MAX(H28:H118)","v":{"$error":"#VALUE!"}},{"$f":"$C$19*#REF!+$C$20*#REF!+$C$21*E16-F16","v":{"$error":"#REF!"}}]
[]
[]
[null,null,{"$f":"C28/D_R","v":{"$error":"#VALUE!"}},null,"x","yreq","ygen",null,"olmadı"]
[{"$f":"C3-40","v":54.897243529986895},{"$f":"A28*D_R","v":0.95813764986742578},{"$f":"fourbar($F$19,$F$20,$F$21,1,-1,B28)","v":{"$error":"#VALUE!"}},{"$f":"C28/D_R","v":{"$error":"#VALUE!"}},{"$f":"1+1/$I$3*(A28-$A$28)","v":1},{"$f":"LOG(E28)","v":0},{"$f":"1/$I$4*(D28-$C$4)+$C$8","v":{"$error":"#VALUE!"}},{"$f":"G28-F28","v":{"$error":"#VALUE!"}}]
[{"$f":"A28+1","v":55.897243529986895},0.97559094238736899,{"$error":"#VALUE!"},{"$error":"#VALUE!"},1.1000000000000001,{"$f":"LOG(E29)","v":4.1392685158225077E-2},{"$error":"#VALUE!"},{"$f":"G29-F29","v":{"$error":"#VALUE!"}}]
[{"$f":"A29+1","v":56.897243529986895},0.99304423490731231,1.920743094037572,110.05047281725227,1.2,7.9181246047624818E-2,2.3610135853638692E-2,-5.5571110193986126E-2]
[57.897243529986895,1.0104975274272556,1.9830368091691311,113.61963978448084,1.3,0.11394335230683679,8.3096251974114854E-2,-3.0847100332721936E-2]
[58.897243529986895,1.0279508199471989,2.0286806778455038,116.23484082028638,1.4,0.14612803567823801,0.12668293590420709,-1.9445099774030916E-2]
[59.897243529986895,1.0454041124671423,2.0669035860967733,118.42485214379988,1.5,0.17609125905568124,0.16318312462943219,-1.2908134426249052E-2]
[60.897243529986895,1.0628574049870856,2.1005376951374535,120.35194463951366,1.6,0.20411998265592479,0.19530133289132856,-8.8186497645962314E-3]
[61.897243529986895,1.0803106975070289,2.1309213188340363,122.09279804364154,1.7000000000000002,0.23044892137827397,0.22431555629345978,-6.1333650848141852E-3]
[62.897243529986895,1.097763990026972,2.1588204394062345,123.69129990455511,1.8,0.25527250510330607,0.25095725397535262,-4.3152511279534456E-3]
[63.897243529986895,1.1152172825469153,2.1847258374517153,125.17556987916761,1.9,0.27875360095282892,0.27569508688556099,-3.0585140672679256E-3]
[64.897243529986895,1.1326705750668586,2.2089765243270847,126.56503188741958,2,0.3010299956639812,0.29885278702309381,-2.1772086408873847E-3]
[65.897243529986895,1.150123867586802,2.2318196425418191,127.87384615204226,2.1,0.3222192947339193,0.32066635810013849,-1.5529366337808104E-3]
[66.897243529986895,1.1675771601067453,2.2534428180761328,129.11276284982898,2.2000000000000002,0.34242268082220628,0.34131496972991721,-1.1077110922890765E-3]
[67.897243529986895,1.1850304526266886,2.2739930666807249,130.29020536281672,2.2999999999999998,0.36172783601759284,0.36093901161304615,-7.8882440454669522E-4]
[68.897243529986895,1.2024837451466319,2.2935885342692637,131.41294295322538,2.4000000000000004,0.38021124171160608,0.37965130478652387,-5.5993692508221615E-4]
[69.897243529986895,1.2199370376665752,2.312326148747097,132.48652918094845,2.5,0.3979400086720376,0.39754440858190837,-3.9560009012923336E-4]
[70.897243529986895,1.2373903301865186,2.33028680807764,133.51559915786083,2.6,0.41497334797081797,0.41469557486378139,-2.7777310703658298E-4]
[71.897243529986895,1.2548436227064617,2.3475390155967419,134.50407783598925,2.7,0.43136376415898736,0.43117021949925499,-1.9354465973236978E-4]
[72.897243529986895,1.272296915226405,2.3641414993097785,135.45533008218092,2.8,0.44715803134221921,0.44702442360244954,-1.3360773976967E-4]
[73.897243529986895,1.2897502077463483,2.3801451448297311,136.37227142729765,2.9000000000000004,0.46239799789895614,0.4623067793543949,-9.1218544561233461E-5]
[74.897243529986895,1.3072035002662916,2.3955944517413568,137.25745150973611,3,0.47712125471966244,0.47705978072836941,-6.147399129302622E-5]
[75.897243529986895,1.3246567927862349,2.4105286510458148,138.11311810028877,3.1,0.49136169383427269,0.49132089057091366,-4.0803263359034947E-5]
[76.897243529986895,1.3421100853061783,2.4249825764582003,138.94126702381533,3.2,0.50514997831990605,0.50512337262968965,-2.6605690216396916E-5]
[77.897243529986895,1.3595633778261216,2.4389873535725854,139.74368164549102,3.3000000000000003,0.51851393987788752,0.51849694965761783,-1.6990220269685885E-5]
[78.897243529986895,1.3770166703460649,2.4525709519997045,140.52196450596549,3.4000000000000004,0.53147891704225514,0.53146833066552557,-1.0586376729571079E-5]
[79.897243529986895,1.3944699628660082,2.4657586328589431,141.27756296076532,3.5,0.54406804435027567,0.54406163824552289,-6.4061047527763648E-6]
[80.897243529986895,1.4119232553859515,2.4785733152666651,142.01179017852832,3.6,0.55630250076728727,0.55629875854157274,-3.7422257145314219E-6]
[81.897243529986895,1.4293765479058946,2.4910358793472147,142.72584250225515,3.7,0.56820172406699498,0.56819963060368661,-2.0934633083724563E-6]
[82.897243529986895,1.446829840425838,2.5031654189404517,143.42081392838446,3.8000000000000003,0.57978359661681023,0.57978248770584184,-1.108910968383725E-6]
[83.897243529986895,1.4642831329457813,2.5149794540343553,144.09770827828459,3.9000000000000004,0.59106460702649921,0.59106406020417723,-5.4682232197844627E-7]
[84.897243529986895,1.4817364254657246,2.5264941106459582,144.75744950467183,4,{"$f":"LOG(E58)","v":0.6020599913279624},{"$f":"1/$I$4*(D58-$C$4)+$C$8","v":0.60205974731063128},-2.4401733111911739E-7]
[85.897243529986895,1.4991897179856679,2.5377242741624859,145.40089047741066,4.0999999999999996,0.61278385671973545,0.61278376352294506,-9.3196790396099516E-8]
[86.897243529986895,{"$f":"A60*D_R","v":1.5166430105056112},2.5486837208688056,{"$f":"C60/D_R","v":146.02882051948134},4.2,0.62324929039790045,0.62324926422412319,-2.6173777256666142E-8]
[87.897243529986895,1.5340963030255546,2.5593852314106527,146.64197190794394,4.3000000000000007,0.63346845557958664,0.63346845403183316,-1.5477534809349436E-9]
[88.897243529986895,1.5515495955454979,2.5698406891936028,147.24102551178419,4.4000000000000004,0.64345267648618742,0.64345268076250395,4.2763165231107791E-9]
[89.897243529986895,1.5690028880654412,2.5800611661371771,147.82661570526176,4.5,0.65321251377534373,0.65321251732046348,3.5451197533120649E-9]
[90.897243529986895,1.5864561805853843,2.5900569977495826,148.39933466937603,4.5999999999999996,0.66275783168157409,0.66275783338903471,1.7074606173395068E-9]
[91.897243529986895,1.6039094731053276,2.5998378491309762,148.95973617357458,4.7,0.67209785793571752,0.67209785845901049,5.2329296451603113E-10]
[92.897243529986895,1.6213627656252709,2.6094127732289469,149.50833891354642,4.8000000000000007,0.68124123737558728,0.68124123745854126,8.2953977020849834E-11]
[93.897243529986895,1.6388160581452142,2.61879026244265,150.04562946792106,4.9000000000000004,0.69019608002851374,0.69019608003145183,2.9380942123680143E-12]
[94.897243529986895,1.6562693506651576,2.6279782944887771,150.57206492619508,5,0.69897000433601886,{"$f":"1/$I$4*(D68-$C$4)+$C$8","v":0.69897000433601886},0]
[95.897243529986895,1.6737226431851009,2.6369843732940073,151.08807523169702,5.1000000000000005,0.70757017609793638,0.70757017609438444,-3.5519365226832633E-12]
[96.897243529986895,1.6911759357050442,2.645815565557307,151.59406527645268,5.2,0.71600334363479923,0.71600334350697881,-1.2782042091430412E-10]
[97.897243529986895,1.7086292282249875,2.6544785335258747,152.09041677910861,5.3,0.72427586960078905,0.72427586855124426,-1.0495447844149908E-9]
[98.897243529986895,1.7260825207449308,2.6629795644462821,152.57748997235817,5.4,0.7323937598229685,0.73239375510540361,-4.7175648942854309E-9]
[99.897243529986895,1.7435358132648739,2.6713245970840989,153.055625122404,5.5,0.74036268949424389,0.74036267427283409,-1.5221409799259789E-8]
[100.89724352998689,1.7609891057848173,2.6795192456482289,153.5251438997216,5.6000000000000005,0.74818802700620046,0.7481879872281274,-3.9778073057661345E-8]
[101.89724352998689,1.7784423983047606,2.6875688214083246,153.98635061764588,5.7,0.75587485567249146,0.75587476586019886,-8.9812292602964305E-8]
[102.89724352998689,1.7958956908247039,2.695478352253212,154.43953335298647,5.8000000000000007,0.76342799356293733,0.76342781144920868,-1.8211372865284403E-7]
[103.89724352998689,1.8133489833446472,2.7032526004039723,154.88496496091244,5.9,0.77085201164214423,0.77085167158130818,-3.4006083604598558E-7]
[104.89724352998689,1.8308022758645905,2.7108960784660114,155.32290399466811,6,0.77815125038364363,0.77815065547723594,-5.9490640769155334E-7]
[105.89724352998689,1.8482555683845339,2.7184130639792943,155.75359553924019,6.1000000000000005,0.78532983501076703,0.78532884788677071,-9.8712399632105985E-7]
[106.89724352998689,1.8657088609044772,2.725807612604183,156.17727196685058,6.2,0.79239168949825389,0.79239012168027723,-1.5678179766664968E-6]
[107.89724352998689,1.8831621534244205,2.733083570061337,156.59415362106225,6.3000000000000007,0.79934054945358179,0.79933814925047164,-2.4002031101533206E-6]
[108.89724352998689,1.9006154459443636,2.7402445829275224,157.00444943533356,6.4,0.80617997398388719,0.80617641282166008,-3.5611622271058962E-6]
[109.89724352998689,1.9180687384643069,2.7472941083743958,157.40835749100947,6.5,0.81291335664285558,0.81290821374959199,-5.1428932635877445E-6]
[110.89724352998689,1.9355220309842502,2.7542354229241144,157.80606551898109,6.6000000000000005,0.81954393554186866,0.81953668088245224,-7.2546594164224487E-6]
[111.89724352998689,1.9529753235041936,2.7610716302835994,158.19775134855587,6.7,0.82607480270082645,0.82606477804203193,-1.0024658794516306E-5]
[112.89724352998689,1.9704286160241369,2.7678056683082084,158.58358330644657,6.8000000000000007,0.83250891270623639,0.83249531067354365,-1.3602032692738852E-5]
[113.89724352998689,1.9878819085440802,2.7744403151351897,158.96372056819246,6.9,0.83884909073725533,0.83883093170264178,-1.8159034613551839E-5]
[114.89724352998689,2.0053352010640233,2.7809781945173508,159.3383134637559,7,0.84509804001425681,0.84507414662869906,-2.3893385557749447E-5]
[115.89724352998689,2.0227884935839668,2.7874217803776804,159.70750373848296,7.1000000000000005,0.85125834871907535,0.85122731787415007,-3.1030844925283851E-5]
[116.89724352998689,2.0402417861039099,2.7937734005959483,160.07142477005965,7.2,0.85733249643126852,0.85729266840042828,-3.9828030840238782E-5]
[117.89724352998689,2.0576950786238535,2.8000352400283743,160.43020174152628,7.3000000000000007,0.86332286012045589,0.86327228459153871,-5.0575528917184975E-5]
[118.89724352998689,{"$f":"A92*D_R","v":2.0751483711437966},2.806209342751008,{"$f":"C92/D_R","v":160.7839517698134},{"$f":"1+1/$I$3*(A92-$A$28)","v":7.4},0.86923171973097624,{"$f":"1/$I$4*(D92-$C$4)+$C$8","v":0.86916811839632413},-6.3601334652108044E-5]
[119.89724352998689,2.0926016636637401,{"$f":"fourbar($F$19,$F$20,$F$21,1,-1,B93)","v":2.8122976135062636},161.13278398862249,7.5,{"$f":"LOG(E93)","v":0.87506126339170009},0.87498198870980903,{"$f":"G93-F93","v":-7.9274681891061682E-5}]
[{"$f":"A93+1","v":120.89724352998689},2.1100549561836832,2.8183018183197008,161.47679958376457,7.6000000000000005,0.88081359228079137,0.88071558196217703,-9.8010318614338843E-5]
[121.89724352998689,2.1275082487036268,2.8242235842403076,161.81609177827974,7.7,0.88649072517248184,0.88637045187076313,-1.2027330171870965E-4]
[122.89724352998689,2.1449615412235699,2.830064398141749,162.15074576375366,7.8000000000000007,0.89209460269048046,0.89194801829532855,-1.4658439515191635E-4]
[123.89724352998689,2.162414833743513,2.8358256045036265,162.48083857319318,7.9,0.89762709129044149,0.8974495651193205,-1.7752617112098967E-4]
[124.89724352998689,2.1798681262634565,2.8415084020701626,162.80643888958292,8,0.90308998699194354,0.90287623705914943,-2.1374993279410504E-4]
[125.89724352998689,2.1973214187833996,2.8471138392578332,163.12760678276211,8.1000000000000014,0.90848501887864985,0.90822903527880272,-2.5598359984713159E-4]
[126.89724352998689,2.2147747113033431,2.8526428081522246,163.44439336546986,8.1999999999999993,0.91381385238371671,0.91350881165726516,-3.0504072645154423E-4]
[127.89724352998689,2.2322280038232862,2.8580960368962778,163.75684035722352,8.3000000000000007,0.91907809237607396,0.91871626151982622,-3.618308562477468E-4]
[128.89724352998689,2.2496812963432298,2.8634740802250613,164.06497954200131,8.4,0.9242792860618817,0.92385191459945593,-4.2737146242577406E-4]
[129.89724352998689,2.2671345888631729,2.8687773078438177,164.36883210235325,8.5,0.92941892571429274,0.92891612393865497,-5.028017756377734E-4]
[130.89724352998689,2.2845878813831164,2.8740058902727323,164.66840780836634,8.6000000000000014,0.93449845124356778,0.93390905237220645,-5.8939887136133517E-4]
[131.89724352998689,2.3020411739030595,2.8791597816891352,164.96370403459491,8.6999999999999993,0.93951925261861846,0.93883065614268268,-6.8859647593577655E-4]
[132.89724352998689,2.3194944664230026,2.8842386991794697,165.25470457128625,8.8000000000000007,0.94448267215016868,0.94368066508753834,-8.0200706263033883E-4]
[133.89724352998689,2.3369477589429462,2.8892420976608846,165.54137818749351,8.9,0.9493900066449128,0.9484585586909926,-9.3144795392019475E-4]
[134.89724352998689,2.3544010514628892,2.8941691395340432,165.82367689230972,9,0.95424250943932487,0.95316353710459611,-1.0789723347287561E-3]
[135.89724352998689,2.3718543439828328,2.8990186578684281,166.10153382554128,9.1,0.95904139232109353,0.95779448599178885,-1.2469063293046867E-3]
[136.89724352998689,2.3893076365027759,2.903789111576029,166.37486068934936,9.2000000000000011,0.96378782734555535,0.96234993372192346,-1.4378936236318918E-3]
[137.89724352998689,2.4067609290227194,2.9084785305659193,166.64354460583857,9.3000000000000007,0.96848294855393513,0.96682799899674365,-1.6549495571914763E-3]
[138.89724352998689,2.4242142215426625,2.9130844482430129,166.90744424952075,9.4,0.97312785359969867,0.97122632639144668,-1.9015272082519852E-3]
[139.89724352998689,2.4416675140626061,2.9176038178488892,167.16638505399715,9.5,0.97772360528884772,0.97554200646605327,-2.1815988227944505E-3]
[140.89724352998689,2.4591208065825492,2.9220329079353702,167.42015322303575,9.6,0.98227123303956843,0.97977147595003,-2.4997570895384236E-3]
[141.89724352998689,2.4765740991024923,2.9263671705515222,167.6684881782426,9.7000000000000011,0.98677173426624487,0.98391039187014417,-2.8613423961006967E-3]
[142.89724352998689,2.4940273916224358,2.9306010732615246,167.91107293439472,9.8000000000000007,0.99122607569249488,0.98795347113934628,-3.2726045531485948E-3]
[143.89724352998689,2.5114806841423789,2.9347278824958041,168.14752168637455,9.9,0.9956351945975499,0.99189428367234322,-3.7409109252066752E-3]
[144.89724352998689,2.5289339766623224,2.9387393803221626,168.37736358135081,10,1,0.99572498192194758,-4.2750180780524172E-3]

{"sheet":"FFLogxPPPP","index":3,"n_rows":118,"n_cols":27,"rows_kept":118,"cut":false,"hidden":false,"merged":[]}
[null,"y=log x","1<x<10"]
[]
[null,"qin",249.66261342042606,null,"Dq",90,null,"Rx",{"$f":"F3/9","v":10},{"$f":"LN(2)","v":0.69314718055994529},{"$f":"I3*D_R","v":0.17453292519943295},null,null,30]
[null,"fin",40,null,"Df",60,null,"Ry",{"$f":"F4","v":60},null,{"$f":"I4*D_R","v":1.0471975511965976},null,null,10.909437254690339]
[null,null,null,null,null,null,null,null,"başlangıç 30 90 f değişti",null,null,null,null,96.55334768504602]
[null,"x","y","q","f",null,null,null,"başlangıç 30 120 q değişti",null,{"$f":"K4/K3/LN(10)","v":2.6057668914195107}]
[]
[null,5,{"$f":"LOG(B8)","v":0.69897000433601886},{"$f":"C3","v":249.66261342042606},{"$f":"C4","v":40},null,{"$f":"D8*D_R","v":4.3574346233202164},0.69813170079773179,"f'",{"$f":"K6/B8","v":0.52115337828390218}]
[null,null,null,null,null,null,null,null,"f\"",{"$f":"-K6/B8^2/K3","v":-0.59719778109304889}]
[null,null,null,null,null,null,null,null,"f\"'",{"$f":"2*K6/B8^3/K3^2","v":1.3686764956483732},null,null,null,null,null,null,null,null,null,"qin",80,null,null,null,"qin",207.37470082797628,"170 ballangıç Çalışma aralığı küçük"]
[null,null,{"$f":"COS(H8)","v":0.76604444311897801},{"$f":"-COS(G8)","v":0.34754756793549973},1,{"$f":"COS(H8-G8)","v":-0.86895462564197934},null,{"$f":"$C$19*C11+$C$20*D11+$C$21*E11-F11","v":0},"f'v",{"$f":"-6*K6/B8^4/K3^3","v":-4.7051632031644424},null,null,null,null,null,null,null,null,null,"fin",51.197462699617702,"60 başlangıç",null,null,"fin",20]
[null,null,{"$f":"-SIN(H8)*J8","v":-0.33499093430717425},{"$f":"+SIN(G8)","v":-0.93766235288728494},0,{"$f":"-SIN(H8-G8)*(J8-1)","v":0.23697724954859686},null,{"$f":"$C$19*C12+$C$20*D12+$C$21*E12-F12","v":0}]
[null,null,{"$f":"-COS(H8)*J8^2-SIN(H8)*J9","v":0.17581301715860445},{"$f":"COS(G8)","v":-0.34754756793549973},0,{"$f":"SIN(H8-G8)*J9-COS(H8-G8)*(J8-1)^2","v":-9.630210600090286E-2},null,0,null,null,null,null,null,null,null,null,null,null,null,"qin",66.008318656566559,"80 başlangıç"]
[null,null,{"$f":"-SIN(H8)*(J10-(J8)^3)-3*COS(H8)*J8*J9","v":-7.3532665074383496E-2},{"$f":"-SIN(G8)","v":0.93766235288728494},0,{"$f":"-SIN(H8-G8)*(J10-(J8-1)^3)-3*COS(H8-G8)*J9*(J8-1)","v":1.3790592244673272E-2},null,-1.3375441771518171E-7,null,null,null,null,null,null,null,null,null,null,null,"fin",30]
[]
[]
[null,null,{"$f":"C19*C14+C20*D14-F14","v":-1.3375441771518171E-7}]
[]
[null,null,{"$f":"MMULT(MINVERSE(C11:E13),F11:F13)","v":-0.61383897630020978},null,"a2",{"$f":"1/C19","v":-1.6290917302568462},{"$f":"-F19","v":1.6290917302568462}]
[null,null,-3.3430751770193279E-2,null,"a3",{"$f":"SQRT(1+F19^2+F21^2-2*C21*F19*F21)","v":30.596472226921527}]
[null,null,-0.38710791240537556,null,"a4",{"$f":"1/C20","v":-29.912578899634436},{"$f":"-F21","v":29.912578899634436},{"$f":"C19*#REF!+C20*#REF!+C21-F16","v":{"$error":"#REF!"}},{"$f":"$C$19*C11+$C$20*D11+$C$21*E11-F11","v":0}]
[null,null,null,null,null,null,null,null,{"$f":"$C$19*C12+$C$20*D12+$C$21*E12-F12","v":0}]
[null,null,null,null,null,null,null,null,{"$f":"$C$19*C13+$C$20*D13+$C$21*E13-F13","v":0}]
[null,null,null,null,null,null,null,null,{"$f":"$C$19*#REF!+$C$20*#REF!+$C$21*E16-F16","v":{"$error":"#REF!"}}]
[]
[]
[null,null,{"$f":"C28/D_R","v":201.09801975374685},null,"x","yreq","ygen",null,"olmadı"]
[{"$f":"C3-40","v":209.66261342042606},{"$f":"A28*D_R-PI()","v":0.51771026893269179},{"$f":"fourbar($G$19,$F$20,$G$21,1,-1,B28)","v":3.5098225639434792},{"$f":"C28/D_R-180","v":21.098019753746854},{"$f":"1+1/$I$3*(A28-$A$28)","v":1},{"$f":"LOG(E28)","v":0},{"$f":"1/$I$4*(D28-$C$4)+$C$8","v":0.38393700023179977},{"$f":"G28-F28","v":0.38393700023179977}]
[{"$f":"A28+1","v":210.66261342042606},0.53516356145263488,3.5161899057954988,21.462841568584594,1.1000000000000001,{"$f":"LOG(E29)","v":4.1392685158225077E-2},0.39001736381242874,{"$f":"G29-F29","v":0.34862467865420366}]
[{"$f":"A29+1","v":211.66261342042606},0.55261685397257843,3.5227812972490335,21.840500479990737,1.2,7.9181246047624818E-2,0.39631167900253117,0.31713043295490634]
[212.66261342042606,0.57007014649252152,3.5295730689906009,22.22964033619877,1.3,0.11394335230683679,0.40279734327266503,0.28885399096582826]
[213.66261342042606,0.58752343901246507,3.5365449236685524,22.629098184623928,1.4,0.14612803567823801,0.40945497407975101,0.263326938401513]
[214.66261342042606,0.60497673153240816,3.5436793426680255,23.037870282571674,1.5,0.17609125905568124,0.41626784237888009,0.24017658332319886]
[215.66261342042606,0.6224300240523517,3.5509611165034207,23.455085190708616,1.6,0.20411998265592479,0.42322142418116243,0.21910144152523764]
[216.66261342042606,0.6398833165722948,3.5583769692660621,23.87998225549839,1.7000000000000002,0.23044892137827397,0.43030304192765872,0.19985412054938476]
[217.66261342042606,0.6573366090922379,3.5659152554915519,24.311894240980564,1.8,0.25527250510330607,0.43750157501902825,0.18222906991572219]
[218.66261342042606,0.67478990161218144,3.5735657133967829,24.750233190292818,1.9,0.27875360095282892,0.44480722417423246,0.16605362322140355]
[219.66261342042606,0.69224319413212454,3.5813192624320846,25.194478826263321,2,0.3010299956639812,0.45221131810707421,0.15118132244309301]
[220.66261342042606,0.70969648665206808,3.5891678359916663,25.644168966425326,2.1,0.3222192947339193,0.45970615377644097,0.13748685904252167]
[221.66261342042606,0.72714977917201118,3.5971042422538027,26.098891549746924,2.2000000000000002,0.34242268082220628,0.4672848634984676,0.12486218267626131]
[222.66261342042606,0.74460307169195472,3.6051220477036852,26.558277962982203,2.2999999999999998,0.36172783601759284,0.47494130371905557,0.11321346770146273]
[223.66261342042606,0.76205636421189782,3.6132154790796216,27.021997422602112,2.4000000000000004,0.38021124171160608,0.48266996137938739,0.10245871966778131]
[224.66261342042606,0.77950965673184136,3.6213793403844727,27.489752219900254,2.5,0.3979400086720376,0.49046587466768976,9.2525865995652157E-2]
[225.66261342042606,0.79696294925178446,3.6296089422941011,27.961273676394768,2.6,0.41497334797081797,0.49832456560926497,8.3351217638446995E-2]
[226.66261342042606,0.81441624177172756,3.6379000418275305,28.436318687183132,2.7,0.43136376415898736,0.5062419824557377,7.4878218296750343E-2]
[227.66261342042606,0.8318695342916711,3.6462487905584275,28.914666753678745,2.8,0.44715803134221921,0.51421445023066459,6.7056418888445379E-2]
[228.66261342042606,0.8493228268116142,3.6546516899729276,29.396117425802544,2.9000000000000004,0.46239799789895614,0.52223862809939459,5.9840630200438449E-2]
[229.66261342042606,0.86677611933155774,3.663105552836087,29.880488088443968,3,0.47712125471966244,0.5303114724767517,5.3190217757089264E-2]
[230.66261342042606,0.88422941185150083,3.671607469633698,30.367612038718448,3.1,0.49136169383427269,0.53843020498132632,4.7068511147053627E-2]
[231.66261342042606,0.90168270437144393,3.6801547793199409,30.857336809931468,3.2,0.50514997831990605,0.54659228450154329,4.1442306181637245E-2]
[232.66261342042606,0.91913599689138792,3.6887450437331788,31.349522705711422,3.3000000000000003,0.51851393987788752,0.55479538276454254,3.6281442886655024E-2]
[233.66261342042606,0.93658928941133102,3.6973760251488903,31.844041513887532,3.4000000000000004,0.53147891704225514,0.56303736290081108,3.1558445858555939E-2]
[234.66261342042606,0.95404258193127411,3.7060456665256405,32.340775374667317,3.5,0.54406804435027567,0.57131626058047413,2.7248216230198463E-2]
[235.66261342042606,0.97149587445121721,3.7147520740710411,32.83961578173961,3.6,0.55630250076728727,0.57963026736501233,2.3327766597725064E-2]
[236.66261342042606,0.98894916697116031,3.7234935018131083,33.340462698278657,3.7,0.56820172406699498,0.58797771597399651,1.9775991907001522E-2]
[237.66261342042606,1.0064024594911043,3.7322683379106376,33.843223772586128,3.8000000000000003,0.57978359661681023,0.59635706721245429,1.6573470595644069E-2]
[238.66261342042606,1.0238557520110474,3.7410750924762697,34.347813640404411,3.9000000000000004,0.59106460702649921,0.60476689834275899,1.3702291316259774E-2]
[239.66261342042606,1.0413090445309905,3.7499123867192248,34.854153302840984,4,0.6020599913279624,0.61320589271670189,1.1145901388739499E-2]
[240.66261342042606,1.0587623370509336,3.7587789432425684,35.362169570442774,4.0999999999999996,0.61278385671973545,0.62167283051006506,8.8889737903296018E-3]
[241.66261342042606,{"$f":"A60*D_R-PI()","v":1.0762156295708776},3.7676735773532308,{"$f":"C60/D_R-180","v":35.871794565296824},4.2,0.62324929039790045,0.63016658042429929,6.9172900263988479E-3]
[242.66261342042606,1.0936689220908207,3.7765951892627574,36.382965274166338,4.3000000000000007,0.63346845557958664,0.63868609223879114,5.2176366592044943E-3]
[243.66261342042606,1.1111222146107638,3.7855427570733511,36.895623146620466,4.4000000000000004,0.64345267648618742,0.64723039011302663,3.7777136268392075E-3]
[244.66261342042606,1.1285755071307069,3.7945153304579544,37.409713732929674,4.5,0.65321251377534373,0.65579856655151347,2.5860527761697449E-3]
[245.66261342042606,1.14602879965065,3.8035120249550913,37.925186357184174,4.5999999999999996,0.66275783168157409,0.66438977695575507,1.6319452741809792E-3]
[246.66261342042606,1.163482092170594,3.8125320168094641,38.441993821682132,4.7,0.67209785793571752,0.67300323469738776,9.0537676167024017E-4]
[247.66261342042606,1.180935384690537,3.8215745382980604,38.960092139135043,4.8000000000000007,0.68124123737558728,0.68163820665493624,3.9696927934895765E-4]
[248.66261342042606,1.1983886772104801,3.8306388734890957,39.479440289673278,4.9000000000000004,0.69019608002851374,0.69029400916390682,9.7929135393082234E-5]
[249.66261342042606,1.2158419697304232,{"$f":"fourbar($G$19,$F$20,$G$21,1,-1,B68)","v":3.8397243543875264},40.000000000000085,5,0.69897000433601886,{"$f":"1/$I$4*(D68-$C$4)+$C$8","v":0.6989700043360203},1.4432899320127035E-15]
[250.66261342042606,1.2332952622503672,3.8488303574265537,40.52173554236964,5.1000000000000005,0.70757017609793638,0.70766559670884621,9.5420610909835446E-5]
[251.66261342042606,1.2507485547703103,3.8579563002693043,41.04461355133688,5.2,0.71600334363479923,0.71638023019163355,3.768865568343216E-4]
[252.66261342042606,1.2682018472902534,3.8671016388891188,41.56860285647025,5.3,0.72427586960078905,0.72511338527718971,8.375156764006686E-4]
[253.66261342042606,1.2856551398101965,3.8762658649004891,42.093674329425767,5.4,0.7323937598229685,0.73386457649311498,1.4708166701464798E-3]
[254.66261342042606,1.3031084323301396,3.8854485031158976,42.61980074396422,5.5,0.74036268949424389,0.74263335006875586,2.2706605745119735E-3]
[255.66261342042606,1.3205617248500836,3.8946491093065738,43.146956647651905,5.6000000000000005,0.74818802700620046,0.75141928179688389,3.2312547906834244E-3]
[256.66261342042606,1.3380150173700267,3.9038672681476063,43.675118244124263,5.7,0.75587485567249146,0.76022197507142319,4.3471193989317314E-3]
[257.66261342042606,1.3554683098899698,3.9131025913299755,44.204263284913367,5.8000000000000007,0.76342799356293733,0.76904105908457498,5.6130655216376502E-3]
[258.66261342042606,1.3729216024099129,3.9223547158239764,44.734370969949225,5.9,0.77085201164214423,0.77787618716850593,7.0241755263616978E-3]
[259.66261342042606,1.3903748949298569,3.9316233022800962,45.265421855937007,6,0.77815125038364363,0.78672703526830234,8.5757848846587104E-3]
[260.66261342042606,1.4078281874498,3.9409080335549014,45.79739777189647,6.1000000000000005,0.78532983501076703,0.79559330053429334,1.0263465523526305E-2]
[261.66261342042606,1.4252814799697431,3.9502086133507661,46.330281741224155,6.2,0.79239168949825389,0.80447470002308807,1.2083010524834181E-2]
[262.66261342042606,1.4427347724896862,3.9595247649594008,46.864057909702922,6.3000000000000007,0.79934054945358179,0.81337096949773424,1.4030420044152447E-2]
[263.66261342042606,1.4601880650096293,3.9688562301001533,47.398711478941493,6.4,0.80617997398388719,0.82228186231837708,1.6101888334489889E-2]
[264.66261342042606,1.4776413575295733,3.9782027678449414,47.93422864477759,6.5,0.81291335664285558,0.83120714841564536,1.829379177278978E-2]
[265.66261342042606,1.4950946500495164,3.9875641536224951,48.470596540225188,6.6000000000000005,0.81954393554186866,0.84014661333977192,2.0602677797903257E-2]
[266.66261342042606,1.5125479425694595,3.9969401782952523,49.007803182584723,6.7,0.82607480270082645,0.84910005737909755,2.3025254678271101E-2]
[267.66261342042606,1.5300012350894026,4.0063306473029474,49.545837424374042,6.8000000000000007,0.83250891270623639,0.85806729474225296,2.5558382036016569E-2]
[268.66261342042606,1.5474545276093465,4.0157353798674196,50.084688907767543,6.9,0.83884909073725533,0.8670481527988112,2.8199062061555868E-2]
[269.66261342042606,1.5649078201292896,4.0251542082537535,50.624348022262495,7,0.84509804001425681,0.87604247137372715,3.0944431359470337E-2]
[270.66261342042606,1.5823611126492327,4.0345869770832508,51.164805865315259,7.1000000000000005,0.85125834871907535,0.88505010209127311,3.3791753372197753E-2]
[271.66261342042606,1.5998144051691758,4.044033542694196,51.706054205715844,7.2,0.85733249643126852,0.89407090776461629,3.6738411333347765E-2]
[272.66261342042606,1.6172676976891189,4.053493772546684,52.248085449487064,7.3000000000000007,0.86332286012045589,0.9031047618274699,3.9781901707014011E-2]
[273.66261342042606,{"$f":"A92*D_R-PI()","v":1.6347209902090629},{"$f":"fourbar($G$19,$F$20,$G$21,1,-1,B92)","v":4.0629675446681741},{"$f":"C92/D_R-180","v":52.790892608117161},{"$f":"1+1/$I$3*(A92-$A$28)","v":7.4},0.86923171973097624,{"$f":"1/$I$4*(D92-$C$4)+$C$8","v":0.91215154780463825},4.2919828073662014E-2]
[274.66261342042606,1.652174282729006,4.072454747136673,53.334469268948226,7.5,{"$f":"LOG(E93)","v":0.87506126339170009},0.92121115881848925,{"$f":"G93-F93","v":4.6149895426789156E-2}]
[{"$f":"A93+1","v":275.66261342042606},1.6696275752489491,4.08195527759875,53.878809567560722,7.6000000000000005,0.88081359228079137,0.93028349712869751,4.9469904847906143E-2]
[276.66261342042606,1.6870808677688922,4.0914690428198268,54.423908162006768,7.7,0.88649072517248184,0.9393684737027983,5.287774853031646E-2]
[277.66261342042606,1.7045341602888362,4.1009959582643889,54.969760208758174,7.8000000000000007,0.89209460269048046,0.94846600781532175,5.637140512484129E-2]
[278.66261342042606,1.7219874528087793,4.1105359477039576,55.516361340244828,7.9,0.89762709129044149,0.95757602667343267,5.9948935382991175E-2]
[279.66261342042606,1.7394407453287224,4.1200889428509004,56.063707643873613,8,0.90308998699194354,0.96669846506724566,6.3608478075302122E-2]
[280.66261342042606,1.7568940378486655,4.1296548830162205,56.611795642421129,8.1000000000000014,0.90848501887864985,0.97583326504303769,6.7348246164387837E-2]
[281.66261342042606,1.7743473303686086,4.1392337147896967,57.160622275707141,8.1999999999999993,0.91381385238371671,0.9849803755978046,7.1166523214087896E-2]
[282.66261342042606,1.7918006228885526,4.1488253917408606,57.71018488346175,8.3000000000000007,0.91907809237607396,0.99413975239371466,7.5061660017640697E-2]
[283.66261342042606,1.8092539154084957,4.1584298741393848,58.260481189304869,8.4,0.9242792860618817,1.0033113574910999,7.9032071429218198E-2]
[284.66261342042606,1.8267072079284388,4.1680471286936127,58.811509285765084,8.5,0.92941892571429274,1.0124951590987703,8.307623338447756E-2]
[285.66261342042606,1.8441605004483819,4.177677128306037,59.363267620269625,8.6000000000000014,0.93449845124356778,1.0216911313405126,8.7192680096944808E-2]
[286.66261342042606,1.8616137929683259,4.187319851844638,59.915754982042898,8.6999999999999993,0.93951925261861846,1.0308992540367339,9.138000141811542E-2]
[287.66261342042606,1.879067085488269,4.1969752839290653,60.468970489855792,8.8000000000000007,0.94448267215016868,1.040119512500282,9.5636840350113328E-2]
[288.66261342042606,1.896520378008212,4.2066434147307437,61.022913580572407,8.9,0.9493900066449128,1.0493518973455589,9.9961890700646094E-2]
[289.66261342042606,1.9139736705281551,4.216324239786033,61.577583998444993,9,0.95424250943932487,1.0585964043101019,0.10435389487077706]
[290.66261342042606,1.9314269630480982,4.2260177598216551,62.132981785111639,9.1,0.95904139232109353,1.0678530340878796,0.10881164176678604]
[291.66261342042606,1.9488802555680422,4.2357239805916524,62.689107270254709,9.2000000000000011,0.96378782734555535,1.0771217921735974,0.11333396482804203]
[292.66261342042606,1.9663335480879853,4.2454429127252018,63.24596106288115,9.3000000000000007,0.96848294855393513,1.0864026887173712,0.11791974016343609]
[293.66261342042606,1.9837868406079284,4.2551745715846501,63.803544043188651,9.4,0.97312785359969867,1.095695738389163,0.12256788478946434]
[294.66261342042606,2.0012401331278715,4.2649189771332008,64.361857354984465,9.5,0.97772360528884772,1.1050009602524267,0.12727735496357895]
[295.66261342042606,2.0186934256478155,4.2746761538116935,64.920902398625572,9.6,0.98227123303956843,1.1143183776464451,0.13204714460687672]
[296.66261342042606,2.0361467181677586,4.2844461304240085,65.480680824452747,9.7000000000000011,0.98677173426624487,1.123648018076898,0.13687628381065309]
[297.66261342042606,2.0536000106877017,4.2942289400306004,66.041194526690475,9.8000000000000007,0.99122607569249488,1.1329899131141934,0.14176383742169851]
[298.66261342042606,2.0710533032076448,4.3040246198497645,66.602445637790055,9.9,0.9956351945975499,1.1423440982991864,0.14670890370163647]
[299.66261342042606,2.0885065957275879,4.3138332111662088,67.164436523191,10,1,1.1517106130558687,0.15171061305586875]

{"sheet":"FFLoogxPP-P-PP","index":4,"n_rows":121,"n_cols":16,"rows_kept":121,"cut":false,"hidden":false,"merged":[]}
[null,"y=log x","1<x<10"]
[]
[null,"qin",48.688220955166422,null,"Dq",90,null,"Rx",{"$f":"F3/9","v":10},{"$f":"LN(2)","v":0.69314718055994529},null,null,null,30]
[null,"fin",108.53887428435502,null,"Df",60,null,"Ry",{"$f":"F4","v":60},null,null,null,null,10.909437254690339]
[null,null,null,null,null,null,null,null,"başlangıç 30 90 f değişti",null,null,null,null,96.55334768504602]
[null,"x","y","q","f",null,null,null,"başlangıç 30 120 q değişti"]
[null,{"$f":"5-4*COS(PI()/6)","v":1.5358983848622452},{"$f":"LOG(B7)","v":0.18636248369456612},{"$f":"$C$3+$I$3*(B7-1)","v":54.047204803788873},{"$f":"$C$4+$I$4*C7","v":119.72062330602898},null,{"$f":"D7*D_R","v":0.94330167532581166},2.0895190592300645]
[null,{"$f":"5-4*COS(PI()/2)","v":5},{"$f":"LOG(B8)","v":0.69897000433601886},{"$f":"$C$3+$I$3*(B8-1)","v":88.688220955166429},{"$f":"$C$4+$I$4*C8","v":150.47707454451614},null,1.5479014634038846,2.6263203995707531,null,{"$f":"I4/I3/B7/LN(10)","v":1.6965750580258745}]
[null,{"$f":"5-4*COS(5*PI()/6)","v":8.4641016151377553},{"$f":"LOG(B9)","v":0.92758086861227063},{"$f":"$C$3+$I$3*(B9-1)","v":123.32923710654399},{"$f":"$C$4+$I$4*C9","v":164.19372640109125},null,2.152501251481957,2.8657211368177822]
[null,null,null,null,null,null,null,null,null,{"$f":"I4/I3/B9/LN(10)","v":0.30786101229682616}]
[]
[]
[]
[null,null,{"$f":"COS(H7)","v":-0.49577129554661964},{"$f":"-COS(G7)","v":-0.58711852056667724},1,{"$f":"COS(H7-G7)","v":0.41193714586936281}]
[null,null,{"$f":"-SIN(H7)*J8","v":-1.4733959033107427},{"$f":"SIN(G7)","v":0.80950098382126523},0,{"$f":"-SIN(H7-G7)*(J8-1)","v":-0.63472773482458944},null,"Det",{"$f":"MDETERM(C14:F18)","v":{"$error":"#VALUE!"}}]
[null,null,{"$f":"COS(H8)","v":-0.87015859545352703},{"$f":"-COS(G8)","v":-2.2892863291808657E-2},1,{"$f":"COS(H8-G8)","v":0.47272220607915233}]
[null,null,{"$f":"COS(H9)","v":-0.96218817444734284},{"$f":"-COS(G9)","v":0.54944924543354479},1,{"$f":"COS(H9-G9)","v":0.75625911840021365}]
[null,null,{"$f":"-SIN(H9)*J10","v":-8.3856907605778394E-2},{"$f":"+SIN(G9)","v":0.83552709512768542},0,{"$f":"-SIN(H9-G9)*(J10-1)","v":0.45284731625022756},null,{"$f":"C21*C14+C22*D14+C23-F14","v":0}]
[null,null,{"$f":"C21*C17+C22*D17+C23-F17","v":-2.2386297507948072E-6},null,{"$f":"SQRT(C19^2+C20^2)","v":2.3890018493765127E-6},null,null,{"$f":"C21*C15+C22*D15+C23-F15","v":1.157869807567447},null,null,"qin","fin","a2","a3","a4","|emax|"]
[null,null,{"$f":"C21*C18+C22*D18-F18","v":8.3418623531006375E-7},null,null,null,null,null,null,null,30,10.909437254690339,6.0425539632172023E-2,1.0749174818239415,0.12926560264134038,"8.19x10-3"]
[null,null,{"$f":"MMULT(MINVERSE(C14:E16),F14:F16)","v":0.77108726288096174},null,"a2",{"$f":"1/C21","v":1.296870079611699},null,{"$f":"C21*C17+C22*D17+C23-F17","v":-2.2386297507948072E-6},null,null,30,96.55334768504602,6.83812781875098,5.2875401741016477,2.609860463707844,"6.8x10-4"]
[null,null,0.61938044476795617,null,"a3",{"$f":"SQRT(1+F21^2+F23^2-2*C23*F21*F23)","v":0.66317262693384271}]
[null,null,1.157869807567447,null,"a4",{"$f":"1/C22","v":1.614516584188638},null,{"$f":"MIN(H28:H121)","v":-1.1541972085944253E-2}]
[null,null,null,null,null,null,null,{"$f":"MAX(H28:H121)","v":1.1201632327850763E-4}]
[]
[]
[null,null,null,null,"x","yreq","ygen"]
[{"$f":"C3","v":48.688220955166422},{"$f":"A28*D_R","v":0.84976976260615256},{"$f":"fourbar($F$21,$F$22,$F$23,1,-1,B28)","v":1.8822739977658187},{"$f":"C28/D_R","v":107.84635595919836},{"$f":"1+1/$I$3*(A28-$A$28)","v":1},{"$f":"LOG(E28)","v":0},{"$f":"1/$I$4*(D28-$C$4)","v":-1.1541972085944253E-2},{"$f":"G28-F28","v":-1.1541972085944253E-2}]
[{"$f":"A28+1","v":49.688220955166422},0.86722305512609577,1.932248837446634,110.70970335475198,1.1000000000000001,{"$f":"LOG(E29)","v":4.1392685158225077E-2},{"$f":"1/$I$4*(D29-$C$4)","v":3.618048450661604E-2},{"$f":"G29-F29","v":-5.2122006516090377E-3}]
[{"$f":"A29+1","v":50.688220955166422},0.88467634764603909,1.9749393639238533,113.15569034708814,1.2,7.9181246047624818E-2,7.6946934378885362E-2,-2.2343116687394554E-3]
[51.688220955166422,0.9021296401659824,2.0128190210315409,115.32603482876138,1.3,0.11394335230683679,0.1131193424067727,-8.2400990006409325E-4]
[52.688220955166422,0.91958293268592572,2.0471661794665117,117.29398204535237,1.4,0.14612803567823801,0.14591846268328912,-2.0957299494889225E-4]
[53.688220955166422,0.93703622520586904,2.0787511059082715,119.10366502669636,1.5,0.17609125905568124,0.17607984570568908,-1.1413349992162036E-5]
[{"$f":"D7","v":54.047204803788873},0.94330167532581166,2.0895190592300654,119.72062330602903,1.5358983848622452,0.18636248369456612,0.18636248369456682,6.9388939039072284E-16]
[{"$f":"A33+1","v":54.688220955166422},{"$f":"A35*D_R","v":0.95448951772581225},{"$f":"fourbar($F$21,$F$22,$F$23,1,-1,B35)","v":2.108084502086661},{"$f":"C35/D_R","v":120.78434482650326},{"$f":"1+1/$I$3*(A35-$A$28)","v":1.6},{"$f":"LOG(E35)","v":0.20411998265592479},{"$f":"1/$I$4*(D35-$C$4)","v":0.20409117570247068},{"$f":"G35-F35","v":-2.8806953454113549E-5}]
[{"$f":"A34+1","v":55.047204803788873},0.96075496784575498,2.1181381203807255,121.36037472358866,1.6358983848622453,0.21375632362369709,0.21369167398722741,-6.464963646968247E-5]
[56.047204803788873,0.9782082603656983,2.1449724379716137,122.89786786766022,1.7358983848622451,0.23952429907478445,0.23931655972175345,-2.0773935303100566E-4]
[57.047204803788873,0.99566155288564151,2.1702658172007525,124.34707174711374,1.835898384862245,0.26384863976561435,0.26346995771264548,-3.7868205296887059E-4]
[58.047204803788873,1.0131148454055849,2.1942082813051305,125.71887389143807,1.9358983848622451,0.28688255749107427,0.28633332678471746,-5.4923070635681803E-4]
[59.047204803788873,1.0305681379255283,2.2169519349443387,127.02198925567205,2.0358983848622452,0.3087560978322505,0.30805191618861727,-7.0418164363322822E-4]
[60.047204803788873,1.0480214304454714,2.2386211919279644,128.26354622601818,2.1358983848622453,0.32958058733435153,0.32874453236105267,-8.3605497329886092E-4]
[61.047204803788873,1.0654747229654147,2.2593196497989148,129.44948050445299,2.2358983848622449,0.34945206223030667,0.3485101036682996,-9.4195856200707251E-4]
[62.047204803788873,1.082928015485358,2.2791348730524312,130.58480916698898,2.3358983848622454,0.36845394637980056,0.36743224804389929,-1.0216983359012666E-3]
[63.047204803788873,1.1003813080053013,2.2981418197153882,131.67382699220667,2.4358983848622451,0.38665916745260009,0.38558254513086088,-1.0766223217392179E-3]
[64.047204803788873,1.1178346005252446,2.3164053581153699,132.72025066150073,2.5358983848622452,0.40413184708912325,0.40302293961909519,-1.1089074700280643E-3]
[65.047204803788873,1.135287893045188,2.333982155808199,133.72732698665513,2.6358983848622453,0.42092866398561896,0.41980754503833517,-1.1211189472837835E-3]
[66.047204803788873,1.1527411855651313,2.3509221243497187,134.69791568916858,2.7358983848622449,0.43709996303596726,0.43598402341355941,-1.1159396224078577E-3]
[67.047204803788873,1.1701944780850746,2.3672695429338386,135.63455377997238,2.8358983848622454,0.45269066526834972,0.45159465826028933,-1.0960070080603956E-3]
[68.047204803788873,1.1876477706050179,2.3830639453220019,136.53950637674549,2.9358983848622451,0.46774102002560347,0.46667720153984127,-1.0638184857622024E-3]
[69.047204803788873,1.205101063124961,2.3983408292670694,137.41480735090903,3.0358983848622452,0.48228723111272032,0.48126555110923352,-1.0216800034867912E-3]
[70.047204803788873,1.2225543556449043,2.4131322307566956,138.26229222934813,3.1358983848622453,0.49636198143312721,0.49539029908321858,-9.7168234990863134E-4]
[71.047204803788873,1.2400076481648477,2.4274671938645977,139.08362511490665,3.2358983848622453,0.50999487524353926,0.50907918050919387,-9.1569473434538473E-4]
[72.047204803788873,1.257460940684791,2.4413721589602364,139.88032092916347,3.335898384862245,0.52321281307908962,0.52235744408014095,-8.5536899894866902E-4]
[73.047204803788873,1.2749142332047343,2.4548712863293995,140.65376395452606,3.4358983848622451,0.53604031128662788,0.53524816116951734,-7.9215011711053496E-4]
[74.047204803788873,1.2923675257246776,2.4679867281548216,141.4052234175721,3.5358983848622452,0.54849977570536845,0.54777248555361813,-7.2729015175032607E-4]
[75.047204803788873,1.3098208182446209,2.4807388588080737,142.13586668380285,3.6358983848622453,0.56061173717086543,0.55994987332413049,-6.6186384673494469E-4]
[76.047204803788873,1.3272741107645643,2.4931464711846272,142.84677050681364,3.7358983848622453,0.57239505505972288,0.57179827037431041,-5.9678468541246588E-4]
[77.047204803788873,1.3447274032845076,2.505226945150878,143.53893067959748,3.8358983848622454,0.58386709394228453,0.58333427325404108,-5.3282068824345163E-4]
[78.047204803788873,1.3621806958044507,2.5169963929115022,144.21327036348094,3.9358983848622451,0.59504387749729293,0.59457326798543209,-4.7060951186084221E-4]
[79.047204803788873,1.379633988324394,2.5284697851402917,144.8706473148888,4.0358983848622447,0.60594022311265283,0.60552955050889634,-4.1067260375649006E-4]
[80.047204803788873,1.3970872808443373,{"$f":"fourbar($F$21,$F$22,$F$23,1,-1,B61)","v":2.539661060971218},145.51186018736763,{"$f":"1+1/$I$3*(A61-$A$28)","v":4.1358983848622453},0.61656986000954961,0.6162164317168769,-3.5342829267270837E-4]
[81.047204803788873,1.4145405733642806,2.5505832243640496,146.13765405292918,4.2358983848622458,0.62694553325250846,0.626646329476236,-2.9920377627246086E-4]
[82.047204803788873,1.4319938658842239,2.5612484289004747,146.7487252605101,4.3358983848622454,0.63707909562195375,0.63683084960258474,-2.4824601936901391E-4]
[83.047204803788873,1.4494471584041673,2.5716680527031448,147.34572572851715,4.4358983848622451,0.64698158901024594,0.64678085740270219,-2.0073160754374708E-4]
[84.047204803788873,1.4669004509241106,2.5818527648794705,147.92926675177611,4.5358983848622447,0.65666331674289236,0.65650654112368489,-1.5677561920746097E-4]
[85.047204803788873,1.4843537434440539,2.5918125846581637,148.49992238980616,4.6358983848622453,0.66613390801259853,0.66601746842418563,-1.164395884128977E-4]
[86.047204803788873,1.5018070359639972,2.6015569341970952,149.05823249248718,4.7358983848622458,0.67540237543634873,0.67532263680220272,-7.9738634146009346E-5]
[87.047204803788873,1.5192603284839403,2.6110946858865924,149.60470541033914,4.8358983848622454,0.68447716659790392,0.68443051876640193,-4.6647831501989145E-5]
[88.047204803788873,1.5367136210038836,2.6204342048456377,150.13982042937485,4.9358983848622451,0.69336621031451628,0.69334910241699721,-1.7107897519075266E-5]
[{"$f":"D8","v":88.688220955166429},{"$f":"A70*D_R","v":1.5479014634038846},{"$f":"fourbar($F$21,$F$22,$F$23,1,-1,B70)","v":2.6263203995707536},{"$f":"C70/D_R","v":150.47707454451617},5.0000000000000009,0.69897000433601886,{"$f":"1/$I$4*(D70-$C$4)","v":0.69897000433601919},{"$f":"G70-F70","v":0}]
[{"$f":"A69+1","v":89.047204803788873},1.554166913523827,2.629583387204022,150.66402996450583,5.0358983848622456,0.70207695826290173,0.70208592800251357,8.969739611841554E-6]
[90.047204803788873,1.5716202060437703,2.6385496946768754,151.17776154051694,5.1358983848622453,0.71061642251208723,0.71064812093603202,3.1698423944792609E-5]
[91.047204803788873,1.5890734985637136,2.6473401858658807,151.68141958549387,5.2358983848622449,0.71899120943680928,0.71904242168564758,5.1212248838305996E-5]
[92.047204803788873,1.6065267910836569,2.655961544661003,152.17538705812237,5.3358983848622454,0.72720755042239638,0.72727521289612251,6.7662473726137762E-5]
[93.047204803788873,1.6239800836036002,2.6644201060657915,152.66002692736902,5.4358983848622451,0.73527132971864673,0.73535254405023331,8.121433158658764E-5]
[94.047204803788873,1.6414333761235436,2.6727218797263248,153.13568352059045,5.5358983848622456,0.74318810975458505,0.7432801539372571,9.2044182672057495E-5]
[95.047204803788873,1.6588866686434869,2.6808725714074324,153.60268375403029,5.6358983848622453,0.75096315418688553,0.75106349116125459,1.0033697436906408E-4]
[96.047204803788873,1.67633996116343,2.6888776026287555,154.06133825788257,5.7358983848622449,0.75860144892116177,0.75870773289212579,1.0628397096401621E-4]
[97.047204803788873,1.6937932536833733,2.6967421286466742,154.51194240658012,5.8358983848622454,0.76610772131637495,0.76621780203708501,1.1008072071005959E-4]
[98.047204803788873,1.7112465462033166,2.704471054945238,154.9547772636555,5.9358983848622451,0.77348645775760549,0.77359838298834138,1.1192523073588756E-4]
[99.047204803788873,1.7286998387232599,2.7120690523796318,155.3901104493975,6.0358983848622456,0.78074191976076279,0.7808539360840413,1.1201632327850763E-4]
[100.04720480378887,1.7461531312432033,2.7195405710986149,155.81819693854823,6.1358983848622453,0.78787815875399114,0.78798871090322009,1.1055214922894852E-4]
[101.04720480378887,1.7636064237631466,2.7268898533576134,156.2392797944392,6.2358983848622458,0.79489902966414805,0.79500675850140301,1.0772883725496119E-4]
[102.04720480378887,1.7810597162830899,2.7341209453212034,156.65359084522387,6.3358983848622454,0.80180820342242698,0.80191194268114763,1.037392587206476E-4]
[103.04720480378887,1.7985130088030332,2.7412377079424508,157.06135130721782,6.4358983848622451,0.80860917849069769,0.8087079503810467,9.8771890349014235E-5]
[104.04720480378887,1.8159663013229765,2.7482438269966036,157.46277235978695,6.5358983848622456,0.81530529149916642,0.81539830125719892,9.3009758032502887E-5]
[105.04720480378887,1.8334195938429196,2.7551428223378682,157.85805567572183,6.6358983848622453,0.82189972707633008,0.82198635652278018,8.6629446450103842E-5]
[106.04720480378887,1.850872886362863,2.7619380564402034,158.24739391058901,6.7358983848622458,0.82839552694371998,0.82847532710389993,7.9800160179943624E-5]
[107.04720480378887,1.8683261788828063,2.7686327422760968,158.63097115415172,6.8358983848622454,0.83479559834044814,0.83486828116327838,7.2682822830238969E-5]
[108.04720480378887,1.8857794714027496,2.7752299505810698,159.00896334659532,6.9358983848622451,0.84110272183596302,0.84116815103733844,6.5429201375422075E-5]
[109.04720480378887,1.9032327639226929,2.7817326165459959,159.38153866196896,7.0358983848622456,0.84731955858356456,0.847377739626899,5.8181043334437632E-5]
[110.04720480378887,1.9206860564426362,2.7881435459741732,159.74885786095973,7.1358983848622453,0.85344865706203876,0.8534997262767452,5.1069214706433996E-5]
[111.04720480378887,1.9381393489625796,2.794465420935409,160.11107461484798,7.2358983848622458,0.85949245934815865,0.85953667217488272,4.4212826724066012E-5]
[112.04720480378887,{"$f":"A94*D_R","v":1.9555926414825229},{"$f":"fourbar($F$21,$F$22,$F$23,1,-1,B94)","v":2.8007008049449409},{"$f":"C94/D_R","v":160.4683358022375},{"$f":"1+1/$I$3*(A94-$A$28)","v":7.3358983848622454},0.8654533069586865,0.86549102529804145,3.7718339354952946E-5]
[113.04720480378887,1.9730459340024662,2.8068521476909494,160.82078177992221,7.4358983848622451,{"$f":"LOG(E95)","v":0.87133344629685683},{"$f":"1/$I$4*(D95-$C$4)","v":0.87136512492611995},{"$f":"G95-F95","v":3.1678629263121039E-5}]
[{"$f":"A95+1","v":114.04720480378887},1.9904992265224095,2.8129217893304865,161.16854662902455,7.5358983848622447,0.87713503373504165,0.87716120574449219,2.6172009450542433E-5]
[115.04720480378887,2.0079525190423526,2.8189119643698732,161.51175837732603,7.6358983848622444,0.88286014036237814,0.88288140154951689,2.1261187138743587E-5]
[116.04720480378887,2.0254058115622962,2.8248248051418852,161.8505391984952,7.7358983848622449,0.88851075642351751,0.88852774856900296,1.6992145485450472E-5]
[117.04720480378887,2.0428591040822393,2.8306623448884078,162.18500558871079,7.8358983848622445,0.89408879547229725,0.89410218840592959,1.3392933632339066E-5]
[118.04720480378887,2.0603123966021828,2.8364265204534034,162.51526852095748,7.9358983848622451,0.89959609826203202,0.89960657061004101,1.0472348008994103E-5]
[119.04720480378887,2.0777656891221259,2.8421191745871655,162.84143357704974,8.0358983848622447,0.90503443639221148,0.90504265487824542,8.2184860339395982E-6]
[120.04720480378887,2.095218981642069,2.8477420578587265,163.16360105720491,8.1358983848622444,0.91040551572968387,0.91041211288083157,6.5971511477025402E-6]
[121.04720480378887,2.1126722741620125,2.8532968301687984,163.48186606672817,8.2358983848622458,0.91571097962085435,0.9157165297062192,5.5500853648471349E-6]
[122.04720480378887,2.1301255666819556,2.8587850618508144,163.79631857909766,8.3358983848622437,0.92095241191003374,0.92095740491237732,4.9930023435784676E-6]
[123.04720480378887,2.1475788592018992,2.8642082343422075,164.10704347442595,8.4358983848622451,0.92613133977780981,0.92613615316784881,4.8133900389935036E-6]
[{"$f":"D9","v":123.32923710654399},{"$f":"A106*D_R","v":2.152501251481957},{"$f":"fourbar($F$21,$F$22,$F$23,1,-1,B106)","v":2.8657261760195158},{"$f":"C106/D_R","v":164.19401512608272},8.4641016151377571,0.92758086861227074,{"$f":"1/$I$4*(D106-$C$4)","v":0.92758568069546166},{"$f":"G106-F106","v":4.8120831909193029E-6}]
[{"$f":"A105+1","v":124.04720480378887},2.1650321517218423,2.8695677404019295,164.41412055192279,8.5358983848622447,0.93124923641216317,0.93125410445946288,4.8680472997109092E-6]
[125.04720480378887,2.1824854442417858,2.8748648838432871,164.71762451458801,8.6358983848622444,0.9363075235240228,0.93631250383721654,4.9803131937364853E-6]
[126.04720480378887,2.1999387367617289,2.8801008787429718,165.01762492389196,8.7358983848622458,0.94130757371800333,0.94131251065894894,4.9369409456101465E-6]
[127.04720480378887,2.2173920292816724,2.8852768480777522,165.31418612166402,8.8358983848622437,0.94625071272821548,0.9462551972884834,4.4845602679144392E-6]
[128.04720480378887,2.2348453218016155,2.8903938217290026,165.6073671157603,8.9358983848622451,0.95113822152826411,0.95114154719008803,3.3256618239274616E-6]
[129.04720480378887,2.2522986143215586,2.8954527337818776,165.89722142531789,9.0358983848622447,0.95597133832382941,0.95597245234938122,1.114025551807174E-6]
[130.04720480378887,2.2697519068415022,2.9004544190298036,166.1837968804769,9.1358983848622444,0.96075126043559178,0.96074870993536476,-2.5505002270165278E-6]
[131.04720480378887,2.2872051993614453,2.9053996085753768,166.46713537033048,9.235898384862244,0.96547914607965879,0.96547101809959102,-8.1279800677735992E-6]
[132.04720480378887,2.3046584918813888,2.9102889243949108,166.74727253149632,9.3358983848622454,0.97015611605211971,0.97013997078568837,-1.6145266431344396E-5]
[133.04720480378887,2.3221117844013319,2.9151228727044307,167.0242373680162,9.4358983848622451,0.97478325532385601,0.97475605139435306,-2.7203929502950253E-5]
[134.04720480378887,2.3395650769212755,2.9199018359285307,167.29805179120538,9.5358983848622447,0.97936161455128545,0.9793196251141727,-4.1989437112754935E-5]
[135.04720480378887,2.3570183694412186,2.9246260630279934,167.5687300654659,9.6358983848622444,0.98389221150830086,0.98383092968518138,-6.1281823119485601E-5]
[136.04720480378887,2.3744716619611621,2.9292956578849534,167.83627814280572,9.735898384862244,0.98837603244428618,0.98829006430751176,-8.5968136774416948E-5]
[137.04720480378887,2.3919249544811052,2.9339105653719297,168.10069286465279,9.8358983848622454,0.99281403337274265,0.99269697633829612,-1.170570344465327E-4]
[138.04720480378887,2.4093782470010483,2.9384705546386507,168.36196100426085,9.9358983848622451,0.99720714129473631,0.99705144533176382,-1.5569596297249078E-4]

{"sheet":"FFLoogx4P","index":5,"n_rows":113,"n_cols":10,"rows_kept":113,"cut":false,"hidden":false,"merged":[]}
[null,"y=log x","1<x<10",null,null,null,null,{"$f":"PI()/180","v":1.7453292519943295E-2}]
[]
[null,"qin",45,null,"Dq",90,null,"Rx",{"$f":"F3/9","v":10},{"$f":"LN(2)","v":0.69314718055994529}]
[null,"fin",108.90922822958626,null,"Df",60,null,"Ry",{"$f":"F4","v":60}]
[]
[null,"x","y","q","f"]
[{"$f":"C4-180","v":-71.090771770413738},{"$f":"5.5-4.5*COS(PI()/8)","v":1.34254210369921},{"$f":"LOG(B7)","v":0.12792791457085262},{"$f":"$C$3+$I$3*(B7-1)","v":48.425421036992098},{"$f":"$C$4+$I$4*C7","v":116.58490310383742},null,{"$f":"D7*D_R","v":0.84518303876003886},{"$f":"E7*D_R","v":2.0347904172805196},null,"Başlangıç 45,110"]
[null,{"$f":"5.5-4.5*COS(3*PI()/8)","v":3.7779245543570958},{"$f":"LOG(B8)","v":0.57725328075533255},{"$f":"$C$3+$I$3*(B8-1)","v":72.779245543570966},{"$f":"$C$4+$I$4*C8","v":143.5444250749062},null,1.2702374618527235,2.5053228404394212,null,"f değişti"]
[null,{"$f":"5.5-4.5*COS(5*PI()/8)","v":7.2220754456429042},0.85866202098574729,{"$f":"$C$3+$I$3*(B9-1)","v":107.22075445642903},160.42894948873109,null,1.8713551917370697,2.8000133840940311]
[null,{"$f":"5.5-4.5*COS(7*PI()/8)","v":9.6574578963007909},0.9848628234237341,131.57457896300792,168.00099763501032,null,2.2964096148297548,2.9321705553661368]
[]
[null,null,{"$f":"COS(H7)","v":-0.44752347111108959},{"$f":"-COS(G7)","v":-0.66359436366418179},1,{"$f":"COS(H7-G7)","v":0.37202434120264288},null,"Det",{"$f":"MDETERM(C12:F15)","v":-2.3111496704535078E-9}]
[null,null,{"$f":"COS(H8)","v":-0.80431782300869481},{"$f":"-COS(G8)","v":-0.29605406455538291},1,{"$f":"COS(H8-G8)","v":0.32944051354702902}]
[null,null,-0.94222682409716696,0.2960540645553828,1,0.59890906354367834]
[null,null,-0.978151220747146,0.66359436366418212,1,0.80462009062055673,null,{"$f":"C17*C12+C18*D12+C19-F12","v":0}]
[null,null,{"$f":"C17*C15+C18*D15+C19-F15","v":-1.4393075398189126E-8},null,null,null,null,{"$f":"C17*C13+C18*D13+C19-F13","v":0}]
[null,null,{"$f":"MMULT(MINVERSE(C12:E14),F12:F14)","v":0.77381766749647629},null,"a2",{"$f":"1/C17","v":1.2922940920117383},null,{"$f":"C17*C14+C18*D14+C19-F14","v":0}]
[null,null,0.63533154343051934,null,"a3",{"$f":"SQRT(1+F17^2+F19^2-2*C19*F17*F19)","v":0.71421713969683964}]
[null,null,1.1399283410463106,null,"a4",{"$f":"1/C18","v":1.5739813493289292},null,{"$f":"MIN(H23:H113)","v":-1.8959134104817865E-3}]
[null,null,null,null,null,null,null,{"$f":"MAX(H23:H113)","v":7.3380842077497288E-4}]
[]
[null,null,null,null,"x","yreq","ygen"]
[{"$f":"C3","v":45},{"$f":"A23*D_R","v":0.78539816339744828},{"$f":"fourbar($F$17,$F$18,$F$19,1,-1,B23)","v":1.9001271432538835},{"$f":"C23/D_R","v":108.8692658466975},{"$f":"1+1/$I$3*(A23-$A$23)","v":1},{"$f":"LOG(E23)","v":0},{"$f":"1/$I$4*(D23-$C$4)","v":-6.6603971481266435E-4},{"$f":"G23-F23","v":-6.6603971481266435E-4}]
[{"$f":"A23+1","v":46},0.8028514559173916,{"$f":"fourbar($F$17,$F$18,$F$19,1,-1,B24)","v":1.9445029290381395},111.411811084712,{"$f":"1+1/$I$3*(A24-$A$23)","v":1.1000000000000001},{"$f":"LOG(E24)","v":4.1392685158225077E-2},{"$f":"1/$I$4*(D24-$C$4)","v":4.1709714252095624E-2},{"$f":"G24-F24","v":3.1702909387054667E-4}]
[{"$f":"A24+1","v":47},0.82030474843733492,1.9841844659549948,113.68539567464038,1.2,7.9181246047624818E-2,7.9602790750901889E-2,4.2154470327707139E-4]
[48,0.83775804095727824,2.0203125424324542,115.75538197872467,1.3,0.11394335230683679,0.11410256248564016,1.5921017880336785E-4]
[49,0.85521133347722145,2.0536065217898214,117.6629864790975,1.4,0.14612803567823801,0.14589597082518727,-2.320648530507452E-4]
[50,0.87266462599716477,2.0845584920079268,119.43640374020954,1.5,0.17609125905568124,0.17545292517705466,-6.3833387862657909E-4]
[51,0.89011791851710809,2.1135250099434133,121.09606296510293,1.6,0.20411998265592479,0.20311391225861114,-1.006070397313652E-3]
[52,0.90757121103705141,2.140775736983028,122.65741461313588,1.7000000000000002,0.23044892137827397,0.22913643972582703,-1.312481652446934E-3]
[53,0.92502450355699462,2.1665214745144903,124.13253671414023,1.8,0.25527250510330607,0.25372180807589945,-1.5506970274066223E-3]
[54,0.94247779607693793,2.1909313942551538,125.53112209353333,1.9,0.27875360095282892,0.27703156439911775,-1.7220365537111704E-3]
[55,0.95993108859688125,2.2141441795601224,126.86111672225132,2,0.3010299956639812,0.29919814154441771,-1.8318541195634919E-3]
[56,0.97738438111682457,2.2362755335076985,128.12914989835764,2.1,0.3222192947339193,0.3203320278128563,-1.8872669210630022E-3]
[57,0.99483767363676789,2.2574234153626866,129.34083427428973,2.2000000000000002,0.34242268082220628,0.3405267674117245,-1.8959134104817865E-3]
[58,1.0122909661567112,2.2776718002538372,130.50098127050913,2.2999999999999998,0.36172783601759284,0.35986255068204781,-1.8652853355450305E-3]
[59,1.0297442586766545,2.2970934465000497,131.61375963161322,2.4000000000000004,0.38021124171160608,0.37840885670044933,-1.8023850111567596E-3]
[60,1.0471975511965976,2.3157519768701444,132.68281467373632,2.5,0.3979400086720376,0.39622644073583424,-1.713567936203364E-3]
[61,1.064650843716541,2.3337034736472164,133.71135967500524,2.6,0.41497334797081797,0.41336885742364965,-1.6044905471683246E-3]
[62,1.0821041362364843,2.3509977215720457,134.70224709095083,2.7,0.43136376415898736,0.42988364768940951,-1.4801164695778524E-3]
[63,1.0995574287564276,2.3676791908121242,135.65802487448462,2.8,0.44715803134221921,0.44581327741497273,-1.3447539272464781E-3]
[64,1.1170107212763709,2.3837878246650162,136.5809816079769,2.9000000000000004,0.46239799789895614,0.46119588963984387,-1.2021082591122667E-3]
[65,1.1344640137963142,2.3993596783199616,137.47318310160065,3,0.47712125471966244,0.47606591453357322,-1.0553401860892153E-3]
[66,1.1519173063162575,2.4144274424195853,138.33650239120783,3.1,0.49136169383427269,0.49045456936035947,-9.0712447391322337E-4]
[67,1.1693705988362009,2.4290208763869652,139.17264456614154,3.2,0.50514997831990605,0.50439027227592137,-7.5970604398467589E-4]
[68,1.1868238913561442,2.4431671702547755,139.98316750051887,3.3000000000000003,0.51851393987788752,0.51789898784887689,-6.1495202901062918E-4]
[69,1.2042771838760873,2.4568912492428261,140.76949930423834,3.4000000000000004,0.53147891704225514,0.53100451791086789,-4.7439913138724865E-4]
[70,1.2217304763960306,2.4702160320462161,141.53295312180109,3.5,0.54406804435027567,0.54372874820358041,-3.3929614669525598E-4]
[71,1.2391837689159739,2.4831626513625498,142.27473976758955,3.6,0.55630250076728727,0.55609185896672153,-2.1064180056573623E-4]
[72,1.2566370614359172,2.4957506433608998,142.99597858163946,3.7,0.56820172406699498,0.56811250586755335,-8.9218199441631896E-5]
[73,1.2740903539558606,2.5079981114101293,143.69770681058165,3.8000000000000003,0.57978359661681023,0.57980797634992309,2.4379733112867008E-5]
[74,1.2915436464758039,2.5199218683223741,144.3808877575932,3.9000000000000004,0.59106460702649921,0.5911943254667823,1.2971844028308865E-4]
[75,1.3089969389957472,2.5315375605454604,145.04641789809898,4,0.6020599913279624,0.60228649447521199,2.2650314724959042E-4]
[76,1.3264502315156905,2.5428597770960524,145.69513312118107,4.0999999999999996,0.61278385671973545,0.61309841485991345,3.1455814017800066E-4]
[77,{"$f":"A55*D_R","v":1.3439035240356338},2.5539021455193849,{"$f":"C55/D_R","v":146.32781422766655},4.2,0.62324929039790045,0.62364309996800482,3.9380957010437534E-4]
[78,1.3613568165555769,2.5646774167598663,146.94519179285484,4.3000000000000007,0.63346845557958664,0.63393272605447637,4.642704748897275E-4]
[79,1.3788101090755203,2.5751975405054028,147.54795048342945,4.4000000000000004,0.64345267648618742,0.64397870423071968,5.2602774453225365E-4]
[80,1.3962634015954636,2.585473732309457,148.13673290326867,4.5,0.65321251377534373,0.65379174456137334,5.7923078602961642E-4]
[81,1.4137166941154069,2.5955165335848256,148.7121430308359,4.5999999999999996,0.66275783168157409,0.66338191335416075,6.2408167258665159E-4]
[82,1.4311699866353502,2.6053358653918028,149.27474930101425,4.7,0.67209785793571752,0.67275868452379983,6.6082658808230832E-4]
[83,1.4486232791552935,2.6149410768026815,149.82508737618849,4.8000000000000007,0.68124123737558728,0.68193098577670386,6.8974840111657443E-4]
[84,1.4660765716752369,2.6243409885084388,150.363662644724,4.9000000000000004,0.69019608002851374,0.69090724025229566,7.1116022378192589E-4]
[85,1.4835298641951802,2.6335439322370684,150.89095247947088,5,0.69897000433601886,0.69969540416474363,7.2539982872477093E-4]
[86,1.5009831567151235,2.6425577864725902,151.4074082843124,5.1000000000000005,0.70757017609793638,0.70830300091210219,7.3282481416581113E-4]
[87,1.5184364492350666,2.6513900088964562,151.91345735292072,5.2,0.71600334363479923,0.7167371520555742,7.3380842077497288E-4]
[88,1.5358897417550099,2.6600476659162684,152.40950456062777,5.3,0.72427586960078905,0.72500460551735846,7.2873591656941183E-4]
[89,1.5533430342749532,2.6685374595988245,152.89593390757508,5.4,0.7323937598229685,0.7331117612998137,7.1800147684519811E-4]
[90,1.5707963267948966,2.6768657522837138,153.37310992896892,5.5,0.74036268949424389,0.74106469498971084,7.0200549546695079E-4]
[91,1.5882496193148399,2.6850385891190283,153.84137898628148,5.6000000000000005,0.74818802700620046,0.74886917927825369,6.8115227205323148E-4]
[92,1.6057029118347832,2.693061718730986,154.30107045153309,5.7,0.75587485567249146,0.75653070369911379,6.5584802662232988E-4]
[93,1.6231562043547265,2.7009406122137944,154.75249779533115,5.8000000000000007,0.76342799356293733,0.76405449276241488,6.2649919947754817E-4]
[94,1.6406094968746698,2.7086804806040861,155.19595958808156,5.9,0.77085201164214423,0.77144552264158839,5.9351099944415786E-4]
[95,1.6580627893946132,2.7162862909852272,155.63174042269776,6,0.77815125038364363,0.77870853655185834,5.5728616821471011E-4]
[96,1.6755160819145565,2.7237627813503567,156.06011176618989,6.1000000000000005,0.78532983501076703,0.78584805894339382,5.1822393262679345E-4]
[97,1.6929693744344996,2.7311144743386238,156.48133274669351,6.2,0.79239168949825389,0.79286840861845409,4.7671912020019747E-4]
[98,1.7104226669544429,2.7383456899466108,156.89565088178028,6.3000000000000007,0.79934054945358179,0.79977371086990034,4.3316141631855043E-4]
[99,1.7278759594743862,2.7454605573059641,157.30330275326662,6.4,0.80617997398388719,0.80656790872800599,3.879347441188008E-4]
[100,1.7453292519943295,2.752463025608626,157.70451463318329,6.5,0.81291335664285558,0.81325477339328389,3.4141675042831388E-4]
[101,1.7627825445142729,2.7593568742526431,158.09950306508745,6.6000000000000005,0.81954393554186866,0.8198379139250197,2.9397838315103897E-4]
[102,1.7802358370342162,2.7661457222740102,158.48847540446755,6.7,0.82607480270082645,0.82632078624802141,2.4598354719496118E-4]
[103,1.7976891295541595,2.7728330371234762,158.87163032161709,6.8000000000000007,0.83250891270623639,0.83270670153384707,1.9778882761067873E-4]
[104,1.8151424220741028,2.7794221428413057,159.24915827001425,6.9,0.83884909073725533,0.83899883400713315,1.4974326987782227E-4]
[105,1.8325957145940461,2.78591622767786,159.62124192294871,7,0.84509804001425681,0.84520022822270746,1.0218820845064869E-4]
[106,1.8500490071139892,2.7923183512031633,159.98805658087002,7.1000000000000005,0.85125834871907535,0.85131380585472938,5.5457135654024547E-5]
[107,1.8675022996339325,2.7986314509445096,160.34977055169429,7.2,0.85733249643126852,0.85734237203513386,9.8756038653391442E-6]
[108,1.8849555921538759,2.8048583485874201,160.70654550609302,7.3000000000000007,0.86332286012045589,0.86328862127511263,-3.4238845343259605E-5]
[109,{"$f":"A87*D_R","v":1.9024088846738192},2.8110017557719358,{"$f":"C87/D_R","v":161.05853680959612},7.4,0.86923171973097624,0.86915514300016428,-7.6576730811961369E-5]
[110,1.9198621771937625,{"$f":"fourbar($F$17,$F$18,$F$19,1,-1,B88)","v":2.8170642795132022},161.40589383316853,{"$f":"1+1/$I$3*(A88-$A$23)","v":7.5},{"$f":"LOG(E88)","v":0.87506126339170009},{"$f":"1/$I$4*(D88-$C$4)","v":0.87494442672637118},{"$f":"G88-F88","v":-1.1683666532891213E-4}]
[{"$f":"A88+1","v":111},1.9373154697137058,2.8230484272725929,161.74876024376431,7.6000000000000005,0.88081359228079137,0.88065886690296746,-1.547253778239055E-4]
[112,1.9547687622336491,2.8289566117031058,162.08727427621758,7.7,0.88649072517248184,0.88630076744385533,-1.8995772862651084E-4]
[113,1.9722220547535925,2.8347911550905511,162.42156898770418,7.8000000000000007,0.89209460269048046,0.89187234596863185,-2.2225672184861267E-4]
[114,1.9896753472735358,2.8405542935099368,162.75177249588467,{"$f":"1+1/$I$3*(A92-$A$23)","v":7.9},0.89762709129044149,{"$f":"1/$I$4*(D92-$C$4)","v":0.89737573777164004},{"$f":"G92-F92","v":-2.5135351880145596E-4}]
[115,2.0071286397934789,2.8462481807145763,163.07800820173406,8,0.90308998699194354,0.90281299953579675,-2.7698745614679332E-4]
[116,2.0245819323134224,2.8518748917736625,163.40039499795927,8.1000000000000014,0.90848501887864985,0.90818611280621675,-2.9890607243310274E-4]
[117,2.0420352248333655,2.857436426472387,163.71904746381176,8.1999999999999993,0.91381385238371671,0.91349698723709161,-3.1686514662510046E-4]
[118,2.0594885173533091,2.8629347124871733,164.03407604701482,8.3000000000000007,0.91907809237607396,0.91874746362380932,-3.3062875226463895E-4]
[119,2.0769418098732522,2.8683716083470423,164.34558723343744,8.4,0.9242792860618817,0.92393931673085294,-3.3996933102875548E-4]
[120,2.0943951023931953,2.8737489061907802,164.65368370506843,8.5,0.92941892571429274,0.92907425792470277,-3.4466778958996969E-4]
[121,2.1118483949131388,2.8790683343281449,164.95846448676258,8.6000000000000014,0.93449845124356778,0.9341539376196053,-3.4451362396248353E-4]
[122,2.1293016874330819,2.8843315596120038,165.26002508215424,8.6999999999999993,0.93951925261861846,0.93917994754279965,-3.3930507581880764E-4]
[123,2.1467549799530254,2.8895401896269375,165.55845759905509,8.8000000000000007,0.94448267215016868,0.94415382282448046,-3.2884932568821856E-4]
[124,2.1642082724729685,2.8946957746984321,165.85385086457239,8.9,0.9493900066449128,0.94907704391643555,-3.1296272847725071E-4]
[125,2.1816615649929121,2.8997998097253683,166.14629053010276,9,0.95424250943932487,0.95395103834194162,-2.9147109738325572E-4]
[126,2.1991148575128552,2.9048537358369897,166.43585916626964,9.1,0.95904139232109353,0.95877718227805619,-2.6421004303733842E-4]
[127,2.2165681500327987,2.9098589418739231,166.72263634777931,9.2000000000000011,0.96378782734555535,0.96355680196988425,-2.3102537567110115E-4]
[128,2.2340214425527418,2.9148167656910489,167.00669872807006,9.3000000000000007,0.96848294855393513,0.96829117497473005,-1.9177357920507898E-4]
[129,2.2514747350726849,2.9197284952780831,167.28812010351666,9.4,0.97312785359969867,0.97298153123217335,-1.4632236752532002E-4]
[130,2.2689280275926285,2.9245953696915423,167.56697146682808,9.5,0.97772360528884772,0.97762905395403032,-9.4551334817394306E-5]
[131,2.2863813201125716,2.9294185797892718,167.84332104913287,9.6,0.98227123303956843,0.98223488032577677,-3.6352713791654168E-5]
[132,2.3038346126325151,2.9341992687558625,168.11723435008327,9.7000000000000011,0.98677173426624487,0.98680010200828339,2.8367742038515331E-5]
[133,2.3212879051524582,2.938938532403923,168.38877415511692,9.8000000000000007,0.99122607569249488,0.99132576542551099,9.9689733016106175E-5]
[134,2.3387411976724017,2.9436374192322927,168.65800053879212,9.9,0.9956351945975499,0.9958128718200977,1.7767722254780072E-4]
[135,2.3561944901923448,2.9482969302175586,168.9249708528427,10,1,1.000262377054274,2.6237705427401004E-4]

{"sheet":"FFLoogx4P (2)","index":6,"n_rows":113,"n_cols":16,"rows_kept":113,"cut":false,"hidden":false,"merged":[]}
[null,"y=log x","1<x<10"]
[]
[null,"qin",4.7349361382727153,null,"Dq",90,null,"Rx",{"$f":"F3/9","v":10},{"$f":"LN(2)","v":0.69314718055994529},null,null,null,30]
[null,"fin",120,null,"Df",60,null,"Ry",{"$f":"F4","v":60},null,null,null,null,10.909437254690339]
[null,null,null,null,null,null,null,null,"başlangıç 30 90 f değişti",null,null,null,null,96.55334768504602]
[{"$f":"C3-180","v":-175.2650638617273},"x","y","q","f",null,null,null,"başlangıç 30 120 q değişti"]
[null,{"$f":"5.5-4.5*COS(PI()/8)","v":1.34254210369921},{"$f":"LOG(B7)","v":0.12792791457085262},{"$f":"$C$3+$I$3*(B7-1)","v":8.1603571752648154},{"$f":"$C$4+$I$4*C7","v":127.67567487425116},null,{"$f":"D7*D_R","v":0.14242510084711502},2.22836090126148,null,null,"30 90 ile q değiştiğinde oluşan mekanizma çalışıyor"]
[null,{"$f":"5.5-4.5*COS(3*PI()/8)","v":3.7779245543570958},{"$f":"LOG(B8)","v":0.57725328075533255},{"$f":"$C$3+$I$3*(B8-1)","v":32.514181681843674},{"$f":"$C$4+$I$4*C8","v":154.63519684531997},null,0.5674795239397995,2.6988933244203821,null,null,"Eğer 80 120 ile başlar q değişirse, q=99.71774"]
[null,{"$f":"5.5-4.5*COS(5*PI()/8)","v":7.2220754456429042},0.85866202098574729,{"$f":"$C$3+$I$3*(B9-1)","v":66.955690594701764},171.51972125914483,null,1.168597253824146,2.9935838680749915,null,null,"Branch problem q1ve 4 konumlar bir, 2 ve 3 konumlar ikinci branchde"]
[null,{"$f":"5.5-4.5*COS(7*PI()/8)","v":9.6574578963007909},0.9848628234237341,91.309515101280624,179.09176940542403,null,1.5936516769168305,3.1257410393470968]
[null,null,null,null,null,null,null,null,null,null,"Eğer 150,120 ise, q=193.6084 =13.60 çözümü ile aynı"]
[null,null,{"$f":"COS(H7)","v":-0.61119106833524506},{"$f":"-COS(G7)","v":-0.98987467863359424},1,{"$f":"COS(H7-G7)","v":-0.49265622712107787},null,"Det",{"$f":"MDETERM(C12:F15)","v":-2.7337048126823918E-10}]
[null,null,{"$f":"COS(H8)","v":-0.90359861761447025},{"$f":"-COS(G8)","v":-0.8432584291696541},1,{"$f":"COS(H8-G8)","v":-0.53170925436007843}]
[null,null,-0.98906668090748662,-0.39144287941449307,1,-0.25146179692067971]
[null,null,-0.99987436579369748,2.2853360360346495E-2,1,3.8697299771979235E-2,null,{"$f":"C17*C12+C18*D12+C19-F12","v":0}]
[null,null,{"$f":"C17*C15+C18*D15+C19-F15","v":-2.2860257159473818E-9},null,null,null,null,{"$f":"C17*C13+C18*D13+C19-F13","v":0},null,null,"qin","fin","a2","a3","a4","|emax|"]
[null,null,{"$f":"MMULT(MINVERSE(C12:E14),F12:F14)","v":0.49115228024060575},null,"a2",{"$f":"1/C17","v":2.0360284177243764},null,{"$f":"C17*C14+C18*D14+C19-F14","v":0},null,null,30,10.909437254690339,6.0425539632172023E-2,1.0749174818239415,0.12926560264134038,"8.19x10-3"]
[null,null,0.71317884430521772,null,"a3",{"$f":"SQRT(1+F17^2+F19^2-2*C19*F17*F19)","v":2.0444109632008218},null,null,null,null,30,96.55334768504602,6.83812781875098,5.2875401741016477,2.609860463707844,"6.8x10-4"]
[null,null,0.51348933906937499,null,"a4",{"$f":"1/C18","v":1.4021728322216356},null,{"$f":"MIN(H23:H113)","v":-1.4694855699650067E-2}]
[null,null,null,null,null,null,null,{"$f":"MAX(H23:H113)","v":3.2159152206222077E-2}]
[]
[null,null,null,null,"x","yreq","ygen"]
[{"$f":"C3","v":4.7349361382727153},{"$f":"A23*D_R","v":8.2640225484524377E-2},{"$f":"fourbar($F$17,$F$18,$F$19,1,-1,B23)","v":2.12807208783211},{"$f":"C23/D_R","v":121.92954913237332},{"$f":"1+1/$I$3*(A23-$A$23)","v":1},{"$f":"LOG(E23)","v":0},{"$f":"1/$I$4*(D23-$C$4)","v":3.2159152206222077E-2},{"$f":"G23-F23","v":3.2159152206222077E-2}]
[{"$f":"A23+1","v":5.7349361382727153},0.10009351800446767,{"$f":"fourbar($F$17,$F$18,$F$19,1,-1,B24)","v":2.1583401280461283},123.66378009076884,{"$f":"1+1/$I$3*(A24-$A$23)","v":1.1000000000000001},{"$f":"LOG(E24)","v":4.1392685158225077E-2},{"$f":"1/$I$4*(D24-$C$4)","v":6.1063001512813977E-2},{"$f":"G24-F24","v":1.96703163545889E-2}]
[{"$f":"A24+1","v":6.7349361382727153},0.11754681052441096,2.1877936886997333,125.35134480785298,1.2,7.9181246047624818E-2,8.9189080130883031E-2,1.0007834083258213E-2]
[7.7349361382727153,0.13500010304435425,2.2164280256075064,126.99197146182406,1.3,0.11394335230683679,0.11653285769706774,2.5895053902309506E-3]
[8.7349361382727153,0.15245339556429754,2.2442420841591777,128.5855996279646,1.4,0.14612803567823801,0.14309332713274331,-3.034708545494702E-3]
[9.7349361382727153,0.16990668808424086,2.2712382779497204,130.13236759507996,1.5,0.17609125905568124,0.16887279325133259,-7.2184658043486505E-3]
[10.734936138272715,0.18735998060418416,2.2974222334652015,131.63259773707532,1.6,0.20411998265592479,0.19387662895125524,-1.0243353704669556E-2]
[11.734936138272715,0.20481327312412745,2.3228025097272225,133.0867804497652,1.7000000000000002,0.23044892137827397,0.21811300749608667,-1.2335913882187299E-2]
[12.734936138272715,0.22226656564407074,2.3473903015727262,134.49555715005874,1.8,0.25527250510330607,0.24159261916764574,-1.367988593566033E-2]
[13.734936138272715,0.23971985816401403,2.3711991346963583,135.85970280317414,1.9,0.27875360095282892,0.26432838005290238,-1.4425220899926539E-2]
[14.734936138272715,0.25717315068395735,2.3942445597853781,137.18010839785987,2,0.3010299956639812,0.28633513996433113,-1.4694855699650067E-2]
[15.734936138272715,0.27462644320390062,2.4165438521116163,138.45776373428177,2.1,0.3222192947339193,0.30762939557136282,-1.4589899162556486E-2]
[16.734936138272715,0.29207973572384394,2.4381157218867613,139.69374082860341,2.2000000000000002,0.34242268082220628,0.32822901381005681,-1.4193667012149469E-2]
[17.734936138272715,0.3095330282437872,2.4589800396036088,140.88917817619881,2.2999999999999998,0.36172783601759284,0.34815296960331354,-1.3574866414279296E-2]
[18.734936138272715,0.32698632076373052,2.4791575795323362,142.04526605507158,2.4000000000000004,0.38021124171160608,0.36742110091785962,-1.2790140793746463E-2]
[19.734936138272715,0.34443961328367378,2.4986697835600444,143.16323299485742,2.5,0.3979400086720376,0.38605388324762374,-1.1886125424413863E-2]
[20.734936138272715,0.3618929058036171,2.517538546683082,144.24433348643956,2.6,0.41497334797081797,0.40407222477399263,-1.0901123196825346E-2]
[21.734936138272715,0.37934619832356042,2.5357860247025887,145.28983696371503,2.7,0.43136376415898736,0.42149728272858389,-9.8664814304034731E-3]
[22.734936138272715,0.39679949084350369,2.5534344640414299,146.30101805282331,2.8,0.44715803134221921,0.43835030088038845,-8.8077304618307539E-3]
[23.734936138272715,0.41425278336344701,2.5705060530941912,147.27914805512827,2.9000000000000004,0.46239799789895614,0.45465246758547123,-7.7455303134849052E-3]
[24.734936138272715,0.43170607588339027,2.587022794134048,148.22548760802258,3,0.47712125471966244,0.47042479346704291,-6.6964612526195233E-3]
[25.734936138272715,0.44915936840333359,2.60300639451996,149.141280451559,3.1,0.49136169383427269,0.48568800752598329,-5.6736863082894051E-3]
[26.734936138272715,0.46661266092327686,2.618478175761108,150.02774821822646,3.2,0.50514997831990605,0.50046247030377433,-4.687508016131714E-3]
[27.734936138272715,0.48406595344322018,2.6334589988883579,150.88608615704985,3.3000000000000003,0.51851393987788752,0.51476810261749739,-3.745837260390128E-3]
[28.734936138272715,0.50151924596316344,2.6479692045402428,151.71745970076972,3.4000000000000004,0.53147891704225514,0.52862432834616202,-2.8545886960931188E-3]
[29.734936138272715,0.51897253848310676,2.6620285661799525,152.52300178537322,3.5,0.54406804435027567,0.54205002975622041,-2.0180145940552618E-3]
[30.734936138272715,0.53642583100305008,2.675656254907806,153.30381083399723,3.6,0.55630250076728727,0.5550635138999539,-1.2389868673333693E-3]
[31.734936138272715,0.5538791235229934,2.6888708144098792,154.06094932159053,3.7,0.56820172406699498,0.5676824886931755,-5.1923537381948215E-4]
[32.734936138272715,0.57133241604293661,2.7016901446788122,154.79544284218471,3.8000000000000003,0.57978359661681023,0.57992404736974523,1.4045075293500631E-4]
[33.734936138272715,0.58878570856287993,2.7141314932498908,155.50827960675863,3.9000000000000004,0.59106460702649921,0.59180466011264388,7.4005308614466525E-4]
[34.734936138272715,0.60623900108282325,2.7262114528082546,156.20041030614158,4,0.6020599913279624,0.60334017176902632,1.2801804410639273E-3]
[35.734936138272715,0.62369229360276657,2.7379459641369914,156.87274827992667,4.0999999999999996,0.61278385671973545,0.61454580466544451,1.7619479457090526E-3]
[36.734936138272715,{"$f":"A55*D_R","v":0.64114558612270978},2.7493503234874561,{"$f":"C55/D_R","v":157.52616993875884},4.2,0.62324929039790045,0.6254361656459807,2.1868752480802556E-3]
[37.734936138272715,0.6585988786426531,2.7604391935599111,158.16151539347945,4.3000000000000007,0.63346845557958664,0.6360252565579908,2.5568009784041612E-3]
[38.734936138272715,0.67605217116259642,2.7712266173829243,158.77958925035696,4.4000000000000004,0.64345267648618742,0.64632648750594934,2.8738110197619182E-3]
[39.734936138272715,0.69350546368253974,2.7817260344727686,159.38116153695259,4.5,0.65321251377534373,0.65635269228254312,3.1401785071993871E-3]
[40.734936138272715,0.71095875620248306,2.7919502987389127,159.96696872802906,4.5999999999999996,0.66275783168157409,0.66611614546715092,3.3583137855768275E-3]
[41.734936138272715,0.72841204872242626,2.8019116976783645,160.53771484530574,4.7,0.67209785793571752,0.67562858075509569,3.5307228193781626E-3]
[42.734936138272715,0.74586534124236958,2.8116219724702649,161.09407260879391,4.8000000000000007,0.68124123737558728,0.68490121014656513,3.6599727709778485E-3]
[43.734936138272715,0.7633186337623129,2.8210923386431137,161.63668462094162,4.9000000000000004,0.69019608002851374,0.69394474368236037,3.7486636538466289E-3]
[44.734936138272715,0.78077192628225622,2.8303335070407107,162.16616456789359,5,0.69897000433601886,0.70276940946489308,3.7994051288742225E-3]
[45.734936138272715,0.79822521880219954,2.8393557048599201,162.68309842486642,5.1000000000000005,0.70757017609793638,0.71138497374777354,3.814797649837165E-3]
[46.734936138272715,0.81567851132214275,2.8481686965742536,163.18804565498149,5.2,0.71600334363479923,0.71980076091635825,3.7974172815590235E-3]
[47.734936138272715,0.83313180384208607,2.856781804592611,163.68154039292367,5.3,0.72427586960078905,0.72802567321539446,3.7498036146054181E-3]
[48.734936138272715,0.85058509636202939,2.8652039295328713,164.16409260653245,5.4,0.7323937598229685,0.73606821010887413,3.6744502859056283E-3]
[49.734936138272715,0.86803838888197271,2.8734435700160024,164.63618923092099,5.5,0.74036268949424389,0.74393648718201655,3.5737976877726618E-3]
[50.734936138272715,0.88549168140191592,2.8815088419083867,165.09829527098012,5.6000000000000005,0.74818802700620046,0.75163825451633526,3.4502275101347957E-3]
[51.734936138272715,0.90294497392185924,2.889407496958674,165.55085486919126,5.7,0.75587485567249146,0.75918091448652092,3.3060588140294556E-3]
[52.734936138272715,0.92039826644180256,2.8971469407911172,165.9942923365688,5.8000000000000007,0.76342799356293733,0.76657153894281338,3.1435453798760449E-3]
[53.734936138272715,0.93785155896174588,2.9047342502303719,166.42901314529789,5.9,0.77085201164214423,0.77381688575496477,2.9648741128205369E-3]
[54.734936138272715,0.9553048514816892,2.9121761899435255,166.85540488225237,6,0.77815125038364363,0.78092341470420623,2.7721643205625979E-3]
[55.734936138272715,0.97275814400163241,2.9194792283940036,167.27383816308654,6.1000000000000005,0.78532983501076703,0.78789730271810898,2.5674677073419527E-3]
[56.734936138272715,0.99021143652157573,2.9266495531091938,167.68466750700529,6.2,0.79239168949825389,0.79474445845008812,2.3527689518342276E-3]
[57.734936138272715,1.007664729041519,2.9336930852694407,168.08823217265208,6.3000000000000007,0.79934054945358179,0.80147053621086806,2.1299867572862619E-3]
[58.734936138272715,1.0251180215614624,2.9406154936306836,168.48485695581738,6.4,0.80617997398388719,0.80808094926362295,1.9009752797357615E-3]
[59.734936138272715,1.0425713140814057,2.9474222077966044,168.87485294987655,6.5,0.81291335664285558,0.81458088249794258,1.6675258550870042E-3]
[60.734936138272715,1.060024606601349,2.9541184308589035,169.25851827002447,6.6000000000000005,0.81954393554186866,0.82097530450040779,1.4313689585391254E-3]
[61.734936138272715,1.0774778991212923,2.9607091514263777,169.6361387424908,6.7,0.82607480270082645,0.82726897904151331,1.1941763406868589E-3]
[62.734936138272715,1.0949311916412354,2.9671991550649168,170.00798856000364,6.8000000000000007,0.83250891270623639,0.83346647600006063,9.5756329382423733E-4]
[63.734936138272715,1.1123844841611787,2.9735930351715094,170.37433090482406,6.9,0.83884909073725533,0.83957218174706771,7.2309100981238217E-4]
[64.734936138272715,1.1298377766811221,2.9798952033058947,170.73541854070618,7,0.84509804001425681,0.84559030901176957,4.9226899751275699E-4]
[65.734936138272715,1.1472910692010654,2.9861098990037522,171.09149437515151,7.1000000000000005,0.85125834871907535,0.85152490625252519,2.6655753344984046E-4]
[66.734936138272715,1.1647443617210087,2.9922411990952709,171.44279199332371,7.2,0.85733249643126852,0.85737986655539511,4.7370124126588919E-5]
[67.734936138272715,1.182197654240952,2.9982930265527008,171.78953616497583,7.3000000000000007,0.86332286012045589,0.86315893608293048,-1.6392403752540918E-4]
[68.734936138272715,{"$f":"A87*D_R","v":1.1996509467608953},3.0042691588900778,{"$f":"C87/D_R","v":172.13194332571919},7.4,0.86923171973097624,0.86886572209531987,-3.6599763565636767E-4]
[69.734936138272715,1.2171042392808387,{"$f":"fourbar($F$17,$F$18,$F$19,1,-1,B88)","v":3.0101732361377769},172.47022203393155,{"$f":"1+1/$I$3*(A88-$A$23)","v":7.5},{"$f":"LOG(E88)","v":0.87506126339170009},{"$f":"1/$I$4*(D88-$C$4)","v":0.87450370056552584},{"$f":"G88-F88","v":-5.5756282617425157E-4}]
[{"$f":"A88+1","v":70.734936138272715},1.234557531800782,3.0160087684138794,172.80457340456459,7.6000000000000005,0.88081359228079137,0.88007622340940983,-7.373688713815385E-4]
[71.734936138272715,1.2520108243207251,3.0217791431136578,173.13519152107096,7.7,0.88649072517248184,0.88558652535118276,-9.0419982129907872E-4]
[72.734936138272715,1.2694641168406684,3.0274876317376931,173.46226382662664,7.8000000000000007,0.89209460269048046,0.89103773044377732,-1.0568722467031444E-3]
[73.734936138272715,1.2869174093606117,3.0331373963783301,173.78597149577737,7.9,0.89762709129044149,0.89643285826295627,-1.1942330274852253E-3]
[74.734936138272715,1.304370701880555,3.0387314958833747,174.10648978759266,8,0.90308998699194354,0.90177482979321111,-1.3151571987324306E-3]
[75.734936138272715,1.3218239944004984,3.0442728917150883,174.42398838136123,8.1000000000000014,0.90848501887864985,0.90706647302268706,-1.4185458559627939E-3]
[76.734936138272715,1.3392772869204417,3.0497644535217105,174.73863169581594,8.1999999999999993,0.91381385238371671,0.91231052826359893,-1.5033241201177772E-3]
[77.734936138272715,1.356730579440385,3.0552089644379197,175.05057919282763,8.3000000000000007,0.91907809237607396,0.91750965321379374,-1.5684391622802218E-3]
[78.734936138272715,1.3741838719603283,3.060609126129834,175.35998566646253,8.4,0.9242792860618817,0.92266642777437557,-1.6128582875061248E-3]
[79.734936138272715,1.3916371644802716,3.0659675635993642,175.66700151825137,8.5,0.92941892571429274,0.92778335863752281,-1.6355670767699282E-3]
[80.734936138272715,1.4090904570002147,3.0712868297619695,175.97177301947542,8.6000000000000014,0.93449845124356778,0.93286288365792369,-1.6355675856440932E-3]
[81.734936138272715,1.4265437495201581,3.0765694098111176,176.27444256123161,8.6999999999999993,0.93951925261861846,0.93790737602052676,-1.6118765980916994E-3]
[82.734936138272715,1.4439970420401014,3.0818177253820442,176.5751488929985,8.8000000000000007,0.94448267215016868,0.94291914821664158,-1.5635239335271001E-3]
[83.734936138272715,1.4614503345600447,3.0870341385267119,176.87402735038452,8.9,0.9493900066449128,0.94790045583974203,-1.4895508051707695E-3]
[84.734936138272715,1.478903627079988,3.0922209555112081,177.17121007270293,9,0.95424250943932487,0.95285350121171553,-1.3890082276093452E-3]
[85.734936138272715,1.4963569195999313,3.0973804304462043,177.46682621098174,9.1,0.95904139232109353,0.9577804368496956,-1.2609554713979287E-3]
[86.734936138272715,1.5138102121198747,3.1025147687604577,177.76100212698077,9.2000000000000011,0.96378782734555535,0.96268336878301286,-1.1044585625424874E-3]
[87.734936138272715,1.531263504639818,3.1076261305268051,178.053861583757,9.3000000000000007,0.96848294855393513,0.96756435972928323,-9.1858882465190028E-4]
[88.734936138272715,1.5487167971597613,3.1127166336495109,178.34552592828621,9.4,0.97312785359969867,0.9724254321381034,-7.0242146159527064E-4]
[89.734936138272715,1.5661700896797044,3.1177883569213116,178.63611426661868,9.5,0.97772360528884772,0.97726857111031129,-4.5503417853642869E-4]
[90.734936138272715,1.5836233821996477,3.1228433429580087,178.92574363201899,9.6,0.98227123303956843,0.98209572720031657,-1.7550583925185492E-4]
[91.734936138272715,1.601076674719591,3.1278836010179676,179.21452914651144,9.7000000000000011,0.98677173426624487,0.9869088191085239,1.3708484227903384E-4]
[92.734936138272715,1.6185299672395344,3.1329111097134215,179.50258417622626,9.8000000000000007,0.99122607569249488,0.99170973627043768,4.8366057794280159E-4]
[93.734936138272715,1.6359832597594777,3.13792781962005,179.79002048091755,9.9,0.9956351945975499,0.99650034134862575,8.6514675107585148E-4]
[94.734936138272715,1.653436552279421,3.1429356557908728,180.07694835799865,10,1,1.0012824726333107,1.2824726333107161E-3]

{"sheet":"FFLoogx5P","index":7,"n_rows":117,"n_cols":16,"rows_kept":117,"cut":false,"hidden":false,"merged":[]}
[null,"y=log x","1<x<10"]
[]
[null,"qin",49.874562058559697,null,"Dq",90,null,"Rx",{"$f":"F3/9","v":10},{"$f":"LN(2)","v":0.69314718055994529},null,null,null,30,null,49.874562058559697]
[null,"fin",108.62309639315322,null,"Df",60,null,"Ry",{"$f":"F4","v":60},null,null,null,null,10.909437254690339,null,108.62309639315322]
[]
[null,null,null,null,null,null,null,null,"başlangıç 30 90 f değişti",null,null,null,null,96.55334768504602]
[null,"x","y","q","f",null,null,null,"başlangıç 30 120 q değişti"]
[null,{"$f":"5.5-4.5*COS(PI()/10)","v":1.2202456766718095},{"$f":"LOG(B8)","v":8.6447277626733182E-2},{"$f":"$C$3+$I$3*(B8-1)","v":52.07701882527779},{"$f":"$C$4+$I$4*C8","v":113.80993305075721},null,{"$f":"D8*D_R","v":0.90891544312416706},1.986358053210028]
[null,{"$f":"5.5-4.5*COS(3*PI()/10)","v":2.8549663646838708},{"$f":"LOG(B9)","v":0.45560099604307863},{"$f":"$C$3+$I$3*(B9-1)","v":68.424225705398413},{"$f":"$C$4+$I$4*C9","v":135.95915615573793},null,1.1942280266869418,2.3729349231507433]
[null,{"$f":"5.5-4.5*COS(5*PI()/10)","v":5.5},0.74036268949424389,{"$f":"$C$3+$I$3*(B10-1)","v":94.87456205855969},153.04485776280785,null,1.6558734843095557,2.6711366712074001]
[null,{"$f":"5.5-4.5*COS(7*PI()/10)","v":8.1450336353161283},0.91089288208860797,121.32489841172097,163.27666931846971,null,2.1175189419321696,2.8497154712973023]
[null,{"$f":"5.5-4.5*COS(9*PI()/10)","v":9.7797543233281914},{"$f":"LOG(B12)","v":0.99032794503677934},{"$f":"$C$3+$I$3*(B12-1)","v":137.6721052918416},{"$f":"$C$4+$I$4*C12","v":168.04277309535996},null,{"$f":"D12*D_R","v":2.4028315254949448},{"$f":"E12*D_R","v":2.9328996746957743}]
[]
[null,null,{"$f":"COS(H8)","v":-0.40370391175815173},{"$f":"-COS(G8)","v":-0.61460165006696099},1,{"$f":"COS(H8-G8)","v":0.47358233041494929}]
[null,null,{"$f":"COS(H9)","v":-0.71884442374620505},{"$f":"-COS(G9)","v":-0.36773139325623594},1,{"$f":"COS(H9-G9)","v":0.38212011686257047}]
[null,null,{"$f":"COS(H10)","v":-0.89136168734771704},{"$f":"-COS(G10)","v":8.49745615005464E-2},1,{"$f":"COS(H10-G10)","v":0.52739634112637346},null,"Det",{"$f":"MDETERM(C14:F17)","v":-1.3287266721798966E-7}]
[null,null,{"$f":"COS(H11)","v":-0.95770540303869744},{"$f":"-COS(G11)","v":0.51989037581390085},1,{"$f":"COS(H11-G11)","v":0.74370780715063167}]
[null,null,{"$f":"COS(H12)","v":-0.97830254074839651},{"$f":"-COS(G12)","v":0.73930334816357501},1,{"$f":"COS(H12-G12)","v":0.86277261681801865}]
[null,null,null,null,null,null,null,{"$f":"C20*C14+C21*D14+C22-F14","v":6.106226635438361E-16}]
[null,null,{"$f":"MMULT(MINVERSE(C14:E16),F14:F16)","v":0.77210720082143225},null,"a2",{"$f":"1/C20","v":1.2951569405596999},null,{"$f":"C20*C15+C21*D15+C22-F15","v":4.9960036108132044E-16},null,null,"qin","fin","a2","a3","a4","|emax|"]
[null,null,0.61514111495651225,null,"a3",{"$f":"SQRT(1+F20^2+F22^2-2*C22*F20*F22)","v":0.64912166148012307},null,{"$f":"C20*C16+C21*D16+C22-F16","v":0},null,null,30,10.909437254690339,6.0425539632172023E-2,1.0749174818239415,0.12926560264134038,"8.19x10-3"]
[null,null,1.1633517719595015,null,"a4",{"$f":"1/C21","v":1.6256432478435385},null,null,null,null,30,96.55334768504602,6.83812781875098,5.2875401741016477,2.609860463707844,"6.8x10-4"]
[null,null,null,null,null,null,null,{"$f":"MIN(H27:H117)","v":-1.2565705902752218E-2}]
[null,null,{"$f":"C20*C17+C21*D17+C22-F17","v":-1.3277095772812331E-6},null,{"$f":"SQRT(C24^2+C25^2)","v":1.4589410125457584E-6},null,null,{"$f":"MAX(H27:H117)","v":2.3662323301506805E-3}]
[null,null,{"$f":"C20*C18+C21*D18+C22-F18","v":6.047281674304017E-7}]
[null,null,null,null,"x","yreq","ygen"]
[{"$f":"C3","v":49.874562058559697},{"$f":"A27*D_R","v":0.87047532091210766},{"$f":"fourbar($F$20,$F$21,$F$22,1,-1,B27)","v":1.8826718993212819},{"$f":"C27/D_R","v":107.86915403898809},{"$f":"1+1/$I$3*(A27-$A$27)","v":1},{"$f":"LOG(E27)","v":0},{"$f":"1/$I$4*(D27-$C$4)","v":-1.2565705902752218E-2},{"$f":"G27-F27","v":-1.2565705902752218E-2}]
[{"$f":"A27+1","v":50.874562058559697},0.88792861343205098,1.9346723672349042,110.8485613831441,1.1000000000000001,{"$f":"LOG(E28)","v":4.1392685158225077E-2},{"$f":"1/$I$4*(D28-$C$4)","v":3.7091083166514709E-2},{"$f":"G28-F28","v":-4.3016019917103687E-3}]
[{"$f":"A28+1","v":51.874562058559697},0.90538190595199419,1.9782420556122928,113.34492064186867,1.2,7.9181246047624818E-2,7.8697070811924161E-2,-4.8417523570065679E-4]
[52.874562058559697,0.92283519847193751,2.0165362836378442,115.53901828744435,1.3,0.11394335230683679,0.11526536490485217,1.3220125980153846E-3]
[53.874562058559697,0.94028849099188083,2.0510680549941638,117.51754304527222,1.4,0.14612803567823801,0.14824077753531667,2.1127418570786594E-3]
[54.874562058559697,0.95774178351182415,2.0827109237436319,119.33054587630313,1.5,0.17609125905568124,0.17845749138583192,2.3662323301506805E-3]
[55.874562058559697,0.97519507603176736,2.1120280946535153,121.01029603670317,1.6,0.20411998265592479,0.20645332739249914,2.3333447365743443E-3]
[56.874562058559697,0.99264836855171068,2.1394105258664267,122.57919377801028,1.7000000000000002,0.23044892137827397,0.232601623080951,2.1527017026770345E-3]
[57.874562058559697,1.010101661071654,2.1651444050016582,124.05363644295882,1.8,0.25527250510330607,0.25717566749676002,1.9031623934539499E-3]
[58.874562058559697,1.0275549535915973,2.1894477754438819,125.44611699724123,1.9,0.27875360095282892,0.28038367673480025,1.6300757819713296E-3]
[59.874562058559697,1.0450082461115406,2.2124920242616239,126.76645519654718,2,0.3010299956639812,0.30238931338989944,1.359317725918241E-3]
[60.874562058559697,1.062461538631484,2.2344152689261758,128.0225645890587,2.1,0.3222192947339193,0.32332446993175806,1.1051751978387592E-3]
[61.874562058559697,1.0799148311514273,2.2553311064515782,129.22095380424562,2.2000000000000002,0.34242268082220628,0.34329762351820675,8.7494269600046914E-4]
[62.874562058559697,1.0973681236713704,2.2753345601943016,130.36706727938883,2.2999999999999998,0.36172783601759284,0.36239951477059357,6.7167875300072621E-4]
[63.874562058559697,1.1148214161913137,2.2945062563173497,131.46552455334682,2.4000000000000004,0.38021124171160608,0.38070713600322675,4.9589429162066878E-4]
[64.87456205855969,1.132274708711257,2.3129154394364679,132.52029305035578,2.4999999999999991,0.39794000867203744,0.39828661095337592,3.466022813384817E-4]
[65.87456205855969,1.1497280012312003,2.3306222026040579,133.53481584869638,2.5999999999999996,0.41497334797081792,0.4151953242590527,2.2197628823478199E-4]
[66.87456205855969,1.1671812937511434,2.3476791708146152,134.51210813845012,2.6999999999999993,0.4313637641589872,0.43148352908828164,1.1976492929444138E-4]
[67.87456205855969,1.1846345862710868,2.3641327952388154,135.45483137565017,2.7999999999999994,0.4471580313422191,0.44719558304161589,3.7551699396787264E-5]
[68.87456205855969,1.2020878787910301,2.380024364297606,136.36535121255955,2.8999999999999995,0.46239799789895603,0.46237091365677213,-2.7084242183894602E-5]
[69.87456205855969,1.2195411713109734,2.3953908048983408,137.24578340512014,2.9999999999999991,0.47712125471966232,0.47704478353278196,-7.6471186880366915E-5]
[70.87456205855969,1.2369944638309167,2.4102653255647142,138.09803066158344,3.0999999999999992,0.49136169383427258,0.49124890447383696,-1.1278936043562782E-4]
[71.87456205855969,1.25444775635086,2.4246779386465525,138.92381256292782,3.1999999999999993,0.50514997831990593,0.50501193616291007,-1.3804215699586564E-4]
[72.87456205855969,1.2719010488708034,2.4386558887925887,139.72469011253997,3.2999999999999994,0.51851393987788741,0.51835989532311255,-1.5404455477485701E-4]
[73.87456205855969,1.2893543413907467,2.4522240078616937,140.50208607113066,3.3999999999999995,0.53147891704225503,0.53131649463295738,-1.6242240929764673E-4]
[74.87456205855969,1.30680763391069,2.4654050114557942,141.25730194681938,3.4999999999999996,0.54406804435027556,0.54390342589443608,-1.6461845583948254E-4]
[75.87456205855969,1.3242609264306333,2.4782197486462252,141.99153230340042,3.5999999999999996,0.55630250076728727,0.55614059850412001,-1.6190226316725731E-4]
[76.87456205855969,1.3417142189505764,2.4906874138159192,142.70587689800612,3.6999999999999993,0.56820172406699487,0.56804634174754842,-1.5538231944645098E-4]
[77.87456205855969,1.3591675114705197,2.5028257275710852,143.40135104658273,3.7999999999999994,0.57978359661681012,0.5796375775571585,-1.4601905965161421E-4]
[78.87456205855969,1.376620803990463,2.5146510921955594,144.07889453076842,3.8999999999999995,0.5910646070264991,0.5909299689602534,-1.3463806624569585E-4]
[79.87456205855969,1.3940740965104064,2.5261787259954342,144.73937929527361,3.9999999999999996,0.6020599913279624,0.60193804836867315,-1.2194295928924515E-4]
[80.87456205855969,1.4115273890303497,2.5374227800170503,145.38361613532931,4.0999999999999996,0.61278385671973545,0.61267532903626809,-1.0852768346736319E-4]
[81.87456205855969,1.428980681550293,{"$f":"fourbar($F$20,$F$21,$F$22,1,-1,B59)","v":2.5483964399510892},146.01236053536155,{"$f":"1+1/$I$3*(A59-$A$27)","v":4.1999999999999993},0.62324929039790034,0.62315440237013886,-9.488802776147498E-5]
[82.87456205855969,1.4464339740702363,2.5591120155110532,146.626317790001,4.2999999999999989,0.63346845557958642,0.63338702328079632,-8.1432298790096169E-5]
[83.87456205855969,1.4638872665901796,2.5695810191607822,147.22614751483755,4.3999999999999995,0.64345267648618742,0.64338418536140551,-6.8491124781910884E-5]
[84.87456205855969,1.481340559110123,2.5798142357367633,147.81246763548458,4.5,0.65321251377534373,0.65315618737218939,-5.6326403154338678E-5]
[85.87456205855969,1.4987938516300661,2.5898217842476603,148.38585792843139,4.5999999999999996,0.66275783168157409,0.66271269225463625,-4.5139426937845784E-5]
[86.87456205855969,1.5162471441500094,2.5996131729211336,148.94686317499361,4.6999999999999993,0.67209785793571741,0.67206277969733985,-3.5078238377561632E-5]
[87.87456205855969,1.5337004366699527,2.6091973483956616,149.49599597979687,4.7999999999999989,0.68124123737558717,0.68121499311072753,-2.6244264859642819E-5]
[88.87456205855969,1.551153729189896,2.6185827398143573,150.03373929716642,4.8999999999999995,0.69019608002851363,0.69017738173355336,-1.8698294960262096E-5]
[89.87456205855969,1.5686070217098393,2.6277772984621692,150.56054870217156,5,0.69897000433601886,0.69895753848363895,-1.246585237990594E-5]
[90.87456205855969,1.5860603142297827,2.6367885334923864,151.07685443760346,5.0999999999999996,0.70757017609793638,0.70756263407417064,-7.542023765738648E-6]
[91.87456205855969,1.603513606749726,2.6456235442091067,151.58306326362438,5.1999999999999993,0.71600334363479912,0.71599944784118608,-3.8957936130401549E-6]
[92.87456205855969,1.6209668992696693,2.6542890493061453,152.07956013303379,5.3,0.72427586960078905,0.72427439566467622,-1.4739361128279782E-6]
[93.87456205855969,1.6384201917896126,2.6627914134074606,152.5667097119227,5.3999999999999995,0.7323937598229685,0.73239355531282468,-2.0451014381972499E-7]
[94.87456205855969,1.6558734843095557,2.6711366712073996,153.04485776280782,5.4999999999999991,0.74036268949424378,0.74036268949424344,0]
[95.87456205855969,1.673326776829499,2.6793305494695767,153.51433240507458,5.6,0.74818802700620035,0.74818726686535608,-7.6014084426923034E-7]
[96.87456205855969,1.6907800693494424,2.6873784871095943,153.97544526563206,5.6999999999999993,0.75587485567249135,0.75587248120798067,-2.3744645106793527E-6]
[97.87456205855969,1.7082333618693857,2.6952856535581677,154.42849253104276,5.8,0.76342799356293722,0.76342326896482571,-4.724598111516265E-6]
[98.87456205855969,1.725686654389329,2.7030569655766672,154.87375591098208,5.8999999999999995,0.77085201164214412,0.77084432529714775,-7.6863449963715524E-6]
[99.87456205855969,1.7431399469092723,2.7106971026759528,155.31150352167245,6,0.77815125038364363,0.77814011880865386,-1.1131574989775572E-5]
[100.87456205855969,1.7605932394292156,2.7182105212711818,155.74199069689419,6.1,0.78532983501076703,0.78531490506234958,-1.4929948417452543E-5]
[101.87456205855969,1.778046531949159,2.7256014676894011,156.16546073326549,6.1999999999999993,0.79239168949825378,0.79237273900187122,-1.8950496382563742E-5]
[102.87456205855969,1.7954998244691023,2.7328739901330108,156.58214557569849,6.3,0.79934054945358168,0.7993174863757545,-2.3063077827178979E-5]
[103.87456205855969,1.8129531169890454,2.7400319496901271,156.9922664482466,6.3999999999999995,0.80617997398388719,0.80615283425155626,-2.713973233092748E-5]
[104.87456205855969,1.8304064095089887,2.7470790304723001,157.39603443495287,6.5,0.81291335664285558,0.81288230069666079,-3.105594619479124E-5]
[105.87456205855969,1.847859702028932,2.7540187489507213,157.79365101477535,6.6,0.81954393554186866,0.81950924369370215,-3.4691848166512607E-5]
[106.87456205855969,1.8653129945488753,2.7608544625537594,158.18530855418959,6.6999999999999993,0.82607480270082634,0.82603686935060616,-3.7933350220176187E-5]
[107.87456205855969,1.8827662870688187,2.7675893775812876,158.5711907606462,6.8,0.83250891270623628,0.83246823945821635,-4.0673248019928998E-5]
[108.87456205855969,1.900219579588762,2.7742265564846331,158.95147309968115,6.8999999999999995,0.83884909073725533,0.83880627844213218,-4.2812295123151323E-5]
[109.87456205855969,1.9176728721087053,2.7807689245549572,159.32632317813187,7,0.84509804001425681,0.84505377974964424,-4.4260264612572264E-5]
[110.87456205855969,1.9351261646286486,2.7872192760574124,159.69590109559843,7.1,0.85125834871907524,0.85121341170742015,-4.4937011655088455E-5]
[111.87456205855969,1.9525794571485919,2.793580279843364,160.0603597660002,7.1999999999999993,0.85733249643126841,0.85728772288078303,-4.4773550485377456E-5]
[112.87456205855969,1.970032749668535,2.7998544844682316,160.41984521080656,7.3,0.86332286012045589,0.86327914696088892,-4.3713159566971527E-5]
[113.87456205855969,{"$f":"A91*D_R","v":1.9874860421884784},{"$f":"fourbar($F$20,$F$21,$F$22,1,-1,B91)","v":2.8060443228381047},{"$f":"C91/D_R","v":160.77449682526844},{"$f":"1+1/$I$3*(A91-$A$27)","v":7.3999999999999995},0.86923171973097613,0.86919000720192041,-4.1712529055715208E-5]
[114.87456205855969,2.0049393347084217,2.8121521164039627,161.12444761872925,7.5,{"$f":"LOG(E92)","v":0.87506126339170009},{"$f":"1/$I$4*(D92-$C$4)","v":0.87502252042626716},{"$f":"G92-F92","v":-3.8742965432936316E-5}]
[{"$f":"A92+1","v":115.87456205855969},2.0223926272283652,2.8181800789182194,161.46982442985924,7.6000000000000005,0.88081359228079137,0.88077880061176705,-3.4791669024314409E-5]
[116.87456205855969,2.0398459197483083,2.8241303197641665,161.81074811741837,7.7,0.88649072517248184,0.88646086207108588,-2.9863101395966041E-5]
[117.87456205855969,2.0572992122682514,2.8300048468647461,162.1473337269168,7.8000000000000007,0.89209460269048046,0.89207062222939293,-2.3980461087536042E-5]
[118.87456205855969,2.074752504788195,2.8358055691727779,162.47969063329441,7.9,0.89762709129044149,0.89760990400235319,-1.7187288088305053E-5]
[119.87456205855969,2.092205797308138,2.841534298740263,162.8079226594831,8,0.90308998699194354,0.90308043777216462,-9.5492197789148747E-6]
[120.87456205855969,2.1096590898280816,2.8471927523595828,163.13212817044067,8.1000000000000014,0.90848501887864985,0.90848386295479078,-1.1559238590752585E-6]
[121.87456205855969,2.1271123823480247,2.8527825527641153,163.4524001419409,8.1999999999999993,0.91381385238371671,0.91382172914646131,7.8767627446074684E-6]
[122.87456205855969,2.1445656748679682,2.8583052293699871,163.76882620307296,8.3000000000000007,0.91907809237607396,0.91909549683199565,1.7404455921687934E-5]
[123.87456205855969,2.1620189673879113,2.8637622185340907,164.08148865102473,8.4,0.9242792860618817,0.92430653763119175,2.7251569310049462E-5]
[124.87456205855969,2.1794722599078549,2.8691548632959711,164.39046443629383,8.5,0.92941892571429274,0.9294561340523434,3.7208338050653822E-5]
[125.87456205855969,2.196925552427798,2.8744844125625013,164.69582511597304,8.6000000000000014,0.93449845124356778,0.93454547871366367,4.7027470095883928E-5]
[126.87456205855969,2.2143788449477411,2.8797520196840884,164.99763677217302,8.6999999999999993,0.93951925261861846,0.9395756729836634,5.6420365044940191E-5]
[127.87456205855969,2.2318321374676846,2.8849587403590804,165.29595989195357,8.8000000000000007,0.94448267215016868,0.94454772498000583,6.5052829837153325E-5]
[128.87456205855969,2.2492854299876277,2.890105529788713,165.59084920431408,8.9,0.9493900066449128,0.94946254685268106,7.254020776825687E-5]
[129.87456205855969,2.2667387225075712,2.8951932389875825,165.88235346879918,9,0.95424250943932487,0.95432095126076599,7.8441821441121995E-5]
[130.87456205855969,2.2841920150275143,2.9002226101336643,166.17051520907455,9.1,0.95904139232109353,0.95912364693202223,8.2254610928700345E-5]
[131.87456205855969,2.3016453075474579,2.9051942708162062,166.45537038335533,9.2000000000000011,0.96378782734555535,0.9638712331700352,8.3405824479854118E-5]
[132.87456205855969,2.319098600067401,2.9101087270081618,166.73694798175632,9.3000000000000007,0.96848294855393513,0.96856419314338493,8.1244589449802618E-5]
[133.87456205855969,2.3365518925873445,2.9149663545506166,167.01526953838547,9.4,0.97312785359969867,0.97320288575387082,7.5032154172149923E-5]
[134.87456205855969,2.3540051851072876,2.9197673888875513,167.29034854318922,9.5,0.97772360528884772,0.97778753583393341,6.3930545085688628E-5]
[135.87456205855969,2.3714584776272307,2.9245119127274841,167.56218973501657,9.6,0.98227123303956843,0.98231822236438926,4.6989324820834177E-5]
[136.87456205855969,2.3889117701471743,2.929199841230123,167.83078825287686,9.7000000000000011,0.98677173426624487,0.98679486432872732,2.3130062482445979E-5]
[137.87456205855969,2.4063650626671174,2.9338309042158097,168.09612861661597,9.8000000000000007,0.99122607569249488,0.99121720372437916,-8.871968115720108E-6]
[138.87456205855969,2.4238183551870609,2.9384046247660942,168.35818350081954,9.9,0.9956351945975499,0.99558478512777193,-5.0409469777967786E-5]
[139.87456205855969,2.441271647707004,2.9429202934153489,168.61691225610136,10,1,0.99989693104913568,-1.0306895086431567E-4]

{"sheet":"FFLoogx5P (2)","index":8,"n_rows":117,"n_cols":16,"rows_kept":117,"cut":false,"hidden":false,"merged":[]}
[null,"y=log x","1<x<10"]
[]
[null,"qin",49.871975600069121,null,"Dq",90,null,"Rx",{"$f":"F3/9","v":10},{"$f":"LN(2)","v":0.69314718055994529},null,null,null,30]
[null,"fin",108.6235941049848,null,"Df",60,null,"Ry",{"$f":"F4","v":60},null,null,null,null,10.909437254690339]
[]
[null,null,null,null,null,null,null,null,null,null,null,null,null,96.55334768504602]
[null,"x","y","q","f"]
[null,{"$f":"5.5-4.5*COS(PI()/10)","v":1.2202456766718095},{"$f":"LOG(B8)","v":8.6447277626733182E-2},{"$f":"$C$3+$I$3*(B8-1)","v":52.074432366787214},{"$f":"$C$4+$I$4*C8","v":113.81043076258879},null,{"$f":"D8*D_R","v":0.90887030090754028},1.9863667399202154]
[null,{"$f":"5.5-4.5*COS(3*PI()/10)","v":2.8549663646838708},{"$f":"LOG(B9)","v":0.45560099604307863},{"$f":"$C$3+$I$3*(B9-1)","v":68.42163924690783},{"$f":"$C$4+$I$4*C9","v":135.95965386756953},null,1.1941828844703151,2.3729436098609309]
[null,{"$f":"5.5-4.5*COS(5*PI()/10)","v":5.5},0.74036268949424389,{"$f":"$C$3+$I$3*(B10-1)","v":94.871975600069121},153.04535547463945,null,1.6558283420929292,2.6711453579175872]
[null,{"$f":"5.5-4.5*COS(7*PI()/10)","v":8.1450336353161283},0.91089288208860797,121.3223119532304,163.27716703030129,null,2.1174737997155431,2.8497241580074895]
[null,{"$f":"5.5-4.5*COS(9*PI()/10)","v":9.7797543233281914},0.99032794503677934,137.66951883335105,168.04327080719156,null,2.4027863832783183,2.9329083614059619]
[]
[null,null,{"$f":"COS(H8)","v":-0.40371185912454266},{"$f":"-COS(G8)","v":-0.61463725932005175},1,{"$f":"COS(H8-G8)","v":0.47353491992559016}]
[null,null,{"$f":"COS(H9)","v":-0.71885046246793638},{"$f":"-COS(G9)","v":-0.36777337207570221},1,{"$f":"COS(H9-G9)","v":0.38207037231601382}]
[null,null,{"$f":"COS(H10)","v":-0.89136562493707627},{"$f":"-COS(G10)","v":8.4929582471287138E-2},1,{"$f":"COS(H10-G10)","v":0.52735060626262142},null,"Det",{"$f":"MDETERM(C14:F17)","v":-9.6507439813448153E-8}]
[null,null,{"$f":"COS(H11)","v":-0.95770790260792549},{"$f":"-COS(G11)","v":0.51985181331361596},1,{"$f":"COS(H11-G11)","v":0.74367182117602249}]
[null,null,{"$f":"COS(H12)","v":-0.97830434043639491},{"$f":"-COS(G12)","v":0.73927294988184189},1,{"$f":"COS(H12-G12)","v":0.86274540008578426}]
[null,null,null,null,null,null,null,{"$f":"C20*C14+C21*D14+C22-F14","v":0}]
[null,null,{"$f":"MMULT(MINVERSE(C14:E16),F14:F16)","v":0.77211714281883315},null,"a2",{"$f":"1/C20","v":1.2951402637548179},null,{"$f":"C20*C15+C21*D15+C22-F15","v":0},null,null,"qin","fin","a2","a3","a4","|emax|"]
[null,null,0.61515425399394208,null,"a3",{"$f":"SQRT(1+F20^2+F22^2-2*C22*F20*F22)","v":0.64915422530277878},null,{"$f":"C20*C16+C21*D16+C22-F16","v":0},null,null,30,10.909437254690339,6.0425539632172023E-2,1.0749174818239415,0.12926560264134038,"8.19x10-3"]
[null,null,1.1633444918488189,null,"a4",{"$f":"1/C21","v":1.6256085258411426},null,null,null,null,30,96.55334768504602,6.83812781875098,5.2875401741016477,2.609860463707844,"6.8x10-4"]
[null,null,null,null,null,null,null,{"$f":"MIN(H27:H117)","v":-1.255922954663357E-2}]
[null,null,{"$f":"C20*C17+C21*D17+C22-F17","v":-9.6433751672897472E-7},null,{"$f":"SQRT(C24^2+C25^2)","v":1.0598091502426408E-6},null,null,{"$f":"MAX(H27:H117)","v":2.3649879064058243E-3}]
[null,null,{"$f":"C20*C18+C21*D18+C22-F18","v":4.396004876783266E-7}]
[null,null,null,null,"x","yreq","ygen"]
[{"$f":"C3","v":49.871975600069121},{"$f":"A27*D_R","v":0.87043017869548089},{"$f":"fourbar($F$20,$F$21,$F$22,1,-1,B27)","v":1.8826873680557372},{"$f":"C27/D_R","v":107.87004033218679},{"$f":"1+1/$I$3*(A27-$A$27)","v":1},{"$f":"LOG(E27)","v":0},{"$f":"1/$I$4*(D27-$C$4)","v":-1.255922954663357E-2},{"$f":"G27-F27","v":-1.255922954663357E-2}]
[{"$f":"A27+1","v":50.871975600069121},0.88788347121542421,1.9346832298964483,110.84918376780486,1.1000000000000001,{"$f":"LOG(E28)","v":4.1392685158225077E-2},{"$f":"1/$I$4*(D28-$C$4)","v":3.709316104700093E-2},{"$f":"G28-F28","v":-4.299524111224147E-3}]
[{"$f":"A28+1","v":51.871975600069121},0.90533676373536753,1.978250985456514,113.34543228425424,1.2,7.9181246047624818E-2,7.8697302987824E-2,-4.8394305980081764E-4]
[52.871975600069121,0.92279005625531085,2.0165442940570522,115.5394772506571,1.3,0.11394335230683679,0.11526471909453827,1.3213667877014779E-3]
[53.871975600069121,0.94024334877525406,2.0510756250804256,117.51797677926557,1.4,0.14612803567823801,0.14823971123801272,2.1116755597747061E-3]
[54.871975600069121,0.95769664129519738,2.0827183072963207,119.33096892271003,1.5,0.17609125905568124,0.17845624696208706,2.3649879064058243E-3]
[55.871975600069121,0.9751499338151407,2.1120354347424448,121.01071659282009,1.6,0.20411998265592479,0.2064520414639214,2.332058807996612E-3]
[56.871975600069121,0.99260322633508402,2.1394179055163107,122.57961660080292,1.7000000000000002,0.23044892137827397,0.23260037493030197,2.1514535520280043E-3]
[57.871975600069121,1.0100565188550272,2.165151872418372,124.05406429442039,1.8,0.25527250510330607,0.2571745031572597,1.9019980539536352E-3]
[58.871975600069121,1.0275098113749705,2.1894553576721174,125.44655142691843,1.9,0.27875360095282892,0.28038262203222714,1.6290210793982185E-3]
[59.871975600069121,1.0449631038949139,2.2124997350585627,126.76689699266846,2,0.3010299956639812,0.30238838146139435,1.358385797413153E-3]
[60.871975600069121,1.0624163964148572,2.2344231135249863,128.02301405146252,2.1,0.3222192947339193,0.32332366577462868,1.1043710407093732E-3]
[61.871975600069121,1.0798696889348005,2.2553390845539356,129.22141091583921,2.2000000000000002,0.34242268082220628,0.3432969468475735,8.7426602536722076E-4]
[62.871975600069121,1.0973229814547438,2.2753426679069841,130.36753181710705,2.2999999999999998,0.36172783601759284,0.36239896186870413,6.711258511112872E-4]
[63.871975600069121,1.1147762739746871,2.29451448743505,131.46599616165173,2.4000000000000004,0.38021124171160608,0.38070670094444881,4.9545923284272098E-4]
[64.871975600069121,1.1322295664946305,2.3129237863069925,132.52077129080897,2.5,0.3979400086720376,0.3982862864304027,3.4627775836509889E-4]
[65.871975600069121,1.1496828590145736,2.3306306567197366,133.53530023384428,2.6,0.41497334797081797,0.41519510214765798,2.2175417684000553E-4]
[66.871975600069121,1.1671361515345169,2.3476877232202518,134.51259815519779,2.7,0.43136376415898736,0.43148340083688314,1.1963667789577359E-4]
[67.871975600069121,1.1845894440544602,2.3641414368144424,135.45532650146194,2.8,0.44715803134221921,0.44719553994128558,3.7508599066371495E-5]
[68.871975600069121,1.2020427365744035,2.3800330859545111,136.36585092669057,2.9000000000000004,0.46239799789895614,0.4623709470284294,-2.7050870526734716E-5]
[69.871975600069121,1.2194960290943468,2.3953995977142397,137.24628719636118,3,0.47712125471966244,0.47704488485627294,-7.6369863389491588E-5]
[70.871975600069121,1.2369493216142902,2.4102741808758132,138.0985380335357,3.1,0.49136169383427269,0.49124906547584835,-1.1262835842434926E-4]
[71.871975600069121,1.2544026141342335,2.4246868481088386,138.92432303751454,3.2,0.50514997831990605,0.50501214887549561,-1.378294444104311E-4]
[72.871975600069121,1.2718559066541768,2.4386648444210266,139.72520323225234,3.3000000000000003,0.51851393987788752,0.51836015212112563,-1.5378775676189171E-4]
[73.871975600069121,1.2893091991741201,2.4522330020535428,140.50260140036374,3.4000000000000004,0.53147891704225514,0.53131678825631568,-1.6212878593946378E-4]
[74.871975600069121,1.3067624916940632,2.4654140370024953,141.25781907255316,3.5,0.54406804435027567,0.54390374945947262,-1.6429489080305171E-4]
[75.871975600069121,1.3242157842140065,2.4782287987370881,141.99205083541108,3.6,0.55630250076728727,0.55614094550710458,-1.6155526018268862E-4]
[76.871975600069121,1.3416690767339499,2.4906964820359945,142.70639646874415,3.7,0.56820172406699498,0.56804670606265573,-1.5501800433925794E-4]
[77.871975600069121,1.3591223692538932,2.5028348078949456,143.40187131081655,3.8000000000000003,0.57978359661681023,0.57963795343052904,-1.4564318628118578E-4]
[78.871975600069121,1.3765756617738365,2.5146601789782768,144.07941516506747,3.9000000000000004,0.59106460702649921,0.59093035100137781,-1.3425602512140422E-4]
[79.871975600069121,1.3940289542937798,2.5261878139617071,144.73989999738541,4,0.6020599913279624,0.60193843154001003,-1.2155978795236333E-4]
[80.871975600069121,1.4114822468137231,2.5374318642491867,145.38413662349083,4.0999999999999996,0.61278385671973545,0.61267570864176712,-1.0814807796832859E-4]
[81.871975600069121,1.4289355393336665,{"$f":"fourbar($F$20,$F$21,$F$22,1,-1,B59)","v":2.5484055158763619},146.01288054757484,{"$f":"1+1/$I$3*(A59-$A$27)","v":4.2},0.62324929039790045,0.62315477404316721,-9.4516354733231722E-5]
[82.871975600069121,1.4463888318536098,2.5591210788888206,146.62683708329521,4.3000000000000007,0.63346845557958664,0.63338738297184016,-8.1072607746479619E-5]
[83.871975600069121,1.4638421243735529,2.5695900660696518,147.2266658645334,4.4000000000000004,0.64345267648618742,0.64338452932580992,-6.8147160377507454E-5]
[84.871975600069121,1.4812954168934962,2.5798232625620132,147.81298483447378,4.5,0.65321251377534373,0.65315651215814963,-5.600161719410135E-5]
[85.871975600069121,1.4987487094134395,2.5898307876690794,148.38637378647988,4.5999999999999996,0.66275783168157409,0.66271299469158462,-4.4836989989471832E-5]
[86.871975600069121,1.5162020019333828,2.5996221499013643,148.94737751807361,4.7,0.67209785793571752,0.67206305688481338,-3.4801050904142983E-5]
[87.871975600069121,1.5336552944533262,2.6092062961691433,149.4965086494534,4.8000000000000007,0.68124123737558728,0.68121524240780995,-2.5994967777331901E-5]
[88.871975600069121,1.5511085869732695,2.6185916558769136,150.03425014992078,4.9000000000000004,0.69019608002851374,0.69017760074893297,-1.8479279580763119E-5]
[89.871975600069121,1.5685618794932128,2.6277861805612801,150.56105760896384,5,0.69897000433601886,0.69895772506631715,-1.2279269701709339E-5]
[90.871975600069121,1.5860151720131561,2.6367973796181623,151.07736128327545,5.1000000000000005,0.70757017609793638,0.70756278630484415,-7.3897930922273147E-6]
[91.871975600069121,1.6034684645330994,2.6456323525859675,151.58356794644286,5.2,0.71600334363479923,0.71599956402430087,-3.7796104983556233E-6]
[92.871975600069121,1.6209217570530425,2.6542978183852304,152.08006256425557,5.3,0.72427586960078905,0.72427447432117942,-1.3952796096283748E-6]
[93.871975600069121,1.6383750495729859,2.6628001418597567,152.56720981540096,5.4,0.7323937598229685,0.73239359517360259,-1.6464936591908952E-7]
[94.871975600069121,1.6558283420929292,2.6711453579175872,153.04535547463945,5.5,0.74036268949424389,0.74036268949424411,0]
[95.871975600069121,1.6732816346128725,2.6793391935305948,153.51482767328875,5.6000000000000005,0.74818802700620046,0.74818722613839905,-8.0086780140931069E-7]
[96.871975600069121,1.6907349271328158,2.687387087817922,153.97593804992005,5.7,0.75587485567249146,0.75587239908225401,-2.4565902374540372E-6]
[97.871975600069121,1.7081882196527591,2.6952942104098154,154.42898280252808,5.8000000000000007,0.76342799356293733,0.76342314495905461,-4.8486038827233457E-6]
[98.871975600069121,1.7256415121727025,2.7030654782638801,154.87424365203168,5.9,0.77085201164214423,0.77084415911744797,-7.8525246962612982E-6]
[99.871975600069121,1.7430948046926458,2.7107055710846364,155.31198872574922,6,0.77815125038364363,0.77813991034607355,-1.1340037570084505E-5]
[100.87197560006912,1.7605480972125891,2.7182189454790371,155.74247336845005,6.1000000000000005,0.78532983501076703,0.78531465439108739,-1.5180619679644458E-5]
[101.87197560006912,1.7780013897325322,2.7256098479647921,156.16594088767656,6.2,0.79239168949825389,0.79237244637819582,-1.9243120058076713E-5]
[102.87197560006912,1.7954546822524755,2.7328823269345657,156.58262323924222,6.3000000000000007,0.79934054945358179,0.79931715223762367,-2.3397215958120832E-5]
[103.87197560006912,1.8129079747724188,2.7400402436670959,156.9927416581223,6.4,0.80617997398388719,0.80615245921895828,-2.7514764928904256E-5]
[104.87197560006912,1.8303612672923621,2.7470872824656896,157.39650723934665,6.5,0.81291335664285558,0.81288188557269736,-3.1471070158217707E-5]
[105.87197560006912,1.8478145598123055,2.7540269599952198,157.79412147297052,6.6000000000000005,0.81954393554186866,0.81950878946642858,-3.5146075440084523E-5]
[106.87197560006912,1.8652678523322488,2.7608626338804996,158.18577673672482,6.7,0.82607480270082645,0.82603637719566692,-3.8425505159533913E-5]
[107.87197560006912,1.8827211448521921,2.7675975106214761,158.57165674952361,6.8000000000000007,0.83250891270623639,0.8324677107423134,-4.1201963922987694E-5]
[108.87197560006912,1.9001744373721354,2.7742346528740875,158.95193698862619,6.9,0.83884909073725533,0.83880571472735632,-4.3376009899009915E-5]
[109.87197560006912,1.9176277298920787,2.7807769861396192,159.32678507290919,7,0.84509804001425681,0.84505318279873975,-4.4857215517057902E-5]
[110.87197560006912,1.9350810224120218,2.7872273048998784,159.69636111438609,7.1000000000000005,0.85125834871907535,0.8512127834900215,-4.5565229053856626E-5]
[111.87197560006912,1.9525343149319652,2.793588278230521,160.06081803982721,7.2,0.85733249643126852,0.85728706558070678,-4.5430850561745117E-5]
[112.87197560006912,1.9699876074519085,2.7998624549200786,160.4203018840582,7.3000000000000007,0.86332286012045589,0.86327846298455668,-4.4397135899210127E-5]
[113.87197560006912,{"$f":"A91*D_R","v":1.9874408999718518},{"$f":"fourbar($F$20,$F$21,$F$22,1,-1,B91)","v":2.8060522681178481},{"$f":"C91/D_R","v":160.77495205626479},{"$f":"1+1/$I$3*(A91-$A$27)","v":7.4},0.86923171973097624,0.86918929918799981,-4.2420542976429054E-5]
[114.87197560006912,2.0048941924917951,2.8121600395295108,161.12490158038372,7.5,{"$f":"LOG(E92)","v":0.87506126339170009},{"$f":"1/$I$4*(D92-$C$4)","v":0.87502179125664858},{"$f":"G92-F92","v":-3.9472135051510371E-5}]
[{"$f":"A92+1","v":115.87197560006912},2.0223474850117382,2.818187983175191,161.47027731042391,7.6000000000000005,0.88081359228079137,0.88077805342398507,-3.5538856806294206E-5]
[116.87197560006912,2.0398007775316818,2.8241382087205751,161.81120012132533,7.7,0.88649072517248184,0.88646010027234201,-3.0624900139830658E-5]
[117.87197560006912,2.0572540700516249,2.8300127243875193,162.14778507572473,7.8000000000000007,0.89209460269048046,0.89206984951233204,-2.4753178148428923E-5]
[118.87197560006912,2.0747073625715684,2.8358134394463139,162.48014156675163,7.9,0.89762709129044149,0.8976091243627804,-1.7966927661094978E-5]
[119.87197560006912,2.0921606550915115,2.8415421662872546,162.80837343672084,8,0.90308998699194354,0.90307965552893399,-1.033146300954968E-5]
[120.87197560006912,2.109613947611455,2.8472006220643653,163.13257907131072,8.1000000000000014,0.90848501887864985,0.90848308277209855,-1.9361065513034958E-6]
[121.87197560006912,2.1270672401313981,2.852790429898846,163.4528514685156,8.1999999999999993,0.91381385238371671,0.91382095605884661,7.1036751299047296E-6]
[122.87197560006912,2.1445205326513417,2.8583131196240168,163.76927828132816,8.3000000000000007,0.91907809237607396,0.91909473627238913,1.6643896315171602E-5]
[123.87197560006912,2.1619738251712848,2.8637701280469265,164.08194183272823,8.4,0.9242792860618817,0.92430579546239044,2.6509400508745173E-5]
[124.87197560006912,2.1794271176912279,2.8691627986943176,164.39091910112782,8.5,0.92941892571429274,0.92945541660238362,3.6490888090878748E-5]
[125.87197560006912,2.1968804102111714,2.8744923810019429,164.69628167392236,8.6000000000000014,0.93449845124356778,0.93454479281562586,4.6341572058072877E-5]
[126.87197560006912,2.2143337027311145,2.8797600288960723,164.99809566621693,8.6999999999999993,0.93951925261861846,0.93957502602053533,5.5773401916869858E-5]
[127.87197560006912,2.2317869952510581,2.8849667987039807,165.29642160110623,8.8000000000000007,0.94448267215016868,0.94454712493535709,6.4452785188406914E-5]
[128.87197560006911,2.2492402877710012,2.8901136463158901,165.59131424706561,8.8999999999999986,0.94939000664491269,0.94946200236801348,7.199572310079283E-5]
[129.87197560006911,2.2666935802909443,2.8952014235035404,165.88282240702091,9,0.95424250943932487,0.95432047170060175,7.7962261276875999E-5]
[130.87197560006911,2.2841468728108878,2.9002308732796074,166.17098865246257,9.1,0.95904139232109353,0.95912324245796277,8.1850136869232593E-5]
[131.87197560006911,2.3016001653308309,2.9052026241565585,166.45584899450233,9.1999999999999993,0.96378782734555524,0.96387091482529208,8.3087479736843051E-5]
[132.87197560006911,2.319053457850774,2.9101171831319448,166.73743248196013,9.2999999999999989,0.96848294855393502,0.96856397294958874,8.1024395653717107E-5]
[133.87197560006911,2.3365067503707175,2.9149749271879624,167.0157607143247,9.3999999999999986,0.97312785359969856,0.97320277682233158,7.4923222633027642E-5]
[134.87197560006911,2.3539600428906606,2.919776093044133,167.29084725462559,9.4999999999999982,0.97772360528884772,0.97778755249401306,6.3947205165337806E-5]
[135.87197560006911,2.3714133354106042,2.9245207648402891,167.56269692372007,9.6,0.98227123303956843,0.98231838031225438,4.7147272685954533E-5]
[136.87197560006911,2.3888666279305473,2.9292088593487744,167.83130495301475,9.6999999999999993,0.98677173426624487,0.98679518080049911,2.3446534254234486E-5]
[137.87197560006911,2.4063199204504908,2.9338401082146488,168.09665596690411,9.7999999999999989,0.99122607569249477,0.99121769769865509,-8.3779938396810749E-6]
[138.87197560006911,2.4237732129704339,2.9384140365936053,168.35872275881343,9.8999999999999986,0.9956351945975499,0.99558547756381044,-4.9717033739460348E-5]
[139.87197560006911,2.4412265054903775,2.9429299373891591,168.61746481509843,9.9999999999999982,0.99999999999999989,0.9998978451685604,-1.0215483143949378E-4]

{"sheet":"FFLoogxPP-PP","index":9,"n_rows":113,"n_cols":16,"rows_kept":113,"cut":false,"hidden":false,"merged":[]}
[null,"y=log x","1<x<10"]
[]
[null,"qin",30,null,"Dq",90,null,"Rx",{"$f":"F3/9","v":10},{"$f":"LN(2)","v":0.69314718055994529},null,null,null,30]
[null,"fin",113.5434305928264,null,"Df",60,null,"Ry",{"$f":"F4","v":60},null,null,null,null,10.909437254690339]
[null,null,null,null,null,null,null,null,"başlangıç 30 90 f değişti",null,null,null,null,96.55334768504602]
[null,"x","y","q","f",null,null,null,"başlangıç 30 120 q değişti"]
[null,{"$f":"5-4*COS(PI()/4)","v":2.1715728752538097},{"$f":"LOG(B7)","v":0.33677440831926342},{"$f":"$C$3+$I$3*(B7-1)","v":41.715728752538098},{"$f":"$C$4+$I$4*C7","v":133.74989509198221},null,{"$f":"D7*D_R","v":0.7280768166006566},{"$f":"E7*D_R","v":2.3343760435520937}]
[null,null,null,null,null,null,null,null,null,{"$f":"I4/I3/B7/LN(10)","v":1.1999444831502388}]
[null,{"$f":"5-4*COS(3*PI()/4)","v":7.8284271247461898},{"$f":"LOG(B9)","v":0.89367451305901047},{"$f":"$C$3+$I$3*(B9-1)","v":98.284271247461902},{"$f":"$C$4+$I$4*C9","v":167.16390137636702},null,1.7153841361914046,2.9175604694966855]
[null,null,null,null,null,null,null,null,null,{"$f":"I4/I3/B9/LN(10)","v":0.33285957062594407}]
[]
[null,null,{"$f":"COS(H7)","v":-0.69151173313968661},{"$f":"-COS(G7)","v":-0.74645553610243509},1,{"$f":"COS(H7-G7)","v":-3.5495442319792639E-2},null,"Det",{"$f":"MDETERM(C12:F15)","v":-4.3699430790519172E-5}]
[null,null,{"$f":"-SIN(H7)*J8","v":-0.86679817041286156},{"$f":"SIN(G7)","v":0.66543529559381365},0,{"$f":"-SIN(H7-G7)*(J8-1)","v":-0.19981848578190212}]
[null,null,{"$f":"COS(H9)","v":-0.97500957639242758},{"$f":"-COS(G9)","v":0.14408455241086468},1,{"$f":"COS(H9-G9)","v":0.36032847023318415}]
[null,null,{"$f":"-SIN(H9)*J10","v":-7.3949026382413227E-2},{"$f":"+SIN(G9)","v":0.98956538023344409},0,{"$f":"-SIN(H9-G9)*(J10-1)","v":0.62232559748112781},null,{"$f":"$C$17*C12+$C$18*D12+$C$19*E12-F12","v":0}]
[null,null,{"$f":"C17*C15+C18*D15-F15","v":-7.4921566504460024E-5},null,null,null,null,{"$f":"$C$17*C13+$C$18*D13+$C$19*E13-F13","v":0},null,null,"qin","fin","a2","a3","a4","|emax|"]
[null,null,{"$f":"MMULT(MINVERSE(C12:E14),F12:F14)","v":0.75666894303911869},null,"a2",{"$f":"1/C17","v":1.3215819272078957},null,0,null,null,30,10.909437254690339,6.0425539632172023E-2,1.0749174818239415,0.12926560264134038,"8.19x10-3"]
[null,null,0.68535704774371076,null,"a3",{"$f":"SQRT(1+F17^2+F19^2-2*C19*F17*F19)","v":1.010673193594869},null,-7.4921566504460024E-5,null,null,30,96.55334768504602,6.83812781875098,5.2875401741016477,2.609860463707844,"6.8x10-4"]
[null,null,0.99933857238927692,null,"a4",{"$f":"1/C18","v":1.4590934802409006}]
[null,null,null,null,null,null,null,{"$f":"MIN(H23:H113)","v":1.9250824467853533E-7}]
[null,null,null,null,null,null,null,{"$f":"MAX(H23:H113)","v":2.7762132338236493E-2}]
[null,null,null,null,"x","yreq","ygen"]
[{"$f":"C3","v":30},{"$f":"A23*D_R","v":0.52359877559829882},{"$f":"fourbar($F$17,$F$18,$F$19,1,-1,B23)","v":2.0107791448550749},{"$f":"C23/D_R","v":115.20915853312059},{"$f":"1+1/$I$3*(A23-$A$23)","v":1},{"$f":"LOG(E23)","v":0},{"$f":"1/$I$4*(D23-$C$4)","v":2.7762132338236493E-2},{"$f":"G23-F23","v":2.7762132338236493E-2}]
[{"$f":"A23+1","v":31},0.54105206811824214,{"$f":"fourbar($F$17,$F$18,$F$19,1,-1,B24)","v":2.046365268601984},117.24809323304876,{"$f":"1+1/$I$3*(A24-$A$23)","v":1.1000000000000001},{"$f":"LOG(E24)","v":4.1392685158225077E-2},{"$f":"1/$I$4*(D24-$C$4)","v":6.1744377337039441E-2},{"$f":"G24-F24","v":2.0351692178814364E-2}]
[{"$f":"A24+1","v":32},0.55850536063818546,2.0800634425375826,119.17885637685632,1.2,7.9181246047624818E-2,9.3923763067165322E-2,1.4742517019540505E-2]
[33,0.57595865315812877,2.1120280354328944,121.01029264361154,1.3,0.11394335230683679,0.12444770084641897,1.0504348539582181E-2]
[34,0.59341194567807209,2.1423961626416785,122.75025816439127,1.4,0.14612803567823801,0.15344712619274786,7.3190905145098517E-3]
[35,0.6108652381980153,2.1712902838928883,124.40576936482485,1.5,0.17609125905568124,0.18103897953330753,4.9477204776262884E-3]
[36,0.62831853071795862,2.1988202858266099,125.98312228561409,1.6,0.20411998265592479,0.20732819487979484,3.2082122238700495E-3]
[37,0.64577182323790194,2.2250851776269727,127.48798973514263,1.7000000000000002,0.23044892137827397,0.23240931903860396,1.9603976603299877E-3]
[38,0.66322511575784526,2.250174490255751,128.92550145965592,1.8,0.25527250510330607,0.25636784778049204,1.0953426771859731E-3]
[39,0.68067840827778847,2.2741694445306138,130.30031106921496,1.9,0.27875360095282892,0.27928134127314264,5.2774032031371876E-4]
[40,0.69813170079773179,2.2971439360449333,131.61665246944457,2,0.3010299956639812,0.30122036461030294,1.9036894632173951E-4]
[41,0.71558499331767511,2.3191653728991048,132.87838786000245,2.1,0.3222192947339193,0.32224928778626749,2.9993052348187277E-5]
[42,0.73303828583761843,2.3402953936611164,134.08904887068951,2.2000000000000002,0.34242268082220628,0.34242697129771854,4.2904755122585847E-6]
[43,0.75049157835756175,2.3605904867810468,135.25187205128651,2.2999999999999998,0.36172783601759284,0.36180735764100191,7.9521623409073428E-5]
[44,0.76794487087750496,2.3801025281230763,136.3698296698696,2.4000000000000004,0.38021124171160608,0.38043998461738676,2.2874290578067669E-4]
[45,0.78539816339744828,2.3988792498659977,137.44565657883052,2.5,0.3979400086720376,0.39837043310006875,4.3042442803115089E-4]
[46,0.8028514559173916,2.4169646514322833,138.48187375937798,2.6,0.41497334797081797,0.41564071944252629,6.6737147170831124E-4]
[47,0.82030474843733492,2.4343993611117214,139.48080904104566,2.7,0.43136376415898736,0.4322896408036544,9.2587664466703412E-4]
[48,0.83775804095727824,2.4512209554915771,140.44461540369238,2.8,0.44715803134221921,0.44835308018109976,1.1950488388805525E-3]
[49,0.85521133347722145,2.4674642425798874,141.3752871992719,2.9000000000000004,0.46239799789895614,0.46386427677409164,1.4662788751355071E-3]
[50,0.87266462599716477,2.4831615135319902,142.2746745747007,3,0.47712125471966244,0.47885406636457167,1.7328116449092379E-3]
[51,0.89011791851710809,2.4983427671044733,143.14449633212189,3.1,0.49136169383427269,0.49335109565492485,1.9894018206521591E-3]
[52,0.90757121103705141,2.5130359103224782,143.98635142629482,3.2,0.50514997831990605,0.50738201389114035,2.2320355712343032E-3]
[53,0.92502450355699462,2.5272669383237081,144.80172926889779,3.3000000000000003,0.51851393987788752,0.52097164460118983,2.4577047233023119E-3]
[54,0.94247779607693793,2.5410600959113094,145.59201898482621,3.4000000000000004,0.53147891704225514,0.53414313986666362,2.6642228244084798E-3]
[55,0.95993108859688125,2.5544380229896015,146.35851774504613,3.5,0.54406804435027567,0.54691811920366218,2.8500748533865083E-3]
[56,0.97738438111682457,2.5674218857571867,147.1024382834058,3.6,0.55630250076728727,0.55931679484299013,3.0142940757028613E-3]
[57,0.99483767363676789,2.5800314952801635,147.82491569038035,3.7,0.56820172406699498,0.57135808495923257,3.1563608922375863E-3]
[58,1.0122909661567112,2.5922854148553176,148.52701356452943,3.8000000000000003,0.57978359661681023,0.58305971619505048,3.2761195782402552E-3]
[59,1.0297442586766545,2.6042010573923364,149.20972959208714,3.9000000000000004,0.59106460702649921,0.59443831665434577,3.373709627846555E-3]
[60,1.0471975511965976,2.6157947738898444,149.87400061626556,4,0.6020599913279624,0.60550950039065277,3.4495090626903702E-3]
[61,1.064650843716541,2.6270819339478235,150.52070725027639,4.0999999999999996,0.61278385671973545,0.61628794429083322,3.5040875710977692E-3]
[62,{"$f":"A55*D_R","v":1.0821041362364843},2.6380769991453281,151.15067808156459,4.2,0.62324929039790045,0.62678745814563663,3.5381677477361873E-3]
[63,1.0995574287564276,2.6487935900142627,151.76469350912296,4.3000000000000007,0.63346845557958664,0.6370210486049428,3.5525930253561544E-3]
[64,1.1170107212763709,2.659244547255001,152.36348925088896,4.4000000000000004,0.64345267648618742,0.64700097763437603,3.548301148188604E-3]
[65,1.1344640137963142,2.6694419877658406,152.94775955399581,4.5,0.65321251377534373,0.65673881601949025,3.5263022441465175E-3]
[66,1.1519173063162575,2.6793973559939701,153.51816013696626,4.5999999999999996,0.66275783168157409,0.666245492402331,3.4876607207569021E-3]
[67,1.1693705988362009,2.6891214710594831,154.07531088971973,4.7,0.67209785793571752,0.67553133828155554,3.4334803458380136E-3]
[68,1.1868238913561442,2.6986245700547924,154.61979835444598,4.8000000000000007,0.68124123737558728,0.68460612936032628,3.3648919847389935E-3]
[69,1.2042771838760873,2.7079163478786348,155.15217800792539,4.9000000000000004,0.69019608002851374,0.69347912358498309,3.2830435564693561E-3]
[70,1.2217304763960306,2.7170059939259152,155.67297636370233,5,0.69897000433601886,0.7021590961812656,3.1890918452467387E-3]
[71,1.2391837689159739,2.725902225921133,156.18269291059755,5.1000000000000005,0.70757017609793638,0.71065437196285264,3.0841958649162615E-3]
[72,1.2566370614359172,2.7346133211536077,156.68180190235489,5.2,0.71600334363479923,0.71897285515880827,2.9695115240090386E-3]
[73,1.2740903539558606,2.7431471453465379,157.17075401171641,5.3,0.72427586960078905,0.72712205698150023,2.8461873807111848E-3]
[74,1.2915436464758039,2.751511179368733,157.64997786089202,5.4,0.7323937598229685,0.73510912113442706,2.7153613114585529E-3]
[75,1.3089969389957472,2.7597125439772685,158.11988143920908,5.5,0.74036268949424389,0.74294084743971145,2.5781579454675629E-3]
[76,1.3264502315156905,2.7677580227609693,158.58085341767719,5.6000000000000005,0.74818802700620046,0.75062371374751324,2.4356867413127814E-3]
[77,1.3439035240356338,2.7756540834383183,159.03326436926849,5.7,0.75587485567249146,0.75816389627403491,2.2890406015434461E-3]
[78,1.3613568165555769,2.7834068976487849,159.47746790287727,5.8000000000000007,0.76342799356293733,0.76556728850084776,2.1392949379104298E-3]
[79,1.3788101090755203,2.7910223593635797,159.91380171817846,5.9,0.77085201164214423,0.77283951875586776,1.9875071137235301E-3]
[80,1.3962634015954636,2.7985061020301423,160.3425885879345,6,0.77815125038364363,0.77998596658513508,1.8347162014914487E-3]
[81,1.4137166941154069,2.8058635145542725,160.76413727370385,6.1000000000000005,0.78532983501076703,0.7870117780146243,1.6819430038572669E-3]
[82,1.4311699866353502,2.8130997562143953,161.17874338036563,6.2,0.79239168949825389,0.79392187979232054,1.5301902940666468E-3]
[83,1.4486232791552935,2.8202197705940599,161.58669015439287,6.3000000000000007,0.79934054945358179,0.80072099269277452,1.3804432391927302E-3]
[84,1.4660765716752369,2.8272282986111845,161.9882492303733,6.4,0.80617997398388719,0.80741364395911497,1.2336699752277802E-3]
[85,1.4835298641951802,2.8341298907157322,162.38368132988469,6.5,0.81291335664285558,0.81400417895097166,1.0908223081160795E-3]
[86,1.5009831567151235,2.8409289183213744,162.77323691648093,6.6000000000000005,0.81954393554186866,0.82049677206090876,9.5283651904010114E-4]
[87,1.5184364492350666,2.8476295845311084,163.15715681022459,6.7,0.82607480270082645,0.82689543695663659,8.206342558101376E-4]
[88,1.5358897417550099,2.8542359342118204,163.535672764917,6.8000000000000007,0.83250891270623639,0.83320403620150996,6.951234952735641E-4]
[89,1.5533430342749532,2.8607518634682298,163.90900801091507,6.9,0.83884909073725533,0.83942629030147797,5.7719956422264129E-4]
[90,1.5707963267948966,2.8671811285625353,164.27737776618955,7,0.84509804001425681,0.84556578622271916,4.677462084623496E-4]
[91,1.5882496193148399,2.8735273543223889,164.64098971806638,7.1000000000000005,0.85125834871907535,0.85162598542066636,3.6763670159101203E-4]
[92,1.6057029118347832,2.8797940420764276,165.00004447789911,7.2,0.85733249643126852,0.85761023141787851,2.7773498660998985E-4]
[93,1.6231562043547265,2.8859845771535388,165.35473601074528,7.3000000000000007,0.86332286012045589,0.86352175696531475,1.9889684485885351E-4]
[94,{"$f":"A87*D_R","v":1.6406094968746698},2.8921022359792623,{"$f":"C87/D_R","v":165.70525204196019},7.4,0.86923171973097624,0.86936369081889664,1.3197108792040169E-4]
[95,1.6580627893946132,{"$f":"fourbar($F$17,$F$18,$F$19,1,-1,B88)","v":2.8981501928001876},166.05177444247656,{"$f":"1+1/$I$3*(A88-$A$23)","v":7.5},{"$f":"LOG(E88)","v":0.87506126339170009},{"$f":"1/$I$4*(D88-$C$4)","v":0.87513906416083598},{"$f":"G88-F88","v":7.7800769135882852E-5}]
[{"$f":"A88+1","v":96},1.6755160819145565,2.9041315260649143,166.39447959440662,7.6000000000000005,0.88081359228079137,0.88085081669300369,3.72244122123222E-5]
[97,1.6929693744344996,2.9100492244880516,166.73353873848362,7.7,0.88649072517248184,0.88650180242762033,1.1077255138491893E-5]
[98,1.7104226669544429,2.9159061928218128,167.06911830474991,7.8000000000000007,0.89209460269048046,0.89209479519872514,1.9250824467853533E-7]
[99,1.7278759594743862,2.9217052573580355,167.40138022779945,7.9,0.89762709129044149,0.89763249391621758,5.4026257760853014E-6]
[100,1.7453292519943295,2.9274491711818516,167.73048224779095,8,0.90308998699194354,0.90311752758274244,2.7540590798902365E-5]
[101,1.7627825445142729,2.9331406191967919,168.05657819836514,8.1000000000000014,0.90848501887864985,0.9085524600923125,6.744121366264455E-5]
[102,1.7802358370342162,2.9387822229397873,168.37981828252398,8.1999999999999993,0.91381385238371671,0.91393979482829313,1.2594244457642123E-4]
[103,1.7976891295541595,2.9443765452032871,168.70034933745859,8.3000000000000007,0.91907809237607396,0.91928197907720322,2.0388670112925222E-4]
[104,1.8151424220741028,2.9499260944806376,169.01831508925065,8.4,0.9242792860618817,0.92458140827373747,3.0212221185577093E-4]
[105,1.8325957145940461,2.9554333292497992,169.33385639831133,8.5,0.92941892571429274,0.92984043009141548,4.2150437712273892E-4]
[106,1.8500490071139892,2.9609006621095828,169.64711149637012,8.6000000000000014,0.93449845124356778,0.9350613483923953,5.6289714882751252E-4]
[107,1.8675022996339325,2.9663304637816674,169.95821621577363,8.6999999999999993,0.93951925261861846,0.94024642704912054,7.2717443050207553E-4]
[108,1.8849555921538759,2.9717250669909054,170.26730421181071,8.8000000000000007,0.94448267215016868,0.94539789364973859,9.1522149956990706E-4]
[109,1.9024088846738192,2.9770867702356387,170.57450717873553,8.9,0.9493900066449128,0.95051794309848558,1.1279364535727865E-3]
[110,1.9198621771937625,2.9824178414590623,170.87995506012135,9,0.95424250943932487,0.95560874112158245,1.3662316822575793E-3]
[111,1.9373154697137058,2.9877205216320375,171.18377625414053,9.1,0.95904139232109353,0.96067242768856875,1.6310353674752198E-3]
[112,1.9547687622336491,2.9929970282571059,171.48609781432975,9.2000000000000011,0.96378782734555535,0.96571112035838924,1.9232930128338932E-3]
[113,1.9722220547535925,2.9982495588028932,171.78704564636692,9.3000000000000007,0.96848294855393513,0.97072691755900875,2.2439690050736205E-3]
[114,1.9896753472735358,3.0034802940775269,172.08674470135364,9.4,0.97312785359969867,0.97572190180878737,2.5940482090887063E-3]
[115,2.0071286397934789,3.0086914015491271,172.38531916606541,9.5,0.97772360528884772,0.98069814288731694,2.9745375984692179E-3]
[116,2.0245819323134224,3.0138850386209182,172.68289265060173,9.6,0.98227123303956843,0.98565770096292216,3.3864679233537309E-3]
[117,2.0420352248333655,3.0190633558679503,172.97958837383646,9.7000000000000011,0.98677173426624487,0.9906026296835011,3.8308954172562304E-3]
[118,2.0594885173533091,3.0242285002419189,173.27552934704062,9.8000000000000007,0.99122607569249488,0.99553497923690371,4.3089035444088264E-3]
[119,2.0769418098732522,3.0293826182499748,173.57083855601459,9.9,0.9956351945975499,1.0004567993864699,4.8216047889200198E-3]
[120,2.0943951023931953,3.0345278591129077,173.8656391420389,10,1,1.0053701424868751,5.3701424868750625E-3]

{"sheet":"FFLoogxP-PPP-P","index":10,"n_rows":118,"n_cols":11,"rows_kept":118,"cut":false,"hidden":false,"merged":[]}
[null,"y=log x","1<x<10"]
[]
[null,"qin",166.98775856833873,null,"Dq",90,null,"Rx",{"$f":"F3/9","v":10},{"$f":"LN(2)","v":0.69314718055994529},{"$f":"I3*D_R","v":0.17453292519943295}]
[null,"fin",129.37812918325824,null,"Df",60,null,"Ry",{"$f":"F4","v":60},null,{"$f":"I4*D_R","v":1.0471975511965976}]
[null,null,null,null,null,null,null,null,"başlangıç 30 90 f değişti"]
[{"$f":"C4-180","v":-50.621870816741762},"x","y","q","f",null,null,null,"başlangıç 30 120 q değişti"]
[null,2,{"$f":"LOG(B7)","v":0.3010299956639812},{"$f":"$C$3+$I$3*(B7-1)","v":176.98775856833873},{"$f":"$C$4+$I$4*C7","v":147.43992892309711},null,{"$f":"D7*D_R","v":3.0890191227423163},2.5733122086144622]
[null,5,{"$f":"LOG(B8)","v":0.69897000433601886},{"$f":"$C$3+$I$3*(B8-1)","v":206.98775856833873},{"$f":"$C$4+$I$4*C8","v":171.31632944341936},null,3.612617898340615,2.9900340112189725,"f'",{"$f":"I4/I3/B8/LN(10)","v":0.52115337828390218}]
[null,8,{"$f":"LOG(B9)","v":0.90308998699194354},{"$f":"$C$3+$I$3*(B9-1)","v":236.98775856833873},{"$f":"$C$4+$I$4*C9","v":183.56352840277486},null,4.1362166739389137,3.2037879572065493,"f\"",{"$f":"K4/K3^2/B8^2/LN(10)","v":0.59719778109304877}]
[]
[{"$f":"C4+180","v":309.37812918325824}]
[null,null,null,null,null,null,null,null,"x=2,5,7"]
[]
[null,null,{"$f":"COS(H7)","v":-0.84282765701050466},{"$f":"-COS(G7)","v":0.9986183302129612},1,{"$f":"COS(H7-G7)","v":0.86994432502918972}]
[null,null,{"$f":"COS(H8)","v":-0.98853695638206485},{"$f":"-COS(G8)","v":0.89110350041424857},1,{"$f":"COS(H8-G8)","v":0.8123744121474773}]
[null,null,{"$f":"-SIN(H8)*J8","v":-7.8683263234612735E-2},{"$f":"+SIN(G8)","v":-0.45380012290596988},0,{"$f":"-SIN(H8-G8)*(J8-1)","v":-0.27923279392510386}]
[null,null,{"$f":"COS(H8)*J8^2-SIN(H8)*J9","v":-0.35865184941196426},{"$f":"COS(G8)","v":-0.89110350041424857},0,{"$f":"SIN(H8-G8)*J9-COS(H8-G8)*(J8-1)^2","v":-0.53452028716417832}]
[null,null,{"$f":"COS(H9)","v":-0.99806649549874293},{"$f":"-COS(G9)","v":0.54481820730699149},1,{"$f":"COS(H9-G9)","v":0.59588531322758564}]
[null,null,{"$f":"C21*C17+C22*D17-F17","v":5.8929151225406429E-8},null,{"$f":"SQRT(C19^2+C20^2)","v":7.5834738226092357E-7}]
[null,null,{"$f":"C21*C18+C22*D18+C23-F18","v":-7.5605430183145472E-7},null,null,null,null,null,{"$f":"$C$21*C14+$C$22*D14+$C$23*E14-F14","v":0}]
[null,null,{"$f":"MMULT(MINVERSE(C14:E16),F14:F16)","v":-6.7572166391007937E-2},null,"a2",{"$f":"1/C21","v":-14.798992742270189},{"$f":"-F21","v":14.798992742270189},{"$f":"C21*C18+C22*D18+C23-F18","v":-7.5605430183145472E-7},{"$f":"$C$21*C15+$C$22*D15+$C$23*E15-F15","v":0}]
[null,null,0.62703727504177209,null,"a3",{"$f":"SQRT(1+F21^2+F23^2-2*C23*F21*F23)","v":15.210920656931473},null,null,0]
[null,null,0.18682171776723333,null,"a4",{"$f":"1/C22","v":1.5948015210632922},null,{"$f":"MIN(H28:H118)","v":-6.7167616216987081E-3},5.8929151225406429E-8]
[null,null,null,null,null,null,null,{"$f":"MAX(H28:H118)","v":8.8524702784648454E-2},-7.5605430183145472E-7]
[]
[]
[null,null,null,null,"x","yreq","ygen"]
[{"$f":"C3","v":166.98775856833873},{"$f":"A28*D_R-PI()","v":-0.2271064560469096},{"$f":"fourbar($G$21,$F$22,$F$23,1,-1,B28)","v":8.6339624934744954},{"$f":"C28/D_R-360","v":134.68961135033715},{"$f":"1+1/$I$3*(A28-$A$28)","v":1},{"$f":"LOG(E28)","v":0},{"$f":"1/$I$4*(D28-$C$4)","v":8.8524702784648454E-2},{"$f":"G28-F28","v":8.8524702784648454E-2}]
[{"$f":"A28+1","v":167.98775856833873},{"$f":"A29*D_R+PI()","v":6.0735321436526197},{"$f":"fourbar($G$21,$F$22,$F$23,1,-1,B29)","v":8.6580250515751711},136.06829437379417,1.1000000000000001,{"$f":"LOG(E29)","v":4.1392685158225077E-2},{"$f":"1/$I$4*(D29-$C$4)","v":0.11150275317559893},{"$f":"G29-F29","v":7.011006801737385E-2}]
[{"$f":"A29+1","v":168.98775856833873},6.0909854361725628,8.6817150532471246,137.42563148625499,1.2,7.9181246047624818E-2,0.13412503838327913,5.4943792335654315E-2]
[169.98775856833873,6.1084387286925068,8.7050203057003372,138.76092409231097,1.3,0.11394335230683679,0.1563799151508789,4.2436562844042111E-2]
[170.98775856833873,6.125892021212449,8.727929142330888,140.07350374479626,1.4,0.14612803567823801,0.17825624269230028,3.2128207014062271E-2]
[171.98775856833873,6.143345313732393,8.7504305311212889,141.36273835566919,1.5,0.17609125905568124,0.19974348620684926,2.365222715116802E-2]
[172.98775856833873,6.1607986062523361,8.7725141834100135,142.62803842804755,1.6,0.20411998265592479,0.22083182074648847,1.6711838090563674E-2]
[173.98775856833873,6.1782518987722792,8.7941706607723091,143.86886318002769,1.7000000000000002,0.23044892137827397,0.24151223327949081,1.1063311901216843E-2]
[174.98775856833873,6.1957051912922232,8.8153914775766147,145.08472642073468,1.8,0.25527250510330607,0.26177662062460738,6.5041155213013124E-3]
[175.98775856833873,6.2131584838121663,8.8361691966875071,146.27520203369716,1.9,0.27875360095282892,0.28161788084064859,2.8642798878196762E-3]
[176.98775856833873,6.2306117763321094,8.8564975157940502,147.43992892309723,2,0.3010299956639812,0.30102999566398314,1.9428902930940239E-15]
[177.98775856833873,6.2480650688520534,8.8763713419609545,148.5786152852375,2.1,0.3222192947339193,0.32000810169965443,-2.2111930342648689E-3]
[178.98775856833873,6.2655183613719956,8.8957868522339414,149.69104208097252,2.2000000000000002,0.34242268082220628,0.33854854829523806,-3.8741325269682214E-3]
[179.98775856833873,6.2829716538919396,8.9147415384745958,150.77706560455675,2.2999999999999998,0.36172783601759284,0.35664894035497524,-5.0788956626175996E-3]
[180.98775856833873,6.3004249464118827,2.6500489278617407,{"$f":"C42/D_R","v":151.8366190696465},2.4000000000000004,0.38021124171160608,0.37430816477313772,-5.9030769384683657E-3]
[181.98775856833873,6.3178782389318258,2.6680798212712578,152.86971316286207,2.5,0.3979400086720376,0.39152639966006386,-6.4136090119737421E-3]
[182.98775856833873,6.3353315314517697,2.6856504415412124,153.8764355477575,2.6,0.41497334797081797,0.4083051060749876,-6.6682418958303735E-3]
[183.98775856833873,6.352784823971712,2.7027636354984423,154.85694933549556,2.7,0.43136376415898736,0.42464700253728865,-6.7167616216987081E-3]
[184.98775856833873,6.3702381164916559,2.7194235229043224,155.81149057101564,2.8,0.44715803134221921,0.44055602312928999,-6.6020082129292224E-3]
[185.98775856833873,6.387691409011599,2.735635436768066,156.74036481323776,2.9000000000000004,0.46239799789895614,0.4560372604996587,-6.3607373992974336E-3]
[186.98775856833873,6.4051447015315421,2.7514058496622913,157.64394291325556,3,0.47712125471966244,0.47109689549995531,-6.0243592197071205E-3]
[187.98775856833873,6.4225979940514861,2.7667422882016659,158.52265611432352,3.1,0.49136169383427269,0.48574211551775476,-5.6195783165179369E-3]
[188.98775856833873,6.4400512865714283,2.7816532380821051,159.37699061100378,3.2,0.50514997831990605,0.49998102379575898,-5.1689545241470625E-3]
[189.98775856833873,6.4575045790913723,2.7961480421996909,160.20748171181029,3.3000000000000003,0.51851393987788752,0.5138225421425342,-4.6913977353533198E-3]
[190.98775856833873,6.4749578716113154,2.8102367943784619,161.01470775025962,3.4000000000000004,0.53147891704225514,0.52727630945002302,-4.2026075922321215E-3]
[191.98775856833873,6.4924111641312585,2.8239302311458165,161.7992838840583,3.5,0.54406804435027567,0.54035257834666761,-3.7154660036080589E-3]
[192.98775856833873,6.5098644566512025,2.8372396238178546,162.56185591204843,3.6,0.55630250076728727,0.55306211214650314,-3.2403886207841293E-3]
[193.98775856833873,6.5273177491711456,2.8501766729148166,163.30309422465788,3.7,0.56820172406699498,0.56541608402332744,-2.7856400436675477E-3]
[194.98775856833873,6.5447710416910887,2.8627534066390763,164.02368798711782,3.8000000000000003,0.57978359661681023,0.57742598006432644,-2.3576165524837878E-3]
[195.98775856833873,6.5622243342110327,2.8749820848347536,164.72433963675377,3.9000000000000004,0.59106460702649921,0.5891035075582588,-1.9610994682404126E-3]
[196.98775856833873,6.5796776267309749,2.8868751095280447,165.40575975732423,4,0.6020599913279624,0.60046050956776653,-1.5994817601958644E-3]
[197.98775856833873,6.5971309192509189,2.8984449428361065,166.06866237554607,4.0999999999999996,0.61278385671973545,0.61150888653813051,-1.2749701816049397E-3]
[198.98775856833873,{"$f":"A60*D_R+PI()","v":6.614584211770862},2.909704032742042,166.71376070831451,{"$f":"1+1/$I$3*(A60-$A$28)","v":4.2},0.62324929039790045,0.62226052541760457,-9.8876498029587534E-4]
[199.98775856833873,6.6320375042908051,2.9206647469734808,167.34176337422491,4.3000000000000007,0.63346845557958664,0.63272723651611118,-7.4121906347546229E-4]
[200.98775856833873,6.6494907968107491,2.931339314997611,167.95337107013287,4.4000000000000004,0.64345267648618742,0.6429206981145773,-5.3197837161012007E-4]
[201.98775856833873,6.6669440893306913,2.9417397779586998,168.5492737027854,4.5,0.65321251377534373,0.65285240865878602,-3.6010511655770738E-4]
[202.98775856833873,6.6843973818506353,2.9518779462359146,169.13014795706323,4.5999999999999996,0.66275783168157409,0.66253364623008315,-2.241854514909436E-4]
[203.98775856833873,6.7018506743705784,2.9617653641866872,169.6966552759244,4.7,0.67209785793571752,0.67197543487776934,-1.2242305794818442E-4]
[204.98775856833873,6.7193039668905215,2.9714132815620293,170.24944022262244,4.8000000000000007,0.68124123737558728,0.68118851732273666,-5.272005285061887E-5]
[205.98775856833873,6.7367572594104654,2.9808326310300632,170.78912919289957,4.9000000000000004,0.69019608002851374,0.69018333349402217,-1.2746534491570038E-5]
[206.98775856833873,6.7542105519304076,2.9900340112189729,171.31632944341939,5,0.69897000433601886,0.69897000433601919,0]
[207.98775856833873,6.7716638444503516,2.9990276746856352,171.83162840242014,5.1000000000000005,0.70757017609793638,0.70755832031936494,-1.1855778571434605E-5]
[208.98775856833873,6.7891171369702947,3.0078235202275461,172.33559322922059,5.2,0.71600334363479923,0.71595773409937258,-4.5609535426649472E-5]
[209.98775856833873,6.8065704294902378,3.0164310889790089,172.82877059054809,5.3,0.72427586960078905,0.72417735678816419,-9.8512812624851342E-5]
[210.98775856833873,6.8240237220101818,3.0248595637648044,173.3116866235066,5.4,0.7323937598229685,0.73222595733747275,-1.6780248549574939E-4]
[211.98775856833873,6.8414770145301249,3.033117771222539,173.78484705717827,5.5,0.74036268949424389,0.74011196456533379,-2.5072492891009546E-4]
[212.98775856833873,6.858930307050068,3.0412141862463637,{"$f":"C74/D_R","v":174.24873746722974},5.6000000000000005,0.74818802700620046,0.74784347139952512,-3.4455560667534524E-4]
[213.98775856833873,6.876383599570012,3.0491569383474357,174.70382364033983,5.7,0.75587485567249146,0.75542824095135996,-4.4661472113149969E-4]
[214.98775856833873,6.8938368920899542,3.0569538195694359,175.15055202772524,5.8000000000000007,0.76342799356293733,0.76287371407445004,-5.5427948848729702E-4]
[215.98775856833873,6.9112901846098982,3.06461229363881,175.58935026941074,5.9,0.77085201164214423,0.77018701810254175,-6.6499353960247642E-4]
[216.98775856833873,6.9287434771298413,3.0721395060690111,176.0206277731597,6,0.77815125038364363,0.77737497649835774,-7.7627388528589414E-4]
[217.98775856833873,6.9461967696497844,3.0795422949748268,176.4447763340892,6.1000000000000005,0.78532983501076703,0.78444411918051604,-8.8571583025098821E-4]
[218.98775856833873,6.9636500621697284,3.0868272023869308,176.86217078294632,6.2,0.79239168949825389,0.79140069332813467,-9.9099617011921826E-4]
[219.98775856833873,6.9811033546896706,3.0940004858876708,177.27316965278956,6.3000000000000007,0.79934054945358179,0.79825067449218867,-1.0898749613931225E-3]
[220.98775856833873,6.9985566472096146,3.1010681304170071,177.67811585541926,6.4,0.80617997398388719,0.8049997778693504,-1.1801961145367912E-3]
[221.98775856833873,7.0160099397295577,3.1080358601222104,178.07733736031534,6.5,0.81291335664285558,0.81165346961761831,-1.2598870252372718E-3]
[222.98775856833873,7.0334632322495008,3.1149091501470094,178.47114787010568,6.6000000000000005,0.81954393554186866,0.81821697811412408,-1.3269574277445795E-3]
[223.98775856833873,7.0509165247694447,3.1216932382749043,178.85984748767888,6.7,0.82607480270082645,0.82469530507367728,-1.3794976271491732E-3]
[224.98775856833873,7.068369817289387,3.1283931363582518,179.24372337102247,6.8000000000000007,0.83250891270623639,0.83109323646273714,-1.4156762434992531E-3]
[225.98775856833873,7.0858231098093309,3.1350136414791017,179.62305037269192,6.9,0.83884909073725533,0.83741535315722804,-1.4337375800272945E-3]
[226.98775856833873,7.103276402329274,3.141559346800038,179.99809166151789,7,0.84509804001425681,0.84366604130432754,-1.4319987099292719E-3]
[227.98775856833873,7.1207296948492171,3.1480346520740827,180.36909932477946,7.1000000000000005,0.85125834871907535,0.84984950235868695,-1.4088463603884049E-3]
[228.98775856833873,7.1381829873691611,3.1544437737913196,180.73631494956277,7.2,0.85733249643126852,0.85596976277174219,-1.3627336595263273E-3]
[229.98775856833873,7.1556362798891042,3.1607907549476759,181.09997018247105,7.3000000000000007,0.86332286012045589,0.8620306833202136,-1.2921768002422951E-3]
[230.98775856833873,{"$f":"A92*D_R+PI()","v":7.1730895724090473},3.1670794744272883,181.46028726719456,{"$f":"1+1/$I$3*(A92-$A$28)","v":7.4},0.86923171973097624,0.86803596806560535,-1.1957516653708922E-3]
[231.98775856833873,7.1905428649289904,{"$f":"fourbar($G$21,$F$22,$F$23,1,-1,B93)","v":3.1733136559951953},181.81747955975388,7.5,{"$f":"LOG(E93)","v":0.87506126339170009},{"$f":"1/$I$4*(D93-$C$4)","v":0.87398917294159395},{"$f":"G93-F93","v":-1.0720904501061446E-3}]
[{"$f":"A93+1","v":232.98775856833873},7.2079961574489344,3.1794968769011822,182.17175202146399,7.6000000000000005,0.88081359228079137,0.87989371397009586,-9.1987831069550996E-4]
[233.98775856833873,7.2254494499688775,3.1856325760990725,182.52330168986489,7.7,0.88649072517248184,0.88575287511011092,-7.378500623709261E-4]
[234.98775856833873,7.2429027424888206,3.1917240620884129,182.87231812801718,7.8000000000000007,0.89209460269048046,0.89156981574598237,-5.2478694449809016E-4]
[235.98775856833873,7.2603560350087637,3.1977745203876253,183.21898385268196,7.9,0.89762709129044149,0.89734757782372865,-2.7951346671284405E-4]
[236.98775856833873,7.2778093275287068,3.2037870206493482,183.56347474199998,8,0.90308998699194354,0.9030890926456957,-8.9434624783724104E-7]
[237.98775856833873,7.2952626200486508,3.2097645234298158,183.90596042334849,8.1000000000000014,0.90848501887864985,0.9087971873348375,3.1216845618764477E-4]
[238.98775856833873,7.3127159125685939,3.2157098866250839,184.24660464210976,8.1999999999999993,0.91381385238371671,0.9144745909808587,6.6073859714199656E-4]
[239.98775856833873,7.330169205088537,3.2216258715873716,184.58556561211171,8.3000000000000007,0.91907809237607396,0.92012394048089119,1.0458481048172263E-3]
[240.98775856833873,7.3476224976084801,3.2275151489351779,184.92299634852301,8.4,0.9242792860618817,0.92574778608774622,1.4685000258645164E-3]
[241.98775856833873,7.3650757901284241,3.2333803040709159,185.25904498399026,8.5,0.92941892571429274,0.93134859667886705,1.9296709645743038E-3]
[242.98775856833873,7.3825290826483672,3.239223842419837,185.59385506880631,8.6000000000000014,0.93449845124356778,0.93692876475913445,2.4303135155666622E-3]
[243.98775856833873,7.3999823751683103,3.2450481944038199,185.92756585588717,8.6999999999999993,0.93951925261861846,0.94249061121048217,2.9713585918637042E-3]
[244.98775856833873,7.4174356676882534,3.2508557201633215,{"$f":"C106/D_R","v":186.2603125713201},8.8000000000000007,0.94448267215016868,0.948036389801031,3.5537176508623203E-3]
[245.98775856833873,7.4348889602081965,3.2566487140405505,186.59222667123046,8.9,0.9493900066449128,0.9535682914662037,4.1782848212909007E-3]
[246.98775856833873,7.4523422527281404,3.2624294088363914,186.92343608568538,9,0.95424250943932487,0.95908844837378571,4.8459389344608361E-3]
[247.98775856833873,7.4697955452480835,3.2681999798533226,187.25406545033604,9.1,0.95904139232109353,0.96459893778463002,5.557545463536484E-3]
[248.98775856833873,7.4872488377680266,3.2739625487359829,187.58423632646591,9.2000000000000011,0.96378782734555535,0.97010178572012784,6.3139583745724925E-3]
[249.98775856833873,7.5047021302879697,3.2797191871205986,187.9140674100874,9.3000000000000007,0.96848294855393513,0.9755989704471526,7.1160218932174724E-3]
[250.98775856833873,7.5221554228079137,3.2854719201040443,188.24367473070456,9.4,0.97312785359969867,0.98109242579077194,7.9645721910732714E-3]
[251.98775856833873,7.5396087153278568,3.2912227295426586,188.57317184032115,9.5,0.97772360528884772,0.98658404428438184,8.8604389955341256E-3]
[252.98775856833873,7.5570620078477999,3.29697355719061,188.9026699932559,9.6,0.98227123303956843,0.99207568016662762,9.8044471270591904E-3]
[253.98775856833873,7.574515300367743,3.3027263076869753,189.23227831728943,9.7000000000000011,0.98677173426624487,0.99756915223385312,1.0797417967608247E-2]
[254.98775856833873,7.5919685928876861,3.3084828514002544,189.56210397664287,9.8000000000000007,0.99122607569249488,1.0030662465564106,1.1840170863915755E-2]
[255.98775856833873,7.6094218854076301,3.3142450271385853,189.89225232726193,9.9,0.9956351945975499,1.0085687190667281,1.293352446917817E-2]
[256.98775856833873,7.6268751779275732,3.3200146447334102,190.22282706484981,10,1,1.0140782980265262,1.4078298026526159E-2]

{"sheet":"Results","index":11,"n_rows":38,"n_cols":25,"rows_kept":38,"cut":false,"hidden":false,"merged":[[7,21,11,24],[1,15,11,15],[28,2,32,2],[28,3,32,4],[33,2,37,2],[1,2,6,2],[7,2,11,2],[12,2,16,2],[17,2,21,2],[22,2,26,2],[12,15,20,15],[17,16,20,19],[12,20,20,20],[7,16,11,19],[1,20,11,20]]}
[]
[null,null,"P-P-P-P","x1=",1.34254210369921,null,null,null,null,null,null,null,null,null,null,"P-P-P-P","x1=",1.34254210369921,null,null,"P-P-P-P","x1=",1.34254210369921]
[null,null,null,"x2=",3.7779245543570958,"a2=",1.2922942711367915,null,null,null,null,null,null,null,null,null,"x2=",3.7779245543570958,"a2=",1.2922942711367915,null,"x2=",3.7779245543570958,"a2=",-1.5626700945113388]
[null,null,null,"x3=",7.2220754456429042,"a3=",0.71421708482295676,null,null,null,null,null,null,null,null,null,"x3=",7.2220754456429042,"a3=",0.71421708482295676,null,"x3=",7.2220754456429042,"a3=",1.5295236642667804]
[null,null,null,"x4=",9.6574578963007909,"a4=",1.5739813784608003,null,null,null,null,null,null,null,null,null,"x4=",9.6574578963007909,"a4=",1.5739813784608003,null,"x4=",9.6574578963007909,"a4=",1.4360169904521953]
[null,null,null,"qin","45o","fin","108.90922o",null,null,null,null,null,null,null,null,null,"qin","45o","fin=","108.90922o",null,"fin","120o","qin=","193.60820o"]
[]
[null,null,"P-P-P-P","x1=",1.34254210369921]
[null,null,null,"x2=",3.7779245543570958,"a2=",2.0360284177243764]
[null,null,null,"x3=",7.2220754456429042,"a3=",2.0444109632008218]
[null,null,null,"x4=",9.6574578963007909,"a4=",1.4021728322216356]
[null,null,null,"fin","120o","qin","4.73494o"]
[null,null,"P-P-P-P-P","x1=",1.2202456766718095,"a2=",1.2202456766718095,null,null,null,null,null,null,null,null,"P-P-P-P-P","x1=",1.2202456766718095,"a2=",1.2202456766718095]
[null,null,null,"x2=",2.8549663646838708,"a3=",2.8549663646838708,null,null,null,null,null,null,null,null,null,"x2=",2.8549663646838708,"a3=",2.8549663646838708]
[null,null,null,"x3=",5.5,"a4=",5.5,null,null,null,null,null,null,null,null,null,"x3=",5.5,"a4=",5.5]
[null,null,null,"x4=",8.1450336353161283,"qin",49.874562058559697,null,null,null,null,null,null,null,null,null,"x4=",8.1450336353161283,"qin",49.874562058559697]
[null,null,null,"x5=",9.7797543233281914,"fin","108.623096o",null,null,null,null,null,null,null,null,null,"x5=",9.7797543233281914,"fin",108.62309639315322]
[null,null,"P-PPP-P",null,null,"a2=",1.2771739796362618]
[null,null,null,"x1=",2,"a3=",0.56918031476172148]
[null,null,null,"x2=",5,"a4=",1.6718862079783146]
[null,null,null,"x3=",8,"qin",166.98775856833873]
[null,null,null,null,null,"fin",129.37812918325824]
[null,null,"PPPPP",null,null,"a2=",1.1541755004331289]
[null,null,null,null,null,"a3=",4.7100833566809612]
[null,null,null,"x=",5,"a4=",4.8327911204502456]
[null,null,null,null,null,"q","94.89724o"]
[null,null,null,null,null,"f","150.57211o"]
[]
[null,null,"Least Square","xj=0.1j          j=0,1,2…,10.",null,"a2=",-17.955787863030832]
[null,null,null,null,null,"a3=",17.00189002661352]
[null,null,null,null,null,"a4=",-2.2392537163112878]
[null,null,null,null,null,"qin","87.50967o"]
[null,null,null,null,null,"fin","24.88234o"]
[null,null,"P-P-P-P-P","x1=",2.4471741852423234E-2,"a2=",-3.9127744621947502]
[null,null,null,"x2=",0.20610737385376343,"a3=",1.3097979863270313]
[null,null,null,"x3=",0.49999999999999994,"a4=",3.5282084128848092]
[null,null,null,"x4=",0.79389262614623646,"qin","30.613o"]
[null,null,null,"x5=",0.97552825814757682,"fin","200.00632o"]